Workbook
Name _\d: [1]LTFEM96!$B$426
Name _\g: [1]LTFEM96!$B$500
Name _\h: [1]LTFEM96!$B$422
Name _\m: [1]LTFEM96!$B$430
Name _\n: '[2]%PIB'!#REF!
Name _\s: [1]LTFEM96!$B$452
Name _pag1: #REF!
Name _pag2: #REF!
Name _r: #REF!
Name BEN_ES_RJ_SUL_CO_80: #REF!
Name CHKPAS: [1]LTFEM96!$B$447
Name CHKSAVE: [1]LTFEM96!$B$437
Name cib_cab2: [3]P24!#REF!
Name CID_CAB: #REF!
Name CODTERRITORIO: #REF!
Name D0: #REF!
Name DICNOMEBL_BLC_UNIC: #REF!
Name DOC: [1]LTFEM96!$A$151:$H$270
Name ERR_LOC: [1]LTFEM96!$B$648
Name ERR_MSG: [1]LTFEM96!$B$528
Name FG: #REF!
Name FILENAME: [1]LTFEM96!$B$489
Name FILTROBL_BLC_UNIC: #REF!
Name FLOPDIR: [1]LTFEM96!$B$631
Name FLOPPY: [1]LTFEM96!$B$524
Name FVDS: #REF!
Name GETFILE: [1]LTFEM96!$B$463
Name GRAF: #REF!
Name GraficoNovo17: #REF!
Name GRDIR: [1]LTFEM96!$B$518
Name HELP: [1]LTFEM96!$A$251:$G$270
Name Ident: "Figura 3"
Name LTFEMAM80: #REF!
Name LTMASCAM80: #REF!
Name MESSAGE: [1]LTFEM96!$A$621
Name MSG_CELL: [1]LTFEM96!$A$643
Name NOMEPRODUTO1: #REF!
Name NOMEPRODUTO2: #REF!
Name NOMEPRODUTO3: #REF!
Name NOMEPRODUTO4: #REF!
Name NOMETERRITORIO: #REF!
Name NOMETERRITORIOMAIS: #REF!
Name NOMETERRITORIOTIT: #REF!
Name NOMETERRITORIOTITMAIS: #REF!
Name NOMEUNIDADE1: #REF!
Name NOMEUNIDADE2: #REF!
Name NOMEUNIDADE3: #REF!
Name NOMEUNIDADE4: #REF!
Name NOPAS: [1]LTFEM96!$B$540
Name NOPAS3: [1]LTFEM96!$B$549
Name NUMERODEORDEM: #REF!
Name OLD_MSG: [1]LTFEM96!$A$665
Name ORDEMTERRITORIO: #REF!
Name PAS_MSG1: [1]LTFEM96!$A$554
Name PAS_MSG2: [1]LTFEM96!$A$577
Name PAS_MSG3: [1]LTFEM96!$A$599
Name PAUSE: [1]LTFEM96!$B$533
Name POPBRFILHO_H: #REF!
Name POPBRFILHO_M: #REF!
Name POPBRFREQ6: #REF!

Sheet IN 65
A2: DESCRIÇÃO | B2: QUANT. | C2: UNID | D2: PARÂMETRO II | I2: PARÂMETRO IV | J2: Média | K2: Mediana | L2: CV | M2: Preço Estimado
D3: BACEN | E3: SSP-SP | F3: SEFAZ-SC | G3: INPI | H3: UNICAMP | I3: COMPWIRE
A4: Solução de Armazenamento de dados | B4: 11 | C4: Unid | D4: 8419388.4 | E4: 11109695 | F4: 12382896 | G4: 14397635 | H4: - | I4: - | J4: =AVERAGE(D4:H4) -> 11577404 | K4: =MEDIAN(D4:H4) -> 11746295 | L4: =_xlfn.STDEV.S(D4:H6)/J4 -> 0.21619303 | M4: =J4 -> 11577404
A5: Serviços de instalação e configuração | B5: 11 | C5: Unid
A6: Serviço de garantia | B6: 60 | C6: Meses
A7: Serviço de Treinamento | B7: 1 | C7: Turma | D7: 34384 | E7: - | F7: - | G7: 38000 | H7: 31506.53 | I7: 37571.46 | J7: =AVERAGE(D7:I7) -> 35365.497 | K7: =MEDIAN(D7:I7) -> 35977.73 | L7: =_xlfn.STDEV.S(D7:I7)/J7 -> 0.085861831 | M7: =J7 -> 35365.497
A8: TOTAL ESTIMADO | M8: =SUM(M4:M7) -> 11612769
A9: * Valores referentes ao resultado da projeção dos custos unitários aferidos com a quantidade do objeto pretendido pelo BCB.

Sheet Preço Estimado
D1: Menor Valor | F1: Média
A2: SKU | B2: Nome do Produto | C2: QTD | D2: Preço Unitário | E2: Total Estimado | F2: Preço Unitário | G2: Total Estimado
A3: RH00006F3 | B3: Red Hat Enterprise Linux for Virtual Datacenters with Satellite, Premium | C3: 154 | D3: =Cálculo!F10 -> 87493.28 | E3: =C3*D3 -> 13473965 | F3: =Cálculo!F11 -> 104322.07 | G3: =F3*C3 -> 16065598
A4: MCT2735F3 | B4: Red Hat OpenShift Container Platform Premium (2 Cores or 4 vCPUs) | C4: 576 | D4: =Cálculo!F24 -> 84255 | E4: =C4*D4 -> 48530880 | F4: =Cálculo!F25 -> 101569.15 | G4: =F4*C4 -> 58503829
A5: MW01659F3 | B5: Red Hat Advanced Cluster Security for Kubernetes, Premium (2 Cores or 4 VCPUs) | C5: 576 | D5: =Cálculo!F38 -> 12792.533 | E5: =C5*D5 -> 7368498.7 | F5: =Cálculo!F39 -> 16793.441 | G5: =F5*C5 -> 9673021.9 | H5: =SUM(E4:E5) -> 55899379 | I5: =SUM(G4:G5) -> 68176851
A6: RH00008F3 | B6: Red Hat Enterprise Linux Server with Smart Management, Premium (Physical or Virtual Nodes) | C6: 6 | D6: =Cálculo!F52 -> 25471.45 | E6: =C6*D6 -> 152828.7 | F6: =Cálculo!F53 -> 33052.566 | G6: =F6*C6 -> 198315.4
A7: MCT3694F3 | B7: Red Hat Ansible Automation Platform, Premium (100 Managed Nodes) | C7: 1 | D7: =Cálculo!F67 -> 333982.6 | E7: =C7*D7 -> 333982.6 | F7: =Cálculo!F68 -> 400628.75 | G7: =F7*C7 -> 400628.75
A8: MW2300282F3 | B8: Red Hat AMQ, Premium (16 Cores) | C8: 2 | D8: =Cálculo!F81 -> 811406.46 | E8: =C8*D8 -> 1622812.9 | F8: =Cálculo!F82 -> 932539.71 | G8: =F8*C8 -> 1865079.4
A9: MW2399076F3 | B9: Red Hat AMQ, Premium (64 Cores) | C9: 3 | D9: =Cálculo!F94 -> 2558242.7 | E9: =C9*D9 -> 7674728.2 | F9: =Cálculo!F95 -> 3308593.5 | G9: =F9*C9 -> 9925780.4
A10: MCT1350 | B10: Technical Account Management Services for Red Hat Platforms (1 visita por semana) Middleware | C10: 1 | D10: =Cálculo!F106 -> 1372917 | E10: =C10*D10 -> 1372917 | F10: =Cálculo!F107 -> 1427932.9 | G10: =F10*C10 -> 1427932.9
A11: GPS-SC | B11: Dedicated Engineer (5 visitas por semana) OpenShift | C11: 1 | D11: =Cálculo!F118 -> 3960000 | E11: =C11*D11 -> 3960000 | F11: =Cálculo!F119 -> 4820384.6 | G11: =F11*C11 -> 4820384.6
A12: LS120 | B12: Red Hat Learning Subscription Basic | C12: 10 | D12: =Cálculo!F132 -> 54549.168 | E12: =C12*D12 -> 545491.68 | F12: =Cálculo!F133 -> 74004.292 | G12: =F12*C12 -> 740042.92
A13: CUSTO TOTAL | E13: =SUM(E3:E12) -> 85036105 | G13: =SUM(G3:G12) -> 1.0362061e+08
D16: Menor Valor | F16: Média
A17: SKU | B17: Nome do Produto | C17: QTD | D17: Preço Unitário | E17: Total Estimado | F17: Preço Unitário | G17: Total Estimado
A18: RH00006F3 | B18: Red Hat Enterprise Linux for Virtual Datacenters with Satellite, Premium | C18: 154 | D18: =Cálculo!F10 -> 87493.28 | E18: =C18*D18 -> 13473965 | F18: =Cálculo!F11 -> 104322.07 | G18: =F18*C18 -> 16065598
A19: MW01621F3 | B19: Red Hat OpenShift Container Platform PLUS Premium (2 Cores or 4 vCPUs) | C19: 576 | D19: =Cálculo!F149 -> 88000 | E19: =C19*D19 -> 50688000 | F19: =Cálculo!F150 -> 111861.3 | G19: =F19*C19 -> 64432108
A20: RH00008F3 | B20: Red Hat Enterprise Linux Server with Smart Management, Premium (Physical or Virtual Nodes) | C20: 6 | D20: =Cálculo!F52 -> 25471.45 | E20: =C20*D20 -> 152828.7 | F20: =Cálculo!F53 -> 33052.566 | G20: =F20*C20 -> 198315.4
A21: MCT3694F3 | B21: Red Hat Ansible Automation Platform, Premium (100 Managed Nodes) | C21: 1 | D21: =Cálculo!F67 -> 333982.6 | E21: =C21*D21 -> 333982.6 | F21: =Cálculo!F68 -> 400628.75 | G21: =F21*C21 -> 400628.75
A22: MW2300282F3 | B22: Red Hat AMQ, Premium (16 Cores) | C22: 2 | D22: =Cálculo!F81 -> 811406.46 | E22: =C22*D22 -> 1622812.9 | F22: =Cálculo!F82 -> 932539.71 | G22: =F22*C22 -> 1865079.4
A23: MW2399076F3 | B23: Red Hat AMQ, Premium (64 Cores) | C23: 3 | D23: =Cálculo!F94 -> 2558242.7 | E23: =C23*D23 -> 7674728.2 | F23: =Cálculo!F95 -> 3308593.5 | G23: =F23*C23 -> 9925780.4
A24: MCT1350 | B24: Technical Account Management Services for Red Hat Platforms (1 visita por semana) Middleware | C24: 1 | D24: =Cálculo!F106 -> 1372917 | E24: =C24*D24 -> 1372917 | F24: =Cálculo!F107 -> 1427932.9 | G24: =F24*C24 -> 1427932.9
A25: GPS-SC | B25: Dedicated Engineer (5 visitas por semana) OpenShift | C25: 1 | D25: =Cálculo!F118 -> 3960000 | E25: =C25*D25 -> 3960000 | F25: =Cálculo!F119 -> 4820384.6 | G25: =F25*C25 -> 4820384.6
A26: LS120 | B26: Red Hat Learning Subscription Basic | C26: 10 | D26: =Cálculo!F132 -> 54549.168 | E26: =C26*D26 -> 545491.68 | F26: =Cálculo!F133 -> 74004.292 | G26: =F26*C26 -> 740042.92
A27: CUSTO TOTAL | E27: =SUM(E18:E26) -> 79824726 | G27: =SUM(G18:G26) -> 99875871

Sheet Cálculo
B1: 1.1 - RH00006 - Red Hat Enterprise Linux for Virtual Datacenters with Satellite, Premium
B2: Parâmetro - Fonte | C2: Custo Total | D2: Meses | E2: Preço Mensal | F2: Estimado (36 meses) | G2: Z- Score (Abs.) | H2: Análise | I2: Data
B3: III - PMC-TIC | C3: 35841.27 | D3: 12 | E3: =C3/D3 -> 2986.7725 | F3: =E3*36 -> 107523.81 | G3: =ABS((F3-$F$11)/$F$9) -> 0.19922704 | H3: Válido | I3: 45987
B4: II - PF | C4: 29948.89 | D4: 12 | E4: =C4/D4 -> 2495.7408 | F4: =E4*36 -> 89846.67 | G4: =ABS((F4-$F$11)/$F$9) -> 0.9007254 | H4: Válido | I4: 46017
B5: II - PRODESP | C5: =51051.74-(51051.74*0.11) -> 45436.049 | D5: 12 | E5: =C5/D5 -> 3786.3374 | F5: =E5*36 -> 136308.15 | G5: =ABS((F5-$F$11)/$F$9) -> 1.99032 | H5: Válido | I5: 45811
B6: II - TJ-SP | C6: 105207 | D6: 36 | E6: =C6/D6 -> 2922.4167 | F6: =E6*36 -> 105207 | G6: =ABS((F6-$F$11)/$F$9) -> 0.055064537 | H6: Válido | I6: 45806
B7: II - TRF5 | C7: 87493.28 | D7: 36 | E7: =C7/D7 -> 2430.3689 | F7: =E7*36 -> 87493.28 | G7: =ABS((F7-$F$11)/$F$9) -> 1.0471641 | H7: Válido | I7: 45891
B8: II - PREF RJ | C8: 66369 | D8: 24 | E8: =C8/D8 -> 2765.375 | F8: =E8*36 -> 99553.5 | G8: =ABS((F8-$F$11)/$F$9) -> 0.29672207 | H8: Válido | I8: 14/08/2025
B9: Desvio padrão | F9: =SQRT(_xlfn.VAR.P(F3:F8)) -> 16070.822
B10: Menor Valor | F10: =SMALL(F3:F8,1) -> 87493.28
B11: Média | F11: =AVERAGE(F3:F8) -> 104322.07
B12: Mediana | F12: =MEDIAN(F3:F8) -> 102380.25
B13: Coeficiente de variação | F13: =F9/F11 -> 0.15405007
B16: 1.2 - MCT2735 - Red Hat OpenShift Container Platform Premium (2 Cores or 4 vCPUs)
B17: Parâmetro - Fonte | C17: Custo Total | D17: Meses | E17: Preço Mensal | F17: Estimado (36 meses) | G17: Z- Score (Abs.) | H17: Análise | I17: Data
B18: III - PMC-TIC | C18: 32926.79 | D18: 12 | E18: =C18/D18 -> 2743.8992 | F18: =E18*36 -> 98780.37 | G18: =ABS((F18-$F$25)/$F$23) -> 0.29560772 | H18: Válido | I18: 45987
B19: II - DPE-RO | C19: 106920 | D19: 36 | E19: =C19/D19 -> 2970 | F19: =E19*36 -> 106920 | G19: =ABS((F19-$F$25)/$F$23) -> 0.56718506 | H19: Válido | I19: 45757
B20: II - PRODERJ | C20: 28085 | D20: 12 | E20: =C20/D20 -> 2340.4167 | F20: =E20*36 -> 84255 | G20: =ABS((F20-$F$25)/$F$23) -> 1.8352827 | H20: Válido | I20: 45821
B21: II - PRODESP | C21: =40782.91-(40782.91*0.11) -> 36296.79 | D21: 12 | E21: =C21/D21 -> 3024.7325 | F21: =E21*36 -> 108890.37 | G21: =ABS((F21-$F$25)/$F$23) -> 0.77604231 | H21: Válido | I21: 45811
B22: II - TRE-MT | C22: 109000 | D22: 36 | E22: =C22/D22 -> 3027.7778 | F22: =E22*36 -> 109000 | G22: =ABS((F22-$F$25)/$F$23) -> 0.78766302 | H22: Válido | I22: 46017
B23: Desvio padrão | F23: =SQRT(_xlfn.VAR.P(F17:F22)) -> 9434.0497
B24: Menor Valor | F24: =SMALL(F18:F22,1) -> 84255
B25: Média | F25: =AVERAGE(F18:F22) -> 101569.15
B26: Mediana | F26: =MEDIAN(F18:F22) -> 106920
B27: Coeficiente de variação | F27: =F23/F25 -> 0.092883025
B31: 1.3 - MW01659 - Red Hat Advanced Cluster Security for Kubernetes, Premium (2 Cores or 4 VCPUs)
B32: Parâmetro - Fonte | C32: Custo Total | D32: Meses | E32: Preço Mensal | F32: Estimado (36 meses) | G32: Z- Score (Abs.) | H32: Análise | I32: Data
B33: III - PMC-TIC | C33: 6314.81 | D33: 12 | E33: =C33/D33 -> 526.23417 | F33: =E33*36 -> 18944.43 | G33: =ABS((F33-$F$39)/$F$37) -> 0.70795511 | H33: Válido | I33: 45987
B34: II - PRODESP | C34: =7647.35-(7647.35*0.11) -> 6806.1415 | D34: 12 | E34: =C34/D34 -> 567.17846 | F34: =E34*36 -> 20418.425 | G34: =ABS((F34-$F$39)/$F$37) -> 1.1930909 | H34: Válido | I34: 45811
B35: III - CDW | C35: =825*D155 -> 4264.1775 | D35: 12 | E35: =C35/D35 -> 355.34813 | F35: =E35*36 -> 12792.533 | G35: =ABS((F35-$F$39)/$F$37) -> 1.316819 | H35: Válido | I35: 46080
B36: III - BLITZHANDEL | C36: =838.21*D156 -> 5006.1254 | D36: 12 | E36: =C36/D36 -> 417.17712 | F36: =E36*36 -> 15018.376 | G36: =ABS((F36-$F$39)/$F$37) -> 0.58422704 | H36: Válido | I36: 46080
B37: Desvio padrão | F37: =SQRT(_xlfn.VAR.P(F33:F36)) -> 3038.313
B38: Menor Valor | F38: =SMALL(F33:F36,1) -> 12792.533
B39: Média | F39: =AVERAGE(F33:F36) -> 16793.441
B40: Mediana | F40: =MEDIAN(F33:F36) -> 16981.403
B41: Coeficiente de variação | F41: =F37/F39 -> 0.1809226
B44: 1.4 - RH00008 - Red Hat Enterprise Linux Server with Smart Management, Premium (Physical or Virtual Nodes)
B45: Parâmetro - Fonte | C45: Custo Total | D45: Meses | E45: Preço Mensal | F45: Estimado (36 meses) | G45: Z- Score (Abs.) | H45: Análise | I45: Data
B46: III - PMC-TIC | C46: 11658.24 | D46: 12 | E46: =C46/D46 -> 971.52 | F46: =E46*36 -> 34974.72 | G46: =ABS((F46-$F$53)/$F$51) -> 0.32942176 | H46: Válido | I46: 45987
B47: II - MPE-SP | C47: 31280 | D47: 36 | E47: =C47/D47 -> 868.88889 | F47: =E47*36 -> 31280 | G47: =ABS((F47-$F$53)/$F$51) -> 0.30378524 | H47: Válido | I47: 45751
B48: II - TJ-SP | C48: 30511 | D48: 36 | E48: =C48/D48 -> 847.52778 | F48: =E48*36 -> 30511 | G48: =ABS((F48-$F$53)/$F$51) -> 0.43557768 | H48: Válido | I48: 45806
B49: II - PRODESP | C49: =16114.48-(16114.48*0.11) -> 14341.887 | D49: 12 | E49: =C49/D49 -> 1195.1573 | F49: =E49*36 -> 43025.662 | G49: =ABS((F49-$F$53)/$F$51) -> 1.7092049 | H49: Válido | I49: 45811
B50: II - TRF5 | C50: 25471.45 | D50: 36 | E50: =C50/D50 -> 707.54028 | F50: =E50*36 -> 25471.45 | G50: =ABS((F50-$F$53)/$F$51) -> 1.2992638 | H50: Válido | I50: 45891
B51: Desvio padrão | F51: =SQRT(_xlfn.VAR.P(F46:F50)) -> 5834.9324
B52: Menor Valor | F52: =SMALL(F46:F50,1) -> 25471.45
B53: Média | F53: =AVERAGE(F46:F50) -> 33052.566
B54: Mediana | F54: =MEDIAN(F46:F50) -> 31280
B55: Coeficiente de variação | F55: =F51/F53 -> 0.17653493
B57: 1.5 - MCT3694 - Red Hat Ansible Automation Platform, Premium (100 Managed Nodes)
B58: Parâmetro - Fonte | C58: Custo Total | D58: Meses | E58: Preço Mensal | F58: Estimado (36 meses) | G58: Z- Score (Abs.) | H58: Análise | I58: Data
B59: III - PMC-TIC | C59: 144055.71 | D59: 12 | E59: =C59/D59 -> 12004.642 | F59: =E59*36 -> 432167.13 | G59: =ABS((F59-$F$68)/$F$66) -> 0.75361852 | H59: Válido | I59: 45987
B60: II - DETRAN-DF | C60: 262000 | D60: 24 | E60: =C60/D60 -> 10916.667 | F60: =E60*36 -> 393000 | G60: =ABS((F60-$F$68)/$F$66) -> 0.18229114 | H60: Válido | I60: 45937
B61: II - INEP | C61: 133367 | D61: 12 | E61: =C61/D61 -> 11113.917 | F61: =E61*36 -> 400101 | G61: =ABS((F61-$F$68)/$F$66) -> 0.012610733 | H61: Válido | I61: 45793
B62: II - PRODERJ | C62: 122874 | D62: 12 | E62: =C62/D62 -> 10239.5 | F62: =E62*36 -> 368622 | G62: =ABS((F62-$F$68)/$F$66) -> 0.76481035 | H62: Válido | I62: 45821
B63: II - PRODESP | C63: =178423.79-(178423.79*0.11) -> 158797.17 | D63: 12 | E63: =C63/D63 -> 13233.098 | F63: =E63*36 -> 476391.52 | G63: =ABS((F63-$F$68)/$F$66) -> 1.8103728 | H63: Válido | I63: 45811
B64: II - TRF5 | C64: 333982.6 | D64: 36 | E64: =C64/D64 -> 9277.2944 | F64: =E64*36 -> 333982.6 | G64: =ABS((F64-$F$68)/$F$66) -> 1.5925286 | H64: Válido | I64: 29/12/2025
B65: II - PREF RJ | C65: 266758 | D65: 24 | E65: =C65/D65 -> 11114.917 | F65: =E65*36 -> 400137 | G65: =ABS((F65-$F$68)/$F$66) -> 0.011750503 | H65: Válido | I65: 14/08/2025
B66: Desvio padrão | F66: =SQRT(_xlfn.VAR.P(F59:F65)) -> 41849.264
B67: Menor Valor | F67: =SMALL(F59:F65,1) -> 333982.6
B68: Média | F68: =AVERAGE(F59:F65) -> 400628.75
B69: Mediana | F69: =MEDIAN(F59:F65) -> 400101
B70: Coeficiente de variação | F70: =F66/F68 -> 0.10445896
B72: 1.6 - MW2300282 - Red Hat AMQ, Premium (16 Cores)
B73: Parâmetro - Fonte | C73: Custo Total | D73: Meses | E73: Preço Mensal | F73: Estimado (36 meses) | G73: Z- Score (Abs.) | H73: Análise | I73: Data
B74: III - PMC-TIC | C74: 344334 | D74: 12 | E74: =C74/D74 -> 28694.5 | F74: =E74*36 -> 1033002 | G74: =ABS((F74-$F$82)/$F$80) -> 0.76438501 | H74: Válido | I74: 45987
B75: II - PRODESP | C75: =440451.33-(440451.33*0.11) -> 392001.68 | D75: 12 | E75: =C75/D75 -> 32666.807 | F75: =E75*36 -> 1176005.1 | G75: =ABS((F75-$F$82)/$F$80) -> 1.8524489 | H75: Válido | I75: 45811
B76: III - SENETIC | C76: =49893.06*D156 -> 297981.31 | D76: 12 | E76: =C76/D76 -> 24831.776 | F76: =E76*36 -> 893943.93 | G76: =ABS((F76-$F$82)/$F$80) -> 0.29366273 | H76: Válido | I76: 46079
B77: III - BOTTON LINE | C77: =52328.21*D155 -> 270468.82 | D77: 12 | E77: =C77/D77 -> 22539.068 | F77: =E77*36 -> 811406.46 | G77: =ABS((F77-$F$82)/$F$80) -> 0.92166364 | H77: Válido | I77: 46079
B78: III - CDW | C78: =52656.99*D155 -> 272168.18 | D78: 12 | E78: =C78/D78 -> 22680.682 | F78: =E78*36 -> 816504.55 | G78: =ABS((F78-$F$82)/$F$80) -> 0.88287388 | H78: Válido | I78: 46079
B79: III - BLITZHANDEL | C79: =48242.82*D156 -> 288125.42 | D79: 12 | E79: =C79/D79 -> 24010.452 | F79: =E79*36 -> 864376.25 | G79: =ABS((F79-$F$82)/$F$80) -> 0.51863362 | H79: Válido | I79: 46079
B80: Desvio padrão | F80: =SQRT(_xlfn.VAR.P(F74:F79)) -> 131428.91
B81: Menor Valor | F81: =SMALL(F74:F79,1) -> 811406.46
B82: Média | F82: =AVERAGE(F74:F79) -> 932539.71
B83: Mediana | F83: =MEDIAN(F74:F79) -> 879160.09
B84: Coeficiente de variação | F84: =F80/F82 -> 0.14093653
B86: 1.7 - MW2399076 - Red Hat AMQ, Premium (64 Cores)
B87: Parâmetro - Fonte | C87: Custo Total | D87: Meses | E87: Preço Mensal | F87: Estimado (36 meses) | G87: Z- Score (Abs.) | H87: Análise | I87: Data
B88: III - PMC-TIC | C88: 1239602.4 | D88: 12 | E88: =C88/D88 -> 103300.2 | F88: =E88*36 -> 3718807.3 | G88: =ABS((F88-$F$95)/$F$93) -> 0.68824283 | H88: Válido | I88: 45987
B89: II - PRODESP | C89: =1585623.77-(1585623.77*0.11) -> 1411205.2 | D89: 12 | E89: =C89/D89 -> 117600.43 | F89: =E89*36 -> 4233615.5 | G89: =ABS((F89-$F$95)/$F$93) -> 1.5519706 | H89: Válido | I89: 45811
B90: III - BLITZHANDEL | C90: =173669.75*D156 -> 1037225.2 | D90: 12 | E90: =C90/D90 -> 86435.435 | F90: =E90*36 -> 3111675.6 | G90: =ABS((F90-$F$95)/$F$93) -> 0.33038205 | H90: Válido | I90: 46079
B91: III - BOTTON LINE | C91: =188353.37*D155 -> 973542.06 | D91: 12 | E91: =C91/D91 -> 81128.505 | F91: =E91*36 -> 2920626.2 | G91: =ABS((F91-$F$95)/$F$93) -> 0.65091835 | H91: Válido | I91: 46079
B92: III - INSIGHT | C92: =164982.99*D155 -> 852747.58 | D92: 12 | E92: =C92/D92 -> 71062.298 | F92: =E92*36 -> 2558242.7 | G92: =ABS((F92-$F$95)/$F$93) -> 1.258913 | H92: Válido | I92: 46079
B93: Desvio padrão | F93: =SQRT(_xlfn.VAR.P(F88:F92)) -> 596030.62
B94: Menor Valor | F94: =SMALL(F88:F92,1) -> 2558242.7
B95: Média | F95: =AVERAGE(F88:F92) -> 3308593.5
B96: Mediana | F96: =MEDIAN(F88:F92) -> 3111675.6
B97: Coeficiente de variação | F97: =F93/F95 -> 0.18014622
B99: 1.8 - MCT1350 - Technical Account Management Services for Red Hat Platforms (1 visita por semana) Middleware
B100: Parâmetro - Fonte | C100: Custo Total | D100: Meses | E100: Preço Mensal | F100: Estimado (36 meses) | G100: Z- Score (Abs.) | H100: Análise | I100: Data
B101: III - PMC-TIC | C101: 494316.26 | D101: 12 | E101: =C101/D101 -> 41193.022 | F101: =E101*36 -> 1482948.8 | G101: =ABS((F101-$F$107)/$F$105) -> 1 | H101: Válido | I101: 45987
B102: II - INEP | C102: 457639 | D102: 12 | E102: =C102/D102 -> 38136.583 | F102: =E102*36 -> 1372917 | G102: =ABS((F102-$F$107)/$F$105) -> 1 | H102: Válido | I102: 45793
B103: II - TJ-SP | C103: 4410000 | D103: 36 | H103: Exc. Elevado (1ª iteração) | I103: 45806
B104: II - TRF5 | C104: 256704 | D104: 12 | H104: Inexequível (2ª iteração) | I104: 45891
B105: Desvio padrão | F105: =SQRT(_xlfn.VAR.P(F101:F104)) -> 55015.89
B106: Menor Valor | F106: =SMALL(F101:F104,1) -> 1372917
B107: Média | F107: =AVERAGE(F101:F104) -> 1427932.9
B108: Mediana | F108: =MEDIAN(F101:F104) -> 1427932.9
B109: Coeficiente de variação | F109: =F105/F107 -> 0.038528344
B111: 1.9 - Dedicated Engineer (5 visitas por semana) OpenShift - GPS-SC
B112: Parâmetro - Fonte | C112: Custo Total | D112: Meses | E112: Preço Mensal | F112: Estimado (36 meses) | G112: Z- Score (Abs.) | H112: Análise | I112: Data
...

Sheet Licenças
A2: SKU | B2: COD PMC-TIC | C2: Nome do Produto
A3: RH00006F3 | B3: RH7.0-158 | C3: Red Hat Enterprise Linux for Virtual Datacenters, Premium
A4: MCT2735F3 | B4: RH7.0-104 | C4: Red Hat OpenShift Container Platform Premium (2 Cores or 4 vCPUs)
A5: MW01659F3 | B5: RH7.0-001 | C5: Red Hat Advanced Cluster Security for Kubernetes, Premium (2 Cores or 4 VCPUs)
A6: RH00008F3 | B6: RH7.0-160 | C6: Red Hat Enterprise Linux Server with Smart Management, Premium (Physical or Virtual Nodes)
A7: MCT3694F3 | B7: RH7.0-010 | C7: Red Hat Ansible Automation Platform, Premium (100 Managed Nodes)
A8: MW2300282F3 | B8: RH7.0-084 | C8: Red Hat AMQ, Premium (16 Cores)
A9: MW2399076F3 | B9: RH7.0-086 | C9: Red Hat AMQ, Premium (64 Cores)
A10: SVADD001 | B10: RH7.0-291 | C10: Technical Account Management Services for Red Hat Platforms (1 visita por semana) Middleware
A11: GPS-SC | B11: RH7.0-290 | C11: Dedicated Engineer (5 visitas por semana) OpenShift
A12: LS120 | B12: RH7.0-292 | C12: Red Hat Learning Subscription Basic (Acesso Pessoal por 1 ano)
A13: MW01621 | B13: RH7.0-117 | C13: Red Hat OpenShift Platform Plus, Premium (2 Cores or 4 vCPU)
