Workbook
Name _\d: [1]LTFEM96!$B$426
Name _\g: [1]LTFEM96!$B$500
Name _\h: [1]LTFEM96!$B$422
Name _\m: [1]LTFEM96!$B$430
Name _\n: '[2]%PIB'!#REF!
Name _\s: [1]LTFEM96!$B$452
Name _pag1: #REF!
Name _pag2: #REF!
Name _r: #REF!
Name BEN_ES_RJ_SUL_CO_80: #REF!
Name CHKPAS: [1]LTFEM96!$B$447
Name CHKSAVE: [1]LTFEM96!$B$437
Name cib_cab2: [3]P24!#REF!
Name CID_CAB: #REF!
Name CODTERRITORIO: #REF!
Name D0: #REF!
Name DICNOMEBL_BLC_UNIC: #REF!
Name DOC: [1]LTFEM96!$A$151:$H$270
Name ERR_LOC: [1]LTFEM96!$B$648
Name ERR_MSG: [1]LTFEM96!$B$528
Name FG: #REF!
Name FILENAME: [1]LTFEM96!$B$489
Name FILTROBL_BLC_UNIC: #REF!
Name FLOPDIR: [1]LTFEM96!$B$631
Name FLOPPY: [1]LTFEM96!$B$524
Name FVDS: #REF!
Name GETFILE: [1]LTFEM96!$B$463
Name GRAF: #REF!
Name GraficoNovo17: #REF!
Name GRDIR: [1]LTFEM96!$B$518
Name HELP: [1]LTFEM96!$A$251:$G$270
Name Ident: "Figura 3"
Name LTFEMAM80: #REF!
Name LTMASCAM80: #REF!
Name MESSAGE: [1]LTFEM96!$A$621
Name MSG_CELL: [1]LTFEM96!$A$643
Name NOMEPRODUTO1: #REF!
Name NOMEPRODUTO2: #REF!
Name NOMEPRODUTO3: #REF!
Name NOMEPRODUTO4: #REF!
Name NOMETERRITORIO: #REF!
Name NOMETERRITORIOMAIS: #REF!
Name NOMETERRITORIOTIT: #REF!
Name NOMETERRITORIOTITMAIS: #REF!
Name NOMEUNIDADE1: #REF!
Name NOMEUNIDADE2: #REF!
Name NOMEUNIDADE3: #REF!
Name NOMEUNIDADE4: #REF!
Name NOPAS: [1]LTFEM96!$B$540
Name NOPAS3: [1]LTFEM96!$B$549
Name NUMERODEORDEM: #REF!
Name OLD_MSG: [1]LTFEM96!$A$665
Name ORDEMTERRITORIO: #REF!
Name PAS_MSG1: [1]LTFEM96!$A$554
Name PAS_MSG2: [1]LTFEM96!$A$577
Name PAS_MSG3: [1]LTFEM96!$A$599
Name PAUSE: [1]LTFEM96!$B$533
Name POPBRFILHO_H: #REF!
Name POPBRFILHO_M: #REF!
Name POPBRFREQ6: #REF!

Sheet IN 65
A2: DESCRIÇÃO | B2: QUANT. | C2: UNID | D2: PARÂMETRO II | I2: PARÂMETRO IV | J2: Média | K2: Mediana | L2: CV | M2: Preço Estimado
D3: BACEN | E3: SSP-SP | F3: SEFAZ-SC | G3: INPI | H3: UNICAMP | I3: COMPWIRE
A4: Solução de Armazenamento de dados | B4: 11 | C4: Unid | D4: 8419388.4 | E4: 11109695 | F4: 12382896 | G4: 14397635 | H4: - | I4: - | J4: =AVERAGE(D4:H4) -> 11577404 | K4: =MEDIAN(D4:H4) -> 11746295 | L4: =_xlfn.STDEV.S(D4:H6)/J4 -> 0.21619303 | M4: =J4 -> 11577404
A5: Serviços de instalação e configuração | B5: 11 | C5: Unid
A6: Serviço de garantia | B6: 60 | C6: Meses
A7: Serviço de Treinamento | B7: 1 | C7: Turma | D7: 34384 | E7: - | F7: - | G7: 38000 | H7: 31506.53 | I7: 37571.46 | J7: =AVERAGE(D7:I7) -> 35365.497 | K7: =MEDIAN(D7:I7) -> 35977.73 | L7: =_xlfn.STDEV.S(D7:I7)/J7 -> 0.085861831 | M7: =J7 -> 35365.497
A8: TOTAL ESTIMADO | M8: =SUM(M4:M7) -> 11612769
A9: * Valores referentes ao resultado da projeção dos custos unitários aferidos com a quantidade do objeto pretendido pelo BCB.

Sheet Preço Estimado
D1: Menor Valor | F1: Média
A2: SKU | B2: Nome do Produto | C2: QTD | D2: Preço Unitário | E2: Total Estimado | F2: Preço Unitário | G2: Total Estimado
A3: RH00006F3 | B3: Red Hat Enterprise Linux for Virtual Datacenters with Satellite, Premium | C3: 154 | D3: =Cálculo!F10 -> 87493.28 | E3: =C3*D3 -> 13473965 | F3: =Cálculo!F11 -> 104322.07 | G3: =F3*C3 -> 16065598
A4: MCT2735F3 | B4: Red Hat OpenShift Container Platform Premium (2 Cores or 4 vCPUs) | C4: 576 | D4: =Cálculo!F24 -> 84255 | E4: =C4*D4 -> 48530880 | F4: =Cálculo!F25 -> 101569.15 | G4: =F4*C4 -> 58503829
A5: MW01659F3 | B5: Red Hat Advanced Cluster Security for Kubernetes, Premium (2 Cores or 4 VCPUs) | C5: 576 | D5: =Cálculo!F38 -> 12792.533 | E5: =C5*D5 -> 7368498.7 | F5: =Cálculo!F39 -> 16793.441 | G5: =F5*C5 -> 9673021.9 | H5: =SUM(E4:E5) -> 55899379 | I5: =SUM(G4:G5) -> 68176851
A6: RH00008F3 | B6: Red Hat Enterprise Linux Server with Smart Management, Premium (Physical or Virtual Nodes) | C6: 6 | D6: =Cálculo!F52 -> 25471.45 | E6: =C6*D6 -> 152828.7 | F6: =Cálculo!F53 -> 33052.566 | G6: =F6*C6 -> 198315.4
A7: MCT3694F3 | B7: Red Hat Ansible Automation Platform, Premium (100 Managed Nodes) | C7: 1 | D7: =Cálculo!F67 -> 333982.6 | E7: =C7*D7 -> 333982.6 | F7: =Cálculo!F68 -> 400628.75 | G7: =F7*C7 -> 400628.75
A8: MW2300282F3 | B8: Red Hat AMQ, Premium (16 Cores) | C8: 2 | D8: =Cálculo!F81 -> 811406.46 | E8: =C8*D8 -> 1622812.9 | F8: =Cálculo!F82 -> 932539.71 | G8: =F8*C8 -> 1865079.4
A9: MW2399076F3 | B9: Red Hat AMQ, Premium (64 Cores) | C9: 3 | D9: =Cálculo!F94 -> 2558242.7 | E9: =C9*D9 -> 7674728.2 | F9: =Cálculo!F95 -> 3308593.5 | G9: =F9*C9 -> 9925780.4
A10: MCT1350 | B10: Technical Account Management Services for Red Hat Platforms (1 visita por semana) Middleware | C10: 1 | D10: =Cálculo!F106 -> 1372917 | E10: =C10*D10 -> 1372917 | F10: =Cálculo!F107 -> 1427932.9 | G10: =F10*C10 -> 1427932.9
A11: GPS-SC | B11: Dedicated Engineer (5 visitas por semana) OpenShift | C11: 1 | D11: =Cálculo!F118 -> 3960000 | E11: =C11*D11 -> 3960000 | F11: =Cálculo!F119 -> 4820384.6 | G11: =F11*C11 -> 4820384.6
A12: LS120 | B12: Red Hat Learning Subscription Basic | C12: 10 | D12: =Cálculo!F132 -> 54549.168 | E12: =C12*D12 -> 545491.68 | F12: =Cálculo!F133 -> 74004.292 | G12: =F12*C12 -> 740042.92
A13: CUSTO TOTAL | E13: =SUM(E3:E12) -> 85036105 | G13: =SUM(G3:G12) -> 1.0362061e+08
D16: Menor Valor | F16: Média
A17: SKU | B17: Nome do Produto | C17: QTD | D17: Preço Unitário | E17: Total Estimado | F17: Preço Unitário | G17: Total Estimado
A18: RH00006F3 | B18: Red Hat Enterprise Linux for Virtual Datacenters with Satellite, Premium | C18: 154 | D18: =Cálculo!F10 -> 87493.28 | E18: =C18*D18 -> 13473965 | F18: =Cálculo!F11 -> 104322.07 | G18: =F18*C18 -> 16065598
A19: MW01621F3 | B19: Red Hat OpenShift Container Platform PLUS Premium (2 Cores or 4 vCPUs) | C19: 576 | D19: =Cálculo!F149 -> 88000 | E19: =C19*D19 -> 50688000 | F19: =Cálculo!F150 -> 111861.3 | G19: =F19*C19 -> 64432108
A20: RH00008F3 | B20: Red Hat Enterprise Linux Server with Smart Management, Premium (Physical or Virtual Nodes) | C20: 6 | D20: =Cálculo!F52 -> 25471.45 | E20: =C20*D20 -> 152828.7 | F20: =Cálculo!F53 -> 33052.566 | G20: =F20*C20 -> 198315.4
A21: MCT3694F3 | B21: Red Hat Ansible Automation Platform, Premium (100 Managed Nodes) | C21: 1 | D21: =Cálculo!F67 -> 333982.6 | E21: =C21*D21 -> 333982.6 | F21: =Cálculo!F68 -> 400628.75 | G21: =F21*C21 -> 400628.75
A22: MW2300282F3 | B22: Red Hat AMQ, Premium (16 Cores) | C22: 2 | D22: =Cálculo!F81 -> 811406.46 | E22: =C22*D22 -> 1622812.9 | F22: =Cálculo!F82 -> 932539.71 | G22: =F22*C22 -> 1865079.4
A23: MW2399076F3 | B23: Red Hat AMQ, Premium (64 Cores) | C23: 3 | D23: =Cálculo!F94 -> 2558242.7 | E23: =C23*D23 -> 7674728.2 | F23: =Cálculo!F95 -> 3308593.5 | G23: =F23*C23 -> 9925780.4
A24: MCT1350 | B24: Technical Account Management Services for Red Hat Platforms (1 visita por semana) Middleware | C24: 1 | D24: =Cálculo!F106 -> 1372917 | E24: =C24*D24 -> 1372917 | F24: =Cálculo!F107 -> 1427932.9 | G24: =F24*C24 -> 1427932.9
A25: GPS-SC | B25: Dedicated Engineer (5 visitas por semana) OpenShift | C25: 1 | D25: =Cálculo!F118 -> 3960000 | E25: =C25*D25 -> 3960000 | F25: =Cálculo!F119 -> 4820384.6 | G25: =F25*C25 -> 4820384.6
A26: LS120 | B26: Red Hat Learning Subscription Basic | C26: 10 | D26: =Cálculo!F132 -> 54549.168 | E26: =C26*D26 -> 545491.68 | F26: =Cálculo!F133 -> 74004.292 | G26: =F26*C26 -> 740042.92
A27: CUSTO TOTAL | E27: =SUM(E18:E26) -> 79824726 | G27: =SUM(G18:G26) -> 99875871

Sheet Cálculo
B1: 1.1 - RH00006 - Red Hat Enterprise Linux for Virtual Datacenters with Satellite, Premium
B2: Parâmetro - Fonte | C2: Custo Total | D2: Meses | E2: Preço Mensal | F2: Estimado (36 meses) | G2: Z- Score (Abs.) | H2: Análise | I2: Data
B3: III - PMC-TIC | C3: 35841.27 | D3: 12 | E3: =C3/D3 -> 2986.7725 | F3: =E3*36 -> 107523.81 | G3: =ABS((F3-$F$11)/$F$9) -> 0.19922704 | H3: Válido | I3: 45987
B4: II - PF | C4: 29948.89 | D4: 12 | E4: =C4/D4 -> 2495.7408 | F4: =E4*36 -> 89846.67 | G4: =ABS((F4-$F$11)/$F$9) -> 0.9007254 | H4: Válido | I4: 46017
B5: II - PRODESP | C5: =51051.74-(51051.74*0.11) -> 45436.049 | D5: 12 | E5: =C5/D5 -> 3786.3374 | F5: =E5*36 -> 136308.15 | G5: =ABS((F5-$F$11)/$F$9) -> 1.99032 | H5: Válido | I5: 45811
B6: II - TJ-SP | C6: 105207 | D6: 36 | E6: =C6/D6 -> 2922.4167 | F6: =E6*36 -> 105207 | G6: =ABS((F6-$F$11)/$F$9) -> 0.055064537 | H6: Válido | I6: 45806
B7: II - TRF5 | C7: 87493.28 | D7: 36 | E7: =C7/D7 -> 2430.3689 | F7: =E7*36 -> 87493.28 | G7: =ABS((F7-$F$11)/$F$9) -> 1.0471641 | H7: Válido | I7: 45891
B8: II - PREF RJ | C8: 66369 | D8: 24 | E8: =C8/D8 -> 2765.375 | F8: =E8*36 -> 99553.5 | G8: =ABS((F8-$F$11)/$F$9) -> 0.29672207 | H8: Válido | I8: 14/08/2025
B9: Desvio padrão | F9: =SQRT(_xlfn.VAR.P(F3:F8)) -> 16070.822
B10: Menor Valor | F10: =SMALL(F3:F8,1) -> 87493.28
B11: Média | F11: =AVERAGE(F3:F8) -> 104322.07
B12: Mediana | F12: =MEDIAN(F3:F8) -> 102380.25
B13: Coeficiente de variação | F13: =F9/F11 -> 0.15405007
B16: 1.2 - MCT2735 - Red Hat OpenShift Container Platform Premium (2 Cores or 4 vCPUs)
B17: Parâmetro - Fonte | C17: Custo Total | D17: Meses | E17: Preço Mensal | F17: Estimado (36 meses) | G17: Z- Score (Abs.) | H17: Análise | I17: Data
B18: III - PMC-TIC | C18: 32926.79 | D18: 12 | E18: =C18/D18 -> 2743.8992 | F18: =E18*36 -> 98780.37 | G18: =ABS((F18-$F$25)/$F$23) -> 0.29560772 | H18: Válido | I18: 45987
B19: II - DPE-RO | C19: 106920 | D19: 36 | E19: =C19/D19 -> 2970 | F19: =E19*36 -> 106920 | G19: =ABS((F19-$F$25)/$F$23) -> 0.56718506 | H19: Válido | I19: 45757
B20: II - PRODERJ | C20: 28085 | D20: 12 | E20: =C20/D20 -> 2340.4167 | F20: =E20*36 -> 84255 | G20: =ABS((F20-$F$25)/$F$23) -> 1.8352827 | H20: Válido | I20: 45821
B21: II - PRODESP | C21: =40782.91-(40782.91*0.11) -> 36296.79 | D21: 12 | E21: =C21/D21 -> 3024.7325 | F21: =E21*36 -> 108890.37 | G21: =ABS((F21-$F$25)/$F$23) -> 0.77604231 | H21: Válido | I21: 45811
B22: II - TRE-MT | C22: 109000 | D22: 36 | E22: =C22/D22 -> 3027.7778 | F22: =E22*36 -> 109000 | G22: =ABS((F22-$F$25)/$F$23) -> 0.78766302 | H22: Válido | I22: 46017
B23: Desvio padrão | F23: =SQRT(_xlfn.VAR.P(F17:F22)) -> 9434.0497
B24: Menor Valor | F24: =SMALL(F18:F22,1) -> 84255
B25: Média | F25: =AVERAGE(F18:F22) -> 101569.15
B26: Mediana | F26: =MEDIAN(F18:F22) -> 106920
B27: Coeficiente de variação | F27: =F23/F25 -> 0.092883025
B31: 1.3 - MW01659 - Red Hat Advanced Cluster Security for Kubernetes, Premium (2 Cores or 4 VCPUs)
B32: Parâmetro - Fonte | C32: Custo Total | D32: Meses | E32: Preço Mensal | F32: Estimado (36 meses) | G32: Z- Score (Abs.) | H32: Análise | I32: Data
B33: III - PMC-TIC | C33: 6314.81 | D33: 12 | E33: =C33/D33 -> 526.23417 | F33: =E33*36 -> 18944.43 | G33: =ABS((F33-$F$39)/$F$37) -> 0.70795511 | H33: Válido | I33: 45987
B34: II - PRODESP | C34: =7647.35-(7647.35*0.11) -> 6806.1415 | D34: 12 | E34: =C34/D34 -> 567.17846 | F34: =E34*36 -> 20418.425 | G34: =ABS((F34-$F$39)/$F$37) -> 1.1930909 | H34: Válido | I34: 45811
B35: III - CDW | C35: =825*D155 -> 4264.1775 | D35: 12 | E35: =C35/D35 -> 355.34813 | F35: =E35*36 -> 12792.533 | G35: =ABS((F35-$F$39)/$F$37) -> 1.316819 | H35: Válido | I35: 46080
B36: III - BLITZHANDEL | C36: =838.21*D156 -> 5006.1254 | D36: 12 | E36: =C36/D36 -> 417.17712 | F36: =E36*36 -> 15018.376 | G36: =ABS((F36-$F$39)/$F$37) -> 0.58422704 | H36: Válido | I36: 46080
B37: Desvio padrão | F37: =SQRT(_xlfn.VAR.P(F33:F36)) -> 3038.313
B38: Menor Valor | F38: =SMALL(F33:F36,1) -> 12792.533
B39: Média | F39: =AVERAGE(F33:F36) -> 16793.441
B40: Mediana | F40: =MEDIAN(F33:F36) -> 16981.403
B41: Coeficiente de variação | F41: =F37/F39 -> 0.1809226
B44: 1.4 - RH00008 - Red Hat Enterprise Linux Server with Smart Management, Premium (Physical or Virtual Nodes)
B45: Parâmetro - Fonte | C45: Custo Total | D45: Meses | E45: Preço Mensal | F45: Estimado (36 meses) | G45: Z- Score (Abs.) | H45: Análise | I45: Data
B46: III - PMC-TIC | C46: 11658.24 | D46: 12 | E46: =C46/D46 -> 971.52 | F46: =E46*36 -> 34974.72 | G46: =ABS((F46-$F$53)/$F$51) -> 0.32942176 | H46: Válido | I46: 45987
B47: II - MPE-SP | C47: 31280 | D47: 36 | E47: =C47/D47 -> 868.88889 | F47: =E47*36 -> 31280 | G47: =ABS((F47-$F$53)/$F$51) -> 0.30378524 | H47: Válido | I47: 45751
...

Sheet Licenças
A2: SKU | B2: COD PMC-TIC | C2: Nome do Produto
A3: RH00006F3 | B3: RH7.0-158 | C3: Red Hat Enterprise Linux for Virtual Datacenters, Premium
A4: MCT2735F3 | B4: RH7.0-104 | C4: Red Hat OpenShift Container Platform Premium (2 Cores or 4 vCPUs)
A5: MW01659F3 | B5: RH7.0-001 | C5: Red Hat Advanced Cluster Security for Kubernetes, Premium (2 Cores or 4 VCPUs)
A6: RH00008F3 | B6: RH7.0-160 | C6: Red Hat Enterprise Linux Server with Smart Management, Premium (Physical or Virtual Nodes)
A7: MCT3694F3 | B7: RH7.0-010 | C7: Red Hat Ansible Automation Platform, Premium (100 Managed Nodes)
A8: MW2300282F3 | B8: RH7.0-084 | C8: Red Hat AMQ, Premium (16 Cores)
A9: MW2399076F3 | B9: RH7.0-086 | C9: Red Hat AMQ, Premium (64 Cores)
A10: SVADD001 | B10: RH7.0-291 | C10: Technical Account Management Services for Red Hat Platforms (1 visita por semana) Middleware
A11: GPS-SC | B11: RH7.0-290 | C11: Dedicated Engineer (5 visitas por semana) OpenShift
A12: LS120 | B12: RH7.0-292 | C12: Red Hat Learning Subscription Basic (Acesso Pessoal por 1 ano)
A13: MW01621 | B13: RH7.0-117 | C13: Red Hat OpenShift Platform Plus, Premium (2 Cores or 4 vCPU)
