Workbook

Sheet Resumo
A7: Obra: | B7: Reforma e Adequações Pontuais na Câmara Municipal de Cosmópolis‑SP
A8: Local: | B8: Câmara Municipal de Cosmópolis‑SP, Rua Presidente Getúlio Vargas - 500, Cosmópolis - SP
A10: Planilha Orçamentária Resumida
A11: Item | B11: Descrição | C11: Total
A12: 1 | B12: =VLOOKUP(A12,'Orçamento Sintético'!A:J,5,FALSE) -> SERVIÇOS PRELIMINARES E CANTEIRO | C12: =VLOOKUP(A12,'Orçamento Sintético'!A:J,10,FALSE) -> 37967.45
A13: 2 | B13: =VLOOKUP(A13,'Orçamento Sintético'!A:J,5,FALSE) -> IMPERMEABILIZAÇÃO DO PLENÁRIO | C13: =VLOOKUP(A13,'Orçamento Sintético'!A:J,10,FALSE) -> 84434.3
A14: 2.1 | B14: =VLOOKUP(A14,'Orçamento Sintético'!A:J,5,FALSE) -> DEMOLIÇÃO DA CALÇADA E TRANSPORTE DO ENTULHO | C14: =VLOOKUP(A14,'Orçamento Sintético'!A:J,10,FALSE) -> 1002.82
A15: 2.2 | B15: =VLOOKUP(A15,'Orçamento Sintético'!A:J,5,FALSE) -> IMPERMEABILIZAÇÃO INTERNA | C15: =VLOOKUP(A15,'Orçamento Sintético'!A:J,10,FALSE) -> 32418.69
A16: 2.3 | B16: =VLOOKUP(A16,'Orçamento Sintético'!A:J,5,FALSE) -> IMPERMEABILIZAÇÃO EXTERNA | C16: =VLOOKUP(A16,'Orçamento Sintético'!A:J,10,FALSE) -> 4149.77
A17: 2.4 | B17: =VLOOKUP(A17,'Orçamento Sintético'!A:J,5,FALSE) -> DRENAGEM | C17: =VLOOKUP(A17,'Orçamento Sintético'!A:J,10,FALSE) -> 33448.68
A18: 2.5 | B18: =VLOOKUP(A18,'Orçamento Sintético'!A:J,5,FALSE) -> PINTURA INTERNA | C18: =VLOOKUP(A18,'Orçamento Sintético'!A:J,10,FALSE) -> 7996.13
A19: 2.6 | B19: =VLOOKUP(A19,'Orçamento Sintético'!A:J,5,FALSE) -> PINTURA EXTERNA | C19: =VLOOKUP(A19,'Orçamento Sintético'!A:J,10,FALSE) -> 5418.21
A20: 3 | B20: =VLOOKUP(A20,'Orçamento Sintético'!A:J,5,FALSE) -> REFORMA DA SALA DA PRESIDÊNCIA | C20: =VLOOKUP(A20,'Orçamento Sintético'!A:J,10,FALSE) -> 11378.44
A21: 3.1 | B21: =VLOOKUP(A21,'Orçamento Sintético'!A:J,5,FALSE) -> LEVANTAMENTO E DEMOLIÇÕES | C21: =VLOOKUP(A21,'Orçamento Sintético'!A:J,10,FALSE) -> 140.33
A22: 3.2 | B22: =VLOOKUP(A22,'Orçamento Sintético'!A:J,5,FALSE) -> ESQUADRIAS | C22: =VLOOKUP(A22,'Orçamento Sintético'!A:J,10,FALSE) -> 10415.33
A23: 3.3 | B23: =VLOOKUP(A23,'Orçamento Sintético'!A:J,5,FALSE) -> PINTURA | C23: =VLOOKUP(A23,'Orçamento Sintético'!A:J,10,FALSE) -> 822.78
A24: 4 | B24: =VLOOKUP(A24,'Orçamento Sintético'!A:J,5,FALSE) -> ADEQUAÇÃO DOS BANHEIROS DO PLENÁRIO | C24: =VLOOKUP(A24,'Orçamento Sintético'!A:J,10,FALSE) -> 60832.57
A25: 4.1 | B25: =VLOOKUP(A25,'Orçamento Sintético'!A:J,5,FALSE) -> LEVANTAMENTO, DEMOLIÇÕES E CONSTRUÇÕES | C25: =VLOOKUP(A25,'Orçamento Sintético'!A:J,10,FALSE) -> 12227.89
A26: 4.2 | B26: =VLOOKUP(A26,'Orçamento Sintético'!A:J,5,FALSE) -> INSTALAÇÕES HIDRÁULICAS | C26: =VLOOKUP(A26,'Orçamento Sintético'!A:J,10,FALSE) -> 2877.43
A27: 4.3 | B27: =VLOOKUP(A27,'Orçamento Sintético'!A:J,5,FALSE) -> INSTALAÇÕES ELÉTRICAS | C27: =VLOOKUP(A27,'Orçamento Sintético'!A:J,10,FALSE) -> 476.12
A28: 4.4 | B28: =VLOOKUP(A28,'Orçamento Sintético'!A:J,5,FALSE) -> PORTAS E JANELAS | C28: =VLOOKUP(A28,'Orçamento Sintético'!A:J,10,FALSE) -> 4316.46
A29: 4.5 | B29: =VLOOKUP(A29,'Orçamento Sintético'!A:J,5,FALSE) -> PISOS E REVESTIMENTOS | C29: =VLOOKUP(A29,'Orçamento Sintético'!A:J,10,FALSE) -> 25752.81
A30: 4.6 | B30: =VLOOKUP(A30,'Orçamento Sintético'!A:J,5,FALSE) -> LOUÇAS E METAIS | C30: =VLOOKUP(A30,'Orçamento Sintético'!A:J,10,FALSE) -> 6980.68
A31: 4.7 | B31: =VLOOKUP(A31,'Orçamento Sintético'!A:J,5,FALSE) -> ESPELHOS E ACESSIBILIDADE | C31: =VLOOKUP(A31,'Orçamento Sintético'!A:J,10,FALSE) -> 6867.72
A32: 4.8 | B32: =VLOOKUP(A32,'Orçamento Sintético'!A:J,5,FALSE) -> PINTURA | C32: =VLOOKUP(A32,'Orçamento Sintético'!A:J,10,FALSE) -> 1333.46
... A47: 7 | B47: =VLOOKUP(A47,'Orçamento Sintético'!A:J,5,FALSE) -> SERVIÇOS COMPLEMENTARES | C47: =VLOOKUP(A47,'Orçamento Sintético'!A:J,10,FALSE) -> 25225
B49: Total sem BDI | C49: ='Orçamento Sintético'!J242 -> 575577.97
B50: Total do BDI | C50: ='Orçamento Sintético'!J243 -> 143664.26
B51: Total Geral | C51: ='Orçamento Sintético'!J244 -> 719242.23
A55: ___________________________________
A56: Mateus Bento Batista Arantes
A57: CREA-SP 5069857280
A58: ART 2620251025114

Sheet Orçamento Sintético
A7: PLANILHA ORÇAMENTÁRIA
A9: Obra: | B9: Reforma e Adequações Pontuais na Câmara Municipal de Cosmópolis‑SP | G9: BDI adotado: | H9: 0.2496 | I9: Prestação de Serviços
A10: Local: | B10: Câmara Municipal de Cosmópolis‑SP, Rua Presidente Getúlio Vargas - 500, Cosmópolis - SP | G10: Database: | H10: 45778
A12: Item | B12: Código | C12: Banco | D12: Data-base | E12: Descrição | F12: Und | G12: Quant. | H12: Valor Unit | I12: Valor Unit com BDI | J12: Total
A13: 1 | E13: SERVIÇOS PRELIMINARES E CANTEIRO | J13: =SUM(J14:J16) -> 37967.45
A14: 1.1 | B14: 103689 | C14: SINAPI | D14: 2025/04 | E14: FORNECIMENTO E INSTALAÇÃO DE PLACA DE OBRA COM CHAPA GALVANIZADA E ESTRUTURA DE MADEIRA. AF_03/2022_PS | F14: m² | G14: 12 | H14: 466.79 | I14: =ROUND(H14+H14*$H$9,32) -> 583.30078 | J14: =ROUND(G14 * I14,2) -> 6999.61
A15: 1.2 | B15: 02.02.130 | C15: CPOS/CDHU | D15: 2025/04 | E15: LOCAÇÃO DE CONTAINER TIPO ESCRITÓRIO COM 1 VASO SANITÁRIO, 1 LAVATÓRIO E 1 PONTO PARA CHUVEIRO - ÁREA MÍNIMA DE 13,80 M² | F15: unxmês | G15: 10 | H15: 1537.32 | I15: =ROUND(H15+H15*$H$9,32) -> 1921.0351 | J15: =ROUND(G15 * I15,2) -> 19210.35
A16: 1.3 | B16: 02.02.150 | C16: CPOS/CDHU | D16: 2025/04 | E16: LOCAÇÃO DE CONTAINER TIPO DEPÓSITO - ÁREA MÍNIMA DE 13,80 M² | F16: unxmês | G16: 10 | H16: 940.9 | I16: =ROUND(H16+H16*$H$9,32) -> 1175.7486 | J16: =ROUND(G16 * I16,2) -> 11757.49
A17: 2 | E17: IMPERMEABILIZAÇÃO DO PLENÁRIO | J17: =J18+J22+J33+J39+J49+J55 -> 84434.3
A18: 2.1 | E18: DEMOLIÇÃO DA CALÇADA E TRANSPORTE DO ENTULHO | J18: =SUM(J19:J21) -> 1002.82
A19: 2.1.1 | B19: 97630 | C19: SINAPI | D19: 2025/04 | E19: DEMOLIÇÃO DE ESTRUTURAS DE CONCRETO ARMADO EM GERAL, DE FORMA MECANIZADA COM ROMPEDOR ACOPLADO EM ESCAVADEIRA HIDRÁULICA, SEM REAPROVEITAMENTO. AF_09/2023 | F19: m³ | G19: 4.84 | H19: 65.8 | I19: =ROUND(H19+H19*$H$9,32) -> 82.22368 | J19: =ROUND(G19 * I19,2) -> 397.96
A20: 2.1.2 | B20: 022809 | C20: SBC | D20: 2025/04 | E20: CARGA MANUAL E DESCARGA MECANICA DE ENTULHO | F20: m³ | G20: 9.65 | H20: 24.06 | I20: =ROUND(H20+H20*$H$9,32) -> 30.065376 | J20: =ROUND(G20 * I20,2) -> 290.13
A21: 2.1.3 | B21: 95875 | C21: SINAPI | D21: 2025/04 | E21: TRANSPORTE COM CAMINHÃO BASCULANTE DE 10 M³, EM VIA URBANA PAVIMENTADA, DMT ATÉ 30 KM (UNIDADE: M3XKM). AF_07/2020 | F21: M3XKM | G21: 96.5 | H21: 2.61 | I21: =ROUND(H21+H21*$H$9,32) -> 3.261456 | J21: =ROUND(G21 * I21,2) -> 314.73
A22: 2.2 | E22: IMPERMEABILIZAÇÃO INTERNA | J22: =SUM(J23:J32) -> 32418.69
A23: 2.2.1 | B23: 022082 | C23: SBC | D23: 2025/04 | E23: RETIRADA REVESTIMENTO DE ARGAMASSAS EMBOCO/REBOCO C/ REMOCAO | F23: m² | G23: 58.3 | H23: 37.83 | I23: =ROUND(H23+H23*$H$9,32) -> 47.272368 | J23: =ROUND(G23 * I23,2) -> 2755.98
A24: 2.2.2 | B24: 04.04.060 | C24: CPOS/CDHU | D24: 2025/04 | E24: RETIRADA DE RODAPÉ EM PEDRA, GRANITO OU MÁRMORE | F24: m | G24: 40.22 | H24: 14.85 | I24: =ROUND(H24+H24*$H$9,32) -> 18.55656 | J24: =ROUND(G24 * I24,2) -> 746.34
A25: 2.2.3 | B25: 04.04.020 | C25: CPOS/CDHU | D25: 2025/04 | E25: RETIRADA DE REVESTIMENTO EM PEDRA, GRANITO OU MÁRMORE, EM PISO | F25: m² | G25: 24.13 | H25: 24.14 | I25: =ROUND(H25+H25*$H$9,32) -> 30.165344 | J25: =ROUND(G25 * I25,2) -> 727.89
A26: 2.2.4 | B26: 32.17.030 | C26: CPOS/CDHU | D26: 2025/04 | E26: IMPERMEABILIZAÇÃO EM ARGAMASSA POLIMÉRICA PARA UMIDADE E ÁGUA DE PERCOLAÇÃO | F26: m² | G26: 78.41 | H26: 13.41 | I26: =ROUND(H26+H26*$H$9,32) -> 16.757136 | J26: =ROUND(G26 * I26,2) -> 1313.93
A27: 2.2.5 | B27: 17.02.020 | C27: CPOS/CDHU | D27: 2025/04 | E27: CHAPISCO | F27: m² | G27: 58.3 | H27: 6.62 | I27: =ROUND(H27+H27*$H$9,32) -> 8.272352 | J27: =ROUND(G27 * I27,2) -> 482.28
A28: 2.2.6 | B28: 17.02.220 | C28: CPOS/CDHU | D28: 2025/04 | E28: REBOCO | F28: m² | G28: 58.3 | H28: 12.25 | I28: =ROUND(H28+H28*$H$9,32) -> 15.3076 | J28: =ROUND(G28 * I28,2) -> 892.43
A29: 2.2.7 | B29: 98671 | C29: SINAPI | D29: 2025/04 | E29: PISO EM GRANITO APLICADO EM AMBIENTES INTERNOS. AF_09/2020 | F29: m² | G29: 24.13 | H29: 467.22 | I29: =ROUND(H29+H29*$H$9,32) -> 583.83811 | J29: =ROUND(G29 * I29,2) -> 14088.01
A30: 2.2.8 | B30: 98685 | C30: SINAPI | D30: 2025/04 | E30: RODAPÉ EM GRANITO, ALTURA 10 CM. AF_09/2020 | F30: M | G30: 78.41 | H30: 85.42 | I30: =ROUND(H30+H30*$H$9,32) -> 106.74083 | J30: =ROUND(G30 * I30,2) -> 8369.55
A31: 2.2.9 | B31: 33.02.060 | C31: CPOS/CDHU | D31: 2025/04 | E31: MASSA CORRIDA A BASE DE PVA | F31: m² | G31: 58.3 | H31: 13.88 | I31: =ROUND(H31+H31*$H$9,32) -> 17.344448 | J31: =ROUND(G31 * I31,2) -> 1011.18
A32: 2.2.10 | B32: 180030 | C32: SBC | D32: 2025/04 | E32: TINTA ACRILICA EMBORRACHADA INDUTIL INTERLIGHT PISO | F32: m² | G32: 58.3 | H32: 27.88 | I32: =ROUND(H32+H32*$H$9,32) -> 34.838848 | J32: =ROUND(G32 * I32,2) -> 2031.1
A33: 2.3 | E33: IMPERMEABILIZAÇÃO EXTERNA | J33: =SUM(J34:J38) -> 4149.77
A34: 2.3.1 | B34: 022082 | C34: SBC | D34: 2025/04 | E34: RETIRADA REVESTIMENTO DE ARGAMASSAS EMBOCO/REBOCO C/ REMOCAO | F34: m² | G34: 33.89 | H34: 37.83 | I34: =ROUND(H34+H34*$H$9,32) -> 47.272368 | J34: =ROUND(G34 * I34,2) -> 1602.06
A35: 2.3.2 | B35: 32.17.030 | C35: CPOS/CDHU | D35: 2025/04 | E35: IMPERMEABILIZAÇÃO EM ARGAMASSA POLIMÉRICA PARA UMIDADE E ÁGUA DE PERCOLAÇÃO | F35: m² | G35: 33.89 | H35: 13.41 | I35: =ROUND(H35+H35*$H$9,32) -> 16.757136 | J35: =ROUND(G35 * I35,2) -> 567.9
A36: 2.3.3 | B36: 17.02.020 | C36: CPOS/CDHU | D36: 2025/04 | E36: CHAPISCO | F36: m² | G36: 33.89 | H36: 6.62 | I36: =ROUND(H36+H36*$H$9,32) -> 8.272352 | J36: =ROUND(G36 * I36,2) -> 280.35
A37: 2.3.4 | B37: 17.02.220 | C37: CPOS/CDHU | D37: 2025/04 | E37: REBOCO | F37: m² | G37: 33.89 | H37: 12.25 | I37: =ROUND(H37+H37*$H$9,32) -> 15.3076 | J37: =ROUND(G37 * I37,2) -> 518.77
A38: 2.3.5 | B38: 180030 | C38: SBC | D38: 2025/04 | E38: TINTA ACRILICA EMBORRACHADA INDUTIL INTERLIGHT PISO | F38: m² | G38: 33.89 | H38: 27.88 | I38: =ROUND(H38+H38*$H$9,32) -> 34.838848 | J38: =ROUND(G38 * I38,2) -> 1180.69
A39: 2.4 | E39: DRENAGEM | J39: =SUM(J40:J48) -> 33448.68
A40: 2.4.1 | B40: 06.02.020 | C40: CPOS/CDHU | D40: 2025/04 | E40: ESCAVAÇÃO MANUAL EM SOLO DE 1ª E 2ª CATEGORIA EM VALA OU CAVA ATÉ 1,5 M | F40: m³ | G40: 108.02 | H40: 55.71 | I40: =ROUND(H40+H40*$H$9,32) -> 69.615216 | J40: =ROUND(G40 * I40,2) -> 7519.84
A41: 2.4.2 | B41: 102704 | C41: SINAPI | D41: 2025/04 | E41: TUBO DE PEAD CORRUGADO PERFURADO, DN 100 MM, PARA DRENO - FORNECIMENTO E ASSENTAMENTO. AF_07/2021 | F41: M | G41: 64.3 | H41: 12.71 | I41: =ROUND(H41+H41*$H$9,32) -> 15.882416 | J41: =ROUND(G41 * I41,2) -> 1021.24
A42: 2.4.3 | B42: 070370 | C42: SBC | D42: 2025/04 | E42: GEOTEXTIL NAO TECIDO AGULHADO 100% POLIESTER RT21 TIPO BIDIM | F42: m² | G42: 83 | H42: 66.8 | I42: =ROUND(H42+H42*$H$9,32) -> 83.47328 | J42: =ROUND(G42 * I42,2) -> 6928.28
A43: 2.4.4 | B43: 08.05.110 | C43: CPOS/CDHU | D43: 2025/04 | E43: DRENO COM AREIA GROSSA | F43: m³ | G43: 7.72 | H43: 186.33 | I43: =ROUND(H43+H43*$H$9,32) -> 232.83797 | J43: =ROUND(G43 * I43,2) -> 1797.51
A44: 2.4.5 | B44: 08.05.100 | C44: CPOS/CDHU | D44: 2025/04 | E44: DRENO COM PEDRA BRITADA | F44: m³ | G44: 14.93 | H44: 167.81 | I44: =ROUND(H44+H44*$H$9,32) -> 209.69538 | J44: =ROUND(G44 * I44,2) -> 3130.75
A45: 2.4.6 | B45: 07.11.020 | C45: CPOS/CDHU | D45: 2025/04 | E45: REATERRO COMPACTADO MECANIZADO DE VALA OU CAVA COM COMPACTADOR | F45: m³ | G45: 85.12 | H45: 6.65 | I45: =ROUND(H45+H45*$H$9,32) -> 8.30984 | J45: =ROUND(G45 * I45,2) -> 707.33
A46: 2.4.7 | B46: 34.02.100 | C46: CPOS/CDHU | D46: 2025/04 | E46: PLANTIO DE GRAMA ESMERALDA EM PLACAS (JARDINS E CANTEIROS) | F46: m² | G46: 54.46 | H46: 17.73 | I46: =ROUND(H46+H46*$H$9,32) -> 22.155408 | J46: =ROUND(G46 * I46,2) -> 1206.58
A47: 2.4.8 | B47: 95005 | C47: SINAPI | D47: 2025/04 | E47: EXECUÇÃO DE PASSEIO (CALÇADA) COM CONCRETO MOLDADO IN LOCO, FEITO EM OBRA, ACABAMENTO ESTAMPADO, ESPESSURA 8 CM, ARMADO. AF_08/2022 | F47: m² | G47: 48.42 | H47: 148.88 | I47: =ROUND(H47+H47*$H$9,32) -> 186.04045 | J47: =ROUND(G47 * I47,2) -> 9008.08
A48: 2.4.9 | B48: 055895 | C48: SBC | D48: 2025/04 | E48: CAIXA DE PASSAGEM 40x40cm COM GRELHA REMOVIVEL | F48: UN | G48: 4 | H48: 425.95 | I48: =ROUND(H48+H48*$H$9,32) -> 532.26712 | J48: =ROUND(G48 * I48,2) -> 2129.07
...

Sheet Cronograma
A7: CRONOGRAMA FÍSICO-FINANCEIRO
A8: Obra: | B8: Reforma e Adequações Pontuais na Câmara Municipal de Cosmópolis‑SP | M8: BDI adotado: | N8: 0.2496 | O8: Prestação de Serviços
A9: Local: | B9: Câmara Municipal de Cosmópolis‑SP, Rua Presidente Getúlio Vargas - 500, Cosmópolis - SP | M9: Database: | N9: 45778
A11: Item | B11: Descrição | D11: Total | E11: Peso (%) | F11: A Realizar em ( ) Dias ( X ) Meses ( ) Bimestre(s) ( ) Trimestre(s) ( ) Quadrimestre(s) ( ) Semestre(s) | P11: Total (em R$)
F12: 1 | G12: 2 | H12: 3 | I12: 4 | J12: 5 | K12: 6 | L12: 7 | M12: 8 | N12: 9 | O12: 10
A13: 1 | B13: =VLOOKUP(A13,'Orçamento Sintético'!A:J,5,FALSE) -> SERVIÇOS PRELIMINARES E CANTEIRO | D13: =VLOOKUP(A13,'Orçamento Sintético'!A:J,10,FALSE) -> 37967.45 | E13: =D13/$D$27 -> 0.052788127 | F13: 10096.43 | G13: 3096.78 | H13: 3096.78 | I13: 3096.78 | J13: 3096.78 | K13: 3096.78 | L13: 3096.78 | M13: 3096.78 | N13: 3096.78 | O13: 3096.78 | P13: =SUM(F13:O13) -> 37967.45 | Q13: =P13-D13 -> 0
F14: =IF(F13="","",1) -> 1 | G14: =IF(G13="","",1) -> 1 | H14: =IF(H13="","",1) -> 1 | I14: =IF(I13="","",1) -> 1 | J14: =IF(J13="","",1) -> 1 | K14: =IF(K13="","",1) -> 1 | L14: =IF(L13="","",1) -> 1 | M14: =IF(M13="","",1) -> 1 | ... O14: =IF(O13="","",1) -> 1
A15: 2 | B15: =VLOOKUP(A15,'Orçamento Sintético'!A:J,5,FALSE) -> IMPERMEABILIZAÇÃO DO PLENÁRIO | D15: =VLOOKUP(A15,'Orçamento Sintético'!A:J,10,FALSE) -> 84434.3 | E15: =D15/$D$27 -> 0.11739341 | J15: 21108.57 | K15: 29552 | L15: 33773.73 | P15: =SUM(F15:O15) -> 84434.3 | Q15: =P15-D15 -> 0
F16: =IF(F15="","",1) | G16: =IF(G15="","",1) | H16: =IF(H15="","",1) | I16: =IF(I15="","",1) | J16: =IF(J15="","",1) -> 1 | K16: =IF(K15="","",1) -> 1 | L16: =IF(L15="","",1) -> 1 | M16: =IF(M15="","",1) | ... O16: =IF(O15="","",1)
A17: 3 | B17: =VLOOKUP(A17,'Orçamento Sintético'!A:J,5,FALSE) -> REFORMA DA SALA DA PRESIDÊNCIA | D17: =VLOOKUP(A17,'Orçamento Sintético'!A:J,10,FALSE) -> 11378.44 | E17: =D17/$D$27 -> 0.015820039 | M17: =D17/2 -> 5689.22 | N17: =M17 -> 5689.22 | P17: =SUM(F17:O17) -> 11378.44 | Q17: =P17-D17 -> 0
F18: =IF(F17="","",1) | G18: =IF(G17="","",1) | H18: =IF(H17="","",1) | I18: =IF(I17="","",1) | J18: =IF(J17="","",1) | K18: =IF(K17="","",1) | L18: =IF(L17="","",1) | M18: =IF(M17="","",1) -> 1 | ... O18: =IF(O17="","",1)
A19: 4 | B19: =VLOOKUP(A19,'Orçamento Sintético'!A:J,5,FALSE) -> ADEQUAÇÃO DOS BANHEIROS DO PLENÁRIO | D19: =VLOOKUP(A19,'Orçamento Sintético'!A:J,10,FALSE) -> 60832.57 | E19: =D19/$D$27 -> 0.084578696 | L19: =$D$19/2 -> 30416.285 | M19: =$D$19/2 -> 30416.285 | P19: =SUM(F19:O19) -> 60832.57 | Q19: =P19-D19 -> 0
F20: =IF(F19="","",1) | G20: =IF(G19="","",1) | H20: =IF(H19="","",1) | I20: =IF(I19="","",1) | J20: =IF(J19="","",1) | K20: =IF(K19="","",1) | L20: =IF(L19="","",1) -> 1 | M20: =IF(M19="","",1) -> 1 | ... O20: =IF(O19="","",1)
A21: 5 | B21: =VLOOKUP(A21,'Orçamento Sintético'!A:J,5,FALSE) -> REFORMA DO TELHADO | D21: =VLOOKUP(A21,'Orçamento Sintético'!A:J,10,FALSE) -> 392367.07 | E21: =D21/$D$27 -> 0.54552841 | F21: 19618.35 | G21: 137328.47 | H21: 176565.18 | I21: 58855.07 | P21: =SUM(F21:O21) -> 392367.07 | Q21: =P21-D21 -> 0
F22: =IF(F21="","",1) -> 1 | G22: =IF(G21="","",1) -> 1 | H22: =IF(H21="","",1) -> 1 | I22: =IF(I21="","",1) -> 1 | J22: =IF(J21="","",1) | K22: =IF(K21="","",1) | L22: =IF(L21="","",1) | M22: =IF(M21="","",1) | ... O22: =IF(O21="","",1)
A23: 6 | B23: =VLOOKUP(A23,'Orçamento Sintético'!A:J,5,FALSE) -> ADEQUAÇÕES ELÉTRICAS DE TODA CÂMARA - FASE 1 | D23: =VLOOKUP(A23,'Orçamento Sintético'!A:J,10,FALSE) -> 107037.4 | E23: =D23/$D$27 -> 0.14881968 | G23: ='Orçamento Sintético'!J207 -> 5442.92 | M23: ='Orçamento Sintético'!J214+'Orçamento Sintético'!J228+'Orçamento Sintético'!J230+'Orçamento Sintético'!J236 -> 101594.48 | P23: =SUM(F23:O23) -> 107037.4 | Q23: =P23-D23 -> 0
F24: =IF(F23="","",1) | G24: =IF(G23="","",1) -> 1 | H24: =IF(H23="","",1) | I24: =IF(I23="","",1) | J24: =IF(J23="","",1) | K24: =IF(K23="","",1) | L24: =IF(L23="","",1) | M24: =IF(M23="","",1) -> 1 | ... O24: =IF(O23="","",1)
A25: 7 | B25: =VLOOKUP(A25,'Orçamento Sintético'!A:J,5,FALSE) -> SERVIÇOS COMPLEMENTARES | D25: =VLOOKUP(A25,'Orçamento Sintético'!A:J,10,FALSE) -> 25225 | E25: =D25/$D$27 -> 0.035071634 | O25: 25225 | P25: =SUM(F25:O25) -> 25225 | Q25: =P25-D25 -> 0
F26: =IF(F25="","",1) | G26: =IF(G25="","",1) | H26: =IF(H25="","",1) | I26: =IF(I25="","",1) | J26: =IF(J25="","",1) | K26: =IF(K25="","",1) | L26: =IF(L25="","",1) | M26: =IF(M25="","",1) | ... O26: =IF(O25="","",1) -> 1
A27: TOTAL | D27: =SUM(D13:D26) -> 719242.23 | F27: =F13+F15+F17+F19+F21+F23+F25 -> 29714.78 | G27: =G13+G15+G17+G19+G21+G23+G25 -> 145868.17 | H27: =H13+H15+H17+H19+H21+H23+H25 -> 179661.96 | I27: =I13+I15+I17+I19+I21+I23+I25 -> 61951.85 | J27: =J13+J15+J17+J19+J21+J23+J25 -> 24205.35 | K27: =K13+K15+K17+K19+K21+K23+K25 -> 32648.78 | L27: =L13+L15+L17+L19+L21+L23+L25 -> 67286.795 | M27: =M13+M15+M17+M19+M21+M23+M25 -> 140796.77 | ... P27: =P13+P15+P17+P19+P21+P23+P25 -> 719242.23
F28: =F27/$D$27 -> 0.041314009 | G28: =G27/$D$27 -> 0.20280813 | H28: =H27/$D$27 -> 0.2497934 | I28: =I27/$D$27 -> 0.086134889 | J28: =J27/$D$27 -> 0.033653961 | K28: =K27/$D$27 -> 0.045393302 | L28: =L27/$D$27 -> 0.093552342 | M28: =M27/$D$27 -> 0.19575709 | ... O28: =O27/$D$27 -> 0.039377248
A29: TOTAL ACUMULADO | F29: =F27 -> 29714.78 | G29: =F29+G27 -> 175582.95 | H29: =G29+H27 -> 355244.91 | I29: =H29+I27 -> 417196.76 | J29: =I29+J27 -> 441402.11 | K29: =J29+K27 -> 474050.89 | L29: =K29+L27 -> 541337.69 | M29: =L29+M27 -> 682134.45 | N29: =M29+N27 -> 690920.45 | O29: =N29+O27 -> 719242.23
F30: =F29/$D$27 -> 0.041314009 | G30: =G29/$D$27 -> 0.24412214 | H30: =H29/$D$27 -> 0.49391553 | I30: =I29/$D$27 -> 0.58005042 | J30: =J29/$D$27 -> 0.61370438 | K30: =K29/$D$27 -> 0.65909769 | L30: =L29/$D$27 -> 0.75265003 | M30: =M29/$D$27 -> 0.94840712 | ... O30: =O29/$D$27 -> 1
A35: ___________________________________
A36: Mateus Bento Batista Arantes
A37: CREA-SP 5069857280
A38: ART 2620251025114
