Workbook

Sheet Resumo
A7: Obra: | B7: Reforma e Adequações Pontuais na Câmara Municipal de Cosmópolis‑SP
A8: Local: | B8: Câmara Municipal de Cosmópolis‑SP, Rua Presidente Getúlio Vargas - 500, Cosmópolis - SP
A10: Planilha Orçamentária Resumida
A11: Item | B11: Descrição | C11: Total
A12: 1 | B12: =VLOOKUP(A12,'Orçamento Sintético'!A:J,5,FALSE) -> SERVIÇOS PRELIMINARES E CANTEIRO | C12: =VLOOKUP(A12,'Orçamento Sintético'!A:J,10,FALSE) -> 37967.45
A13: 2 | B13: =VLOOKUP(A13,'Orçamento Sintético'!A:J,5,FALSE) -> IMPERMEABILIZAÇÃO DO PLENÁRIO | C13: =VLOOKUP(A13,'Orçamento Sintético'!A:J,10,FALSE) -> 84434.3
A14: 2.1 | B14: =VLOOKUP(A14,'Orçamento Sintético'!A:J,5,FALSE) -> DEMOLIÇÃO DA CALÇADA E TRANSPORTE DO ENTULHO | C14: =VLOOKUP(A14,'Orçamento Sintético'!A:J,10,FALSE) -> 1002.82
A15: 2.2 | B15: =VLOOKUP(A15,'Orçamento Sintético'!A:J,5,FALSE) -> IMPERMEABILIZAÇÃO INTERNA | C15: =VLOOKUP(A15,'Orçamento Sintético'!A:J,10,FALSE) -> 32418.69
A16: 2.3 | B16: =VLOOKUP(A16,'Orçamento Sintético'!A:J,5,FALSE) -> IMPERMEABILIZAÇÃO EXTERNA | C16: =VLOOKUP(A16,'Orçamento Sintético'!A:J,10,FALSE) -> 4149.77
A17: 2.4 | B17: =VLOOKUP(A17,'Orçamento Sintético'!A:J,5,FALSE) -> DRENAGEM | C17: =VLOOKUP(A17,'Orçamento Sintético'!A:J,10,FALSE) -> 33448.68
A18: 2.5 | B18: =VLOOKUP(A18,'Orçamento Sintético'!A:J,5,FALSE) -> PINTURA INTERNA | C18: =VLOOKUP(A18,'Orçamento Sintético'!A:J,10,FALSE) -> 7996.13
A19: 2.6 | B19: =VLOOKUP(A19,'Orçamento Sintético'!A:J,5,FALSE) -> PINTURA EXTERNA | C19: =VLOOKUP(A19,'Orçamento Sintético'!A:J,10,FALSE) -> 5418.21
A20: 3 | B20: =VLOOKUP(A20,'Orçamento Sintético'!A:J,5,FALSE) -> REFORMA DA SALA DA PRESIDÊNCIA | C20: =VLOOKUP(A20,'Orçamento Sintético'!A:J,10,FALSE) -> 11378.44
A21: 3.1 | B21: =VLOOKUP(A21,'Orçamento Sintético'!A:J,5,FALSE) -> LEVANTAMENTO E DEMOLIÇÕES | C21: =VLOOKUP(A21,'Orçamento Sintético'!A:J,10,FALSE) -> 140.33
A22: 3.2 | B22: =VLOOKUP(A22,'Orçamento Sintético'!A:J,5,FALSE) -> ESQUADRIAS | C22: =VLOOKUP(A22,'Orçamento Sintético'!A:J,10,FALSE) -> 10415.33
A23: 3.3 | B23: =VLOOKUP(A23,'Orçamento Sintético'!A:J,5,FALSE) -> PINTURA | C23: =VLOOKUP(A23,'Orçamento Sintético'!A:J,10,FALSE) -> 822.78
A24: 4 | B24: =VLOOKUP(A24,'Orçamento Sintético'!A:J,5,FALSE) -> ADEQUAÇÃO DOS BANHEIROS DO PLENÁRIO | C24: =VLOOKUP(A24,'Orçamento Sintético'!A:J,10,FALSE) -> 60832.57
A25: 4.1 | B25: =VLOOKUP(A25,'Orçamento Sintético'!A:J,5,FALSE) -> LEVANTAMENTO, DEMOLIÇÕES E CONSTRUÇÕES | C25: =VLOOKUP(A25,'Orçamento Sintético'!A:J,10,FALSE) -> 12227.89
A26: 4.2 | B26: =VLOOKUP(A26,'Orçamento Sintético'!A:J,5,FALSE) -> INSTALAÇÕES HIDRÁULICAS | C26: =VLOOKUP(A26,'Orçamento Sintético'!A:J,10,FALSE) -> 2877.43
A27: 4.3 | B27: =VLOOKUP(A27,'Orçamento Sintético'!A:J,5,FALSE) -> INSTALAÇÕES ELÉTRICAS | C27: =VLOOKUP(A27,'Orçamento Sintético'!A:J,10,FALSE) -> 476.12
A28: 4.4 | B28: =VLOOKUP(A28,'Orçamento Sintético'!A:J,5,FALSE) -> PORTAS E JANELAS | C28: =VLOOKUP(A28,'Orçamento Sintético'!A:J,10,FALSE) -> 4316.46
A29: 4.5 | B29: =VLOOKUP(A29,'Orçamento Sintético'!A:J,5,FALSE) -> PISOS E REVESTIMENTOS | C29: =VLOOKUP(A29,'Orçamento Sintético'!A:J,10,FALSE) -> 25752.81
A30: 4.6 | B30: =VLOOKUP(A30,'Orçamento Sintético'!A:J,5,FALSE) -> LOUÇAS E METAIS | C30: =VLOOKUP(A30,'Orçamento Sintético'!A:J,10,FALSE) -> 6980.68
A31: 4.7 | B31: =VLOOKUP(A31,'Orçamento Sintético'!A:J,5,FALSE) -> ESPELHOS E ACESSIBILIDADE | C31: =VLOOKUP(A31,'Orçamento Sintético'!A:J,10,FALSE) -> 6867.72
A32: 4.8 | B32: =VLOOKUP(A32,'Orçamento Sintético'!A:J,5,FALSE) -> PINTURA | C32: =VLOOKUP(A32,'Orçamento Sintético'!A:J,10,FALSE) -> 1333.46
... A47: 7 | B47: =VLOOKUP(A47,'Orçamento Sintético'!A:J,5,FALSE) -> SERVIÇOS COMPLEMENTARES | C47: =VLOOKUP(A47,'Orçamento Sintético'!A:J,10,FALSE) -> 25225
B49: Total sem BDI | C49: ='Orçamento Sintético'!J242 -> 575577.97
B50: Total do BDI | C50: ='Orçamento Sintético'!J243 -> 143664.26
B51: Total Geral | C51: ='Orçamento Sintético'!J244 -> 719242.23
A55: ___________________________________
A56: Mateus Bento Batista Arantes
A57: CREA-SP 5069857280
A58: ART 2620251025114

Sheet Orçamento Sintético
A7: PLANILHA ORÇAMENTÁRIA
A9: Obra: | B9: Reforma e Adequações Pontuais na Câmara Municipal de Cosmópolis‑SP | G9: BDI adotado: | H9: 0.2496 | I9: Prestação de Serviços
A10: Local: | B10: Câmara Municipal de Cosmópolis‑SP, Rua Presidente Getúlio Vargas - 500, Cosmópolis - SP | G10: Database: | H10: 45778
A12: Item | B12: Código | C12: Banco | D12: Data-base | E12: Descrição | F12: Und | G12: Quant. | H12: Valor Unit | I12: Valor Unit com BDI | J12: Total
A13: 1 | E13: SERVIÇOS PRELIMINARES E CANTEIRO | J13: =SUM(J14:J16) -> 37967.45
A14: 1.1 | B14: 103689 | C14: SINAPI | D14: 2025/04 | E14: FORNECIMENTO E INSTALAÇÃO DE PLACA DE OBRA COM CHAPA GALVANIZADA E ESTRUTURA DE MADEIRA. AF_03/2022_PS | F14: m² | G14: 12 | H14: 466.79 | I14: =ROUND(H14+H14*$H$9,32) -> 583.30078 | J14: =ROUND(G14 * I14,2) -> 6999.61
A15: 1.2 | B15: 02.02.130 | C15: CPOS/CDHU | D15: 2025/04 | E15: LOCAÇÃO DE CONTAINER TIPO ESCRITÓRIO COM 1 VASO SANITÁRIO, 1 LAVATÓRIO E 1 PONTO PARA CHUVEIRO - ÁREA MÍNIMA DE 13,80 M² | F15: unxmês | G15: 10 | H15: 1537.32 | I15: =ROUND(H15+H15*$H$9,32) -> 1921.0351 | J15: =ROUND(G15 * I15,2) -> 19210.35
A16: 1.3 | B16: 02.02.150 | C16: CPOS/CDHU | D16: 2025/04 | E16: LOCAÇÃO DE CONTAINER TIPO DEPÓSITO - ÁREA MÍNIMA DE 13,80 M² | F16: unxmês | G16: 10 | H16: 940.9 | I16: =ROUND(H16+H16*$H$9,32) -> 1175.7486 | J16: =ROUND(G16 * I16,2) -> 11757.49
A17: 2 | E17: IMPERMEABILIZAÇÃO DO PLENÁRIO | J17: =J18+J22+J33+J39+J49+J55 -> 84434.3
A18: 2.1 | E18: DEMOLIÇÃO DA CALÇADA E TRANSPORTE DO ENTULHO | J18: =SUM(J19:J21) -> 1002.82
A19: 2.1.1 | B19: 97630 | C19: SINAPI | D19: 2025/04 | E19: DEMOLIÇÃO DE ESTRUTURAS DE CONCRETO ARMADO EM GERAL, DE FORMA MECANIZADA COM ROMPEDOR ACOPLADO EM ESCAVADEIRA HIDRÁULICA, SEM REAPROVEITAMENTO. AF_09/2023 | F19: m³ | G19: 4.84 | H19: 65.8 | I19: =ROUND(H19+H19*$H$9,32) -> 82.22368 | J19: =ROUND(G19 * I19,2) -> 397.96
A20: 2.1.2 | B20: 022809 | C20: SBC | D20: 2025/04 | E20: CARGA MANUAL E DESCARGA MECANICA DE ENTULHO | F20: m³ | G20: 9.65 | H20: 24.06 | I20: =ROUND(H20+H20*$H$9,32) -> 30.065376 | J20: =ROUND(G20 * I20,2) -> 290.13
A21: 2.1.3 | B21: 95875 | C21: SINAPI | D21: 2025/04 | E21: TRANSPORTE COM CAMINHÃO BASCULANTE DE 10 M³, EM VIA URBANA PAVIMENTADA, DMT ATÉ 30 KM (UNIDADE: M3XKM). AF_07/2020 | F21: M3XKM | G21: 96.5 | H21: 2.61 | I21: =ROUND(H21+H21*$H$9,32) -> 3.261456 | J21: =ROUND(G21 * I21,2) -> 314.73
A22: 2.2 | E22: IMPERMEABILIZAÇÃO INTERNA | J22: =SUM(J23:J32) -> 32418.69
A23: 2.2.1 | B23: 022082 | C23: SBC | D23: 2025/04 | E23: RETIRADA REVESTIMENTO DE ARGAMASSAS EMBOCO/REBOCO C/ REMOCAO | F23: m² | G23: 58.3 | H23: 37.83 | I23: =ROUND(H23+H23*$H$9,32) -> 47.272368 | J23: =ROUND(G23 * I23,2) -> 2755.98
A24: 2.2.2 | B24: 04.04.060 | C24: CPOS/CDHU | D24: 2025/04 | E24: RETIRADA DE RODAPÉ EM PEDRA, GRANITO OU MÁRMORE | F24: m | G24: 40.22 | H24: 14.85 | I24: =ROUND(H24+H24*$H$9,32) -> 18.55656 | J24: =ROUND(G24 * I24,2) -> 746.34
A25: 2.2.3 | B25: 04.04.020 | C25: CPOS/CDHU | D25: 2025/04 | E25: RETIRADA DE REVESTIMENTO EM PEDRA, GRANITO OU MÁRMORE, EM PISO | F25: m² | G25: 24.13 | H25: 24.14 | I25: =ROUND(H25+H25*$H$9,32) -> 30.165344 | J25: =ROUND(G25 * I25,2) -> 727.89
A26: 2.2.4 | B26: 32.17.030 | C26: CPOS/CDHU | D26: 2025/04 | E26: IMPERMEABILIZAÇÃO EM ARGAMASSA POLIMÉRICA PARA UMIDADE E ÁGUA DE PERCOLAÇÃO | F26: m² | G26: 78.41 | H26: 13.41 | I26: =ROUND(H26+H26*$H$9,32) -> 16.757136 | J26: =ROUND(G26 * I26,2) -> 1313.93
A27: 2.2.5 | B27: 17.02.020 | C27: CPOS/CDHU | D27: 2025/04 | E27: CHAPISCO | F27: m² | G27: 58.3 | H27: 6.62 | I27: =ROUND(H27+H27*$H$9,32) -> 8.272352 | J27: =ROUND(G27 * I27,2) -> 482.28
A28: 2.2.6 | B28: 17.02.220 | C28: CPOS/CDHU | D28: 2025/04 | E28: REBOCO | F28: m² | G28: 58.3 | H28: 12.25 | I28: =ROUND(H28+H28*$H$9,32) -> 15.3076 | J28: =ROUND(G28 * I28,2) -> 892.43
A29: 2.2.7 | B29: 98671 | C29: SINAPI | D29: 2025/04 | E29: PISO EM GRANITO APLICADO EM AMBIENTES INTERNOS. AF_09/2020 | F29: m² | G29: 24.13 | H29: 467.22 | I29: =ROUND(H29+H29*$H$9,32) -> 583.83811 | J29: =ROUND(G29 * I29,2) -> 14088.01
A30: 2.2.8 | B30: 98685 | C30: SINAPI | D30: 2025/04 | E30: RODAPÉ EM GRANITO, ALTURA 10 CM. AF_09/2020 | F30: M | G30: 78.41 | H30: 85.42 | I30: =ROUND(H30+H30*$H$9,32) -> 106.74083 | J30: =ROUND(G30 * I30,2) -> 8369.55
A31: 2.2.9 | B31: 33.02.060 | C31: CPOS/CDHU | D31: 2025/04 | E31: MASSA CORRIDA A BASE DE PVA | F31: m² | G31: 58.3 | H31: 13.88 | I31: =ROUND(H31+H31*$H$9,32) -> 17.344448 | J31: =ROUND(G31 * I31,2) -> 1011.18
A32: 2.2.10 | B32: 180030 | C32: SBC | D32: 2025/04 | E32: TINTA ACRILICA EMBORRACHADA INDUTIL INTERLIGHT PISO | F32: m² | G32: 58.3 | H32: 27.88 | I32: =ROUND(H32+H32*$H$9,32) -> 34.838848 | J32: =ROUND(G32 * I32,2) -> 2031.1
A33: 2.3 | E33: IMPERMEABILIZAÇÃO EXTERNA | J33: =SUM(J34:J38) -> 4149.77
A34: 2.3.1 | B34: 022082 | C34: SBC | D34: 2025/04 | E34: RETIRADA REVESTIMENTO DE ARGAMASSAS EMBOCO/REBOCO C/ REMOCAO | F34: m² | G34: 33.89 | H34: 37.83 | I34: =ROUND(H34+H34*$H$9,32) -> 47.272368 | J34: =ROUND(G34 * I34,2) -> 1602.06
A35: 2.3.2 | B35: 32.17.030 | C35: CPOS/CDHU | D35: 2025/04 | E35: IMPERMEABILIZAÇÃO EM ARGAMASSA POLIMÉRICA PARA UMIDADE E ÁGUA DE PERCOLAÇÃO | F35: m² | G35: 33.89 | H35: 13.41 | I35: =ROUND(H35+H35*$H$9,32) -> 16.757136 | J35: =ROUND(G35 * I35,2) -> 567.9
A36: 2.3.3 | B36: 17.02.020 | C36: CPOS/CDHU | D36: 2025/04 | E36: CHAPISCO | F36: m² | G36: 33.89 | H36: 6.62 | I36: =ROUND(H36+H36*$H$9,32) -> 8.272352 | J36: =ROUND(G36 * I36,2) -> 280.35
A37: 2.3.4 | B37: 17.02.220 | C37: CPOS/CDHU | D37: 2025/04 | E37: REBOCO | F37: m² | G37: 33.89 | H37: 12.25 | I37: =ROUND(H37+H37*$H$9,32) -> 15.3076 | J37: =ROUND(G37 * I37,2) -> 518.77
A38: 2.3.5 | B38: 180030 | C38: SBC | D38: 2025/04 | E38: TINTA ACRILICA EMBORRACHADA INDUTIL INTERLIGHT PISO | F38: m² | G38: 33.89 | H38: 27.88 | I38: =ROUND(H38+H38*$H$9,32) -> 34.838848 | J38: =ROUND(G38 * I38,2) -> 1180.69
A39: 2.4 | E39: DRENAGEM | J39: =SUM(J40:J48) -> 33448.68
A40: 2.4.1 | B40: 06.02.020 | C40: CPOS/CDHU | D40: 2025/04 | E40: ESCAVAÇÃO MANUAL EM SOLO DE 1ª E 2ª CATEGORIA EM VALA OU CAVA ATÉ 1,5 M | F40: m³ | G40: 108.02 | H40: 55.71 | I40: =ROUND(H40+H40*$H$9,32) -> 69.615216 | J40: =ROUND(G40 * I40,2) -> 7519.84
A41: 2.4.2 | B41: 102704 | C41: SINAPI | D41: 2025/04 | E41: TUBO DE PEAD CORRUGADO PERFURADO, DN 100 MM, PARA DRENO - FORNECIMENTO E ASSENTAMENTO. AF_07/2021 | F41: M | G41: 64.3 | H41: 12.71 | I41: =ROUND(H41+H41*$H$9,32) -> 15.882416 | J41: =ROUND(G41 * I41,2) -> 1021.24
A42: 2.4.3 | B42: 070370 | C42: SBC | D42: 2025/04 | E42: GEOTEXTIL NAO TECIDO AGULHADO 100% POLIESTER RT21 TIPO BIDIM | F42: m² | G42: 83 | H42: 66.8 | I42: =ROUND(H42+H42*$H$9,32) -> 83.47328 | J42: =ROUND(G42 * I42,2) -> 6928.28
A43: 2.4.4 | B43: 08.05.110 | C43: CPOS/CDHU | D43: 2025/04 | E43: DRENO COM AREIA GROSSA | F43: m³ | G43: 7.72 | H43: 186.33 | I43: =ROUND(H43+H43*$H$9,32) -> 232.83797 | J43: =ROUND(G43 * I43,2) -> 1797.51
A44: 2.4.5 | B44: 08.05.100 | C44: CPOS/CDHU | D44: 2025/04 | E44: DRENO COM PEDRA BRITADA | F44: m³ | G44: 14.93 | H44: 167.81 | I44: =ROUND(H44+H44*$H$9,32) -> 209.69538 | J44: =ROUND(G44 * I44,2) -> 3130.75
A45: 2.4.6 | B45: 07.11.020 | C45: CPOS/CDHU | D45: 2025/04 | E45: REATERRO COMPACTADO MECANIZADO DE VALA OU CAVA COM COMPACTADOR | F45: m³ | G45: 85.12 | H45: 6.65 | I45: =ROUND(H45+H45*$H$9,32) -> 8.30984 | J45: =ROUND(G45 * I45,2) -> 707.33
A46: 2.4.7 | B46: 34.02.100 | C46: CPOS/CDHU | D46: 2025/04 | E46: PLANTIO DE GRAMA ESMERALDA EM PLACAS (JARDINS E CANTEIROS) | F46: m² | G46: 54.46 | H46: 17.73 | I46: =ROUND(H46+H46*$H$9,32) -> 22.155408 | J46: =ROUND(G46 * I46,2) -> 1206.58
A47: 2.4.8 | B47: 95005 | C47: SINAPI | D47: 2025/04 | E47: EXECUÇÃO DE PASSEIO (CALÇADA) COM CONCRETO MOLDADO IN LOCO, FEITO EM OBRA, ACABAMENTO ESTAMPADO, ESPESSURA 8 CM, ARMADO. AF_08/2022 | F47: m² | G47: 48.42 | H47: 148.88 | I47: =ROUND(H47+H47*$H$9,32) -> 186.04045 | J47: =ROUND(G47 * I47,2) -> 9008.08
A48: 2.4.9 | B48: 055895 | C48: SBC | D48: 2025/04 | E48: CAIXA DE PASSAGEM 40x40cm COM GRELHA REMOVIVEL | F48: UN | G48: 4 | H48: 425.95 | I48: =ROUND(H48+H48*$H$9,32) -> 532.26712 | J48: =ROUND(G48 * I48,2) -> 2129.07
A49: 2.5 | E49: PINTURA INTERNA | J49: =SUM(J50:J54) -> 7996.13
A50: 2.5.1 | B50: 97640 | C50: SINAPI | D50: 2025/04 | E50: REMOÇÃO DE FORROS DE DRYWALL, PVC E FIBROMINERAL, DE FORMA MANUAL, SEM REAPROVEITAMENTO. AF_09/2023 | F50: m² | G50: 312 | H50: 2.39 | I50: =ROUND(H50+H50*$H$9,32) -> 2.986544 | J50: =ROUND(G50 * I50,2) -> 931.8
A51: 2.5.2 | B51: 22.20.040 | C51: CPOS/CDHU | D51: 2025/04 | E51: RECOLOCAÇÃO DE FORROS APOIADOS OU ENCAIXADOS | F51: m² | G51: 312 | H51: 6.17 | I51: =ROUND(H51+H51*$H$9,32) -> 7.710032 | J51: =ROUND(G51 * I51,2) -> 2405.53
A52: 2.5.3 | B52: 88489 | C52: SINAPI | D52: 2025/04 | E52: PINTURA LÁTEX ACRÍLICA PREMIUM, APLICAÇÃO MANUAL EM PAREDES, DUAS DEMÃOS. AF_04/2023 | F52: m² | G52: 159.6 | H52: 14.2 | I52: =ROUND(H52+H52*$H$9,32) -> 17.74432 | J52: =ROUND(G52 * I52,2) -> 2831.99
A53: 2.5.4 | B53: 102219 | C53: SINAPI | D53: 2025/04 | E53: PINTURA TINTA DE ACABAMENTO (PIGMENTADA) ESMALTE SINTÉTICO ACETINADO EM MADEIRA, 2 DEMÃOS. AF_01/2021 | F53: m² | G53: 30.96 | H53: 19.88 | I53: =ROUND(H53+H53*$H$9,32) -> 24.842048 | J53: =ROUND(G53 * I53,2) -> 769.11
A54: 2.5.5 | B54: 100758 | C54: SINAPI | D54: 2025/04 | E54: PINTURA COM TINTA ALQUÍDICA DE ACABAMENTO (ESMALTE SINTÉTICO ACETINADO) APLICADA A ROLO OU PINCEL SOBRE SUPERFÍCIES METÁLICAS (EXCETO PERFIL) EXECUTADO EM OBRA (02 DEMÃOS). AF_01/2020 | F54: m² | G54: 14.4 | H54: 58.78 | I54: =ROUND(H54+H54*$H$9,32) -> 73.451488 | J54: =ROUND(G54 * I54,2) -> 1057.7
A55: 2.6 | E55: PINTURA EXTERNA | J55: =SUM(J56:J58) -> 5418.21
A56: 2.6.1 | B56: 88489 | C56: SINAPI | D56: 2025/04 | E56: PINTURA LÁTEX ACRÍLICA PREMIUM, APLICAÇÃO MANUAL EM PAREDES, DUAS DEMÃOS. AF_04/2023 | F56: m² | G56: 221.44 | H56: 14.2 | I56: =ROUND(H56+H56*$H$9,32) -> 17.74432 | J56: =ROUND(G56 * I56,2) -> 3929.3
A57: 2.6.2 | B57: 102221 | C57: SINAPI | D57: 2025/04 | E57: PINTURA TINTA DE ACABAMENTO (PIGMENTADA) ESMALTE BASE ÁGUA EM MADEIRA, 2 DEMÃOS. AF_01/2021 | F57: m² | G57: 11.34 | H57: 30.43 | I57: =ROUND(H57+H57*$H$9,32) -> 38.025328 | J57: =ROUND(G57 * I57,2) -> 431.21
A58: 2.6.3 | B58: 100758 | C58: SINAPI | D58: 2025/04 | E58: PINTURA COM TINTA ALQUÍDICA DE ACABAMENTO (ESMALTE SINTÉTICO ACETINADO) APLICADA A ROLO OU PINCEL SOBRE SUPERFÍCIES METÁLICAS (EXCETO PERFIL) EXECUTADO EM OBRA (02 DEMÃOS). AF_01/2020 | F58: m² | G58: 14.4 | H58: 58.78 | I58: =ROUND(H58+H58*$H$9,32) -> 73.451488 | J58: =ROUND(G58 * I58,2) -> 1057.7
A59: 3 | E59: REFORMA DA SALA DA PRESIDÊNCIA | J59: =J60+J63+J69 -> 11378.44
A60: 3.1 | E60: LEVANTAMENTO E DEMOLIÇÕES | J60: =SUM(J61:J62) -> 140.33
A61: 3.1.1 | B61: 97644 | C61: SINAPI | D61: 2025/04 | E61: REMOÇÃO DE PORTAS, DE FORMA MANUAL, SEM REAPROVEITAMENTO. AF_09/2023 | F61: m² | G61: 3.36 | H61: 11.88 | I61: =ROUND(H61+H61*$H$9,32) -> 14.845248 | J61: =ROUND(G61 * I61,2) -> 49.88
A62: 3.1.2 | B62: 97645 | C62: SINAPI | D62: 2025/04 | E62: REMOÇÃO DE JANELAS, DE FORMA MANUAL, SEM REAPROVEITAMENTO. AF_09/2023 | F62: m² | G62: 2.36 | H62: 30.67 | I62: =ROUND(H62+H62*$H$9,32) -> 38.325232 | J62: =ROUND(G62 * I62,2) -> 90.45
A63: 3.2 | E63: ESQUADRIAS | J63: =SUM(J64:J68) -> 10415.33
A64: 3.2.1 | B64: 90806 | C64: SINAPI | D64: 2025/04 | E64: BATENTE PARA PORTA DE MADEIRA, FIXAÇÃO COM ARGAMASSA, PADRÃO MÉDIO - FORNECIMENTO E INSTALAÇÃO. AF_12/2019 | F64: UN | G64: 2 | H64: 507.11 | I64: =ROUND(H64+H64*$H$9,32) -> 633.68466 | J64: =ROUND(G64 * I64,2) -> 1267.37
A65: 3.2.2 | B65: 23.08.320 | C65: CPOS/CDHU | D65: 2025/04 | E65: PORTA ACÚSTICA DE MADEIRA | F65: m² | G65: 3.36 | H65: 576.08 | I65: =ROUND(H65+H65*$H$9,32) -> 719.86957 | J65: =ROUND(G65 * I65,2) -> 2418.76
A66: 3.2.3 | B66: 90830 | C66: SINAPI | D66: 2025/04 | E66: FECHADURA DE EMBUTIR COM CILINDRO, EXTERNA, COMPLETA, ACABAMENTO PADRÃO MÉDIO, INCLUSO EXECUÇÃO DE FURO - FORNECIMENTO E INSTALAÇÃO. AF_12/2019 | F66: UN | G66: 2 | H66: 203.2 | I66: =ROUND(H66+H66*$H$9,32) -> 253.91872 | J66: =ROUND(G66 * I66,2) -> 507.84
A67: 3.2.4 | B67: 25.01.040 | C67: CPOS/CDHU | D67: 2025/04 | E67: CAIXILHO EM ALUMÍNIO BASCULANTE, SOB MEDIDA | F67: m² | G67: 2.36 | H67: 1252.14 | I67: =ROUND(H67+H67*$H$9,32) -> 1564.6741 | J67: =ROUND(G67 * I67,2) -> 3692.63
A68: 3.2.5 | B68: 150056 | C68: SBC | D68: 2025/04 | E68: VIDRO LAMINADO DUPLO 8mm INCOLOR COM BAGUETE DE NEOPRENE | F68: m² | G68: 2.36 | H68: 857.47 | I68: =ROUND(H68+H68*$H$9,32) -> 1071.4945 | J68: =ROUND(G68 * I68,2) -> 2528.73
A69: 3.3 | E69: PINTURA | J69: =SUM(J70:J71) -> 822.78
A70: 3.3.1 | B70: 102221 | C70: SINAPI | D70: 2025/04 | E70: PINTURA TINTA DE ACABAMENTO (PIGMENTADA) ESMALTE BASE ÁGUA EM MADEIRA, 2 DEMÃOS. AF_01/2021 | F70: m² | G70: 6.72 | H70: 30.43 | I70: =ROUND(H70+H70*$H$9,32) -> 38.025328 | J70: =ROUND(G70 * I70,2) -> 255.53
A71: 3.3.2 | B71: 88488 | C71: SINAPI | D71: 2025/04 | E71: PINTURA LÁTEX ACRÍLICA PREMIUM, APLICAÇÃO MANUAL EM TETO, DUAS DEMÃOS. AF_04/2023 | F71: m² | G71: 26.75 | H71: 16.97 | I71: =ROUND(H71+H71*$H$9,32) -> 21.205712 | J71: =ROUND(G71 * I71,2) -> 567.25
A72: 4 | E72: ADEQUAÇÃO DOS BANHEIROS DO PLENÁRIO | J72: =J73+J90+J119+J122+J128+J137+J141+J147 -> 60832.57
A73: 4.1 | E73: LEVANTAMENTO, DEMOLIÇÕES E CONSTRUÇÕES | J73: =SUM(J74:J89) -> 12227.89
A74: 4.1.1 | B74: 03.02.040 | C74: CPOS/CDHU | D74: 2025/04 | E74: DEMOLIÇÃO MANUAL DE ALVENARIA DE ELEVAÇÃO OU ELEMENTO VAZADO, INCLUINDO REVESTIMENTO | F74: m³ | G74: 3.87 | H74: 74.28 | I74: =ROUND(H74+H74*$H$9,32) -> 92.820288 | J74: =ROUND(G74 * I74,2) -> 359.21
A75: 4.1.2 | B75: 97630 | C75: SINAPI | D75: 2025/04 | E75: DEMOLIÇÃO DE ESTRUTURAS DE CONCRETO ARMADO EM GERAL, DE FORMA MECANIZADA COM ROMPEDOR ACOPLADO EM ESCAVADEIRA HIDRÁULICA, SEM REAPROVEITAMENTO. AF_09/2023 | F75: m³ | G75: 2.08 | H75: 65.8 | I75: =ROUND(H75+H75*$H$9,32) -> 82.22368 | J75: =ROUND(G75 * I75,2) -> 171.03
A76: 4.1.3 | B76: 06.02.020 | C76: CPOS/CDHU | D76: 2025/04 | E76: ESCAVAÇÃO MANUAL EM SOLO DE 1ª E 2ª CATEGORIA EM VALA OU CAVA ATÉ 1,5 M | F76: m³ | G76: 0.3 | H76: 55.71 | I76: =ROUND(H76+H76*$H$9,32) -> 69.615216 | J76: =ROUND(G76 * I76,2) -> 20.88
A77: 4.1.4 | B77: 022809 | C77: SBC | D77: 2025/04 | E77: CARGA MANUAL E DESCARGA MECANICA DE ENTULHO | F77: m³ | G77: 4.3 | H77: 24.06 | I77: =ROUND(H77+H77*$H$9,32) -> 30.065376 | J77: =ROUND(G77 * I77,2) -> 129.28
A78: 4.1.5 | B78: 95875 | C78: SINAPI | D78: 2025/04 | E78: TRANSPORTE COM CAMINHÃO BASCULANTE DE 10 M³, EM VIA URBANA PAVIMENTADA, DMT ATÉ 30 KM (UNIDADE: M3XKM). AF_07/2020 | F78: M3XKM | G78: 43 | H78: 2.61 | I78: =ROUND(H78+H78*$H$9,32) -> 3.261456 | J78: =ROUND(G78 * I78,2) -> 140.24
A79: 4.1.6 | B79: 023623 | C79: SBC | D79: 2025/04 | E79: RETIRADA D E REVESTIMENTO EM PECAS CERAMICAS | F79: m² | G79: 47.88 | H79: 18.66 | I79: =ROUND(H79+H79*$H$9,32) -> 23.317536 | J79: =ROUND(G79 * I79,2) -> 1116.44
A80: 4.1.7 | B80: 04.30.060 | C80: CPOS/CDHU | D80: 2025/04 | E80: REMOÇÃO DE TUBULAÇÃO HIDRÁULICA EM GERAL, INCLUINDO CONEXÕES, CAIXAS E RALOS | F80: m | G80: 28 | H80: 7.42 | I80: =ROUND(H80+H80*$H$9,32) -> 9.272032 | J80: =ROUND(G80 * I80,2) -> 259.62
A81: 4.1.8 | B81: 97663 | C81: SINAPI | D81: 2025/04 | E81: REMOÇÃO DE LOUÇAS, DE FORMA MANUAL, SEM REAPROVEITAMENTO. AF_09/2023 | F81: UN | G81: 4 | H81: 16.36 | I81: =ROUND(H81+H81*$H$9,32) -> 20.443456 | J81: =ROUND(G81 * I81,2) -> 81.77
A82: 4.1.9 | B82: 97644 | C82: SINAPI | D82: 2025/04 | E82: REMOÇÃO DE PORTAS, DE FORMA MANUAL, SEM REAPROVEITAMENTO. AF_09/2023 | F82: m² | G82: 6.72 | H82: 11.88 | I82: =ROUND(H82+H82*$H$9,32) -> 14.845248 | J82: =ROUND(G82 * I82,2) -> 99.76
A83: 4.1.10 | B83: 92264 | C83: SINAPI | D83: 2025/04 | E83: FABRICAÇÃO DE FÔRMA PARA PILARES E ESTRUTURAS SIMILARES, EM CHAPA DE MADEIRA COMPENSADA PLASTIFICADA, E = 18 MM. AF_09/2020 | F83: m² | G83: 11.54 | H83: 182.54 | I83: =ROUND(H83+H83*$H$9,32) -> 228.10198 | J83: =ROUND(G83 * I83,2) -> 2632.3
A84: 4.1.11 | B84: 10.01.040 | C84: CPOS/CDHU | D84: 2025/04 | E84: ARMADURA EM BARRA DE AÇO CA-50 (A OU B) FYK = 500 MPA | F84: kg | G84: 41.85 | H84: 10.38 | I84: =ROUND(H84+H84*$H$9,32) -> 12.970848 | J84: =ROUND(G84 * I84,2) -> 542.83
A85: 4.1.12 | B85: 10.01.060 | C85: CPOS/CDHU | D85: 2025/04 | E85: ARMADURA EM BARRA DE AÇO CA-60 (A OU B) FYK = 600 MPA | F85: kg | G85: 22.7 | H85: 10.96 | I85: =ROUND(H85+H85*$H$9,32) -> 13.695616 | J85: =ROUND(G85 * I85,2) -> 310.89
... A89: 4.1.16 | B89: 89478 | C89: SINAPI | D89: 2025/04 | E89: ALVENARIA DE BLOCOS DE CONCRETO ESTRUTURAL 14X19X29 CM (ESPESSURA 14 CM), FBK = 4,5 MPA, UTILIZANDO COLHER DE PEDREIRO. AF_10/2022 | F89: m² | G89: 26.4 | H89: 140.38 | I89: =ROUND(H89+H89*$H$9,32) -> 175.41885 | J89: =ROUND(G89 * I89,2) -> 4631.06
A90: 4.2 | E90: INSTALAÇÕES HIDRÁULICAS | J90: =J91+J100+J111 -> 2877.43
A91: 4.2.1 | E91: ÁGUA FRIA | J91: =SUM(J92:J99) -> 1059.66
A92: 4.2.1.1 | B92: 86886 | C92: SINAPI | D92: 2025/04 | E92: ENGATE FLEXÍVEL EM INOX, 1/2 X 30CM - FORNECIMENTO E INSTALAÇÃO. AF_01/2020 | F92: UN | G92: 2 | H92: 47.74 | I92: =ROUND(H92+H92*$H$9,32) -> 59.655904 | J92: =ROUND(G92 * I92,2) -> 119.31
A93: 4.2.1.2 | B93: 86884 | C93: SINAPI | D93: 2025/04 | E93: ENGATE FLEXÍVEL EM PLÁSTICO BRANCO, 1/2" X 30CM - FORNECIMENTO E INSTALAÇÃO. AF_01/2020 | F93: UN | G93: 2 | H93: 13.24 | I93: =ROUND(H93+H93*$H$9,32) -> 16.544704 | J93: =ROUND(G93 * I93,2) -> 33.09
A94: 4.2.1.3 | B94: 96856 | C94: SINAPI | D94: 2025/04 | E94: JOELHO 90 GRAUS, ROSCA FÊMEA TERMINAL, PARA INSTALAÇÕES EM PEX ÁGUA, DN 25MM X 1/2", CONEXÃO POR CRIMPAGEM - FORNECIMENTO E INSTALAÇÃO. AF_02/2023 | F94: UN | G94: 4 | H94: 39.04 | I94: =ROUND(H94+H94*$H$9,32) -> 48.784384 | J94: =ROUND(G94 * I94,2) -> 195.14
A95: 4.2.1.4 | B95: 94656 | C95: SINAPI | D95: 2025/04 | E95: ADAPTADOR CURTO COM BOLSA E ROSCA PARA REGISTRO, PVC, SOLDÁVEL, DN 25 MM X 3/4", INSTALADO EM RESERVAÇÃO PREDIAL DE ÁGUA - FORNECIMENTO E INSTALAÇÃO. AF_04/2024 | F95: UN | G95: 2 | H95: 3.91 | I95: =ROUND(H95+H95*$H$9,32) -> 4.885936 | J95: =ROUND(G95 * I95,2) -> 9.77
A96: 4.2.1.5 | B96: 103964 | C96: SINAPI | D96: 2025/04 | E96: BUCHA DE REDUÇÃO, LONGA, PVC, SOLDÁVEL, DN 40 X 25 MM, INSTALADO EM PRUMADA DE ÁGUA - FORNECIMENTO E INSTALAÇÃO. AF_06/2022 | F96: UN | G96: 2 | H96: 8.89 | I96: =ROUND(H96+H96*$H$9,32) -> 11.108944 | J96: =ROUND(G96 * I96,2) -> 22.22
A97: 4.2.1.6 | B97: 89410 | C97: SINAPI | D97: 2025/04 | E97: CURVA 90 GRAUS, PVC, SOLDÁVEL, DN 25MM, INSTALADO EM RAMAL DE DISTRIBUIÇÃO DE ÁGUA - FORNECIMENTO E INSTALAÇÃO. AF_06/2022 | F97: UN | G97: 8 | H97: 12.89 | I97: =ROUND(H97+H97*$H$9,32) -> 16.107344 | J97: =ROUND(G97 * I97,2) -> 128.86
A98: 4.2.1.7 | B98: 89402 | C98: SINAPI | D98: 2025/04 | E98: TUBO, PVC, SOLDÁVEL, DE 25MM, INSTALADO EM RAMAL DE DISTRIBUIÇÃO DE ÁGUA - FORNECIMENTO E INSTALAÇÃO. AF_06/2022 | F98: M | G98: 12 | H98: 14.84 | I98: =ROUND(H98+H98*$H$9,32) -> 18.544064 | J98: =ROUND(G98 * I98,2) -> 222.53
A99: 4.2.1.8 | B99: 94794 | C99: SINAPI | D99: 2025/04 | E99: REGISTRO DE GAVETA BRUTO, LATÃO, ROSCÁVEL, 1 1/2", COM ACABAMENTO E CANOPLA CROMADOS - FORNECIMENTO E INSTALAÇÃO. AF_08/2021 | F99: UN | G99: 2 | H99: 131.54 | I99: =ROUND(H99+H99*$H$9,32) -> 164.37238 | J99: =ROUND(G99 * I99,2) -> 328.74
A100: 4.2.2 | E100: ESGOTO | J100: =SUM(J101:J110) -> 1038.4
A101: 4.2.2.1 | B101: 104328 | C101: SINAPI | D101: 2025/04 | E101: CAIXA SIFONADA, COM GRELHA QUADRADA, PVC, DN 150 X 150 X 50 MM, JUNTA SOLDÁVEL, FORNECIDA E INSTALADA EM RAMAL DE DESCARGA OU EM RAMAL DE ESGOTO SANITÁRIO. AF_08/2022 | F101: UN | G101: 2 | H101: 74.81 | I101: =ROUND(H101+H101*$H$9,32) -> 93.482576 | J101: =ROUND(G101 * I101,2) -> 186.97
A102: 4.2.2.2 | B102: 86883 | C102: SINAPI | D102: 2025/04 | E102: SIFÃO DO TIPO FLEXÍVEL EM PVC 1 X 1.1/2 - FORNECIMENTO E INSTALAÇÃO. AF_01/2020 | F102: UN | G102: 2 | H102: 14.55 | I102: =ROUND(H102+H102*$H$9,32) -> 18.18168 | J102: =ROUND(G102 * I102,2) -> 36.36
A103: 4.2.2.3 | B103: 86877 | C103: SINAPI | D103: 2025/04 | E103: VÁLVULA EM METAL CROMADO 1.1/2" X 1.1/2" PARA TANQUE OU LAVATÓRIO, COM OU SEM LADRÃO - FORNECIMENTO E INSTALAÇÃO. AF_01/2020 | F103: UN | G103: 2 | H103: 64.01 | I103: =ROUND(H103+H103*$H$9,32) -> 79.986896 | J103: =ROUND(G103 * I103,2) -> 159.97
A104: 4.2.2.4 | B104: 89728 | C104: SINAPI | D104: 2025/04 | E104: CURVA CURTA 90 GRAUS, PVC, SERIE NORMAL, ESGOTO PREDIAL, DN 40 MM, JUNTA SOLDÁVEL, FORNECIDO E INSTALADO EM RAMAL DE DESCARGA OU RAMAL DE ESGOTO SANITÁRIO. AF_08/2022 | F104: UN | G104: 2 | H104: 15.17 | I104: =ROUND(H104+H104*$H$9,32) -> 18.956432 | J104: =ROUND(G104 * I104,2) -> 37.91
A105: 4.2.2.5 | B105: 89811 | C105: SINAPI | D105: 2025/04 | E105: CURVA CURTA 90 GRAUS, PVC, SERIE NORMAL, ESGOTO PREDIAL, DN 100 MM, JUNTA ELÁSTICA, FORNECIDO E INSTALADO EM PRUMADA DE ESGOTO SANITÁRIO OU VENTILAÇÃO. AF_08/2022 | F105: UN | G105: 2 | H105: 47.43 | I105: =ROUND(H105+H105*$H$9,32) -> 59.268528 | J105: =ROUND(G105 * I105,2) -> 118.54
A106: 4.2.2.6 | B106: 89724 | C106: SINAPI | D106: 2025/04 | E106: JOELHO 90 GRAUS, PVC, SERIE NORMAL, ESGOTO PREDIAL, DN 40 MM, JUNTA SOLDÁVEL, FORNECIDO E INSTALADO EM RAMAL DE DESCARGA OU RAMAL DE ESGOTO SANITÁRIO. AF_08/2022 | F106: UN | G106: 2 | H106: 12.03 | I106: =ROUND(H106+H106*$H$9,32) -> 15.032688 | J106: =ROUND(G106 * I106,2) -> 30.07
A107: 4.2.2.7 | B107: 89800 | C107: SINAPI | D107: 2025/04 | E107: TUBO PVC, SERIE NORMAL, ESGOTO PREDIAL, DN 100 MM, FORNECIDO E INSTALADO EM PRUMADA DE ESGOTO SANITÁRIO OU VENTILAÇÃO. AF_08/2022 | F107: M | G107: 2 | H107: 33.87 | I107: =ROUND(H107+H107*$H$9,32) -> 42.323952 | J107: =ROUND(G107 * I107,2) -> 84.65
A108: 4.2.2.8 | B108: 89712 | C108: SINAPI | D108: 2025/04 | E108: TUBO PVC, SERIE NORMAL, ESGOTO PREDIAL, DN 50 MM, FORNECIDO E INSTALADO EM RAMAL DE DESCARGA OU RAMAL DE ESGOTO SANITÁRIO. AF_08/2022 | F108: M | G108: 2 | H108: 32.69 | I108: =ROUND(H108+H108*$H$9,32) -> 40.849424 | J108: =ROUND(G108 * I108,2) -> 81.7
A109: 4.2.2.9 | B109: 89711 | C109: SINAPI | D109: 2025/04 | E109: TUBO PVC, SERIE NORMAL, ESGOTO PREDIAL, DN 40 MM, FORNECIDO E INSTALADO EM RAMAL DE DESCARGA OU RAMAL DE ESGOTO SANITÁRIO. AF_08/2022 | F109: M | G109: 6 | H109: 26.24 | I109: =ROUND(H109+H109*$H$9,32) -> 32.789504 | J109: =ROUND(G109 * I109,2) -> 196.74
A110: 4.2.2.10 | B110: 104352 | C110: SINAPI | D110: 2025/04 | E110: TE, PVC, SÉRIE NORMAL, ESGOTO PREDIAL, DN 100 X 50 MM, JUNTA ELÁSTICA, FORNECIDO E INSTALADO EM PRUMADA DE ESGOTO SANITÁRIO OU VENTILAÇÃO. AF_08/2022 | F110: UN | G110: 2 | H110: 42.21 | I110: =ROUND(H110+H110*$H$9,32) -> 52.745616 | J110: =ROUND(G110 * I110,2) -> 105.49
A111: 4.2.3 | E111: VENTILAÇÃO | J111: =SUM(J112:J118) -> 779.37
...

Sheet Cronograma
A7: CRONOGRAMA FÍSICO-FINANCEIRO
A8: Obra: | B8: Reforma e Adequações Pontuais na Câmara Municipal de Cosmópolis‑SP | M8: BDI adotado: | N8: 0.2496 | O8: Prestação de Serviços
A9: Local: | B9: Câmara Municipal de Cosmópolis‑SP, Rua Presidente Getúlio Vargas - 500, Cosmópolis - SP | M9: Database: | N9: 45778
A11: Item | B11: Descrição | D11: Total | E11: Peso (%) | F11: A Realizar em ( ) Dias ( X ) Meses ( ) Bimestre(s) ( ) Trimestre(s) ( ) Quadrimestre(s) ( ) Semestre(s) | P11: Total (em R$)
F12: 1 | G12: 2 | H12: 3 | I12: 4 | J12: 5 | K12: 6 | L12: 7 | M12: 8 | N12: 9 | O12: 10
A13: 1 | B13: =VLOOKUP(A13,'Orçamento Sintético'!A:J,5,FALSE) -> SERVIÇOS PRELIMINARES E CANTEIRO | D13: =VLOOKUP(A13,'Orçamento Sintético'!A:J,10,FALSE) -> 37967.45 | E13: =D13/$D$27 -> 0.052788127 | F13: 10096.43 | G13: 3096.78 | H13: 3096.78 | I13: 3096.78 | J13: 3096.78 | K13: 3096.78 | L13: 3096.78 | M13: 3096.78 | N13: 3096.78 | O13: 3096.78 | P13: =SUM(F13:O13) -> 37967.45 | Q13: =P13-D13 -> 0
F14: =IF(F13="","",1) -> 1 | G14: =IF(G13="","",1) -> 1 | H14: =IF(H13="","",1) -> 1 | I14: =IF(I13="","",1) -> 1 | J14: =IF(J13="","",1) -> 1 | K14: =IF(K13="","",1) -> 1 | L14: =IF(L13="","",1) -> 1 | M14: =IF(M13="","",1) -> 1 | ... O14: =IF(O13="","",1) -> 1
A15: 2 | B15: =VLOOKUP(A15,'Orçamento Sintético'!A:J,5,FALSE) -> IMPERMEABILIZAÇÃO DO PLENÁRIO | D15: =VLOOKUP(A15,'Orçamento Sintético'!A:J,10,FALSE) -> 84434.3 | E15: =D15/$D$27 -> 0.11739341 | J15: 21108.57 | K15: 29552 | L15: 33773.73 | P15: =SUM(F15:O15) -> 84434.3 | Q15: =P15-D15 -> 0
F16: =IF(F15="","",1) | G16: =IF(G15="","",1) | H16: =IF(H15="","",1) | I16: =IF(I15="","",1) | J16: =IF(J15="","",1) -> 1 | K16: =IF(K15="","",1) -> 1 | L16: =IF(L15="","",1) -> 1 | M16: =IF(M15="","",1) | ... O16: =IF(O15="","",1)
A17: 3 | B17: =VLOOKUP(A17,'Orçamento Sintético'!A:J,5,FALSE) -> REFORMA DA SALA DA PRESIDÊNCIA | D17: =VLOOKUP(A17,'Orçamento Sintético'!A:J,10,FALSE) -> 11378.44 | E17: =D17/$D$27 -> 0.015820039 | M17: =D17/2 -> 5689.22 | N17: =M17 -> 5689.22 | P17: =SUM(F17:O17) -> 11378.44 | Q17: =P17-D17 -> 0
F18: =IF(F17="","",1) | G18: =IF(G17="","",1) | H18: =IF(H17="","",1) | I18: =IF(I17="","",1) | J18: =IF(J17="","",1) | K18: =IF(K17="","",1) | L18: =IF(L17="","",1) | M18: =IF(M17="","",1) -> 1 | ... O18: =IF(O17="","",1)
A19: 4 | B19: =VLOOKUP(A19,'Orçamento Sintético'!A:J,5,FALSE) -> ADEQUAÇÃO DOS BANHEIROS DO PLENÁRIO | D19: =VLOOKUP(A19,'Orçamento Sintético'!A:J,10,FALSE) -> 60832.57 | E19: =D19/$D$27 -> 0.084578696 | L19: =$D$19/2 -> 30416.285 | M19: =$D$19/2 -> 30416.285 | P19: =SUM(F19:O19) -> 60832.57 | Q19: =P19-D19 -> 0
F20: =IF(F19="","",1) | G20: =IF(G19="","",1) | H20: =IF(H19="","",1) | I20: =IF(I19="","",1) | J20: =IF(J19="","",1) | K20: =IF(K19="","",1) | L20: =IF(L19="","",1) -> 1 | M20: =IF(M19="","",1) -> 1 | ... O20: =IF(O19="","",1)
A21: 5 | B21: =VLOOKUP(A21,'Orçamento Sintético'!A:J,5,FALSE) -> REFORMA DO TELHADO | D21: =VLOOKUP(A21,'Orçamento Sintético'!A:J,10,FALSE) -> 392367.07 | E21: =D21/$D$27 -> 0.54552841 | F21: 19618.35 | G21: 137328.47 | H21: 176565.18 | I21: 58855.07 | P21: =SUM(F21:O21) -> 392367.07 | Q21: =P21-D21 -> 0
F22: =IF(F21="","",1) -> 1 | G22: =IF(G21="","",1) -> 1 | H22: =IF(H21="","",1) -> 1 | I22: =IF(I21="","",1) -> 1 | J22: =IF(J21="","",1) | K22: =IF(K21="","",1) | L22: =IF(L21="","",1) | M22: =IF(M21="","",1) | ... O22: =IF(O21="","",1)
A23: 6 | B23: =VLOOKUP(A23,'Orçamento Sintético'!A:J,5,FALSE) -> ADEQUAÇÕES ELÉTRICAS DE TODA CÂMARA - FASE 1 | D23: =VLOOKUP(A23,'Orçamento Sintético'!A:J,10,FALSE) -> 107037.4 | E23: =D23/$D$27 -> 0.14881968 | G23: ='Orçamento Sintético'!J207 -> 5442.92 | M23: ='Orçamento Sintético'!J214+'Orçamento Sintético'!J228+'Orçamento Sintético'!J230+'Orçamento Sintético'!J236 -> 101594.48 | P23: =SUM(F23:O23) -> 107037.4 | Q23: =P23-D23 -> 0
F24: =IF(F23="","",1) | G24: =IF(G23="","",1) -> 1 | H24: =IF(H23="","",1) | I24: =IF(I23="","",1) | J24: =IF(J23="","",1) | K24: =IF(K23="","",1) | L24: =IF(L23="","",1) | M24: =IF(M23="","",1) -> 1 | ... O24: =IF(O23="","",1)
A25: 7 | B25: =VLOOKUP(A25,'Orçamento Sintético'!A:J,5,FALSE) -> SERVIÇOS COMPLEMENTARES | D25: =VLOOKUP(A25,'Orçamento Sintético'!A:J,10,FALSE) -> 25225 | E25: =D25/$D$27 -> 0.035071634 | O25: 25225 | P25: =SUM(F25:O25) -> 25225 | Q25: =P25-D25 -> 0
F26: =IF(F25="","",1) | G26: =IF(G25="","",1) | H26: =IF(H25="","",1) | I26: =IF(I25="","",1) | J26: =IF(J25="","",1) | K26: =IF(K25="","",1) | L26: =IF(L25="","",1) | M26: =IF(M25="","",1) | ... O26: =IF(O25="","",1) -> 1
A27: TOTAL | D27: =SUM(D13:D26) -> 719242.23 | F27: =F13+F15+F17+F19+F21+F23+F25 -> 29714.78 | G27: =G13+G15+G17+G19+G21+G23+G25 -> 145868.17 | H27: =H13+H15+H17+H19+H21+H23+H25 -> 179661.96 | I27: =I13+I15+I17+I19+I21+I23+I25 -> 61951.85 | J27: =J13+J15+J17+J19+J21+J23+J25 -> 24205.35 | K27: =K13+K15+K17+K19+K21+K23+K25 -> 32648.78 | L27: =L13+L15+L17+L19+L21+L23+L25 -> 67286.795 | M27: =M13+M15+M17+M19+M21+M23+M25 -> 140796.77 | ... P27: =P13+P15+P17+P19+P21+P23+P25 -> 719242.23
F28: =F27/$D$27 -> 0.041314009 | G28: =G27/$D$27 -> 0.20280813 | H28: =H27/$D$27 -> 0.2497934 | I28: =I27/$D$27 -> 0.086134889 | J28: =J27/$D$27 -> 0.033653961 | K28: =K27/$D$27 -> 0.045393302 | L28: =L27/$D$27 -> 0.093552342 | M28: =M27/$D$27 -> 0.19575709 | ... O28: =O27/$D$27 -> 0.039377248
A29: TOTAL ACUMULADO | F29: =F27 -> 29714.78 | G29: =F29+G27 -> 175582.95 | H29: =G29+H27 -> 355244.91 | I29: =H29+I27 -> 417196.76 | J29: =I29+J27 -> 441402.11 | K29: =J29+K27 -> 474050.89 | L29: =K29+L27 -> 541337.69 | M29: =L29+M27 -> 682134.45 | N29: =M29+N27 -> 690920.45 | O29: =N29+O27 -> 719242.23
F30: =F29/$D$27 -> 0.041314009 | G30: =G29/$D$27 -> 0.24412214 | H30: =H29/$D$27 -> 0.49391553 | I30: =I29/$D$27 -> 0.58005042 | J30: =J29/$D$27 -> 0.61370438 | K30: =K29/$D$27 -> 0.65909769 | L30: =L29/$D$27 -> 0.75265003 | M30: =M29/$D$27 -> 0.94840712 | ... O30: =O29/$D$27 -> 1
A35: ___________________________________
A36: Mateus Bento Batista Arantes
A37: CREA-SP 5069857280
A38: ART 2620251025114
