Workbook
Name JR_PAGE_ANCHOR_0_1: CALCULO!#REF!
Name JR_PAGE_ANCHOR_0_1: ORCAMENTO!#REF!

Sheet BDI
B2: COMPOSIÇÃO DO BDI
B4: PROPONENTE: PREFEITURA MUNICIPAL DE JEQUITAÍ- MG
B5: OBRA: | C5: 8ª ETAPA DA CONSTRUÇÃO DO PRÉDIO LEGISLATIVO DA CÂMARA MUNICIPAL DE JEQUITAÍ | H5: DATA: 12/08/2026
B6: LOCAL: PRAÇA JOSÉ BONIFÁCIO DE ANDRADA | H6: MUNICÍPIO: JEQUITAÍ
B26: RESPONSÁVEL TÉCNICO: | F26: RESPONSÁVEL LEGAL:
B27: _____________________________________ GERALDO DIAS PEREIRA JÚNIOR ENGENHEIRO CIVIL CREA-MG 248.562/D | F27: _____________________________________ CÂMARA MUNICIPAL DE JEQUITAÍ CNPJ nº 00.086.457/0001-60

Sheet CALCULO
A1: MEMÓRIA DE CÁLCULO
A2: OBRA: 8ª ETAPA DA CONSTRUÇÃO DO PRÉDIO LEGISLATIVO DA CÂMARA MUNICIPAL DE JEQUITAÍ | G2: LOCAL: PRAÇA JOSÉ BONIFÁCIO DE ANDRADA | J2: DATA: 12/08/2026
A3: REGIÃO/MÊS DE REFERÊNCIA: SINAPI 06/2026 - SICOR 04/2026 NORTE - SUDECAP 04/2026 - ORSE 04/2026 - GOINFRA CIVIL 04/2026 - SICRO 04/2026 | I3: PRAZO DE EXECUÇÃO: 90 DIAS
A4: ITEM | B4: FONTE | C4: CÓDIGO | D4: DESCRIÇÃO | I4: UND | J4: QUANTIDADE
A5: 1 | D5: SERVIÇOS PRELIMINARES
A6: 1.1 | B6: SUDECAP | C6: 83.17.31 | D6: PLACA 3,00 X 2,00M LONA, IMPRESSÃO DIGITAL, ESTRUTURA METALON 20 X 20CM | I6: UN | J6: =I8 -> 0.25
A7: NA OBRA | E7: NO ITEM | I7: RELAÇÃO
A8: LARGURA | B8: COMPRIMENTO | C8: ÁREA | E8: LARGURA | F8: COMPRIMENTO | G8: ÁREA | I8: =C9/G9 -> 0.25
A9: 1 | B9: 1.5 | C9: =ROUND(A9*B9,2) -> 1.5 | E9: 2 | F9: 3 | G9: =ROUND(E9*F9,2) -> 6
A11: 1.2 | B11: SINAPI | C11: 98458 | D11: TAPUME COM COMPENSADO DE MADEIRA. AF_03/2024 | I11: M2 | J11: =C14 -> 7.48
A12: FECHAMENTO NA CIRCULAÇÃO ENTRE A ÁREA JÁ FINALIZADA E A ÁREA QUE SERÁ EXECUTADA NESTA ETAPA
A13: LARGURA | B13: ALTURA | C13: ÁREA
A14: 2.2 | B14: 3.4 | C14: =ROUND(A14*B14,2) -> 7.48
A16: 1.3 | B16: SICOR | C16: ED-48435 | D16: DEMOLIÇÃO MANUAL DE ALVENARIA DE TIJOLO CERÂMICO OU BLOCO DE CONCRETO, INCLUSIVE AFASTAMENTO E EMPILHAMENTO, EXCLUSIVE TRANSPORTE E RETIRADA DO MATERIAL DEMOLIDO | I16: M3 | J16: =E19 -> 0.25
A17: DEMOLIÇÃO DE ALVENARIA PARA ABERTURA DE VÃO DE PORTA NO GABINETE DO PRESIDENTE
A18: LARGURA | B18: ALTURA | C18: ÁREA | D18: ESPESSURA | E18: VOLUME
A19: 0.8 | B19: 2.1 | C19: =ROUND(A19*B19,2) -> 1.68 | D19: 0.15 | E19: =ROUND(C19*D19,2) -> 0.25
A21: 2 | D21: ÁREA INTERNA
A22: 2.1 | D22: PISO
A23: 2.1.1 | B23: SINAPI | C23: 97083 | D23: COMPACTAÇÃO MECÂNICA DE SOLO PARA EXECUÇÃO DE RADIER, PISO DE CONCRETO OU LAJE SOBRE SOLO, COM COMPACTADOR DE SOLOS A PERCUSSÃO. AF_09/2021 | I23: M2 | J23: 104.43
A24: 2.1.2 | B24: SINAPI | C24: 95241 | D24: LASTRO DE CONCRETO MAGRO, APLICADO EM PISOS, LAJES SOBRE SOLO OU RADIERS, ESPESSURA DE 5 CM. AF_01/2024 | I24: M2 | J24: =J23 -> 104.43
A25: 2.1.3 | B25: SICOR | C25: ED-50566 | D25: CONTRAPISO DESEMPENADO COM ARGAMASSA, TRAÇO 1:3 (CIMENTO E AREIA), ESP. 20MM, INCLUSIVE ARGAMASSA COM PREPARO MECANIZADO | I25: m2 | J25: =J24 -> 104.43
A26: 2.1.4 | B26: SINAPI | C26: 87263 | D26: REVESTIMENTO CERÂMICO PARA PISO COM PLACAS TIPO PORCELANATO DE DIMENSÕES 60X60 CM APLICADA EM AMBIENTES DE ÁREA MAIOR QUE 10 M². AF_02/2023_PE | I26: M2 | J26: =J25 -> 104.43
A27: 2.1.5 | B27: SICOR | C27: ED-50771 | D27: RODAPÉ COM REVESTIMENTO EM CERÂMICA ESMALTADA COMERCIAL, ALTURA 10CM, PEI IV, ASSENTAMENTO COM ARGAMASSA INDUSTRIALIZADA, INCLUSIVE REJUNTAMENTO | I27: m | J27: 126.41
A28: 2.1.6 | B28: SICOR | C28: ED-51002 | D28: SOLEIRA DE GRANITO, COR CINZA ANDORINHA, ESP. 2CM, ACABAMENTO POLIDO, ASSENTAMENTO COM ARGAMASSA INDUSTRIALIZADA, INCLUSIVE REJUNTAMENTO | I28: m2 | J28: =E30 -> 0.16
A29: LOCAL | C29: COMPRIMENTO | D29: LARGURA | E29: ÁREA
A30: GABINETE PRESIDENTE | C30: 0.82 | D30: 0.2 | E30: =ROUND(C30*D30,2) -> 0.16
A32: 2.2 | D32: REVESTIMENTOS DE PAREDES
A33: 2.2.1 | B33: SICOR | C33: ED-50727 | D33: CHAPISCO COM ARGAMASSA, TRAÇO 1:3 (CIMENTO E AREIA), ESP. 5MM, APLICADO EM ALVENARIA/ESTRUTURA DE CONCRETO COM COLHER, INCLUSIVE ARGAMASSA COM PREPARO MECANIZADO | I33: m2 | J33: =F45 -> 344.19
A34: LOCAL | C34: PERÍMETRO | D34: ALTURA | E34: DESCONTO | F34: ÁREA
A35: GABINETE PRESIDENTE | C35: 15.57 | D35: 3.4 | E35: =ROUND(0.8*2.1,2) -> 1.68 | F35: =ROUND((C35*D35)-E35,2) -> 51.26
A36: GABINETE 01 | C36: 8.42 | D36: 3.4 | E36: =ROUND(0.8*2.1,2) -> 1.68 | F36: =ROUND((C36*D36)-E36,2) -> 26.95
A37: GABINETE 02 | C37: 8.47 | D37: 3.4 | E37: =ROUND(0.7*2.1,2) -> 1.47 | F37: =ROUND((C37*D37)-E37,2) -> 27.33
A38: GABINETE 03 | C38: 8.46 | D38: 3.4 | E38: =ROUND(0.8*2.1,2) -> 1.68 | F38: =ROUND((C38*D38)-E38,2) -> 27.08
A39: GABINETE 04 | C39: 8.34 | D39: 3.4 | E39: =ROUND(0.8*2.1,2) -> 1.68 | F39: =ROUND((C39*D39)-E39,2) -> 26.68
A40: GABINETE 05 | C40: 8.46 | D40: 3.4 | E40: =ROUND(0.8*2.1,2) -> 1.68 | F40: =ROUND((C40*D40)-E40,2) -> 27.08
A41: GABINETE 06 | C41: 8.47 | D41: 3.4 | E41: =ROUND(0.8*2.1,2) -> 1.68 | F41: =ROUND((C41*D41)-E41,2) -> 27.12
A42: GABINETE 07 | C42: 8.62 | D42: 3.4 | E42: =ROUND(0.8*2.1,2) -> 1.68 | F42: =ROUND((C42*D42)-E42,2) -> 27.63
A43: GABINETE 08 | C43: 9.27 | D43: 3.4 | E43: =ROUND(0.8*2.1,2) -> 1.68 | F43: =ROUND((C43*D43)-E43,2) -> 29.84
A44: CIRCULAÇÃO | C44: 25.92 | D44: 3.4 | E44: =ROUND(8*0.8*2.1+0.7*2.1,2) -> 14.91 | F44: =ROUND((C44*D44)-E44,2) -> 73.22
...

Sheet ORCAMENTO
A1: PLANILHA ORÇAMENTÁRIA DE CUSTOS - DESONERADA
A2: OBRA: 8ª ETAPA DA CONSTRUÇÃO DO PRÉDIO LEGISLATIVO DA CÂMARA MUNICIPAL DE JEQUITAÍ | G2: BDI: | H2: 0.3054 | I2: DATA: 12/08/2026
A3: PRAZO DE EXECUÇÃO: 90 DIAS | D3: LOCAL: PRAÇA JOSÉ BONIFÁCIO DE ANDRADA | F3: FORMA DE EXECUÇÃO:
A4: REGIÃO/MÊS DE REFERÊNCIA: SINAPI 06/2026 - SICOR 04/2026 NORTE - SUDECAP 04/2026 - ORSE 04/2026 - GOINFRA CIVIL 04/2026 - SICRO 04/2026 | F4: ( ) ADMINISTRAÇÃO DIRETA | H4: ( X )ADMINISTRAÇÃO INDIRETA
A5: ITEM | B5: FONTE | C5: CÓDIGO | D5: DESCRIÇÃO | E5: UND | F5: QUANTIDADE | G5: PREÇO UNIT. | H5: PREÇO COM BDI | I5: PREÇO TOTAL R$
A6: 1 | D6: SERVIÇOS PRELIMINARES | I6: =SUM(I7:I9) -> 1474.28
A7: 1.1 | B7: SUDECAP | C7: 83.17.31 | D7: PLACA 3,00 X 2,00M LONA, IMPRESSÃO DIGITAL, ESTRUTURA METALON 20 X 20CM | E7: UN | F7: =VLOOKUP(A7,CALCULO!$A$5:$J$270,10,FALSE) -> 0.25 | G7: 1500 | H7: =ROUND(G7*(1+$H$2),2) -> 1958.1 | I7: =ROUND(F7*H7,2) -> 489.53
A8: 1.2 | B8: SINAPI | C8: 98458 | D8: TAPUME COM COMPENSADO DE MADEIRA. AF_03/2024 | E8: M2 | F8: =VLOOKUP(A8,CALCULO!$A$5:$J$270,10,FALSE) -> 7.48 | G8: 96.75 | H8: =ROUND(G8*(1+$H$2),2) -> 126.3 | I8: =ROUND(F8*H8,2) -> 944.72
A9: 1.3 | B9: SICOR | C9: ED-48435 | D9: DEMOLIÇÃO MANUAL DE ALVENARIA DE TIJOLO CERÂMICO OU BLOCO DE CONCRETO, INCLUSIVE AFASTAMENTO E EMPILHAMENTO, EXCLUSIVE TRANSPORTE E RETIRADA DO MATERIAL DEMOLIDO | E9: M3 | F9: =VLOOKUP(A9,CALCULO!$A$5:$J$270,10,FALSE) -> 0.25 | G9: 122.65 | H9: =ROUND(G9*(1+$H$2),2) -> 160.11 | I9: =ROUND(F9*H9,2) -> 40.03
A10: 2 | D10: ÁREA INTERNA | I10: =I11+I18+I21+I36+I40+I43 -> 118887.55
A11: 2.1 | D11: PISO | I11: =SUM(I12:I17) -> 29937.27
A12: 2.1.1 | B12: SINAPI | C12: 97083 | D12: COMPACTAÇÃO MECÂNICA DE SOLO PARA EXECUÇÃO DE RADIER, PISO DE CONCRETO OU LAJE SOBRE SOLO, COM COMPACTADOR DE SOLOS A PERCUSSÃO. AF_09/2021 | E12: M2 | F12: =VLOOKUP(A12,CALCULO!$A$5:$J$270,10,FALSE) -> 104.43 | G12: 3.68 | H12: =ROUND(G12*(1+$H$2),2) -> 4.8 | I12: =ROUND(F12*H12,2) -> 501.26
A13: 2.1.2 | B13: SINAPI | C13: 95241 | D13: LASTRO DE CONCRETO MAGRO, APLICADO EM PISOS, LAJES SOBRE SOLO OU RADIERS, ESPESSURA DE 5 CM. AF_01/2024 | E13: M2 | F13: =VLOOKUP(A13,CALCULO!$A$5:$J$270,10,FALSE) -> 104.43 | G13: 43.12 | H13: =ROUND(G13*(1+$H$2),2) -> 56.29 | I13: =ROUND(F13*H13,2) -> 5878.36
A14: 2.1.3 | B14: SICOR | C14: ED-50566 | D14: CONTRAPISO DESEMPENADO COM ARGAMASSA, TRAÇO 1:3 (CIMENTO E AREIA), ESP. 20MM, INCLUSIVE ARGAMASSA COM PREPARO MECANIZADO | E14: m2 | F14: =VLOOKUP(A14,CALCULO!$A$5:$J$270,10,FALSE) -> 104.43 | G14: 41.63 | H14: =ROUND(G14*(1+$H$2),2) -> 54.34 | I14: =ROUND(F14*H14,2) -> 5674.73
A15: 2.1.4 | B15: SINAPI | C15: 87263 | D15: REVESTIMENTO CERÂMICO PARA PISO COM PLACAS TIPO PORCELANATO DE DIMENSÕES 60X60 CM APLICADA EM AMBIENTES DE ÁREA MAIOR QUE 10 M². AF_02/2023_PE | E15: M2 | F15: =VLOOKUP(A15,CALCULO!$A$5:$J$270,10,FALSE) -> 104.43 | G15: 114.69 | H15: =ROUND(G15*(1+$H$2),2) -> 149.72 | I15: =ROUND(F15*H15,2) -> 15635.26
A16: 2.1.5 | B16: SICOR | C16: ED-50771 | D16: RODAPÉ COM REVESTIMENTO EM CERÂMICA ESMALTADA COMERCIAL, ALTURA 10CM, PEI IV, ASSENTAMENTO COM ARGAMASSA INDUSTRIALIZADA, INCLUSIVE REJUNTAMENTO | E16: m | F16: =VLOOKUP(A16,CALCULO!$A$5:$J$270,10,FALSE) -> 126.41 | G16: 13.19 | H16: =ROUND(G16*(1+$H$2),2) -> 17.22 | I16: =ROUND(F16*H16,2) -> 2176.78
A17: 2.1.6 | B17: SICOR | C17: ED-51002 | D17: SOLEIRA DE GRANITO, COR CINZA ANDORINHA, ESP. 2CM, ACABAMENTO POLIDO, ASSENTAMENTO COM ARGAMASSA INDUSTRIALIZADA, INCLUSIVE REJUNTAMENTO | E17: m2 | F17: =VLOOKUP(A17,CALCULO!$A$5:$J$270,10,FALSE) -> 0.16 | G17: 339.38 | H17: =ROUND(G17*(1+$H$2),2) -> 443.03 | I17: =ROUND(F17*H17,2) -> 70.88
A18: 2.2 | D18: REVESTIMENTOS DE PAREDES | I18: =SUM(I19:I20) -> 21532.52
A19: 2.2.1 | B19: SICOR | C19: ED-50727 | D19: CHAPISCO COM ARGAMASSA, TRAÇO 1:3 (CIMENTO E AREIA), ESP. 5MM, APLICADO EM ALVENARIA/ESTRUTURA DE CONCRETO COM COLHER, INCLUSIVE ARGAMASSA COM PREPARO MECANIZADO | E19: m2 | F19: =VLOOKUP(A19,CALCULO!$A$5:$J$270,10,FALSE) -> 344.19 | G19: 10.7 | H19: =ROUND(G19*(1+$H$2),2) -> 13.97 | I19: =ROUND(F19*H19,2) -> 4808.33
A20: 2.2.2 | B20: SICOR | C20: ED-50759 | D20: REBOCO COM ARGAMASSA, TRAÇO 1:7 (CIMENTO E AREIA), ESP. 20MM, APLICAÇÃO MANUAL, INCLUSIVE ARGAMASSA COM PREPARO MECANIZADO, EXCLUSIVE CHAPISCO | E20: m2 | F20: =VLOOKUP(A20,CALCULO!$A$5:$J$270,10,FALSE) -> 344.19 | G20: 37.22 | H20: =ROUND(G20*(1+$H$2),2) -> 48.59 | I20: =ROUND(F20*H20,2) -> 16724.19
A21: 2.3 | D21: INSTALAÇÕES ELÉTRICAS | I21: =SUM(I22:I35) -> 14228.55
A22: 2.3.1 | B22: SICOR | C22: ED-48946 | D22: CABO ISOLADO DE COBRE FLEXÍVEL, CLASSE 5, ISOLAMENTO TIPO LSHF/ATOX, NÃO HALOGENADO E ANTICHAMA, DIÂMETRO DA SEÇÃO DE 1,5MM2, TEMPERATURA DE TRABALHO 70°C, TENSÃO NOMINAL DE OPERAÇÃO 450/750V | E22: m | F22: =VLOOKUP(A22,CALCULO!$A$5:$J$270,10,FALSE) -> 182.57 | G22: 3.19 | H22: =ROUND(G22*(1+$H$2),2) -> 4.16 | I22: =ROUND(F22*H22,2) -> 759.49
A23: 2.3.2 | B23: SICOR | C23: ED-48951 | D23: CABO ISOLADO DE COBRE FLEXÍVEL, CLASSE 5, ISOLAMENTO TIPO LSHF/ATOX, NÃO HALOGENADO E ANTICHAMA, DIÂMETRO DA SEÇÃO DE 2,5MM2, TEMPERATURA DE TRABALHO 70°C, TENSÃO NOMINAL DE OPERAÇÃO 450/750V | E23: m | F23: =VLOOKUP(A23,CALCULO!$A$5:$J$270,10,FALSE) -> 838.31 | G23: 4.56 | H23: =ROUND(G23*(1+$H$2),2) -> 5.95 | I23: =ROUND(F23*H23,2) -> 4987.94
A24: 2.3.3 | B24: SINAPI | C24: 93653 | D24: DISJUNTOR MONOPOLAR TIPO DIN, CORRENTE NOMINAL DE 10A - FORNECIMENTO E INSTALAÇÃO. AF_07/2025 | E24: UN | F24: =VLOOKUP(A24,CALCULO!$A$5:$J$270,10,FALSE) -> 3 | G24: 13.8 | H24: =ROUND(G24*(1+$H$2),2) -> 18.01 | I24: =ROUND(F24*H24,2) -> 54.03
A25: 2.3.4 | B25: SINAPI | C25: 93654 | D25: DISJUNTOR MONOPOLAR TIPO DIN, CORRENTE NOMINAL DE 16A - FORNECIMENTO E INSTALAÇÃO. AF_07/2025 | E25: UN | F25: =VLOOKUP(A25,CALCULO!$A$5:$J$270,10,FALSE) -> 2 | G25: 13.8 | H25: =ROUND(G25*(1+$H$2),2) -> 18.01 | I25: =ROUND(F25*H25,2) -> 36.02
A26: 2.3.5 | B26: SICOR | C26: ED-34473 | D26: DISJUNTOR BIPOLAR TIPO DIN, CORRENTE NOMINAL DE 10A, FORNECIMENTO E INSTALAÇÃO, INCLUSIVE TERMINAL ILHÓS | E26: un | F26: =VLOOKUP(A26,CALCULO!$A$5:$J$270,10,FALSE) -> 9 | G26: 52.12 | H26: =ROUND(G26*(1+$H$2),2) -> 68.04 | I26: =ROUND(F26*H26,2) -> 612.36
A27: 2.3.6 | B27: SUDECAP | C27: 11.06.02 | D27: ELETRODUTO CORRUGADO DE PVC NORMAL, DN 25MM (3/4"), INSTALADO EM FORRO REF 91834 | E27: M | F27: =VLOOKUP(A27,CALCULO!$A$5:$J$270,10,FALSE) -> 242.43 | G27: 8.48 | H27: =ROUND(G27*(1+$H$2),2) -> 11.07 | I27: =ROUND(F27*H27,2) -> 2683.7
A28: 2.3.7 | B28: SICOR | C28: ED-49190 | D28: CAIXA DE LIGAÇÃO/PASSAGEM EM PVC RÍGIDO PARA ELETRODUTO, OCTOGONAL COM FUNDO FIXO REFORÇADO, DIMENSÃO 4"X4", EMBUTIDA EM LAJE, INCLUSIVE FIXAÇÃO | E28: un | F28: =VLOOKUP(A28,CALCULO!$A$5:$J$270,10,FALSE) -> 17 | G28: 12.92 | H28: =ROUND(G28*(1+$H$2),2) -> 16.87 | I28: =ROUND(F28*H28,2) -> 286.79
A29: 2.3.8 | B29: GOINFRA CIVIL | C29: 071649 | D29: LUMINÁRIA PLAFON LED QUADRADA DE EMBUTIR, 30W, 40X40 CM (MEDIDAS APROXIMADAS) - INCLUSO CORTE NO FORRO | E29: un | F29: =VLOOKUP(A29,CALCULO!$A$5:$J$270,10,FALSE) -> 10 | G29: 122.74 | H29: =ROUND(G29*(1+$H$2),2) -> 160.22 | I29: =ROUND(F29*H29,2) -> 1602.2
A30: 2.3.9 | B30: ORSE | C30: S13672 | D30: Luminária plafon de embutir em LED 29.5x29.5 cm, 24w 4000K bivolt, Avant ou similar | E30: un | F30: =VLOOKUP(A30,CALCULO!$A$5:$J$270,10,FALSE) -> 7 | G30: 92.4 | H30: =ROUND(G30*(1+$H$2),2) -> 120.62 | I30: =ROUND(F30*H30,2) -> 844.34
A31: 2.3.10 | B31: SICOR | C31: ED-5614 | D31: SUPORTE PARA PLACA 4"X2" PARA TRÊS (3) MÓDULOS, INCLUSIVE PARAFUSOS PARA FIXAÇÃO, FORNECIMENTO E INSTALAÇÃO, EXCLUSIVE PLACA E MÓDULO | E31: un | F31: =VLOOKUP(A31,CALCULO!$A$5:$J$270,10,FALSE) -> 61 | G31: 8.16 | H31: =ROUND(G31*(1+$H$2),2) -> 10.65 | I31: =ROUND(F31*H31,2) -> 649.65
A32: 2.3.11 | B32: SICOR | C32: ED-5620 | D32: PLACA 4"X2" PARA UM (1) MÓDULO, INCLUSIVE FORNECIMENTO E INSTALAÇÃO, EXCLUSIVE SUPORTE E MÓDULO | E32: un | F32: =VLOOKUP(A32,CALCULO!$A$5:$J$270,10,FALSE) -> 52 | G32: 6.87 | H32: =ROUND(G32*(1+$H$2),2) -> 8.97 | I32: =ROUND(F32*H32,2) -> 466.44
A33: 2.3.12 | B33: SICOR | C33: ED-5615 | D33: MÓDULO INTERRUPTOR SIMPLES, CORRENTE 10A, TENSÃO 250V, (10A-250V), INCLUSIVE FORNECIMENTO E INSTALAÇÃO, EXCLUSIVE PLACA E SUPORTE | E33: un | F33: =VLOOKUP(A33,CALCULO!$A$5:$J$270,10,FALSE) -> 10 | G33: 16.33 | H33: =ROUND(G33*(1+$H$2),2) -> 21.32 | I33: =ROUND(F33*H33,2) -> 213.2
... A35: 2.3.14 | B35: SUDECAP | C35: 11.30.50 | D35: PLACA TERMOPLÁSTICA 2X4" COM FURO CENTRAL PIAL/EQUIVALENTE | E35: UN | F35: =VLOOKUP(A35,CALCULO!$A$5:$J$270,10,FALSE) -> 9 | G35: 5.94 | H35: =ROUND(G35*(1+$H$2),2) -> 7.75 | I35: =ROUND(F35*H35,2) -> 69.75
A36: 2.4 | D36: ESQUADRIAS | I36: =SUM(I37:I39) -> 18178.78
A37: 2.4.1 | B37: SINAPI | C37: 90842 | D37: KIT DE PORTA DE MADEIRA PARA PINTURA, SEMI-OCA (LEVE OU MÉDIA), PADRÃO MÉDIO, 70X210CM, ESPESSURA DE 3,5CM, ITENS INCLUSOS: DOBRADIÇAS, MONTAGEM E INSTALAÇÃO DO BATENTE, FECHADURA COM EXECUÇÃO DO FURO - FORNECIMENTO E INSTALAÇÃO. AF_10/2025 | E37: UN | F37: =VLOOKUP(A37,CALCULO!$A$5:$J$270,10,FALSE) -> 1 | G37: 1164.49 | H37: =ROUND(G37*(1+$H$2),2) -> 1520.13 | I37: =ROUND(F37*H37,2) -> 1520.13
A38: 2.4.2 | B38: SINAPI | C38: 90845 | D38: KIT DE PORTA DE MADEIRA PARA PINTURA, MACIÇA (PESADA OU SUPERPESADA), PADRÃO MÉDIO, 80X210CM, ESPESSURA DE 3,5CM, ITENS INCLUSOS: DOBRADIÇAS, MONTAGEM E INSTALAÇÃO DO BATENTE, FECHADURA COM EXECUÇÃO DO FURO - FORNECIMENTO E INSTALAÇÃO. AF_10/2025 | E38: UN | F38: =VLOOKUP(A38,CALCULO!$A$5:$J$270,10,FALSE) -> 8 | G38: 1507.25 | H38: =ROUND(G38*(1+$H$2),2) -> 1967.56 | I38: =ROUND(F38*H38,2) -> 15740.48
A39: 2.4.3 | B39: SICOR | C39: ED-23034 | D39: PORTA METÁLICA, TIPO DE ABRIR, COM UMA (1) FOLHA, EM CHAPA GALVANIZADA LAMBRIL, MODELO QUADRADO, INCLUSIVE PINTURA ANTICORROSIVA A BASE DE ÓXIDO DE FERRO (ZARCÃO), UMA (1) DEMÃO, FORNECIMENTO E ASSENTAMENTO, EXCLUSIVE FECHADURA E DOBRADIÇA | E39: m2 | F39: =VLOOKUP(A39,CALCULO!$A$5:$J$270,10,FALSE) -> 1.68 | G39: 418.67 | H39: =ROUND(G39*(1+$H$2),2) -> 546.53 | I39: =ROUND(F39*H39,2) -> 918.17
A40: 2.5 | D40: FORRO | I40: =SUM(I41:I42) -> 9363.94
A41: 2.5.1 | B41: SICOR | C41: ED-49686 | D41: FORRO EM CHAPA DE GESSO ACARTONADA, ESP. 12,5MM, COM FIXAÇÃO DO TIPO ESTRUTURADA EM PERFIL METÁLICO, EXCLUSIVE PERFIL TABICA, SANCA E MOLDURA, INCLUSIVE ACESSÓRIOS E FIXAÇÃO | E41: m2 | F41: =VLOOKUP(A41,CALCULO!$A$5:$J$270,10,FALSE) -> 104.43 | G41: 62.17 | H41: =ROUND(G41*(1+$H$2),2) -> 81.16 | I41: =ROUND(F41*H41,2) -> 8475.54
...

Sheet CRONOGRAMA
A1: CRONOGRAMA FÍSICO-FINANCEIRO
A2: OBRA: 8ª ETAPA DA CONSTRUÇÃO DO PRÉDIO LEGISLATIVO DA CÂMARA MUNICIPAL DE JEQUITAÍ | H2: DATA: | I2: 46246
A3: LOCAL: PRAÇA JOSÉ BONIFÁCIO DE ANDRADA | H3: VALOR DA OBRA: | I3: =ORCAMENTO!I109 -> 252411.33
A4: ITEM | B4: DESCRIÇÃO | C4: VALOR | D4: MÊS 01 | F4: MÊS 02 | H4: MÊS 03
A5: =ORCAMENTO!A6 -> 1 | B5: =ORCAMENTO!D6 -> SERVIÇOS PRELIMINARES | C5: =ORCAMENTO!I6 -> 1474.28 | D5: =ROUND(E5*$C5,2) -> 1474.28 | E5: 1 | F5: =ROUND(G5*$C5,2) -> 0 | H5: =ROUND(I5*$C5,2) -> 0 | J5: =E5+G5+I5 -> 1
A6: =ORCAMENTO!A10 -> 2 | B6: =ORCAMENTO!D10 -> ÁREA INTERNA | C6: =ORCAMENTO!I10 -> 118887.55
A7: =ORCAMENTO!A11 -> 2.1 | B7: =ORCAMENTO!D11 -> PISO | C7: =ORCAMENTO!I11 -> 29937.27 | D7: =ROUND(E7*$C7,2) -> 14968.64 | E7: 0.5 | F7: =ROUND(G7*$C7,2) -> 14968.64 | G7: 0.5 | H7: =ROUND(I7*$C7,2) -> 0 | J7: =E7+G7+I7 -> 1
A8: =ORCAMENTO!A18 -> 2.2 | B8: =ORCAMENTO!D18 -> REVESTIMENTOS DE PAREDES | C8: =ORCAMENTO!I18 -> 21532.52 | D8: =ROUND(E8*$C8,2) -> 15072.76 | E8: 0.7 | F8: =ROUND(G8*$C8,2) -> 6459.76 | G8: 0.3 | H8: =ROUND(I8*$C8,2) -> 0 | J8: =E8+G8+I8 -> 1
A9: =ORCAMENTO!A21 -> 2.3 | B9: =ORCAMENTO!D21 -> INSTALAÇÕES ELÉTRICAS | C9: =ORCAMENTO!I21 -> 14228.55 | D9: =ROUND(E9*$C9,2) -> 4268.57 | E9: 0.3 | F9: =ROUND(G9*$C9,2) -> 7114.28 | G9: 0.5 | H9: =ROUND(I9*$C9,2) -> 2845.71 | I9: 0.2 | J9: =E9+G9+I9 -> 1
A10: =ORCAMENTO!A36 -> 2.4 | B10: =ORCAMENTO!D36 -> ESQUADRIAS | C10: =ORCAMENTO!I36 -> 18178.78 | D10: =ROUND(E10*$C10,2) -> 0 | F10: =ROUND(G10*$C10,2) -> 5453.63 | G10: 0.3 | H10: =ROUND(I10*$C10,2) -> 12725.15 | I10: 0.7 | J10: =E10+G10+I10 -> 1
A11: =ORCAMENTO!A40 -> 2.5 | B11: =ORCAMENTO!D40 -> FORRO | C11: =ORCAMENTO!I40 -> 9363.94 | D11: =ROUND(E11*$C11,2) -> 0 | F11: =ROUND(G11*$C11,2) -> 9363.94 | G11: 1 | H11: =ROUND(I11*$C11,2) -> 0 | J11: =E11+G11+I11 -> 1
A12: =ORCAMENTO!A43 -> 2.6 | B12: =ORCAMENTO!D43 -> PINTURA | C12: =ORCAMENTO!I43 -> 25646.49 | D12: =ROUND(E12*$C12,2) -> 0 | F12: =ROUND(G12*$C12,2) -> 0 | H12: =ROUND(I12*$C12,2) -> 25646.49 | I12: 1 | J12: =E12+G12+I12 -> 1
A13: =ORCAMENTO!A53 -> 3 | B13: =ORCAMENTO!D53 -> ÁREA EXTERNA | C13: =ORCAMENTO!I53 -> 132049.5
A14: =ORCAMENTO!A54 -> 3.1 | B14: =ORCAMENTO!D54 -> DEMOLIÇÕES E REMOÇÕES | C14: =ORCAMENTO!I54 -> 2865.39 | D14: =ROUND(E14*$C14,2) -> 2865.39 | E14: 1 | F14: =ROUND(G14*$C14,2) -> 0 | H14: =ROUND(I14*$C14,2) -> 0 | J14: =E14+G14+I14 -> 1
A15: =ORCAMENTO!A60 -> 3.2 | B15: =ORCAMENTO!D60 -> INFRAESTRUTURA | C15: =ORCAMENTO!I60 -> 39186.95 | D15: =ROUND(E15*$C15,2) -> 39186.95 | E15: 1 | F15: =ROUND(G15*$C15,2) -> 0 | H15: =ROUND(I15*$C15,2) -> 0 | J15: =E15+G15+I15 -> 1
A16: =ORCAMENTO!A71 -> 3.3 | B16: =ORCAMENTO!D71 -> SUPRAESTRUTURA | C16: =ORCAMENTO!I71 -> 23405.34 | D16: =ROUND(E16*$C16,2) -> 0 | F16: =ROUND(G16*$C16,2) -> 14043.2 | G16: 0.6 | H16: =ROUND(I16*$C16,2) -> 9362.14 | I16: 0.4 | J16: =E16+G16+I16 -> 1
A17: =ORCAMENTO!A76 -> 3.4 | B17: =ORCAMENTO!D76 -> ALVENARIA E REVESTIMENTOS | C17: =ORCAMENTO!I76 -> 19147.86 | D17: =ROUND(E17*$C17,2) -> 0 | F17: =ROUND(G17*$C17,2) -> 15318.29 | G17: 0.8 | H17: =ROUND(I17*$C17,2) -> 3829.57 | I17: 0.2 | J17: =E17+G17+I17 -> 1
A18: =ORCAMENTO!A80 -> 3.5 | B18: =ORCAMENTO!D80 -> INSTALAÇÕES ELÉTRICAS | C18: =ORCAMENTO!I80 -> 740.71 | D18: =ROUND(E18*$C18,2) -> 0 | F18: =ROUND(G18*$C18,2) -> 0 | H18: =ROUND(I18*$C18,2) -> 740.71 | I18: 1 | J18: =E18+G18+I18 -> 1
A19: =ORCAMENTO!A85 -> 3.6 | B19: =ORCAMENTO!D85 -> COBERTURA E DRENAGEM | C19: =ORCAMENTO!I85 -> 14717.35 | D19: =ROUND(E19*$C19,2) -> 0 | F19: =ROUND(G19*$C19,2) -> 0 | H19: =ROUND(I19*$C19,2) -> 14717.35 | I19: 1 | J19: =E19+G19+I19 -> 1
A20: =ORCAMENTO!A95 -> 3.7 | B20: =ORCAMENTO!D95 -> PISO | C20: =ORCAMENTO!I95 -> 13012.15 | D20: =ROUND(E20*$C20,2) -> 2602.43 | E20: 0.2 | F20: =ROUND(G20*$C20,2) -> 10409.72 | G20: 0.8 | H20: =ROUND(I20*$C20,2) -> 0 | J20: =E20+G20+I20 -> 1
A21: =ORCAMENTO!A100 -> 3.8 | B21: =ORCAMENTO!D100 -> ESQUADRIAS | C21: =ORCAMENTO!I100 -> 5679.91 | D21: =ROUND(E21*$C21,2) -> 0 | F21: =ROUND(G21*$C21,2) -> 0 | H21: =ROUND(I21*$C21,2) -> 5679.91 | I21: 1 | J21: =E21+G21+I21 -> 1
A22: =ORCAMENTO!A103 -> 3.9 | B22: =ORCAMENTO!D103 -> PINTURA | C22: =ORCAMENTO!I103 -> 13293.84 | D22: =ROUND(E22*$C22,2) -> 0 | F22: =ROUND(G22*$C22,2) -> 0 | H22: =ROUND(I22*$C22,2) -> 13293.84 | I22: 1 | J22: =E22+G22+I22 -> 1
A23: VALOR / PORCENTAGEM MENSAL | D23: =SUM(D5:D22) -> 80439.02 | E23: =D23/$I$3 -> 0.31868229 | F23: =SUM(F5,F7:F12,F14:F22) -> 83131.46 | G23: =F23/$I$3 -> 0.32934916 | H23: =SUM(H5,H7:H12,H14:H22) -> 88840.87 | I23: =H23/$I$3 -> 0.35196863
A24: VALOR / PORCENTAGEM ACUMULADA | D24: =D23 -> 80439.02 | E24: =D24/$I$3 -> 0.31868229 | F24: =D24+F23 -> 163570.48 | G24: =F24/$I$3 -> 0.64803145 | H24: =F24+H23 -> 252411.35 | I24: =H24/$I$3 -> 1.0000001
A25: RESPONSÁVEL TÉCNICO: | E25: RESPONSÁVEL LEGAL:
A26: _____________________________________ GERALDO DIAS PEREIRA JÚNIOR ENGENHEIRO CIVIL CREA-MG 248.562/D | E26: _____________________________________ CÂMARA MUNICIPAL DE JEQUITAÍ CNPJ nº 00.086.457/0001-60
