Workbook

Sheet Vlr m3 Jun Jul 26
B2: MINISTÉRIO DA DEFESA
B3: EXÉRCITO BRASILEIRO
B4: COMANDO DA 7ª REGIÃO MILITAR
B5: (Gov das Armas Prov de PE/1821)
B6: REGIÃO MATIAS DE ALBUQUERQUE
C7: ESCRITÓRIO AVANÇADO DA OPERAÇÃO CARRO-PIPA DA 7ª REGIÃO MILITAR
B9: VALOR DO METRO CÚBICO PAGO NOS MUNICÍPIOS DE PERNAMBUCO E BAHIA SOB COORDENAÇÃO DO E Avç OP C PIPA/7ª RM
B11: DADOS DE APOIO - GCDA Junho E Julho/2026
B13: MUNICÍPIO | C13: GCDA JUNHO 2026
C14: POP ATD | D14: DISTR M3 AGO | E14: TOTAL MUN AGO R$ | F14: R$ M3 AGO | G14: PIP AGO | H14: MÉD PIP AGO
B15: AFRANIO | C15: 8712 | D15: 5392.2 | E15: 518461.52 | F15: =SUM(E15/D15) -> 96.150276 | G15: 26 | H15: =SUM(E15/G15) -> 19940.828
B16: BELÉM DO SÂO FRANCISCO | C16: 2502 | D16: 1566.7 | E16: 65264.47 | F16: =SUM(E16/D16) -> 41.657286 | G16: 5 | H16: =SUM(E16/G16) -> 13052.894
B17: BODOCO | C17: 10720 | D17: 4927.5 | E17: 210960.49 | F17: =SUM(E17/D17) -> 42.812885 | G17: 16 | H17: =SUM(E17/G17) -> 13185.031
B18: CABROBO | C18: 2075 | D18: 1271.1 | E18: 45092.5 | F18: =SUM(E18/D18) -> 35.475179 | G18: 2 | H18: =SUM(E18/G18) -> 22546.25
B19: DORMENTES | C19: 10804 | D19: 5948.3 | E19: 624608.72 | F19: =SUM(E19/D19) -> 105.00626 | G19: 30 | H19: =SUM(E19/G19) -> 20820.291
B20: LAGOA GRANDE | C20: 6627 | D20: 3880.6 | E20: 209518.99 | F20: =SUM(E20/D20) -> 53.991391 | G20: 12 | H20: =SUM(E20/G20) -> 17459.916
B21: OROCO | C21: 660 | D21: 361 | E21: 7912.91 | F21: =SUM(E21/D21) -> 21.919418 | G21: 1 | H21: =SUM(E21/G21) -> 7912.91
B22: OURICURI | C22: 26622 | D22: 13969.9 | E22: 930315.15 | F22: =SUM(E22/D22) -> 66.59426 | G22: 48 | H22: =SUM(E22/G22) -> 19381.566
B23: PARNAMIRIM | C23: 7871 | D23: 4691 | E23: 548889.11 | F23: =SUM(E23/D23) -> 117.00898 | G23: 30 | H23: =SUM(E23/G23) -> 18296.304
B24: PETROLINA | C24: 14928 | D24: 7718.7 | E24: 371190.74 | F24: =SUM(E24/D24) -> 48.0898 | G24: 20 | H24: =SUM(E24/G24) -> 18559.537
B25: SANTA CRUZ | C25: 10055 | D25: 5459.02 | E25: 624267.55 | F25: =SUM(E25/D25) -> 114.35524 | G25: 32 | H25: =SUM(E25/G25) -> 19508.361
B26: SANTA FILOMENA | C26: 12143 | D26: 6753.7 | E26: 920748.31 | F26: =SUM(E26/D26) -> 136.33243 | G26: 47 | H26: =SUM(E26/G26) -> 19590.39
... B35: SENTO-SE | C35: 2980 | D35: 1626.8 | E35: 156012.49 | F35: =SUM(E35/D35) -> 95.901457 | G35: 9 | H35: =SUM(E35/G35) -> 17334.721
B36: TOTAL | C36: =SUM(C15:C35) -> 250298 | D36: =SUM(D15:D35) -> 134811.62 | E36: =SUM(E15:E35) -> 10012921 | G36: =SUM(G15:G35) -> 532 | H36: =AVERAGE(H15:H35) -> 17555.062
B39: MUNICÍPIO | C39: GCDA JULHO 2026 | I39: MÉDIA M3 NOVO IM | J39: MÉDIA M3 NOVO IM + 10%
C40: POP ATD | D40: DISTR M3 SET | E40: TOTAL MUN SET R$ | F40: R$ M3 SET | G40: PIP SET | H40: MÉD PIP SET
B41: AFRANIO | C41: 8211 | D41: 5386.5 | E41: 523613.48 | F41: =SUM(E41/D41) -> 97.20848 | G41: 26 | H41: =SUM(E41/G41) -> 20138.98 | I41: =SUM(F15+F41)/(2) -> 96.679378 | J41: =SUM(I41)+(I41*0.1) -> 106.34732
B42: BELÉM DO SÂO FRANCISCO | C42: 2846 | D42: 1411.8 | E42: 57944.96 | F42: =SUM(E42/D42) -> 41.043321 | G42: 5 | H42: =SUM(E42/G42) -> 11588.992 | I42: =SUM(F16+F42)/(2) -> 41.350303 | J42: =SUM(I42)+(I42*0.1) -> 45.485334
B43: BODOCO | C43: 10521 | D43: 5315.2 | E43: 223900.69 | F43: =SUM(E43/D43) -> 42.124603 | G43: 16 | H43: =SUM(E43/G43) -> 13993.793 | I43: =SUM(F17+F43)/(2) -> 42.468744 | J43: =SUM(I43)+(I43*0.1) -> 46.715618
B44: CABROBO | C44: 1754 | D44: 1256 | E44: 45331.06 | F44: =SUM(E44/D44) -> 36.091608 | G44: 2 | H44: =SUM(E44/G44) -> 22665.53 | I44: =SUM(F18+F44)/(2) -> 35.783394 | J44: =SUM(I44)+(I44*0.1) -> 39.361733
B45: DORMENTES | C45: 10554 | D45: 5945.3 | E45: 625812.39 | F45: =SUM(E45/D45) -> 105.2617 | G45: 30 | H45: =SUM(E45/G45) -> 20860.413 | I45: =SUM(F19+F45)/(2) -> 105.13398 | J45: =SUM(I45)+(I45*0.1) -> 115.64738
B46: LAGOA GRANDE | C46: 6424 | D46: 3784.7 | E46: 202705.74 | F46: =SUM(E46/D46) -> 53.559262 | G46: 12 | H46: =SUM(E46/G46) -> 16892.145 | I46: =SUM(F20+F46)/(2) -> 53.775326 | J46: =SUM(I46)+(I46*0.1) -> 59.152859
B47: OROCO | C47: 658 | D47: 389.5 | E47: 8933.4 | F47: =SUM(E47/D47) -> 22.935558 | G47: 1 | H47: =SUM(E47/G47) -> 8933.4 | I47: =SUM(F21+F47)/(2) -> 22.427488 | J47: =SUM(I47)+(I47*0.1) -> 24.670237
B48: OURICURI | C48: 27357 | D48: 14326.4 | E48: 949811.8 | F48: =SUM(E48/D48) -> 66.298009 | G48: 48 | H48: =SUM(E48/G48) -> 19787.746 | I48: =SUM(F22+F48)/(2) -> 66.446135 | J48: =SUM(I48)+(I48*0.1) -> 73.090748
B49: PARNAMIRIM | C49: 7492 | D49: 4705 | E49: 539666.26 | F49: =SUM(E49/D49) -> 114.70059 | G49: 30 | H49: =SUM(E49/G49) -> 17988.875 | I49: =SUM(F23+F49)/(2) -> 115.85478 | J49: =SUM(I49)+(I49*0.1) -> 127.44026
B50: PETROLINA | C50: 15626 | D50: 8019.7 | E50: 382296.41 | F50: =SUM(E50/D50) -> 47.669665 | G50: 21 | H50: =SUM(E50/G50) -> 18204.591 | I50: =SUM(F24+F50)/(2) -> 47.879732 | J50: =SUM(I50)+(I50*0.1) -> 52.667706
B51: SANTA CRUZ | C51: 9905 | D51: 5362.21 | E51: 610946.15 | F51: =SUM(E51/D51) -> 113.93551 | G51: 32 | H51: =SUM(E51/G51) -> 19092.067 | I51: =SUM(F25+F51)/(2) -> 114.14538 | J51: =SUM(I51)+(I51*0.1) -> 125.55992
B52: SANTA FILOMENA | C52: 11211 | D52: 6745.1 | E52: 918640.04 | F52: =SUM(E52/D52) -> 136.19369 | G52: 47 | H52: =SUM(E52/G52) -> 19545.533 | I52: =SUM(F26+F52)/(2) -> 136.26306 | J52: =SUM(I52)+(I52*0.1) -> 149.88936
... B61: SENTO-SE | C61: 2968 | D61: 1666 | E61: 166979.85 | F61: =SUM(E61/D61) -> 100.228 | G61: 9 | H61: =SUM(E61/G61) -> 18553.317 | I61: =SUM(F35+F61)/(2) -> 98.064729 | J61: =SUM(I61)+(I61*0.1) -> 107.8712
B62: TOTAL | C62: =SUM(C41:C61) -> 244673 | D62: =SUM(D41:D61) -> 134470.11 | E62: =SUM(E41:E61) -> 10004872 | G62: =SUM(G41:G61) -> 533 | H62: =SUM(H41:H61)/21 -> 17585.637 | I62: =(E36+E62)/(D36+D62) -> 74.337734 | J62: =SUM(I62)+(I62*0.1) -> 81.771507

Sheet RELATORIO PLANILHA COTER
A1: OPERAÇÃO CARRO-PIPA DADOS GERAIS REFERENTES AO MÊS DE JUNHO DE 2026
A2: ESTADO: PERNAMBUCO
A3: OM | B3: ORDEM | C3: STATUS | D3: UF | E3: IBGE | F3: MUNICÍPIO | G3: PIPEIROS | H3: POPULAÇÃO | I3: PA | J3: CARRADAS | K3: AGUA DISTR.(m3) | L3: MÉDIA DE ÁGUA POR PA(m3) | M3: VALOR PAGO CARRADAS(R$) ¹ | N3: CUSTO(m3) AGUAXPOP | O3: CUSTO MEDIO CARRADAS(R$) | P3: GASTO MEDIO POR PA(R$) | Q3: GASTO MEDIO PIPEIRO(R$) | R3: GASTO MEDIO OUTRAS ND(R$) ² | S3: GASTO TOTAL MUN/MÊS(R$)
A4: E AVÇ 7ª RM | B4: 1 | C4: Em Execução | D4: PE | E4: 2600203 | F4: AFRANIO | G4: 26 | H4: 8712 | I4: 392 | J4: 555 | K4: 5392.2 | L4: 13.76 | M4: 518461.52 | N4: 96.15 | O4: 934.16 | P4: 1322.61 | Q4: 19940.83 | R4: 18677.07 | S4: 537138.59
A5: E AVÇ 7ª RM | B5: 2 | C5: Em Execução | D5: PE | E5: 2601607 | F5: BELÉM DO SÂO FRANCISCO | G5: 5 | H5: 2502 | I5: 94 | J5: 135 | K5: 1566.7 | L5: 16.67 | M5: 65264.47 | N5: 41.66 | O5: 483.44 | P5: 694.3 | Q5: 13052.89 | R5: 18677.07 | S5: 83941.54
A6: E AVÇ 7ª RM | B6: 3 | C6: Em Execução | D6: PE | E6: 2602001 | F6: BODOCO | G6: 16 | H6: 10720 | I6: 182 | J6: 504 | K6: 4927.5 | L6: 27.07 | M6: 210960.49 | N6: 42.81 | O6: 418.57 | P6: 1159.12 | Q6: 13185.03 | R6: 18677.07 | S6: 229637.56
A7: E AVÇ 7ª RM | B7: 4 | C7: Em Execução | D7: PE | E7: 2603009 | F7: CABROBO | G7: 2 | H7: 2075 | I7: 53 | J7: 89 | K7: 1271.1 | L7: 23.98 | M7: 45092.5 | N7: 35.48 | O7: 506.66 | P7: 850.8 | Q7: 22546.25 | R7: 18677.07 | S7: 63769.58
A8: E AVÇ 7ª RM | B8: 5 | C8: Em Execução | D8: PE | E8: 2605152 | F8: DORMENTES | G8: 30 | H8: 10804 | I8: 343 | J8: 499 | K8: 5948.3 | L8: 17.34 | M8: 624608.72 | N8: 105.01 | O8: 1251.72 | P8: 1821.02 | Q8: 20820.29 | R8: 18677.07 | S8: 643285.79
A9: E AVÇ 7ª RM | B9: 6 | C9: Em Execução | D9: PE | E9: 2608750 | F9: LAGOA GRANDE | G9: 12 | H9: 6627 | I9: 174 | J9: 422 | K9: 3880.6 | L9: 22.3 | M9: 209518.99 | N9: 53.99 | O9: 496.49 | P9: 1204.13 | Q9: 17459.92 | R9: 18677.07 | S9: 228196.07
A10: E AVÇ 7ª RM | B10: 7 | C10: Em Execução | D10: PE | E10: 2609808 | F10: OROCO | G10: 1 | H10: 660 | I10: 17 | J10: 38 | K10: 361 | L10: 21.24 | M10: 7912.91 | N10: 21.92 | O10: 208.23 | P10: 465.47 | Q10: 7912.91 | R10: 18677.07 | S10: 26589.98
A11: E AVÇ 7ª RM | B11: 8 | C11: Em Execução | D11: PE | E11: 2609907 | F11: OURICURI | G11: 48 | H11: 26622 | I11: 404 | J11: 1350 | K11: 13969.9 | L11: 34.58 | M11: 930315.15 | N11: 66.59 | O11: 689.12 | P11: 2302.76 | Q11: 19381.57 | R11: 18677.07 | S11: 948992.22
A12: E AVÇ 7ª RM | B12: 9 | C12: Em Execução | D12: PE | E12: 2610400 | F12: PARNAMIRIM | G12: 30 | H12: 7871 | I12: 323 | J12: 448 | K12: 4691 | L12: 14.52 | M12: 548889.11 | N12: 117.01 | O12: 1225.2 | P12: 1699.35 | Q12: 18296.3 | R12: 18677.07 | S12: 567566.18
A13: E AVÇ 7ª RM | B13: 10 | C13: Em Execução | D13: PE | E13: 2611101 | F13: PETROLINA | G13: 20 | H13: 14928 | I13: 380 | J13: 759 | K13: 7718.7 | L13: 20.31 | M13: 371190.74 | N13: 48.09 | O13: 489.05 | P13: 976.82 | Q13: 18559.54 | R13: 18677.07 | S13: 389867.81
A14: E AVÇ 7ª RM | B14: 11 | C14: Em Execução | D14: PE | E14: 2612455 | F14: SANTA CRUZ | G14: 32 | H14: 10055 | I14: 159 | J14: 549 | K14: 5459.02 | L14: 34.33 | M14: 624267.55 | N14: 114.36 | O14: 1137.1 | P14: 3926.21 | Q14: 19508.36 | R14: 18677.07 | S14: 642944.62
A15: E AVÇ 7ª RM | B15: 12 | C15: Em Execução | D15: PE | E15: 2612554 | F15: SANTA FILOMENA | G15: 47 | H15: 12143 | I15: 333 | J15: 655 | K15: 6753.7 | L15: 20.28 | M15: 920748.31 | N15: 136.33 | O15: 1405.72 | P15: 2765.01 | Q15: 19590.39 | R15: 18677.07 | S15: 939425.38
... A24: E AVÇ 7ª RM | B24: 7 | C24: Em Execução | D24: BA | E24: 2930204 | F24: SENTO-SE | G24: 9 | H24: 2980 | I24: 74 | J24: 153 | K24: 1626.8 | L24: 21.98 | M24: 156012.49 | N24: 95.9 | O24: 1019.69 | P24: 2108.28 | Q24: 17334.72 | R24: 18677.07 | S24: 174689.57
A25: SOMATÓRIO/MÉDIA | G25: =SUM(G3:G24) -> 532 | H25: =SUM(H3:H24) -> 250298 | I25: =SUM(I3:I24) -> 5706 | J25: =SUM(J3:J24) -> 12542 | K25: =SUM(K3:K24) -> 134811.62 | L25: =AVERAGE(L4:L24) -> 23.646667 | M25: =SUM(M4:M24) -> 10012921 | N25: =AVERAGE(N4:N24) -> 71.901429 | O25: =AVERAGE(O4:O24) -> 774.62714 | P25: =AVERAGE(P4:P24) -> 1695.999 | Q25: =AVERAGE(Q4:Q24) -> 17555.062 | R25: =AVERAGE(R4:R24) -> 18677.07 | S25: =SUM(S4:S24) -> 10405140
A26: * - Total que contém pipeiros que atenderam mais de um município.
A27: DADOS CONSOLIDADOS
A28: SOMA | F28: TOTAL MUNICÍPIOS | G28: TOTAL PIPEIROS | H28: TOTAL POPULAÇÃO | I28: TOTAL PA | J28: TOTAL CARRADAS | K28: AGUA DISTR.(m3) | L28: MÉDIA DE ÁGUA POR PA(m3) | M28: VALOR PAGO CARRADAS(R$) ¹ | N28: CUSTO(m3) AGUAXPOP | O28: CUSTO MEDIO CARRADAS(R$) | P28: GASTO MEDIO POR PA(R$) | Q28: GASTO MEDIO PIPEIRO(R$) | R28: GASTO MEDIO OUTRAS ND(R$) ² | S28: GASTO TOTAL MUN/MÊS(R$)
F29: 21 | G29: 532 | H29: 250298 | I29: 5706 | J29: 12542 | K29: 134811.62 | L29: 23.63 | M29: 10012921 | N29: 74.27 | O29: 798.35 | P29: 1754.81 | Q29: 18821.28 | R29: 18677.07 | S29: 10405140
A30: 1 - Valores contemplam as ND 9036, 9039 (Pessoa Jurídica) e ND 9147 (Pessoa Física). 2 - Valores contemplam as ND 9015, 9030, 9033, 9039 (Despesas Indiretas), 9139 e 9040.
A33: OPERAÇÃO CARRO-PIPA DADOS GERAIS REFERENTES AO MÊS DE JULHO DE 2026
A34: ESTADO: PERNAMBUCO
A35: OM | B35: ORDEM | C35: STATUS | D35: UF | E35: IBGE | F35: MUNICÍPIO | G35: PIPEIROS | H35: POPULAÇÃO | I35: PA | J35: CARRADAS | K35: AGUA DISTR.(m3) | L35: MÉDIA DE ÁGUA POR PA(m3) | M35: VALOR PAGO CARRADAS(R$) ¹ | N35: CUSTO(m3) AGUAXPOP | O35: CUSTO MEDIO CARRADAS(R$) | P35: GASTO MEDIO POR PA(R$) | Q35: GASTO MEDIO PIPEIRO(R$) | R35: GASTO MEDIO OUTRAS ND(R$) ² | S35: GASTO TOTAL MUN/MÊS(R$)
A36: E AVÇ 7ª RM | B36: 1 | C36: Em Execução | D36: PE | E36: 2600203 | F36: AFRANIO | G36: 26 | H36: 8211 | I36: 397 | J36: 548 | K36: 5386.5 | L36: 13.57 | M36: 523613.48 | N36: 97.21 | O36: 955.5 | P36: 1318.93 | Q36: 20138.98 | R36: 11328.81 | S36: 534942.29
A37: E AVÇ 7ª RM | B37: 2 | C37: Em Execução | D37: PE | E37: 2601607 | F37: BELÉM DO SÂO FRANCISCO | G37: 5 | H37: 2846 | I37: 107 | J37: 135 | K37: 1411.8 | L37: 13.19 | M37: 57944.96 | N37: 41.04 | O37: 429.22 | P37: 541.54 | Q37: 11588.99 | R37: 11328.81 | S37: 69273.77
A38: E AVÇ 7ª RM | B38: 3 | C38: Em Execução | D38: PE | E38: 2602001 | F38: BODOCO | G38: 16 | H38: 10521 | I38: 186 | J38: 541 | K38: 5315.2 | L38: 28.58 | M38: 223900.69 | N38: 42.12 | O38: 413.86 | P38: 1203.77 | Q38: 13993.79 | R38: 11328.81 | S38: 235229.5
A39: E AVÇ 7ª RM | B39: 4 | C39: Em Execução | D39: PE | E39: 2603009 | F39: CABROBO | G39: 2 | H39: 1754 | I39: 58 | J39: 88 | K39: 1256 | L39: 21.66 | M39: 45331.06 | N39: 36.09 | O39: 515.13 | P39: 781.57 | Q39: 22665.53 | R39: 11328.81 | S39: 56659.87
A40: E AVÇ 7ª RM | B40: 5 | C40: Em Execução | D40: PE | E40: 2605152 | F40: DORMENTES | G40: 30 | H40: 10554 | I40: 334 | J40: 503 | K40: 5945.3 | L40: 17.8 | M40: 625812.39 | N40: 105.26 | O40: 1244.16 | P40: 1873.69 | Q40: 20860.41 | R40: 11328.81 | S40: 637141.2
A41: E AVÇ 7ª RM | B41: 6 | C41: Em Execução | D41: PE | E41: 2608750 | F41: LAGOA GRANDE | G41: 12 | H41: 6424 | I41: 174 | J41: 412 | K41: 3784.7 | L41: 21.75 | M41: 202705.74 | N41: 53.56 | O41: 492 | P41: 1164.98 | Q41: 16892.14 | R41: 11328.81 | S41: 214034.55
A42: E AVÇ 7ª RM | B42: 7 | C42: Em Execução | D42: PE | E42: 2609808 | F42: OROCO | G42: 1 | H42: 658 | I42: 17 | J42: 41 | K42: 389.5 | L42: 22.91 | M42: 8933.4 | N42: 22.94 | O42: 217.89 | P42: 525.49 | Q42: 8933.4 | R42: 11328.81 | S42: 20262.21
A43: E AVÇ 7ª RM | B43: 8 | C43: Em Execução | D43: PE | E43: 2609907 | F43: OURICURI | G43: 48 | H43: 27357 | I43: 414 | J43: 1402 | K43: 14326.4 | L43: 34.6 | M43: 949811.8 | N43: 66.3 | O43: 677.47 | P43: 2294.23 | Q43: 19787.75 | R43: 11328.81 | S43: 961140.61
A44: E AVÇ 7ª RM | B44: 9 | C44: Em Execução | D44: PE | E44: 2610400 | F44: PARNAMIRIM | G44: 30 | H44: 7492 | I44: 332 | J44: 450 | K44: 4705 | L44: 14.17 | M44: 539666.26 | N44: 114.7 | O44: 1199.26 | P44: 1625.5 | Q44: 17988.88 | R44: 11328.81 | S44: 550995.07
A45: E AVÇ 7ª RM | B45: 10 | C45: Em Execução | D45: PE | E45: 2611101 | F45: PETROLINA | G45: 21 | H45: 15626 | I45: 412 | J45: 802 | K45: 8019.7 | L45: 19.47 | M45: 382296.41 | N45: 47.67 | O45: 476.68 | P45: 927.9 | Q45: 18204.59 | R45: 11328.81 | S45: 393625.22
A46: E AVÇ 7ª RM | B46: 11 | C46: Em Execução | D46: PE | E46: 2612455 | F46: SANTA CRUZ | G46: 32 | H46: 9905 | I46: 157 | J46: 541 | K46: 5362.21 | L46: 34.15 | M46: 610946.15 | N46: 113.94 | O46: 1129.29 | P46: 3891.38 | Q46: 19092.07 | R46: 11328.81 | S46: 622274.96
A47: E AVÇ 7ª RM | B47: 12 | C47: Em Execução | D47: PE | E47: 2612554 | F47: SANTA FILOMENA | G47: 47 | H47: 11211 | I47: 329 | J47: 658 | K47: 6745.1 | L47: 20.5 | M47: 918640.04 | N47: 136.19 | O47: 1396.11 | P47: 2792.22 | Q47: 19545.53 | R47: 11328.81 | S47: 929968.85
... A56: E AVÇ 7ª RM | B56: 7 | C56: Em Execução | D56: BA | E56: 2930204 | F56: SENTO-SE | G56: 9 | H56: 2968 | I56: 78 | J56: 158 | K56: 1666 | L56: 21.36 | M56: 166979.85 | N56: 100.23 | O56: 1056.83 | P56: 2140.77 | Q56: 18553.32 | R56: 11328.81 | S56: 178308.66
A57: SOMATÓRIO/MÉDIA | G57: =SUM(G36:G56) -> 533 | H57: =SUM(H36:H56) -> 244673 | I57: =SUM(I36:I56) -> 5816 | J57: =SUM(J35:J56) -> 12584 | K57: =SUM(K36:K56) -> 134470.11 | L57: =AVERAGE(L36:L56) -> 23.115238 | M57: =SUM(M36:M56) -> 10004872 | N57: =AVERAGE(N36:N56) -> 72.154286 | O57: =AVERAGE(O36:O56) -> 772.89 | P57: =AVERAGE(P36:P56) -> 1670.6329 | Q57: =AVERAGE(Q36:Q56) -> 17585.637 | R57: =AVERAGE(R36:R56) -> 11328.81 | S57: =SUM(S36:S56) -> 10242777
A58: * - Total que contém pipeiros que atenderam mais de um município.
A59: DADOS CONSOLIDADOS
A60: SOMA | F60: TOTAL MUNICÍPIOS | G60: TOTAL PIPEIROS | H60: TOTAL POPULAÇÃO | I60: TOTAL PA | J60: TOTAL CARRADAS | K60: AGUA DISTR.(m3) | L60: MÉDIA DE ÁGUA POR PA(m3) | M60: VALOR PAGO CARRADAS(R$) ¹ | N60: CUSTO(m3) AGUAXPOP | O60: CUSTO MEDIO CARRADAS(R$) | P60: GASTO MEDIO POR PA(R$) | Q60: GASTO MEDIO PIPEIRO(R$) | R60: GASTO MEDIO OUTRAS ND(R$) ² | S60: GASTO TOTAL MUN/MÊS(R$)
F61: 21 | G61: 533 | H61: 244673 | I61: 5816 | J61: 12584 | K61: 134470.11 | L61: =L57 -> 23.115238 | M61: 10004872 | N61: =N57 -> 72.154286 | O61: =O57 -> 772.89 | P61: =P57 -> 1670.6329 | Q61: =Q57 -> 17585.637 | R61: 11328.81 | S61: 10242777
A62: 1 - Valores contemplam as ND 9036, 9039 (Pessoa Jurídica) e ND 9147 (Pessoa Física). 2 - Valores contemplam as ND 9015, 9030, 9033, 9039 (Despesas Indiretas), 9139 e 9040.
I66: =(I25+I57) -> 11522
I67: =I66/2 -> 5761

Sheet ESTIMATIVA DAS QUANTIDADES
A1: Ordem | B1: Município/UF | C1: UF | D1: População Aproximada | E1: Qtd Lotes | F1: PA | G1: Qtd m³/mês | H1: Qtd m³/6 meses | I1: Qtd m³/24 meses
A3: 1 | B3: AFRANIO | C3: PE | D3: =('Vlr m3 Jun Jul 26'!C15+'Vlr m3 Jun Jul 26'!C41)/2 -> 8461.5 | E3: =('Vlr m3 Jun Jul 26'!G15+'Vlr m3 Jun Jul 26'!G41)/2 -> 26 | F3: =('RELATORIO PLANILHA COTER'!I4+'RELATORIO PLANILHA COTER'!I36)/2 -> 394.5 | G3: =('Vlr m3 Jun Jul 26'!D15+'Vlr m3 Jun Jul 26'!D41)/2 -> 5389.35 | H3: =G3*6 -> 32336.1 | I3: =H3*4 -> 129344.4
A4: 2 | B4: BELÉM DO SÂO FRANCISCO | C4: PE | D4: =('Vlr m3 Jun Jul 26'!C16+'Vlr m3 Jun Jul 26'!C42)/2 -> 2674 | E4: =('Vlr m3 Jun Jul 26'!G16+'Vlr m3 Jun Jul 26'!G42)/2 -> 5 | F4: =('RELATORIO PLANILHA COTER'!I5+'RELATORIO PLANILHA COTER'!I37)/2 -> 100.5 | G4: =('Vlr m3 Jun Jul 26'!D16+'Vlr m3 Jun Jul 26'!D42)/2 -> 1489.25 | H4: =G4*6 -> 8935.5 | I4: =H4*4 -> 35742
A5: 3 | B5: BODOCO | C5: PE | D5: =('Vlr m3 Jun Jul 26'!C17+'Vlr m3 Jun Jul 26'!C43)/2 -> 10620.5 | E5: =('Vlr m3 Jun Jul 26'!G17+'Vlr m3 Jun Jul 26'!G43)/2 -> 16 | F5: =('RELATORIO PLANILHA COTER'!I6+'RELATORIO PLANILHA COTER'!I38)/2 -> 184 | G5: =('Vlr m3 Jun Jul 26'!D17+'Vlr m3 Jun Jul 26'!D43)/2 -> 5121.35 | H5: =G5*6 -> 30728.1 | I5: =H5*4 -> 122912.4
A6: 4 | B6: CABROBO | C6: PE | D6: =('Vlr m3 Jun Jul 26'!C18+'Vlr m3 Jun Jul 26'!C44)/2 -> 1914.5 | E6: =('Vlr m3 Jun Jul 26'!G18+'Vlr m3 Jun Jul 26'!G44)/2 -> 2 | F6: =('RELATORIO PLANILHA COTER'!I7+'RELATORIO PLANILHA COTER'!I39)/2 -> 55.5 | G6: =('Vlr m3 Jun Jul 26'!D18+'Vlr m3 Jun Jul 26'!D44)/2 -> 1263.55 | H6: =G6*6 -> 7581.3 | I6: =H6*4 -> 30325.2
A7: 5 | B7: DORMENTES | C7: PE | D7: =('Vlr m3 Jun Jul 26'!C19+'Vlr m3 Jun Jul 26'!C45)/2 -> 10679 | E7: =('Vlr m3 Jun Jul 26'!G19+'Vlr m3 Jun Jul 26'!G45)/2 -> 30 | F7: =('RELATORIO PLANILHA COTER'!I8+'RELATORIO PLANILHA COTER'!I40)/2 -> 338.5 | G7: =('Vlr m3 Jun Jul 26'!D19+'Vlr m3 Jun Jul 26'!D45)/2 -> 5946.8 | H7: =G7*6 -> 35680.8 | I7: =H7*4 -> 142723.2
A8: 6 | B8: LAGOA GRANDE | C8: PE | D8: =('Vlr m3 Jun Jul 26'!C20+'Vlr m3 Jun Jul 26'!C46)/2 -> 6525.5 | E8: =('Vlr m3 Jun Jul 26'!G20+'Vlr m3 Jun Jul 26'!G46)/2 -> 12 | F8: =('RELATORIO PLANILHA COTER'!I9+'RELATORIO PLANILHA COTER'!I41)/2 -> 174 | G8: =('Vlr m3 Jun Jul 26'!D20+'Vlr m3 Jun Jul 26'!D46)/2 -> 3832.65 | H8: =G8*6 -> 22995.9 | I8: =H8*4 -> 91983.6
A9: 7 | B9: OROCO | C9: PE | D9: =('Vlr m3 Jun Jul 26'!C21+'Vlr m3 Jun Jul 26'!C47)/2 -> 659 | E9: =('Vlr m3 Jun Jul 26'!G21+'Vlr m3 Jun Jul 26'!G47)/2 -> 1 | F9: =('RELATORIO PLANILHA COTER'!I10+'RELATORIO PLANILHA COTER'!I42)/2 -> 17 | G9: =('Vlr m3 Jun Jul 26'!D21+'Vlr m3 Jun Jul 26'!D47)/2 -> 375.25 | H9: =G9*6 -> 2251.5 | I9: =H9*4 -> 9006
A10: 8 | B10: OURICURI | C10: PE | D10: =('Vlr m3 Jun Jul 26'!C22+'Vlr m3 Jun Jul 26'!C48)/2 -> 26989.5 | E10: =('Vlr m3 Jun Jul 26'!G22+'Vlr m3 Jun Jul 26'!G48)/2 -> 48 | F10: =('RELATORIO PLANILHA COTER'!I11+'RELATORIO PLANILHA COTER'!I43)/2 -> 409 | G10: =('Vlr m3 Jun Jul 26'!D22+'Vlr m3 Jun Jul 26'!D48)/2 -> 14148.15 | H10: =G10*6 -> 84888.9 | I10: =H10*4 -> 339555.6
A11: 9 | B11: PARNAMIRIM | C11: PE | D11: =('Vlr m3 Jun Jul 26'!C23+'Vlr m3 Jun Jul 26'!C49)/2 -> 7681.5 | E11: =('Vlr m3 Jun Jul 26'!G23+'Vlr m3 Jun Jul 26'!G49)/2 -> 30 | F11: =('RELATORIO PLANILHA COTER'!I12+'RELATORIO PLANILHA COTER'!I44)/2 -> 327.5 | G11: =('Vlr m3 Jun Jul 26'!D23+'Vlr m3 Jun Jul 26'!D49)/2 -> 4698 | H11: =G11*6 -> 28188 | I11: =H11*4 -> 112752
A12: 10 | B12: PETROLINA | C12: PE | D12: =('Vlr m3 Jun Jul 26'!C24+'Vlr m3 Jun Jul 26'!C50)/2 -> 15277 | E12: =('Vlr m3 Jun Jul 26'!G24+'Vlr m3 Jun Jul 26'!G50)/2 -> 20.5 | F12: =('RELATORIO PLANILHA COTER'!I13+'RELATORIO PLANILHA COTER'!I45)/2 -> 396 | G12: =('Vlr m3 Jun Jul 26'!D24+'Vlr m3 Jun Jul 26'!D50)/2 -> 7869.2 | H12: =G12*6 -> 47215.2 | I12: =H12*4 -> 188860.8
A13: 11 | B13: SANTA CRUZ | C13: PE | D13: =('Vlr m3 Jun Jul 26'!C25+'Vlr m3 Jun Jul 26'!C51)/2 -> 9980 | E13: =('Vlr m3 Jun Jul 26'!G25+'Vlr m3 Jun Jul 26'!G51)/2 -> 32 | F13: =('RELATORIO PLANILHA COTER'!I14+'RELATORIO PLANILHA COTER'!I46)/2 -> 158 | G13: =('Vlr m3 Jun Jul 26'!D25+'Vlr m3 Jun Jul 26'!D51)/2 -> 5410.615 | H13: =G13*6 -> 32463.69 | I13: =H13*4 -> 129854.76
A14: 12 | B14: SANTA FILOMENA | C14: PE | D14: =('Vlr m3 Jun Jul 26'!C26+'Vlr m3 Jun Jul 26'!C52)/2 -> 11677 | E14: =('Vlr m3 Jun Jul 26'!G26+'Vlr m3 Jun Jul 26'!G52)/2 -> 47 | F14: =('RELATORIO PLANILHA COTER'!I15+'RELATORIO PLANILHA COTER'!I47)/2 -> 331 | G14: =('Vlr m3 Jun Jul 26'!D26+'Vlr m3 Jun Jul 26'!D52)/2 -> 6749.4 | H14: =G14*6 -> 40496.4 | I14: =H14*4 -> 161985.6
... A23: 21 | B23: SENTO-SE | C23: BA | D23: =('Vlr m3 Jun Jul 26'!C35+'Vlr m3 Jun Jul 26'!C61)/2 -> 2974 | E23: =('Vlr m3 Jun Jul 26'!G35+'Vlr m3 Jun Jul 26'!G61)/2 -> 9 | F23: =('RELATORIO PLANILHA COTER'!I24+'RELATORIO PLANILHA COTER'!I56)/2 -> 76 | G23: =('Vlr m3 Jun Jul 26'!D35+'Vlr m3 Jun Jul 26'!D61)/2 -> 1646.4 | H23: =G23*6 -> 9878.4 | I23: =H23*4 -> 39513.6
A24: TOTAL | D24: =SUM(D3:D23) -> 247485.5 | E24: =SUM(E3:E23) -> 532.5 | F24: =SUM(F3:F23) -> 5761 | G24: =SUM(G3:G23) -> 134640.86 | H24: =G24*6 -> 807845.19 | I24: =H24*4 -> 3231380.8
A25: NOTA 1: As estimativas mensais foram obtidas pela média dos dados de junho e julho de 2026.
A26: NOTA 2: A estimativa para 6 meses corresponde à média mensal × 6; a estimativa para 24 meses corresponde à estimativa de 6 meses × 4 ciclos.
A27: NOTA 3: População, quantidade de lotes e PA decorrem de médias dos dois meses. Para apresentação, os valores são exibidos sem casas decimais; as fórmulas permanecem com a média exata.
A28: NOTA 4: Os quantitativos são estimativos e poderão variar conforme a necessidade efetiva da Operação Carro-Pipa.

Sheet ESTIMATIVA VALOR DA CONTRATAÇÃO
A1: Ordem | B1: Município/UF | C1: UF | D1: Qtd m³/mês | E1: valor médio m³/município (R$) | F1: valor município Mês (R$) | G1: Valor município - período de 6 meses (R$) | H1: Valor município - período de 24 meses (R$)
A2: 1 | B2: AFRANIO | C2: PE | D2: =('Vlr m3 Jun Jul 26'!D15+'Vlr m3 Jun Jul 26'!D41)/2 -> 5389.35 | E2: ='Vlr m3 Jun Jul 26'!J41 -> 106.34732 | F2: =E2*D2 -> 573142.91 | G2: =F2*6 -> 3438857.5 | H2: =G2*4 -> 13755430
A3: 2 | B3: BELÉM DO SÂO FRANCISCO | C3: PE | D3: =('Vlr m3 Jun Jul 26'!D16+'Vlr m3 Jun Jul 26'!D42)/2 -> 1489.25 | E3: ='Vlr m3 Jun Jul 26'!J42 -> 45.485334 | F3: =E3*D3 -> 67739.033 | G3: =F3*6 -> 406434.2 | H3: =G3*4 -> 1625736.8
A4: 3 | B4: BODOCO | C4: PE | D4: =('Vlr m3 Jun Jul 26'!D17+'Vlr m3 Jun Jul 26'!D43)/2 -> 5121.35 | E4: ='Vlr m3 Jun Jul 26'!J43 -> 46.715618 | F4: =E4*D4 -> 239247.03 | G4: =F4*6 -> 1435482.2 | H4: =G4*4 -> 5741928.8
A5: 4 | B5: CABROBO | C5: PE | D5: =('Vlr m3 Jun Jul 26'!D18+'Vlr m3 Jun Jul 26'!D44)/2 -> 1263.55 | E5: ='Vlr m3 Jun Jul 26'!J44 -> 39.361733 | F5: =E5*D5 -> 49735.518 | G5: =F5*6 -> 298413.11 | H5: =G5*4 -> 1193652.4
A6: 5 | B6: DORMENTES | C6: PE | D6: =('Vlr m3 Jun Jul 26'!D19+'Vlr m3 Jun Jul 26'!D45)/2 -> 5946.8 | E6: ='Vlr m3 Jun Jul 26'!J45 -> 115.64738 | F6: =E6*D6 -> 687731.82 | G6: =F6*6 -> 4126390.9 | H6: =G6*4 -> 16505564
A7: 6 | B7: LAGOA GRANDE | C7: PE | D7: =('Vlr m3 Jun Jul 26'!D20+'Vlr m3 Jun Jul 26'!D46)/2 -> 3832.65 | E7: ='Vlr m3 Jun Jul 26'!J46 -> 59.152859 | F7: =E7*D7 -> 226712.21 | G7: =F7*6 -> 1360273.2 | H7: =G7*4 -> 5441092.9
A8: 7 | B8: OROCO | C8: PE | D8: =('Vlr m3 Jun Jul 26'!D21+'Vlr m3 Jun Jul 26'!D47)/2 -> 375.25 | E8: ='Vlr m3 Jun Jul 26'!J47 -> 24.670237 | F8: =E8*D8 -> 9257.5065 | G8: =F8*6 -> 55545.039 | H8: =G8*4 -> 222180.16
A9: 8 | B9: OURICURI | C9: PE | D9: =('Vlr m3 Jun Jul 26'!D22+'Vlr m3 Jun Jul 26'!D48)/2 -> 14148.15 | E9: ='Vlr m3 Jun Jul 26'!J48 -> 73.090748 | F9: =E9*D9 -> 1034098.9 | G9: =F9*6 -> 6204593.2 | H9: =G9*4 -> 24818373
A10: 9 | B10: PARNAMIRIM | C10: PE | D10: =('Vlr m3 Jun Jul 26'!D23+'Vlr m3 Jun Jul 26'!D49)/2 -> 4698 | E10: ='Vlr m3 Jun Jul 26'!J49 -> 127.44026 | F10: =E10*D10 -> 598714.34 | G10: =F10*6 -> 3592286 | H10: =G10*4 -> 14369144
A11: 10 | B11: PETROLINA | C11: PE | D11: =('Vlr m3 Jun Jul 26'!D24+'Vlr m3 Jun Jul 26'!D50)/2 -> 7869.2 | E11: ='Vlr m3 Jun Jul 26'!J50 -> 52.667706 | F11: =E11*D11 -> 414452.71 | G11: =F11*6 -> 2486716.3 | H11: =G11*4 -> 9946865
A12: 11 | B12: SANTA CRUZ | C12: PE | D12: =('Vlr m3 Jun Jul 26'!D25+'Vlr m3 Jun Jul 26'!D51)/2 -> 5410.615 | E12: ='Vlr m3 Jun Jul 26'!J51 -> 125.55992 | F12: =E12*D12 -> 679356.36 | G12: =F12*6 -> 4076138.2 | H12: =G12*4 -> 16304553
A13: 12 | B13: SANTA FILOMENA | C13: PE | D13: =('Vlr m3 Jun Jul 26'!D26+'Vlr m3 Jun Jul 26'!D52)/2 -> 6749.4 | E13: ='Vlr m3 Jun Jul 26'!J52 -> 149.88936 | F13: =E13*D13 -> 1011663.3 | G13: =F13*6 -> 6069979.6 | H13: =G13*4 -> 24279918
... A22: 21 | B22: SENTO-SE | C22: BA | D22: =('Vlr m3 Jun Jul 26'!D35+'Vlr m3 Jun Jul 26'!D61)/2 -> 1646.4 | E22: ='Vlr m3 Jun Jul 26'!J61 -> 107.8712 | F22: =E22*D22 -> 177599.15 | G22: =F22*6 -> 1065594.9 | H22: =G22*4 -> 4262379.5
A23: TOTAL | D23: =SUM(D2:D22) -> 134640.86 | E23: =F23/D23 -> 81.771134 | F23: =SUM(F2:F22) -> 11009736 | G23: =SUM(G2:G22) -> 66058417 | H23: =ROUND(G23,2)*4 -> 2.6423367e+08
A24: NOTA 1: O valor médio global do m³ é calculado de forma ponderada: valor mensal total ÷ quantidade mensal total.
A25: NOTA 2: O valor estimado para 6 meses corresponde ao valor mensal por município × 6.
A26: NOTA 3: O valor estimado para 24 meses corresponde a 4 ciclos de contratação de 6 meses, considerando o valor semestral arredondado a centavos.
A27: NOTA 4: Os valores são estimativos e poderão variar conforme os quantitativos efetivamente demandados e executados.
