Workbook

Sheet Instruções
A1: Instruções para preenchimento da memória de cálculo
A3: De maneira geral, a apresentação de memória de cálculo que indique como a unidade requisitante chegou ao quantitativo de cada item solicitado não é uma novidade. Ela é explicitamente mencionada tanto na Instrução Normativa Nº 40/2020, que dispõe sobre a elaboração dos ETP - para a aquisição de bens e a contratação de serviços e obras, no âmbito da Administração Pública Federal, quanto na Lei Nº 14.133/2021.
A4: Partindo do pressuposto de que a simples menção ao quantitativo solicitado não é suficiente para atender à exigência legal mencionada anteriormente, faz-se necessário, no mínimo, definir e documentar o método para a estimativa das quantidades a serem contratadas.
A5: Para uniformizar os procedimentos adotados pelas equipes de planejamento das contratações, disponibiliza-se a “memória de cálculo” para aquisição de bens de consumo pelas seções científicas.
A7: Orientações Gerais:
B8: ● | C8: A planilha comporta até 300 itens e até 25 pesquisas. Caso necessite de uma capacidade maior, solicite uma versão customizada por e-mail para jorgemonteiro@iec.gov.br. jorgemonteiro@iec.gov.br;
B9: ● | C9: A planilha deve ser juntada a processo como anexo do ETP, em formato .xlsx;
B10: ● | C10: Atentar para a utilização das mesmas unidades de medida no ETP e memória de cálculo.
A12: Aba “Sintética”
A13: Coluna “B” - Histórico de Uso do Ano Anterior
B14: ● | C14: Objetivo: Informar a quantidade total utilizada do item no ano anterior.
B15: ● | C15: Instruções para o preenchimento:
C16: ○ | D16: Consulte os registros da unidade sobre o consumo do ano anterior para determinar a quantidade total utilizada desse item específico;
C17: ○ | D17: Registre o valor total nesta coluna.
A19: Coluna “C” - Previsão de Consumo Mensal
B20: ● | C20: Objetivo: Estimar o consumo médio do item por mês.
B21: ● | C21: Instruções para o preenchimento:
C22: ○ | D22: Com base no histórico de uso, considere a tendência de consumo ao longo dos meses;
C23: ○ | D23: Se houver mudanças previstas no consumo (por exemplo, aumento ou redução de demanda), ajuste a previsão conforme necessário;
C24: ○ | D24: Registre a quantidade média mensal prevista nesta coluna.
A26: Coluna “D” - Quantidade em Estoque
B27: ● | C27: Objetivo: Informar a quantidade atual do item disponível em estoque na Unidade.
B28: ● | C28: Instruções para o preenchimento:
C29: ○ | D29: Consulte a ferramenta local de gestão de estoque (se houver) ou faça uma contagem física para determinar a quantidade atual em estoque;
C30: ○ | D30: Registre a quantidade existente no momento nesta coluna.
A32: Coluna “E” - Quantidade Pendente de Recebimento
B33: ● | C33: Objetivo: Informar a quantidade do item que já foi solicitada, mas ainda não foi recebida.
B34: ● | C34: Instruções para o preenchimento:
C35: ○ | D35: Verifique as notas de empenho ou contratos de fornecimento já formalizados e identifique as quantidades que ainda não foram entregues;
C36: ○ | D36: Registre a quantidade pendente de recebimento nesta coluna.
A38: Coluna “F” – Autonomia (preenchimento automático)
B39: ● | C39: Objetivo: Informar o período (em meses) que o estoque atual, mais a quantidade pendente de recebimento, cobrirá o consumo previsto informado na coluna “C”.
C40: ○ | D40: Caso o valor apresentado seja superior à 15 (quinze), a unidade apresenta estoque suficiente para o exercício. Sugere-se repensar a aquisição.
C41: ○ | D41: Caso o valor apresentado seja inferior à 4 (quatro), a unidade apresenta risco de desabastecimento até a conclusão do processo de aquisição.
A43: Coluna “G” - Quantidade Solicitada
B44: ● | C44: Objetivo: Informar a quantidade do item que está sendo solicitada para aquisição.
B45: ● | C45: Instruções para o preenchimento:
C46: ○ | D46: Com base na autonomia e nas necessidades futuras, determine a quantidade a ser solicitada para que a unidade esteja abastecida até o próximo ciclo de aquisições;
C47: ○ | D47: Registre a quantidade a ser adquirida nesta coluna.
A49: Coluna “H” – Provisão (preenchimento automático)
...

Sheet Sintética
A1: Memória de Cálculo - Sintética
A2: Nº do item | B2: Histórico de uso do ano anterior | C2: Previsão de consumo mensal | D2: Qnt.em estoque | E2: Qnt. pendente de recebimento | F2: Autonomia (em meses) | G2: Quantidade Solicitada | H2: Provisão (em meses) | I2: Destinação
A3: 1 | F3: =IF(C3="","",(D3+E3)/C3) | H3: =IFERROR(IF(G3="","",G3/C3),"")
A4: 2 | F4: =IF(C4="","",(D4+E4)/C4) | H4: =IFERROR(IF(G4="","",G4/C4),"")
A5: 3 | F5: =IF(C5="","",(D5+E5)/C5) | H5: =IFERROR(IF(G5="","",G5/C5),"")
A6: 4 | F6: =IF(C6="","",(D6+E6)/C6) | H6: =IFERROR(IF(G6="","",G6/C6),"")
A7: 5 | F7: =IF(C7="","",(D7+E7)/C7) | H7: =IFERROR(IF(G7="","",G7/C7),"")
A8: 6 | F8: =IF(C8="","",(D8+E8)/C8) | H8: =IFERROR(IF(G8="","",G8/C8),"")
A9: 7 | F9: =IF(C9="","",(D9+E9)/C9) | H9: =IFERROR(IF(G9="","",G9/C9),"")
A10: 8 | F10: =IF(C10="","",(D10+E10)/C10) | H10: =IFERROR(IF(G10="","",G10/C10),"")
A11: 9 | F11: =IF(C11="","",(D11+E11)/C11) | H11: =IFERROR(IF(G11="","",G11/C11),"")
A12: 10 | F12: =IF(C12="","",(D12+E12)/C12) | H12: =IFERROR(IF(G12="","",G12/C12),"")
A13: 11 | F13: =IF(C13="","",(D13+E13)/C13) | H13: =IFERROR(IF(G13="","",G13/C13),"")
A14: 12 | F14: =IF(C14="","",(D14+E14)/C14) | H14: =IFERROR(IF(G14="","",G14/C14),"")
... A302: 300 | F302: =IF(C302="","",(D302+E302)/C302) | H302: =IFERROR(IF(G302="","",G302/C302),"")

Sheet Analítica
A1: Memória de Cálculo - Analítica | C1: Qnt. Item | D1: Qnt. Item | E1: Qnt. Item | F1: Qnt. Item | G1: Qnt. Item | H1: Qnt. Item | I1: Qnt. Item | J1: Qnt. Item | K1: Qnt. Item | L1: Qnt. Item | M1: Qnt. Item | N1: Qnt. Item | O1: Qnt. Item | P1: Qnt. Item | Q1: Qnt. Item | R1: Qnt. Item | S1: Qnt. Item | T1: Qnt. Item | U1: Qnt. Item | V1: Qnt. Item | W1: Qnt. Item | X1: Qnt. Item | Y1: Qnt. Item | Z1: Qnt. Item | AA1: Qnt. Item | AB1: Qnt. Item | AC1: Qnt. Item | AD1: Qnt. Item | AE1: Qnt. Item | AF1: Qnt. Item | AG1: Qnt. Item | AH1: Qnt. Item | AI1: Qnt. Item | AJ1: Qnt. Item | AK1: Qnt. Item | AL1: Qnt. Item | AM1: Qnt. Item | AN1: Qnt. Item | AO1: Qnt. Item | AP1: Qnt. Item | AQ1: Qnt. Item | AR1: Qnt. Item | AS1: Qnt. Item | AT1: Qnt. Item | AU1: Qnt. Item | AV1: Qnt. Item | AW1: Qnt. Item | AX1: Qnt. Item | AY1: Qnt. Item | AZ1: Qnt. Item | BA1: Qnt. Item | BB1: Qnt. Item | BC1: Qnt. Item | BD1: Qnt. Item | BE1: Qnt. Item | BF1: Qnt. Item | BG1: Qnt. Item | BH1: Qnt. Item | BI1: Qnt. Item | BJ1: Qnt. Item | BK1: Qnt. Item | BL1: Qnt. Item | BM1: Qnt. Item | BN1: Qnt. Item | BO1: Qnt. Item | BP1: Qnt. Item | BQ1: Qnt. Item | BR1: Qnt. Item | BS1: Qnt. Item | BT1: Qnt. Item | BU1: Qnt. Item | BV1: Qnt. Item | BW1: Qnt. Item | BX1: Qnt. Item | BY1: Qnt. Item | BZ1: Qnt. Item | CA1: Qnt. Item | CB1: Qnt. Item | CC1: Qnt. Item | CD1: Qnt. Item | CE1: Qnt. Item | CF1: Qnt. Item | CG1: Qnt. Item | CH1: Qnt. Item | CI1: Qnt. Item | CJ1: Qnt. Item | CK1: Qnt. Item | CL1: Qnt. Item | CM1: Qnt. Item | CN1: Qnt. Item | CO1: Qnt. Item | CP1: Qnt. Item | CQ1: Qnt. Item | CR1: Qnt. Item | CS1: Qnt. Item | CT1: Qnt. Item | CU1: Qnt. Item | CV1: Qnt. Item | CW1: Qnt. Item | CX1: Qnt. Item | CY1: Qnt. Item | CZ1: Qnt. Item | DA1: Qnt. Item | DB1: Qnt. Item | DC1: Qnt. Item | DD1: Qnt. Item | DE1: Qnt. Item | DF1: Qnt. Item | DG1: Qnt. Item | DH1: Qnt. Item | DI1: Qnt. Item | DJ1: Qnt. Item | DK1: Qnt. Item | DL1: Qnt. Item | DM1: Qnt. Item | DN1: Qnt. Item | DO1: Qnt. Item | DP1: Qnt. Item | DQ1: Qnt. Item | DR1: Qnt. Item | DS1: Qnt. Item | DT1: Qnt. Item | DU1: Qnt. Item | DV1: Qnt. Item | DW1: Qnt. Item | DX1: Qnt. Item | DY1: Qnt. Item | DZ1: Qnt. Item | EA1: Qnt. Item | EB1: Qnt. Item | EC1: Qnt. Item | ED1: Qnt. Item | EE1: Qnt. Item | EF1: Qnt. Item | EG1: Qnt. Item | EH1: Qnt. Item | EI1: Qnt. Item | EJ1: Qnt. Item | EK1: Qnt. Item | EL1: Qnt. Item | EM1: Qnt. Item | EN1: Qnt. Item | EO1: Qnt. Item | EP1: Qnt. Item | EQ1: Qnt. Item | ER1: Qnt. Item | ES1: Qnt. Item | ET1: Qnt. Item | EU1: Qnt. Item | EV1: Qnt. Item | EW1: Qnt. Item | EX1: Qnt. Item | EY1: Qnt. Item | EZ1: Qnt. Item | FA1: Qnt. Item | FB1: Qnt. Item | FC1: Qnt. Item | FD1: Qnt. Item | FE1: Qnt. Item | FF1: Qnt. Item | FG1: Qnt. Item | FH1: Qnt. Item | FI1: Qnt. Item | FJ1: Qnt. Item | FK1: Qnt. Item | FL1: Qnt. Item | FM1: Qnt. Item | FN1: Qnt. Item | FO1: Qnt. Item | FP1: Qnt. Item | FQ1: Qnt. Item | FR1: Qnt. Item | FS1: Qnt. Item | FT1: Qnt. Item | FU1: Qnt. Item | FV1: Qnt. Item | FW1: Qnt. Item | FX1: Qnt. Item | FY1: Qnt. Item | FZ1: Qnt. Item | GA1: Qnt. Item | GB1: Qnt. Item | GC1: Qnt. Item | GD1: Qnt. Item | GE1: Qnt. Item | GF1: Qnt. Item | GG1: Qnt. Item | GH1: Qnt. Item | GI1: Qnt. Item | GJ1: Qnt. Item | GK1: Qnt. Item | GL1: Qnt. Item | GM1: Qnt. Item | GN1: Qnt. Item | GO1: Qnt. Item | GP1: Qnt. Item | GQ1: Qnt. Item | GR1: Qnt. Item | GS1: Qnt. Item | GT1: Qnt. Item | GU1: Qnt. Item | GV1: Qnt. Item | GW1: Qnt. Item | GX1: Qnt. Item | GY1: Qnt. Item | GZ1: Qnt. Item | HA1: Qnt. Item | HB1: Qnt. Item | HC1: Qnt. Item | HD1: Qnt. Item | HE1: Qnt. Item | HF1: Qnt. Item | HG1: Qnt. Item | HH1: Qnt. Item | HI1: Qnt. Item | HJ1: Qnt. Item | HK1: Qnt. Item | HL1: Qnt. Item | HM1: Qnt. Item | HN1: Qnt. Item | HO1: Qnt. Item | HP1: Qnt. Item | HQ1: Qnt. Item | HR1: Qnt. Item | HS1: Qnt. Item | HT1: Qnt. Item | HU1: Qnt. Item | HV1: Qnt. Item | HW1: Qnt. Item | HX1: Qnt. Item | HY1: Qnt. Item | HZ1: Qnt. Item | IA1: Qnt. Item | IB1: Qnt. Item | IC1: Qnt. Item | ID1: Qnt. Item | IE1: Qnt. Item | IF1: Qnt. Item | IG1: Qnt. Item | IH1: Qnt. Item | II1: Qnt. Item | IJ1: Qnt. Item | IK1: Qnt. Item | IL1: Qnt. Item | IM1: Qnt. Item | IN1: Qnt. Item | IO1: Qnt. Item | IP1: Qnt. Item | IQ1: Qnt. Item | IR1: Qnt. Item | IS1: Qnt. Item | IT1: Qnt. Item | IU1: Qnt. Item | IV1: Qnt. Item | IW1: Qnt. Item | IX1: Qnt. Item | IY1: Qnt. Item | IZ1: Qnt. Item | JA1: Qnt. Item | JB1: Qnt. Item | JC1: Qnt. Item | JD1: Qnt. Item | JE1: Qnt. Item | JF1: Qnt. Item | JG1: Qnt. Item | JH1: Qnt. Item | JI1: Qnt. Item | JJ1: Qnt. Item | JK1: Qnt. Item | JL1: Qnt. Item | JM1: Qnt. Item | JN1: Qnt. Item | JO1: Qnt. Item | JP1: Qnt. Item | JQ1: Qnt. Item | JR1: Qnt. Item | JS1: Qnt. Item | JT1: Qnt. Item | JU1: Qnt. Item | JV1: Qnt. Item | JW1: Qnt. Item | JX1: Qnt. Item | JY1: Qnt. Item | JZ1: Qnt. Item | KA1: Qnt. Item | KB1: Qnt. Item | KC1: Qnt. Item | KD1: Qnt. Item | KE1: Qnt. Item | KF1: Qnt. Item | KG1: Qnt. Item | KH1: Qnt. Item | KI1: Qnt. Item | KJ1: Qnt. Item | KK1: Qnt. Item | KL1: Qnt. Item | KM1: Qnt. Item | KN1: Qnt. Item | KO1: Qnt. Item | KP1: Qnt. Item
C2: 1 | D2: 2 | E2: 3 | F2: 4 | G2: 5 | H2: 6 | I2: 7 | J2: 8 | K2: 9 | L2: 10 | M2: 11 | N2: 12 | O2: 13 | P2: 14 | Q2: 15 | R2: 16 | S2: 17 | T2: 18 | U2: 19 | V2: 20 | W2: 21 | X2: 22 | Y2: 23 | Z2: 24 | AA2: 25 | AB2: 26 | AC2: 27 | AD2: 28 | AE2: 29 | AF2: 30 | AG2: 31 | AH2: 32 | AI2: 33 | AJ2: 34 | AK2: 35 | AL2: 36 | AM2: 37 | AN2: 38 | AO2: 39 | AP2: 40 | AQ2: 41 | AR2: 42 | AS2: 43 | AT2: 44 | AU2: 45 | AV2: 46 | AW2: 47 | AX2: 48 | AY2: 49 | AZ2: 50 | BA2: 51 | BB2: 52 | BC2: 53 | BD2: 54 | BE2: 55 | BF2: 56 | BG2: 57 | BH2: 58 | BI2: 59 | BJ2: 60 | BK2: 61 | BL2: 62 | BM2: 63 | BN2: 64 | BO2: 65 | BP2: 66 | BQ2: 67 | BR2: 68 | BS2: 69 | BT2: 70 | BU2: 71 | BV2: 72 | BW2: 73 | BX2: 74 | BY2: 75 | BZ2: 76 | CA2: 77 | CB2: 78 | CC2: 79 | CD2: 80 | CE2: 81 | CF2: 82 | CG2: 83 | CH2: 84 | CI2: 85 | CJ2: 86 | CK2: 87 | CL2: 88 | CM2: 89 | CN2: 90 | CO2: 91 | CP2: 92 | CQ2: 93 | CR2: 94 | CS2: 95 | CT2: 96 | CU2: 97 | CV2: 98 | CW2: 99 | CX2: 100 | CY2: 101 | CZ2: 102 | DA2: 103 | DB2: 104 | DC2: 105 | DD2: 106 | DE2: 107 | DF2: 108 | DG2: 109 | DH2: 110 | DI2: 111 | DJ2: 112 | DK2: 113 | DL2: 114 | DM2: 115 | DN2: 116 | DO2: 117 | DP2: 118 | DQ2: 119 | DR2: 120 | DS2: 121 | DT2: 122 | DU2: 123 | DV2: 124 | DW2: 125 | DX2: 126 | DY2: 127 | DZ2: 128 | EA2: 129 | EB2: 130 | EC2: 131 | ED2: 132 | EE2: 133 | EF2: 134 | EG2: 135 | EH2: 136 | EI2: 137 | EJ2: 138 | EK2: 139 | EL2: 140 | EM2: 141 | EN2: 142 | EO2: 143 | EP2: 144 | EQ2: 145 | ER2: 146 | ES2: 147 | ET2: 148 | EU2: 149 | EV2: 150 | EW2: 151 | EX2: 152 | EY2: 153 | EZ2: 154 | FA2: 155 | FB2: 156 | FC2: 157 | FD2: 158 | FE2: 159 | FF2: 160 | FG2: 161 | FH2: 162 | FI2: 163 | FJ2: 164 | FK2: 165 | FL2: 166 | FM2: 167 | FN2: 168 | FO2: 169 | FP2: 170 | FQ2: 171 | FR2: 172 | FS2: 173 | FT2: 174 | FU2: 175 | FV2: 176 | FW2: 177 | FX2: 178 | FY2: 179 | FZ2: 180 | GA2: 181 | GB2: 182 | GC2: 183 | GD2: 184 | GE2: 185 | GF2: 186 | GG2: 187 | GH2: 188 | GI2: 189 | GJ2: 190 | GK2: 191 | GL2: 192 | GM2: 193 | GN2: 194 | GO2: 195 | GP2: 196 | GQ2: 197 | GR2: 198 | GS2: 199 | GT2: 200 | GU2: 201 | GV2: 202 | GW2: 203 | GX2: 204 | GY2: 205 | GZ2: 206 | HA2: 207 | HB2: 208 | HC2: 209 | HD2: 210 | HE2: 211 | HF2: 212 | HG2: 213 | HH2: 214 | HI2: 215 | HJ2: 216 | HK2: 217 | HL2: 218 | HM2: 219 | HN2: 220 | HO2: 221 | HP2: 222 | HQ2: 223 | HR2: 224 | HS2: 225 | HT2: 226 | HU2: 227 | HV2: 228 | HW2: 229 | HX2: 230 | HY2: 231 | HZ2: 232 | IA2: 233 | IB2: 234 | IC2: 235 | ID2: 236 | IE2: 237 | IF2: 238 | IG2: 239 | IH2: 240 | II2: 241 | IJ2: 242 | IK2: 243 | IL2: 244 | IM2: 245 | IN2: 246 | IO2: 247 | IP2: 248 | IQ2: 249 | IR2: 250 | IS2: 251 | IT2: 252 | IU2: 253 | IV2: 254 | IW2: 255 | IX2: 256 | IY2: 257 | IZ2: 258 | JA2: 259 | JB2: 260 | JC2: 261 | JD2: 262 | JE2: 263 | JF2: 264 | JG2: 265 | JH2: 266 | JI2: 267 | JJ2: 268 | JK2: 269 | JL2: 270 | JM2: 271 | JN2: 272 | JO2: 273 | JP2: 274 | JQ2: 275 | JR2: 276 | JS2: 277 | JT2: 278 | JU2: 279 | JV2: 280 | JW2: 281 | JX2: 282 | JY2: 283 | JZ2: 284 | KA2: 285 | KB2: 286 | KC2: 287 | KD2: 288 | KE2: 289 | KF2: 290 | KG2: 291 | KH2: 292 | KI2: 293 | KJ2: 294 | KK2: 295 | KL2: 296 | KM2: 297 | KN2: 298 | KO2: 299 | KP2: 300
A3: Destinação dos itens | B3: Id no ESPRO ou SEEIC | C3: =VLOOKUP(C2,Sintética!$A$3:$I$302,7,0) -> 0 | D3: =VLOOKUP(D2,Sintética!$A$3:$I$302,7,0) -> 0 | E3: =VLOOKUP(E2,Sintética!$A$3:$I$302,7,0) -> 0 | F3: =VLOOKUP(F2,Sintética!$A$3:$I$302,7,0) -> 0 | G3: =VLOOKUP(G2,Sintética!$A$3:$I$302,7,0) -> 0 | H3: =VLOOKUP(H2,Sintética!$A$3:$I$302,7,0) -> 0 | I3: =VLOOKUP(I2,Sintética!$A$3:$I$302,7,0) -> 0 | J3: =VLOOKUP(J2,Sintética!$A$3:$I$302,7,0) -> 0 | ... KP3: =VLOOKUP(KP2,Sintética!$A$3:$I$302,7,0) -> 0
A29: Qnt. destinada para ações de Vigilância em Saúde | B29: - | C29: =IF(C3=0,"",C3-SUM(C4:C28)) | D29: =IF(D3=0,"",D3-SUM(D4:D28)) | E29: =IF(E3=0,"",E3-SUM(E4:E28)) | F29: =IF(F3=0,"",F3-SUM(F4:F28)) | G29: =IF(G3=0,"",G3-SUM(G4:G28)) | H29: =IF(H3=0,"",H3-SUM(H4:H28)) | I29: =IF(I3=0,"",I3-SUM(I4:I28)) | J29: =IF(J3=0,"",J3-SUM(J4:J28)) | ... KP29: =IF(KP3=0,"",KP3-SUM(KP4:KP28))
A30: LINHA DE VALIDAÇÃO | C30: =IF(C3=0,"",IF(C29<0,"ERRO","Válido")) | D30: =IF(D3=0,"",IF(D29<0,"ERRO","Válido")) | E30: =IF(E3=0,"",IF(E29<0,"ERRO","Válido")) | F30: =IF(F3=0,"",IF(F29<0,"ERRO","Válido")) | G30: =IF(G3=0,"",IF(G29<0,"ERRO","Válido")) | H30: =IF(H3=0,"",IF(H29<0,"ERRO","Válido")) | I30: =IF(I3=0,"",IF(I29<0,"ERRO","Válido")) | J30: =IF(J3=0,"",IF(J29<0,"ERRO","Válido")) | ... KP30: =IF(KP3=0,"",IF(KP29<0,"ERRO","Válido"))
A36: Destinação dos itens
A37: Projeto de Pesquisa ou Extensão - Ativo e Registrado no Portfólio
A38: Projeto de Pesquisa ou Extensão - Ativo e Sem Registro no Portfólio
A39: Projeto de Pesquisa ou Extensão - Em Construção
A40: Projeto Estratégico - PE 2024 - 2027
A41: Plano de Trabalho (Ensino, 2023 ou anterior)
