Workbook

Sheet Instruções
B2: Instruções para preenchimento da memória de cálculo
B4: De maneira geral, a apresentação de memória de cálculo que indique como a unidade requisitante chegou ao quantitativo de cada item solicitado não é uma novidade. Ela é explicitamente mencionada tanto na Instrução Normativa Nº 40/2020, que dispõe sobre a elaboração dos ETP - para a aquisição de bens e a contratação de serviços e obras, no âmbito da Administração Pública Federal, quanto na Lei Nº 14.133/2021.
B5: Partindo do pressuposto de que a simples menção ao quantitativo solicitado não é suficiente para atender à exigência legal mencionada anteriormente, faz-se necessário, no mínimo, definir e documentar o método para a estimativa das quantidades a serem contratadas.
B6: Para uniformizar os procedimentos adotados pelas equipes de planejamento das contratações, disponibiliza-se a “memória de cálculo” para aquisição de bens de consumo pelas seções científicas.
B8: Orientações Gerais:
C9: ● | D9: A planilha comporta até 300 itens e 25 projetos. Caso necessite de uma capacidade maior, solicite uma versão customizada por e-mail para jorgemonteiro@iec.gov.br, com cópia para lorenaazevedo@iec.gov.br
C10: ● | D10: A planilha NÃO deve ser utilizada para instrução de processos para registro de preços
C11: ● | D11: A planilha deve ser juntada a processo como anexo do ETP, em formato .xlsx;
C12: ● | D12: Atentar para a utilização das mesmas unidades de medida no ETP e memória de cálculo.
B14: Aba “Sintética”
B15: Coluna “B” - Histórico de Uso do Ano Anterior
C16: ● | D16: Objetivo: Informar a quantidade total utilizada do item no ano anterior.
C17: ● | D17: Instruções para o preenchimento:
D18: ○ | E18: Consulte os registros da unidade sobre o consumo do ano anterior para determinar a quantidade total utilizada desse item específico;
D19: ○ | E19: Registre o valor total nesta coluna.
B21: Coluna “C” - Previsão de Consumo Mensal
C22: ● | D22: Objetivo: Estimar o consumo médio do item por mês.
C23: ● | D23: Instruções para o preenchimento:
D24: ○ | E24: Com base no histórico de uso, considere a tendência de consumo ao longo dos meses;
D25: ○ | E25: Se houver mudanças previstas no consumo (por exemplo, aumento ou redução de demanda), ajuste a previsão conforme necessário;
D26: ○ | E26: Registre a quantidade média mensal prevista nesta coluna.
B28: Coluna “D” - Quantidade em Estoque
C29: ● | D29: Objetivo: Informar a quantidade atual do item disponível em estoque na Unidade.
C30: ● | D30: Instruções para o preenchimento:
D31: ○ | E31: Consulte a ferramenta local de gestão de estoque (se houver) ou faça uma contagem física para determinar a quantidade atual em estoque;
D32: ○ | E32: Registre a quantidade existente no momento nesta coluna.
B34: Coluna “E” - Quantidade Pendente de Recebimento
C35: ● | D35: Objetivo: Informar a quantidade do item que já foi solicitada, mas ainda não foi recebida.
C36: ● | D36: Instruções para o preenchimento:
D37: ○ | E37: Verifique as notas de empenho ou contratos de fornecimento já formalizados e identifique as quantidades que ainda não foram entregues;
D38: ○ | E38: Registre a quantidade pendente de recebimento nesta coluna.
B40: Coluna “F” – Autonomia (preenchimento automático)
C41: ● | D41: Objetivo: Informar o período (em meses) que o estoque atual, mais a quantidade pendente de recebimento, cobrirá o consumo previsto informado na coluna “C”.
D42: ○ | E42: Caso o valor apresentado seja superior à 15 (quinze), a unidade apresenta estoque suficiente para o exercício. Sugere-se repensar a aquisição.
D43: ○ | E43: Caso o valor apresentado seja inferior à 4 (quatro), a unidade apresenta risco de desabastecimento até a conclusão do processo de aquisição.
B45: Coluna “G” - Quantidade Solicitada
C46: ● | D46: Objetivo: Informar a quantidade do item que está sendo solicitada para aquisição.
C47: ● | D47: Instruções para o preenchimento:
D48: ○ | E48: Com base na autonomia e nas necessidades futuras, determine a quantidade a ser solicitada para que a unidade esteja abastecida até o próximo ciclo de aquisições;
D49: ○ | E49: Registre a quantidade a ser adquirida nesta coluna.
B51: Coluna “H” – Provisão (preenchimento automático)
C52: ● | D52: Objetivo: Informar o período (em meses) que a quantidade solicitada, cobrirá o consumo previsto.
D53: ○ | E53: Caso o valor apresentado seja inferior à 12 (doze), a unidade apresenta risco de desabastecimento até a conclusão do próximo ciclo de aquisições;
D54: ○ | E54: Caso o valor apresentado seja superior à 15 (quinze), sugere-se justificar, no ETP, qual a vantagem obtida por meio da aquisição em quantidade superior à demanda anual;
B56: Coluna “I” – Ações
C57: ● | D57: Objetivo: Informar quais ações da unidade serão beneficiadas com a aquisição do item.
C58: ● | D58: Opções:
D59: ○ | E59: Pesquisa
D60: ○ | E60: Pesquisa e Vigilância
D61: ○ | E61: Vigilância
C62: ● | D62: Nota 01: Para fins de controle, projetos estratégicos contam como pesquisas.
C63: ● | D63: Nota 02: Itens vinculados à pesquisa, isoladamente ou em consorcio com a vigilância, precisam ser discriminados na aba "Analítica".
B65: Aba “Analítica”
B66: Coluna “A” – Destinação dos itens
C67: ● | D67: Objetivo: Indicar a finalidade de utilização dos insumos solicitados
C68: ● | D68: Opções:
D69: ○ | E69: Projeto de Pesquisa ou Extensão - Ativo e Registrado no Portfólio
D70: ○ | E70: Projeto Estratégico - PE 2024 - 2027
D71: ○ | E71: Destinação Excepcional Transitória
C72: ● | D72: Instruções para o preenchimento:
D73: ○ | E73: Projeto de Pesquisa ou Extensão - Ativo e Registrado no Portfólio
E74: ▪ | F74: Esta categoria deve ser usada para projetos que passaram pelo processo de aprovação nas instâncias cabíveis e registro no ESPRO, logo aptos a prosseguir com as atividades planejadas, como experimentos, coleta de dados, e análises.
D75: ○ | E75: Projeto Estratégico - PE 2024 – 2027
E76: ▪ | F76: Esta categoria deve ser usada para projetos que compõe o planejamento estratégico da instituição.
D77: ○ | E77: Destinação Excepcional Transitória
E78: ▪ | F78: Categoria transitória, válida exclusivamente para o exercício de 2026, destinada ao registro excepcional de insumos cuja vinculação não seja passível de enquadramento nas demais hipóteses de destinação previstas no modelo vigente.
B80: Coluna “B” – Id do Projeto
C81: ● | D81: Objetivo: Informar qual a Identificação numérica única do projeto.
C82: ● | D82: Instruções para o preenchimento:
D83: ○ | E83: Preencha apenas se a opção “Projeto de Pesquisa ou Extensão – Ativo e Registrado no Portfólio” ou "Projeto Estratégico - PE 2024 – 2027" houver sido informada na coluna anterior; caso contrário, deixar o campo em branco.
D84: ○ | E84: Localize o ID do projeto no portfólio do SEITP ou no portfólio do SEGAD;
D85: ○ | E85: Este ID é específico para cada projeto; e
D86: ○ | E86: Registre o ID do projeto nesta coluna.
B88: Demais colunas:
C89: ● | D89: Objetivo: Informar a quantidade de cada item que será utilizada em cada projeto
C90: ● | D90: Instruções para o preenchimento:
D91: ○ | E91: Considerando que cada linha corresponderá à um projeto, informar a quantidade de cada item destacado para cada projeto.
D92: ○ | E92: O resultado da linha 29 será considerado como a quantidade destacada para ações de vigilância.

Sheet Sintética
B2: Memória de Cálculo - Sintética
B3: Nº do item | C3: Histórico de uso do ano anterior | D3: Previsão de consumo mensal | E3: Qnt. em estoque | F3: Qnt. pendente de recebimento | G3: Autonomia (em meses) | H3: Quantidade Solicitada | I3: Provisão (em meses) | J3: Destinação
B4: 1 | C4: 5.1 | D4: 0.16 | E4: 0 | F4: 0 | G4: =IF(D4="","",(E4+F4)/D4) -> 0 | H4: 1 | I4: =IFERROR(IF(H4="","",H4/D4),"") -> 6.25 | J4: Vigilância
B5: 2 | C5: 5500 | D5: 458.33 | E5: 0 | F5: 0 | G5: =IF(D5="","",(E5+F5)/D5) -> 0 | H5: 6000 | I5: =IFERROR(IF(H5="","",H5/D5),"") -> 13.091004 | J5: Vigilância
B6: 3 | G6: =IF(D6="","",(E6+F6)/D6) | I6: =IFERROR(IF(H6="","",H6/D6),"")
B7: 4 | G7: =IF(D7="","",(E7+F7)/D7) | I7: =IFERROR(IF(H7="","",H7/D7),"")
B8: 5 | G8: =IF(D8="","",(E8+F8)/D8) | I8: =IFERROR(IF(H8="","",H8/D8),"")
B9: 6 | G9: =IF(D9="","",(E9+F9)/D9) | I9: =IFERROR(IF(H9="","",H9/D9),"")
B10: 7 | G10: =IF(D10="","",(E10+F10)/D10) | I10: =IFERROR(IF(H10="","",H10/D10),"")
B11: 8 | G11: =IF(D11="","",(E11+F11)/D11) | I11: =IFERROR(IF(H11="","",H11/D11),"")
B12: 9 | G12: =IF(D12="","",(E12+F12)/D12) | I12: =IFERROR(IF(H12="","",H12/D12),"")
B13: 10 | G13: =IF(D13="","",(E13+F13)/D13) | I13: =IFERROR(IF(H13="","",H13/D13),"")
B14: 11 | G14: =IF(D14="","",(E14+F14)/D14) | I14: =IFERROR(IF(H14="","",H14/D14),"")
B15: 12 | G15: =IF(D15="","",(E15+F15)/D15) | I15: =IFERROR(IF(H15="","",H15/D15),"")
B16: 13 | G16: =IF(D16="","",(E16+F16)/D16) | I16: =IFERROR(IF(H16="","",H16/D16),"")
B17: 14 | G17: =IF(D17="","",(E17+F17)/D17) | I17: =IFERROR(IF(H17="","",H17/D17),"")
... B303: 300 | G303: =IF(D303="","",(E303+F303)/D303) | I303: =IFERROR(IF(H303="","",H303/D303),"")

Sheet Analítica
B2: Memória de Cálculo - Analítica | D2: Qnt. Item | E2: Qnt. Item | F2: Qnt. Item | G2: Qnt. Item | H2: Qnt. Item | I2: Qnt. Item | J2: Qnt. Item | K2: Qnt. Item | L2: Qnt. Item | M2: Qnt. Item | N2: Qnt. Item | O2: Qnt. Item | P2: Qnt. Item | Q2: Qnt. Item | R2: Qnt. Item | S2: Qnt. Item | T2: Qnt. Item | U2: Qnt. Item | V2: Qnt. Item | W2: Qnt. Item | X2: Qnt. Item | Y2: Qnt. Item | Z2: Qnt. Item | AA2: Qnt. Item | AB2: Qnt. Item | AC2: Qnt. Item | AD2: Qnt. Item | AE2: Qnt. Item | AF2: Qnt. Item | AG2: Qnt. Item | AH2: Qnt. Item | AI2: Qnt. Item | AJ2: Qnt. Item | AK2: Qnt. Item | AL2: Qnt. Item | AM2: Qnt. Item | AN2: Qnt. Item | AO2: Qnt. Item | AP2: Qnt. Item | AQ2: Qnt. Item | AR2: Qnt. Item | AS2: Qnt. Item | AT2: Qnt. Item | AU2: Qnt. Item | AV2: Qnt. Item | AW2: Qnt. Item | AX2: Qnt. Item | AY2: Qnt. Item | AZ2: Qnt. Item | BA2: Qnt. Item | BB2: Qnt. Item | BC2: Qnt. Item | BD2: Qnt. Item | BE2: Qnt. Item | BF2: Qnt. Item | BG2: Qnt. Item | BH2: Qnt. Item | BI2: Qnt. Item | BJ2: Qnt. Item | BK2: Qnt. Item | BL2: Qnt. Item | BM2: Qnt. Item | BN2: Qnt. Item | BO2: Qnt. Item | BP2: Qnt. Item | BQ2: Qnt. Item | BR2: Qnt. Item | BS2: Qnt. Item | BT2: Qnt. Item | BU2: Qnt. Item | BV2: Qnt. Item | BW2: Qnt. Item | BX2: Qnt. Item | BY2: Qnt. Item | BZ2: Qnt. Item | CA2: Qnt. Item | CB2: Qnt. Item | CC2: Qnt. Item | CD2: Qnt. Item | CE2: Qnt. Item | CF2: Qnt. Item | CG2: Qnt. Item | CH2: Qnt. Item | CI2: Qnt. Item | CJ2: Qnt. Item | CK2: Qnt. Item | CL2: Qnt. Item | CM2: Qnt. Item | CN2: Qnt. Item | CO2: Qnt. Item | CP2: Qnt. Item | CQ2: Qnt. Item | CR2: Qnt. Item | CS2: Qnt. Item | CT2: Qnt. Item | CU2: Qnt. Item | CV2: Qnt. Item | CW2: Qnt. Item | CX2: Qnt. Item | CY2: Qnt. Item | CZ2: Qnt. Item | DA2: Qnt. Item | DB2: Qnt. Item | DC2: Qnt. Item | DD2: Qnt. Item | DE2: Qnt. Item | DF2: Qnt. Item | DG2: Qnt. Item | DH2: Qnt. Item | DI2: Qnt. Item | DJ2: Qnt. Item | DK2: Qnt. Item | DL2: Qnt. Item | DM2: Qnt. Item | DN2: Qnt. Item | DO2: Qnt. Item | DP2: Qnt. Item | DQ2: Qnt. Item | DR2: Qnt. Item | DS2: Qnt. Item | DT2: Qnt. Item | DU2: Qnt. Item | DV2: Qnt. Item | DW2: Qnt. Item | DX2: Qnt. Item | DY2: Qnt. Item | DZ2: Qnt. Item | EA2: Qnt. Item | EB2: Qnt. Item | EC2: Qnt. Item | ED2: Qnt. Item | EE2: Qnt. Item | EF2: Qnt. Item | EG2: Qnt. Item | EH2: Qnt. Item | EI2: Qnt. Item | EJ2: Qnt. Item | EK2: Qnt. Item | EL2: Qnt. Item | EM2: Qnt. Item | EN2: Qnt. Item | EO2: Qnt. Item | EP2: Qnt. Item | EQ2: Qnt. Item | ER2: Qnt. Item | ES2: Qnt. Item | ET2: Qnt. Item | EU2: Qnt. Item | EV2: Qnt. Item | EW2: Qnt. Item | EX2: Qnt. Item | EY2: Qnt. Item | EZ2: Qnt. Item | FA2: Qnt. Item | FB2: Qnt. Item | FC2: Qnt. Item | FD2: Qnt. Item | FE2: Qnt. Item | FF2: Qnt. Item | FG2: Qnt. Item | FH2: Qnt. Item | FI2: Qnt. Item | FJ2: Qnt. Item | FK2: Qnt. Item | FL2: Qnt. Item | FM2: Qnt. Item | FN2: Qnt. Item | FO2: Qnt. Item | FP2: Qnt. Item | FQ2: Qnt. Item | FR2: Qnt. Item | FS2: Qnt. Item | FT2: Qnt. Item | FU2: Qnt. Item | FV2: Qnt. Item | FW2: Qnt. Item | FX2: Qnt. Item | FY2: Qnt. Item | FZ2: Qnt. Item | GA2: Qnt. Item | GB2: Qnt. Item | GC2: Qnt. Item | GD2: Qnt. Item | GE2: Qnt. Item | GF2: Qnt. Item | GG2: Qnt. Item | GH2: Qnt. Item | GI2: Qnt. Item | GJ2: Qnt. Item | GK2: Qnt. Item | GL2: Qnt. Item | GM2: Qnt. Item | GN2: Qnt. Item | GO2: Qnt. Item | GP2: Qnt. Item | GQ2: Qnt. Item | GR2: Qnt. Item | GS2: Qnt. Item | GT2: Qnt. Item | GU2: Qnt. Item | GV2: Qnt. Item | GW2: Qnt. Item | GX2: Qnt. Item | GY2: Qnt. Item | GZ2: Qnt. Item | HA2: Qnt. Item | HB2: Qnt. Item | HC2: Qnt. Item | HD2: Qnt. Item | HE2: Qnt. Item | HF2: Qnt. Item | HG2: Qnt. Item | HH2: Qnt. Item | HI2: Qnt. Item | HJ2: Qnt. Item | HK2: Qnt. Item | HL2: Qnt. Item | HM2: Qnt. Item | HN2: Qnt. Item | HO2: Qnt. Item | HP2: Qnt. Item | HQ2: Qnt. Item | HR2: Qnt. Item | HS2: Qnt. Item | HT2: Qnt. Item | HU2: Qnt. Item | HV2: Qnt. Item | HW2: Qnt. Item | HX2: Qnt. Item | HY2: Qnt. Item | HZ2: Qnt. Item | IA2: Qnt. Item | IB2: Qnt. Item | IC2: Qnt. Item | ID2: Qnt. Item | IE2: Qnt. Item | IF2: Qnt. Item | IG2: Qnt. Item | IH2: Qnt. Item | II2: Qnt. Item | IJ2: Qnt. Item | IK2: Qnt. Item | IL2: Qnt. Item | IM2: Qnt. Item | IN2: Qnt. Item | IO2: Qnt. Item | IP2: Qnt. Item | IQ2: Qnt. Item | IR2: Qnt. Item | IS2: Qnt. Item | IT2: Qnt. Item | IU2: Qnt. Item | IV2: Qnt. Item | IW2: Qnt. Item | IX2: Qnt. Item | IY2: Qnt. Item | IZ2: Qnt. Item | JA2: Qnt. Item | JB2: Qnt. Item | JC2: Qnt. Item | JD2: Qnt. Item | JE2: Qnt. Item | JF2: Qnt. Item | JG2: Qnt. Item | JH2: Qnt. Item | JI2: Qnt. Item | JJ2: Qnt. Item | JK2: Qnt. Item | JL2: Qnt. Item | JM2: Qnt. Item | JN2: Qnt. Item | JO2: Qnt. Item | JP2: Qnt. Item | JQ2: Qnt. Item | JR2: Qnt. Item | JS2: Qnt. Item | JT2: Qnt. Item | JU2: Qnt. Item | JV2: Qnt. Item | JW2: Qnt. Item | JX2: Qnt. Item | JY2: Qnt. Item | JZ2: Qnt. Item | KA2: Qnt. Item | KB2: Qnt. Item | KC2: Qnt. Item | KD2: Qnt. Item | KE2: Qnt. Item | KF2: Qnt. Item | KG2: Qnt. Item | KH2: Qnt. Item | KI2: Qnt. Item | KJ2: Qnt. Item | KK2: Qnt. Item | KL2: Qnt. Item | KM2: Qnt. Item | KN2: Qnt. Item | KO2: Qnt. Item | KP2: Qnt. Item | KQ2: Qnt. Item
D3: 1 | E3: 2 | F3: 3 | G3: 4 | H3: 5 | I3: 6 | J3: 7 | K3: 8 | L3: 9 | M3: 10 | N3: 11 | O3: 12 | P3: 13 | Q3: 14 | R3: 15 | S3: 16 | T3: 17 | U3: 18 | V3: 19 | W3: 20 | X3: 21 | Y3: 22 | Z3: 23 | AA3: 24 | AB3: 25 | AC3: 26 | AD3: 27 | AE3: 28 | AF3: 29 | AG3: 30 | AH3: 31 | AI3: 32 | AJ3: 33 | AK3: 34 | AL3: 35 | AM3: 36 | AN3: 37 | AO3: 38 | AP3: 39 | AQ3: 40 | AR3: 41 | AS3: 42 | AT3: 43 | AU3: 44 | AV3: 45 | AW3: 46 | AX3: 47 | AY3: 48 | AZ3: 49 | BA3: 50 | BB3: 51 | BC3: 52 | BD3: 53 | BE3: 54 | BF3: 55 | BG3: 56 | BH3: 57 | BI3: 58 | BJ3: 59 | BK3: 60 | BL3: 61 | BM3: 62 | BN3: 63 | BO3: 64 | BP3: 65 | BQ3: 66 | BR3: 67 | BS3: 68 | BT3: 69 | BU3: 70 | BV3: 71 | BW3: 72 | BX3: 73 | BY3: 74 | BZ3: 75 | CA3: 76 | CB3: 77 | CC3: 78 | CD3: 79 | CE3: 80 | CF3: 81 | CG3: 82 | CH3: 83 | CI3: 84 | CJ3: 85 | CK3: 86 | CL3: 87 | CM3: 88 | CN3: 89 | CO3: 90 | CP3: 91 | CQ3: 92 | CR3: 93 | CS3: 94 | CT3: 95 | CU3: 96 | CV3: 97 | CW3: 98 | CX3: 99 | CY3: 100 | CZ3: 101 | DA3: 102 | DB3: 103 | DC3: 104 | DD3: 105 | DE3: 106 | DF3: 107 | DG3: 108 | DH3: 109 | DI3: 110 | DJ3: 111 | DK3: 112 | DL3: 113 | DM3: 114 | DN3: 115 | DO3: 116 | DP3: 117 | DQ3: 118 | DR3: 119 | DS3: 120 | DT3: 121 | DU3: 122 | DV3: 123 | DW3: 124 | DX3: 125 | DY3: 126 | DZ3: 127 | EA3: 128 | EB3: 129 | EC3: 130 | ED3: 131 | EE3: 132 | EF3: 133 | EG3: 134 | EH3: 135 | EI3: 136 | EJ3: 137 | EK3: 138 | EL3: 139 | EM3: 140 | EN3: 141 | EO3: 142 | EP3: 143 | EQ3: 144 | ER3: 145 | ES3: 146 | ET3: 147 | EU3: 148 | EV3: 149 | EW3: 150 | EX3: 151 | EY3: 152 | EZ3: 153 | FA3: 154 | FB3: 155 | FC3: 156 | FD3: 157 | FE3: 158 | FF3: 159 | FG3: 160 | FH3: 161 | FI3: 162 | FJ3: 163 | FK3: 164 | FL3: 165 | FM3: 166 | FN3: 167 | FO3: 168 | FP3: 169 | FQ3: 170 | FR3: 171 | FS3: 172 | FT3: 173 | FU3: 174 | FV3: 175 | FW3: 176 | FX3: 177 | FY3: 178 | FZ3: 179 | GA3: 180 | GB3: 181 | GC3: 182 | GD3: 183 | GE3: 184 | GF3: 185 | GG3: 186 | GH3: 187 | GI3: 188 | GJ3: 189 | GK3: 190 | GL3: 191 | GM3: 192 | GN3: 193 | GO3: 194 | GP3: 195 | GQ3: 196 | GR3: 197 | GS3: 198 | GT3: 199 | GU3: 200 | GV3: 201 | GW3: 202 | GX3: 203 | GY3: 204 | GZ3: 205 | HA3: 206 | HB3: 207 | HC3: 208 | HD3: 209 | HE3: 210 | HF3: 211 | HG3: 212 | HH3: 213 | HI3: 214 | HJ3: 215 | HK3: 216 | HL3: 217 | HM3: 218 | HN3: 219 | HO3: 220 | HP3: 221 | HQ3: 222 | HR3: 223 | HS3: 224 | HT3: 225 | HU3: 226 | HV3: 227 | HW3: 228 | HX3: 229 | HY3: 230 | HZ3: 231 | IA3: 232 | IB3: 233 | IC3: 234 | ID3: 235 | IE3: 236 | IF3: 237 | IG3: 238 | IH3: 239 | II3: 240 | IJ3: 241 | IK3: 242 | IL3: 243 | IM3: 244 | IN3: 245 | IO3: 246 | IP3: 247 | IQ3: 248 | IR3: 249 | IS3: 250 | IT3: 251 | IU3: 252 | IV3: 253 | IW3: 254 | IX3: 255 | IY3: 256 | IZ3: 257 | JA3: 258 | JB3: 259 | JC3: 260 | JD3: 261 | JE3: 262 | JF3: 263 | JG3: 264 | JH3: 265 | JI3: 266 | JJ3: 267 | JK3: 268 | JL3: 269 | JM3: 270 | JN3: 271 | JO3: 272 | JP3: 273 | JQ3: 274 | JR3: 275 | JS3: 276 | JT3: 277 | JU3: 278 | JV3: 279 | JW3: 280 | JX3: 281 | JY3: 282 | JZ3: 283 | KA3: 284 | KB3: 285 | KC3: 286 | KD3: 287 | KE3: 288 | KF3: 289 | KG3: 290 | KH3: 291 | KI3: 292 | KJ3: 293 | KK3: 294 | KL3: 295 | KM3: 296 | KN3: 297 | KO3: 298 | KP3: 299 | KQ3: 300
B4: Destinação dos itens | C4: Id SEITP ou SEGAD | D4: =VLOOKUP(D3,Sintética!$B$4:$J$304,7,0) -> 1 | E4: =VLOOKUP(E3,Sintética!$B$4:$J$304,7,0) -> 6000 | F4: =VLOOKUP(F3,Sintética!$B$4:$J$304,7,0) -> 0 | G4: =VLOOKUP(G3,Sintética!$B$4:$J$304,7,0) -> 0 | H4: =VLOOKUP(H3,Sintética!$B$4:$J$304,7,0) -> 0 | I4: =VLOOKUP(I3,Sintética!$B$4:$J$304,7,0) -> 0 | J4: =VLOOKUP(J3,Sintética!$B$4:$J$304,7,0) -> 0 | K4: =VLOOKUP(K3,Sintética!$B$4:$J$304,7,0) -> 0 | ... KQ4: =VLOOKUP(KQ3,Sintética!$B$4:$J$304,7,0) -> 0
B30: Qnt. destinada para ações de Vigilância em Saúde | C30: - | D30: =IF(D4=0,"",D4-SUM(D5:D29)) -> 1 | E30: =IF(E4=0,"",E4-SUM(E5:E29)) -> 6000 | F30: =IF(F4=0,"",F4-SUM(F5:F29)) | G30: =IF(G4=0,"",G4-SUM(G5:G29)) | H30: =IF(H4=0,"",H4-SUM(H5:H29)) | I30: =IF(I4=0,"",I4-SUM(I5:I29)) | J30: =IF(J4=0,"",J4-SUM(J5:J29)) | K30: =IF(K4=0,"",K4-SUM(K5:K29)) | ... KQ30: =IF(KQ4=0,"",KQ4-SUM(KQ5:KQ29))
B31: LINHA DE VALIDAÇÃO | D31: =IF(D4=0,"",IF(D30<0,"ERRO","Válido")) -> Válido | E31: =IF(E4=0,"",IF(E30<0,"ERRO","Válido")) -> Válido | F31: =IF(F4=0,"",IF(F30<0,"ERRO","Válido")) | G31: =IF(G4=0,"",IF(G30<0,"ERRO","Válido")) | H31: =IF(H4=0,"",IF(H30<0,"ERRO","Válido")) | I31: =IF(I4=0,"",IF(I30<0,"ERRO","Válido")) | J31: =IF(J4=0,"",IF(J30<0,"ERRO","Válido")) | K31: =IF(K4=0,"",IF(K30<0,"ERRO","Válido")) | ... KQ31: =IF(KQ4=0,"",IF(KQ30<0,"ERRO","Válido"))
B37: Destinação dos itens
B38: Projeto de Pesquisa ou Extensão - Ativo e Registrado no Portfólio
B39: Projeto Estratégico - PE 2024 - 2027
B40: Destinação Excepcional Transitória
