Workbook

Sheet 1-ITENS
B2: Planilha ASUS - Análise de informações obrigatórias associadas aos itens em aquisição de bens e serviços 1. Aba [1-Itens]: Itens em aquisição e informações associadas
B3: Processo SEI licitatório: | D3: 21181.001295/2025-97 | E3: Preencher: Responsável pela análise (pessoa): | G3: Marcelo Fernandes Camargos
G4: =IF(COUNTIF(L7:L306,"*incompleto*")<>0,"Há linhas com preenchimento incompleto", IF(COUNTIF(L7:L306,"")=300,"Aba ainda não preenchida", "Todas as linhas com preenchimento realizado")) -> Todas as linhas com preenchimento realizado
B6: N° de ordem na aba | C6: N° sequencial do item no processo licitatório | D6: Item (necessidade) | E6: Classificação da necessidade em relação à sua natureza | F6: Área(s) requisitante(s) no LFDA-MG e quantidade(s) individual(is) (usar tecla Alt + Enter para separar áreas) | G6: Classificação da necessidade à luz da Lei n° 14.133/2021 | H6: Quantidade total necessária | I6: Prazo de entrega do item a partir da assinatura contratual | J6: Necessidade de treinamento Opções: [Não] [Sim, em razão de...] | K6: Necessidade de instalação pela contratada Opções: [Não] [Sim, em razão de...] | L6: Auditoria de preenchimento
B7: 1 | C7: 1 | D7: Pagamento de Análise de Identificação em 12 amostras de bulbo capilar em laboratório externo de referência para a ISAG. | E7: Prestação de serviço | F7: DIA/LDDV | G7: Serviço comum: serviço que possui padrões de desempenho e qualidade que podem ser objetivamente definidos pelo edital, por meio de especificações usuais de mercado (Art. 6° da Lei 14.133/21). | H7: 12 | I7: 30 dias | J7: Não | K7: Não | L7: =IF(OR($D$3="",$G$3=""),"Preenchimento incompleto: falta informar processo e(ou) Responsável pela análise - B02.01", IF(LEN($D$3)<>20,"Preenchimento incompleto (erro): a identificação do processo tem que ter 20 caracteres - BL02-01", IF(ISERR(MID($D$3,1,5)*1),"Preenchimento incompleto (erro): do primeiro ao quinto caractere do processo há pelo menos caractere um não numérico - BL02-02", IF(ISERR(MID($D$3,7,6)*1),"Preenchimento incompleto (erro): do sétimo ao décimo-segundo caractere do processo há pelo menos um caractere não numérico - BL02-03", IF(ISERR(MID($D$3,14,4)*1),"Preenchimento incompleto (erro): nos caracteres do ano do processo há pelo menos um caractere não numérico - BL02-04", IF(ISERR(MID($D$3,19,2)*1),"Preenchimento incompleto (erro): no dígito verificador do processo há pelo menos um caractere não numérico - BL02-05", IF(MID($D$3,6,1)<>".","Preenchimento incompleto (erro): o sexto caractere do processo tem que ser ponto (.) - BL02-06", IF(MID($D$3,13,1)<>"/","Preenchimento incompleto (erro): o décimo-terceiro caractere do processo tem que ser barra (/) - BL02-07", IF(MID($D$3,18,1)<>"-","Preenchimento incompleto (erro): o décimo-oitavo caractere do processo tem que ser um traço (-) - BL02-08", IF(MID($D$3,14,2)<>"20","Preenchimento incompleto (erro): os décimo-quarto e décimo-quinto caracteres do processo juntos tem que ser 20 - BL02-09", IF(AND(C7="",D7="",E7="",F7="",G7="",H7="",I7="",J7="",K7=""),"", IF(OR(C7="",D7="",E7="",F7="",G7="",H7="",I7="",J7="",K7=""),"Preenchimento incompleto: um ou mais células não preenchidas - B1.01", "Preenchimento correto")))))))))))) -> Preenchimento correto
B8: 2 | L8: =IF(OR($D$3="",$G$3=""),"Preenchimento incompleto: falta informar processo e(ou) Responsável pela análise - B02.01", IF(LEN($D$3)<>20,"Preenchimento incompleto (erro): a identificação do processo tem que ter 20 caracteres - BL02-01", IF(ISERR(MID($D$3,1,5)*1),"Preenchimento incompleto (erro): do primeiro ao quinto caractere do processo há pelo menos caractere um não numérico - BL02-02", IF(ISERR(MID($D$3,7,6)*1),"Preenchimento incompleto (erro): do sétimo ao décimo-segundo caractere do processo há pelo menos um caractere não numérico - BL02-03", IF(ISERR(MID($D$3,14,4)*1),"Preenchimento incompleto (erro): nos caracteres do ano do processo há pelo menos um caractere não numérico - BL02-04", IF(ISERR(MID($D$3,19,2)*1),"Preenchimento incompleto (erro): no dígito verificador do processo há pelo menos um caractere não numérico - BL02-05", IF(MID($D$3,6,1)<>".","Preenchimento incompleto (erro): o sexto caractere do processo tem que ser ponto (.) - BL02-06", IF(MID($D$3,13,1)<>"/","Preenchimento incompleto (erro): o décimo-terceiro caractere do processo tem que ser barra (/) - BL02-07", IF(MID($D$3,18,1)<>"-","Preenchimento incompleto (erro): o décimo-oitavo caractere do processo tem que ser um traço (-) - BL02-08", IF(MID($D$3,14,2)<>"20","Preenchimento incompleto (erro): os décimo-quarto e décimo-quinto caracteres do processo juntos tem que ser 20 - BL02-09", IF(AND(C8="",D8="",E8="",F8="",G8="",H8="",I8="",J8="",K8=""),"", IF(OR(C8="",D8="",E8="",F8="",G8="",H8="",I8="",J8="",K8=""),"Preenchimento incompleto: um ou mais células não preenchidas - B1.01", "Preenchimento correto"))))))))))))
B9: 3 | L9: =IF(OR($D$3="",$G$3=""),"Preenchimento incompleto: falta informar processo e(ou) Responsável pela análise - B02.01", IF(LEN($D$3)<>20,"Preenchimento incompleto (erro): a identificação do processo tem que ter 20 caracteres - BL02-01", IF(ISERR(MID($D$3,1,5)*1),"Preenchimento incompleto (erro): do primeiro ao quinto caractere do processo há pelo menos caractere um não numérico - BL02-02", IF(ISERR(MID($D$3,7,6)*1),"Preenchimento incompleto (erro): do sétimo ao décimo-segundo caractere do processo há pelo menos um caractere não numérico - BL02-03", IF(ISERR(MID($D$3,14,4)*1),"Preenchimento incompleto (erro): nos caracteres do ano do processo há pelo menos um caractere não numérico - BL02-04", IF(ISERR(MID($D$3,19,2)*1),"Preenchimento incompleto (erro): no dígito verificador do processo há pelo menos um caractere não numérico - BL02-05", IF(MID($D$3,6,1)<>".","Preenchimento incompleto (erro): o sexto caractere do processo tem que ser ponto (.) - BL02-06", IF(MID($D$3,13,1)<>"/","Preenchimento incompleto (erro): o décimo-terceiro caractere do processo tem que ser barra (/) - BL02-07", IF(MID($D$3,18,1)<>"-","Preenchimento incompleto (erro): o décimo-oitavo caractere do processo tem que ser um traço (-) - BL02-08", IF(MID($D$3,14,2)<>"20","Preenchimento incompleto (erro): os décimo-quarto e décimo-quinto caracteres do processo juntos tem que ser 20 - BL02-09", IF(AND(C9="",D9="",E9="",F9="",G9="",H9="",I9="",J9="",K9=""),"", IF(OR(C9="",D9="",E9="",F9="",G9="",H9="",I9="",J9="",K9=""),"Preenchimento incompleto: um ou mais células não preenchidas - B1.01", "Preenchimento correto"))))))))))))
B10: 4 | L10: =IF(OR($D$3="",$G$3=""),"Preenchimento incompleto: falta informar processo e(ou) Responsável pela análise - B02.01", IF(LEN($D$3)<>20,"Preenchimento incompleto (erro): a identificação do processo tem que ter 20 caracteres - BL02-01", IF(ISERR(MID($D$3,1,5)*1),"Preenchimento incompleto (erro): do primeiro ao quinto caractere do processo há pelo menos caractere um não numérico - BL02-02", IF(ISERR(MID($D$3,7,6)*1),"Preenchimento incompleto (erro): do sétimo ao décimo-segundo caractere do processo há pelo menos um caractere não numérico - BL02-03", IF(ISERR(MID($D$3,14,4)*1),"Preenchimento incompleto (erro): nos caracteres do ano do processo há pelo menos um caractere não numérico - BL02-04", IF(ISERR(MID($D$3,19,2)*1),"Preenchimento incompleto (erro): no dígito verificador do processo há pelo menos um caractere não numérico - BL02-05", IF(MID($D$3,6,1)<>".","Preenchimento incompleto (erro): o sexto caractere do processo tem que ser ponto (.) - BL02-06", IF(MID($D$3,13,1)<>"/","Preenchimento incompleto (erro): o décimo-terceiro caractere do processo tem que ser barra (/) - BL02-07", IF(MID($D$3,18,1)<>"-","Preenchimento incompleto (erro): o décimo-oitavo caractere do processo tem que ser um traço (-) - BL02-08", IF(MID($D$3,14,2)<>"20","Preenchimento incompleto (erro): os décimo-quarto e décimo-quinto caracteres do processo juntos tem que ser 20 - BL02-09", IF(AND(C10="",D10="",E10="",F10="",G10="",H10="",I10="",J10="",K10=""),"", IF(OR(C10="",D10="",E10="",F10="",G10="",H10="",I10="",J10="",K10=""),"Preenchimento incompleto: um ou mais células não preenchidas - B1.01", "Preenchimento correto"))))))))))))
B11: 5 | L11: =IF(OR($D$3="",$G$3=""),"Preenchimento incompleto: falta informar processo e(ou) Responsável pela análise - B02.01", IF(LEN($D$3)<>20,"Preenchimento incompleto (erro): a identificação do processo tem que ter 20 caracteres - BL02-01", IF(ISERR(MID($D$3,1,5)*1),"Preenchimento incompleto (erro): do primeiro ao quinto caractere do processo há pelo menos caractere um não numérico - BL02-02", IF(ISERR(MID($D$3,7,6)*1),"Preenchimento incompleto (erro): do sétimo ao décimo-segundo caractere do processo há pelo menos um caractere não numérico - BL02-03", IF(ISERR(MID($D$3,14,4)*1),"Preenchimento incompleto (erro): nos caracteres do ano do processo há pelo menos um caractere não numérico - BL02-04", IF(ISERR(MID($D$3,19,2)*1),"Preenchimento incompleto (erro): no dígito verificador do processo há pelo menos um caractere não numérico - BL02-05", IF(MID($D$3,6,1)<>".","Preenchimento incompleto (erro): o sexto caractere do processo tem que ser ponto (.) - BL02-06", IF(MID($D$3,13,1)<>"/","Preenchimento incompleto (erro): o décimo-terceiro caractere do processo tem que ser barra (/) - BL02-07", IF(MID($D$3,18,1)<>"-","Preenchimento incompleto (erro): o décimo-oitavo caractere do processo tem que ser um traço (-) - BL02-08", IF(MID($D$3,14,2)<>"20","Preenchimento incompleto (erro): os décimo-quarto e décimo-quinto caracteres do processo juntos tem que ser 20 - BL02-09", IF(AND(C11="",D11="",E11="",F11="",G11="",H11="",I11="",J11="",K11=""),"", IF(OR(C11="",D11="",E11="",F11="",G11="",H11="",I11="",J11="",K11=""),"Preenchimento incompleto: um ou mais células não preenchidas - B1.01", "Preenchimento correto"))))))))))))
B12: 6 | L12: =IF(OR($D$3="",$G$3=""),"Preenchimento incompleto: falta informar processo e(ou) Responsável pela análise - B02.01", IF(LEN($D$3)<>20,"Preenchimento incompleto (erro): a identificação do processo tem que ter 20 caracteres - BL02-01", IF(ISERR(MID($D$3,1,5)*1),"Preenchimento incompleto (erro): do primeiro ao quinto caractere do processo há pelo menos caractere um não numérico - BL02-02", IF(ISERR(MID($D$3,7,6)*1),"Preenchimento incompleto (erro): do sétimo ao décimo-segundo caractere do processo há pelo menos um caractere não numérico - BL02-03", IF(ISERR(MID($D$3,14,4)*1),"Preenchimento incompleto (erro): nos caracteres do ano do processo há pelo menos um caractere não numérico - BL02-04", IF(ISERR(MID($D$3,19,2)*1),"Preenchimento incompleto (erro): no dígito verificador do processo há pelo menos um caractere não numérico - BL02-05", IF(MID($D$3,6,1)<>".","Preenchimento incompleto (erro): o sexto caractere do processo tem que ser ponto (.) - BL02-06", IF(MID($D$3,13,1)<>"/","Preenchimento incompleto (erro): o décimo-terceiro caractere do processo tem que ser barra (/) - BL02-07", IF(MID($D$3,18,1)<>"-","Preenchimento incompleto (erro): o décimo-oitavo caractere do processo tem que ser um traço (-) - BL02-08", IF(MID($D$3,14,2)<>"20","Preenchimento incompleto (erro): os décimo-quarto e décimo-quinto caracteres do processo juntos tem que ser 20 - BL02-09", IF(AND(C12="",D12="",E12="",F12="",G12="",H12="",I12="",J12="",K12=""),"", IF(OR(C12="",D12="",E12="",F12="",G12="",H12="",I12="",J12="",K12=""),"Preenchimento incompleto: um ou mais células não preenchidas - B1.01", "Preenchimento correto"))))))))))))
B13: 7 | L13: =IF(OR($D$3="",$G$3=""),"Preenchimento incompleto: falta informar processo e(ou) Responsável pela análise - B02.01", IF(LEN($D$3)<>20,"Preenchimento incompleto (erro): a identificação do processo tem que ter 20 caracteres - BL02-01", IF(ISERR(MID($D$3,1,5)*1),"Preenchimento incompleto (erro): do primeiro ao quinto caractere do processo há pelo menos caractere um não numérico - BL02-02", IF(ISERR(MID($D$3,7,6)*1),"Preenchimento incompleto (erro): do sétimo ao décimo-segundo caractere do processo há pelo menos um caractere não numérico - BL02-03", IF(ISERR(MID($D$3,14,4)*1),"Preenchimento incompleto (erro): nos caracteres do ano do processo há pelo menos um caractere não numérico - BL02-04", IF(ISERR(MID($D$3,19,2)*1),"Preenchimento incompleto (erro): no dígito verificador do processo há pelo menos um caractere não numérico - BL02-05", IF(MID($D$3,6,1)<>".","Preenchimento incompleto (erro): o sexto caractere do processo tem que ser ponto (.) - BL02-06", IF(MID($D$3,13,1)<>"/","Preenchimento incompleto (erro): o décimo-terceiro caractere do processo tem que ser barra (/) - BL02-07", IF(MID($D$3,18,1)<>"-","Preenchimento incompleto (erro): o décimo-oitavo caractere do processo tem que ser um traço (-) - BL02-08", IF(MID($D$3,14,2)<>"20","Preenchimento incompleto (erro): os décimo-quarto e décimo-quinto caracteres do processo juntos tem que ser 20 - BL02-09", IF(AND(C13="",D13="",E13="",F13="",G13="",H13="",I13="",J13="",K13=""),"", IF(OR(C13="",D13="",E13="",F13="",G13="",H13="",I13="",J13="",K13=""),"Preenchimento incompleto: um ou mais células não preenchidas - B1.01", "Preenchimento correto"))))))))))))
B14: 8 | L14: =IF(OR($D$3="",$G$3=""),"Preenchimento incompleto: falta informar processo e(ou) Responsável pela análise - B02.01", IF(LEN($D$3)<>20,"Preenchimento incompleto (erro): a identificação do processo tem que ter 20 caracteres - BL02-01", IF(ISERR(MID($D$3,1,5)*1),"Preenchimento incompleto (erro): do primeiro ao quinto caractere do processo há pelo menos caractere um não numérico - BL02-02", IF(ISERR(MID($D$3,7,6)*1),"Preenchimento incompleto (erro): do sétimo ao décimo-segundo caractere do processo há pelo menos um caractere não numérico - BL02-03", IF(ISERR(MID($D$3,14,4)*1),"Preenchimento incompleto (erro): nos caracteres do ano do processo há pelo menos um caractere não numérico - BL02-04", IF(ISERR(MID($D$3,19,2)*1),"Preenchimento incompleto (erro): no dígito verificador do processo há pelo menos um caractere não numérico - BL02-05", IF(MID($D$3,6,1)<>".","Preenchimento incompleto (erro): o sexto caractere do processo tem que ser ponto (.) - BL02-06", IF(MID($D$3,13,1)<>"/","Preenchimento incompleto (erro): o décimo-terceiro caractere do processo tem que ser barra (/) - BL02-07", IF(MID($D$3,18,1)<>"-","Preenchimento incompleto (erro): o décimo-oitavo caractere do processo tem que ser um traço (-) - BL02-08", IF(MID($D$3,14,2)<>"20","Preenchimento incompleto (erro): os décimo-quarto e décimo-quinto caracteres do processo juntos tem que ser 20 - BL02-09", IF(AND(C14="",D14="",E14="",F14="",G14="",H14="",I14="",J14="",K14=""),"", IF(OR(C14="",D14="",E14="",F14="",G14="",H14="",I14="",J14="",K14=""),"Preenchimento incompleto: um ou mais células não preenchidas - B1.01", "Preenchimento correto"))))))))))))
B15: 6 | L15: =IF(OR($D$3="",$G$3=""),"Preenchimento incompleto: falta informar processo e(ou) Responsável pela análise - B02.01", IF(LEN($D$3)<>20,"Preenchimento incompleto (erro): a identificação do processo tem que ter 20 caracteres - BL02-01", IF(ISERR(MID($D$3,1,5)*1),"Preenchimento incompleto (erro): do primeiro ao quinto caractere do processo há pelo menos caractere um não numérico - BL02-02", IF(ISERR(MID($D$3,7,6)*1),"Preenchimento incompleto (erro): do sétimo ao décimo-segundo caractere do processo há pelo menos um caractere não numérico - BL02-03", IF(ISERR(MID($D$3,14,4)*1),"Preenchimento incompleto (erro): nos caracteres do ano do processo há pelo menos um caractere não numérico - BL02-04", IF(ISERR(MID($D$3,19,2)*1),"Preenchimento incompleto (erro): no dígito verificador do processo há pelo menos um caractere não numérico - BL02-05", IF(MID($D$3,6,1)<>".","Preenchimento incompleto (erro): o sexto caractere do processo tem que ser ponto (.) - BL02-06", IF(MID($D$3,13,1)<>"/","Preenchimento incompleto (erro): o décimo-terceiro caractere do processo tem que ser barra (/) - BL02-07", IF(MID($D$3,18,1)<>"-","Preenchimento incompleto (erro): o décimo-oitavo caractere do processo tem que ser um traço (-) - BL02-08", IF(MID($D$3,14,2)<>"20","Preenchimento incompleto (erro): os décimo-quarto e décimo-quinto caracteres do processo juntos tem que ser 20 - BL02-09", IF(AND(C15="",D15="",E15="",F15="",G15="",H15="",I15="",J15="",K15=""),"", IF(OR(C15="",D15="",E15="",F15="",G15="",H15="",I15="",J15="",K15=""),"Preenchimento incompleto: um ou mais células não preenchidas - B1.01", "Preenchimento correto"))))))))))))
B16: 10 | L16: =IF(OR($D$3="",$G$3=""),"Preenchimento incompleto: falta informar processo e(ou) Responsável pela análise - B02.01", IF(LEN($D$3)<>20,"Preenchimento incompleto (erro): a identificação do processo tem que ter 20 caracteres - BL02-01", IF(ISERR(MID($D$3,1,5)*1),"Preenchimento incompleto (erro): do primeiro ao quinto caractere do processo há pelo menos caractere um não numérico - BL02-02", IF(ISERR(MID($D$3,7,6)*1),"Preenchimento incompleto (erro): do sétimo ao décimo-segundo caractere do processo há pelo menos um caractere não numérico - BL02-03", IF(ISERR(MID($D$3,14,4)*1),"Preenchimento incompleto (erro): nos caracteres do ano do processo há pelo menos um caractere não numérico - BL02-04", IF(ISERR(MID($D$3,19,2)*1),"Preenchimento incompleto (erro): no dígito verificador do processo há pelo menos um caractere não numérico - BL02-05", IF(MID($D$3,6,1)<>".","Preenchimento incompleto (erro): o sexto caractere do processo tem que ser ponto (.) - BL02-06", IF(MID($D$3,13,1)<>"/","Preenchimento incompleto (erro): o décimo-terceiro caractere do processo tem que ser barra (/) - BL02-07", IF(MID($D$3,18,1)<>"-","Preenchimento incompleto (erro): o décimo-oitavo caractere do processo tem que ser um traço (-) - BL02-08", IF(MID($D$3,14,2)<>"20","Preenchimento incompleto (erro): os décimo-quarto e décimo-quinto caracteres do processo juntos tem que ser 20 - BL02-09", IF(AND(C16="",D16="",E16="",F16="",G16="",H16="",I16="",J16="",K16=""),"", IF(OR(C16="",D16="",E16="",F16="",G16="",H16="",I16="",J16="",K16=""),"Preenchimento incompleto: um ou mais células não preenchidas - B1.01", "Preenchimento correto"))))))))))))
B17: 11 | L17: =IF(OR($D$3="",$G$3=""),"Preenchimento incompleto: falta informar processo e(ou) Responsável pela análise - B02.01", IF(LEN($D$3)<>20,"Preenchimento incompleto (erro): a identificação do processo tem que ter 20 caracteres - BL02-01", IF(ISERR(MID($D$3,1,5)*1),"Preenchimento incompleto (erro): do primeiro ao quinto caractere do processo há pelo menos caractere um não numérico - BL02-02", IF(ISERR(MID($D$3,7,6)*1),"Preenchimento incompleto (erro): do sétimo ao décimo-segundo caractere do processo há pelo menos um caractere não numérico - BL02-03", IF(ISERR(MID($D$3,14,4)*1),"Preenchimento incompleto (erro): nos caracteres do ano do processo há pelo menos um caractere não numérico - BL02-04", IF(ISERR(MID($D$3,19,2)*1),"Preenchimento incompleto (erro): no dígito verificador do processo há pelo menos um caractere não numérico - BL02-05", IF(MID($D$3,6,1)<>".","Preenchimento incompleto (erro): o sexto caractere do processo tem que ser ponto (.) - BL02-06", IF(MID($D$3,13,1)<>"/","Preenchimento incompleto (erro): o décimo-terceiro caractere do processo tem que ser barra (/) - BL02-07", IF(MID($D$3,18,1)<>"-","Preenchimento incompleto (erro): o décimo-oitavo caractere do processo tem que ser um traço (-) - BL02-08", IF(MID($D$3,14,2)<>"20","Preenchimento incompleto (erro): os décimo-quarto e décimo-quinto caracteres do processo juntos tem que ser 20 - BL02-09", IF(AND(C17="",D17="",E17="",F17="",G17="",H17="",I17="",J17="",K17=""),"", IF(OR(C17="",D17="",E17="",F17="",G17="",H17="",I17="",J17="",K17=""),"Preenchimento incompleto: um ou mais células não preenchidas - B1.01", "Preenchimento correto"))))))))))))
B18: 12 | L18: =IF(OR($D$3="",$G$3=""),"Preenchimento incompleto: falta informar processo e(ou) Responsável pela análise - B02.01", IF(LEN($D$3)<>20,"Preenchimento incompleto (erro): a identificação do processo tem que ter 20 caracteres - BL02-01", IF(ISERR(MID($D$3,1,5)*1),"Preenchimento incompleto (erro): do primeiro ao quinto caractere do processo há pelo menos caractere um não numérico - BL02-02", IF(ISERR(MID($D$3,7,6)*1),"Preenchimento incompleto (erro): do sétimo ao décimo-segundo caractere do processo há pelo menos um caractere não numérico - BL02-03", IF(ISERR(MID($D$3,14,4)*1),"Preenchimento incompleto (erro): nos caracteres do ano do processo há pelo menos um caractere não numérico - BL02-04", IF(ISERR(MID($D$3,19,2)*1),"Preenchimento incompleto (erro): no dígito verificador do processo há pelo menos um caractere não numérico - BL02-05", IF(MID($D$3,6,1)<>".","Preenchimento incompleto (erro): o sexto caractere do processo tem que ser ponto (.) - BL02-06", IF(MID($D$3,13,1)<>"/","Preenchimento incompleto (erro): o décimo-terceiro caractere do processo tem que ser barra (/) - BL02-07", IF(MID($D$3,18,1)<>"-","Preenchimento incompleto (erro): o décimo-oitavo caractere do processo tem que ser um traço (-) - BL02-08", IF(MID($D$3,14,2)<>"20","Preenchimento incompleto (erro): os décimo-quarto e décimo-quinto caracteres do processo juntos tem que ser 20 - BL02-09", IF(AND(C18="",D18="",E18="",F18="",G18="",H18="",I18="",J18="",K18=""),"", IF(OR(C18="",D18="",E18="",F18="",G18="",H18="",I18="",J18="",K18=""),"Preenchimento incompleto: um ou mais células não preenchidas - B1.01", "Preenchimento correto"))))))))))))
B19: 13 | L19: =IF(OR($D$3="",$G$3=""),"Preenchimento incompleto: falta informar processo e(ou) Responsável pela análise - B02.01", IF(LEN($D$3)<>20,"Preenchimento incompleto (erro): a identificação do processo tem que ter 20 caracteres - BL02-01", IF(ISERR(MID($D$3,1,5)*1),"Preenchimento incompleto (erro): do primeiro ao quinto caractere do processo há pelo menos caractere um não numérico - BL02-02", IF(ISERR(MID($D$3,7,6)*1),"Preenchimento incompleto (erro): do sétimo ao décimo-segundo caractere do processo há pelo menos um caractere não numérico - BL02-03", IF(ISERR(MID($D$3,14,4)*1),"Preenchimento incompleto (erro): nos caracteres do ano do processo há pelo menos um caractere não numérico - BL02-04", IF(ISERR(MID($D$3,19,2)*1),"Preenchimento incompleto (erro): no dígito verificador do processo há pelo menos um caractere não numérico - BL02-05", IF(MID($D$3,6,1)<>".","Preenchimento incompleto (erro): o sexto caractere do processo tem que ser ponto (.) - BL02-06", IF(MID($D$3,13,1)<>"/","Preenchimento incompleto (erro): o décimo-terceiro caractere do processo tem que ser barra (/) - BL02-07", IF(MID($D$3,18,1)<>"-","Preenchimento incompleto (erro): o décimo-oitavo caractere do processo tem que ser um traço (-) - BL02-08", IF(MID($D$3,14,2)<>"20","Preenchimento incompleto (erro): os décimo-quarto e décimo-quinto caracteres do processo juntos tem que ser 20 - BL02-09", IF(AND(C19="",D19="",E19="",F19="",G19="",H19="",I19="",J19="",K19=""),"", IF(OR(C19="",D19="",E19="",F19="",G19="",H19="",I19="",J19="",K19=""),"Preenchimento incompleto: um ou mais células não preenchidas - B1.01", "Preenchimento correto"))))))))))))
... B306: 300 | L306: =IF(OR($D$3="",$G$3=""),"Preenchimento incompleto: falta informar processo e(ou) Responsável pela análise - B02.01", IF(LEN($D$3)<>20,"Preenchimento incompleto (erro): a identificação do processo tem que ter 20 caracteres - BL02-01", IF(ISERR(MID($D$3,1,5)*1),"Preenchimento incompleto (erro): do primeiro ao quinto caractere do processo há pelo menos caractere um não numérico - BL02-02", IF(ISERR(MID($D$3,7,6)*1),"Preenchimento incompleto (erro): do sétimo ao décimo-segundo caractere do processo há pelo menos um caractere não numérico - BL02-03", IF(ISERR(MID($D$3,14,4)*1),"Preenchimento incompleto (erro): nos caracteres do ano do processo há pelo menos um caractere não numérico - BL02-04", IF(ISERR(MID($D$3,19,2)*1),"Preenchimento incompleto (erro): no dígito verificador do processo há pelo menos um caractere não numérico - BL02-05", IF(MID($D$3,6,1)<>".","Preenchimento incompleto (erro): o sexto caractere do processo tem que ser ponto (.) - BL02-06", IF(MID($D$3,13,1)<>"/","Preenchimento incompleto (erro): o décimo-terceiro caractere do processo tem que ser barra (/) - BL02-07", IF(MID($D$3,18,1)<>"-","Preenchimento incompleto (erro): o décimo-oitavo caractere do processo tem que ser um traço (-) - BL02-08", IF(MID($D$3,14,2)<>"20","Preenchimento incompleto (erro): os décimo-quarto e décimo-quinto caracteres do processo juntos tem que ser 20 - BL02-09", IF(AND(C306="",D306="",E306="",F306="",G306="",H306="",I306="",J306="",K306=""),"", IF(OR(C306="",D306="",E306="",F306="",G306="",H306="",I306="",J306="",K306=""),"Preenchimento incompleto: um ou mais células não preenchidas - B1.01", "Preenchimento correto"))))))))))))

Sheet 2-CTF-IBAMA
B2: Planilha ASUS - Análise de informações obrigatórias associadas aos itens em aquisição de bens e serviços 2. Aba [2-CTF-IBAMA]: Análise de obrigatoriedade de Cadastro Técnico Federal de Atividades Potencialmente Poluidoras e Utilizadoras de Recursos Ambientais de entes contratados
B3: Processo licitatório (carregado da aba 1-ITENS) | E3: =IF('1-ITENS'!D3="","",'1-ITENS'!D3) -> 21181.001295/2025-97 | F3: Preencher: Responsável pela análise (pessoa): | H3: Marcelo Fernandes Camargos
H4: =IF(COUNTIF(K7:K200,"*incompleto*")<>0,"Há linhas com preenchimento incompleto", IF(COUNTIF(K7:K200,"")=194,"Aba ainda não preenchida", "Todas as linhas com preenchimento realizado")) -> Todas as linhas com preenchimento realizado
B5: Instrução Normativa 13, de 23 de agosto de 2021 Regulamenta a obrigação de inscrição no Cadastro Técnico Federal de Atividades Potencialmente Poluidoras e Utilizadoras de Recursos Ambientais e revoga os atos normativos consolidados, em atendimento ao Decreto nº 10.139, de 28 de novembro de 2019 ANEXO I (Redação dada pela Instrução Normativa 23, de 14 de novembro de 2024) ATIVIDADES POTENCIALMENTE POLUIDORAS E UTILIZADORAS DE RECURSOS AMBIENTAIS
B6: N° de ordem na aba | C6: CATEGORIA NA IN 13/2021 IBAMA | D6: CÓDIGO NA IN 13/2021 IBAMA | E6: DESCRIÇÃO NA NA IN 13/2021 IBAMA | F6: Detalhamento | G6: Obrigatoriedade de inscrição no CTFA de Pessoa jurídica | H6: Obrigatoriedade de inscrição no CTFA de Pessoa física | I6: A atividade da contratada necessária à execução do contrato resultante do procedimento licitatório se encontra relacionada à Categoria/Código de atividade potencialmente poluidora? | J6: Itens da necessidade que se enquadram à Categoria/Código | K6: Auditoria de preenchimento
B7: 1 | C7: Extração e Tratamento de Minerais | D7: 1 – 1 | E7: Pesquisa mineral com guia de utilização | F7: *** | G7: Sim | H7: Sim | I7: Não | J7: Não se Aplica | K7: =IF($H$3="","Preenchimento incompleto: falta informar o Responsável pela análise - B02.01", IF(AND(I7="",J7=""),"", IF(OR(I7="",J7=""),"Preenchimento incompleto: um ou mais células não preenchidas - B01.01", "Preenchimento correto"))) -> Preenchimento correto
B8: 2 | C8: Extração e Tratamento de Minerais | D8: 1 – 2 | E8: Lavra a céu aberto, inclusive de aluvião, com ou sem beneficiamento | F8: *** | G8: Sim | H8: Sim | I8: Não | J8: Não se Aplica | K8: =IF($H$3="","Preenchimento incompleto: falta informar o Responsável pela análise - B02.01", IF(AND(I8="",J8=""),"", IF(OR(I8="",J8=""),"Preenchimento incompleto: um ou mais células não preenchidas - B01.01", "Preenchimento correto"))) -> Preenchimento correto
B9: 3 | C9: Extração e Tratamento de Minerais | D9: 1 – 3 | E9: Lavra subterrânea com ou sem beneficiamento | F9: *** | G9: Sim | H9: Não | I9: Não | J9: Não se Aplica | K9: =IF($H$3="","Preenchimento incompleto: falta informar o Responsável pela análise - B02.01", IF(AND(I9="",J9=""),"", IF(OR(I9="",J9=""),"Preenchimento incompleto: um ou mais células não preenchidas - B01.01", "Preenchimento correto"))) -> Preenchimento correto
B10: 4 | C10: Extração e Tratamento de Minerais | D10: 1 – 4 | E10: Lavra garimpeira | F10: *** | G10: Sim | H10: Sim | I10: Não | J10: Não se Aplica | K10: =IF($H$3="","Preenchimento incompleto: falta informar o Responsável pela análise - B02.01", IF(AND(I10="",J10=""),"", IF(OR(I10="",J10=""),"Preenchimento incompleto: um ou mais células não preenchidas - B01.01", "Preenchimento correto"))) -> Preenchimento correto
B11: 5 | C11: Extração e Tratamento de Minerais | D11: 1 – 7 | E11: Lavra garimpeira – Decreto nº 97.507/1989 | F11: *** | G11: Sim | H11: Sim | I11: Não | J11: Não se Aplica | K11: =IF($H$3="","Preenchimento incompleto: falta informar o Responsável pela análise - B02.01", IF(AND(I11="",J11=""),"", IF(OR(I11="",J11=""),"Preenchimento incompleto: um ou mais células não preenchidas - B01.01", "Preenchimento correto"))) -> Preenchimento correto
B12: 6 | C12: Extração e Tratamento de Minerais | D12: 1 – 5 | E12: Perfuração de poços e produção de petróleo e gás natural | F12: *** | G12: Sim | H12: Não | I12: Não | J12: Não se Aplica | K12: =IF($H$3="","Preenchimento incompleto: falta informar o Responsável pela análise - B02.01", IF(AND(I12="",J12=""),"", IF(OR(I12="",J12=""),"Preenchimento incompleto: um ou mais células não preenchidas - B01.01", "Preenchimento correto"))) -> Preenchimento correto
B13: 7 | C13: Indústria de Produtos Minerais Não Metálicos | D13: 2 – 1 | E13: Beneficiamento de minerais não metálicos, não associados a extração | F13: *** | G13: Sim | H13: Não | I13: Não | J13: Não se Aplica | K13: =IF($H$3="","Preenchimento incompleto: falta informar o Responsável pela análise - B02.01", IF(AND(I13="",J13=""),"", IF(OR(I13="",J13=""),"Preenchimento incompleto: um ou mais células não preenchidas - B01.01", "Preenchimento correto"))) -> Preenchimento correto
B14: 8 | C14: Indústria de Produtos Minerais Não Metálicos | D14: 2 – 2 | E14: Fabricação e elaboração de produtos minerais não metálicos tais como produção de material cerâmico, cimento, gesso, amianto, vidro e similares | F14: *** | G14: Sim | H14: Não | I14: Não | J14: Não se Aplica | K14: =IF($H$3="","Preenchimento incompleto: falta informar o Responsável pela análise - B02.01", IF(AND(I14="",J14=""),"", IF(OR(I14="",J14=""),"Preenchimento incompleto: um ou mais células não preenchidas - B01.01", "Preenchimento correto"))) -> Preenchimento correto
B15: 9 | C15: Indústria Metalúrgica | D15: 3 – 1 | E15: Fabricação de aço e de produtos siderúrgicos | F15: *** | G15: Sim | H15: Não | I15: Não | J15: Não se Aplica | K15: =IF($H$3="","Preenchimento incompleto: falta informar o Responsável pela análise - B02.01", IF(AND(I15="",J15=""),"", IF(OR(I15="",J15=""),"Preenchimento incompleto: um ou mais células não preenchidas - B01.01", "Preenchimento correto"))) -> Preenchimento correto
B16: 10 | C16: Indústria Metalúrgica | D16: 3 – 2 | E16: Produção de fundidos de ferro e aço, forjados, arames, relaminados com ou sem tratamento de superfície, inclusive galvanoplastia | F16: *** | G16: Sim | H16: Não | I16: Não | J16: Não se Aplica | K16: =IF($H$3="","Preenchimento incompleto: falta informar o Responsável pela análise - B02.01", IF(AND(I16="",J16=""),"", IF(OR(I16="",J16=""),"Preenchimento incompleto: um ou mais células não preenchidas - B01.01", "Preenchimento correto"))) -> Preenchimento correto
B17: 11 | C17: Indústria Metalúrgica | D17: 3 – 3 | E17: Metalurgia dos metais não-ferrosos, em formas primárias e secundárias, inclusive ouro | F17: *** | G17: Sim | H17: Não | I17: Não | J17: Não se Aplica | K17: =IF($H$3="","Preenchimento incompleto: falta informar o Responsável pela análise - B02.01", IF(AND(I17="",J17=""),"", IF(OR(I17="",J17=""),"Preenchimento incompleto: um ou mais células não preenchidas - B01.01", "Preenchimento correto"))) -> Preenchimento correto
B18: 12 | C18: Indústria Metalúrgica | D18: 3 – 4 | E18: Produção de laminados, ligas, artefatos de metais não-ferrosos com ou sem tratamento de superfície, inclusive galvanoplastia | F18: *** | G18: Sim | H18: Não | I18: Não | J18: Não se Aplica | K18: =IF($H$3="","Preenchimento incompleto: falta informar o Responsável pela análise - B02.01", IF(AND(I18="",J18=""),"", IF(OR(I18="",J18=""),"Preenchimento incompleto: um ou mais células não preenchidas - B01.01", "Preenchimento correto"))) -> Preenchimento correto
... B164: 158 | C164: Atividades sujeitas a controle e fiscalização ambiental não relacionadas no Anexo VIII da Lei nº 6.938/1981 | D164: 21 – 47 | E164: Aplicação de agrotóxicos e afins – Lei nº 7.802/1989 | F164: Agrotóxicos. | G164: Sim | H164: Sim | I164: Não | J164: Não se Aplica | K164: =IF($H$3="","Preenchimento incompleto: falta informar o Responsável pela análise - B02.01", IF(AND(I164="",J164=""),"", IF(OR(I164="",J164=""),"Preenchimento incompleto: um ou mais células não preenchidas - B01.01", "Preenchimento correto"))) -> Preenchimento correto
B165: 159 | C165: Atividades sujeitas a controle e fiscalização ambiental não relacionadas no Anexo VIII da Lei nº 6.938/1981 | D165: 21 – 48 | E165: Consumo industrial de madeira, de lenha e de carvão vegetal – Lei nº 12.651/2012: art. 34 | G165: Sim | H165: Não | I165: Não | J165: Não se Aplica | K165: =IF($H$3="","Preenchimento incompleto: falta informar o Responsável pela análise - B02.01", IF(AND(I165="",J165=""),"", IF(OR(I165="",J165=""),"Preenchimento incompleto: um ou mais células não preenchidas - B01.01", "Preenchimento correto"))) -> Preenchimento correto
B166: 160 | C166: Atividades sujeitas a controle e fiscalização ambiental não relacionadas no Anexo VIII da Lei nº 6.938/1981 | D166: 21 – 49 | E166: Transporte de produtos florestais – Lei nº 12.651/2012: art. 36 | G166: Sim | H166: Sim | I166: Não | J166: Não se Aplica | K166: =IF($H$3="","Preenchimento incompleto: falta informar o Responsável pela análise - B02.01", IF(AND(I166="",J166=""),"", IF(OR(I166="",J166=""),"Preenchimento incompleto: um ou mais células não preenchidas - B01.01", "Preenchimento correto"))) -> Preenchimento correto
B167: 161 | C167: Atividades sujeitas a controle e fiscalização ambiental não relacionadas no Anexo VIII da Lei nº 6.938/1981 | D167: 21 – 50 | E167: Armazenamento de produtos florestais – Lei nº 12.651/2012: art. 36 | G167: Sim | H167: Não | I167: Não | J167: Não se Aplica | K167: =IF($H$3="","Preenchimento incompleto: falta informar o Responsável pela análise - B02.01", IF(AND(I167="",J167=""),"", IF(OR(I167="",J167=""),"Preenchimento incompleto: um ou mais células não preenchidas - B01.01", "Preenchimento correto"))) -> Preenchimento correto
B168: 162 | C168: Atividades sujeitas a controle e fiscalização ambiental não relacionadas no Anexo VIII da Lei nº 6.938/1981 | D168: 21 – 51 | E168: Formulação de produtos biorremediadores – Resolução CONAMA nº 463/2014 | F168: Produtos destinados à remediação (recuperação de ambientes e ecossistemas, tratamento de efluentes e resíduos), e dispersantes químicos em incidentes de poluição por óleo no mar. | G168: Sim | H168: Não | I168: Não | J168: Não se Aplica | K168: =IF($H$3="","Preenchimento incompleto: falta informar o Responsável pela análise - B02.01", IF(AND(I168="",J168=""),"", IF(OR(I168="",J168=""),"Preenchimento incompleto: um ou mais células não preenchidas - B01.01", "Preenchimento correto"))) -> Preenchimento correto
B169: 163 | C169: Atividades sujeitas a controle e fiscalização ambiental não relacionadas no Anexo VIII da Lei nº 6.938/1981 | D169: 21 – 52 | E169: Centro de triagem e reabilitação – Resolução CONAMA nº 489/2018: art. 4º, II | F169: Fauna silvestre ou exótica em cativeiro. | G169: Sim | H169: Não | I169: Não | J169: Não se Aplica | K169: =IF($H$3="","Preenchimento incompleto: falta informar o Responsável pela análise - B02.01", IF(AND(I169="",J169=""),"", IF(OR(I169="",J169=""),"Preenchimento incompleto: um ou mais células não preenchidas - B01.01", "Preenchimento correto"))) -> Preenchimento correto
B170: 164 | C170: Atividades sujeitas a controle e fiscalização ambiental não relacionadas no Anexo VIII da Lei nº 6.938/1981 | D170: 21 – 53 | E170: Manutenção de fauna silvestre ou exótica – Resolução CONAMA nº 489/2018: art. 4º, IX | F170: *** | G170: Sim | H170: Sim | I170: Não | J170: Não se Aplica | K170: =IF($H$3="","Preenchimento incompleto: falta informar o Responsável pela análise - B02.01", IF(AND(I170="",J170=""),"", IF(OR(I170="",J170=""),"Preenchimento incompleto: um ou mais células não preenchidas - B01.01", "Preenchimento correto"))) -> Preenchimento correto
B171: 165 | C171: Atividades sujeitas a controle e fiscalização ambiental não relacionadas no Anexo VIII da Lei nº 6.938/1981 | D171: 21 – 55 | E171: Criação científica de fauna exótica e de fauna silvestre - Resolução CONAMA nº 489/2018: art. 4º, III | F171: *** | G171: Sim | H171: Não | I171: Não | J171: Não se Aplica | K171: =IF($H$3="","Preenchimento incompleto: falta informar o Responsável pela análise - B02.01", IF(AND(I171="",J171=""),"", IF(OR(I171="",J171=""),"Preenchimento incompleto: um ou mais células não preenchidas - B01.01", "Preenchimento correto"))) -> Preenchimento correto
B172: 166 | C172: Atividades sujeitas a controle e fiscalização ambiental não relacionadas no Anexo VIII da Lei nº 6.938/1981 | D172: 21 – 56 | E172: Criação conservacionista de fauna silvestre - Resolução CONAMA nº 489/2018: art. 4º, V | F172: *** | G172: Sim | H172: Sim | I172: Não | J172: Não se Aplica | K172: =IF($H$3="","Preenchimento incompleto: falta informar o Responsável pela análise - B02.01", IF(AND(I172="",J172=""),"", IF(OR(I172="",J172=""),"Preenchimento incompleto: um ou mais células não preenchidas - B01.01", "Preenchimento correto"))) -> Preenchimento correto
B173: 167 | C173: Atividades sujeitas a controle e fiscalização ambiental não relacionadas no Anexo VIII da Lei nº 6.938/1981 | D173: 21 – 57 | E173: Importação ou exportação de fauna exótica – Portaria IBAMA nº 93/1998 | F173: *** | G173: Sim | H173: Sim | I173: Não | J173: Não se Aplica | K173: =IF($H$3="","Preenchimento incompleto: falta informar o Responsável pela análise - B02.01", IF(AND(I173="",J173=""),"", IF(OR(I173="",J173=""),"Preenchimento incompleto: um ou mais células não preenchidas - B01.01", "Preenchimento correto"))) -> Preenchimento correto
B174: 168 | C174: Atividades sujeitas a controle e fiscalização ambiental não relacionadas no Anexo VIII da Lei nº 6.938/1981 | D174: 21 – 58 | E174: Manejo de fauna exótica invasora – Resolução CONABIO nº 7/2018 | F174: *** | G174: Sim | H174: Sim | I174: Não | J174: Não se Aplica | K174: =IF($H$3="","Preenchimento incompleto: falta informar o Responsável pela análise - B02.01", IF(AND(I174="",J174=""),"", IF(OR(I174="",J174=""),"Preenchimento incompleto: um ou mais células não preenchidas - B01.01", "Preenchimento correto"))) -> Preenchimento correto
B175: 169 | C175: Atividades sujeitas a controle e fiscalização ambiental não relacionadas no Anexo VIII da Lei nº 6.938/1981 | D175: 21 – 59 | E175: Manejo de fauna sinantrópica nociva - Instrução Normativa IBAMA nº 141/2006 | F175: *** | G175: Sim | H175: Sim | I175: Não | J175: Não se Aplica | K175: =IF($H$3="","Preenchimento incompleto: falta informar o Responsável pela análise - B02.01", IF(AND(I175="",J175=""),"", IF(OR(I175="",J175=""),"Preenchimento incompleto: um ou mais células não preenchidas - B01.01", "Preenchimento correto"))) -> Preenchimento correto
B176: 170 | C176: Atividades sujeitas a controle e fiscalização ambiental não relacionadas no Anexo VIII da Lei nº 6.938/1981 | D176: 21 – 60 | E176: Criação amadorista de passeriformes da fauna silvestre - Instrução Normativa IBAMA nº 10/2011 | F176: *** | G176: Não | H176: Sim | I176: Não | J176: Não se Aplica | K176: =IF($H$3="","Preenchimento incompleto: falta informar o Responsável pela análise - B02.01", IF(AND(I176="",J176=""),"", IF(OR(I176="",J176=""),"Preenchimento incompleto: um ou mais células não preenchidas - B01.01", "Preenchimento correto"))) -> Preenchimento correto
B177: 171 | C177: Atividades sujeitas a controle e fiscalização ambiental não relacionadas no Anexo VIII da Lei nº 6.938/1981 | D177: 21 – 66 | E177: Produção de agrotóxicos de agentes biológicos e microbiológicos de controle – Lei nº 7.802/1989 | F177: Agrotóxicos. | G177: Sim | H177: Não | I177: Não | J177: Não se Aplica | K177: =IF($H$3="","Preenchimento incompleto: falta informar o Responsável pela análise - B02.01", IF(AND(I177="",J177=""),"", IF(OR(I177="",J177=""),"Preenchimento incompleto: um ou mais células não preenchidas - B01.01", "Preenchimento correto"))) -> Preenchimento correto
B178: 172 | C178: Atividades sujeitas a controle e fiscalização ambiental não relacionadas no Anexo VIII da Lei nº 6.938/1981 | D178: 21 – 67 | E178: Comércio atacadista de madeira, de lenha e de outros produtos florestais – Lei nº 12.651/2012: art. 37 | F178: *** | G178: Sim | H178: Não | I178: Não | J178: Não se Aplica | K178: =IF($H$3="","Preenchimento incompleto: falta informar o Responsável pela análise - B02.01", IF(AND(I178="",J178=""),"", IF(OR(I178="",J178=""),"Preenchimento incompleto: um ou mais células não preenchidas - B01.01", "Preenchimento correto"))) -> Preenchimento correto
B179: 173 | C179: Atividades sujeitas a controle e fiscalização ambiental não relacionadas no Anexo VIII da Lei nº 6.938/1981 | D179: 21 – 68 | E179: Comércio varejista de madeira, de lenha e de outros produtos florestais – Lei nº 12.651/2012: art. 37 | F179: *** | G179: Sim | H179: Não | I179: Não | J179: Não se Aplica | K179: =IF($H$3="","Preenchimento incompleto: falta informar o Responsável pela análise - B02.01", IF(AND(I179="",J179=""),"", IF(OR(I179="",J179=""),"Preenchimento incompleto: um ou mais células não preenchidas - B01.01", "Preenchimento correto"))) -> Preenchimento correto
... B200: 194 | C200: Atividades sujeitas a controle e fiscalização ambiental não relacionadas no Anexo VIII da Lei nº 6.938/1981 – Obras civis | D200: 22 – 8 | E200: Outras obras de infraestrutura – Lei nº 6.938/1981: art. 10 | F200: *** | G200: Sim | H200: Não | I200: Não | J200: Não se Aplica | K200: =IF($H$3="","Preenchimento incompleto: falta informar o Responsável pela análise - B02.01", IF(AND(I200="",J200=""),"", IF(OR(I200="",J200=""),"Preenchimento incompleto: um ou mais células não preenchidas - B01.01", "Preenchimento correto"))) -> Preenchimento correto

Sheet 3-INMETRO
B2: Planilha ASUS - Análise de informações obrigatórias associadas aos itens em aquisição de bens e serviços 3. Aba [3-INMETRO]: Análise de enquadramento de itens em aquisição à regulação do INMETRO
B3: Processo licitatório (carregado da aba 1-ITENS): | D3: =IF('1-ITENS'!D3="","",'1-ITENS'!D3) -> 21181.001295/2025-97 | F3: Preencher: Responsável pela análise (pessoa): | H3: Marcelo Fernandes Camargos
H4: =IF(COUNTIF(K7:K156,"*incompleto*")<>0,"Há linhas com preenchimento incompleto", IF(COUNTIF(K7:K156,"")=150,"Aba ainda não preenchida", "Todas as linhas com preenchimento realizado")) -> Todas as linhas com preenchimento realizado
B5: Avaliação da Conformidade pelo INMETRO http://www.inmetro.gov.br/qualidade/rtepac/compulsorios.asp
B6: Nº de ordem na aba | C6: Objeto | D6: Tipo de Objeto | E6: Mecanismo de Avaliação da Conformidade | F6: Órgão Regulamentador | G6: Tipo de portaria | H6: Portaria Inmetro | I6: Os itens que compõem a necessidade objeto do procedimento licitatório se eenquadram em algum objeto sujeito à avaliação de conformidade do INMETRO? | J6: Itens que se enquadram no objeto sujeito à avaliação de conformidade do INMETRO | K6: Auditoria de preenchimento
B7: 1 | C7: Adaptação de Dispositivo de Fixação de Contêiner | D7: Serviço | E7: Certificação | F7: Inmetro | G7: PAC | H7: Portaria n.º 368 de 08/09/2021 | I7: Não | J7: Não se Aplica | K7: =IF($H$3="","Preenchimento incompleto: falta informar o Responsável pela análise - B02.01", IF(AND(I7="",J7=""),"", IF(OR(I7="",J7=""),"Preenchimento incompleto: um ou mais células não preenchidas - B01.01", "Preenchimento correto"))) -> Preenchimento correto
B8: 2 | C8: Adaptação de Eixo Veicular Auxiliar | D8: Serviço | E8: Certificação | F8: Inmetro | G8: PAC | H8: Portaria n.º 495 de 12/12/2021 | I8: Não | J8: Não se Aplica | K8: =IF($H$3="","Preenchimento incompleto: falta informar o Responsável pela análise - B02.01", IF(AND(I8="",J8=""),"", IF(OR(I8="",J8=""),"Preenchimento incompleto: um ou mais células não preenchidas - B01.01", "Preenchimento correto"))) -> Preenchimento correto
B9: 3 | C9: Adaptadores de Plugues e Tomadas | D9: Produto | E9: Certificação | F9: Inmetro | G9: PAC | H9: Portaria n.º 9 de 17/01/2022 | I9: Não | J9: Não se Aplica | K9: =IF($H$3="","Preenchimento incompleto: falta informar o Responsável pela análise - B02.01", IF(AND(I9="",J9=""),"", IF(OR(I9="",J9=""),"Preenchimento incompleto: um ou mais células não preenchidas - B01.01", "Preenchimento correto"))) -> Preenchimento correto
B10: 4 | C10: Agente Redutor Líquido de NOx Automotivo – ARLA 32 | D10: Produto | E10: Certificação | F10: Inmetro | G10: PAC | H10: Portaria n.º 213 de 06/05/2021 | I10: Não | J10: Não se Aplica | K10: =IF($H$3="","Preenchimento incompleto: falta informar o Responsável pela análise - B02.01", IF(AND(I10="",J10=""),"", IF(OR(I10="",J10=""),"Preenchimento incompleto: um ou mais células não preenchidas - B01.01", "Preenchimento correto"))) -> Preenchimento correto
B11: 5 | C11: Agulhas Hipodérmicas Estéreis para Uso Único e Agulhas Gengivais Estéreis para Uso Único | D11: Produto | E11: Certificação | F11: Anvisa | G11: PAC | H11: Portaria n.º 84 de 10/02/2021 | I11: Não | J11: Não se Aplica | K11: =IF($H$3="","Preenchimento incompleto: falta informar o Responsável pela análise - B02.01", IF(AND(I11="",J11=""),"", IF(OR(I11="",J11=""),"Preenchimento incompleto: um ou mais células não preenchidas - B01.01", "Preenchimento correto"))) -> Preenchimento correto
B12: 6 | C12: Andadores Infantis | D12: Produto | E12: Certificação | F12: Inmetro | G12: PAC | H12: Portaria n.º 129 de 19/03/2021 | I12: Não | J12: Não se Aplica | K12: =IF($H$3="","Preenchimento incompleto: falta informar o Responsável pela análise - B02.01", IF(AND(I12="",J12=""),"", IF(OR(I12="",J12=""),"Preenchimento incompleto: um ou mais células não preenchidas - B01.01", "Preenchimento correto"))) -> Preenchimento correto
B13: 7 | C13: Aparelhos Eletrodomésticos e Similares | D13: Produto | E13: Certificação | F13: Inmetro | G13: PAC | H13: Portaria n.º 148 de 28/03/2022 | I13: Não | J13: Não se Aplica | K13: =IF($H$3="","Preenchimento incompleto: falta informar o Responsável pela análise - B02.01", IF(AND(I13="",J13=""),"", IF(OR(I13="",J13=""),"Preenchimento incompleto: um ou mais células não preenchidas - B01.01", "Preenchimento correto"))) -> Preenchimento correto
B14: 8 | C14: Aplicação, Reparo e Reforma de Revestimento Interno de Tanque de Carga Rodoviário destinado ao Transporte de Produtos Perigosos | D14: Serviço | E14: Declaração do Fornecedor | F14: Inmetro | G14: PAC | H14: Portaria n.º 432 de 15/10/2021 | I14: Não | J14: Não se Aplica | K14: =IF($H$3="","Preenchimento incompleto: falta informar o Responsável pela análise - B02.01", IF(AND(I14="",J14=""),"", IF(OR(I14="",J14=""),"Preenchimento incompleto: um ou mais células não preenchidas - B01.01", "Preenchimento correto"))) -> Preenchimento correto
B15: 9 | C15: Aquecedores de Água a Gás | D15: Produto | E15: Certificação | F15: Inmetro | G15: PAC | H15: Portaria n.° 89 de 22/03/2022 | I15: Não | J15: Não se Aplica | K15: =IF($H$3="","Preenchimento incompleto: falta informar o Responsável pela análise - B02.01", IF(AND(I15="",J15=""),"", IF(OR(I15="",J15=""),"Preenchimento incompleto: um ou mais células não preenchidas - B01.01", "Preenchimento correto"))) -> Preenchimento correto
B16: 10 | C16: Artigos Escolares | D16: Produto | E16: Certificação | F16: Inmetro | G16: PAC | H16: Portaria n.º 423 de 08/10/2021 | I16: Não | J16: Não se Aplica | K16: =IF($H$3="","Preenchimento incompleto: falta informar o Responsável pela análise - B02.01", IF(AND(I16="",J16=""),"", IF(OR(I16="",J16=""),"Preenchimento incompleto: um ou mais células não preenchidas - B01.01", "Preenchimento correto"))) -> Preenchimento correto
B17: 11 | C17: Artigos para Festas | D17: Produto | E17: Não aplicável | F17: Inmetro | G17: RT | H17: Portaria n.º 277 de 25/06/2021 | I17: Não | J17: Não se Aplica | K17: =IF($H$3="","Preenchimento incompleto: falta informar o Responsável pela análise - B02.01", IF(AND(I17="",J17=""),"", IF(OR(I17="",J17=""),"Preenchimento incompleto: um ou mais células não preenchidas - B01.01", "Preenchimento correto"))) -> Preenchimento correto
B18: 12 | C18: Barras e Fios de Aço destinados a Armaduras para Estruturas de Concreto Armado | D18: Produto | E18: Certificação | F18: Inmetro | G18: PAC | H18: Portaria n.º 139 de 19/03/2021 | I18: Não | J18: Não se Aplica | K18: =IF($H$3="","Preenchimento incompleto: falta informar o Responsável pela análise - B02.01", IF(AND(I18="",J18=""),"", IF(OR(I18="",J18=""),"Preenchimento incompleto: um ou mais células não preenchidas - B01.01", "Preenchimento correto"))) -> Preenchimento correto
... B156: 150 | C156: Vidros de Segurança Automotivos | D156: Produto | E156: Certificação | F156: Inmetro | G156: PAC | H156: Portaria n.º 34 de 02/02/2021 | I156: Não | J156: Não se Aplica | K156: =IF($H$3="","Preenchimento incompleto: falta informar o Responsável pela análise - B02.01", IF(AND(I156="",J156=""),"", IF(OR(I156="",J156=""),"Preenchimento incompleto: um ou mais células não preenchidas - B01.01", "Preenchimento correto"))) -> Preenchimento correto

Sheet Lista
A1: N° de ordem | B1: Dicotomia Sim/Não | C1: Classificação da necessidade em relação à sua natureza | D1: Classificação da necessidade em relação à sua natureza (classif.) | E1: Classificação da necessidade à luz da Lei n° 14.133/2021 | F1: Classificação da necessidade à luz da Lei n° 14.133/2021 (classif.)
A2: 1 | B2: Não | C2: Bem permanente | D2: {=IF(_xlfn._xlws.SORT(C2:C101,1,1,FALSE)=0,"",_xlfn._xlws.SORT(C2:C101,1,1,FALSE))} -> Bem consumível | E2: Bem comum: bem que possui padrões de desempenho e qualidade que podem ser objetivamente definidos pelo edital, por meio de especificações usuais de mercado (Art. 6° da Lei 14.111/21). | F2: {=IF(_xlfn._xlws.SORT(E2:E101,1,1,FALSE)=0,"",_xlfn._xlws.SORT(E2:E101,1,1,FALSE))} -> Bem comum: bem que possui padrões de desempenho e qualidade que podem ser objetivamente definidos pelo edital, por meio de especificações usuais de mercado (Art. 6° da Lei 14.111/21). | G2: 45 dias | H2: {=IF(_xlfn._xlws.SORT(G2:G101,1,1,FALSE)=0,"",_xlfn._xlws.SORT(G2:G101,1,1,FALSE))} -> 120 dias
A3: 2 | B3: Sim | C3: Bem consumível | D3: Bem permanente | E3: Bem especial: bem que, por sua alta heterogeneidade ou complexidade, não pode ser descrito na forma do inciso XIII do caput do art. 6° da Lei 14.133/21, exigida justificativa prévia do contratante | F3: Bem especial: bem que, por sua alta heterogeneidade ou complexidade, não pode ser descrito na forma do inciso XIII do caput do art. 6° da Lei 14.133/21, exigida justificativa prévia do contratante | G3: 90 dias | H3: 150 dias
A4: 3 | C4: Prestação de serviço | D4: Prestação de serviço | E4: Serviço comum: serviço que possui padrões de desempenho e qualidade que podem ser objetivamente definidos pelo edital, por meio de especificações usuais de mercado (Art. 6° da Lei 14.133/21). | F4: Serviço comum: serviço que possui padrões de desempenho e qualidade que podem ser objetivamente definidos pelo edital, por meio de especificações usuais de mercado (Art. 6° da Lei 14.133/21). | G4: 120 dias | H4: 180 dias
A5: 4 | C5: Prestação de serviço e peças | D5: Prestação de serviço e peças | E5: Serviço especial: Serviço que, por sua alta heterogeneidade ou complexidade, não pode ser descrito na forma do inciso XIII do caput do art. 6° da Lei 14.133/21, exigida justificativa prévia do contratante | F5: Serviço especial: Serviço que, por sua alta heterogeneidade ou complexidade, não pode ser descrito na forma do inciso XIII do caput do art. 6° da Lei 14.133/21, exigida justificativa prévia do contratante | G5: 180 dias | H5: 30 dias
A6: 5 | C6: Solução de TIC | D6: Solução de TIC | G6: 360 dias | H6: 360 dias
A7: 6 | G7: No mínimo 70% (setenta por cento) do tempo entre a fabricação e a validade | H7: 45 dias
A8: 7 | G8: 60 dias | H8: 60 dias
A9: 8 | G9: 150 dias | H9: 90 dias
A10: 9 | G10: 30 dias | H10: No mínimo 70% (setenta por cento) do tempo entre a fabricação e a validade
A11: 10
A12: 11
A13: 12
A14: 13
A15: 14
A16: 15
A17: 16
A18: 17
A19: 18
A20: 19
A21: 20
A22: 21
... A101: 100

Sheet 4-MAPA-ANVISA-ABNT-EST-MUN
B2: Planilha ASUS - Análise de informações obrigatórias associadas aos itens em aquisição de bens e serviços 4. Aba [4-MAPA-ANVISA-ABNT-EST-MUN]: Análise de enquadramento de itens em aqusição à legislação e regulamentos do MAPA e da ANVISA, às nomas da ABNT e às legislações estadual e municipal
B3: Processo licitatório (carregado da aba 1-ITENS): | D3: =IF('1-ITENS'!D3="","",'1-ITENS'!D3) -> 21181.001295/2025-97 | E3: Preencher: Responsável pela análise (pessoa): | F3: Marcelo Fernandes camargos
F4: =IF(COUNTIF(J7:J306,"*incompleto*")<>0,"Há linhas com preenchimento incompleto", IF(COUNTIF(J7:J306,"")=300,"Aba ainda não preenchida", "Todas as linhas com preenchimento realizado")) -> Aba ainda não preenchida
B5: 1. Legislação e regulamentos do MAPA. 2. Enquadramento à regulação da ANVISA - "Produtos não regularizados como dispositivos médicos": https://www.gov.br/anvisa/pt-br/setorregulado/regularizacao/produtos-para-saude/produtos-nao-regulados. 3. Normas ABNT aplicáveis.
B6: N° de ordem na aba | C6: N° sequencial do item no processo licitatório | D6: Item (necessidade) | E6: Legislação e regulamentos do MAPA aplicáveis | F6: Enquadramento à lista de itens sob controle regulamentar da ANVISA | G6: Norma(s) ABNT que se aplica(m) ao item | H6: Legislação estatual aplicável (Minas Gerais) | I6: Legislação municipal aplicável (Pedro Leopoldo) | J6: Auditoria de preenchimento
B7: 1 | C7: =IF('1-ITENS'!C7="","",'1-ITENS'!C7) -> 1 | D7: =IF('1-ITENS'!D7="","",'1-ITENS'!D7) -> Pagamento de Análise de Identificação em 12 amostras de bulbo capilar em laboratório externo de referência para a ISAG. | J7: =IF($F$3="","Preenchimento incompleto: falta informar o Responsável pela análise - B02.01", IF(AND(E7="",F7="",G7="",H7="",I7=""),"", IF(OR(E7="",F7="",G7="",H7="",I7=""),"Preenchimento incompleto: um ou mais células não preenchidas - B01.01", "Preenchimento correto")))
B8: 2 | C8: =IF('1-ITENS'!C8="","",'1-ITENS'!C8) | D8: =IF('1-ITENS'!D8="","",'1-ITENS'!D8) | J8: =IF($F$3="","Preenchimento incompleto: falta informar o Responsável pela análise - B02.01", IF(AND(E8="",F8="",G8="",H8="",I8=""),"", IF(OR(E8="",F8="",G8="",H8="",I8=""),"Preenchimento incompleto: um ou mais células não preenchidas - B01.01", "Preenchimento correto")))
B9: 3 | C9: =IF('1-ITENS'!C9="","",'1-ITENS'!C9) | D9: =IF('1-ITENS'!D9="","",'1-ITENS'!D9) | J9: =IF($F$3="","Preenchimento incompleto: falta informar o Responsável pela análise - B02.01", IF(AND(E9="",F9="",G9="",H9="",I9=""),"", IF(OR(E9="",F9="",G9="",H9="",I9=""),"Preenchimento incompleto: um ou mais células não preenchidas - B01.01", "Preenchimento correto")))
B10: 4 | C10: =IF('1-ITENS'!C10="","",'1-ITENS'!C10) | D10: =IF('1-ITENS'!D10="","",'1-ITENS'!D10) | J10: =IF($F$3="","Preenchimento incompleto: falta informar o Responsável pela análise - B02.01", IF(AND(E10="",F10="",G10="",H10="",I10=""),"", IF(OR(E10="",F10="",G10="",H10="",I10=""),"Preenchimento incompleto: um ou mais células não preenchidas - B01.01", "Preenchimento correto")))
B11: 5 | C11: =IF('1-ITENS'!C11="","",'1-ITENS'!C11) | D11: =IF('1-ITENS'!D11="","",'1-ITENS'!D11) | J11: =IF($F$3="","Preenchimento incompleto: falta informar o Responsável pela análise - B02.01", IF(AND(E11="",F11="",G11="",H11="",I11=""),"", IF(OR(E11="",F11="",G11="",H11="",I11=""),"Preenchimento incompleto: um ou mais células não preenchidas - B01.01", "Preenchimento correto")))
B12: 6 | C12: =IF('1-ITENS'!C12="","",'1-ITENS'!C12) | D12: =IF('1-ITENS'!D12="","",'1-ITENS'!D12) | J12: =IF($F$3="","Preenchimento incompleto: falta informar o Responsável pela análise - B02.01", IF(AND(E12="",F12="",G12="",H12="",I12=""),"", IF(OR(E12="",F12="",G12="",H12="",I12=""),"Preenchimento incompleto: um ou mais células não preenchidas - B01.01", "Preenchimento correto")))
B13: 7 | C13: =IF('1-ITENS'!C13="","",'1-ITENS'!C13) | D13: =IF('1-ITENS'!D13="","",'1-ITENS'!D13) | J13: =IF($F$3="","Preenchimento incompleto: falta informar o Responsável pela análise - B02.01", IF(AND(E13="",F13="",G13="",H13="",I13=""),"", IF(OR(E13="",F13="",G13="",H13="",I13=""),"Preenchimento incompleto: um ou mais células não preenchidas - B01.01", "Preenchimento correto")))
B14: 8 | C14: =IF('1-ITENS'!C14="","",'1-ITENS'!C14) | D14: =IF('1-ITENS'!D14="","",'1-ITENS'!D14) | J14: =IF($F$3="","Preenchimento incompleto: falta informar o Responsável pela análise - B02.01", IF(AND(E14="",F14="",G14="",H14="",I14=""),"", IF(OR(E14="",F14="",G14="",H14="",I14=""),"Preenchimento incompleto: um ou mais células não preenchidas - B01.01", "Preenchimento correto")))
B15: 9 | C15: =IF('1-ITENS'!C15="","",'1-ITENS'!C15) | D15: =IF('1-ITENS'!D15="","",'1-ITENS'!D15) | J15: =IF($F$3="","Preenchimento incompleto: falta informar o Responsável pela análise - B02.01", IF(AND(E15="",F15="",G15="",H15="",I15=""),"", IF(OR(E15="",F15="",G15="",H15="",I15=""),"Preenchimento incompleto: um ou mais células não preenchidas - B01.01", "Preenchimento correto")))
B16: 10 | C16: =IF('1-ITENS'!C16="","",'1-ITENS'!C16) | D16: =IF('1-ITENS'!D16="","",'1-ITENS'!D16) | J16: =IF($F$3="","Preenchimento incompleto: falta informar o Responsável pela análise - B02.01", IF(AND(E16="",F16="",G16="",H16="",I16=""),"", IF(OR(E16="",F16="",G16="",H16="",I16=""),"Preenchimento incompleto: um ou mais células não preenchidas - B01.01", "Preenchimento correto")))
B17: 11 | C17: =IF('1-ITENS'!C17="","",'1-ITENS'!C17) | D17: =IF('1-ITENS'!D17="","",'1-ITENS'!D17) | J17: =IF($F$3="","Preenchimento incompleto: falta informar o Responsável pela análise - B02.01", IF(AND(E17="",F17="",G17="",H17="",I17=""),"", IF(OR(E17="",F17="",G17="",H17="",I17=""),"Preenchimento incompleto: um ou mais células não preenchidas - B01.01", "Preenchimento correto")))
B18: 12 | C18: =IF('1-ITENS'!C18="","",'1-ITENS'!C18) | D18: =IF('1-ITENS'!D18="","",'1-ITENS'!D18) | J18: =IF($F$3="","Preenchimento incompleto: falta informar o Responsável pela análise - B02.01", IF(AND(E18="",F18="",G18="",H18="",I18=""),"", IF(OR(E18="",F18="",G18="",H18="",I18=""),"Preenchimento incompleto: um ou mais células não preenchidas - B01.01", "Preenchimento correto")))
... B306: 300 | C306: =IF('1-ITENS'!C306="","",'1-ITENS'!C306) | D306: =IF('1-ITENS'!D306="","",'1-ITENS'!D306) | J306: =IF($F$3="","Preenchimento incompleto: falta informar o Responsável pela análise - B02.01", IF(AND(E306="",F306="",G306="",H306="",I306=""),"", IF(OR(E306="",F306="",G306="",H306="",I306=""),"Preenchimento incompleto: um ou mais células não preenchidas - B01.01", "Preenchimento correto")))

Sheet 5-JUST-VAL-ATIV
B2: Planilha ASUS - Análise de informações obrigatórias associadas aos itens em aquisição de bens e serviços 5. Aba [5-JUST-VAL-ATIV]: Justificativas, prazo de validade e atividades da área requisitante
B3: Processo licitatório (carregado da aba 1-ITENS): | E3: =IF('1-ITENS'!D3="","",'1-ITENS'!D3) -> 21181.001295/2025-97 | G3: Preencher: Responsável pela análise (pessoa): | H3: Responsável pela análise técnica: | J3: Marcelo Fernandes Camargos
J4: =IF(COUNTIF(L7:L4506,"*incompleto*")<>0,"Há linhas com preenchimento incompleto", IF(COUNTIF(L7:L4506,"")=4500,"Aba ainda não preenchida", "Todas as linhas com preenchimento realizado")) -> Todas as linhas com preenchimento realizado
B5: Área de identificação do item (necessidade) | G5: Área de identificação de informações por requisitante
B6: N° de ordem na aba | C6: N° sequencial do item no processo licitatório | D6: Item (necessidade) | E6: Quantidade total necessária | F6: Área(s) requisitante(s) no LFDA-MG e quantidade(s) individual(is) (usar tecla Alt + Enter para separar áreas) | G6: N° ordem no grupo | H6: Área requisitante individual (*** se vazio) | I6: Fundamentação da necessidade de obtenção do item (porque o item é necessário?) (*** se vazio) | J6: Fundamentação da quantidade necessária do item (qual é a métrica que justifica a quantidade necessária?) (*** se vazio) | K6: Atividades da área requisitante individual relacionadas ao item (*** se vazio) | L6: Auditoria de preenchimento da área do colaborador + designação
B7: 1 | C7: =IF('1-ITENS'!C7="","",'1-ITENS'!C7) -> 1 | D7: =IF('1-ITENS'!D7="","",'1-ITENS'!D7) -> Pagamento de Análise de Identificação em 12 amostras de bulbo capilar em laboratório externo de referência para a ISAG. | E7: =IF('1-ITENS'!H7="","",'1-ITENS'!H7) -> 12 | F7: =IF('1-ITENS'!F7="","",'1-ITENS'!F7) -> DIA/LDDV | G7: 1 | H7: LDDV | I7: A contratação se justifica pela necessidade de pagamento das análises realizadas pelo laboratório de referência da ISAG para asininos, garantindo a continuidade do monitoramento dos laboratórios credenciados, a confiabilidade dos resultados e a conformidade com a IN nº 45/2017. | J7: Análise de Identificação Genética em 12 amostras de bulbo capilar em laboratório externo de referência para a ISAG. | K7: O LFDA-MG, responsável pelo acompanhamento técnico do VRGEN. | L7: =IF($J$3="","Preenchimento incompleto: deve ser informado o Responsável pela análise - B05.01", IF(AND(C7="",D7="",E7="",F7="",H7="",I7="",J7="",K7=""),"", IF(AND(C7="",D7="",E7="",F7="",OR(H7<>"",I7<>"",J7<>"",K7<>"")),"Preenchimento incompleto: há informações por requisitante individual sem informações do item - B01.01", IF(OR(C7="",D7="",E7="",F7=""),"Preenchimento incompleto: há informações faltantes do item - B02.01", IF(AND(C7<>"",D7<>"",E7<>"",F7<>"",COUNTA(H7:K21)=0),"Preenchimento incompleto: não há nenhuma informação do requisitante individual informada - B04.01", IF(AND(C7<>"",D7<>"",E7<>"",F7<>"",H7="",I7="",J7="",K7=""),"", IF(AND(C7<>"",D7<>"",E7<>"",F7<>"",OR(H7="",I7="",J7="",K7="")),"Preenchimento incompleto: há informações por requisitante individual faltantes - B03.01", "Preenchimento correto"))))))) -> Preenchimento correto
B8: 2 | G8: 2 | L8: =IF($J$3="","Preenchimento incompleto: deve ser informado o Responsável pela análise - B05.01", IF(AND(C7="",D7="",E7="",F7="",H8="",I8="",J8="",K8=""),"", IF(AND(C7="",D7="",E7="",F7="",OR(H8<>"",I8<>"",J8<>"",K8<>"")),"Preenchimento incompleto: há informações por requisitante individual sem informações do item - B01.01", IF(OR(C7="",D7="",E7="",F7=""),"Preenchimento incompleto: há informações faltantes do item - B02.01", IF(AND(C7<>"",D7<>"",E7<>"",F7<>"",COUNTA(H7:K21)=0),"Preenchimento incompleto: não há nenhuma informação do requisitante individual informada - B04.01", IF(AND(C7<>"",D7<>"",E7<>"",F7<>"",H8="",I8="",J8="",K8=""),"", IF(AND(C7<>"",D7<>"",E7<>"",F7<>"",OR(H8="",I8="",J8="",K8="")),"Preenchimento incompleto: há informações por requisitante individual faltantes - B03.01", IF(L7="","Preenchimento incompleto: há linhas vazias antes da atual - B05.01", "Preenchimento correto"))))))))
B9: 3 | G9: 3 | L9: =IF($J$3="","Preenchimento incompleto: deve ser informado o Responsável pela análise - B05.01", IF(AND(C7="",D7="",E7="",F7="",H9="",I9="",J9="",K9=""),"", IF(AND(C7="",D7="",E7="",F7="",OR(H9<>"",I9<>"",J9<>"",K9<>"")),"Preenchimento incompleto: há informações por requisitante individual sem informações do item - B01.01", IF(OR(C7="",D7="",E7="",F7=""),"Preenchimento incompleto: há informações faltantes do item - B02.01", IF(AND(C7<>"",D7<>"",E7<>"",F7<>"",COUNTA(H7:K21)=0),"Preenchimento incompleto: não há nenhuma informação do requisitante individual informada - B04.01", IF(AND(C7<>"",D7<>"",E7<>"",F7<>"",H9="",I9="",J9="",K9=""),"", IF(AND(C7<>"",D7<>"",E7<>"",F7<>"",OR(H9="",I9="",J9="",K9="")),"Preenchimento incompleto: há informações por requisitante individual faltantes - B03.01", IF(OR(L7="",L8=""),"Preenchimento incompleto: há linhas vazias antes da atual - B05.01", "Preenchimento correto"))))))))
B10: 4 | G10: 4 | L10: =IF($J$3="","Preenchimento incompleto: deve ser informado o Responsável pela análise - B05.01", IF(AND(C7="",D7="",E7="",F7="",H10="",I10="",J10="",K10=""),"", IF(AND(C7="",D7="",E7="",F7="",OR(H10<>"",I10<>"",J10<>"",K10<>"")),"Preenchimento incompleto: há informações por requisitante individual sem informações do item - B01.01", IF(OR(C7="",D7="",E7="",F7=""),"Preenchimento incompleto: há informações faltantes do item - B02.01", IF(AND(C7<>"",D7<>"",E7<>"",F7<>"",COUNTA(H7:K21)=0),"Preenchimento incompleto: não há nenhuma informação do requisitante individual informada - B04.01", IF(AND(C7<>"",D7<>"",E7<>"",F7<>"",H10="",I10="",J10="",K10=""),"", IF(AND(C7<>"",D7<>"",E7<>"",F7<>"",OR(H10="",I10="",J10="",K10="")),"Preenchimento incompleto: há informações por requisitante individual faltantes - B03.01", IF(OR(L7="",L8="",L9=""),"Preenchimento incompleto: há linhas vazias antes da atual - B05.01", "Preenchimento correto"))))))))
B11: 5 | G11: 5 | L11: =IF($J$3="","Preenchimento incompleto: deve ser informado o Responsável pela análise - B05.01", IF(AND(C7="",D7="",E7="",F7="",H11="",I11="",J11="",K11=""),"", IF(AND(C7="",D7="",E7="",F7="",OR(H11<>"",I11<>"",J11<>"",K11<>"")),"Preenchimento incompleto: há informações por requisitante individual sem informações do item - B01.01", IF(OR(C7="",D7="",E7="",F7=""),"Preenchimento incompleto: há informações faltantes do item - B02.01", IF(AND(C7<>"",D7<>"",E7<>"",F7<>"",COUNTA(H7:K21)=0),"Preenchimento incompleto: não há nenhuma informação do requisitante individual informada - B04.01", IF(AND(C7<>"",D7<>"",E7<>"",F7<>"",H11="",I11="",J11="",K11=""),"", IF(AND(C7<>"",D7<>"",E7<>"",F7<>"",OR(H11="",I11="",J11="",K11="")),"Preenchimento incompleto: há informações por requisitante individual faltantes - B03.01", IF(OR(L7="",L8="",L9="",L10=""),"Preenchimento incompleto: há linhas vazias antes da atual - B05.01", "Preenchimento correto"))))))))
B12: 6 | G12: 6 | L12: =IF($J$3="","Preenchimento incompleto: deve ser informado o Responsável pela análise - B05.01", IF(AND(C7="",D7="",E7="",F7="",H12="",I12="",J12="",K12=""),"", IF(AND(C7="",D7="",E7="",F7="",OR(H12<>"",I12<>"",J12<>"",K12<>"")),"Preenchimento incompleto: há informações por requisitante individual sem informações do item - B01.01", IF(OR(C7="",D7="",E7="",F7=""),"Preenchimento incompleto: há informações faltantes do item - B02.01", IF(AND(C7<>"",D7<>"",E7<>"",F7<>"",COUNTA(H7:K21)=0),"Preenchimento incompleto: não há nenhuma informação do requisitante individual informada - B04.01", IF(AND(C7<>"",D7<>"",E7<>"",F7<>"",H12="",I12="",J12="",K12=""),"", IF(AND(C7<>"",D7<>"",E7<>"",F7<>"",OR(H12="",I12="",J12="",K12="")),"Preenchimento incompleto: há informações por requisitante individual faltantes - B03.01", IF(OR(L7="",L8="",L9="",L10="",L11=""),"Preenchimento incompleto: há linhas vazias antes da atual - B05.01", "Preenchimento correto"))))))))
B13: 7 | G13: 7 | L13: =IF($J$3="","Preenchimento incompleto: deve ser informado o Responsável pela análise - B05.01", IF(AND(C7="",D7="",E7="",F7="",H13="",I13="",J13="",K13=""),"", IF(AND(C7="",D7="",E7="",F7="",OR(H13<>"",I13<>"",J13<>"",K13<>"")),"Preenchimento incompleto: há informações por requisitante individual sem informações do item - B01.01", IF(OR(C7="",D7="",E7="",F7=""),"Preenchimento incompleto: há informações faltantes do item - B02.01", IF(AND(C7<>"",D7<>"",E7<>"",F7<>"",COUNTA(H7:K21)=0),"Preenchimento incompleto: não há nenhuma informação do requisitante individual informada - B04.01", IF(AND(C7<>"",D7<>"",E7<>"",F7<>"",H13="",I13="",J13="",K13=""),"", IF(AND(C7<>"",D7<>"",E7<>"",F7<>"",OR(H13="",I13="",J13="",K13="")),"Preenchimento incompleto: há informações por requisitante individual faltantes - B03.01", IF(OR(L7="",L8="",L9="",L10="",L11="",L12=""),"Preenchimento incompleto: há linhas vazias antes da atual - B05.01", "Preenchimento correto"))))))))
B14: 8 | G14: 8 | L14: =IF($J$3="","Preenchimento incompleto: deve ser informado o Responsável pela análise - B05.01", IF(AND(C7="",D7="",E7="",F7="",H14="",I14="",J14="",K14=""),"", IF(AND(C7="",D7="",E7="",F7="",OR(H14<>"",I14<>"",J14<>"",K14<>"")),"Preenchimento incompleto: há informações por requisitante individual sem informações do item - B01.01", IF(OR(C7="",D7="",E7="",F7=""),"Preenchimento incompleto: há informações faltantes do item - B02.01", IF(AND(C7<>"",D7<>"",E7<>"",F7<>"",COUNTA(H7:K21)=0),"Preenchimento incompleto: não há nenhuma informação do requisitante individual informada - B04.01", IF(AND(C7<>"",D7<>"",E7<>"",F7<>"",H14="",I14="",J14="",K14=""),"", IF(AND(C7<>"",D7<>"",E7<>"",F7<>"",OR(H14="",I14="",J14="",K14="")),"Preenchimento incompleto: há informações por requisitante individual faltantes - B03.01", IF(OR(L7="",L8="",L9="",L10="",L11="",L12="",L13=""),"Preenchimento incompleto: há linhas vazias antes da atual - B05.01", "Preenchimento correto"))))))))
B15: 9 | G15: 9 | L15: =IF($J$3="","Preenchimento incompleto: deve ser informado o Responsável pela análise - B05.01", IF(AND(C7="",D7="",E7="",F7="",H15="",I15="",J15="",K15=""),"", IF(AND(C7="",D7="",E7="",F7="",OR(H15<>"",I15<>"",J15<>"",K15<>"")),"Preenchimento incompleto: há informações por requisitante individual sem informações do item - B01.01", IF(OR(C7="",D7="",E7="",F7=""),"Preenchimento incompleto: há informações faltantes do item - B02.01", IF(AND(C7<>"",D7<>"",E7<>"",F7<>"",COUNTA(H7:K21)=0),"Preenchimento incompleto: não há nenhuma informação do requisitante individual informada - B04.01", IF(AND(C7<>"",D7<>"",E7<>"",F7<>"",H15="",I15="",J15="",K15=""),"", IF(AND(C7<>"",D7<>"",E7<>"",F7<>"",OR(H15="",I15="",J15="",K15="")),"Preenchimento incompleto: há informações por requisitante individual faltantes - B03.01", IF(OR(L7="",L8="",L9="",L10="",L11="",L12="",L13="",L14=""),"Preenchimento incompleto: há linhas vazias antes da atual - B05.01", "Preenchimento correto"))))))))
B16: 10 | G16: 10 | L16: =IF($J$3="","Preenchimento incompleto: deve ser informado o Responsável pela análise - B05.01", IF(AND(C7="",D7="",E7="",F7="",H16="",I16="",J16="",K16=""),"", IF(AND(C7="",D7="",E7="",F7="",OR(H16<>"",I16<>"",J16<>"",K16<>"")),"Preenchimento incompleto: há informações por requisitante individual sem informações do item - B01.01", IF(OR(C7="",D7="",E7="",F7=""),"Preenchimento incompleto: há informações faltantes do item - B02.01", IF(AND(C7<>"",D7<>"",E7<>"",F7<>"",COUNTA(H7:K21)=0),"Preenchimento incompleto: não há nenhuma informação do requisitante individual informada - B04.01", IF(AND(C7<>"",D7<>"",E7<>"",F7<>"",H16="",I16="",J16="",K16=""),"", IF(AND(C7<>"",D7<>"",E7<>"",F7<>"",OR(H16="",I16="",J16="",K16="")),"Preenchimento incompleto: há informações por requisitante individual faltantes - B03.01", IF(OR(L7="",L8="",L9="",L10="",L11="",L12="",L13="",L14="",L15=""),"Preenchimento incompleto: há linhas vazias antes da atual - B05.01", "Preenchimento correto"))))))))
B17: 11 | G17: 11 | L17: =IF($J$3="","Preenchimento incompleto: deve ser informado o Responsável pela análise - B05.01", IF(AND(C7="",D7="",E7="",F7="",H17="",I17="",J17="",K17=""),"", IF(AND(C7="",D7="",E7="",F7="",OR(H17<>"",I17<>"",J17<>"",K17<>"")),"Preenchimento incompleto: há informações por requisitante individual sem informações do item - B01.01", IF(OR(C7="",D7="",E7="",F7=""),"Preenchimento incompleto: há informações faltantes do item - B02.01", IF(AND(C7<>"",D7<>"",E7<>"",F7<>"",COUNTA(H7:K21)=0),"Preenchimento incompleto: não há nenhuma informação do requisitante individual informada - B04.01", IF(AND(C7<>"",D7<>"",E7<>"",F7<>"",H17="",I17="",J17="",K17=""),"", IF(AND(C7<>"",D7<>"",E7<>"",F7<>"",OR(H17="",I17="",J17="",K17="")),"Preenchimento incompleto: há informações por requisitante individual faltantes - B03.01", IF(OR(L7="",L8="",L9="",L10="",L11="",L12="",L13="",L14="",L15="",L16=""),"Preenchimento incompleto: há linhas vazias antes da atual - B05.01", "Preenchimento correto"))))))))
B18: 12 | G18: 12 | L18: =IF($J$3="","Preenchimento incompleto: deve ser informado o Responsável pela análise - B05.01", IF(AND(C7="",D7="",E7="",F7="",H18="",I18="",J18="",K18=""),"", IF(AND(C7="",D7="",E7="",F7="",OR(H18<>"",I18<>"",J18<>"",K18<>"")),"Preenchimento incompleto: há informações por requisitante individual sem informações do item - B01.01", IF(OR(C7="",D7="",E7="",F7=""),"Preenchimento incompleto: há informações faltantes do item - B02.01", IF(AND(C7<>"",D7<>"",E7<>"",F7<>"",COUNTA(H7:K21)=0),"Preenchimento incompleto: não há nenhuma informação do requisitante individual informada - B04.01", IF(AND(C7<>"",D7<>"",E7<>"",F7<>"",H18="",I18="",J18="",K18=""),"", IF(AND(C7<>"",D7<>"",E7<>"",F7<>"",OR(H18="",I18="",J18="",K18="")),"Preenchimento incompleto: há informações por requisitante individual faltantes - B03.01", IF(OR(L7="",L8="",L9="",L10="",L11="",L12="",L13="",L14="",L15="",L16="",L17=""),"Preenchimento incompleto: há linhas vazias antes da atual - B05.01", "Preenchimento correto"))))))))
B19: 13 | G19: 13 | L19: =IF($J$3="","Preenchimento incompleto: deve ser informado o Responsável pela análise - B05.01", IF(AND(C7="",D7="",E7="",F7="",H19="",I19="",J19="",K19=""),"", IF(AND(C7="",D7="",E7="",F7="",OR(H19<>"",I19<>"",J19<>"",K19<>"")),"Preenchimento incompleto: há informações por requisitante individual sem informações do item - B01.01", IF(OR(C7="",D7="",E7="",F7=""),"Preenchimento incompleto: há informações faltantes do item - B02.01", IF(AND(C7<>"",D7<>"",E7<>"",F7<>"",COUNTA(H7:K21)=0),"Preenchimento incompleto: não há nenhuma informação do requisitante individual informada - B04.01", IF(AND(C7<>"",D7<>"",E7<>"",F7<>"",H19="",I19="",J19="",K19=""),"", IF(AND(C7<>"",D7<>"",E7<>"",F7<>"",OR(H19="",I19="",J19="",K19="")),"Preenchimento incompleto: há informações por requisitante individual faltantes - B03.01", IF(OR(L7="",L8="",L9="",L10="",L11="",L12="",L13="",L14="",L15="",L16="",L17="",L18=""),"Preenchimento incompleto: há linhas vazias antes da atual - B05.01", "Preenchimento correto"))))))))
B20: 14 | G20: 14 | L20: =IF($J$3="","Preenchimento incompleto: deve ser informado o Responsável pela análise - B05.01", IF(AND(C7="",D7="",E7="",F7="",H20="",I20="",J20="",K20=""),"", IF(AND(C7="",D7="",E7="",F7="",OR(H20<>"",I20<>"",J20<>"",K20<>"")),"Preenchimento incompleto: há informações por requisitante individual sem informações do item - B01.01", IF(OR(C7="",D7="",E7="",F7=""),"Preenchimento incompleto: há informações faltantes do item - B02.01", IF(AND(C7<>"",D7<>"",E7<>"",F7<>"",COUNTA(H7:K21)=0),"Preenchimento incompleto: não há nenhuma informação do requisitante individual informada - B04.01", IF(AND(C7<>"",D7<>"",E7<>"",F7<>"",H20="",I20="",J20="",K20=""),"", IF(AND(C7<>"",D7<>"",E7<>"",F7<>"",OR(H20="",I20="",J20="",K20="")),"Preenchimento incompleto: há informações por requisitante individual faltantes - B03.01", IF(OR(L7="",L8="",L9="",L10="",L11="",L12="",L13="",L14="",L15="",L16="",L17="",L18="",L19=""),"Preenchimento incompleto: há linhas vazias antes da atual - B05.01", "Preenchimento correto"))))))))
B21: 15 | G21: 15 | L21: =IF($J$3="","Preenchimento incompleto: deve ser informado o Responsável pela análise - B05.01", IF(AND(C7="",D7="",E7="",F7="",H21="",I21="",J21="",K21=""),"", IF(AND(C7="",D7="",E7="",F7="",OR(H21<>"",I21<>"",J21<>"",K21<>"")),"Preenchimento incompleto: há informações por requisitante individual sem informações do item - B01.01", IF(OR(C7="",D7="",E7="",F7=""),"Preenchimento incompleto: há informações faltantes do item - B02.01", IF(AND(C7<>"",D7<>"",E7<>"",F7<>"",COUNTA(H7:K21)=0),"Preenchimento incompleto: não há nenhuma informação do requisitante individual informada - B04.01", IF(AND(C7<>"",D7<>"",E7<>"",F7<>"",H21="",I21="",J21="",K21=""),"", IF(AND(C7<>"",D7<>"",E7<>"",F7<>"",OR(H21="",I21="",J21="",K21="")),"Preenchimento incompleto: há informações por requisitante individual faltantes - B03.01", IF(OR(L7="",L8="",L9="",L10="",L11="",L12="",L13="",L14="",L15="",L16="",L17="",L18="",L19="",L20=""),"Preenchimento incompleto: há linhas vazias antes da atual - B05.01", "Preenchimento correto"))))))))
B22: 16 | C22: =IF('1-ITENS'!C8="","",'1-ITENS'!C8) | D22: =IF('1-ITENS'!D8="","",'1-ITENS'!D8) | E22: =IF('1-ITENS'!H8="","",'1-ITENS'!H8) | F22: =IF('1-ITENS'!F8="","",'1-ITENS'!F8) | G22: 1 | L22: =IF($J$3="","Preenchimento incompleto: deve ser informado o Responsável pela análise - B05.01", IF(AND(C22="",D22="",E22="",F22="",H22="",I22="",J22="",K22=""),"", IF(AND(C22="",D22="",E22="",F22="",OR(H22<>"",I22<>"",J22<>"",K22<>"")),"Preenchimento incompleto: há informações por requisitante individual sem informações do item - B01.01", IF(OR(C22="",D22="",E22="",F22=""),"Preenchimento incompleto: há informações faltantes do item - B02.01", IF(AND(C22<>"",D22<>"",E22<>"",F22<>"",COUNTA(H22:K36)=0),"Preenchimento incompleto: não há nenhuma informação do requisitante individual informada - B04.01", IF(AND(C22<>"",D22<>"",E22<>"",F22<>"",H22="",I22="",J22="",K22=""),"", IF(AND(C22<>"",D22<>"",E22<>"",F22<>"",OR(H22="",I22="",J22="",K22="")),"Preenchimento incompleto: há informações por requisitante individual faltantes - B03.01", "Preenchimento correto")))))))
B23: 17 | G23: 2 | L23: =IF($J$3="","Preenchimento incompleto: deve ser informado o Responsável pela análise - B05.01", IF(AND(C22="",D22="",E22="",F22="",H23="",I23="",J23="",K23=""),"", IF(AND(C22="",D22="",E22="",F22="",OR(H23<>"",I23<>"",J23<>"",K23<>"")),"Preenchimento incompleto: há informações por requisitante individual sem informações do item - B01.01", IF(OR(C22="",D22="",E22="",F22=""),"Preenchimento incompleto: há informações faltantes do item - B02.01", IF(AND(C22<>"",D22<>"",E22<>"",F22<>"",COUNTA(H22:K36)=0),"Preenchimento incompleto: não há nenhuma informação do requisitante individual informada - B04.01", IF(AND(C22<>"",D22<>"",E22<>"",F22<>"",H23="",I23="",J23="",K23=""),"", IF(AND(C22<>"",D22<>"",E22<>"",F22<>"",OR(H23="",I23="",J23="",K23="")),"Preenchimento incompleto: há informações por requisitante individual faltantes - B03.01", IF(L22="","Preenchimento incompleto: há linhas vazias antes da atual - B05.01", "Preenchimento correto"))))))))
B24: 18 | G24: 3 | L24: =IF($J$3="","Preenchimento incompleto: deve ser informado o Responsável pela análise - B05.01", IF(AND(C22="",D22="",E22="",F22="",H24="",I24="",J24="",K24=""),"", IF(AND(C22="",D22="",E22="",F22="",OR(H24<>"",I24<>"",J24<>"",K24<>"")),"Preenchimento incompleto: há informações por requisitante individual sem informações do item - B01.01", IF(OR(C22="",D22="",E22="",F22=""),"Preenchimento incompleto: há informações faltantes do item - B02.01", IF(AND(C22<>"",D22<>"",E22<>"",F22<>"",COUNTA(H22:K36)=0),"Preenchimento incompleto: não há nenhuma informação do requisitante individual informada - B04.01", IF(AND(C22<>"",D22<>"",E22<>"",F22<>"",H24="",I24="",J24="",K24=""),"", IF(AND(C22<>"",D22<>"",E22<>"",F22<>"",OR(H24="",I24="",J24="",K24="")),"Preenchimento incompleto: há informações por requisitante individual faltantes - B03.01", IF(OR(L22="",L23=""),"Preenchimento incompleto: há linhas vazias antes da atual - B05.01", "Preenchimento correto"))))))))
B25: 19 | G25: 4 | L25: =IF($J$3="","Preenchimento incompleto: deve ser informado o Responsável pela análise - B05.01", IF(AND(C22="",D22="",E22="",F22="",H25="",I25="",J25="",K25=""),"", IF(AND(C22="",D22="",E22="",F22="",OR(H25<>"",I25<>"",J25<>"",K25<>"")),"Preenchimento incompleto: há informações por requisitante individual sem informações do item - B01.01", IF(OR(C22="",D22="",E22="",F22=""),"Preenchimento incompleto: há informações faltantes do item - B02.01", IF(AND(C22<>"",D22<>"",E22<>"",F22<>"",COUNTA(H22:K36)=0),"Preenchimento incompleto: não há nenhuma informação do requisitante individual informada - B04.01", IF(AND(C22<>"",D22<>"",E22<>"",F22<>"",H25="",I25="",J25="",K25=""),"", IF(AND(C22<>"",D22<>"",E22<>"",F22<>"",OR(H25="",I25="",J25="",K25="")),"Preenchimento incompleto: há informações por requisitante individual faltantes - B03.01", IF(OR(L22="",L23="",L24=""),"Preenchimento incompleto: há linhas vazias antes da atual - B05.01", "Preenchimento correto"))))))))
B26: 20 | G26: 5 | L26: =IF($J$3="","Preenchimento incompleto: deve ser informado o Responsável pela análise - B05.01", IF(AND(C22="",D22="",E22="",F22="",H26="",I26="",J26="",K26=""),"", IF(AND(C22="",D22="",E22="",F22="",OR(H26<>"",I26<>"",J26<>"",K26<>"")),"Preenchimento incompleto: há informações por requisitante individual sem informações do item - B01.01", IF(OR(C22="",D22="",E22="",F22=""),"Preenchimento incompleto: há informações faltantes do item - B02.01", IF(AND(C22<>"",D22<>"",E22<>"",F22<>"",COUNTA(H22:K36)=0),"Preenchimento incompleto: não há nenhuma informação do requisitante individual informada - B04.01", IF(AND(C22<>"",D22<>"",E22<>"",F22<>"",H26="",I26="",J26="",K26=""),"", IF(AND(C22<>"",D22<>"",E22<>"",F22<>"",OR(H26="",I26="",J26="",K26="")),"Preenchimento incompleto: há informações por requisitante individual faltantes - B03.01", IF(OR(L22="",L23="",L24="",L25=""),"Preenchimento incompleto: há linhas vazias antes da atual - B05.01", "Preenchimento correto"))))))))
B27: 21 | G27: 6 | L27: =IF($J$3="","Preenchimento incompleto: deve ser informado o Responsável pela análise - B05.01", IF(AND(C22="",D22="",E22="",F22="",H27="",I27="",J27="",K27=""),"", IF(AND(C22="",D22="",E22="",F22="",OR(H27<>"",I27<>"",J27<>"",K27<>"")),"Preenchimento incompleto: há informações por requisitante individual sem informações do item - B01.01", IF(OR(C22="",D22="",E22="",F22=""),"Preenchimento incompleto: há informações faltantes do item - B02.01", IF(AND(C22<>"",D22<>"",E22<>"",F22<>"",COUNTA(H22:K36)=0),"Preenchimento incompleto: não há nenhuma informação do requisitante individual informada - B04.01", IF(AND(C22<>"",D22<>"",E22<>"",F22<>"",H27="",I27="",J27="",K27=""),"", IF(AND(C22<>"",D22<>"",E22<>"",F22<>"",OR(H27="",I27="",J27="",K27="")),"Preenchimento incompleto: há informações por requisitante individual faltantes - B03.01", IF(OR(L22="",L23="",L24="",L25="",L26=""),"Preenchimento incompleto: há linhas vazias antes da atual - B05.01", "Preenchimento correto"))))))))
B28: 22 | G28: 7 | L28: =IF($J$3="","Preenchimento incompleto: deve ser informado o Responsável pela análise - B05.01", IF(AND(C22="",D22="",E22="",F22="",H28="",I28="",J28="",K28=""),"", IF(AND(C22="",D22="",E22="",F22="",OR(H28<>"",I28<>"",J28<>"",K28<>"")),"Preenchimento incompleto: há informações por requisitante individual sem informações do item - B01.01", IF(OR(C22="",D22="",E22="",F22=""),"Preenchimento incompleto: há informações faltantes do item - B02.01", IF(AND(C22<>"",D22<>"",E22<>"",F22<>"",COUNTA(H22:K36)=0),"Preenchimento incompleto: não há nenhuma informação do requisitante individual informada - B04.01", IF(AND(C22<>"",D22<>"",E22<>"",F22<>"",H28="",I28="",J28="",K28=""),"", IF(AND(C22<>"",D22<>"",E22<>"",F22<>"",OR(H28="",I28="",J28="",K28="")),"Preenchimento incompleto: há informações por requisitante individual faltantes - B03.01", IF(OR(L22="",L23="",L24="",L25="",L26="",L27=""),"Preenchimento incompleto: há linhas vazias antes da atual - B05.01", "Preenchimento correto"))))))))
B29: 23 | G29: 8 | L29: =IF($J$3="","Preenchimento incompleto: deve ser informado o Responsável pela análise - B05.01", IF(AND(C22="",D22="",E22="",F22="",H29="",I29="",J29="",K29=""),"", IF(AND(C22="",D22="",E22="",F22="",OR(H29<>"",I29<>"",J29<>"",K29<>"")),"Preenchimento incompleto: há informações por requisitante individual sem informações do item - B01.01", IF(OR(C22="",D22="",E22="",F22=""),"Preenchimento incompleto: há informações faltantes do item - B02.01", IF(AND(C22<>"",D22<>"",E22<>"",F22<>"",COUNTA(H22:K36)=0),"Preenchimento incompleto: não há nenhuma informação do requisitante individual informada - B04.01", IF(AND(C22<>"",D22<>"",E22<>"",F22<>"",H29="",I29="",J29="",K29=""),"", IF(AND(C22<>"",D22<>"",E22<>"",F22<>"",OR(H29="",I29="",J29="",K29="")),"Preenchimento incompleto: há informações por requisitante individual faltantes - B03.01", IF(OR(L22="",L23="",L24="",L25="",L26="",L27="",L28=""),"Preenchimento incompleto: há linhas vazias antes da atual - B05.01", "Preenchimento correto"))))))))
B30: 24 | G30: 9 | L30: =IF($J$3="","Preenchimento incompleto: deve ser informado o Responsável pela análise - B05.01", IF(AND(C22="",D22="",E22="",F22="",H30="",I30="",J30="",K30=""),"", IF(AND(C22="",D22="",E22="",F22="",OR(H30<>"",I30<>"",J30<>"",K30<>"")),"Preenchimento incompleto: há informações por requisitante individual sem informações do item - B01.01", IF(OR(C22="",D22="",E22="",F22=""),"Preenchimento incompleto: há informações faltantes do item - B02.01", IF(AND(C22<>"",D22<>"",E22<>"",F22<>"",COUNTA(H22:K36)=0),"Preenchimento incompleto: não há nenhuma informação do requisitante individual informada - B04.01", IF(AND(C22<>"",D22<>"",E22<>"",F22<>"",H30="",I30="",J30="",K30=""),"", IF(AND(C22<>"",D22<>"",E22<>"",F22<>"",OR(H30="",I30="",J30="",K30="")),"Preenchimento incompleto: há informações por requisitante individual faltantes - B03.01", IF(OR(L22="",L23="",L24="",L25="",L26="",L27="",L28="",L29=""),"Preenchimento incompleto: há linhas vazias antes da atual - B05.01", "Preenchimento correto"))))))))
B31: 25 | G31: 10 | L31: =IF($J$3="","Preenchimento incompleto: deve ser informado o Responsável pela análise - B05.01", IF(AND(C22="",D22="",E22="",F22="",H31="",I31="",J31="",K31=""),"", IF(AND(C22="",D22="",E22="",F22="",OR(H31<>"",I31<>"",J31<>"",K31<>"")),"Preenchimento incompleto: há informações por requisitante individual sem informações do item - B01.01", IF(OR(C22="",D22="",E22="",F22=""),"Preenchimento incompleto: há informações faltantes do item - B02.01", IF(AND(C22<>"",D22<>"",E22<>"",F22<>"",COUNTA(H22:K36)=0),"Preenchimento incompleto: não há nenhuma informação do requisitante individual informada - B04.01", IF(AND(C22<>"",D22<>"",E22<>"",F22<>"",H31="",I31="",J31="",K31=""),"", IF(AND(C22<>"",D22<>"",E22<>"",F22<>"",OR(H31="",I31="",J31="",K31="")),"Preenchimento incompleto: há informações por requisitante individual faltantes - B03.01", IF(OR(L22="",L23="",L24="",L25="",L26="",L27="",L28="",L29="",L30=""),"Preenchimento incompleto: há linhas vazias antes da atual - B05.01", "Preenchimento correto"))))))))
B32: 26 | G32: 11 | L32: =IF($J$3="","Preenchimento incompleto: deve ser informado o Responsável pela análise - B05.01", IF(AND(C22="",D22="",E22="",F22="",H32="",I32="",J32="",K32=""),"", IF(AND(C22="",D22="",E22="",F22="",OR(H32<>"",I32<>"",J32<>"",K32<>"")),"Preenchimento incompleto: há informações por requisitante individual sem informações do item - B01.01", IF(OR(C22="",D22="",E22="",F22=""),"Preenchimento incompleto: há informações faltantes do item - B02.01", IF(AND(C22<>"",D22<>"",E22<>"",F22<>"",COUNTA(H22:K36)=0),"Preenchimento incompleto: não há nenhuma informação do requisitante individual informada - B04.01", IF(AND(C22<>"",D22<>"",E22<>"",F22<>"",H32="",I32="",J32="",K32=""),"", IF(AND(C22<>"",D22<>"",E22<>"",F22<>"",OR(H32="",I32="",J32="",K32="")),"Preenchimento incompleto: há informações por requisitante individual faltantes - B03.01", IF(OR(L22="",L23="",L24="",L25="",L26="",L27="",L28="",L29="",L30="",L31=""),"Preenchimento incompleto: há linhas vazias antes da atual - B05.01", "Preenchimento correto"))))))))
B33: 27 | G33: 12 | L33: =IF($J$3="","Preenchimento incompleto: deve ser informado o Responsável pela análise - B05.01", IF(AND(C22="",D22="",E22="",F22="",H33="",I33="",J33="",K33=""),"", IF(AND(C22="",D22="",E22="",F22="",OR(H33<>"",I33<>"",J33<>"",K33<>"")),"Preenchimento incompleto: há informações por requisitante individual sem informações do item - B01.01", IF(OR(C22="",D22="",E22="",F22=""),"Preenchimento incompleto: há informações faltantes do item - B02.01", IF(AND(C22<>"",D22<>"",E22<>"",F22<>"",COUNTA(H22:K36)=0),"Preenchimento incompleto: não há nenhuma informação do requisitante individual informada - B04.01", IF(AND(C22<>"",D22<>"",E22<>"",F22<>"",H33="",I33="",J33="",K33=""),"", IF(AND(C22<>"",D22<>"",E22<>"",F22<>"",OR(H33="",I33="",J33="",K33="")),"Preenchimento incompleto: há informações por requisitante individual faltantes - B03.01", IF(OR(L22="",L23="",L24="",L25="",L26="",L27="",L28="",L29="",L30="",L31="",L32=""),"Preenchimento incompleto: há linhas vazias antes da atual - B05.01", "Preenchimento correto"))))))))
B34: 28 | G34: 13 | L34: =IF($J$3="","Preenchimento incompleto: deve ser informado o Responsável pela análise - B05.01", IF(AND(C22="",D22="",E22="",F22="",H34="",I34="",J34="",K34=""),"", IF(AND(C22="",D22="",E22="",F22="",OR(H34<>"",I34<>"",J34<>"",K34<>"")),"Preenchimento incompleto: há informações por requisitante individual sem informações do item - B01.01", IF(OR(C22="",D22="",E22="",F22=""),"Preenchimento incompleto: há informações faltantes do item - B02.01", IF(AND(C22<>"",D22<>"",E22<>"",F22<>"",COUNTA(H22:K36)=0),"Preenchimento incompleto: não há nenhuma informação do requisitante individual informada - B04.01", IF(AND(C22<>"",D22<>"",E22<>"",F22<>"",H34="",I34="",J34="",K34=""),"", IF(AND(C22<>"",D22<>"",E22<>"",F22<>"",OR(H34="",I34="",J34="",K34="")),"Preenchimento incompleto: há informações por requisitante individual faltantes - B03.01", IF(OR(L22="",L23="",L24="",L25="",L26="",L27="",L28="",L29="",L30="",L31="",L32="",L33=""),"Preenchimento incompleto: há linhas vazias antes da atual - B05.01", "Preenchimento correto"))))))))
B35: 29 | G35: 14 | L35: =IF($J$3="","Preenchimento incompleto: deve ser informado o Responsável pela análise - B05.01", IF(AND(C22="",D22="",E22="",F22="",H35="",I35="",J35="",K35=""),"", IF(AND(C22="",D22="",E22="",F22="",OR(H35<>"",I35<>"",J35<>"",K35<>"")),"Preenchimento incompleto: há informações por requisitante individual sem informações do item - B01.01", IF(OR(C22="",D22="",E22="",F22=""),"Preenchimento incompleto: há informações faltantes do item - B02.01", IF(AND(C22<>"",D22<>"",E22<>"",F22<>"",COUNTA(H22:K36)=0),"Preenchimento incompleto: não há nenhuma informação do requisitante individual informada - B04.01", IF(AND(C22<>"",D22<>"",E22<>"",F22<>"",H35="",I35="",J35="",K35=""),"", IF(AND(C22<>"",D22<>"",E22<>"",F22<>"",OR(H35="",I35="",J35="",K35="")),"Preenchimento incompleto: há informações por requisitante individual faltantes - B03.01", IF(OR(L22="",L23="",L24="",L25="",L26="",L27="",L28="",L29="",L30="",L31="",L32="",L33="",L34=""),"Preenchimento incompleto: há linhas vazias antes da atual - B05.01", "Preenchimento correto"))))))))
B36: 30 | G36: 15 | L36: =IF($J$3="","Preenchimento incompleto: deve ser informado o Responsável pela análise - B05.01", IF(AND(C22="",D22="",E22="",F22="",H36="",I36="",J36="",K36=""),"", IF(AND(C22="",D22="",E22="",F22="",OR(H36<>"",I36<>"",J36<>"",K36<>"")),"Preenchimento incompleto: há informações por requisitante individual sem informações do item - B01.01", IF(OR(C22="",D22="",E22="",F22=""),"Preenchimento incompleto: há informações faltantes do item - B02.01", IF(AND(C22<>"",D22<>"",E22<>"",F22<>"",COUNTA(H22:K36)=0),"Preenchimento incompleto: não há nenhuma informação do requisitante individual informada - B04.01", IF(AND(C22<>"",D22<>"",E22<>"",F22<>"",H36="",I36="",J36="",K36=""),"", IF(AND(C22<>"",D22<>"",E22<>"",F22<>"",OR(H36="",I36="",J36="",K36="")),"Preenchimento incompleto: há informações por requisitante individual faltantes - B03.01", IF(OR(L22="",L23="",L24="",L25="",L26="",L27="",L28="",L29="",L30="",L31="",L32="",L33="",L34="",L35=""),"Preenchimento incompleto: há linhas vazias antes da atual - B05.01", "Preenchimento correto"))))))))
B37: 31 | C37: =IF('1-ITENS'!C9="","",'1-ITENS'!C9) | D37: =IF('1-ITENS'!D9="","",'1-ITENS'!D9) | E37: =IF('1-ITENS'!H9="","",'1-ITENS'!H9) | F37: =IF('1-ITENS'!F9="","",'1-ITENS'!F9) | G37: 1 | L37: =IF($J$3="","Preenchimento incompleto: deve ser informado o Responsável pela análise - B05.01", IF(AND(C37="",D37="",E37="",F37="",H37="",I37="",J37="",K37=""),"", IF(AND(C37="",D37="",E37="",F37="",OR(H37<>"",I37<>"",J37<>"",K37<>"")),"Preenchimento incompleto: há informações por requisitante individual sem informações do item - B01.01", IF(OR(C37="",D37="",E37="",F37=""),"Preenchimento incompleto: há informações faltantes do item - B02.01", IF(AND(C37<>"",D37<>"",E37<>"",F37<>"",COUNTA(H37:K51)=0),"Preenchimento incompleto: não há nenhuma informação do requisitante individual informada - B04.01", IF(AND(C37<>"",D37<>"",E37<>"",F37<>"",H37="",I37="",J37="",K37=""),"", IF(AND(C37<>"",D37<>"",E37<>"",F37<>"",OR(H37="",I37="",J37="",K37="")),"Preenchimento incompleto: há informações por requisitante individual faltantes - B03.01", "Preenchimento correto")))))))
B38: 32 | G38: 2 | L38: =IF($J$3="","Preenchimento incompleto: deve ser informado o Responsável pela análise - B05.01", IF(AND(C37="",D37="",E37="",F37="",H38="",I38="",J38="",K38=""),"", IF(AND(C37="",D37="",E37="",F37="",OR(H38<>"",I38<>"",J38<>"",K38<>"")),"Preenchimento incompleto: há informações por requisitante individual sem informações do item - B01.01", IF(OR(C37="",D37="",E37="",F37=""),"Preenchimento incompleto: há informações faltantes do item - B02.01", IF(AND(C37<>"",D37<>"",E37<>"",F37<>"",COUNTA(H37:K51)=0),"Preenchimento incompleto: não há nenhuma informação do requisitante individual informada - B04.01", IF(AND(C37<>"",D37<>"",E37<>"",F37<>"",H38="",I38="",J38="",K38=""),"", IF(AND(C37<>"",D37<>"",E37<>"",F37<>"",OR(H38="",I38="",J38="",K38="")),"Preenchimento incompleto: há informações por requisitante individual faltantes - B03.01", IF(L37="","Preenchimento incompleto: há linhas vazias antes da atual - B05.01", "Preenchimento correto"))))))))
B39: 33 | G39: 3 | L39: =IF($J$3="","Preenchimento incompleto: deve ser informado o Responsável pela análise - B05.01", IF(AND(C37="",D37="",E37="",F37="",H39="",I39="",J39="",K39=""),"", IF(AND(C37="",D37="",E37="",F37="",OR(H39<>"",I39<>"",J39<>"",K39<>"")),"Preenchimento incompleto: há informações por requisitante individual sem informações do item - B01.01", IF(OR(C37="",D37="",E37="",F37=""),"Preenchimento incompleto: há informações faltantes do item - B02.01", IF(AND(C37<>"",D37<>"",E37<>"",F37<>"",COUNTA(H37:K51)=0),"Preenchimento incompleto: não há nenhuma informação do requisitante individual informada - B04.01", IF(AND(C37<>"",D37<>"",E37<>"",F37<>"",H39="",I39="",J39="",K39=""),"", IF(AND(C37<>"",D37<>"",E37<>"",F37<>"",OR(H39="",I39="",J39="",K39="")),"Preenchimento incompleto: há informações por requisitante individual faltantes - B03.01", IF(OR(L37="",L38=""),"Preenchimento incompleto: há linhas vazias antes da atual - B05.01", "Preenchimento correto"))))))))
B40: 34 | G40: 4 | L40: =IF($J$3="","Preenchimento incompleto: deve ser informado o Responsável pela análise - B05.01", IF(AND(C37="",D37="",E37="",F37="",H40="",I40="",J40="",K40=""),"", IF(AND(C37="",D37="",E37="",F37="",OR(H40<>"",I40<>"",J40<>"",K40<>"")),"Preenchimento incompleto: há informações por requisitante individual sem informações do item - B01.01", IF(OR(C37="",D37="",E37="",F37=""),"Preenchimento incompleto: há informações faltantes do item - B02.01", IF(AND(C37<>"",D37<>"",E37<>"",F37<>"",COUNTA(H37:K51)=0),"Preenchimento incompleto: não há nenhuma informação do requisitante individual informada - B04.01", IF(AND(C37<>"",D37<>"",E37<>"",F37<>"",H40="",I40="",J40="",K40=""),"", IF(AND(C37<>"",D37<>"",E37<>"",F37<>"",OR(H40="",I40="",J40="",K40="")),"Preenchimento incompleto: há informações por requisitante individual faltantes - B03.01", IF(OR(L37="",L38="",L39=""),"Preenchimento incompleto: há linhas vazias antes da atual - B05.01", "Preenchimento correto"))))))))
B41: 35 | G41: 5 | L41: =IF($J$3="","Preenchimento incompleto: deve ser informado o Responsável pela análise - B05.01", IF(AND(C37="",D37="",E37="",F37="",H41="",I41="",J41="",K41=""),"", IF(AND(C37="",D37="",E37="",F37="",OR(H41<>"",I41<>"",J41<>"",K41<>"")),"Preenchimento incompleto: há informações por requisitante individual sem informações do item - B01.01", IF(OR(C37="",D37="",E37="",F37=""),"Preenchimento incompleto: há informações faltantes do item - B02.01", IF(AND(C37<>"",D37<>"",E37<>"",F37<>"",COUNTA(H37:K51)=0),"Preenchimento incompleto: não há nenhuma informação do requisitante individual informada - B04.01", IF(AND(C37<>"",D37<>"",E37<>"",F37<>"",H41="",I41="",J41="",K41=""),"", IF(AND(C37<>"",D37<>"",E37<>"",F37<>"",OR(H41="",I41="",J41="",K41="")),"Preenchimento incompleto: há informações por requisitante individual faltantes - B03.01", IF(OR(L37="",L38="",L39="",L40=""),"Preenchimento incompleto: há linhas vazias antes da atual - B05.01", "Preenchimento correto"))))))))
B42: 36 | G42: 6 | L42: =IF($J$3="","Preenchimento incompleto: deve ser informado o Responsável pela análise - B05.01", IF(AND(C37="",D37="",E37="",F37="",H42="",I42="",J42="",K42=""),"", IF(AND(C37="",D37="",E37="",F37="",OR(H42<>"",I42<>"",J42<>"",K42<>"")),"Preenchimento incompleto: há informações por requisitante individual sem informações do item - B01.01", IF(OR(C37="",D37="",E37="",F37=""),"Preenchimento incompleto: há informações faltantes do item - B02.01", IF(AND(C37<>"",D37<>"",E37<>"",F37<>"",COUNTA(H37:K51)=0),"Preenchimento incompleto: não há nenhuma informação do requisitante individual informada - B04.01", IF(AND(C37<>"",D37<>"",E37<>"",F37<>"",H42="",I42="",J42="",K42=""),"", IF(AND(C37<>"",D37<>"",E37<>"",F37<>"",OR(H42="",I42="",J42="",K42="")),"Preenchimento incompleto: há informações por requisitante individual faltantes - B03.01", IF(OR(L37="",L38="",L39="",L40="",L41=""),"Preenchimento incompleto: há linhas vazias antes da atual - B05.01", "Preenchimento correto"))))))))
B43: 37 | G43: 7 | L43: =IF($J$3="","Preenchimento incompleto: deve ser informado o Responsável pela análise - B05.01", IF(AND(C37="",D37="",E37="",F37="",H43="",I43="",J43="",K43=""),"", IF(AND(C37="",D37="",E37="",F37="",OR(H43<>"",I43<>"",J43<>"",K43<>"")),"Preenchimento incompleto: há informações por requisitante individual sem informações do item - B01.01", IF(OR(C37="",D37="",E37="",F37=""),"Preenchimento incompleto: há informações faltantes do item - B02.01", IF(AND(C37<>"",D37<>"",E37<>"",F37<>"",COUNTA(H37:K51)=0),"Preenchimento incompleto: não há nenhuma informação do requisitante individual informada - B04.01", IF(AND(C37<>"",D37<>"",E37<>"",F37<>"",H43="",I43="",J43="",K43=""),"", IF(AND(C37<>"",D37<>"",E37<>"",F37<>"",OR(H43="",I43="",J43="",K43="")),"Preenchimento incompleto: há informações por requisitante individual faltantes - B03.01", IF(OR(L37="",L38="",L39="",L40="",L41="",L42=""),"Preenchimento incompleto: há linhas vazias antes da atual - B05.01", "Preenchimento correto"))))))))
B44: 38 | G44: 8 | L44: =IF($J$3="","Preenchimento incompleto: deve ser informado o Responsável pela análise - B05.01", IF(AND(C37="",D37="",E37="",F37="",H44="",I44="",J44="",K44=""),"", IF(AND(C37="",D37="",E37="",F37="",OR(H44<>"",I44<>"",J44<>"",K44<>"")),"Preenchimento incompleto: há informações por requisitante individual sem informações do item - B01.01", IF(OR(C37="",D37="",E37="",F37=""),"Preenchimento incompleto: há informações faltantes do item - B02.01", IF(AND(C37<>"",D37<>"",E37<>"",F37<>"",COUNTA(H37:K51)=0),"Preenchimento incompleto: não há nenhuma informação do requisitante individual informada - B04.01", IF(AND(C37<>"",D37<>"",E37<>"",F37<>"",H44="",I44="",J44="",K44=""),"", IF(AND(C37<>"",D37<>"",E37<>"",F37<>"",OR(H44="",I44="",J44="",K44="")),"Preenchimento incompleto: há informações por requisitante individual faltantes - B03.01", IF(OR(L37="",L38="",L39="",L40="",L41="",L42="",L43=""),"Preenchimento incompleto: há linhas vazias antes da atual - B05.01", "Preenchimento correto"))))))))
B45: 39 | G45: 9 | L45: =IF($J$3="","Preenchimento incompleto: deve ser informado o Responsável pela análise - B05.01", IF(AND(C37="",D37="",E37="",F37="",H45="",I45="",J45="",K45=""),"", IF(AND(C37="",D37="",E37="",F37="",OR(H45<>"",I45<>"",J45<>"",K45<>"")),"Preenchimento incompleto: há informações por requisitante individual sem informações do item - B01.01", IF(OR(C37="",D37="",E37="",F37=""),"Preenchimento incompleto: há informações faltantes do item - B02.01", IF(AND(C37<>"",D37<>"",E37<>"",F37<>"",COUNTA(H37:K51)=0),"Preenchimento incompleto: não há nenhuma informação do requisitante individual informada - B04.01", IF(AND(C37<>"",D37<>"",E37<>"",F37<>"",H45="",I45="",J45="",K45=""),"", IF(AND(C37<>"",D37<>"",E37<>"",F37<>"",OR(H45="",I45="",J45="",K45="")),"Preenchimento incompleto: há informações por requisitante individual faltantes - B03.01", IF(OR(L37="",L38="",L39="",L40="",L41="",L42="",L43="",L44=""),"Preenchimento incompleto: há linhas vazias antes da atual - B05.01", "Preenchimento correto"))))))))
B46: 40 | G46: 10 | L46: =IF($J$3="","Preenchimento incompleto: deve ser informado o Responsável pela análise - B05.01", IF(AND(C37="",D37="",E37="",F37="",H46="",I46="",J46="",K46=""),"", IF(AND(C37="",D37="",E37="",F37="",OR(H46<>"",I46<>"",J46<>"",K46<>"")),"Preenchimento incompleto: há informações por requisitante individual sem informações do item - B01.01", IF(OR(C37="",D37="",E37="",F37=""),"Preenchimento incompleto: há informações faltantes do item - B02.01", IF(AND(C37<>"",D37<>"",E37<>"",F37<>"",COUNTA(H37:K51)=0),"Preenchimento incompleto: não há nenhuma informação do requisitante individual informada - B04.01", IF(AND(C37<>"",D37<>"",E37<>"",F37<>"",H46="",I46="",J46="",K46=""),"", IF(AND(C37<>"",D37<>"",E37<>"",F37<>"",OR(H46="",I46="",J46="",K46="")),"Preenchimento incompleto: há informações por requisitante individual faltantes - B03.01", IF(OR(L37="",L38="",L39="",L40="",L41="",L42="",L43="",L44="",L45=""),"Preenchimento incompleto: há linhas vazias antes da atual - B05.01", "Preenchimento correto"))))))))
B47: 41 | G47: 11 | L47: =IF($J$3="","Preenchimento incompleto: deve ser informado o Responsável pela análise - B05.01", IF(AND(C37="",D37="",E37="",F37="",H47="",I47="",J47="",K47=""),"", IF(AND(C37="",D37="",E37="",F37="",OR(H47<>"",I47<>"",J47<>"",K47<>"")),"Preenchimento incompleto: há informações por requisitante individual sem informações do item - B01.01", IF(OR(C37="",D37="",E37="",F37=""),"Preenchimento incompleto: há informações faltantes do item - B02.01", IF(AND(C37<>"",D37<>"",E37<>"",F37<>"",COUNTA(H37:K51)=0),"Preenchimento incompleto: não há nenhuma informação do requisitante individual informada - B04.01", IF(AND(C37<>"",D37<>"",E37<>"",F37<>"",H47="",I47="",J47="",K47=""),"", IF(AND(C37<>"",D37<>"",E37<>"",F37<>"",OR(H47="",I47="",J47="",K47="")),"Preenchimento incompleto: há informações por requisitante individual faltantes - B03.01", IF(OR(L37="",L38="",L39="",L40="",L41="",L42="",L43="",L44="",L45="",L46=""),"Preenchimento incompleto: há linhas vazias antes da atual - B05.01", "Preenchimento correto"))))))))
B48: 42 | G48: 12 | L48: =IF($J$3="","Preenchimento incompleto: deve ser informado o Responsável pela análise - B05.01", IF(AND(C37="",D37="",E37="",F37="",H48="",I48="",J48="",K48=""),"", IF(AND(C37="",D37="",E37="",F37="",OR(H48<>"",I48<>"",J48<>"",K48<>"")),"Preenchimento incompleto: há informações por requisitante individual sem informações do item - B01.01", IF(OR(C37="",D37="",E37="",F37=""),"Preenchimento incompleto: há informações faltantes do item - B02.01", IF(AND(C37<>"",D37<>"",E37<>"",F37<>"",COUNTA(H37:K51)=0),"Preenchimento incompleto: não há nenhuma informação do requisitante individual informada - B04.01", IF(AND(C37<>"",D37<>"",E37<>"",F37<>"",H48="",I48="",J48="",K48=""),"", IF(AND(C37<>"",D37<>"",E37<>"",F37<>"",OR(H48="",I48="",J48="",K48="")),"Preenchimento incompleto: há informações por requisitante individual faltantes - B03.01", IF(OR(L37="",L38="",L39="",L40="",L41="",L42="",L43="",L44="",L45="",L46="",L47=""),"Preenchimento incompleto: há linhas vazias antes da atual - B05.01", "Preenchimento correto"))))))))
B49: 43 | G49: 13 | L49: =IF($J$3="","Preenchimento incompleto: deve ser informado o Responsável pela análise - B05.01", IF(AND(C37="",D37="",E37="",F37="",H49="",I49="",J49="",K49=""),"", IF(AND(C37="",D37="",E37="",F37="",OR(H49<>"",I49<>"",J49<>"",K49<>"")),"Preenchimento incompleto: há informações por requisitante individual sem informações do item - B01.01", IF(OR(C37="",D37="",E37="",F37=""),"Preenchimento incompleto: há informações faltantes do item - B02.01", IF(AND(C37<>"",D37<>"",E37<>"",F37<>"",COUNTA(H37:K51)=0),"Preenchimento incompleto: não há nenhuma informação do requisitante individual informada - B04.01", IF(AND(C37<>"",D37<>"",E37<>"",F37<>"",H49="",I49="",J49="",K49=""),"", IF(AND(C37<>"",D37<>"",E37<>"",F37<>"",OR(H49="",I49="",J49="",K49="")),"Preenchimento incompleto: há informações por requisitante individual faltantes - B03.01", IF(OR(L37="",L38="",L39="",L40="",L41="",L42="",L43="",L44="",L45="",L46="",L47="",L48=""),"Preenchimento incompleto: há linhas vazias antes da atual - B05.01", "Preenchimento correto"))))))))
B50: 44 | G50: 14 | L50: =IF($J$3="","Preenchimento incompleto: deve ser informado o Responsável pela análise - B05.01", IF(AND(C37="",D37="",E37="",F37="",H50="",I50="",J50="",K50=""),"", IF(AND(C37="",D37="",E37="",F37="",OR(H50<>"",I50<>"",J50<>"",K50<>"")),"Preenchimento incompleto: há informações por requisitante individual sem informações do item - B01.01", IF(OR(C37="",D37="",E37="",F37=""),"Preenchimento incompleto: há informações faltantes do item - B02.01", IF(AND(C37<>"",D37<>"",E37<>"",F37<>"",COUNTA(H37:K51)=0),"Preenchimento incompleto: não há nenhuma informação do requisitante individual informada - B04.01", IF(AND(C37<>"",D37<>"",E37<>"",F37<>"",H50="",I50="",J50="",K50=""),"", IF(AND(C37<>"",D37<>"",E37<>"",F37<>"",OR(H50="",I50="",J50="",K50="")),"Preenchimento incompleto: há informações por requisitante individual faltantes - B03.01", IF(OR(L37="",L38="",L39="",L40="",L41="",L42="",L43="",L44="",L45="",L46="",L47="",L48="",L49=""),"Preenchimento incompleto: há linhas vazias antes da atual - B05.01", "Preenchimento correto"))))))))
B51: 45 | G51: 15 | L51: =IF($J$3="","Preenchimento incompleto: deve ser informado o Responsável pela análise - B05.01", IF(AND(C37="",D37="",E37="",F37="",H51="",I51="",J51="",K51=""),"", IF(AND(C37="",D37="",E37="",F37="",OR(H51<>"",I51<>"",J51<>"",K51<>"")),"Preenchimento incompleto: há informações por requisitante individual sem informações do item - B01.01", IF(OR(C37="",D37="",E37="",F37=""),"Preenchimento incompleto: há informações faltantes do item - B02.01", IF(AND(C37<>"",D37<>"",E37<>"",F37<>"",COUNTA(H37:K51)=0),"Preenchimento incompleto: não há nenhuma informação do requisitante individual informada - B04.01", IF(AND(C37<>"",D37<>"",E37<>"",F37<>"",H51="",I51="",J51="",K51=""),"", IF(AND(C37<>"",D37<>"",E37<>"",F37<>"",OR(H51="",I51="",J51="",K51="")),"Preenchimento incompleto: há informações por requisitante individual faltantes - B03.01", IF(OR(L37="",L38="",L39="",L40="",L41="",L42="",L43="",L44="",L45="",L46="",L47="",L48="",L49="",L50=""),"Preenchimento incompleto: há linhas vazias antes da atual - B05.01", "Preenchimento correto"))))))))
B52: 46 | C52: =IF('1-ITENS'!C10="","",'1-ITENS'!C10) | D52: =IF('1-ITENS'!D10="","",'1-ITENS'!D10) | E52: =IF('1-ITENS'!H10="","",'1-ITENS'!H10) | F52: =IF('1-ITENS'!F10="","",'1-ITENS'!F10) | G52: 1 | L52: =IF($J$3="","Preenchimento incompleto: deve ser informado o Responsável pela análise - B05.01", IF(AND(C52="",D52="",E52="",F52="",H52="",I52="",J52="",K52=""),"", IF(AND(C52="",D52="",E52="",F52="",OR(H52<>"",I52<>"",J52<>"",K52<>"")),"Preenchimento incompleto: há informações por requisitante individual sem informações do item - B01.01", IF(OR(C52="",D52="",E52="",F52=""),"Preenchimento incompleto: há informações faltantes do item - B02.01", IF(AND(C52<>"",D52<>"",E52<>"",F52<>"",COUNTA(H52:K66)=0),"Preenchimento incompleto: não há nenhuma informação do requisitante individual informada - B04.01", IF(AND(C52<>"",D52<>"",E52<>"",F52<>"",H52="",I52="",J52="",K52=""),"", IF(AND(C52<>"",D52<>"",E52<>"",F52<>"",OR(H52="",I52="",J52="",K52="")),"Preenchimento incompleto: há informações por requisitante individual faltantes - B03.01", "Preenchimento correto")))))))
B53: 47 | G53: 2 | L53: =IF($J$3="","Preenchimento incompleto: deve ser informado o Responsável pela análise - B05.01", IF(AND(C52="",D52="",E52="",F52="",H53="",I53="",J53="",K53=""),"", IF(AND(C52="",D52="",E52="",F52="",OR(H53<>"",I53<>"",J53<>"",K53<>"")),"Preenchimento incompleto: há informações por requisitante individual sem informações do item - B01.01", IF(OR(C52="",D52="",E52="",F52=""),"Preenchimento incompleto: há informações faltantes do item - B02.01", IF(AND(C52<>"",D52<>"",E52<>"",F52<>"",COUNTA(H52:K66)=0),"Preenchimento incompleto: não há nenhuma informação do requisitante individual informada - B04.01", IF(AND(C52<>"",D52<>"",E52<>"",F52<>"",H53="",I53="",J53="",K53=""),"", IF(AND(C52<>"",D52<>"",E52<>"",F52<>"",OR(H53="",I53="",J53="",K53="")),"Preenchimento incompleto: há informações por requisitante individual faltantes - B03.01", IF(L52="","Preenchimento incompleto: há linhas vazias antes da atual - B05.01", "Preenchimento correto"))))))))
B54: 48 | G54: 3 | L54: =IF($J$3="","Preenchimento incompleto: deve ser informado o Responsável pela análise - B05.01", IF(AND(C52="",D52="",E52="",F52="",H54="",I54="",J54="",K54=""),"", IF(AND(C52="",D52="",E52="",F52="",OR(H54<>"",I54<>"",J54<>"",K54<>"")),"Preenchimento incompleto: há informações por requisitante individual sem informações do item - B01.01", IF(OR(C52="",D52="",E52="",F52=""),"Preenchimento incompleto: há informações faltantes do item - B02.01", IF(AND(C52<>"",D52<>"",E52<>"",F52<>"",COUNTA(H52:K66)=0),"Preenchimento incompleto: não há nenhuma informação do requisitante individual informada - B04.01", IF(AND(C52<>"",D52<>"",E52<>"",F52<>"",H54="",I54="",J54="",K54=""),"", IF(AND(C52<>"",D52<>"",E52<>"",F52<>"",OR(H54="",I54="",J54="",K54="")),"Preenchimento incompleto: há informações por requisitante individual faltantes - B03.01", IF(OR(L52="",L53=""),"Preenchimento incompleto: há linhas vazias antes da atual - B05.01", "Preenchimento correto"))))))))
B55: 49 | G55: 4 | L55: =IF($J$3="","Preenchimento incompleto: deve ser informado o Responsável pela análise - B05.01", IF(AND(C52="",D52="",E52="",F52="",H55="",I55="",J55="",K55=""),"", IF(AND(C52="",D52="",E52="",F52="",OR(H55<>"",I55<>"",J55<>"",K55<>"")),"Preenchimento incompleto: há informações por requisitante individual sem informações do item - B01.01", IF(OR(C52="",D52="",E52="",F52=""),"Preenchimento incompleto: há informações faltantes do item - B02.01", IF(AND(C52<>"",D52<>"",E52<>"",F52<>"",COUNTA(H52:K66)=0),"Preenchimento incompleto: não há nenhuma informação do requisitante individual informada - B04.01", IF(AND(C52<>"",D52<>"",E52<>"",F52<>"",H55="",I55="",J55="",K55=""),"", IF(AND(C52<>"",D52<>"",E52<>"",F52<>"",OR(H55="",I55="",J55="",K55="")),"Preenchimento incompleto: há informações por requisitante individual faltantes - B03.01", IF(OR(L52="",L53="",L54=""),"Preenchimento incompleto: há linhas vazias antes da atual - B05.01", "Preenchimento correto"))))))))
B56: 50 | G56: 5 | L56: =IF($J$3="","Preenchimento incompleto: deve ser informado o Responsável pela análise - B05.01", IF(AND(C52="",D52="",E52="",F52="",H56="",I56="",J56="",K56=""),"", IF(AND(C52="",D52="",E52="",F52="",OR(H56<>"",I56<>"",J56<>"",K56<>"")),"Preenchimento incompleto: há informações por requisitante individual sem informações do item - B01.01", IF(OR(C52="",D52="",E52="",F52=""),"Preenchimento incompleto: há informações faltantes do item - B02.01", IF(AND(C52<>"",D52<>"",E52<>"",F52<>"",COUNTA(H52:K66)=0),"Preenchimento incompleto: não há nenhuma informação do requisitante individual informada - B04.01", IF(AND(C52<>"",D52<>"",E52<>"",F52<>"",H56="",I56="",J56="",K56=""),"", IF(AND(C52<>"",D52<>"",E52<>"",F52<>"",OR(H56="",I56="",J56="",K56="")),"Preenchimento incompleto: há informações por requisitante individual faltantes - B03.01", IF(OR(L52="",L53="",L54="",L55=""),"Preenchimento incompleto: há linhas vazias antes da atual - B05.01", "Preenchimento correto"))))))))
B57: 51 | G57: 6 | L57: =IF($J$3="","Preenchimento incompleto: deve ser informado o Responsável pela análise - B05.01", IF(AND(C52="",D52="",E52="",F52="",H57="",I57="",J57="",K57=""),"", IF(AND(C52="",D52="",E52="",F52="",OR(H57<>"",I57<>"",J57<>"",K57<>"")),"Preenchimento incompleto: há informações por requisitante individual sem informações do item - B01.01", IF(OR(C52="",D52="",E52="",F52=""),"Preenchimento incompleto: há informações faltantes do item - B02.01", IF(AND(C52<>"",D52<>"",E52<>"",F52<>"",COUNTA(H52:K66)=0),"Preenchimento incompleto: não há nenhuma informação do requisitante individual informada - B04.01", IF(AND(C52<>"",D52<>"",E52<>"",F52<>"",H57="",I57="",J57="",K57=""),"", IF(AND(C52<>"",D52<>"",E52<>"",F52<>"",OR(H57="",I57="",J57="",K57="")),"Preenchimento incompleto: há informações por requisitante individual faltantes - B03.01", IF(OR(L52="",L53="",L54="",L55="",L56=""),"Preenchimento incompleto: há linhas vazias antes da atual - B05.01", "Preenchimento correto"))))))))
B58: 52 | G58: 7 | L58: =IF($J$3="","Preenchimento incompleto: deve ser informado o Responsável pela análise - B05.01", IF(AND(C52="",D52="",E52="",F52="",H58="",I58="",J58="",K58=""),"", IF(AND(C52="",D52="",E52="",F52="",OR(H58<>"",I58<>"",J58<>"",K58<>"")),"Preenchimento incompleto: há informações por requisitante individual sem informações do item - B01.01", IF(OR(C52="",D52="",E52="",F52=""),"Preenchimento incompleto: há informações faltantes do item - B02.01", IF(AND(C52<>"",D52<>"",E52<>"",F52<>"",COUNTA(H52:K66)=0),"Preenchimento incompleto: não há nenhuma informação do requisitante individual informada - B04.01", IF(AND(C52<>"",D52<>"",E52<>"",F52<>"",H58="",I58="",J58="",K58=""),"", IF(AND(C52<>"",D52<>"",E52<>"",F52<>"",OR(H58="",I58="",J58="",K58="")),"Preenchimento incompleto: há informações por requisitante individual faltantes - B03.01", IF(OR(L52="",L53="",L54="",L55="",L56="",L57=""),"Preenchimento incompleto: há linhas vazias antes da atual - B05.01", "Preenchimento correto"))))))))
B59: 53 | G59: 8 | L59: =IF($J$3="","Preenchimento incompleto: deve ser informado o Responsável pela análise - B05.01", IF(AND(C52="",D52="",E52="",F52="",H59="",I59="",J59="",K59=""),"", IF(AND(C52="",D52="",E52="",F52="",OR(H59<>"",I59<>"",J59<>"",K59<>"")),"Preenchimento incompleto: há informações por requisitante individual sem informações do item - B01.01", IF(OR(C52="",D52="",E52="",F52=""),"Preenchimento incompleto: há informações faltantes do item - B02.01", IF(AND(C52<>"",D52<>"",E52<>"",F52<>"",COUNTA(H52:K66)=0),"Preenchimento incompleto: não há nenhuma informação do requisitante individual informada - B04.01", IF(AND(C52<>"",D52<>"",E52<>"",F52<>"",H59="",I59="",J59="",K59=""),"", IF(AND(C52<>"",D52<>"",E52<>"",F52<>"",OR(H59="",I59="",J59="",K59="")),"Preenchimento incompleto: há informações por requisitante individual faltantes - B03.01", IF(OR(L52="",L53="",L54="",L55="",L56="",L57="",L58=""),"Preenchimento incompleto: há linhas vazias antes da atual - B05.01", "Preenchimento correto"))))))))
B60: 54 | G60: 9 | L60: =IF($J$3="","Preenchimento incompleto: deve ser informado o Responsável pela análise - B05.01", IF(AND(C52="",D52="",E52="",F52="",H60="",I60="",J60="",K60=""),"", IF(AND(C52="",D52="",E52="",F52="",OR(H60<>"",I60<>"",J60<>"",K60<>"")),"Preenchimento incompleto: há informações por requisitante individual sem informações do item - B01.01", IF(OR(C52="",D52="",E52="",F52=""),"Preenchimento incompleto: há informações faltantes do item - B02.01", IF(AND(C52<>"",D52<>"",E52<>"",F52<>"",COUNTA(H52:K66)=0),"Preenchimento incompleto: não há nenhuma informação do requisitante individual informada - B04.01", IF(AND(C52<>"",D52<>"",E52<>"",F52<>"",H60="",I60="",J60="",K60=""),"", IF(AND(C52<>"",D52<>"",E52<>"",F52<>"",OR(H60="",I60="",J60="",K60="")),"Preenchimento incompleto: há informações por requisitante individual faltantes - B03.01", IF(OR(L52="",L53="",L54="",L55="",L56="",L57="",L58="",L59=""),"Preenchimento incompleto: há linhas vazias antes da atual - B05.01", "Preenchimento correto"))))))))
B61: 55 | G61: 10 | L61: =IF($J$3="","Preenchimento incompleto: deve ser informado o Responsável pela análise - B05.01", IF(AND(C52="",D52="",E52="",F52="",H61="",I61="",J61="",K61=""),"", IF(AND(C52="",D52="",E52="",F52="",OR(H61<>"",I61<>"",J61<>"",K61<>"")),"Preenchimento incompleto: há informações por requisitante individual sem informações do item - B01.01", IF(OR(C52="",D52="",E52="",F52=""),"Preenchimento incompleto: há informações faltantes do item - B02.01", IF(AND(C52<>"",D52<>"",E52<>"",F52<>"",COUNTA(H52:K66)=0),"Preenchimento incompleto: não há nenhuma informação do requisitante individual informada - B04.01", IF(AND(C52<>"",D52<>"",E52<>"",F52<>"",H61="",I61="",J61="",K61=""),"", IF(AND(C52<>"",D52<>"",E52<>"",F52<>"",OR(H61="",I61="",J61="",K61="")),"Preenchimento incompleto: há informações por requisitante individual faltantes - B03.01", IF(OR(L52="",L53="",L54="",L55="",L56="",L57="",L58="",L59="",L60=""),"Preenchimento incompleto: há linhas vazias antes da atual - B05.01", "Preenchimento correto"))))))))
B62: 56 | G62: 11 | L62: =IF($J$3="","Preenchimento incompleto: deve ser informado o Responsável pela análise - B05.01", IF(AND(C52="",D52="",E52="",F52="",H62="",I62="",J62="",K62=""),"", IF(AND(C52="",D52="",E52="",F52="",OR(H62<>"",I62<>"",J62<>"",K62<>"")),"Preenchimento incompleto: há informações por requisitante individual sem informações do item - B01.01", IF(OR(C52="",D52="",E52="",F52=""),"Preenchimento incompleto: há informações faltantes do item - B02.01", IF(AND(C52<>"",D52<>"",E52<>"",F52<>"",COUNTA(H52:K66)=0),"Preenchimento incompleto: não há nenhuma informação do requisitante individual informada - B04.01", IF(AND(C52<>"",D52<>"",E52<>"",F52<>"",H62="",I62="",J62="",K62=""),"", IF(AND(C52<>"",D52<>"",E52<>"",F52<>"",OR(H62="",I62="",J62="",K62="")),"Preenchimento incompleto: há informações por requisitante individual faltantes - B03.01", IF(OR(L52="",L53="",L54="",L55="",L56="",L57="",L58="",L59="",L60="",L61=""),"Preenchimento incompleto: há linhas vazias antes da atual - B05.01", "Preenchimento correto"))))))))
B63: 57 | G63: 12 | L63: =IF($J$3="","Preenchimento incompleto: deve ser informado o Responsável pela análise - B05.01", IF(AND(C52="",D52="",E52="",F52="",H63="",I63="",J63="",K63=""),"", IF(AND(C52="",D52="",E52="",F52="",OR(H63<>"",I63<>"",J63<>"",K63<>"")),"Preenchimento incompleto: há informações por requisitante individual sem informações do item - B01.01", IF(OR(C52="",D52="",E52="",F52=""),"Preenchimento incompleto: há informações faltantes do item - B02.01", IF(AND(C52<>"",D52<>"",E52<>"",F52<>"",COUNTA(H52:K66)=0),"Preenchimento incompleto: não há nenhuma informação do requisitante individual informada - B04.01", IF(AND(C52<>"",D52<>"",E52<>"",F52<>"",H63="",I63="",J63="",K63=""),"", IF(AND(C52<>"",D52<>"",E52<>"",F52<>"",OR(H63="",I63="",J63="",K63="")),"Preenchimento incompleto: há informações por requisitante individual faltantes - B03.01", IF(OR(L52="",L53="",L54="",L55="",L56="",L57="",L58="",L59="",L60="",L61="",L62=""),"Preenchimento incompleto: há linhas vazias antes da atual - B05.01", "Preenchimento correto"))))))))
B64: 58 | G64: 13 | L64: =IF($J$3="","Preenchimento incompleto: deve ser informado o Responsável pela análise - B05.01", IF(AND(C52="",D52="",E52="",F52="",H64="",I64="",J64="",K64=""),"", IF(AND(C52="",D52="",E52="",F52="",OR(H64<>"",I64<>"",J64<>"",K64<>"")),"Preenchimento incompleto: há informações por requisitante individual sem informações do item - B01.01", IF(OR(C52="",D52="",E52="",F52=""),"Preenchimento incompleto: há informações faltantes do item - B02.01", IF(AND(C52<>"",D52<>"",E52<>"",F52<>"",COUNTA(H52:K66)=0),"Preenchimento incompleto: não há nenhuma informação do requisitante individual informada - B04.01", IF(AND(C52<>"",D52<>"",E52<>"",F52<>"",H64="",I64="",J64="",K64=""),"", IF(AND(C52<>"",D52<>"",E52<>"",F52<>"",OR(H64="",I64="",J64="",K64="")),"Preenchimento incompleto: há informações por requisitante individual faltantes - B03.01", IF(OR(L52="",L53="",L54="",L55="",L56="",L57="",L58="",L59="",L60="",L61="",L62="",L63=""),"Preenchimento incompleto: há linhas vazias antes da atual - B05.01", "Preenchimento correto"))))))))
B65: 59 | G65: 14 | L65: =IF($J$3="","Preenchimento incompleto: deve ser informado o Responsável pela análise - B05.01", IF(AND(C52="",D52="",E52="",F52="",H65="",I65="",J65="",K65=""),"", IF(AND(C52="",D52="",E52="",F52="",OR(H65<>"",I65<>"",J65<>"",K65<>"")),"Preenchimento incompleto: há informações por requisitante individual sem informações do item - B01.01", IF(OR(C52="",D52="",E52="",F52=""),"Preenchimento incompleto: há informações faltantes do item - B02.01", IF(AND(C52<>"",D52<>"",E52<>"",F52<>"",COUNTA(H52:K66)=0),"Preenchimento incompleto: não há nenhuma informação do requisitante individual informada - B04.01", IF(AND(C52<>"",D52<>"",E52<>"",F52<>"",H65="",I65="",J65="",K65=""),"", IF(AND(C52<>"",D52<>"",E52<>"",F52<>"",OR(H65="",I65="",J65="",K65="")),"Preenchimento incompleto: há informações por requisitante individual faltantes - B03.01", IF(OR(L52="",L53="",L54="",L55="",L56="",L57="",L58="",L59="",L60="",L61="",L62="",L63="",L64=""),"Preenchimento incompleto: há linhas vazias antes da atual - B05.01", "Preenchimento correto"))))))))
B66: 60 | G66: 15 | L66: =IF($J$3="","Preenchimento incompleto: deve ser informado o Responsável pela análise - B05.01", IF(AND(C52="",D52="",E52="",F52="",H66="",I66="",J66="",K66=""),"", IF(AND(C52="",D52="",E52="",F52="",OR(H66<>"",I66<>"",J66<>"",K66<>"")),"Preenchimento incompleto: há informações por requisitante individual sem informações do item - B01.01", IF(OR(C52="",D52="",E52="",F52=""),"Preenchimento incompleto: há informações faltantes do item - B02.01", IF(AND(C52<>"",D52<>"",E52<>"",F52<>"",COUNTA(H52:K66)=0),"Preenchimento incompleto: não há nenhuma informação do requisitante individual informada - B04.01", IF(AND(C52<>"",D52<>"",E52<>"",F52<>"",H66="",I66="",J66="",K66=""),"", IF(AND(C52<>"",D52<>"",E52<>"",F52<>"",OR(H66="",I66="",J66="",K66="")),"Preenchimento incompleto: há informações por requisitante individual faltantes - B03.01", IF(OR(L52="",L53="",L54="",L55="",L56="",L57="",L58="",L59="",L60="",L61="",L62="",L63="",L64="",L65=""),"Preenchimento incompleto: há linhas vazias antes da atual - B05.01", "Preenchimento correto"))))))))
B67: 61 | C67: =IF('1-ITENS'!C11="","",'1-ITENS'!C11) | D67: =IF('1-ITENS'!D11="","",'1-ITENS'!D11) | E67: =IF('1-ITENS'!H11="","",'1-ITENS'!H11) | F67: =IF('1-ITENS'!F11="","",'1-ITENS'!F11) | G67: 1 | L67: =IF($J$3="","Preenchimento incompleto: deve ser informado o Responsável pela análise - B05.01", IF(AND(C67="",D67="",E67="",F67="",H67="",I67="",J67="",K67=""),"", IF(AND(C67="",D67="",E67="",F67="",OR(H67<>"",I67<>"",J67<>"",K67<>"")),"Preenchimento incompleto: há informações por requisitante individual sem informações do item - B01.01", IF(OR(C67="",D67="",E67="",F67=""),"Preenchimento incompleto: há informações faltantes do item - B02.01", IF(AND(C67<>"",D67<>"",E67<>"",F67<>"",COUNTA(H67:K81)=0),"Preenchimento incompleto: não há nenhuma informação do requisitante individual informada - B04.01", IF(AND(C67<>"",D67<>"",E67<>"",F67<>"",H67="",I67="",J67="",K67=""),"", IF(AND(C67<>"",D67<>"",E67<>"",F67<>"",OR(H67="",I67="",J67="",K67="")),"Preenchimento incompleto: há informações por requisitante individual faltantes - B03.01", "Preenchimento correto")))))))
B68: 62 | G68: 2 | L68: =IF($J$3="","Preenchimento incompleto: deve ser informado o Responsável pela análise - B05.01", IF(AND(C67="",D67="",E67="",F67="",H68="",I68="",J68="",K68=""),"", IF(AND(C67="",D67="",E67="",F67="",OR(H68<>"",I68<>"",J68<>"",K68<>"")),"Preenchimento incompleto: há informações por requisitante individual sem informações do item - B01.01", IF(OR(C67="",D67="",E67="",F67=""),"Preenchimento incompleto: há informações faltantes do item - B02.01", IF(AND(C67<>"",D67<>"",E67<>"",F67<>"",COUNTA(H67:K81)=0),"Preenchimento incompleto: não há nenhuma informação do requisitante individual informada - B04.01", IF(AND(C67<>"",D67<>"",E67<>"",F67<>"",H68="",I68="",J68="",K68=""),"", IF(AND(C67<>"",D67<>"",E67<>"",F67<>"",OR(H68="",I68="",J68="",K68="")),"Preenchimento incompleto: há informações por requisitante individual faltantes - B03.01", IF(L67="","Preenchimento incompleto: há linhas vazias antes da atual - B05.01", "Preenchimento correto"))))))))
B69: 63 | G69: 3 | L69: =IF($J$3="","Preenchimento incompleto: deve ser informado o Responsável pela análise - B05.01", IF(AND(C67="",D67="",E67="",F67="",H69="",I69="",J69="",K69=""),"", IF(AND(C67="",D67="",E67="",F67="",OR(H69<>"",I69<>"",J69<>"",K69<>"")),"Preenchimento incompleto: há informações por requisitante individual sem informações do item - B01.01", IF(OR(C67="",D67="",E67="",F67=""),"Preenchimento incompleto: há informações faltantes do item - B02.01", IF(AND(C67<>"",D67<>"",E67<>"",F67<>"",COUNTA(H67:K81)=0),"Preenchimento incompleto: não há nenhuma informação do requisitante individual informada - B04.01", IF(AND(C67<>"",D67<>"",E67<>"",F67<>"",H69="",I69="",J69="",K69=""),"", IF(AND(C67<>"",D67<>"",E67<>"",F67<>"",OR(H69="",I69="",J69="",K69="")),"Preenchimento incompleto: há informações por requisitante individual faltantes - B03.01", IF(OR(L67="",L68=""),"Preenchimento incompleto: há linhas vazias antes da atual - B05.01", "Preenchimento correto"))))))))
B70: 64 | G70: 4 | L70: =IF($J$3="","Preenchimento incompleto: deve ser informado o Responsável pela análise - B05.01", IF(AND(C67="",D67="",E67="",F67="",H70="",I70="",J70="",K70=""),"", IF(AND(C67="",D67="",E67="",F67="",OR(H70<>"",I70<>"",J70<>"",K70<>"")),"Preenchimento incompleto: há informações por requisitante individual sem informações do item - B01.01", IF(OR(C67="",D67="",E67="",F67=""),"Preenchimento incompleto: há informações faltantes do item - B02.01", IF(AND(C67<>"",D67<>"",E67<>"",F67<>"",COUNTA(H67:K81)=0),"Preenchimento incompleto: não há nenhuma informação do requisitante individual informada - B04.01", IF(AND(C67<>"",D67<>"",E67<>"",F67<>"",H70="",I70="",J70="",K70=""),"", IF(AND(C67<>"",D67<>"",E67<>"",F67<>"",OR(H70="",I70="",J70="",K70="")),"Preenchimento incompleto: há informações por requisitante individual faltantes - B03.01", IF(OR(L67="",L68="",L69=""),"Preenchimento incompleto: há linhas vazias antes da atual - B05.01", "Preenchimento correto"))))))))
B71: 65 | G71: 5 | L71: =IF($J$3="","Preenchimento incompleto: deve ser informado o Responsável pela análise - B05.01", IF(AND(C67="",D67="",E67="",F67="",H71="",I71="",J71="",K71=""),"", IF(AND(C67="",D67="",E67="",F67="",OR(H71<>"",I71<>"",J71<>"",K71<>"")),"Preenchimento incompleto: há informações por requisitante individual sem informações do item - B01.01", IF(OR(C67="",D67="",E67="",F67=""),"Preenchimento incompleto: há informações faltantes do item - B02.01", IF(AND(C67<>"",D67<>"",E67<>"",F67<>"",COUNTA(H67:K81)=0),"Preenchimento incompleto: não há nenhuma informação do requisitante individual informada - B04.01", IF(AND(C67<>"",D67<>"",E67<>"",F67<>"",H71="",I71="",J71="",K71=""),"", IF(AND(C67<>"",D67<>"",E67<>"",F67<>"",OR(H71="",I71="",J71="",K71="")),"Preenchimento incompleto: há informações por requisitante individual faltantes - B03.01", IF(OR(L67="",L68="",L69="",L70=""),"Preenchimento incompleto: há linhas vazias antes da atual - B05.01", "Preenchimento correto"))))))))
B72: 66 | G72: 6 | L72: =IF($J$3="","Preenchimento incompleto: deve ser informado o Responsável pela análise - B05.01", IF(AND(C67="",D67="",E67="",F67="",H72="",I72="",J72="",K72=""),"", IF(AND(C67="",D67="",E67="",F67="",OR(H72<>"",I72<>"",J72<>"",K72<>"")),"Preenchimento incompleto: há informações por requisitante individual sem informações do item - B01.01", IF(OR(C67="",D67="",E67="",F67=""),"Preenchimento incompleto: há informações faltantes do item - B02.01", IF(AND(C67<>"",D67<>"",E67<>"",F67<>"",COUNTA(H67:K81)=0),"Preenchimento incompleto: não há nenhuma informação do requisitante individual informada - B04.01", IF(AND(C67<>"",D67<>"",E67<>"",F67<>"",H72="",I72="",J72="",K72=""),"", IF(AND(C67<>"",D67<>"",E67<>"",F67<>"",OR(H72="",I72="",J72="",K72="")),"Preenchimento incompleto: há informações por requisitante individual faltantes - B03.01", IF(OR(L67="",L68="",L69="",L70="",L71=""),"Preenchimento incompleto: há linhas vazias antes da atual - B05.01", "Preenchimento correto"))))))))
B73: 67 | G73: 7 | L73: =IF($J$3="","Preenchimento incompleto: deve ser informado o Responsável pela análise - B05.01", IF(AND(C67="",D67="",E67="",F67="",H73="",I73="",J73="",K73=""),"", IF(AND(C67="",D67="",E67="",F67="",OR(H73<>"",I73<>"",J73<>"",K73<>"")),"Preenchimento incompleto: há informações por requisitante individual sem informações do item - B01.01", IF(OR(C67="",D67="",E67="",F67=""),"Preenchimento incompleto: há informações faltantes do item - B02.01", IF(AND(C67<>"",D67<>"",E67<>"",F67<>"",COUNTA(H67:K81)=0),"Preenchimento incompleto: não há nenhuma informação do requisitante individual informada - B04.01", IF(AND(C67<>"",D67<>"",E67<>"",F67<>"",H73="",I73="",J73="",K73=""),"", IF(AND(C67<>"",D67<>"",E67<>"",F67<>"",OR(H73="",I73="",J73="",K73="")),"Preenchimento incompleto: há informações por requisitante individual faltantes - B03.01", IF(OR(L67="",L68="",L69="",L70="",L71="",L72=""),"Preenchimento incompleto: há linhas vazias antes da atual - B05.01", "Preenchimento correto"))))))))
B74: 68 | G74: 8 | L74: =IF($J$3="","Preenchimento incompleto: deve ser informado o Responsável pela análise - B05.01", IF(AND(C67="",D67="",E67="",F67="",H74="",I74="",J74="",K74=""),"", IF(AND(C67="",D67="",E67="",F67="",OR(H74<>"",I74<>"",J74<>"",K74<>"")),"Preenchimento incompleto: há informações por requisitante individual sem informações do item - B01.01", IF(OR(C67="",D67="",E67="",F67=""),"Preenchimento incompleto: há informações faltantes do item - B02.01", IF(AND(C67<>"",D67<>"",E67<>"",F67<>"",COUNTA(H67:K81)=0),"Preenchimento incompleto: não há nenhuma informação do requisitante individual informada - B04.01", IF(AND(C67<>"",D67<>"",E67<>"",F67<>"",H74="",I74="",J74="",K74=""),"", IF(AND(C67<>"",D67<>"",E67<>"",F67<>"",OR(H74="",I74="",J74="",K74="")),"Preenchimento incompleto: há informações por requisitante individual faltantes - B03.01", IF(OR(L67="",L68="",L69="",L70="",L71="",L72="",L73=""),"Preenchimento incompleto: há linhas vazias antes da atual - B05.01", "Preenchimento correto"))))))))
B75: 69 | G75: 9 | L75: =IF($J$3="","Preenchimento incompleto: deve ser informado o Responsável pela análise - B05.01", IF(AND(C67="",D67="",E67="",F67="",H75="",I75="",J75="",K75=""),"", IF(AND(C67="",D67="",E67="",F67="",OR(H75<>"",I75<>"",J75<>"",K75<>"")),"Preenchimento incompleto: há informações por requisitante individual sem informações do item - B01.01", IF(OR(C67="",D67="",E67="",F67=""),"Preenchimento incompleto: há informações faltantes do item - B02.01", IF(AND(C67<>"",D67<>"",E67<>"",F67<>"",COUNTA(H67:K81)=0),"Preenchimento incompleto: não há nenhuma informação do requisitante individual informada - B04.01", IF(AND(C67<>"",D67<>"",E67<>"",F67<>"",H75="",I75="",J75="",K75=""),"", IF(AND(C67<>"",D67<>"",E67<>"",F67<>"",OR(H75="",I75="",J75="",K75="")),"Preenchimento incompleto: há informações por requisitante individual faltantes - B03.01", IF(OR(L67="",L68="",L69="",L70="",L71="",L72="",L73="",L74=""),"Preenchimento incompleto: há linhas vazias antes da atual - B05.01", "Preenchimento correto"))))))))
B76: 70 | G76: 10 | L76: =IF($J$3="","Preenchimento incompleto: deve ser informado o Responsável pela análise - B05.01", IF(AND(C67="",D67="",E67="",F67="",H76="",I76="",J76="",K76=""),"", IF(AND(C67="",D67="",E67="",F67="",OR(H76<>"",I76<>"",J76<>"",K76<>"")),"Preenchimento incompleto: há informações por requisitante individual sem informações do item - B01.01", IF(OR(C67="",D67="",E67="",F67=""),"Preenchimento incompleto: há informações faltantes do item - B02.01", IF(AND(C67<>"",D67<>"",E67<>"",F67<>"",COUNTA(H67:K81)=0),"Preenchimento incompleto: não há nenhuma informação do requisitante individual informada - B04.01", IF(AND(C67<>"",D67<>"",E67<>"",F67<>"",H76="",I76="",J76="",K76=""),"", IF(AND(C67<>"",D67<>"",E67<>"",F67<>"",OR(H76="",I76="",J76="",K76="")),"Preenchimento incompleto: há informações por requisitante individual faltantes - B03.01", IF(OR(L67="",L68="",L69="",L70="",L71="",L72="",L73="",L74="",L75=""),"Preenchimento incompleto: há linhas vazias antes da atual - B05.01", "Preenchimento correto"))))))))
B77: 71 | G77: 11 | L77: =IF($J$3="","Preenchimento incompleto: deve ser informado o Responsável pela análise - B05.01", IF(AND(C67="",D67="",E67="",F67="",H77="",I77="",J77="",K77=""),"", IF(AND(C67="",D67="",E67="",F67="",OR(H77<>"",I77<>"",J77<>"",K77<>"")),"Preenchimento incompleto: há informações por requisitante individual sem informações do item - B01.01", IF(OR(C67="",D67="",E67="",F67=""),"Preenchimento incompleto: há informações faltantes do item - B02.01", IF(AND(C67<>"",D67<>"",E67<>"",F67<>"",COUNTA(H67:K81)=0),"Preenchimento incompleto: não há nenhuma informação do requisitante individual informada - B04.01", IF(AND(C67<>"",D67<>"",E67<>"",F67<>"",H77="",I77="",J77="",K77=""),"", IF(AND(C67<>"",D67<>"",E67<>"",F67<>"",OR(H77="",I77="",J77="",K77="")),"Preenchimento incompleto: há informações por requisitante individual faltantes - B03.01", IF(OR(L67="",L68="",L69="",L70="",L71="",L72="",L73="",L74="",L75="",L76=""),"Preenchimento incompleto: há linhas vazias antes da atual - B05.01", "Preenchimento correto"))))))))
B78: 72 | G78: 12 | L78: =IF($J$3="","Preenchimento incompleto: deve ser informado o Responsável pela análise - B05.01", IF(AND(C67="",D67="",E67="",F67="",H78="",I78="",J78="",K78=""),"", IF(AND(C67="",D67="",E67="",F67="",OR(H78<>"",I78<>"",J78<>"",K78<>"")),"Preenchimento incompleto: há informações por requisitante individual sem informações do item - B01.01", IF(OR(C67="",D67="",E67="",F67=""),"Preenchimento incompleto: há informações faltantes do item - B02.01", IF(AND(C67<>"",D67<>"",E67<>"",F67<>"",COUNTA(H67:K81)=0),"Preenchimento incompleto: não há nenhuma informação do requisitante individual informada - B04.01", IF(AND(C67<>"",D67<>"",E67<>"",F67<>"",H78="",I78="",J78="",K78=""),"", IF(AND(C67<>"",D67<>"",E67<>"",F67<>"",OR(H78="",I78="",J78="",K78="")),"Preenchimento incompleto: há informações por requisitante individual faltantes - B03.01", IF(OR(L67="",L68="",L69="",L70="",L71="",L72="",L73="",L74="",L75="",L76="",L77=""),"Preenchimento incompleto: há linhas vazias antes da atual - B05.01", "Preenchimento correto"))))))))
B79: 73 | G79: 13 | L79: =IF($J$3="","Preenchimento incompleto: deve ser informado o Responsável pela análise - B05.01", IF(AND(C67="",D67="",E67="",F67="",H79="",I79="",J79="",K79=""),"", IF(AND(C67="",D67="",E67="",F67="",OR(H79<>"",I79<>"",J79<>"",K79<>"")),"Preenchimento incompleto: há informações por requisitante individual sem informações do item - B01.01", IF(OR(C67="",D67="",E67="",F67=""),"Preenchimento incompleto: há informações faltantes do item - B02.01", IF(AND(C67<>"",D67<>"",E67<>"",F67<>"",COUNTA(H67:K81)=0),"Preenchimento incompleto: não há nenhuma informação do requisitante individual informada - B04.01", IF(AND(C67<>"",D67<>"",E67<>"",F67<>"",H79="",I79="",J79="",K79=""),"", IF(AND(C67<>"",D67<>"",E67<>"",F67<>"",OR(H79="",I79="",J79="",K79="")),"Preenchimento incompleto: há informações por requisitante individual faltantes - B03.01", IF(OR(L67="",L68="",L69="",L70="",L71="",L72="",L73="",L74="",L75="",L76="",L77="",L78=""),"Preenchimento incompleto: há linhas vazias antes da atual - B05.01", "Preenchimento correto"))))))))
B80: 74 | G80: 14 | L80: =IF($J$3="","Preenchimento incompleto: deve ser informado o Responsável pela análise - B05.01", IF(AND(C67="",D67="",E67="",F67="",H80="",I80="",J80="",K80=""),"", IF(AND(C67="",D67="",E67="",F67="",OR(H80<>"",I80<>"",J80<>"",K80<>"")),"Preenchimento incompleto: há informações por requisitante individual sem informações do item - B01.01", IF(OR(C67="",D67="",E67="",F67=""),"Preenchimento incompleto: há informações faltantes do item - B02.01", IF(AND(C67<>"",D67<>"",E67<>"",F67<>"",COUNTA(H67:K81)=0),"Preenchimento incompleto: não há nenhuma informação do requisitante individual informada - B04.01", IF(AND(C67<>"",D67<>"",E67<>"",F67<>"",H80="",I80="",J80="",K80=""),"", IF(AND(C67<>"",D67<>"",E67<>"",F67<>"",OR(H80="",I80="",J80="",K80="")),"Preenchimento incompleto: há informações por requisitante individual faltantes - B03.01", IF(OR(L67="",L68="",L69="",L70="",L71="",L72="",L73="",L74="",L75="",L76="",L77="",L78="",L79=""),"Preenchimento incompleto: há linhas vazias antes da atual - B05.01", "Preenchimento correto"))))))))
B81: 75 | G81: 15 | L81: =IF($J$3="","Preenchimento incompleto: deve ser informado o Responsável pela análise - B05.01", IF(AND(C67="",D67="",E67="",F67="",H81="",I81="",J81="",K81=""),"", IF(AND(C67="",D67="",E67="",F67="",OR(H81<>"",I81<>"",J81<>"",K81<>"")),"Preenchimento incompleto: há informações por requisitante individual sem informações do item - B01.01", IF(OR(C67="",D67="",E67="",F67=""),"Preenchimento incompleto: há informações faltantes do item - B02.01", IF(AND(C67<>"",D67<>"",E67<>"",F67<>"",COUNTA(H67:K81)=0),"Preenchimento incompleto: não há nenhuma informação do requisitante individual informada - B04.01", IF(AND(C67<>"",D67<>"",E67<>"",F67<>"",H81="",I81="",J81="",K81=""),"", IF(AND(C67<>"",D67<>"",E67<>"",F67<>"",OR(H81="",I81="",J81="",K81="")),"Preenchimento incompleto: há informações por requisitante individual faltantes - B03.01", IF(OR(L67="",L68="",L69="",L70="",L71="",L72="",L73="",L74="",L75="",L76="",L77="",L78="",L79="",L80=""),"Preenchimento incompleto: há linhas vazias antes da atual - B05.01", "Preenchimento correto"))))))))
B82: 76 | C82: =IF('1-ITENS'!C12="","",'1-ITENS'!C12) | D82: =IF('1-ITENS'!D12="","",'1-ITENS'!D12) | E82: =IF('1-ITENS'!H12="","",'1-ITENS'!H12) | F82: =IF('1-ITENS'!F12="","",'1-ITENS'!F12) | G82: 1 | L82: =IF($J$3="","Preenchimento incompleto: deve ser informado o Responsável pela análise - B05.01", IF(AND(C82="",D82="",E82="",F82="",H82="",I82="",J82="",K82=""),"", IF(AND(C82="",D82="",E82="",F82="",OR(H82<>"",I82<>"",J82<>"",K82<>"")),"Preenchimento incompleto: há informações por requisitante individual sem informações do item - B01.01", IF(OR(C82="",D82="",E82="",F82=""),"Preenchimento incompleto: há informações faltantes do item - B02.01", IF(AND(C82<>"",D82<>"",E82<>"",F82<>"",COUNTA(H82:K96)=0),"Preenchimento incompleto: não há nenhuma informação do requisitante individual informada - B04.01", IF(AND(C82<>"",D82<>"",E82<>"",F82<>"",H82="",I82="",J82="",K82=""),"", IF(AND(C82<>"",D82<>"",E82<>"",F82<>"",OR(H82="",I82="",J82="",K82="")),"Preenchimento incompleto: há informações por requisitante individual faltantes - B03.01", "Preenchimento correto")))))))
B83: 77 | G83: 2 | L83: =IF($J$3="","Preenchimento incompleto: deve ser informado o Responsável pela análise - B05.01", IF(AND(C82="",D82="",E82="",F82="",H83="",I83="",J83="",K83=""),"", IF(AND(C82="",D82="",E82="",F82="",OR(H83<>"",I83<>"",J83<>"",K83<>"")),"Preenchimento incompleto: há informações por requisitante individual sem informações do item - B01.01", IF(OR(C82="",D82="",E82="",F82=""),"Preenchimento incompleto: há informações faltantes do item - B02.01", IF(AND(C82<>"",D82<>"",E82<>"",F82<>"",COUNTA(H82:K96)=0),"Preenchimento incompleto: não há nenhuma informação do requisitante individual informada - B04.01", IF(AND(C82<>"",D82<>"",E82<>"",F82<>"",H83="",I83="",J83="",K83=""),"", IF(AND(C82<>"",D82<>"",E82<>"",F82<>"",OR(H83="",I83="",J83="",K83="")),"Preenchimento incompleto: há informações por requisitante individual faltantes - B03.01", IF(L82="","Preenchimento incompleto: há linhas vazias antes da atual - B05.01", "Preenchimento correto"))))))))
B84: 78 | G84: 3 | L84: =IF($J$3="","Preenchimento incompleto: deve ser informado o Responsável pela análise - B05.01", IF(AND(C82="",D82="",E82="",F82="",H84="",I84="",J84="",K84=""),"", IF(AND(C82="",D82="",E82="",F82="",OR(H84<>"",I84<>"",J84<>"",K84<>"")),"Preenchimento incompleto: há informações por requisitante individual sem informações do item - B01.01", IF(OR(C82="",D82="",E82="",F82=""),"Preenchimento incompleto: há informações faltantes do item - B02.01", IF(AND(C82<>"",D82<>"",E82<>"",F82<>"",COUNTA(H82:K96)=0),"Preenchimento incompleto: não há nenhuma informação do requisitante individual informada - B04.01", IF(AND(C82<>"",D82<>"",E82<>"",F82<>"",H84="",I84="",J84="",K84=""),"", IF(AND(C82<>"",D82<>"",E82<>"",F82<>"",OR(H84="",I84="",J84="",K84="")),"Preenchimento incompleto: há informações por requisitante individual faltantes - B03.01", IF(OR(L82="",L83=""),"Preenchimento incompleto: há linhas vazias antes da atual - B05.01", "Preenchimento correto"))))))))
B85: 79 | G85: 4 | L85: =IF($J$3="","Preenchimento incompleto: deve ser informado o Responsável pela análise - B05.01", IF(AND(C82="",D82="",E82="",F82="",H85="",I85="",J85="",K85=""),"", IF(AND(C82="",D82="",E82="",F82="",OR(H85<>"",I85<>"",J85<>"",K85<>"")),"Preenchimento incompleto: há informações por requisitante individual sem informações do item - B01.01", IF(OR(C82="",D82="",E82="",F82=""),"Preenchimento incompleto: há informações faltantes do item - B02.01", IF(AND(C82<>"",D82<>"",E82<>"",F82<>"",COUNTA(H82:K96)=0),"Preenchimento incompleto: não há nenhuma informação do requisitante individual informada - B04.01", IF(AND(C82<>"",D82<>"",E82<>"",F82<>"",H85="",I85="",J85="",K85=""),"", IF(AND(C82<>"",D82<>"",E82<>"",F82<>"",OR(H85="",I85="",J85="",K85="")),"Preenchimento incompleto: há informações por requisitante individual faltantes - B03.01", IF(OR(L82="",L83="",L84=""),"Preenchimento incompleto: há linhas vazias antes da atual - B05.01", "Preenchimento correto"))))))))
B86: 80 | G86: 5 | L86: =IF($J$3="","Preenchimento incompleto: deve ser informado o Responsável pela análise - B05.01", IF(AND(C82="",D82="",E82="",F82="",H86="",I86="",J86="",K86=""),"", IF(AND(C82="",D82="",E82="",F82="",OR(H86<>"",I86<>"",J86<>"",K86<>"")),"Preenchimento incompleto: há informações por requisitante individual sem informações do item - B01.01", IF(OR(C82="",D82="",E82="",F82=""),"Preenchimento incompleto: há informações faltantes do item - B02.01", IF(AND(C82<>"",D82<>"",E82<>"",F82<>"",COUNTA(H82:K96)=0),"Preenchimento incompleto: não há nenhuma informação do requisitante individual informada - B04.01", IF(AND(C82<>"",D82<>"",E82<>"",F82<>"",H86="",I86="",J86="",K86=""),"", IF(AND(C82<>"",D82<>"",E82<>"",F82<>"",OR(H86="",I86="",J86="",K86="")),"Preenchimento incompleto: há informações por requisitante individual faltantes - B03.01", IF(OR(L82="",L83="",L84="",L85=""),"Preenchimento incompleto: há linhas vazias antes da atual - B05.01", "Preenchimento correto"))))))))
B87: 81 | G87: 6 | L87: =IF($J$3="","Preenchimento incompleto: deve ser informado o Responsável pela análise - B05.01", IF(AND(C82="",D82="",E82="",F82="",H87="",I87="",J87="",K87=""),"", IF(AND(C82="",D82="",E82="",F82="",OR(H87<>"",I87<>"",J87<>"",K87<>"")),"Preenchimento incompleto: há informações por requisitante individual sem informações do item - B01.01", IF(OR(C82="",D82="",E82="",F82=""),"Preenchimento incompleto: há informações faltantes do item - B02.01", IF(AND(C82<>"",D82<>"",E82<>"",F82<>"",COUNTA(H82:K96)=0),"Preenchimento incompleto: não há nenhuma informação do requisitante individual informada - B04.01", IF(AND(C82<>"",D82<>"",E82<>"",F82<>"",H87="",I87="",J87="",K87=""),"", IF(AND(C82<>"",D82<>"",E82<>"",F82<>"",OR(H87="",I87="",J87="",K87="")),"Preenchimento incompleto: há informações por requisitante individual faltantes - B03.01", IF(OR(L82="",L83="",L84="",L85="",L86=""),"Preenchimento incompleto: há linhas vazias antes da atual - B05.01", "Preenchimento correto"))))))))
B88: 82 | G88: 7 | L88: =IF($J$3="","Preenchimento incompleto: deve ser informado o Responsável pela análise - B05.01", IF(AND(C82="",D82="",E82="",F82="",H88="",I88="",J88="",K88=""),"", IF(AND(C82="",D82="",E82="",F82="",OR(H88<>"",I88<>"",J88<>"",K88<>"")),"Preenchimento incompleto: há informações por requisitante individual sem informações do item - B01.01", IF(OR(C82="",D82="",E82="",F82=""),"Preenchimento incompleto: há informações faltantes do item - B02.01", IF(AND(C82<>"",D82<>"",E82<>"",F82<>"",COUNTA(H82:K96)=0),"Preenchimento incompleto: não há nenhuma informação do requisitante individual informada - B04.01", IF(AND(C82<>"",D82<>"",E82<>"",F82<>"",H88="",I88="",J88="",K88=""),"", IF(AND(C82<>"",D82<>"",E82<>"",F82<>"",OR(H88="",I88="",J88="",K88="")),"Preenchimento incompleto: há informações por requisitante individual faltantes - B03.01", IF(OR(L82="",L83="",L84="",L85="",L86="",L87=""),"Preenchimento incompleto: há linhas vazias antes da atual - B05.01", "Preenchimento correto"))))))))
B89: 83 | G89: 8 | L89: =IF($J$3="","Preenchimento incompleto: deve ser informado o Responsável pela análise - B05.01", IF(AND(C82="",D82="",E82="",F82="",H89="",I89="",J89="",K89=""),"", IF(AND(C82="",D82="",E82="",F82="",OR(H89<>"",I89<>"",J89<>"",K89<>"")),"Preenchimento incompleto: há informações por requisitante individual sem informações do item - B01.01", IF(OR(C82="",D82="",E82="",F82=""),"Preenchimento incompleto: há informações faltantes do item - B02.01", IF(AND(C82<>"",D82<>"",E82<>"",F82<>"",COUNTA(H82:K96)=0),"Preenchimento incompleto: não há nenhuma informação do requisitante individual informada - B04.01", IF(AND(C82<>"",D82<>"",E82<>"",F82<>"",H89="",I89="",J89="",K89=""),"", IF(AND(C82<>"",D82<>"",E82<>"",F82<>"",OR(H89="",I89="",J89="",K89="")),"Preenchimento incompleto: há informações por requisitante individual faltantes - B03.01", IF(OR(L82="",L83="",L84="",L85="",L86="",L87="",L88=""),"Preenchimento incompleto: há linhas vazias antes da atual - B05.01", "Preenchimento correto"))))))))
B90: 84 | G90: 9 | L90: =IF($J$3="","Preenchimento incompleto: deve ser informado o Responsável pela análise - B05.01", IF(AND(C82="",D82="",E82="",F82="",H90="",I90="",J90="",K90=""),"", IF(AND(C82="",D82="",E82="",F82="",OR(H90<>"",I90<>"",J90<>"",K90<>"")),"Preenchimento incompleto: há informações por requisitante individual sem informações do item - B01.01", IF(OR(C82="",D82="",E82="",F82=""),"Preenchimento incompleto: há informações faltantes do item - B02.01", IF(AND(C82<>"",D82<>"",E82<>"",F82<>"",COUNTA(H82:K96)=0),"Preenchimento incompleto: não há nenhuma informação do requisitante individual informada - B04.01", IF(AND(C82<>"",D82<>"",E82<>"",F82<>"",H90="",I90="",J90="",K90=""),"", IF(AND(C82<>"",D82<>"",E82<>"",F82<>"",OR(H90="",I90="",J90="",K90="")),"Preenchimento incompleto: há informações por requisitante individual faltantes - B03.01", IF(OR(L82="",L83="",L84="",L85="",L86="",L87="",L88="",L89=""),"Preenchimento incompleto: há linhas vazias antes da atual - B05.01", "Preenchimento correto"))))))))
B91: 85 | G91: 10 | L91: =IF($J$3="","Preenchimento incompleto: deve ser informado o Responsável pela análise - B05.01", IF(AND(C82="",D82="",E82="",F82="",H91="",I91="",J91="",K91=""),"", IF(AND(C82="",D82="",E82="",F82="",OR(H91<>"",I91<>"",J91<>"",K91<>"")),"Preenchimento incompleto: há informações por requisitante individual sem informações do item - B01.01", IF(OR(C82="",D82="",E82="",F82=""),"Preenchimento incompleto: há informações faltantes do item - B02.01", IF(AND(C82<>"",D82<>"",E82<>"",F82<>"",COUNTA(H82:K96)=0),"Preenchimento incompleto: não há nenhuma informação do requisitante individual informada - B04.01", IF(AND(C82<>"",D82<>"",E82<>"",F82<>"",H91="",I91="",J91="",K91=""),"", IF(AND(C82<>"",D82<>"",E82<>"",F82<>"",OR(H91="",I91="",J91="",K91="")),"Preenchimento incompleto: há informações por requisitante individual faltantes - B03.01", IF(OR(L82="",L83="",L84="",L85="",L86="",L87="",L88="",L89="",L90=""),"Preenchimento incompleto: há linhas vazias antes da atual - B05.01", "Preenchimento correto"))))))))
B92: 86 | G92: 11 | L92: =IF($J$3="","Preenchimento incompleto: deve ser informado o Responsável pela análise - B05.01", IF(AND(C82="",D82="",E82="",F82="",H92="",I92="",J92="",K92=""),"", IF(AND(C82="",D82="",E82="",F82="",OR(H92<>"",I92<>"",J92<>"",K92<>"")),"Preenchimento incompleto: há informações por requisitante individual sem informações do item - B01.01", IF(OR(C82="",D82="",E82="",F82=""),"Preenchimento incompleto: há informações faltantes do item - B02.01", IF(AND(C82<>"",D82<>"",E82<>"",F82<>"",COUNTA(H82:K96)=0),"Preenchimento incompleto: não há nenhuma informação do requisitante individual informada - B04.01", IF(AND(C82<>"",D82<>"",E82<>"",F82<>"",H92="",I92="",J92="",K92=""),"", IF(AND(C82<>"",D82<>"",E82<>"",F82<>"",OR(H92="",I92="",J92="",K92="")),"Preenchimento incompleto: há informações por requisitante individual faltantes - B03.01", IF(OR(L82="",L83="",L84="",L85="",L86="",L87="",L88="",L89="",L90="",L91=""),"Preenchimento incompleto: há linhas vazias antes da atual - B05.01", "Preenchimento correto"))))))))
B93: 87 | G93: 12 | L93: =IF($J$3="","Preenchimento incompleto: deve ser informado o Responsável pela análise - B05.01", IF(AND(C82="",D82="",E82="",F82="",H93="",I93="",J93="",K93=""),"", IF(AND(C82="",D82="",E82="",F82="",OR(H93<>"",I93<>"",J93<>"",K93<>"")),"Preenchimento incompleto: há informações por requisitante individual sem informações do item - B01.01", IF(OR(C82="",D82="",E82="",F82=""),"Preenchimento incompleto: há informações faltantes do item - B02.01", IF(AND(C82<>"",D82<>"",E82<>"",F82<>"",COUNTA(H82:K96)=0),"Preenchimento incompleto: não há nenhuma informação do requisitante individual informada - B04.01", IF(AND(C82<>"",D82<>"",E82<>"",F82<>"",H93="",I93="",J93="",K93=""),"", IF(AND(C82<>"",D82<>"",E82<>"",F82<>"",OR(H93="",I93="",J93="",K93="")),"Preenchimento incompleto: há informações por requisitante individual faltantes - B03.01", IF(OR(L82="",L83="",L84="",L85="",L86="",L87="",L88="",L89="",L90="",L91="",L92=""),"Preenchimento incompleto: há linhas vazias antes da atual - B05.01", "Preenchimento correto"))))))))
B94: 88 | G94: 13 | L94: =IF($J$3="","Preenchimento incompleto: deve ser informado o Responsável pela análise - B05.01", IF(AND(C82="",D82="",E82="",F82="",H94="",I94="",J94="",K94=""),"", IF(AND(C82="",D82="",E82="",F82="",OR(H94<>"",I94<>"",J94<>"",K94<>"")),"Preenchimento incompleto: há informações por requisitante individual sem informações do item - B01.01", IF(OR(C82="",D82="",E82="",F82=""),"Preenchimento incompleto: há informações faltantes do item - B02.01", IF(AND(C82<>"",D82<>"",E82<>"",F82<>"",COUNTA(H82:K96)=0),"Preenchimento incompleto: não há nenhuma informação do requisitante individual informada - B04.01", IF(AND(C82<>"",D82<>"",E82<>"",F82<>"",H94="",I94="",J94="",K94=""),"", IF(AND(C82<>"",D82<>"",E82<>"",F82<>"",OR(H94="",I94="",J94="",K94="")),"Preenchimento incompleto: há informações por requisitante individual faltantes - B03.01", IF(OR(L82="",L83="",L84="",L85="",L86="",L87="",L88="",L89="",L90="",L91="",L92="",L93=""),"Preenchimento incompleto: há linhas vazias antes da atual - B05.01", "Preenchimento correto"))))))))
B95: 89 | G95: 14 | L95: =IF($J$3="","Preenchimento incompleto: deve ser informado o Responsável pela análise - B05.01", IF(AND(C82="",D82="",E82="",F82="",H95="",I95="",J95="",K95=""),"", IF(AND(C82="",D82="",E82="",F82="",OR(H95<>"",I95<>"",J95<>"",K95<>"")),"Preenchimento incompleto: há informações por requisitante individual sem informações do item - B01.01", IF(OR(C82="",D82="",E82="",F82=""),"Preenchimento incompleto: há informações faltantes do item - B02.01", IF(AND(C82<>"",D82<>"",E82<>"",F82<>"",COUNTA(H82:K96)=0),"Preenchimento incompleto: não há nenhuma informação do requisitante individual informada - B04.01", IF(AND(C82<>"",D82<>"",E82<>"",F82<>"",H95="",I95="",J95="",K95=""),"", IF(AND(C82<>"",D82<>"",E82<>"",F82<>"",OR(H95="",I95="",J95="",K95="")),"Preenchimento incompleto: há informações por requisitante individual faltantes - B03.01", IF(OR(L82="",L83="",L84="",L85="",L86="",L87="",L88="",L89="",L90="",L91="",L92="",L93="",L94=""),"Preenchimento incompleto: há linhas vazias antes da atual - B05.01", "Preenchimento correto"))))))))
B96: 90 | G96: 15 | L96: =IF($J$3="","Preenchimento incompleto: deve ser informado o Responsável pela análise - B05.01", IF(AND(C82="",D82="",E82="",F82="",H96="",I96="",J96="",K96=""),"", IF(AND(C82="",D82="",E82="",F82="",OR(H96<>"",I96<>"",J96<>"",K96<>"")),"Preenchimento incompleto: há informações por requisitante individual sem informações do item - B01.01", IF(OR(C82="",D82="",E82="",F82=""),"Preenchimento incompleto: há informações faltantes do item - B02.01", IF(AND(C82<>"",D82<>"",E82<>"",F82<>"",COUNTA(H82:K96)=0),"Preenchimento incompleto: não há nenhuma informação do requisitante individual informada - B04.01", IF(AND(C82<>"",D82<>"",E82<>"",F82<>"",H96="",I96="",J96="",K96=""),"", IF(AND(C82<>"",D82<>"",E82<>"",F82<>"",OR(H96="",I96="",J96="",K96="")),"Preenchimento incompleto: há informações por requisitante individual faltantes - B03.01", IF(OR(L82="",L83="",L84="",L85="",L86="",L87="",L88="",L89="",L90="",L91="",L92="",L93="",L94="",L95=""),"Preenchimento incompleto: há linhas vazias antes da atual - B05.01", "Preenchimento correto"))))))))
B97: 91 | C97: =IF('1-ITENS'!C13="","",'1-ITENS'!C13) | D97: =IF('1-ITENS'!D13="","",'1-ITENS'!D13) | E97: =IF('1-ITENS'!H13="","",'1-ITENS'!H13) | F97: =IF('1-ITENS'!F13="","",'1-ITENS'!F13) | G97: 1 | L97: =IF($J$3="","Preenchimento incompleto: deve ser informado o Responsável pela análise - B05.01", IF(AND(C97="",D97="",E97="",F97="",H97="",I97="",J97="",K97=""),"", IF(AND(C97="",D97="",E97="",F97="",OR(H97<>"",I97<>"",J97<>"",K97<>"")),"Preenchimento incompleto: há informações por requisitante individual sem informações do item - B01.01", IF(OR(C97="",D97="",E97="",F97=""),"Preenchimento incompleto: há informações faltantes do item - B02.01", IF(AND(C97<>"",D97<>"",E97<>"",F97<>"",COUNTA(H97:K111)=0),"Preenchimento incompleto: não há nenhuma informação do requisitante individual informada - B04.01", IF(AND(C97<>"",D97<>"",E97<>"",F97<>"",H97="",I97="",J97="",K97=""),"", IF(AND(C97<>"",D97<>"",E97<>"",F97<>"",OR(H97="",I97="",J97="",K97="")),"Preenchimento incompleto: há informações por requisitante individual faltantes - B03.01", "Preenchimento correto")))))))
B98: 92 | G98: 2 | L98: =IF($J$3="","Preenchimento incompleto: deve ser informado o Responsável pela análise - B05.01", IF(AND(C97="",D97="",E97="",F97="",H98="",I98="",J98="",K98=""),"", IF(AND(C97="",D97="",E97="",F97="",OR(H98<>"",I98<>"",J98<>"",K98<>"")),"Preenchimento incompleto: há informações por requisitante individual sem informações do item - B01.01", IF(OR(C97="",D97="",E97="",F97=""),"Preenchimento incompleto: há informações faltantes do item - B02.01", IF(AND(C97<>"",D97<>"",E97<>"",F97<>"",COUNTA(H97:K111)=0),"Preenchimento incompleto: não há nenhuma informação do requisitante individual informada - B04.01", IF(AND(C97<>"",D97<>"",E97<>"",F97<>"",H98="",I98="",J98="",K98=""),"", IF(AND(C97<>"",D97<>"",E97<>"",F97<>"",OR(H98="",I98="",J98="",K98="")),"Preenchimento incompleto: há informações por requisitante individual faltantes - B03.01", IF(L97="","Preenchimento incompleto: há linhas vazias antes da atual - B05.01", "Preenchimento correto"))))))))
B99: 93 | G99: 3 | L99: =IF($J$3="","Preenchimento incompleto: deve ser informado o Responsável pela análise - B05.01", IF(AND(C97="",D97="",E97="",F97="",H99="",I99="",J99="",K99=""),"", IF(AND(C97="",D97="",E97="",F97="",OR(H99<>"",I99<>"",J99<>"",K99<>"")),"Preenchimento incompleto: há informações por requisitante individual sem informações do item - B01.01", IF(OR(C97="",D97="",E97="",F97=""),"Preenchimento incompleto: há informações faltantes do item - B02.01", IF(AND(C97<>"",D97<>"",E97<>"",F97<>"",COUNTA(H97:K111)=0),"Preenchimento incompleto: não há nenhuma informação do requisitante individual informada - B04.01", IF(AND(C97<>"",D97<>"",E97<>"",F97<>"",H99="",I99="",J99="",K99=""),"", IF(AND(C97<>"",D97<>"",E97<>"",F97<>"",OR(H99="",I99="",J99="",K99="")),"Preenchimento incompleto: há informações por requisitante individual faltantes - B03.01", IF(OR(L97="",L98=""),"Preenchimento incompleto: há linhas vazias antes da atual - B05.01", "Preenchimento correto"))))))))
B100: 94 | G100: 4 | L100: =IF($J$3="","Preenchimento incompleto: deve ser informado o Responsável pela análise - B05.01", IF(AND(C97="",D97="",E97="",F97="",H100="",I100="",J100="",K100=""),"", IF(AND(C97="",D97="",E97="",F97="",OR(H100<>"",I100<>"",J100<>"",K100<>"")),"Preenchimento incompleto: há informações por requisitante individual sem informações do item - B01.01", IF(OR(C97="",D97="",E97="",F97=""),"Preenchimento incompleto: há informações faltantes do item - B02.01", IF(AND(C97<>"",D97<>"",E97<>"",F97<>"",COUNTA(H97:K111)=0),"Preenchimento incompleto: não há nenhuma informação do requisitante individual informada - B04.01", IF(AND(C97<>"",D97<>"",E97<>"",F97<>"",H100="",I100="",J100="",K100=""),"", IF(AND(C97<>"",D97<>"",E97<>"",F97<>"",OR(H100="",I100="",J100="",K100="")),"Preenchimento incompleto: há informações por requisitante individual faltantes - B03.01", IF(OR(L97="",L98="",L99=""),"Preenchimento incompleto: há linhas vazias antes da atual - B05.01", "Preenchimento correto"))))))))
B101: 95 | G101: 5 | L101: =IF($J$3="","Preenchimento incompleto: deve ser informado o Responsável pela análise - B05.01", IF(AND(C97="",D97="",E97="",F97="",H101="",I101="",J101="",K101=""),"", IF(AND(C97="",D97="",E97="",F97="",OR(H101<>"",I101<>"",J101<>"",K101<>"")),"Preenchimento incompleto: há informações por requisitante individual sem informações do item - B01.01", IF(OR(C97="",D97="",E97="",F97=""),"Preenchimento incompleto: há informações faltantes do item - B02.01", IF(AND(C97<>"",D97<>"",E97<>"",F97<>"",COUNTA(H97:K111)=0),"Preenchimento incompleto: não há nenhuma informação do requisitante individual informada - B04.01", IF(AND(C97<>"",D97<>"",E97<>"",F97<>"",H101="",I101="",J101="",K101=""),"", IF(AND(C97<>"",D97<>"",E97<>"",F97<>"",OR(H101="",I101="",J101="",K101="")),"Preenchimento incompleto: há informações por requisitante individual faltantes - B03.01", IF(OR(L97="",L98="",L99="",L100=""),"Preenchimento incompleto: há linhas vazias antes da atual - B05.01", "Preenchimento correto"))))))))
...
