Workbook

Sheet REL GER - RELAT. COMPRASGOV
A1: MAPA DE PREÇOS DO DiLAB/LFDA-MG - PLANILHA MAPRE - PREÇOS DE REFERÊNCIA POR MENOR VALOR OU TENDÊNCIA CENTRAL
A2: Relatório geral para inclusão em processos de aquisição
A4: Data atual | F4: =TODAY() -> 46098
J5: Nota: somente são explicitados dados que possuem preenchimento correto na aba BD ITEM e consequentemente, na aba BD PREÇO e não foram nelas excluídos com identificação de *** nos IDs.
A7: Síntese da lista | K7: Células de fórmula intrínseca | N7: Células base de filtro
A9: N° de itens válidos finais da lista | E9: =IF(A16="","",COUNTA(A16:A335)) -> 2 | K9: Células consequência de filtro
A11: Valor total da lista | E11: =IF(A16="","", SUM(M16:M335)) -> 8184
A14: RELATÓRIO DE PRECIFICAÇÃO | D14: LISTA: | E14: =IF('BD PREÇO'!C5="","",'BD PREÇO'!C5) -> 21181.000240/2026-41
A15: N° item ComprasGov (ID SEC) | B15: ID PRI | C15: Descrição do(s) item(ns) | D15: Requisitantes | E15: CATMAT | F15: Unidade | G15: Quantidade Total | H15: Requisição mínima | I15: Requisição máxima | J15: N° de propostas na precificação | K15: Coeficiente de variação (%) | L15: Valor unitário estimado (R$) | M15: Valor total estimado (R$) | N15: Prazo de validade mínimo contado a partir do recebimento definitivo do item | O15: Necessita amostra no certame? (Se não, inserir ***; se sim, inserir Sim, + justificativa) | P15: Auditoria de preenchimento aba BD ITEM | Q15: Auditoria de preenchimento aba BD PREÇO
A16: {=IF(COUNTIF('BD ITEM'!Q12:Q261,"Preenchimento correto")=0,"", _xlfn._xlws.SORT(_xlfn._xlws.FILTER('BD PREÇO'!A10:A1609,('BD PREÇO'!A10:A1609<>"***")*('BD PREÇO'!T10:T1609="Preenchimento correto"),""),1,1,FALSE))} -> 01 | B16: {=IF(A16="","", _xlfn._xlws.FILTER('BD PREÇO'!$B$10:$B$1609,'BD PREÇO'!$A$10:$A$1609=A16,""))} -> 1 | C16: {=IF(A16="","", _xlfn._xlws.FILTER('BD PREÇO'!$C$10:$C$1609,'BD PREÇO'!$A$10:$A$1609=A16,""))} -> BOMBA DE OR LINHA INT/ADV - NCM 84138100 | D16: {=IF(A16="","", _xlfn._xlws.FILTER('BD ITEM'!$I$12:$I$331,'BD ITEM'!$B$12:$B$331=B16,""))} -> RCA-1 | E16: {=IF(A16="","", _xlfn._xlws.FILTER('BD PREÇO'!$E$10:$E$1609,'BD PREÇO'!$A$10:$A$1609=A16,""))} -> 415030 | F16: {=IF(A16="","", _xlfn._xlws.FILTER('BD PREÇO'!$F$10:$F$1609,'BD PREÇO'!$A$10:$A$1609=A16,""))} -> RCA | G16: {=IF(A16="","", _xlfn._xlws.FILTER('BD PREÇO'!$G$10:$G$1609,'BD PREÇO'!$A$10:$A$1609=A16,""))} -> 1 | H16: {=IF(A16="","", _xlfn._xlws.FILTER('BD ITEM'!$M$12:$M$331,'BD ITEM'!$B$12:$B$331=B16,""))} -> 1 | I16: {=IF(A16="","", _xlfn._xlws.FILTER('BD ITEM'!$N$12:$N$331,'BD ITEM'!$B$12:$B$331=B16,""))} -> 1 | J16: {=IF(A16="","", _xlfn._xlws.FILTER('BD PREÇO'!$P$10:$P$1609,'BD PREÇO'!$A$10:$A$1609=A16,""))} -> 3 | K16: {=IF(A16="","", _xlfn._xlws.FILTER('BD PREÇO'!$Q$10:$Q$1609,'BD PREÇO'!$A$10:$A$1609=A16,""))} -> 0.6761 | L16: {=IF(A16="","", _xlfn._xlws.FILTER('BD PREÇO'!$R$10:$R$1609,'BD PREÇO'!$A$10:$A$1609=A16,""))} -> 3369 | M16: {=IF(A16="","", _xlfn._xlws.FILTER('BD PREÇO'!$S$10:$S$1609,'BD PREÇO'!$A$10:$A$1609=A16,""))} -> 3369 | N16: {=IF(A16="","", _xlfn._xlws.FILTER('BD ITEM'!$O$12:$O$331,'BD ITEM'!$B$12:$B$331=B16,""))} -> 60 dias | O16: {=IF(A16="","", _xlfn._xlws.FILTER('BD ITEM'!$P$12:$P$331,'BD ITEM'!$B$12:$B$331=B16,""))} -> Não | P16: {=IF(A16="","", _xlfn._xlws.FILTER('BD ITEM'!$Q$12:$Q$331,'BD ITEM'!$B$12:$B$331=B16,""))} -> Preenchimento correto | Q16: {=IF(A16="","", _xlfn._xlws.FILTER('BD PREÇO'!$T$10:$T$1609,'BD PREÇO'!$A$10:$A$1609=A16,""))} -> Preenchimento correto
A17: 02 | B17: {=IF(A17="","", _xlfn._xlws.FILTER('BD PREÇO'!$B$10:$B$1609,'BD PREÇO'!$A$10:$A$1609=A17,""))} -> 2 | C17: {=IF(A17="","", _xlfn._xlws.FILTER('BD PREÇO'!$C$10:$C$1609,'BD PREÇO'!$A$10:$A$1609=A17,""))} -> PLACA FONTE SISTEMA INTEGRAL - NCM 85423190 | D17: {=IF(A17="","", _xlfn._xlws.FILTER('BD ITEM'!$I$12:$I$331,'BD ITEM'!$B$12:$B$331=B17,""))} -> RCA-1 | E17: {=IF(A17="","", _xlfn._xlws.FILTER('BD PREÇO'!$E$10:$E$1609,'BD PREÇO'!$A$10:$A$1609=A17,""))} -> 426971 | F17: {=IF(A17="","", _xlfn._xlws.FILTER('BD PREÇO'!$F$10:$F$1609,'BD PREÇO'!$A$10:$A$1609=A17,""))} -> RCA | G17: {=IF(A17="","", _xlfn._xlws.FILTER('BD PREÇO'!$G$10:$G$1609,'BD PREÇO'!$A$10:$A$1609=A17,""))} -> 1 | H17: {=IF(A17="","", _xlfn._xlws.FILTER('BD ITEM'!$M$12:$M$331,'BD ITEM'!$B$12:$B$331=B17,""))} -> 1 | I17: {=IF(A17="","", _xlfn._xlws.FILTER('BD ITEM'!$N$12:$N$331,'BD ITEM'!$B$12:$B$331=B17,""))} -> 1 | J17: {=IF(A17="","", _xlfn._xlws.FILTER('BD PREÇO'!$P$10:$P$1609,'BD PREÇO'!$A$10:$A$1609=A17,""))} -> 3 | K17: {=IF(A17="","", _xlfn._xlws.FILTER('BD PREÇO'!$Q$10:$Q$1609,'BD PREÇO'!$A$10:$A$1609=A17,""))} -> 0.2125 | L17: {=IF(A17="","", _xlfn._xlws.FILTER('BD PREÇO'!$R$10:$R$1609,'BD PREÇO'!$A$10:$A$1609=A17,""))} -> 4815 | M17: {=IF(A17="","", _xlfn._xlws.FILTER('BD PREÇO'!$S$10:$S$1609,'BD PREÇO'!$A$10:$A$1609=A17,""))} -> 4815 | N17: {=IF(A17="","", _xlfn._xlws.FILTER('BD ITEM'!$O$12:$O$331,'BD ITEM'!$B$12:$B$331=B17,""))} -> 60 dias | O17: {=IF(A17="","", _xlfn._xlws.FILTER('BD ITEM'!$P$12:$P$331,'BD ITEM'!$B$12:$B$331=B17,""))} -> Não | P17: {=IF(A17="","", _xlfn._xlws.FILTER('BD ITEM'!$Q$12:$Q$331,'BD ITEM'!$B$12:$B$331=B17,""))} -> Preenchimento correto | Q17: {=IF(A17="","", _xlfn._xlws.FILTER('BD PREÇO'!$T$10:$T$1609,'BD PREÇO'!$A$10:$A$1609=A17,""))} -> Preenchimento correto
B18: {=IF(A18="","", _xlfn._xlws.FILTER('BD PREÇO'!$B$10:$B$1609,'BD PREÇO'!$A$10:$A$1609=A18,""))} | C18: {=IF(A18="","", _xlfn._xlws.FILTER('BD PREÇO'!$C$10:$C$1609,'BD PREÇO'!$A$10:$A$1609=A18,""))} | D18: {=IF(A18="","", _xlfn._xlws.FILTER('BD ITEM'!$I$12:$I$331,'BD ITEM'!$B$12:$B$331=B18,""))} | E18: {=IF(A18="","", _xlfn._xlws.FILTER('BD PREÇO'!$E$10:$E$1609,'BD PREÇO'!$A$10:$A$1609=A18,""))} | F18: {=IF(A18="","", _xlfn._xlws.FILTER('BD PREÇO'!$F$10:$F$1609,'BD PREÇO'!$A$10:$A$1609=A18,""))} | G18: {=IF(A18="","", _xlfn._xlws.FILTER('BD PREÇO'!$G$10:$G$1609,'BD PREÇO'!$A$10:$A$1609=A18,""))} | H18: {=IF(A18="","", _xlfn._xlws.FILTER('BD ITEM'!$M$12:$M$331,'BD ITEM'!$B$12:$B$331=B18,""))} | I18: {=IF(A18="","", _xlfn._xlws.FILTER('BD ITEM'!$N$12:$N$331,'BD ITEM'!$B$12:$B$331=B18,""))} | J18: {=IF(A18="","", _xlfn._xlws.FILTER('BD PREÇO'!$P$10:$P$1609,'BD PREÇO'!$A$10:$A$1609=A18,""))} | K18: {=IF(A18="","", _xlfn._xlws.FILTER('BD PREÇO'!$Q$10:$Q$1609,'BD PREÇO'!$A$10:$A$1609=A18,""))} | L18: {=IF(A18="","", _xlfn._xlws.FILTER('BD PREÇO'!$R$10:$R$1609,'BD PREÇO'!$A$10:$A$1609=A18,""))} | M18: {=IF(A18="","", _xlfn._xlws.FILTER('BD PREÇO'!$S$10:$S$1609,'BD PREÇO'!$A$10:$A$1609=A18,""))} | N18: {=IF(A18="","", _xlfn._xlws.FILTER('BD ITEM'!$O$12:$O$331,'BD ITEM'!$B$12:$B$331=B18,""))} | O18: {=IF(A18="","", _xlfn._xlws.FILTER('BD ITEM'!$P$12:$P$331,'BD ITEM'!$B$12:$B$331=B18,""))} | P18: {=IF(A18="","", _xlfn._xlws.FILTER('BD ITEM'!$Q$12:$Q$331,'BD ITEM'!$B$12:$B$331=B18,""))} | Q18: {=IF(A18="","", _xlfn._xlws.FILTER('BD PREÇO'!$T$10:$T$1609,'BD PREÇO'!$A$10:$A$1609=A18,""))}
B19: {=IF(A19="","", _xlfn._xlws.FILTER('BD PREÇO'!$B$10:$B$1609,'BD PREÇO'!$A$10:$A$1609=A19,""))} | C19: {=IF(A19="","", _xlfn._xlws.FILTER('BD PREÇO'!$C$10:$C$1609,'BD PREÇO'!$A$10:$A$1609=A19,""))} | D19: {=IF(A19="","", _xlfn._xlws.FILTER('BD ITEM'!$I$12:$I$331,'BD ITEM'!$B$12:$B$331=B19,""))} | E19: {=IF(A19="","", _xlfn._xlws.FILTER('BD PREÇO'!$E$10:$E$1609,'BD PREÇO'!$A$10:$A$1609=A19,""))} | F19: {=IF(A19="","", _xlfn._xlws.FILTER('BD PREÇO'!$F$10:$F$1609,'BD PREÇO'!$A$10:$A$1609=A19,""))} | G19: {=IF(A19="","", _xlfn._xlws.FILTER('BD PREÇO'!$G$10:$G$1609,'BD PREÇO'!$A$10:$A$1609=A19,""))} | H19: {=IF(A19="","", _xlfn._xlws.FILTER('BD ITEM'!$M$12:$M$331,'BD ITEM'!$B$12:$B$331=B19,""))} | I19: {=IF(A19="","", _xlfn._xlws.FILTER('BD ITEM'!$N$12:$N$331,'BD ITEM'!$B$12:$B$331=B19,""))} | J19: {=IF(A19="","", _xlfn._xlws.FILTER('BD PREÇO'!$P$10:$P$1609,'BD PREÇO'!$A$10:$A$1609=A19,""))} | K19: {=IF(A19="","", _xlfn._xlws.FILTER('BD PREÇO'!$Q$10:$Q$1609,'BD PREÇO'!$A$10:$A$1609=A19,""))} | L19: {=IF(A19="","", _xlfn._xlws.FILTER('BD PREÇO'!$R$10:$R$1609,'BD PREÇO'!$A$10:$A$1609=A19,""))} | M19: {=IF(A19="","", _xlfn._xlws.FILTER('BD PREÇO'!$S$10:$S$1609,'BD PREÇO'!$A$10:$A$1609=A19,""))} | N19: {=IF(A19="","", _xlfn._xlws.FILTER('BD ITEM'!$O$12:$O$331,'BD ITEM'!$B$12:$B$331=B19,""))} | O19: {=IF(A19="","", _xlfn._xlws.FILTER('BD ITEM'!$P$12:$P$331,'BD ITEM'!$B$12:$B$331=B19,""))} | P19: {=IF(A19="","", _xlfn._xlws.FILTER('BD ITEM'!$Q$12:$Q$331,'BD ITEM'!$B$12:$B$331=B19,""))} | Q19: {=IF(A19="","", _xlfn._xlws.FILTER('BD PREÇO'!$T$10:$T$1609,'BD PREÇO'!$A$10:$A$1609=A19,""))}
B20: {=IF(A20="","", _xlfn._xlws.FILTER('BD PREÇO'!$B$10:$B$1609,'BD PREÇO'!$A$10:$A$1609=A20,""))} | C20: {=IF(A20="","", _xlfn._xlws.FILTER('BD PREÇO'!$C$10:$C$1609,'BD PREÇO'!$A$10:$A$1609=A20,""))} | D20: {=IF(A20="","", _xlfn._xlws.FILTER('BD ITEM'!$I$12:$I$331,'BD ITEM'!$B$12:$B$331=B20,""))} | E20: {=IF(A20="","", _xlfn._xlws.FILTER('BD PREÇO'!$E$10:$E$1609,'BD PREÇO'!$A$10:$A$1609=A20,""))} | F20: {=IF(A20="","", _xlfn._xlws.FILTER('BD PREÇO'!$F$10:$F$1609,'BD PREÇO'!$A$10:$A$1609=A20,""))} | G20: {=IF(A20="","", _xlfn._xlws.FILTER('BD PREÇO'!$G$10:$G$1609,'BD PREÇO'!$A$10:$A$1609=A20,""))} | H20: {=IF(A20="","", _xlfn._xlws.FILTER('BD ITEM'!$M$12:$M$331,'BD ITEM'!$B$12:$B$331=B20,""))} | I20: {=IF(A20="","", _xlfn._xlws.FILTER('BD ITEM'!$N$12:$N$331,'BD ITEM'!$B$12:$B$331=B20,""))} | J20: {=IF(A20="","", _xlfn._xlws.FILTER('BD PREÇO'!$P$10:$P$1609,'BD PREÇO'!$A$10:$A$1609=A20,""))} | K20: {=IF(A20="","", _xlfn._xlws.FILTER('BD PREÇO'!$Q$10:$Q$1609,'BD PREÇO'!$A$10:$A$1609=A20,""))} | L20: {=IF(A20="","", _xlfn._xlws.FILTER('BD PREÇO'!$R$10:$R$1609,'BD PREÇO'!$A$10:$A$1609=A20,""))} | M20: {=IF(A20="","", _xlfn._xlws.FILTER('BD PREÇO'!$S$10:$S$1609,'BD PREÇO'!$A$10:$A$1609=A20,""))} | N20: {=IF(A20="","", _xlfn._xlws.FILTER('BD ITEM'!$O$12:$O$331,'BD ITEM'!$B$12:$B$331=B20,""))} | O20: {=IF(A20="","", _xlfn._xlws.FILTER('BD ITEM'!$P$12:$P$331,'BD ITEM'!$B$12:$B$331=B20,""))} | P20: {=IF(A20="","", _xlfn._xlws.FILTER('BD ITEM'!$Q$12:$Q$331,'BD ITEM'!$B$12:$B$331=B20,""))} | Q20: {=IF(A20="","", _xlfn._xlws.FILTER('BD PREÇO'!$T$10:$T$1609,'BD PREÇO'!$A$10:$A$1609=A20,""))}
B21: {=IF(A21="","", _xlfn._xlws.FILTER('BD PREÇO'!$B$10:$B$1609,'BD PREÇO'!$A$10:$A$1609=A21,""))} | C21: {=IF(A21="","", _xlfn._xlws.FILTER('BD PREÇO'!$C$10:$C$1609,'BD PREÇO'!$A$10:$A$1609=A21,""))} | D21: {=IF(A21="","", _xlfn._xlws.FILTER('BD ITEM'!$I$12:$I$331,'BD ITEM'!$B$12:$B$331=B21,""))} | E21: {=IF(A21="","", _xlfn._xlws.FILTER('BD PREÇO'!$E$10:$E$1609,'BD PREÇO'!$A$10:$A$1609=A21,""))} | F21: {=IF(A21="","", _xlfn._xlws.FILTER('BD PREÇO'!$F$10:$F$1609,'BD PREÇO'!$A$10:$A$1609=A21,""))} | G21: {=IF(A21="","", _xlfn._xlws.FILTER('BD PREÇO'!$G$10:$G$1609,'BD PREÇO'!$A$10:$A$1609=A21,""))} | H21: {=IF(A21="","", _xlfn._xlws.FILTER('BD ITEM'!$M$12:$M$331,'BD ITEM'!$B$12:$B$331=B21,""))} | I21: {=IF(A21="","", _xlfn._xlws.FILTER('BD ITEM'!$N$12:$N$331,'BD ITEM'!$B$12:$B$331=B21,""))} | J21: {=IF(A21="","", _xlfn._xlws.FILTER('BD PREÇO'!$P$10:$P$1609,'BD PREÇO'!$A$10:$A$1609=A21,""))} | K21: {=IF(A21="","", _xlfn._xlws.FILTER('BD PREÇO'!$Q$10:$Q$1609,'BD PREÇO'!$A$10:$A$1609=A21,""))} | L21: {=IF(A21="","", _xlfn._xlws.FILTER('BD PREÇO'!$R$10:$R$1609,'BD PREÇO'!$A$10:$A$1609=A21,""))} | M21: {=IF(A21="","", _xlfn._xlws.FILTER('BD PREÇO'!$S$10:$S$1609,'BD PREÇO'!$A$10:$A$1609=A21,""))} | N21: {=IF(A21="","", _xlfn._xlws.FILTER('BD ITEM'!$O$12:$O$331,'BD ITEM'!$B$12:$B$331=B21,""))} | O21: {=IF(A21="","", _xlfn._xlws.FILTER('BD ITEM'!$P$12:$P$331,'BD ITEM'!$B$12:$B$331=B21,""))} | P21: {=IF(A21="","", _xlfn._xlws.FILTER('BD ITEM'!$Q$12:$Q$331,'BD ITEM'!$B$12:$B$331=B21,""))} | Q21: {=IF(A21="","", _xlfn._xlws.FILTER('BD PREÇO'!$T$10:$T$1609,'BD PREÇO'!$A$10:$A$1609=A21,""))}
B22: {=IF(A22="","", _xlfn._xlws.FILTER('BD PREÇO'!$B$10:$B$1609,'BD PREÇO'!$A$10:$A$1609=A22,""))} | C22: {=IF(A22="","", _xlfn._xlws.FILTER('BD PREÇO'!$C$10:$C$1609,'BD PREÇO'!$A$10:$A$1609=A22,""))} | D22: {=IF(A22="","", _xlfn._xlws.FILTER('BD ITEM'!$I$12:$I$331,'BD ITEM'!$B$12:$B$331=B22,""))} | E22: {=IF(A22="","", _xlfn._xlws.FILTER('BD PREÇO'!$E$10:$E$1609,'BD PREÇO'!$A$10:$A$1609=A22,""))} | F22: {=IF(A22="","", _xlfn._xlws.FILTER('BD PREÇO'!$F$10:$F$1609,'BD PREÇO'!$A$10:$A$1609=A22,""))} | G22: {=IF(A22="","", _xlfn._xlws.FILTER('BD PREÇO'!$G$10:$G$1609,'BD PREÇO'!$A$10:$A$1609=A22,""))} | H22: {=IF(A22="","", _xlfn._xlws.FILTER('BD ITEM'!$M$12:$M$331,'BD ITEM'!$B$12:$B$331=B22,""))} | I22: {=IF(A22="","", _xlfn._xlws.FILTER('BD ITEM'!$N$12:$N$331,'BD ITEM'!$B$12:$B$331=B22,""))} | J22: {=IF(A22="","", _xlfn._xlws.FILTER('BD PREÇO'!$P$10:$P$1609,'BD PREÇO'!$A$10:$A$1609=A22,""))} | K22: {=IF(A22="","", _xlfn._xlws.FILTER('BD PREÇO'!$Q$10:$Q$1609,'BD PREÇO'!$A$10:$A$1609=A22,""))} | L22: {=IF(A22="","", _xlfn._xlws.FILTER('BD PREÇO'!$R$10:$R$1609,'BD PREÇO'!$A$10:$A$1609=A22,""))} | M22: {=IF(A22="","", _xlfn._xlws.FILTER('BD PREÇO'!$S$10:$S$1609,'BD PREÇO'!$A$10:$A$1609=A22,""))} | N22: {=IF(A22="","", _xlfn._xlws.FILTER('BD ITEM'!$O$12:$O$331,'BD ITEM'!$B$12:$B$331=B22,""))} | O22: {=IF(A22="","", _xlfn._xlws.FILTER('BD ITEM'!$P$12:$P$331,'BD ITEM'!$B$12:$B$331=B22,""))} | P22: {=IF(A22="","", _xlfn._xlws.FILTER('BD ITEM'!$Q$12:$Q$331,'BD ITEM'!$B$12:$B$331=B22,""))} | Q22: {=IF(A22="","", _xlfn._xlws.FILTER('BD PREÇO'!$T$10:$T$1609,'BD PREÇO'!$A$10:$A$1609=A22,""))}
B23: {=IF(A23="","", _xlfn._xlws.FILTER('BD PREÇO'!$B$10:$B$1609,'BD PREÇO'!$A$10:$A$1609=A23,""))} | C23: {=IF(A23="","", _xlfn._xlws.FILTER('BD PREÇO'!$C$10:$C$1609,'BD PREÇO'!$A$10:$A$1609=A23,""))} | D23: {=IF(A23="","", _xlfn._xlws.FILTER('BD ITEM'!$I$12:$I$331,'BD ITEM'!$B$12:$B$331=B23,""))} | E23: {=IF(A23="","", _xlfn._xlws.FILTER('BD PREÇO'!$E$10:$E$1609,'BD PREÇO'!$A$10:$A$1609=A23,""))} | F23: {=IF(A23="","", _xlfn._xlws.FILTER('BD PREÇO'!$F$10:$F$1609,'BD PREÇO'!$A$10:$A$1609=A23,""))} | G23: {=IF(A23="","", _xlfn._xlws.FILTER('BD PREÇO'!$G$10:$G$1609,'BD PREÇO'!$A$10:$A$1609=A23,""))} | H23: {=IF(A23="","", _xlfn._xlws.FILTER('BD ITEM'!$M$12:$M$331,'BD ITEM'!$B$12:$B$331=B23,""))} | I23: {=IF(A23="","", _xlfn._xlws.FILTER('BD ITEM'!$N$12:$N$331,'BD ITEM'!$B$12:$B$331=B23,""))} | J23: {=IF(A23="","", _xlfn._xlws.FILTER('BD PREÇO'!$P$10:$P$1609,'BD PREÇO'!$A$10:$A$1609=A23,""))} | K23: {=IF(A23="","", _xlfn._xlws.FILTER('BD PREÇO'!$Q$10:$Q$1609,'BD PREÇO'!$A$10:$A$1609=A23,""))} | L23: {=IF(A23="","", _xlfn._xlws.FILTER('BD PREÇO'!$R$10:$R$1609,'BD PREÇO'!$A$10:$A$1609=A23,""))} | M23: {=IF(A23="","", _xlfn._xlws.FILTER('BD PREÇO'!$S$10:$S$1609,'BD PREÇO'!$A$10:$A$1609=A23,""))} | N23: {=IF(A23="","", _xlfn._xlws.FILTER('BD ITEM'!$O$12:$O$331,'BD ITEM'!$B$12:$B$331=B23,""))} | O23: {=IF(A23="","", _xlfn._xlws.FILTER('BD ITEM'!$P$12:$P$331,'BD ITEM'!$B$12:$B$331=B23,""))} | P23: {=IF(A23="","", _xlfn._xlws.FILTER('BD ITEM'!$Q$12:$Q$331,'BD ITEM'!$B$12:$B$331=B23,""))} | Q23: {=IF(A23="","", _xlfn._xlws.FILTER('BD PREÇO'!$T$10:$T$1609,'BD PREÇO'!$A$10:$A$1609=A23,""))}
B24: {=IF(A24="","", _xlfn._xlws.FILTER('BD PREÇO'!$B$10:$B$1609,'BD PREÇO'!$A$10:$A$1609=A24,""))} | C24: {=IF(A24="","", _xlfn._xlws.FILTER('BD PREÇO'!$C$10:$C$1609,'BD PREÇO'!$A$10:$A$1609=A24,""))} | D24: {=IF(A24="","", _xlfn._xlws.FILTER('BD ITEM'!$I$12:$I$331,'BD ITEM'!$B$12:$B$331=B24,""))} | E24: {=IF(A24="","", _xlfn._xlws.FILTER('BD PREÇO'!$E$10:$E$1609,'BD PREÇO'!$A$10:$A$1609=A24,""))} | F24: {=IF(A24="","", _xlfn._xlws.FILTER('BD PREÇO'!$F$10:$F$1609,'BD PREÇO'!$A$10:$A$1609=A24,""))} | G24: {=IF(A24="","", _xlfn._xlws.FILTER('BD PREÇO'!$G$10:$G$1609,'BD PREÇO'!$A$10:$A$1609=A24,""))} | H24: {=IF(A24="","", _xlfn._xlws.FILTER('BD ITEM'!$M$12:$M$331,'BD ITEM'!$B$12:$B$331=B24,""))} | I24: {=IF(A24="","", _xlfn._xlws.FILTER('BD ITEM'!$N$12:$N$331,'BD ITEM'!$B$12:$B$331=B24,""))} | J24: {=IF(A24="","", _xlfn._xlws.FILTER('BD PREÇO'!$P$10:$P$1609,'BD PREÇO'!$A$10:$A$1609=A24,""))} | K24: {=IF(A24="","", _xlfn._xlws.FILTER('BD PREÇO'!$Q$10:$Q$1609,'BD PREÇO'!$A$10:$A$1609=A24,""))} | L24: {=IF(A24="","", _xlfn._xlws.FILTER('BD PREÇO'!$R$10:$R$1609,'BD PREÇO'!$A$10:$A$1609=A24,""))} | M24: {=IF(A24="","", _xlfn._xlws.FILTER('BD PREÇO'!$S$10:$S$1609,'BD PREÇO'!$A$10:$A$1609=A24,""))} | N24: {=IF(A24="","", _xlfn._xlws.FILTER('BD ITEM'!$O$12:$O$331,'BD ITEM'!$B$12:$B$331=B24,""))} | O24: {=IF(A24="","", _xlfn._xlws.FILTER('BD ITEM'!$P$12:$P$331,'BD ITEM'!$B$12:$B$331=B24,""))} | P24: {=IF(A24="","", _xlfn._xlws.FILTER('BD ITEM'!$Q$12:$Q$331,'BD ITEM'!$B$12:$B$331=B24,""))} | Q24: {=IF(A24="","", _xlfn._xlws.FILTER('BD PREÇO'!$T$10:$T$1609,'BD PREÇO'!$A$10:$A$1609=A24,""))}
B25: {=IF(A25="","", _xlfn._xlws.FILTER('BD PREÇO'!$B$10:$B$1609,'BD PREÇO'!$A$10:$A$1609=A25,""))} | C25: {=IF(A25="","", _xlfn._xlws.FILTER('BD PREÇO'!$C$10:$C$1609,'BD PREÇO'!$A$10:$A$1609=A25,""))} | D25: {=IF(A25="","", _xlfn._xlws.FILTER('BD ITEM'!$I$12:$I$331,'BD ITEM'!$B$12:$B$331=B25,""))} | E25: {=IF(A25="","", _xlfn._xlws.FILTER('BD PREÇO'!$E$10:$E$1609,'BD PREÇO'!$A$10:$A$1609=A25,""))} | F25: {=IF(A25="","", _xlfn._xlws.FILTER('BD PREÇO'!$F$10:$F$1609,'BD PREÇO'!$A$10:$A$1609=A25,""))} | G25: {=IF(A25="","", _xlfn._xlws.FILTER('BD PREÇO'!$G$10:$G$1609,'BD PREÇO'!$A$10:$A$1609=A25,""))} | H25: {=IF(A25="","", _xlfn._xlws.FILTER('BD ITEM'!$M$12:$M$331,'BD ITEM'!$B$12:$B$331=B25,""))} | I25: {=IF(A25="","", _xlfn._xlws.FILTER('BD ITEM'!$N$12:$N$331,'BD ITEM'!$B$12:$B$331=B25,""))} | J25: {=IF(A25="","", _xlfn._xlws.FILTER('BD PREÇO'!$P$10:$P$1609,'BD PREÇO'!$A$10:$A$1609=A25,""))} | K25: {=IF(A25="","", _xlfn._xlws.FILTER('BD PREÇO'!$Q$10:$Q$1609,'BD PREÇO'!$A$10:$A$1609=A25,""))} | L25: {=IF(A25="","", _xlfn._xlws.FILTER('BD PREÇO'!$R$10:$R$1609,'BD PREÇO'!$A$10:$A$1609=A25,""))} | M25: {=IF(A25="","", _xlfn._xlws.FILTER('BD PREÇO'!$S$10:$S$1609,'BD PREÇO'!$A$10:$A$1609=A25,""))} | N25: {=IF(A25="","", _xlfn._xlws.FILTER('BD ITEM'!$O$12:$O$331,'BD ITEM'!$B$12:$B$331=B25,""))} | O25: {=IF(A25="","", _xlfn._xlws.FILTER('BD ITEM'!$P$12:$P$331,'BD ITEM'!$B$12:$B$331=B25,""))} | P25: {=IF(A25="","", _xlfn._xlws.FILTER('BD ITEM'!$Q$12:$Q$331,'BD ITEM'!$B$12:$B$331=B25,""))} | Q25: {=IF(A25="","", _xlfn._xlws.FILTER('BD PREÇO'!$T$10:$T$1609,'BD PREÇO'!$A$10:$A$1609=A25,""))}
B26: {=IF(A26="","", _xlfn._xlws.FILTER('BD PREÇO'!$B$10:$B$1609,'BD PREÇO'!$A$10:$A$1609=A26,""))} | C26: {=IF(A26="","", _xlfn._xlws.FILTER('BD PREÇO'!$C$10:$C$1609,'BD PREÇO'!$A$10:$A$1609=A26,""))} | D26: {=IF(A26="","", _xlfn._xlws.FILTER('BD ITEM'!$I$12:$I$331,'BD ITEM'!$B$12:$B$331=B26,""))} | E26: {=IF(A26="","", _xlfn._xlws.FILTER('BD PREÇO'!$E$10:$E$1609,'BD PREÇO'!$A$10:$A$1609=A26,""))} | F26: {=IF(A26="","", _xlfn._xlws.FILTER('BD PREÇO'!$F$10:$F$1609,'BD PREÇO'!$A$10:$A$1609=A26,""))} | G26: {=IF(A26="","", _xlfn._xlws.FILTER('BD PREÇO'!$G$10:$G$1609,'BD PREÇO'!$A$10:$A$1609=A26,""))} | H26: {=IF(A26="","", _xlfn._xlws.FILTER('BD ITEM'!$M$12:$M$331,'BD ITEM'!$B$12:$B$331=B26,""))} | I26: {=IF(A26="","", _xlfn._xlws.FILTER('BD ITEM'!$N$12:$N$331,'BD ITEM'!$B$12:$B$331=B26,""))} | J26: {=IF(A26="","", _xlfn._xlws.FILTER('BD PREÇO'!$P$10:$P$1609,'BD PREÇO'!$A$10:$A$1609=A26,""))} | K26: {=IF(A26="","", _xlfn._xlws.FILTER('BD PREÇO'!$Q$10:$Q$1609,'BD PREÇO'!$A$10:$A$1609=A26,""))} | L26: {=IF(A26="","", _xlfn._xlws.FILTER('BD PREÇO'!$R$10:$R$1609,'BD PREÇO'!$A$10:$A$1609=A26,""))} | M26: {=IF(A26="","", _xlfn._xlws.FILTER('BD PREÇO'!$S$10:$S$1609,'BD PREÇO'!$A$10:$A$1609=A26,""))} | N26: {=IF(A26="","", _xlfn._xlws.FILTER('BD ITEM'!$O$12:$O$331,'BD ITEM'!$B$12:$B$331=B26,""))} | O26: {=IF(A26="","", _xlfn._xlws.FILTER('BD ITEM'!$P$12:$P$331,'BD ITEM'!$B$12:$B$331=B26,""))} | P26: {=IF(A26="","", _xlfn._xlws.FILTER('BD ITEM'!$Q$12:$Q$331,'BD ITEM'!$B$12:$B$331=B26,""))} | Q26: {=IF(A26="","", _xlfn._xlws.FILTER('BD PREÇO'!$T$10:$T$1609,'BD PREÇO'!$A$10:$A$1609=A26,""))}
B27: {=IF(A27="","", _xlfn._xlws.FILTER('BD PREÇO'!$B$10:$B$1609,'BD PREÇO'!$A$10:$A$1609=A27,""))} | C27: {=IF(A27="","", _xlfn._xlws.FILTER('BD PREÇO'!$C$10:$C$1609,'BD PREÇO'!$A$10:$A$1609=A27,""))} | D27: {=IF(A27="","", _xlfn._xlws.FILTER('BD ITEM'!$I$12:$I$331,'BD ITEM'!$B$12:$B$331=B27,""))} | E27: {=IF(A27="","", _xlfn._xlws.FILTER('BD PREÇO'!$E$10:$E$1609,'BD PREÇO'!$A$10:$A$1609=A27,""))} | F27: {=IF(A27="","", _xlfn._xlws.FILTER('BD PREÇO'!$F$10:$F$1609,'BD PREÇO'!$A$10:$A$1609=A27,""))} | G27: {=IF(A27="","", _xlfn._xlws.FILTER('BD PREÇO'!$G$10:$G$1609,'BD PREÇO'!$A$10:$A$1609=A27,""))} | H27: {=IF(A27="","", _xlfn._xlws.FILTER('BD ITEM'!$M$12:$M$331,'BD ITEM'!$B$12:$B$331=B27,""))} | I27: {=IF(A27="","", _xlfn._xlws.FILTER('BD ITEM'!$N$12:$N$331,'BD ITEM'!$B$12:$B$331=B27,""))} | J27: {=IF(A27="","", _xlfn._xlws.FILTER('BD PREÇO'!$P$10:$P$1609,'BD PREÇO'!$A$10:$A$1609=A27,""))} | K27: {=IF(A27="","", _xlfn._xlws.FILTER('BD PREÇO'!$Q$10:$Q$1609,'BD PREÇO'!$A$10:$A$1609=A27,""))} | L27: {=IF(A27="","", _xlfn._xlws.FILTER('BD PREÇO'!$R$10:$R$1609,'BD PREÇO'!$A$10:$A$1609=A27,""))} | M27: {=IF(A27="","", _xlfn._xlws.FILTER('BD PREÇO'!$S$10:$S$1609,'BD PREÇO'!$A$10:$A$1609=A27,""))} | N27: {=IF(A27="","", _xlfn._xlws.FILTER('BD ITEM'!$O$12:$O$331,'BD ITEM'!$B$12:$B$331=B27,""))} | O27: {=IF(A27="","", _xlfn._xlws.FILTER('BD ITEM'!$P$12:$P$331,'BD ITEM'!$B$12:$B$331=B27,""))} | P27: {=IF(A27="","", _xlfn._xlws.FILTER('BD ITEM'!$Q$12:$Q$331,'BD ITEM'!$B$12:$B$331=B27,""))} | Q27: {=IF(A27="","", _xlfn._xlws.FILTER('BD PREÇO'!$T$10:$T$1609,'BD PREÇO'!$A$10:$A$1609=A27,""))}
B28: {=IF(A28="","", _xlfn._xlws.FILTER('BD PREÇO'!$B$10:$B$1609,'BD PREÇO'!$A$10:$A$1609=A28,""))} | C28: {=IF(A28="","", _xlfn._xlws.FILTER('BD PREÇO'!$C$10:$C$1609,'BD PREÇO'!$A$10:$A$1609=A28,""))} | D28: {=IF(A28="","", _xlfn._xlws.FILTER('BD ITEM'!$I$12:$I$331,'BD ITEM'!$B$12:$B$331=B28,""))} | E28: {=IF(A28="","", _xlfn._xlws.FILTER('BD PREÇO'!$E$10:$E$1609,'BD PREÇO'!$A$10:$A$1609=A28,""))} | F28: {=IF(A28="","", _xlfn._xlws.FILTER('BD PREÇO'!$F$10:$F$1609,'BD PREÇO'!$A$10:$A$1609=A28,""))} | G28: {=IF(A28="","", _xlfn._xlws.FILTER('BD PREÇO'!$G$10:$G$1609,'BD PREÇO'!$A$10:$A$1609=A28,""))} | H28: {=IF(A28="","", _xlfn._xlws.FILTER('BD ITEM'!$M$12:$M$331,'BD ITEM'!$B$12:$B$331=B28,""))} | I28: {=IF(A28="","", _xlfn._xlws.FILTER('BD ITEM'!$N$12:$N$331,'BD ITEM'!$B$12:$B$331=B28,""))} | J28: {=IF(A28="","", _xlfn._xlws.FILTER('BD PREÇO'!$P$10:$P$1609,'BD PREÇO'!$A$10:$A$1609=A28,""))} | K28: {=IF(A28="","", _xlfn._xlws.FILTER('BD PREÇO'!$Q$10:$Q$1609,'BD PREÇO'!$A$10:$A$1609=A28,""))} | L28: {=IF(A28="","", _xlfn._xlws.FILTER('BD PREÇO'!$R$10:$R$1609,'BD PREÇO'!$A$10:$A$1609=A28,""))} | M28: {=IF(A28="","", _xlfn._xlws.FILTER('BD PREÇO'!$S$10:$S$1609,'BD PREÇO'!$A$10:$A$1609=A28,""))} | N28: {=IF(A28="","", _xlfn._xlws.FILTER('BD ITEM'!$O$12:$O$331,'BD ITEM'!$B$12:$B$331=B28,""))} | O28: {=IF(A28="","", _xlfn._xlws.FILTER('BD ITEM'!$P$12:$P$331,'BD ITEM'!$B$12:$B$331=B28,""))} | P28: {=IF(A28="","", _xlfn._xlws.FILTER('BD ITEM'!$Q$12:$Q$331,'BD ITEM'!$B$12:$B$331=B28,""))} | Q28: {=IF(A28="","", _xlfn._xlws.FILTER('BD PREÇO'!$T$10:$T$1609,'BD PREÇO'!$A$10:$A$1609=A28,""))}
B29: {=IF(A29="","", _xlfn._xlws.FILTER('BD PREÇO'!$B$10:$B$1609,'BD PREÇO'!$A$10:$A$1609=A29,""))} | C29: {=IF(A29="","", _xlfn._xlws.FILTER('BD PREÇO'!$C$10:$C$1609,'BD PREÇO'!$A$10:$A$1609=A29,""))} | D29: {=IF(A29="","", _xlfn._xlws.FILTER('BD ITEM'!$I$12:$I$331,'BD ITEM'!$B$12:$B$331=B29,""))} | E29: {=IF(A29="","", _xlfn._xlws.FILTER('BD PREÇO'!$E$10:$E$1609,'BD PREÇO'!$A$10:$A$1609=A29,""))} | F29: {=IF(A29="","", _xlfn._xlws.FILTER('BD PREÇO'!$F$10:$F$1609,'BD PREÇO'!$A$10:$A$1609=A29,""))} | G29: {=IF(A29="","", _xlfn._xlws.FILTER('BD PREÇO'!$G$10:$G$1609,'BD PREÇO'!$A$10:$A$1609=A29,""))} | H29: {=IF(A29="","", _xlfn._xlws.FILTER('BD ITEM'!$M$12:$M$331,'BD ITEM'!$B$12:$B$331=B29,""))} | I29: {=IF(A29="","", _xlfn._xlws.FILTER('BD ITEM'!$N$12:$N$331,'BD ITEM'!$B$12:$B$331=B29,""))} | J29: {=IF(A29="","", _xlfn._xlws.FILTER('BD PREÇO'!$P$10:$P$1609,'BD PREÇO'!$A$10:$A$1609=A29,""))} | K29: {=IF(A29="","", _xlfn._xlws.FILTER('BD PREÇO'!$Q$10:$Q$1609,'BD PREÇO'!$A$10:$A$1609=A29,""))} | L29: {=IF(A29="","", _xlfn._xlws.FILTER('BD PREÇO'!$R$10:$R$1609,'BD PREÇO'!$A$10:$A$1609=A29,""))} | M29: {=IF(A29="","", _xlfn._xlws.FILTER('BD PREÇO'!$S$10:$S$1609,'BD PREÇO'!$A$10:$A$1609=A29,""))} | N29: {=IF(A29="","", _xlfn._xlws.FILTER('BD ITEM'!$O$12:$O$331,'BD ITEM'!$B$12:$B$331=B29,""))} | O29: {=IF(A29="","", _xlfn._xlws.FILTER('BD ITEM'!$P$12:$P$331,'BD ITEM'!$B$12:$B$331=B29,""))} | P29: {=IF(A29="","", _xlfn._xlws.FILTER('BD ITEM'!$Q$12:$Q$331,'BD ITEM'!$B$12:$B$331=B29,""))} | Q29: {=IF(A29="","", _xlfn._xlws.FILTER('BD PREÇO'!$T$10:$T$1609,'BD PREÇO'!$A$10:$A$1609=A29,""))}
... B335: {=IF(A335="","", _xlfn._xlws.FILTER('BD PREÇO'!$B$10:$B$1609,'BD PREÇO'!$A$10:$A$1609=A335,""))} | C335: {=IF(A335="","", _xlfn._xlws.FILTER('BD PREÇO'!$C$10:$C$1609,'BD PREÇO'!$A$10:$A$1609=A335,""))} | D335: {=IF(A335="","", _xlfn._xlws.FILTER('BD ITEM'!$I$12:$I$331,'BD ITEM'!$B$12:$B$331=B335,""))} | E335: {=IF(A335="","", _xlfn._xlws.FILTER('BD PREÇO'!$E$10:$E$1609,'BD PREÇO'!$A$10:$A$1609=A335,""))} | F335: {=IF(A335="","", _xlfn._xlws.FILTER('BD PREÇO'!$F$10:$F$1609,'BD PREÇO'!$A$10:$A$1609=A335,""))} | G335: {=IF(A335="","", _xlfn._xlws.FILTER('BD PREÇO'!$G$10:$G$1609,'BD PREÇO'!$A$10:$A$1609=A335,""))} | H335: {=IF(A335="","", _xlfn._xlws.FILTER('BD ITEM'!$M$12:$M$331,'BD ITEM'!$B$12:$B$331=B335,""))} | I335: {=IF(A335="","", _xlfn._xlws.FILTER('BD ITEM'!$N$12:$N$331,'BD ITEM'!$B$12:$B$331=B335,""))} | J335: {=IF(A335="","", _xlfn._xlws.FILTER('BD PREÇO'!$P$10:$P$1609,'BD PREÇO'!$A$10:$A$1609=A335,""))} | K335: {=IF(A335="","", _xlfn._xlws.FILTER('BD PREÇO'!$Q$10:$Q$1609,'BD PREÇO'!$A$10:$A$1609=A335,""))} | L335: {=IF(A335="","", _xlfn._xlws.FILTER('BD PREÇO'!$R$10:$R$1609,'BD PREÇO'!$A$10:$A$1609=A335,""))} | M335: {=IF(A335="","", _xlfn._xlws.FILTER('BD PREÇO'!$S$10:$S$1609,'BD PREÇO'!$A$10:$A$1609=A335,""))} | N335: {=IF(A335="","", _xlfn._xlws.FILTER('BD ITEM'!$O$12:$O$331,'BD ITEM'!$B$12:$B$331=B335,""))} | O335: {=IF(A335="","", _xlfn._xlws.FILTER('BD ITEM'!$P$12:$P$331,'BD ITEM'!$B$12:$B$331=B335,""))} | P335: {=IF(A335="","", _xlfn._xlws.FILTER('BD ITEM'!$Q$12:$Q$331,'BD ITEM'!$B$12:$B$331=B335,""))} | Q335: {=IF(A335="","", _xlfn._xlws.FILTER('BD PREÇO'!$T$10:$T$1609,'BD PREÇO'!$A$10:$A$1609=A335,""))}

Sheet BD PREÇO
A1: MAPA DE PREÇOS DO DILAB/LFDA-MG - PLANILHA MAPRE - PREÇOS DE REFERÊNCIA POR MENOR VALOR OU TENDÊNCIA CENTRAL
A2: Precificação de itens - compilação de informações | G2: Nota: Nesta aba BD PREÇO, somente dados da aba BD ITEM com linhas com preenchimento corerto são carregados.
A4: Data atual: | C4: =TODAY() -> 46098 | I4: Quant. de itens nesta aba (preench. correto em [BD ITEM]: | J4: ='BD ITEM'!I5 -> 2
A5: Lista: | C5: =IF('BD ITEM'!C5="","Nome da lista não informado na aba BD ITEM",'BD ITEM'!C5) -> 21181.000240/2026-41 | I5: Quantidade de itens válidos finais: | J5: ='REL GER - RELAT. COMPRASGOV'!E9 -> 2
A6: Origem de ID SEC: | F6: Origem de ID PRI: | I6: =IF('BD ITEM'!C9="","",'BD ITEM'!C9) -> 2026
A8: Preços obtidos para os itens elencados | I8: Nota: o CNPJ 00.000.000/0000-00 para Compras governamentais e o CNPJ 99.999.999/9999-99 para Item excluído não são CNPJ válidos, atribuído somente para que o campo não fique com valor nulo.
A9: ID SEC (*** para excluído ao REL GER) | B9: ID PRI (*** se excluído em BD ITEM) | C9: Descrição do(s) item(ns) | D9: Referência (*** se vazio) | E9: CATMAT (*** se vazio) | F9: Unid. | G9: Quantid. total | H9: N° ordem do preço | I9: Empresa | J9: CNPJ | K9: Preço (R$) - Valor unitário | L9: Fonte do preço | M9: Válidade do orçamento/preço | N9: Notas, comentários e observações (não obrigatório) | O9: Modalidade de cálculo | P9: N° de propostas válidas na precificação | Q9: Coeficiente de variação das propostas válidas (%) | R9: Valor unitário estimado (R$) | S9: Valor total estimado (R$) | T9: Auditoria de preenchimento | V9: Auditoria Bloco 9 | W9: Auditoria Bloco 10 | X9: Auditoria Bloco 11 | Y9: Auditoria Bloco 12 | Z9: Auditoria Bloco 13 | AA9: Auditoria Bloco 14 | AB9: Auditoria Bloco 15 | AC9: Auditoria Bloco 16 | AD9: Preços válidos
A10: 01 | B10: =IF(OR('BD ITEM'!$Q12<>"Preenchimento correto"),"",'BD ITEM'!B12) -> 1 | C10: =IF(OR('BD ITEM'!$Q12<>"Preenchimento correto"),"",'BD ITEM'!C12) -> BOMBA DE OR LINHA INT/ADV - NCM 84138100 | D10: =IF(OR('BD ITEM'!$Q12<>"Preenchimento correto"),"",'BD ITEM'!D12) -> Orçamento Merck 50597455 | E10: =IF(OR('BD ITEM'!$Q12<>"Preenchimento correto"),"",'BD ITEM'!J12) -> 415030 | F10: =IF(OR('BD ITEM'!$Q12<>"Preenchimento correto"),"",'BD ITEM'!K12) -> RCA | G10: =IF(OR('BD ITEM'!$Q12<>"Preenchimento correto"),"",'BD ITEM'!L12) -> 1 | H10: 1 | I10: MERCK S/A | J10: =IF(I10="","", VLOOKUP(I10,'BD EMPRES'!$B$8:$C$507,2,FALSE)) -> 33.069.212/0008-50 | K10: 3369 | L10: Orçamento de empresa | M10: Válido | O10: Menor valor | P10: =IF(AND(K10="",K11="",K12="",K13="",K14=""),"", COUNTIFS(K10:K14,"<>""",M10:M14,"=Válido")) -> 3 | Q10: =IF(T10<>"Preenchimento correto","", IF(P10=1,0, IF(P10=0,"", IF(P10="","", ROUND(_xlfn.STDEV.S(AD10:AD14)/AVERAGE(AD10:AD14),4))))) -> 0.6761 | R10: =IF(T10<>"Preenchimento correto","", IF(P10="","", IF(P10=0,"", IF(O10="","", IF(O10="Menor valor",MIN(AD10:AD14), IF(AND(O10="Tend. central",Q10<=0.25),ROUND(AVERAGE(AD10:AD14),2), IF(AND(O10="Tend. central",Q10>0.25),ROUND(MEDIAN(AD10:AD14),2)))))))) -> 3369 | S10: =IF(T10<>"Preenchimento correto","", IF(O10="","", IF(P10="","", IF(P10=0,"", IF(OR(G10="",R10=""),"", G10*R10))))) -> 3369 | T10: =IF(AND(A10="",B10="",I10="",I11="",I12="",I13="",I14="",K10="",K11="",K12="",K13="",K14="",L10="",L11="",L12="",L13="",L14="",M10="",M11="",M12="",M13="",M14="",O10=""),"", IF(A10="","Preenchimento incompleto: falta informar o ID SEC - B01.01", IF(AND(A10<>"",B10<>"",I10="",I11="",I12="",I13="",I14="",K10="",K11="",K12="",K13="",K14="",L10="",L11="",L12="",L13="",L14="",M10="",M11="",M12="",M13="",M14="",O10=""),"Preenchimento incompleto: item sem nenhuma informação de empresa e preço e fonte de preço e validade do orçamento e modalidade de cálculo - B02.01", IF(AND(B10="",OR(I10<>"",I11<>"",I12<>"",I13<>"",I14<>"",K10<>"",K11<>"",K12<>"",K13<>"",K14<>"",L10<>"",L11<>"",L12<>"",L13<>"",L14<>"",M10<>"",M11<>"",M12<>"",M13<>"",M14<>"",O10<>"")),"Erro: há empresa(s) e/ou preço(s) e/ou fonte(s) de preço e/ou validade(s) do orçamento e/ou modalidade de cálculo informados para item inexistente - B03.01", IF(AND(I10<>"",OR(K10="",L10="",M10="",O10="")),"Preenchimento incompleto: empresa sem preço e(ou) fonte de preço e(ou) validade do orçamento e(ou) modalidade de cálculo associados - B04.01", IF(AND(I11<>"",OR(K11="",L11="",M11="",O10="")),"Preenchimento incompleto: empresa sem preço e(ou) fonte de preço e(ou) validade do orçamento e(ou) modalidade de cálculo associados - B04.02", IF(AND(I12<>"",OR(K12="",L12="",M12="",O10="")),"Preenchimento incompleto: empresa sem preço e(ou) fonte de preço e(ou) validade do orçamento e(ou) modalidade de cálculo associados - B04.03", IF(AND(I13<>"",OR(K13="",L13="",M13="",O10="")),"Preenchimento incompleto: empresa sem preço e(ou) fonte de preço e(ou) validade do orçamento e(ou) modalidade de cálculo associados - B04.04", IF(AND(I14<>"",OR(K14="",L14="",M14="",O10="")),"Preenchimento incompleto: empresa sem preço e(ou) fonte de preço e(ou) validade do orçamento e(ou) modalidade de cálculo associados - B04.05", IF(AND(K10<>"",OR(I10="",L10="",M10="",O10="")),"Preenchimento incompleto: preço sem empresa e(ou) fonte do preço associados e(ou) validade do orçamento e(ou) modalidade de cálculo associados - B05.01", IF(AND(K11<>"",OR(I11="",L11="",M11="",O10="")),"Preenchimento incompleto: preço sem empresa e(ou) fonte do preço associados e(ou) validade do orçamento e(ou) modalidade de cálculo associados - B05.02", IF(AND(K12<>"",OR(I12="",L12="",M12="",O10="")),"Preenchimento incompleto: preço sem empresa e(ou) fonte do preço associados e(ou) validade do orçamento e(ou) modalidade de cálculo associados - B05.03", IF(AND(K13<>"",OR(I13="",L13="",M13="",O10="")),"Preenchimento incompleto: preço sem empresa e(ou) fonte do preço associados e(ou) validade do orçamento e(ou) modalidade de cálculo associados - B05.04", IF(AND(K14<>"",OR(I14="",L14="",M14="",O10="")),"Preenchimento incompleto: preço sem empresa e(ou) fonte do preço associados e(ou) validade do orçamento e(ou) modalidade de cálculo associados - B05.05", IF(AND(L10<>"",OR(K10="",I10="",M10="",O10="")),"Preenchimento incompleto: fonte do preço sem empresa e(ou) preço associados e(ou) validade do orçamento e(ou) modalidade de cálculo associados - B06.01", IF(AND(L11<>"",OR(K11="",I11="",M11="",O10="")),"Preenchimento incompleto: fonte do preço sem empresa e(ou) preço associados e(ou) validade do orçamento e(ou) modalidade de cálculo associados - B06.02", IF(AND(L12<>"",OR(K12="",I12="",M12="",O10="")),"Preenchimento incompleto: fonte do preço sem empresa e(ou) preço associados e(ou) validade do orçamento e(ou) modalidade de cálculo associados - B06.03", IF(AND(L13<>"",OR(K13="",I13="",M13="",O10="")),"Preenchimento incompleto: fonte do preço sem empresa e(ou) preço associados e(ou) validade do orçamento e(ou) modalidade de cálculo associados - B06.04", IF(AND(L14<>"",OR(K14="",I14="",M14="",O10="")),"Preenchimento incompleto: fonte do preço sem empresa e(ou) preço associados e(ou) validade do orçamento e(ou) modalidade de cálculo associados - B06.05", IF(AND(M10<>"",OR(K10="",I10="",L10="",O10="")),"Preenchimento incompleto: validade do orçamento sem empresa e(ou) preço associados e(ou) fonte do preço e(ou) modalidade de cálculo associados - B07.01", IF(AND(M11<>"",OR(K11="",I11="",L11="",O10="")),"Preenchimento incompleto: validade do orçamento sem empresa e(ou) preço associados e(ou) fonte do preço e(ou) modalidade de cálculo associados - B07.02", IF(AND(M12<>"",OR(K12="",I12="",L12="",O10="")),"Preenchimento incompleto: validade do orçamento sem empresa e(ou) preço associados e(ou) fonte do preço e(ou) modalidade de cálculo associados - B07.03", IF(AND(M13<>"",OR(K13="",I13="",L13="",O10="")),"Preenchimento incompleto: validade do orçamento sem empresa e(ou) preço associados e(ou) fonte do preço e(ou) modalidade de cálculo associados - B07.04", IF(AND(M14<>"",OR(K14="",I14="",L14="",O10="")),"Preenchimento incompleto: validade do orçamento sem empresa e(ou) preço associados e(ou) fonte do preço e(ou) modalidade de cálculo associados - B07.05", IF(O10="","Preenchimento incompleto: modalidade de cálculo não informada - B08.01", IF(V10="Erro: há repetição de empresa de mídia especializada para o item sendo precificado - B09.01a05","Erro: há repetição de empresa de mídia especializada para o item sendo precificado - B09.01a05", IF(W10="Erro: há repetição de empresa de orçamento de empresa para o item sendo precificado - B10.01a05","Erro: há repetição de empresa de orçamento de empresa para o item sendo precificado - B10.01a05", IF(X10="Erro: a fonte de preços informada é incompatível com compras governamentais - B11.01a05","Erro: a fonte de preços informada é incompatível com compras governamentais - B11.01a05", IF(Y10="Erro: a fonte de preços informada é incompatível com compras governamentais - B12.01a05","Erro: a fonte de preços informada é incompatível com compras governamentais - B12.01a05", IF(Z10="Erro: há linhas sendo puladas - B13.01a04","Erro: há linhas sendo puladas - B13.01a04", IF(AA10="Erro: há linhas sendo puladas - B14.01a05","Erro: há linhas sendo puladas - B14.01a05", IF(AB10="Erro: há linhas sendo puladas - B15.01a05","Erro: há linhas sendo puladas - B15.01a05", IF(AC10="Erro: há linhas sendo puladas - B16.01a05","Erro: há linhas sendo puladas - B16.01a05", IF(AND(P10<>"",P10=0),"Preenchimento incompleto: número de propostas válidas igual a zero - B17.01", "Preenchimento correto")))))))))))))))))))))))))))))))))) -> Preenchimento correto | V10: =IF(COUNTIFS(I10:I14,I10,L10:L14,"=Mídia especializada")>1,"Erro: há repetição de empresa de mídia especializada para o item sendo precificado - B09.01a05", IF(COUNTIFS(I10:I14,I11,L10:L14,"=Mídia especializada")>1,"Erro: há repetição de empresa de mídia especializada para o item sendo precificado - B09.01a05", IF(COUNTIFS(I10:I14,I12,L10:L14,"=Mídia especializada")>1,"Erro: há repetição de empresa de mídia especializada para o item sendo precificado - B09.01a05", IF(COUNTIFS(I10:I14,I13,L10:L14,"=Mídia especializada")>1,"Erro: há repetição de empresa de mídia especializada para o item sendo precificado - B09.01a05", IF(COUNTIFS(I10:I14,I14,L10:L14,"=Mídia especializada")>1,"Erro: há repetição de empresa de mídia especializada para o item sendo precificado - B09.01a05", "***"))))) -> *** | W10: =IF(COUNTIFS(I10:I14,I10,L10:L14,"=Orçamento de empresa")>1,"Erro: há repetição de empresa de orçamento de empresa para o item sendo precificado - B10.01a05", IF(COUNTIFS(I10:I14,I11,L10:L14,"=Orçamento de empresa")>1,"Erro: há repetição de empresa de orçamento de empresa para o item sendo precificado - B10.01a05", IF(COUNTIFS(I10:I14,I12,L10:L14,"=Orçamento de empresa")>1,"Erro: há repetição de empresa de orçamento de empresa para o item sendo precificado - B10.01a05", IF(COUNTIFS(I10:I14,I13,L10:L14,"=Orçamento de empresa")>1,"Erro: há repetição de empresa de orçamento de empresa para o item sendo precificado - B10.01a05", IF(COUNTIFS(I10:I14,I14,L10:L14,"=Orçamento de empresa")>1,"Erro: há repetição de empresa de orçamento de empresa para o item sendo precificado - B10.01a05", "***"))))) -> *** | X10: =IF(AND(I10="Compras governamentais",K10<>"",L10="Orçamento de empresa"),"Erro: a fonte de preços informada é incompatível com compras governamentais - B11.01a05", IF(AND(I11="Compras governamentais",K11<>"",L11="Orçamento de empresa"),"Erro: a fonte de preços informada é incompatível com compras governamentais - B11.01a05", IF(AND(I12="Compras governamentais",K12<>"",L12="Orçamento de empresa"),"Erro: a fonte de preços informada é incompatível com compras governamentais - B11.01a05", IF(AND(I13="Compras governamentais",K13<>"",L13="Orçamento de empresa"),"Erro: a fonte de preços informada é incompatível com compras governamentais - B11.01a05", IF(AND(I14="Compras governamentais",K14<>"",L14="Orçamento de empresa"),"Erro: a fonte de preços informada é incompatível com compras governamentais - B11.01a05", "***"))))) -> *** | Y10: =IF(AND(I10="Compras governamentais",K10<>"",L10="Mídia especializada"),"Erro: a fonte de preços informada é incompatível com compras governamentais - B12.01a05", IF(AND(I11="Compras governamentais",K11<>"",L11="Mídia especializada"),"Erro: a fonte de preços informada é incompatível com compras governamentais - B12.01a05", IF(AND(I12="Compras governamentais",K12<>"",L12="Mídia especializada"),"Erro: a fonte de preços informada é incompatível com compras governamentais - B12.01a05", IF(AND(I13="Compras governamentais",K13<>"",L13="Mídia especializada"),"Erro: a fonte de preços informada é incompatível com compras governamentais - B12.01a05", IF(AND(I14="Compras governamentais",K14<>"",L14="Mídia especializada"),"Erro: a fonte de preços informada é incompatível com compras governamentais - B12.01a05", "***"))))) -> *** | Z10: =IF(AND(I11<>"",OR(I10="")),"Erro: há linhas sendo puladas - B13.01a04", IF(AND(I12<>"",OR(I10="",I11="")),"Erro: há linhas sendo puladas - B13.01a04", IF(AND(I13<>"",OR(I10="",I11="",I12="")),"Erro: há linhas sendo puladas - B13.01a04", IF(AND(I14<>"",OR(I10="",I11="",I12="",I13="")),"Erro: há linhas sendo puladas - B13.01a04", "***")))) -> *** | AA10: =IF(AND(K11<>"",OR(K10="")),"Erro: há linhas sendo puladas - B14.01a05", IF(AND(K12<>"",OR(K10="",K11="")),"Erro: há linhas sendo puladas - B14.01a05", IF(AND(K13<>"",OR(K10="",K11="",K12="")),"Erro: há linhas sendo puladas - B14.01a05", IF(AND(K14<>"",OR(K10="",K11="",K12="",K13="")),"Erro: há linhas sendo puladas - B14.01a05", "***")))) -> *** | AB10: =IF(AND(L11<>"",OR(L10="")),"Erro: há linhas sendo puladas - B15.01a05", IF(AND(L12<>"",OR(L10="",L11="")),"Erro: há linhas sendo puladas - B15.01a05", IF(AND(L13<>"",OR(L10="",L11="",L12="")),"Erro: há linhas sendo puladas - B15.01a05", IF(AND(L14<>"",OR(L10="",L11="",L12="",L13="")),"Erro: há linhas sendo puladas - B15.01a05", "***")))) -> *** | AC10: =IF(AND(M11<>"",OR(M10="")),"Erro: há linhas sendo puladas - B16.01a05", IF(AND(M12<>"",OR(M10="",M11="")),"Erro: há linhas sendo puladas - B16.01a05", IF(AND(M13<>"",OR(M10="",M11="",M12="")),"Erro: há linhas sendo puladas - B16.01a05", IF(AND(M14<>"",OR(M10="",M11="",M12="",M13="")),"Erro: há linhas sendo puladas - B16.01a05", "***")))) -> *** | AD10: =IF(T10<>"Preenchimento correto","", IF(K10="","", IF(M10="Não válido","", K10))) -> 3369
H11: 2 | I11: Milli express | J11: =IF(I11="","", VLOOKUP(I11,'BD EMPRES'!$B$8:$C$507,2,FALSE)) -> 08.623.794/0001-51 | K11: 3743 | L11: Orçamento de empresa | M11: Válido | AD11: =IF(T10<>"Preenchimento correto","", IF(K11="","", IF(M11="Não válido","", K11))) -> 3743
H12: 3 | I12: Compras governamentais | J12: =IF(I12="","", VLOOKUP(I12,'BD EMPRES'!$B$8:$C$507,2,FALSE)) -> 00.000.000/0000-00 | K12: 10374.5 | L12: ComprasGov | M12: Válido | AD12: =IF(T10<>"Preenchimento correto","", IF(K12="","", IF(M12="Não válido","", K12))) -> 10374.5
H13: 4 | J13: =IF(I13="","", VLOOKUP(I13,'BD EMPRES'!$B$8:$C$507,2,FALSE)) | AD13: =IF(T10<>"Preenchimento correto","", IF(K13="","", IF(M13="Não válido","", K13)))
H14: 5 | J14: =IF(I14="","", VLOOKUP(I14,'BD EMPRES'!$B$8:$C$507,2,FALSE)) | AD14: =IF(T10>"Preenchimento correto","", IF(K14="","", IF(M14="Não válido","", K14)))
A15: 02 | B15: =IF(OR('BD ITEM'!$Q13<>"Preenchimento correto"),"",'BD ITEM'!B13) -> 2 | C15: =IF(OR('BD ITEM'!$Q13<>"Preenchimento correto"),"",'BD ITEM'!C13) -> PLACA FONTE SISTEMA INTEGRAL - NCM 85423190 | D15: =IF(OR('BD ITEM'!$Q13<>"Preenchimento correto"),"",'BD ITEM'!D13) -> Orçamento Merck 50597455 | E15: =IF(OR('BD ITEM'!$Q13<>"Preenchimento correto"),"",'BD ITEM'!J13) -> 426971 | F15: =IF(OR('BD ITEM'!$Q13<>"Preenchimento correto"),"",'BD ITEM'!K13) -> RCA | G15: =IF(OR('BD ITEM'!$Q13<>"Preenchimento correto"),"",'BD ITEM'!L13) -> 1 | H15: 1 | I15: MERCK S/A | J15: =IF(I15="","", VLOOKUP(I15,'BD EMPRES'!$B$8:$C$507,2,FALSE)) -> 33.069.212/0008-50 | K15: 6556 | L15: Orçamento de empresa | M15: Válido | O15: Menor valor | P15: =IF(AND(K15="",K16="",K17="",K18="",K19=""),"", COUNTIFS(K15:K19,"<>""",M15:M19,"=Válido")) -> 3 | Q15: =IF(T15<>"Preenchimento correto","", IF(P15=1,0, IF(P15=0,"", IF(P15="","", ROUND(_xlfn.STDEV.S(AD15:AD19)/AVERAGE(AD15:AD19),4))))) -> 0.2125 | R15: =IF(T15<>"Preenchimento correto","", IF(P15="","", IF(P15=0,"", IF(O15="","", IF(O15="Menor valor",MIN(AD15:AD19), IF(AND(O15="Tend. central",Q15<=0.25),ROUND(AVERAGE(AD15:AD19),2), IF(AND(O15="Tend. central",Q15>0.25),ROUND(MEDIAN(AD15:AD19),2)))))))) -> 4815 | S15: =IF(T15<>"Preenchimento correto","", IF(O15="","", IF(P15="","", IF(P15=0,"", IF(OR(G15="",R15=""),"", G15*R15))))) -> 4815 | T15: =IF(AND(A15="",B15="",I15="",I16="",I17="",I18="",I19="",K15="",K16="",K17="",K18="",K19="",L15="",L16="",L17="",L18="",L19="",M15="",M16="",M17="",M18="",M19="",O15=""),"", IF(A15="","Preenchimento incompleto: falta informar o ID SEC - B01.01", IF(AND(A15<>"",B15<>"",I15="",I16="",I17="",I18="",I19="",K15="",K16="",K17="",K18="",K19="",L15="",L16="",L17="",L18="",L19="",M15="",M16="",M17="",M18="",M19="",O15=""),"Preenchimento incompleto: item sem nenhuma informação de empresa e preço e fonte de preço e validade do orçamento e modalidade de cálculo - B02.01", IF(AND(B15="",OR(I15<>"",I16<>"",I17<>"",I18<>"",I19<>"",K15<>"",K16<>"",K17<>"",K18<>"",K19<>"",L15<>"",L16<>"",L17<>"",L18<>"",L19<>"",M15<>"",M16<>"",M17<>"",M18<>"",M19<>"",O15<>"")),"Erro: há empresa(s) e/ou preço(s) e/ou fonte(s) de preço e/ou validade(s) do orçamento e/ou modalidade de cálculo informados para item inexistente - B03.01", IF(AND(I15<>"",OR(K15="",L15="",M15="",O15="")),"Preenchimento incompleto: empresa sem preço e(ou) fonte de preço e(ou) validade do orçamento e(ou) modalidade de cálculo associados - B04.01", IF(AND(I16<>"",OR(K16="",L16="",M16="",O15="")),"Preenchimento incompleto: empresa sem preço e(ou) fonte de preço e(ou) validade do orçamento e(ou) modalidade de cálculo associados - B04.02", IF(AND(I17<>"",OR(K17="",L17="",M17="",O15="")),"Preenchimento incompleto: empresa sem preço e(ou) fonte de preço e(ou) validade do orçamento e(ou) modalidade de cálculo associados - B04.03", IF(AND(I18<>"",OR(K18="",L18="",M18="",O15="")),"Preenchimento incompleto: empresa sem preço e(ou) fonte de preço e(ou) validade do orçamento e(ou) modalidade de cálculo associados - B04.04", IF(AND(I19<>"",OR(K19="",L19="",M19="",O15="")),"Preenchimento incompleto: empresa sem preço e(ou) fonte de preço e(ou) validade do orçamento e(ou) modalidade de cálculo associados - B04.05", IF(AND(K15<>"",OR(I15="",L15="",M15="",O15="")),"Preenchimento incompleto: preço sem empresa e(ou) fonte do preço associados e(ou) validade do orçamento e(ou) modalidade de cálculo associados - B05.01", IF(AND(K16<>"",OR(I16="",L16="",M16="",O15="")),"Preenchimento incompleto: preço sem empresa e(ou) fonte do preço associados e(ou) validade do orçamento e(ou) modalidade de cálculo associados - B05.02", IF(AND(K17<>"",OR(I17="",L17="",M17="",O15="")),"Preenchimento incompleto: preço sem empresa e(ou) fonte do preço associados e(ou) validade do orçamento e(ou) modalidade de cálculo associados - B05.03", IF(AND(K18<>"",OR(I18="",L18="",M18="",O15="")),"Preenchimento incompleto: preço sem empresa e(ou) fonte do preço associados e(ou) validade do orçamento e(ou) modalidade de cálculo associados - B05.04", IF(AND(K19<>"",OR(I19="",L19="",M19="",O15="")),"Preenchimento incompleto: preço sem empresa e(ou) fonte do preço associados e(ou) validade do orçamento e(ou) modalidade de cálculo associados - B05.05", IF(AND(L15<>"",OR(K15="",I15="",M15="",O15="")),"Preenchimento incompleto: fonte do preço sem empresa e(ou) preço associados e(ou) validade do orçamento e(ou) modalidade de cálculo associados - B06.01", IF(AND(L16<>"",OR(K16="",I16="",M16="",O15="")),"Preenchimento incompleto: fonte do preço sem empresa e(ou) preço associados e(ou) validade do orçamento e(ou) modalidade de cálculo associados - B06.02", IF(AND(L17<>"",OR(K17="",I17="",M17="",O15="")),"Preenchimento incompleto: fonte do preço sem empresa e(ou) preço associados e(ou) validade do orçamento e(ou) modalidade de cálculo associados - B06.03", IF(AND(L18<>"",OR(K18="",I18="",M18="",O15="")),"Preenchimento incompleto: fonte do preço sem empresa e(ou) preço associados e(ou) validade do orçamento e(ou) modalidade de cálculo associados - B06.04", IF(AND(L19<>"",OR(K19="",I19="",M19="",O15="")),"Preenchimento incompleto: fonte do preço sem empresa e(ou) preço associados e(ou) validade do orçamento e(ou) modalidade de cálculo associados - B06.05", IF(AND(M15<>"",OR(K15="",I15="",L15="",O15="")),"Preenchimento incompleto: validade do orçamento sem empresa e(ou) preço associados e(ou) fonte do preço e(ou) modalidade de cálculo associados - B07.01", IF(AND(M16<>"",OR(K16="",I16="",L16="",O15="")),"Preenchimento incompleto: validade do orçamento sem empresa e(ou) preço associados e(ou) fonte do preço e(ou) modalidade de cálculo associados - B07.02", IF(AND(M17<>"",OR(K17="",I17="",L17="",O15="")),"Preenchimento incompleto: validade do orçamento sem empresa e(ou) preço associados e(ou) fonte do preço e(ou) modalidade de cálculo associados - B07.03", IF(AND(M18<>"",OR(K18="",I18="",L18="",O15="")),"Preenchimento incompleto: validade do orçamento sem empresa e(ou) preço associados e(ou) fonte do preço e(ou) modalidade de cálculo associados - B07.04", IF(AND(M19<>"",OR(K19="",I19="",L19="",O15="")),"Preenchimento incompleto: validade do orçamento sem empresa e(ou) preço associados e(ou) fonte do preço e(ou) modalidade de cálculo associados - B07.05", IF(O15="","Preenchimento incompleto: modalidade de cálculo não informada - B08.01", IF(V15="Erro: há repetição de empresa de mídia especializada para o item sendo precificado - B09.01a05","Erro: há repetição de empresa de mídia especializada para o item sendo precificado - B09.01a05", IF(W15="Erro: há repetição de empresa de orçamento de empresa para o item sendo precificado - B10.01a05","Erro: há repetição de empresa de orçamento de empresa para o item sendo precificado - B10.01a05", IF(X15="Erro: a fonte de preços informada é incompatível com compras governamentais - B11.01a05","Erro: a fonte de preços informada é incompatível com compras governamentais - B11.01a05", IF(Y15="Erro: a fonte de preços informada é incompatível com compras governamentais - B12.01a05","Erro: a fonte de preços informada é incompatível com compras governamentais - B12.01a05", IF(Z15="Erro: há linhas sendo puladas - B13.01a04","Erro: há linhas sendo puladas - B13.01a04", IF(AA15="Erro: há linhas sendo puladas - B14.01a05","Erro: há linhas sendo puladas - B14.01a05", IF(AB15="Erro: há linhas sendo puladas - B15.01a05","Erro: há linhas sendo puladas - B15.01a05", IF(AC15="Erro: há linhas sendo puladas - B16.01a05","Erro: há linhas sendo puladas - B16.01a05", IF(AND(P15<>"",P15=0),"Preenchimento incompleto: número de propostas válidas igual a zero - B17.01", "Preenchimento correto")))))))))))))))))))))))))))))))))) -> Preenchimento correto | V15: =IF(COUNTIFS(I15:I19,I15,L15:L19,"=Mídia especializada")>1,"Erro: há repetição de empresa de mídia especializada para o item sendo precificado - B09.01a05", IF(COUNTIFS(I15:I19,I16,L15:L19,"=Mídia especializada")>1,"Erro: há repetição de empresa de mídia especializada para o item sendo precificado - B09.01a05", IF(COUNTIFS(I15:I19,I17,L15:L19,"=Mídia especializada")>1,"Erro: há repetição de empresa de mídia especializada para o item sendo precificado - B09.01a05", IF(COUNTIFS(I15:I19,I18,L15:L19,"=Mídia especializada")>1,"Erro: há repetição de empresa de mídia especializada para o item sendo precificado - B09.01a05", IF(COUNTIFS(I15:I19,I19,L15:L19,"=Mídia especializada")>1,"Erro: há repetição de empresa de mídia especializada para o item sendo precificado - B09.01a05", "***"))))) -> *** | W15: =IF(COUNTIFS(I15:I19,I15,L15:L19,"=Orçamento de empresa")>1,"Erro: há repetição de empresa de orçamento de empresa para o item sendo precificado - B10.01a05", IF(COUNTIFS(I15:I19,I16,L15:L19,"=Orçamento de empresa")>1,"Erro: há repetição de empresa de orçamento de empresa para o item sendo precificado - B10.01a05", IF(COUNTIFS(I15:I19,I17,L15:L19,"=Orçamento de empresa")>1,"Erro: há repetição de empresa de orçamento de empresa para o item sendo precificado - B10.01a05", IF(COUNTIFS(I15:I19,I18,L15:L19,"=Orçamento de empresa")>1,"Erro: há repetição de empresa de orçamento de empresa para o item sendo precificado - B10.01a05", IF(COUNTIFS(I15:I19,I19,L15:L19,"=Orçamento de empresa")>1,"Erro: há repetição de empresa de orçamento de empresa para o item sendo precificado - B10.01a05", "***"))))) -> *** | X15: =IF(AND(I15="Compras governamentais",K15<>"",L15="Orçamento de empresa"),"Erro: a fonte de preços informada é incompatível com compras governamentais - B11.01a05", IF(AND(I16="Compras governamentais",K16<>"",L16="Orçamento de empresa"),"Erro: a fonte de preços informada é incompatível com compras governamentais - B11.01a05", IF(AND(I17="Compras governamentais",K17<>"",L17="Orçamento de empresa"),"Erro: a fonte de preços informada é incompatível com compras governamentais - B11.01a05", IF(AND(I18="Compras governamentais",K18<>"",L18="Orçamento de empresa"),"Erro: a fonte de preços informada é incompatível com compras governamentais - B11.01a05", IF(AND(I19="Compras governamentais",K19<>"",L19="Orçamento de empresa"),"Erro: a fonte de preços informada é incompatível com compras governamentais - B11.01a05", "***"))))) -> *** | Y15: =IF(AND(I15="Compras governamentais",K15<>"",L15="Mídia especializada"),"Erro: a fonte de preços informada é incompatível com compras governamentais - B12.01a05", IF(AND(I16="Compras governamentais",K16<>"",L16="Mídia especializada"),"Erro: a fonte de preços informada é incompatível com compras governamentais - B12.01a05", IF(AND(I17="Compras governamentais",K17<>"",L17="Mídia especializada"),"Erro: a fonte de preços informada é incompatível com compras governamentais - B12.01a05", IF(AND(I18="Compras governamentais",K18<>"",L18="Mídia especializada"),"Erro: a fonte de preços informada é incompatível com compras governamentais - B12.01a05", IF(AND(I19="Compras governamentais",K19<>"",L19="Mídia especializada"),"Erro: a fonte de preços informada é incompatível com compras governamentais - B12.01a05", "***"))))) -> *** | Z15: =IF(AND(I16<>"",OR(I15="")),"Erro: há linhas sendo puladas - B13.01a04", IF(AND(I17<>"",OR(I15="",I16="")),"Erro: há linhas sendo puladas - B13.01a04", IF(AND(I18<>"",OR(I15="",I16="",I17="")),"Erro: há linhas sendo puladas - B13.01a04", IF(AND(I19<>"",OR(I15="",I16="",I17="",I18="")),"Erro: há linhas sendo puladas - B13.01a04", "***")))) -> *** | AA15: =IF(AND(K16<>"",OR(K15="")),"Erro: há linhas sendo puladas - B14.01a05", IF(AND(K17<>"",OR(K15="",K16="")),"Erro: há linhas sendo puladas - B14.01a05", IF(AND(K18<>"",OR(K15="",K16="",K17="")),"Erro: há linhas sendo puladas - B14.01a05", IF(AND(K19<>"",OR(K15="",K16="",K17="",K18="")),"Erro: há linhas sendo puladas - B14.01a05", "***")))) -> *** | AB15: =IF(AND(L16<>"",OR(L15="")),"Erro: há linhas sendo puladas - B15.01a05", IF(AND(L17<>"",OR(L15="",L16="")),"Erro: há linhas sendo puladas - B15.01a05", IF(AND(L18<>"",OR(L15="",L16="",L17="")),"Erro: há linhas sendo puladas - B15.01a05", IF(AND(L19<>"",OR(L15="",L16="",L17="",L18="")),"Erro: há linhas sendo puladas - B15.01a05", "***")))) -> *** | AC15: =IF(AND(M16<>"",OR(M15="")),"Erro: há linhas sendo puladas - B16.01a05", IF(AND(M17<>"",OR(M15="",M16="")),"Erro: há linhas sendo puladas - B16.01a05", IF(AND(M18<>"",OR(M15="",M16="",M17="")),"Erro: há linhas sendo puladas - B16.01a05", IF(AND(M19<>"",OR(M15="",M16="",M17="",M18="")),"Erro: há linhas sendo puladas - B16.01a05", "***")))) -> *** | AD15: =IF(T15<>"Preenchimento correto","", IF(K15="","", IF(M15="Não válido","", K15))) -> 6556
H16: 2 | I16: Milli express | J16: =IF(I16="","", VLOOKUP(I16,'BD EMPRES'!$B$8:$C$507,2,FALSE)) -> 08.623.794/0001-51 | K16: 7431 | L16: Orçamento de empresa | M16: Válido | AD16: =IF(T15<>"Preenchimento correto","", IF(K16="","", IF(M16="Não válido","", K16))) -> 7431
H17: 3 | I17: Compras governamentais | J17: =IF(I17="","", VLOOKUP(I17,'BD EMPRES'!$B$8:$C$507,2,FALSE)) -> 00.000.000/0000-00 | K17: 4815 | L17: ComprasGov | M17: Válido | AD17: =IF(T15<>"Preenchimento correto","", IF(K17="","", IF(M17="Não válido","", K17))) -> 4815
H18: 4 | J18: =IF(I18="","", VLOOKUP(I18,'BD EMPRES'!$B$8:$C$507,2,FALSE)) | AD18: =IF(T15<>"Preenchimento correto","", IF(K18="","", IF(M18="Não válido","", K18)))
H19: 5 | J19: =IF(I19="","", VLOOKUP(I19,'BD EMPRES'!$B$8:$C$507,2,FALSE)) | AD19: =IF(T15>"Preenchimento correto","", IF(K19="","", IF(M19="Não válido","", K19)))
B20: =IF(OR('BD ITEM'!$Q14<>"Preenchimento correto"),"",'BD ITEM'!B14) | C20: =IF(OR('BD ITEM'!$Q14<>"Preenchimento correto"),"",'BD ITEM'!C14) | D20: =IF(OR('BD ITEM'!$Q14<>"Preenchimento correto"),"",'BD ITEM'!D14) | E20: =IF(OR('BD ITEM'!$Q14<>"Preenchimento correto"),"",'BD ITEM'!J14) | F20: =IF(OR('BD ITEM'!$Q14<>"Preenchimento correto"),"",'BD ITEM'!K14) | G20: =IF(OR('BD ITEM'!$Q14<>"Preenchimento correto"),"",'BD ITEM'!L14) | H20: 1 | J20: =IF(I20="","", VLOOKUP(I20,'BD EMPRES'!$B$8:$C$507,2,FALSE)) | P20: =IF(AND(K20="",K21="",K22="",K23="",K24=""),"", COUNTIFS(K20:K24,"<>""",M20:M24,"=Válido")) | Q20: =IF(T20<>"Preenchimento correto","", IF(P20=1,0, IF(P20=0,"", IF(P20="","", ROUND(_xlfn.STDEV.S(AD20:AD24)/AVERAGE(AD20:AD24),4))))) | R20: =IF(T20<>"Preenchimento correto","", IF(P20="","", IF(P20=0,"", IF(O20="","", IF(O20="Menor valor",MIN(AD20:AD24), IF(AND(O20="Tend. central",Q20<=0.25),ROUND(AVERAGE(AD20:AD24),2), IF(AND(O20="Tend. central",Q20>0.25),ROUND(MEDIAN(AD20:AD24),2)))))))) | S20: =IF(T20<>"Preenchimento correto","", IF(O20="","", IF(P20="","", IF(P20=0,"", IF(OR(G20="",R20=""),"", G20*R20))))) | T20: =IF(AND(A20="",B20="",I20="",I21="",I22="",I23="",I24="",K20="",K21="",K22="",K23="",K24="",L20="",L21="",L22="",L23="",L24="",M20="",M21="",M22="",M23="",M24="",O20=""),"", IF(A20="","Preenchimento incompleto: falta informar o ID SEC - B01.01", IF(AND(A20<>"",B20<>"",I20="",I21="",I22="",I23="",I24="",K20="",K21="",K22="",K23="",K24="",L20="",L21="",L22="",L23="",L24="",M20="",M21="",M22="",M23="",M24="",O20=""),"Preenchimento incompleto: item sem nenhuma informação de empresa e preço e fonte de preço e validade do orçamento e modalidade de cálculo - B02.01", IF(AND(B20="",OR(I20<>"",I21<>"",I22<>"",I23<>"",I24<>"",K20<>"",K21<>"",K22<>"",K23<>"",K24<>"",L20<>"",L21<>"",L22<>"",L23<>"",L24<>"",M20<>"",M21<>"",M22<>"",M23<>"",M24<>"",O20<>"")),"Erro: há empresa(s) e/ou preço(s) e/ou fonte(s) de preço e/ou validade(s) do orçamento e/ou modalidade de cálculo informados para item inexistente - B03.01", IF(AND(I20<>"",OR(K20="",L20="",M20="",O20="")),"Preenchimento incompleto: empresa sem preço e(ou) fonte de preço e(ou) validade do orçamento e(ou) modalidade de cálculo associados - B04.01", IF(AND(I21<>"",OR(K21="",L21="",M21="",O20="")),"Preenchimento incompleto: empresa sem preço e(ou) fonte de preço e(ou) validade do orçamento e(ou) modalidade de cálculo associados - B04.02", IF(AND(I22<>"",OR(K22="",L22="",M22="",O20="")),"Preenchimento incompleto: empresa sem preço e(ou) fonte de preço e(ou) validade do orçamento e(ou) modalidade de cálculo associados - B04.03", IF(AND(I23<>"",OR(K23="",L23="",M23="",O20="")),"Preenchimento incompleto: empresa sem preço e(ou) fonte de preço e(ou) validade do orçamento e(ou) modalidade de cálculo associados - B04.04", IF(AND(I24<>"",OR(K24="",L24="",M24="",O20="")),"Preenchimento incompleto: empresa sem preço e(ou) fonte de preço e(ou) validade do orçamento e(ou) modalidade de cálculo associados - B04.05", IF(AND(K20<>"",OR(I20="",L20="",M20="",O20="")),"Preenchimento incompleto: preço sem empresa e(ou) fonte do preço associados e(ou) validade do orçamento e(ou) modalidade de cálculo associados - B05.01", IF(AND(K21<>"",OR(I21="",L21="",M21="",O20="")),"Preenchimento incompleto: preço sem empresa e(ou) fonte do preço associados e(ou) validade do orçamento e(ou) modalidade de cálculo associados - B05.02", IF(AND(K22<>"",OR(I22="",L22="",M22="",O20="")),"Preenchimento incompleto: preço sem empresa e(ou) fonte do preço associados e(ou) validade do orçamento e(ou) modalidade de cálculo associados - B05.03", IF(AND(K23<>"",OR(I23="",L23="",M23="",O20="")),"Preenchimento incompleto: preço sem empresa e(ou) fonte do preço associados e(ou) validade do orçamento e(ou) modalidade de cálculo associados - B05.04", IF(AND(K24<>"",OR(I24="",L24="",M24="",O20="")),"Preenchimento incompleto: preço sem empresa e(ou) fonte do preço associados e(ou) validade do orçamento e(ou) modalidade de cálculo associados - B05.05", IF(AND(L20<>"",OR(K20="",I20="",M20="",O20="")),"Preenchimento incompleto: fonte do preço sem empresa e(ou) preço associados e(ou) validade do orçamento e(ou) modalidade de cálculo associados - B06.01", IF(AND(L21<>"",OR(K21="",I21="",M21="",O20="")),"Preenchimento incompleto: fonte do preço sem empresa e(ou) preço associados e(ou) validade do orçamento e(ou) modalidade de cálculo associados - B06.02", IF(AND(L22<>"",OR(K22="",I22="",M22="",O20="")),"Preenchimento incompleto: fonte do preço sem empresa e(ou) preço associados e(ou) validade do orçamento e(ou) modalidade de cálculo associados - B06.03", IF(AND(L23<>"",OR(K23="",I23="",M23="",O20="")),"Preenchimento incompleto: fonte do preço sem empresa e(ou) preço associados e(ou) validade do orçamento e(ou) modalidade de cálculo associados - B06.04", IF(AND(L24<>"",OR(K24="",I24="",M24="",O20="")),"Preenchimento incompleto: fonte do preço sem empresa e(ou) preço associados e(ou) validade do orçamento e(ou) modalidade de cálculo associados - B06.05", IF(AND(M20<>"",OR(K20="",I20="",L20="",O20="")),"Preenchimento incompleto: validade do orçamento sem empresa e(ou) preço associados e(ou) fonte do preço e(ou) modalidade de cálculo associados - B07.01", IF(AND(M21<>"",OR(K21="",I21="",L21="",O20="")),"Preenchimento incompleto: validade do orçamento sem empresa e(ou) preço associados e(ou) fonte do preço e(ou) modalidade de cálculo associados - B07.02", IF(AND(M22<>"",OR(K22="",I22="",L22="",O20="")),"Preenchimento incompleto: validade do orçamento sem empresa e(ou) preço associados e(ou) fonte do preço e(ou) modalidade de cálculo associados - B07.03", IF(AND(M23<>"",OR(K23="",I23="",L23="",O20="")),"Preenchimento incompleto: validade do orçamento sem empresa e(ou) preço associados e(ou) fonte do preço e(ou) modalidade de cálculo associados - B07.04", IF(AND(M24<>"",OR(K24="",I24="",L24="",O20="")),"Preenchimento incompleto: validade do orçamento sem empresa e(ou) preço associados e(ou) fonte do preço e(ou) modalidade de cálculo associados - B07.05", IF(O20="","Preenchimento incompleto: modalidade de cálculo não informada - B08.01", IF(V20="Erro: há repetição de empresa de mídia especializada para o item sendo precificado - B09.01a05","Erro: há repetição de empresa de mídia especializada para o item sendo precificado - B09.01a05", IF(W20="Erro: há repetição de empresa de orçamento de empresa para o item sendo precificado - B10.01a05","Erro: há repetição de empresa de orçamento de empresa para o item sendo precificado - B10.01a05", IF(X20="Erro: a fonte de preços informada é incompatível com compras governamentais - B11.01a05","Erro: a fonte de preços informada é incompatível com compras governamentais - B11.01a05", IF(Y20="Erro: a fonte de preços informada é incompatível com compras governamentais - B12.01a05","Erro: a fonte de preços informada é incompatível com compras governamentais - B12.01a05", IF(Z20="Erro: há linhas sendo puladas - B13.01a04","Erro: há linhas sendo puladas - B13.01a04", IF(AA20="Erro: há linhas sendo puladas - B14.01a05","Erro: há linhas sendo puladas - B14.01a05", IF(AB20="Erro: há linhas sendo puladas - B15.01a05","Erro: há linhas sendo puladas - B15.01a05", IF(AC20="Erro: há linhas sendo puladas - B16.01a05","Erro: há linhas sendo puladas - B16.01a05", IF(AND(P20<>"",P20=0),"Preenchimento incompleto: número de propostas válidas igual a zero - B17.01", "Preenchimento correto")))))))))))))))))))))))))))))))))) | V20: =IF(COUNTIFS(I20:I24,I20,L20:L24,"=Mídia especializada")>1,"Erro: há repetição de empresa de mídia especializada para o item sendo precificado - B09.01a05", IF(COUNTIFS(I20:I24,I21,L20:L24,"=Mídia especializada")>1,"Erro: há repetição de empresa de mídia especializada para o item sendo precificado - B09.01a05", IF(COUNTIFS(I20:I24,I22,L20:L24,"=Mídia especializada")>1,"Erro: há repetição de empresa de mídia especializada para o item sendo precificado - B09.01a05", IF(COUNTIFS(I20:I24,I23,L20:L24,"=Mídia especializada")>1,"Erro: há repetição de empresa de mídia especializada para o item sendo precificado - B09.01a05", IF(COUNTIFS(I20:I24,I24,L20:L24,"=Mídia especializada")>1,"Erro: há repetição de empresa de mídia especializada para o item sendo precificado - B09.01a05", "***"))))) -> *** | W20: =IF(COUNTIFS(I20:I24,I20,L20:L24,"=Orçamento de empresa")>1,"Erro: há repetição de empresa de orçamento de empresa para o item sendo precificado - B10.01a05", IF(COUNTIFS(I20:I24,I21,L20:L24,"=Orçamento de empresa")>1,"Erro: há repetição de empresa de orçamento de empresa para o item sendo precificado - B10.01a05", IF(COUNTIFS(I20:I24,I22,L20:L24,"=Orçamento de empresa")>1,"Erro: há repetição de empresa de orçamento de empresa para o item sendo precificado - B10.01a05", IF(COUNTIFS(I20:I24,I23,L20:L24,"=Orçamento de empresa")>1,"Erro: há repetição de empresa de orçamento de empresa para o item sendo precificado - B10.01a05", IF(COUNTIFS(I20:I24,I24,L20:L24,"=Orçamento de empresa")>1,"Erro: há repetição de empresa de orçamento de empresa para o item sendo precificado - B10.01a05", "***"))))) -> *** | X20: =IF(AND(I20="Compras governamentais",K20<>"",L20="Orçamento de empresa"),"Erro: a fonte de preços informada é incompatível com compras governamentais - B11.01a05", IF(AND(I21="Compras governamentais",K21<>"",L21="Orçamento de empresa"),"Erro: a fonte de preços informada é incompatível com compras governamentais - B11.01a05", IF(AND(I22="Compras governamentais",K22<>"",L22="Orçamento de empresa"),"Erro: a fonte de preços informada é incompatível com compras governamentais - B11.01a05", IF(AND(I23="Compras governamentais",K23<>"",L23="Orçamento de empresa"),"Erro: a fonte de preços informada é incompatível com compras governamentais - B11.01a05", IF(AND(I24="Compras governamentais",K24<>"",L24="Orçamento de empresa"),"Erro: a fonte de preços informada é incompatível com compras governamentais - B11.01a05", "***"))))) -> *** | Y20: =IF(AND(I20="Compras governamentais",K20<>"",L20="Mídia especializada"),"Erro: a fonte de preços informada é incompatível com compras governamentais - B12.01a05", IF(AND(I21="Compras governamentais",K21<>"",L21="Mídia especializada"),"Erro: a fonte de preços informada é incompatível com compras governamentais - B12.01a05", IF(AND(I22="Compras governamentais",K22<>"",L22="Mídia especializada"),"Erro: a fonte de preços informada é incompatível com compras governamentais - B12.01a05", IF(AND(I23="Compras governamentais",K23<>"",L23="Mídia especializada"),"Erro: a fonte de preços informada é incompatível com compras governamentais - B12.01a05", IF(AND(I24="Compras governamentais",K24<>"",L24="Mídia especializada"),"Erro: a fonte de preços informada é incompatível com compras governamentais - B12.01a05", "***"))))) -> *** | Z20: =IF(AND(I21<>"",OR(I20="")),"Erro: há linhas sendo puladas - B13.01a04", IF(AND(I22<>"",OR(I20="",I21="")),"Erro: há linhas sendo puladas - B13.01a04", IF(AND(I23<>"",OR(I20="",I21="",I22="")),"Erro: há linhas sendo puladas - B13.01a04", IF(AND(I24<>"",OR(I20="",I21="",I22="",I23="")),"Erro: há linhas sendo puladas - B13.01a04", "***")))) -> *** | AA20: =IF(AND(K21<>"",OR(K20="")),"Erro: há linhas sendo puladas - B14.01a05", IF(AND(K22<>"",OR(K20="",K21="")),"Erro: há linhas sendo puladas - B14.01a05", IF(AND(K23<>"",OR(K20="",K21="",K22="")),"Erro: há linhas sendo puladas - B14.01a05", IF(AND(K24<>"",OR(K20="",K21="",K22="",K23="")),"Erro: há linhas sendo puladas - B14.01a05", "***")))) -> *** | AB20: =IF(AND(L21<>"",OR(L20="")),"Erro: há linhas sendo puladas - B15.01a05", IF(AND(L22<>"",OR(L20="",L21="")),"Erro: há linhas sendo puladas - B15.01a05", IF(AND(L23<>"",OR(L20="",L21="",L22="")),"Erro: há linhas sendo puladas - B15.01a05", IF(AND(L24<>"",OR(L20="",L21="",L22="",L23="")),"Erro: há linhas sendo puladas - B15.01a05", "***")))) -> *** | AC20: =IF(AND(M21<>"",OR(M20="")),"Erro: há linhas sendo puladas - B16.01a05", IF(AND(M22<>"",OR(M20="",M21="")),"Erro: há linhas sendo puladas - B16.01a05", IF(AND(M23<>"",OR(M20="",M21="",M22="")),"Erro: há linhas sendo puladas - B16.01a05", IF(AND(M24<>"",OR(M20="",M21="",M22="",M23="")),"Erro: há linhas sendo puladas - B16.01a05", "***")))) -> *** | AD20: =IF(T20<>"Preenchimento correto","", IF(K20="","", IF(M20="Não válido","", K20)))
H21: 2 | J21: =IF(I21="","", VLOOKUP(I21,'BD EMPRES'!$B$8:$C$507,2,FALSE)) | AD21: =IF(T20<>"Preenchimento correto","", IF(K21="","", IF(M21="Não válido","", K21)))
H22: 3 | J22: =IF(I22="","", VLOOKUP(I22,'BD EMPRES'!$B$8:$C$507,2,FALSE)) | AD22: =IF(T20<>"Preenchimento correto","", IF(K22="","", IF(M22="Não válido","", K22)))
H23: 4 | J23: =IF(I23="","", VLOOKUP(I23,'BD EMPRES'!$B$8:$C$507,2,FALSE)) | AD23: =IF(T20<>"Preenchimento correto","", IF(K23="","", IF(M23="Não válido","", K23)))
H24: 5 | J24: =IF(I24="","", VLOOKUP(I24,'BD EMPRES'!$B$8:$C$507,2,FALSE)) | AD24: =IF(T20>"Preenchimento correto","", IF(K24="","", IF(M24="Não válido","", K24)))
B25: =IF(OR('BD ITEM'!$Q15<>"Preenchimento correto"),"",'BD ITEM'!B15) | C25: =IF(OR('BD ITEM'!$Q15<>"Preenchimento correto"),"",'BD ITEM'!C15) | D25: =IF(OR('BD ITEM'!$Q15<>"Preenchimento correto"),"",'BD ITEM'!D15) | E25: =IF(OR('BD ITEM'!$Q15<>"Preenchimento correto"),"",'BD ITEM'!J15) | F25: =IF(OR('BD ITEM'!$Q15<>"Preenchimento correto"),"",'BD ITEM'!K15) | G25: =IF(OR('BD ITEM'!$Q15<>"Preenchimento correto"),"",'BD ITEM'!L15) | H25: 1 | J25: =IF(I25="","", VLOOKUP(I25,'BD EMPRES'!$B$8:$C$507,2,FALSE)) | P25: =IF(AND(K25="",K26="",K27="",K28="",K29=""),"", COUNTIFS(K25:K29,"<>""",M25:M29,"=Válido")) | Q25: =IF(T25<>"Preenchimento correto","", IF(P25=1,0, IF(P25=0,"", IF(P25="","", ROUND(_xlfn.STDEV.S(AD25:AD29)/AVERAGE(AD25:AD29),4))))) | R25: =IF(T25<>"Preenchimento correto","", IF(P25="","", IF(P25=0,"", IF(O25="","", IF(O25="Menor valor",MIN(AD25:AD29), IF(AND(O25="Tend. central",Q25<=0.25),ROUND(AVERAGE(AD25:AD29),2), IF(AND(O25="Tend. central",Q25>0.25),ROUND(MEDIAN(AD25:AD29),2)))))))) | S25: =IF(T25<>"Preenchimento correto","", IF(O25="","", IF(P25="","", IF(P25=0,"", IF(OR(G25="",R25=""),"", G25*R25))))) | T25: =IF(AND(A25="",B25="",I25="",I26="",I27="",I28="",I29="",K25="",K26="",K27="",K28="",K29="",L25="",L26="",L27="",L28="",L29="",M25="",M26="",M27="",M28="",M29="",O25=""),"", IF(A25="","Preenchimento incompleto: falta informar o ID SEC - B01.01", IF(AND(A25<>"",B25<>"",I25="",I26="",I27="",I28="",I29="",K25="",K26="",K27="",K28="",K29="",L25="",L26="",L27="",L28="",L29="",M25="",M26="",M27="",M28="",M29="",O25=""),"Preenchimento incompleto: item sem nenhuma informação de empresa e preço e fonte de preço e validade do orçamento e modalidade de cálculo - B02.01", IF(AND(B25="",OR(I25<>"",I26<>"",I27<>"",I28<>"",I29<>"",K25<>"",K26<>"",K27<>"",K28<>"",K29<>"",L25<>"",L26<>"",L27<>"",L28<>"",L29<>"",M25<>"",M26<>"",M27<>"",M28<>"",M29<>"",O25<>"")),"Erro: há empresa(s) e/ou preço(s) e/ou fonte(s) de preço e/ou validade(s) do orçamento e/ou modalidade de cálculo informados para item inexistente - B03.01", IF(AND(I25<>"",OR(K25="",L25="",M25="",O25="")),"Preenchimento incompleto: empresa sem preço e(ou) fonte de preço e(ou) validade do orçamento e(ou) modalidade de cálculo associados - B04.01", IF(AND(I26<>"",OR(K26="",L26="",M26="",O25="")),"Preenchimento incompleto: empresa sem preço e(ou) fonte de preço e(ou) validade do orçamento e(ou) modalidade de cálculo associados - B04.02", IF(AND(I27<>"",OR(K27="",L27="",M27="",O25="")),"Preenchimento incompleto: empresa sem preço e(ou) fonte de preço e(ou) validade do orçamento e(ou) modalidade de cálculo associados - B04.03", IF(AND(I28<>"",OR(K28="",L28="",M28="",O25="")),"Preenchimento incompleto: empresa sem preço e(ou) fonte de preço e(ou) validade do orçamento e(ou) modalidade de cálculo associados - B04.04", IF(AND(I29<>"",OR(K29="",L29="",M29="",O25="")),"Preenchimento incompleto: empresa sem preço e(ou) fonte de preço e(ou) validade do orçamento e(ou) modalidade de cálculo associados - B04.05", IF(AND(K25<>"",OR(I25="",L25="",M25="",O25="")),"Preenchimento incompleto: preço sem empresa e(ou) fonte do preço associados e(ou) validade do orçamento e(ou) modalidade de cálculo associados - B05.01", IF(AND(K26<>"",OR(I26="",L26="",M26="",O25="")),"Preenchimento incompleto: preço sem empresa e(ou) fonte do preço associados e(ou) validade do orçamento e(ou) modalidade de cálculo associados - B05.02", IF(AND(K27<>"",OR(I27="",L27="",M27="",O25="")),"Preenchimento incompleto: preço sem empresa e(ou) fonte do preço associados e(ou) validade do orçamento e(ou) modalidade de cálculo associados - B05.03", IF(AND(K28<>"",OR(I28="",L28="",M28="",O25="")),"Preenchimento incompleto: preço sem empresa e(ou) fonte do preço associados e(ou) validade do orçamento e(ou) modalidade de cálculo associados - B05.04", IF(AND(K29<>"",OR(I29="",L29="",M29="",O25="")),"Preenchimento incompleto: preço sem empresa e(ou) fonte do preço associados e(ou) validade do orçamento e(ou) modalidade de cálculo associados - B05.05", IF(AND(L25<>"",OR(K25="",I25="",M25="",O25="")),"Preenchimento incompleto: fonte do preço sem empresa e(ou) preço associados e(ou) validade do orçamento e(ou) modalidade de cálculo associados - B06.01", IF(AND(L26<>"",OR(K26="",I26="",M26="",O25="")),"Preenchimento incompleto: fonte do preço sem empresa e(ou) preço associados e(ou) validade do orçamento e(ou) modalidade de cálculo associados - B06.02", IF(AND(L27<>"",OR(K27="",I27="",M27="",O25="")),"Preenchimento incompleto: fonte do preço sem empresa e(ou) preço associados e(ou) validade do orçamento e(ou) modalidade de cálculo associados - B06.03", IF(AND(L28<>"",OR(K28="",I28="",M28="",O25="")),"Preenchimento incompleto: fonte do preço sem empresa e(ou) preço associados e(ou) validade do orçamento e(ou) modalidade de cálculo associados - B06.04", IF(AND(L29<>"",OR(K29="",I29="",M29="",O25="")),"Preenchimento incompleto: fonte do preço sem empresa e(ou) preço associados e(ou) validade do orçamento e(ou) modalidade de cálculo associados - B06.05", IF(AND(M25<>"",OR(K25="",I25="",L25="",O25="")),"Preenchimento incompleto: validade do orçamento sem empresa e(ou) preço associados e(ou) fonte do preço e(ou) modalidade de cálculo associados - B07.01", IF(AND(M26<>"",OR(K26="",I26="",L26="",O25="")),"Preenchimento incompleto: validade do orçamento sem empresa e(ou) preço associados e(ou) fonte do preço e(ou) modalidade de cálculo associados - B07.02", IF(AND(M27<>"",OR(K27="",I27="",L27="",O25="")),"Preenchimento incompleto: validade do orçamento sem empresa e(ou) preço associados e(ou) fonte do preço e(ou) modalidade de cálculo associados - B07.03", IF(AND(M28<>"",OR(K28="",I28="",L28="",O25="")),"Preenchimento incompleto: validade do orçamento sem empresa e(ou) preço associados e(ou) fonte do preço e(ou) modalidade de cálculo associados - B07.04", IF(AND(M29<>"",OR(K29="",I29="",L29="",O25="")),"Preenchimento incompleto: validade do orçamento sem empresa e(ou) preço associados e(ou) fonte do preço e(ou) modalidade de cálculo associados - B07.05", IF(O25="","Preenchimento incompleto: modalidade de cálculo não informada - B08.01", IF(V25="Erro: há repetição de empresa de mídia especializada para o item sendo precificado - B09.01a05","Erro: há repetição de empresa de mídia especializada para o item sendo precificado - B09.01a05", IF(W25="Erro: há repetição de empresa de orçamento de empresa para o item sendo precificado - B10.01a05","Erro: há repetição de empresa de orçamento de empresa para o item sendo precificado - B10.01a05", IF(X25="Erro: a fonte de preços informada é incompatível com compras governamentais - B11.01a05","Erro: a fonte de preços informada é incompatível com compras governamentais - B11.01a05", IF(Y25="Erro: a fonte de preços informada é incompatível com compras governamentais - B12.01a05","Erro: a fonte de preços informada é incompatível com compras governamentais - B12.01a05", IF(Z25="Erro: há linhas sendo puladas - B13.01a04","Erro: há linhas sendo puladas - B13.01a04", IF(AA25="Erro: há linhas sendo puladas - B14.01a05","Erro: há linhas sendo puladas - B14.01a05", IF(AB25="Erro: há linhas sendo puladas - B15.01a05","Erro: há linhas sendo puladas - B15.01a05", IF(AC25="Erro: há linhas sendo puladas - B16.01a05","Erro: há linhas sendo puladas - B16.01a05", IF(AND(P25<>"",P25=0),"Preenchimento incompleto: número de propostas válidas igual a zero - B17.01", "Preenchimento correto")))))))))))))))))))))))))))))))))) | V25: =IF(COUNTIFS(I25:I29,I25,L25:L29,"=Mídia especializada")>1,"Erro: há repetição de empresa de mídia especializada para o item sendo precificado - B09.01a05", IF(COUNTIFS(I25:I29,I26,L25:L29,"=Mídia especializada")>1,"Erro: há repetição de empresa de mídia especializada para o item sendo precificado - B09.01a05", IF(COUNTIFS(I25:I29,I27,L25:L29,"=Mídia especializada")>1,"Erro: há repetição de empresa de mídia especializada para o item sendo precificado - B09.01a05", IF(COUNTIFS(I25:I29,I28,L25:L29,"=Mídia especializada")>1,"Erro: há repetição de empresa de mídia especializada para o item sendo precificado - B09.01a05", IF(COUNTIFS(I25:I29,I29,L25:L29,"=Mídia especializada")>1,"Erro: há repetição de empresa de mídia especializada para o item sendo precificado - B09.01a05", "***"))))) -> *** | W25: =IF(COUNTIFS(I25:I29,I25,L25:L29,"=Orçamento de empresa")>1,"Erro: há repetição de empresa de orçamento de empresa para o item sendo precificado - B10.01a05", IF(COUNTIFS(I25:I29,I26,L25:L29,"=Orçamento de empresa")>1,"Erro: há repetição de empresa de orçamento de empresa para o item sendo precificado - B10.01a05", IF(COUNTIFS(I25:I29,I27,L25:L29,"=Orçamento de empresa")>1,"Erro: há repetição de empresa de orçamento de empresa para o item sendo precificado - B10.01a05", IF(COUNTIFS(I25:I29,I28,L25:L29,"=Orçamento de empresa")>1,"Erro: há repetição de empresa de orçamento de empresa para o item sendo precificado - B10.01a05", IF(COUNTIFS(I25:I29,I29,L25:L29,"=Orçamento de empresa")>1,"Erro: há repetição de empresa de orçamento de empresa para o item sendo precificado - B10.01a05", "***"))))) -> *** | X25: =IF(AND(I25="Compras governamentais",K25<>"",L25="Orçamento de empresa"),"Erro: a fonte de preços informada é incompatível com compras governamentais - B11.01a05", IF(AND(I26="Compras governamentais",K26<>"",L26="Orçamento de empresa"),"Erro: a fonte de preços informada é incompatível com compras governamentais - B11.01a05", IF(AND(I27="Compras governamentais",K27<>"",L27="Orçamento de empresa"),"Erro: a fonte de preços informada é incompatível com compras governamentais - B11.01a05", IF(AND(I28="Compras governamentais",K28<>"",L28="Orçamento de empresa"),"Erro: a fonte de preços informada é incompatível com compras governamentais - B11.01a05", IF(AND(I29="Compras governamentais",K29<>"",L29="Orçamento de empresa"),"Erro: a fonte de preços informada é incompatível com compras governamentais - B11.01a05", "***"))))) -> *** | Y25: =IF(AND(I25="Compras governamentais",K25<>"",L25="Mídia especializada"),"Erro: a fonte de preços informada é incompatível com compras governamentais - B12.01a05", IF(AND(I26="Compras governamentais",K26<>"",L26="Mídia especializada"),"Erro: a fonte de preços informada é incompatível com compras governamentais - B12.01a05", IF(AND(I27="Compras governamentais",K27<>"",L27="Mídia especializada"),"Erro: a fonte de preços informada é incompatível com compras governamentais - B12.01a05", IF(AND(I28="Compras governamentais",K28<>"",L28="Mídia especializada"),"Erro: a fonte de preços informada é incompatível com compras governamentais - B12.01a05", IF(AND(I29="Compras governamentais",K29<>"",L29="Mídia especializada"),"Erro: a fonte de preços informada é incompatível com compras governamentais - B12.01a05", "***"))))) -> *** | Z25: =IF(AND(I26<>"",OR(I25="")),"Erro: há linhas sendo puladas - B13.01a04", IF(AND(I27<>"",OR(I25="",I26="")),"Erro: há linhas sendo puladas - B13.01a04", IF(AND(I28<>"",OR(I25="",I26="",I27="")),"Erro: há linhas sendo puladas - B13.01a04", IF(AND(I29<>"",OR(I25="",I26="",I27="",I28="")),"Erro: há linhas sendo puladas - B13.01a04", "***")))) -> *** | AA25: =IF(AND(K26<>"",OR(K25="")),"Erro: há linhas sendo puladas - B14.01a05", IF(AND(K27<>"",OR(K25="",K26="")),"Erro: há linhas sendo puladas - B14.01a05", IF(AND(K28<>"",OR(K25="",K26="",K27="")),"Erro: há linhas sendo puladas - B14.01a05", IF(AND(K29<>"",OR(K25="",K26="",K27="",K28="")),"Erro: há linhas sendo puladas - B14.01a05", "***")))) -> *** | AB25: =IF(AND(L26<>"",OR(L25="")),"Erro: há linhas sendo puladas - B15.01a05", IF(AND(L27<>"",OR(L25="",L26="")),"Erro: há linhas sendo puladas - B15.01a05", IF(AND(L28<>"",OR(L25="",L26="",L27="")),"Erro: há linhas sendo puladas - B15.01a05", IF(AND(L29<>"",OR(L25="",L26="",L27="",L28="")),"Erro: há linhas sendo puladas - B15.01a05", "***")))) -> *** | AC25: =IF(AND(M26<>"",OR(M25="")),"Erro: há linhas sendo puladas - B16.01a05", IF(AND(M27<>"",OR(M25="",M26="")),"Erro: há linhas sendo puladas - B16.01a05", IF(AND(M28<>"",OR(M25="",M26="",M27="")),"Erro: há linhas sendo puladas - B16.01a05", IF(AND(M29<>"",OR(M25="",M26="",M27="",M28="")),"Erro: há linhas sendo puladas - B16.01a05", "***")))) -> *** | AD25: =IF(T25<>"Preenchimento correto","", IF(K25="","", IF(M25="Não válido","", K25)))
H26: 2 | J26: =IF(I26="","", VLOOKUP(I26,'BD EMPRES'!$B$8:$C$507,2,FALSE)) | AD26: =IF(T25<>"Preenchimento correto","", IF(K26="","", IF(M26="Não válido","", K26)))
H27: 3 | J27: =IF(I27="","", VLOOKUP(I27,'BD EMPRES'!$B$8:$C$507,2,FALSE)) | AD27: =IF(T25<>"Preenchimento correto","", IF(K27="","", IF(M27="Não válido","", K27)))
H28: 4 | J28: =IF(I28="","", VLOOKUP(I28,'BD EMPRES'!$B$8:$C$507,2,FALSE)) | AD28: =IF(T25<>"Preenchimento correto","", IF(K28="","", IF(M28="Não válido","", K28)))
H29: 5 | J29: =IF(I29="","", VLOOKUP(I29,'BD EMPRES'!$B$8:$C$507,2,FALSE)) | AD29: =IF(T25>"Preenchimento correto","", IF(K29="","", IF(M29="Não válido","", K29)))
B30: =IF(OR('BD ITEM'!$Q16<>"Preenchimento correto"),"",'BD ITEM'!B16) | C30: =IF(OR('BD ITEM'!$Q16<>"Preenchimento correto"),"",'BD ITEM'!C16) | D30: =IF(OR('BD ITEM'!$Q16<>"Preenchimento correto"),"",'BD ITEM'!D16) | E30: =IF(OR('BD ITEM'!$Q16<>"Preenchimento correto"),"",'BD ITEM'!J16) | F30: =IF(OR('BD ITEM'!$Q16<>"Preenchimento correto"),"",'BD ITEM'!K16) | G30: =IF(OR('BD ITEM'!$Q16<>"Preenchimento correto"),"",'BD ITEM'!L16) | H30: 1 | J30: =IF(I30="","", VLOOKUP(I30,'BD EMPRES'!$B$8:$C$507,2,FALSE)) | P30: =IF(AND(K30="",K31="",K32="",K33="",K34=""),"", COUNTIFS(K30:K34,"<>""",M30:M34,"=Válido")) | Q30: =IF(T30<>"Preenchimento correto","", IF(P30=1,0, IF(P30=0,"", IF(P30="","", ROUND(_xlfn.STDEV.S(AD30:AD34)/AVERAGE(AD30:AD34),4))))) | R30: =IF(T30<>"Preenchimento correto","", IF(P30="","", IF(P30=0,"", IF(O30="","", IF(O30="Menor valor",MIN(AD30:AD34), IF(AND(O30="Tend. central",Q30<=0.25),ROUND(AVERAGE(AD30:AD34),2), IF(AND(O30="Tend. central",Q30>0.25),ROUND(MEDIAN(AD30:AD34),2)))))))) | S30: =IF(T30<>"Preenchimento correto","", IF(O30="","", IF(P30="","", IF(P30=0,"", IF(OR(G30="",R30=""),"", G30*R30))))) | T30: =IF(AND(A30="",B30="",I30="",I31="",I32="",I33="",I34="",K30="",K31="",K32="",K33="",K34="",L30="",L31="",L32="",L33="",L34="",M30="",M31="",M32="",M33="",M34="",O30=""),"", IF(A30="","Preenchimento incompleto: falta informar o ID SEC - B01.01", IF(AND(A30<>"",B30<>"",I30="",I31="",I32="",I33="",I34="",K30="",K31="",K32="",K33="",K34="",L30="",L31="",L32="",L33="",L34="",M30="",M31="",M32="",M33="",M34="",O30=""),"Preenchimento incompleto: item sem nenhuma informação de empresa e preço e fonte de preço e validade do orçamento e modalidade de cálculo - B02.01", IF(AND(B30="",OR(I30<>"",I31<>"",I32<>"",I33<>"",I34<>"",K30<>"",K31<>"",K32<>"",K33<>"",K34<>"",L30<>"",L31<>"",L32<>"",L33<>"",L34<>"",M30<>"",M31<>"",M32<>"",M33<>"",M34<>"",O30<>"")),"Erro: há empresa(s) e/ou preço(s) e/ou fonte(s) de preço e/ou validade(s) do orçamento e/ou modalidade de cálculo informados para item inexistente - B03.01", IF(AND(I30<>"",OR(K30="",L30="",M30="",O30="")),"Preenchimento incompleto: empresa sem preço e(ou) fonte de preço e(ou) validade do orçamento e(ou) modalidade de cálculo associados - B04.01", IF(AND(I31<>"",OR(K31="",L31="",M31="",O30="")),"Preenchimento incompleto: empresa sem preço e(ou) fonte de preço e(ou) validade do orçamento e(ou) modalidade de cálculo associados - B04.02", IF(AND(I32<>"",OR(K32="",L32="",M32="",O30="")),"Preenchimento incompleto: empresa sem preço e(ou) fonte de preço e(ou) validade do orçamento e(ou) modalidade de cálculo associados - B04.03", IF(AND(I33<>"",OR(K33="",L33="",M33="",O30="")),"Preenchimento incompleto: empresa sem preço e(ou) fonte de preço e(ou) validade do orçamento e(ou) modalidade de cálculo associados - B04.04", IF(AND(I34<>"",OR(K34="",L34="",M34="",O30="")),"Preenchimento incompleto: empresa sem preço e(ou) fonte de preço e(ou) validade do orçamento e(ou) modalidade de cálculo associados - B04.05", IF(AND(K30<>"",OR(I30="",L30="",M30="",O30="")),"Preenchimento incompleto: preço sem empresa e(ou) fonte do preço associados e(ou) validade do orçamento e(ou) modalidade de cálculo associados - B05.01", IF(AND(K31<>"",OR(I31="",L31="",M31="",O30="")),"Preenchimento incompleto: preço sem empresa e(ou) fonte do preço associados e(ou) validade do orçamento e(ou) modalidade de cálculo associados - B05.02", IF(AND(K32<>"",OR(I32="",L32="",M32="",O30="")),"Preenchimento incompleto: preço sem empresa e(ou) fonte do preço associados e(ou) validade do orçamento e(ou) modalidade de cálculo associados - B05.03", IF(AND(K33<>"",OR(I33="",L33="",M33="",O30="")),"Preenchimento incompleto: preço sem empresa e(ou) fonte do preço associados e(ou) validade do orçamento e(ou) modalidade de cálculo associados - B05.04", IF(AND(K34<>"",OR(I34="",L34="",M34="",O30="")),"Preenchimento incompleto: preço sem empresa e(ou) fonte do preço associados e(ou) validade do orçamento e(ou) modalidade de cálculo associados - B05.05", IF(AND(L30<>"",OR(K30="",I30="",M30="",O30="")),"Preenchimento incompleto: fonte do preço sem empresa e(ou) preço associados e(ou) validade do orçamento e(ou) modalidade de cálculo associados - B06.01", IF(AND(L31<>"",OR(K31="",I31="",M31="",O30="")),"Preenchimento incompleto: fonte do preço sem empresa e(ou) preço associados e(ou) validade do orçamento e(ou) modalidade de cálculo associados - B06.02", IF(AND(L32<>"",OR(K32="",I32="",M32="",O30="")),"Preenchimento incompleto: fonte do preço sem empresa e(ou) preço associados e(ou) validade do orçamento e(ou) modalidade de cálculo associados - B06.03", IF(AND(L33<>"",OR(K33="",I33="",M33="",O30="")),"Preenchimento incompleto: fonte do preço sem empresa e(ou) preço associados e(ou) validade do orçamento e(ou) modalidade de cálculo associados - B06.04", IF(AND(L34<>"",OR(K34="",I34="",M34="",O30="")),"Preenchimento incompleto: fonte do preço sem empresa e(ou) preço associados e(ou) validade do orçamento e(ou) modalidade de cálculo associados - B06.05", IF(AND(M30<>"",OR(K30="",I30="",L30="",O30="")),"Preenchimento incompleto: validade do orçamento sem empresa e(ou) preço associados e(ou) fonte do preço e(ou) modalidade de cálculo associados - B07.01", IF(AND(M31<>"",OR(K31="",I31="",L31="",O30="")),"Preenchimento incompleto: validade do orçamento sem empresa e(ou) preço associados e(ou) fonte do preço e(ou) modalidade de cálculo associados - B07.02", IF(AND(M32<>"",OR(K32="",I32="",L32="",O30="")),"Preenchimento incompleto: validade do orçamento sem empresa e(ou) preço associados e(ou) fonte do preço e(ou) modalidade de cálculo associados - B07.03", IF(AND(M33<>"",OR(K33="",I33="",L33="",O30="")),"Preenchimento incompleto: validade do orçamento sem empresa e(ou) preço associados e(ou) fonte do preço e(ou) modalidade de cálculo associados - B07.04", IF(AND(M34<>"",OR(K34="",I34="",L34="",O30="")),"Preenchimento incompleto: validade do orçamento sem empresa e(ou) preço associados e(ou) fonte do preço e(ou) modalidade de cálculo associados - B07.05", IF(O30="","Preenchimento incompleto: modalidade de cálculo não informada - B08.01", IF(V30="Erro: há repetição de empresa de mídia especializada para o item sendo precificado - B09.01a05","Erro: há repetição de empresa de mídia especializada para o item sendo precificado - B09.01a05", IF(W30="Erro: há repetição de empresa de orçamento de empresa para o item sendo precificado - B10.01a05","Erro: há repetição de empresa de orçamento de empresa para o item sendo precificado - B10.01a05", IF(X30="Erro: a fonte de preços informada é incompatível com compras governamentais - B11.01a05","Erro: a fonte de preços informada é incompatível com compras governamentais - B11.01a05", IF(Y30="Erro: a fonte de preços informada é incompatível com compras governamentais - B12.01a05","Erro: a fonte de preços informada é incompatível com compras governamentais - B12.01a05", IF(Z30="Erro: há linhas sendo puladas - B13.01a04","Erro: há linhas sendo puladas - B13.01a04", IF(AA30="Erro: há linhas sendo puladas - B14.01a05","Erro: há linhas sendo puladas - B14.01a05", IF(AB30="Erro: há linhas sendo puladas - B15.01a05","Erro: há linhas sendo puladas - B15.01a05", IF(AC30="Erro: há linhas sendo puladas - B16.01a05","Erro: há linhas sendo puladas - B16.01a05", IF(AND(P30<>"",P30=0),"Preenchimento incompleto: número de propostas válidas igual a zero - B17.01", "Preenchimento correto")))))))))))))))))))))))))))))))))) | V30: =IF(COUNTIFS(I30:I34,I30,L30:L34,"=Mídia especializada")>1,"Erro: há repetição de empresa de mídia especializada para o item sendo precificado - B09.01a05", IF(COUNTIFS(I30:I34,I31,L30:L34,"=Mídia especializada")>1,"Erro: há repetição de empresa de mídia especializada para o item sendo precificado - B09.01a05", IF(COUNTIFS(I30:I34,I32,L30:L34,"=Mídia especializada")>1,"Erro: há repetição de empresa de mídia especializada para o item sendo precificado - B09.01a05", IF(COUNTIFS(I30:I34,I33,L30:L34,"=Mídia especializada")>1,"Erro: há repetição de empresa de mídia especializada para o item sendo precificado - B09.01a05", IF(COUNTIFS(I30:I34,I34,L30:L34,"=Mídia especializada")>1,"Erro: há repetição de empresa de mídia especializada para o item sendo precificado - B09.01a05", "***"))))) -> *** | W30: =IF(COUNTIFS(I30:I34,I30,L30:L34,"=Orçamento de empresa")>1,"Erro: há repetição de empresa de orçamento de empresa para o item sendo precificado - B10.01a05", IF(COUNTIFS(I30:I34,I31,L30:L34,"=Orçamento de empresa")>1,"Erro: há repetição de empresa de orçamento de empresa para o item sendo precificado - B10.01a05", IF(COUNTIFS(I30:I34,I32,L30:L34,"=Orçamento de empresa")>1,"Erro: há repetição de empresa de orçamento de empresa para o item sendo precificado - B10.01a05", IF(COUNTIFS(I30:I34,I33,L30:L34,"=Orçamento de empresa")>1,"Erro: há repetição de empresa de orçamento de empresa para o item sendo precificado - B10.01a05", IF(COUNTIFS(I30:I34,I34,L30:L34,"=Orçamento de empresa")>1,"Erro: há repetição de empresa de orçamento de empresa para o item sendo precificado - B10.01a05", "***"))))) -> *** | X30: =IF(AND(I30="Compras governamentais",K30<>"",L30="Orçamento de empresa"),"Erro: a fonte de preços informada é incompatível com compras governamentais - B11.01a05", IF(AND(I31="Compras governamentais",K31<>"",L31="Orçamento de empresa"),"Erro: a fonte de preços informada é incompatível com compras governamentais - B11.01a05", IF(AND(I32="Compras governamentais",K32<>"",L32="Orçamento de empresa"),"Erro: a fonte de preços informada é incompatível com compras governamentais - B11.01a05", IF(AND(I33="Compras governamentais",K33<>"",L33="Orçamento de empresa"),"Erro: a fonte de preços informada é incompatível com compras governamentais - B11.01a05", IF(AND(I34="Compras governamentais",K34<>"",L34="Orçamento de empresa"),"Erro: a fonte de preços informada é incompatível com compras governamentais - B11.01a05", "***"))))) -> *** | Y30: =IF(AND(I30="Compras governamentais",K30<>"",L30="Mídia especializada"),"Erro: a fonte de preços informada é incompatível com compras governamentais - B12.01a05", IF(AND(I31="Compras governamentais",K31<>"",L31="Mídia especializada"),"Erro: a fonte de preços informada é incompatível com compras governamentais - B12.01a05", IF(AND(I32="Compras governamentais",K32<>"",L32="Mídia especializada"),"Erro: a fonte de preços informada é incompatível com compras governamentais - B12.01a05", IF(AND(I33="Compras governamentais",K33<>"",L33="Mídia especializada"),"Erro: a fonte de preços informada é incompatível com compras governamentais - B12.01a05", IF(AND(I34="Compras governamentais",K34<>"",L34="Mídia especializada"),"Erro: a fonte de preços informada é incompatível com compras governamentais - B12.01a05", "***"))))) -> *** | Z30: =IF(AND(I31<>"",OR(I30="")),"Erro: há linhas sendo puladas - B13.01a04", IF(AND(I32<>"",OR(I30="",I31="")),"Erro: há linhas sendo puladas - B13.01a04", IF(AND(I33<>"",OR(I30="",I31="",I32="")),"Erro: há linhas sendo puladas - B13.01a04", IF(AND(I34<>"",OR(I30="",I31="",I32="",I33="")),"Erro: há linhas sendo puladas - B13.01a04", "***")))) -> *** | AA30: =IF(AND(K31<>"",OR(K30="")),"Erro: há linhas sendo puladas - B14.01a05", IF(AND(K32<>"",OR(K30="",K31="")),"Erro: há linhas sendo puladas - B14.01a05", IF(AND(K33<>"",OR(K30="",K31="",K32="")),"Erro: há linhas sendo puladas - B14.01a05", IF(AND(K34<>"",OR(K30="",K31="",K32="",K33="")),"Erro: há linhas sendo puladas - B14.01a05", "***")))) -> *** | AB30: =IF(AND(L31<>"",OR(L30="")),"Erro: há linhas sendo puladas - B15.01a05", IF(AND(L32<>"",OR(L30="",L31="")),"Erro: há linhas sendo puladas - B15.01a05", IF(AND(L33<>"",OR(L30="",L31="",L32="")),"Erro: há linhas sendo puladas - B15.01a05", IF(AND(L34<>"",OR(L30="",L31="",L32="",L33="")),"Erro: há linhas sendo puladas - B15.01a05", "***")))) -> *** | AC30: =IF(AND(M31<>"",OR(M30="")),"Erro: há linhas sendo puladas - B16.01a05", IF(AND(M32<>"",OR(M30="",M31="")),"Erro: há linhas sendo puladas - B16.01a05", IF(AND(M33<>"",OR(M30="",M31="",M32="")),"Erro: há linhas sendo puladas - B16.01a05", IF(AND(M34<>"",OR(M30="",M31="",M32="",M33="")),"Erro: há linhas sendo puladas - B16.01a05", "***")))) -> *** | AD30: =IF(T30<>"Preenchimento correto","", IF(K30="","", IF(M30="Não válido","", K30)))
H31: 2 | J31: =IF(I31="","", VLOOKUP(I31,'BD EMPRES'!$B$8:$C$507,2,FALSE)) | AD31: =IF(T30<>"Preenchimento correto","", IF(K31="","", IF(M31="Não válido","", K31)))
H32: 3 | J32: =IF(I32="","", VLOOKUP(I32,'BD EMPRES'!$B$8:$C$507,2,FALSE)) | AD32: =IF(T30<>"Preenchimento correto","", IF(K32="","", IF(M32="Não válido","", K32)))
H33: 4 | J33: =IF(I33="","", VLOOKUP(I33,'BD EMPRES'!$B$8:$C$507,2,FALSE)) | AD33: =IF(T30<>"Preenchimento correto","", IF(K33="","", IF(M33="Não válido","", K33)))
H34: 5 | J34: =IF(I34="","", VLOOKUP(I34,'BD EMPRES'!$B$8:$C$507,2,FALSE)) | AD34: =IF(T30>"Preenchimento correto","", IF(K34="","", IF(M34="Não válido","", K34)))
B35: =IF(OR('BD ITEM'!$Q17<>"Preenchimento correto"),"",'BD ITEM'!B17) | C35: =IF(OR('BD ITEM'!$Q17<>"Preenchimento correto"),"",'BD ITEM'!C17) | D35: =IF(OR('BD ITEM'!$Q17<>"Preenchimento correto"),"",'BD ITEM'!D17) | E35: =IF(OR('BD ITEM'!$Q17<>"Preenchimento correto"),"",'BD ITEM'!J17) | F35: =IF(OR('BD ITEM'!$Q17<>"Preenchimento correto"),"",'BD ITEM'!K17) | G35: =IF(OR('BD ITEM'!$Q17<>"Preenchimento correto"),"",'BD ITEM'!L17) | H35: 1 | J35: =IF(I35="","", VLOOKUP(I35,'BD EMPRES'!$B$8:$C$507,2,FALSE)) | P35: =IF(AND(K35="",K36="",K37="",K38="",K39=""),"", COUNTIFS(K35:K39,"<>""",M35:M39,"=Válido")) | Q35: =IF(T35<>"Preenchimento correto","", IF(P35=1,0, IF(P35=0,"", IF(P35="","", ROUND(_xlfn.STDEV.S(AD35:AD39)/AVERAGE(AD35:AD39),4))))) | R35: =IF(T35<>"Preenchimento correto","", IF(P35="","", IF(P35=0,"", IF(O35="","", IF(O35="Menor valor",MIN(AD35:AD39), IF(AND(O35="Tend. central",Q35<=0.25),ROUND(AVERAGE(AD35:AD39),2), IF(AND(O35="Tend. central",Q35>0.25),ROUND(MEDIAN(AD35:AD39),2)))))))) | S35: =IF(T35<>"Preenchimento correto","", IF(O35="","", IF(P35="","", IF(P35=0,"", IF(OR(G35="",R35=""),"", G35*R35))))) | T35: =IF(AND(A35="",B35="",I35="",I36="",I37="",I38="",I39="",K35="",K36="",K37="",K38="",K39="",L35="",L36="",L37="",L38="",L39="",M35="",M36="",M37="",M38="",M39="",O35=""),"", IF(A35="","Preenchimento incompleto: falta informar o ID SEC - B01.01", IF(AND(A35<>"",B35<>"",I35="",I36="",I37="",I38="",I39="",K35="",K36="",K37="",K38="",K39="",L35="",L36="",L37="",L38="",L39="",M35="",M36="",M37="",M38="",M39="",O35=""),"Preenchimento incompleto: item sem nenhuma informação de empresa e preço e fonte de preço e validade do orçamento e modalidade de cálculo - B02.01", IF(AND(B35="",OR(I35<>"",I36<>"",I37<>"",I38<>"",I39<>"",K35<>"",K36<>"",K37<>"",K38<>"",K39<>"",L35<>"",L36<>"",L37<>"",L38<>"",L39<>"",M35<>"",M36<>"",M37<>"",M38<>"",M39<>"",O35<>"")),"Erro: há empresa(s) e/ou preço(s) e/ou fonte(s) de preço e/ou validade(s) do orçamento e/ou modalidade de cálculo informados para item inexistente - B03.01", IF(AND(I35<>"",OR(K35="",L35="",M35="",O35="")),"Preenchimento incompleto: empresa sem preço e(ou) fonte de preço e(ou) validade do orçamento e(ou) modalidade de cálculo associados - B04.01", IF(AND(I36<>"",OR(K36="",L36="",M36="",O35="")),"Preenchimento incompleto: empresa sem preço e(ou) fonte de preço e(ou) validade do orçamento e(ou) modalidade de cálculo associados - B04.02", IF(AND(I37<>"",OR(K37="",L37="",M37="",O35="")),"Preenchimento incompleto: empresa sem preço e(ou) fonte de preço e(ou) validade do orçamento e(ou) modalidade de cálculo associados - B04.03", IF(AND(I38<>"",OR(K38="",L38="",M38="",O35="")),"Preenchimento incompleto: empresa sem preço e(ou) fonte de preço e(ou) validade do orçamento e(ou) modalidade de cálculo associados - B04.04", IF(AND(I39<>"",OR(K39="",L39="",M39="",O35="")),"Preenchimento incompleto: empresa sem preço e(ou) fonte de preço e(ou) validade do orçamento e(ou) modalidade de cálculo associados - B04.05", IF(AND(K35<>"",OR(I35="",L35="",M35="",O35="")),"Preenchimento incompleto: preço sem empresa e(ou) fonte do preço associados e(ou) validade do orçamento e(ou) modalidade de cálculo associados - B05.01", IF(AND(K36<>"",OR(I36="",L36="",M36="",O35="")),"Preenchimento incompleto: preço sem empresa e(ou) fonte do preço associados e(ou) validade do orçamento e(ou) modalidade de cálculo associados - B05.02", IF(AND(K37<>"",OR(I37="",L37="",M37="",O35="")),"Preenchimento incompleto: preço sem empresa e(ou) fonte do preço associados e(ou) validade do orçamento e(ou) modalidade de cálculo associados - B05.03", IF(AND(K38<>"",OR(I38="",L38="",M38="",O35="")),"Preenchimento incompleto: preço sem empresa e(ou) fonte do preço associados e(ou) validade do orçamento e(ou) modalidade de cálculo associados - B05.04", IF(AND(K39<>"",OR(I39="",L39="",M39="",O35="")),"Preenchimento incompleto: preço sem empresa e(ou) fonte do preço associados e(ou) validade do orçamento e(ou) modalidade de cálculo associados - B05.05", IF(AND(L35<>"",OR(K35="",I35="",M35="",O35="")),"Preenchimento incompleto: fonte do preço sem empresa e(ou) preço associados e(ou) validade do orçamento e(ou) modalidade de cálculo associados - B06.01", IF(AND(L36<>"",OR(K36="",I36="",M36="",O35="")),"Preenchimento incompleto: fonte do preço sem empresa e(ou) preço associados e(ou) validade do orçamento e(ou) modalidade de cálculo associados - B06.02", IF(AND(L37<>"",OR(K37="",I37="",M37="",O35="")),"Preenchimento incompleto: fonte do preço sem empresa e(ou) preço associados e(ou) validade do orçamento e(ou) modalidade de cálculo associados - B06.03", IF(AND(L38<>"",OR(K38="",I38="",M38="",O35="")),"Preenchimento incompleto: fonte do preço sem empresa e(ou) preço associados e(ou) validade do orçamento e(ou) modalidade de cálculo associados - B06.04", IF(AND(L39<>"",OR(K39="",I39="",M39="",O35="")),"Preenchimento incompleto: fonte do preço sem empresa e(ou) preço associados e(ou) validade do orçamento e(ou) modalidade de cálculo associados - B06.05", IF(AND(M35<>"",OR(K35="",I35="",L35="",O35="")),"Preenchimento incompleto: validade do orçamento sem empresa e(ou) preço associados e(ou) fonte do preço e(ou) modalidade de cálculo associados - B07.01", IF(AND(M36<>"",OR(K36="",I36="",L36="",O35="")),"Preenchimento incompleto: validade do orçamento sem empresa e(ou) preço associados e(ou) fonte do preço e(ou) modalidade de cálculo associados - B07.02", IF(AND(M37<>"",OR(K37="",I37="",L37="",O35="")),"Preenchimento incompleto: validade do orçamento sem empresa e(ou) preço associados e(ou) fonte do preço e(ou) modalidade de cálculo associados - B07.03", IF(AND(M38<>"",OR(K38="",I38="",L38="",O35="")),"Preenchimento incompleto: validade do orçamento sem empresa e(ou) preço associados e(ou) fonte do preço e(ou) modalidade de cálculo associados - B07.04", IF(AND(M39<>"",OR(K39="",I39="",L39="",O35="")),"Preenchimento incompleto: validade do orçamento sem empresa e(ou) preço associados e(ou) fonte do preço e(ou) modalidade de cálculo associados - B07.05", IF(O35="","Preenchimento incompleto: modalidade de cálculo não informada - B08.01", IF(V35="Erro: há repetição de empresa de mídia especializada para o item sendo precificado - B09.01a05","Erro: há repetição de empresa de mídia especializada para o item sendo precificado - B09.01a05", IF(W35="Erro: há repetição de empresa de orçamento de empresa para o item sendo precificado - B10.01a05","Erro: há repetição de empresa de orçamento de empresa para o item sendo precificado - B10.01a05", IF(X35="Erro: a fonte de preços informada é incompatível com compras governamentais - B11.01a05","Erro: a fonte de preços informada é incompatível com compras governamentais - B11.01a05", IF(Y35="Erro: a fonte de preços informada é incompatível com compras governamentais - B12.01a05","Erro: a fonte de preços informada é incompatível com compras governamentais - B12.01a05", IF(Z35="Erro: há linhas sendo puladas - B13.01a04","Erro: há linhas sendo puladas - B13.01a04", IF(AA35="Erro: há linhas sendo puladas - B14.01a05","Erro: há linhas sendo puladas - B14.01a05", IF(AB35="Erro: há linhas sendo puladas - B15.01a05","Erro: há linhas sendo puladas - B15.01a05", IF(AC35="Erro: há linhas sendo puladas - B16.01a05","Erro: há linhas sendo puladas - B16.01a05", IF(AND(P35<>"",P35=0),"Preenchimento incompleto: número de propostas válidas igual a zero - B17.01", "Preenchimento correto")))))))))))))))))))))))))))))))))) | V35: =IF(COUNTIFS(I35:I39,I35,L35:L39,"=Mídia especializada")>1,"Erro: há repetição de empresa de mídia especializada para o item sendo precificado - B09.01a05", IF(COUNTIFS(I35:I39,I36,L35:L39,"=Mídia especializada")>1,"Erro: há repetição de empresa de mídia especializada para o item sendo precificado - B09.01a05", IF(COUNTIFS(I35:I39,I37,L35:L39,"=Mídia especializada")>1,"Erro: há repetição de empresa de mídia especializada para o item sendo precificado - B09.01a05", IF(COUNTIFS(I35:I39,I38,L35:L39,"=Mídia especializada")>1,"Erro: há repetição de empresa de mídia especializada para o item sendo precificado - B09.01a05", IF(COUNTIFS(I35:I39,I39,L35:L39,"=Mídia especializada")>1,"Erro: há repetição de empresa de mídia especializada para o item sendo precificado - B09.01a05", "***"))))) -> *** | W35: =IF(COUNTIFS(I35:I39,I35,L35:L39,"=Orçamento de empresa")>1,"Erro: há repetição de empresa de orçamento de empresa para o item sendo precificado - B10.01a05", IF(COUNTIFS(I35:I39,I36,L35:L39,"=Orçamento de empresa")>1,"Erro: há repetição de empresa de orçamento de empresa para o item sendo precificado - B10.01a05", IF(COUNTIFS(I35:I39,I37,L35:L39,"=Orçamento de empresa")>1,"Erro: há repetição de empresa de orçamento de empresa para o item sendo precificado - B10.01a05", IF(COUNTIFS(I35:I39,I38,L35:L39,"=Orçamento de empresa")>1,"Erro: há repetição de empresa de orçamento de empresa para o item sendo precificado - B10.01a05", IF(COUNTIFS(I35:I39,I39,L35:L39,"=Orçamento de empresa")>1,"Erro: há repetição de empresa de orçamento de empresa para o item sendo precificado - B10.01a05", "***"))))) -> *** | X35: =IF(AND(I35="Compras governamentais",K35<>"",L35="Orçamento de empresa"),"Erro: a fonte de preços informada é incompatível com compras governamentais - B11.01a05", IF(AND(I36="Compras governamentais",K36<>"",L36="Orçamento de empresa"),"Erro: a fonte de preços informada é incompatível com compras governamentais - B11.01a05", IF(AND(I37="Compras governamentais",K37<>"",L37="Orçamento de empresa"),"Erro: a fonte de preços informada é incompatível com compras governamentais - B11.01a05", IF(AND(I38="Compras governamentais",K38<>"",L38="Orçamento de empresa"),"Erro: a fonte de preços informada é incompatível com compras governamentais - B11.01a05", IF(AND(I39="Compras governamentais",K39<>"",L39="Orçamento de empresa"),"Erro: a fonte de preços informada é incompatível com compras governamentais - B11.01a05", "***"))))) -> *** | Y35: =IF(AND(I35="Compras governamentais",K35<>"",L35="Mídia especializada"),"Erro: a fonte de preços informada é incompatível com compras governamentais - B12.01a05", IF(AND(I36="Compras governamentais",K36<>"",L36="Mídia especializada"),"Erro: a fonte de preços informada é incompatível com compras governamentais - B12.01a05", IF(AND(I37="Compras governamentais",K37<>"",L37="Mídia especializada"),"Erro: a fonte de preços informada é incompatível com compras governamentais - B12.01a05", IF(AND(I38="Compras governamentais",K38<>"",L38="Mídia especializada"),"Erro: a fonte de preços informada é incompatível com compras governamentais - B12.01a05", IF(AND(I39="Compras governamentais",K39<>"",L39="Mídia especializada"),"Erro: a fonte de preços informada é incompatível com compras governamentais - B12.01a05", "***"))))) -> *** | Z35: =IF(AND(I36<>"",OR(I35="")),"Erro: há linhas sendo puladas - B13.01a04", IF(AND(I37<>"",OR(I35="",I36="")),"Erro: há linhas sendo puladas - B13.01a04", IF(AND(I38<>"",OR(I35="",I36="",I37="")),"Erro: há linhas sendo puladas - B13.01a04", IF(AND(I39<>"",OR(I35="",I36="",I37="",I38="")),"Erro: há linhas sendo puladas - B13.01a04", "***")))) -> *** | AA35: =IF(AND(K36<>"",OR(K35="")),"Erro: há linhas sendo puladas - B14.01a05", IF(AND(K37<>"",OR(K35="",K36="")),"Erro: há linhas sendo puladas - B14.01a05", IF(AND(K38<>"",OR(K35="",K36="",K37="")),"Erro: há linhas sendo puladas - B14.01a05", IF(AND(K39<>"",OR(K35="",K36="",K37="",K38="")),"Erro: há linhas sendo puladas - B14.01a05", "***")))) -> *** | AB35: =IF(AND(L36<>"",OR(L35="")),"Erro: há linhas sendo puladas - B15.01a05", IF(AND(L37<>"",OR(L35="",L36="")),"Erro: há linhas sendo puladas - B15.01a05", IF(AND(L38<>"",OR(L35="",L36="",L37="")),"Erro: há linhas sendo puladas - B15.01a05", IF(AND(L39<>"",OR(L35="",L36="",L37="",L38="")),"Erro: há linhas sendo puladas - B15.01a05", "***")))) -> *** | AC35: =IF(AND(M36<>"",OR(M35="")),"Erro: há linhas sendo puladas - B16.01a05", IF(AND(M37<>"",OR(M35="",M36="")),"Erro: há linhas sendo puladas - B16.01a05", IF(AND(M38<>"",OR(M35="",M36="",M37="")),"Erro: há linhas sendo puladas - B16.01a05", IF(AND(M39<>"",OR(M35="",M36="",M37="",M38="")),"Erro: há linhas sendo puladas - B16.01a05", "***")))) -> *** | AD35: =IF(T35<>"Preenchimento correto","", IF(K35="","", IF(M35="Não válido","", K35)))
H36: 2 | J36: =IF(I36="","", VLOOKUP(I36,'BD EMPRES'!$B$8:$C$507,2,FALSE)) | AD36: =IF(T35<>"Preenchimento correto","", IF(K36="","", IF(M36="Não válido","", K36)))
H37: 3 | J37: =IF(I37="","", VLOOKUP(I37,'BD EMPRES'!$B$8:$C$507,2,FALSE)) | AD37: =IF(T35<>"Preenchimento correto","", IF(K37="","", IF(M37="Não válido","", K37)))
H38: 4 | J38: =IF(I38="","", VLOOKUP(I38,'BD EMPRES'!$B$8:$C$507,2,FALSE)) | AD38: =IF(T35<>"Preenchimento correto","", IF(K38="","", IF(M38="Não válido","", K38)))
H39: 5 | J39: =IF(I39="","", VLOOKUP(I39,'BD EMPRES'!$B$8:$C$507,2,FALSE)) | AD39: =IF(T35>"Preenchimento correto","", IF(K39="","", IF(M39="Não válido","", K39)))
B40: =IF(OR('BD ITEM'!$Q18<>"Preenchimento correto"),"",'BD ITEM'!B18) | C40: =IF(OR('BD ITEM'!$Q18<>"Preenchimento correto"),"",'BD ITEM'!C18) | D40: =IF(OR('BD ITEM'!$Q18<>"Preenchimento correto"),"",'BD ITEM'!D18) | E40: =IF(OR('BD ITEM'!$Q18<>"Preenchimento correto"),"",'BD ITEM'!J18) | F40: =IF(OR('BD ITEM'!$Q18<>"Preenchimento correto"),"",'BD ITEM'!K18) | G40: =IF(OR('BD ITEM'!$Q18<>"Preenchimento correto"),"",'BD ITEM'!L18) | H40: 1 | J40: =IF(I40="","", VLOOKUP(I40,'BD EMPRES'!$B$8:$C$507,2,FALSE)) | P40: =IF(AND(K40="",K41="",K42="",K43="",K44=""),"", COUNTIFS(K40:K44,"<>""",M40:M44,"=Válido")) | Q40: =IF(T40<>"Preenchimento correto","", IF(P40=1,0, IF(P40=0,"", IF(P40="","", ROUND(_xlfn.STDEV.S(AD40:AD44)/AVERAGE(AD40:AD44),4))))) | R40: =IF(T40<>"Preenchimento correto","", IF(P40="","", IF(P40=0,"", IF(O40="","", IF(O40="Menor valor",MIN(AD40:AD44), IF(AND(O40="Tend. central",Q40<=0.25),ROUND(AVERAGE(AD40:AD44),2), IF(AND(O40="Tend. central",Q40>0.25),ROUND(MEDIAN(AD40:AD44),2)))))))) | S40: =IF(T40<>"Preenchimento correto","", IF(O40="","", IF(P40="","", IF(P40=0,"", IF(OR(G40="",R40=""),"", G40*R40))))) | T40: =IF(AND(A40="",B40="",I40="",I41="",I42="",I43="",I44="",K40="",K41="",K42="",K43="",K44="",L40="",L41="",L42="",L43="",L44="",M40="",M41="",M42="",M43="",M44="",O40=""),"", IF(A40="","Preenchimento incompleto: falta informar o ID SEC - B01.01", IF(AND(A40<>"",B40<>"",I40="",I41="",I42="",I43="",I44="",K40="",K41="",K42="",K43="",K44="",L40="",L41="",L42="",L43="",L44="",M40="",M41="",M42="",M43="",M44="",O40=""),"Preenchimento incompleto: item sem nenhuma informação de empresa e preço e fonte de preço e validade do orçamento e modalidade de cálculo - B02.01", IF(AND(B40="",OR(I40<>"",I41<>"",I42<>"",I43<>"",I44<>"",K40<>"",K41<>"",K42<>"",K43<>"",K44<>"",L40<>"",L41<>"",L42<>"",L43<>"",L44<>"",M40<>"",M41<>"",M42<>"",M43<>"",M44<>"",O40<>"")),"Erro: há empresa(s) e/ou preço(s) e/ou fonte(s) de preço e/ou validade(s) do orçamento e/ou modalidade de cálculo informados para item inexistente - B03.01", IF(AND(I40<>"",OR(K40="",L40="",M40="",O40="")),"Preenchimento incompleto: empresa sem preço e(ou) fonte de preço e(ou) validade do orçamento e(ou) modalidade de cálculo associados - B04.01", IF(AND(I41<>"",OR(K41="",L41="",M41="",O40="")),"Preenchimento incompleto: empresa sem preço e(ou) fonte de preço e(ou) validade do orçamento e(ou) modalidade de cálculo associados - B04.02", IF(AND(I42<>"",OR(K42="",L42="",M42="",O40="")),"Preenchimento incompleto: empresa sem preço e(ou) fonte de preço e(ou) validade do orçamento e(ou) modalidade de cálculo associados - B04.03", IF(AND(I43<>"",OR(K43="",L43="",M43="",O40="")),"Preenchimento incompleto: empresa sem preço e(ou) fonte de preço e(ou) validade do orçamento e(ou) modalidade de cálculo associados - B04.04", IF(AND(I44<>"",OR(K44="",L44="",M44="",O40="")),"Preenchimento incompleto: empresa sem preço e(ou) fonte de preço e(ou) validade do orçamento e(ou) modalidade de cálculo associados - B04.05", IF(AND(K40<>"",OR(I40="",L40="",M40="",O40="")),"Preenchimento incompleto: preço sem empresa e(ou) fonte do preço associados e(ou) validade do orçamento e(ou) modalidade de cálculo associados - B05.01", IF(AND(K41<>"",OR(I41="",L41="",M41="",O40="")),"Preenchimento incompleto: preço sem empresa e(ou) fonte do preço associados e(ou) validade do orçamento e(ou) modalidade de cálculo associados - B05.02", IF(AND(K42<>"",OR(I42="",L42="",M42="",O40="")),"Preenchimento incompleto: preço sem empresa e(ou) fonte do preço associados e(ou) validade do orçamento e(ou) modalidade de cálculo associados - B05.03", IF(AND(K43<>"",OR(I43="",L43="",M43="",O40="")),"Preenchimento incompleto: preço sem empresa e(ou) fonte do preço associados e(ou) validade do orçamento e(ou) modalidade de cálculo associados - B05.04", IF(AND(K44<>"",OR(I44="",L44="",M44="",O40="")),"Preenchimento incompleto: preço sem empresa e(ou) fonte do preço associados e(ou) validade do orçamento e(ou) modalidade de cálculo associados - B05.05", IF(AND(L40<>"",OR(K40="",I40="",M40="",O40="")),"Preenchimento incompleto: fonte do preço sem empresa e(ou) preço associados e(ou) validade do orçamento e(ou) modalidade de cálculo associados - B06.01", IF(AND(L41<>"",OR(K41="",I41="",M41="",O40="")),"Preenchimento incompleto: fonte do preço sem empresa e(ou) preço associados e(ou) validade do orçamento e(ou) modalidade de cálculo associados - B06.02", IF(AND(L42<>"",OR(K42="",I42="",M42="",O40="")),"Preenchimento incompleto: fonte do preço sem empresa e(ou) preço associados e(ou) validade do orçamento e(ou) modalidade de cálculo associados - B06.03", IF(AND(L43<>"",OR(K43="",I43="",M43="",O40="")),"Preenchimento incompleto: fonte do preço sem empresa e(ou) preço associados e(ou) validade do orçamento e(ou) modalidade de cálculo associados - B06.04", IF(AND(L44<>"",OR(K44="",I44="",M44="",O40="")),"Preenchimento incompleto: fonte do preço sem empresa e(ou) preço associados e(ou) validade do orçamento e(ou) modalidade de cálculo associados - B06.05", IF(AND(M40<>"",OR(K40="",I40="",L40="",O40="")),"Preenchimento incompleto: validade do orçamento sem empresa e(ou) preço associados e(ou) fonte do preço e(ou) modalidade de cálculo associados - B07.01", IF(AND(M41<>"",OR(K41="",I41="",L41="",O40="")),"Preenchimento incompleto: validade do orçamento sem empresa e(ou) preço associados e(ou) fonte do preço e(ou) modalidade de cálculo associados - B07.02", IF(AND(M42<>"",OR(K42="",I42="",L42="",O40="")),"Preenchimento incompleto: validade do orçamento sem empresa e(ou) preço associados e(ou) fonte do preço e(ou) modalidade de cálculo associados - B07.03", IF(AND(M43<>"",OR(K43="",I43="",L43="",O40="")),"Preenchimento incompleto: validade do orçamento sem empresa e(ou) preço associados e(ou) fonte do preço e(ou) modalidade de cálculo associados - B07.04", IF(AND(M44<>"",OR(K44="",I44="",L44="",O40="")),"Preenchimento incompleto: validade do orçamento sem empresa e(ou) preço associados e(ou) fonte do preço e(ou) modalidade de cálculo associados - B07.05", IF(O40="","Preenchimento incompleto: modalidade de cálculo não informada - B08.01", IF(V40="Erro: há repetição de empresa de mídia especializada para o item sendo precificado - B09.01a05","Erro: há repetição de empresa de mídia especializada para o item sendo precificado - B09.01a05", IF(W40="Erro: há repetição de empresa de orçamento de empresa para o item sendo precificado - B10.01a05","Erro: há repetição de empresa de orçamento de empresa para o item sendo precificado - B10.01a05", IF(X40="Erro: a fonte de preços informada é incompatível com compras governamentais - B11.01a05","Erro: a fonte de preços informada é incompatível com compras governamentais - B11.01a05", IF(Y40="Erro: a fonte de preços informada é incompatível com compras governamentais - B12.01a05","Erro: a fonte de preços informada é incompatível com compras governamentais - B12.01a05", IF(Z40="Erro: há linhas sendo puladas - B13.01a04","Erro: há linhas sendo puladas - B13.01a04", IF(AA40="Erro: há linhas sendo puladas - B14.01a05","Erro: há linhas sendo puladas - B14.01a05", IF(AB40="Erro: há linhas sendo puladas - B15.01a05","Erro: há linhas sendo puladas - B15.01a05", IF(AC40="Erro: há linhas sendo puladas - B16.01a05","Erro: há linhas sendo puladas - B16.01a05", IF(AND(P40<>"",P40=0),"Preenchimento incompleto: número de propostas válidas igual a zero - B17.01", "Preenchimento correto")))))))))))))))))))))))))))))))))) | V40: =IF(COUNTIFS(I40:I44,I40,L40:L44,"=Mídia especializada")>1,"Erro: há repetição de empresa de mídia especializada para o item sendo precificado - B09.01a05", IF(COUNTIFS(I40:I44,I41,L40:L44,"=Mídia especializada")>1,"Erro: há repetição de empresa de mídia especializada para o item sendo precificado - B09.01a05", IF(COUNTIFS(I40:I44,I42,L40:L44,"=Mídia especializada")>1,"Erro: há repetição de empresa de mídia especializada para o item sendo precificado - B09.01a05", IF(COUNTIFS(I40:I44,I43,L40:L44,"=Mídia especializada")>1,"Erro: há repetição de empresa de mídia especializada para o item sendo precificado - B09.01a05", IF(COUNTIFS(I40:I44,I44,L40:L44,"=Mídia especializada")>1,"Erro: há repetição de empresa de mídia especializada para o item sendo precificado - B09.01a05", "***"))))) -> *** | W40: =IF(COUNTIFS(I40:I44,I40,L40:L44,"=Orçamento de empresa")>1,"Erro: há repetição de empresa de orçamento de empresa para o item sendo precificado - B10.01a05", IF(COUNTIFS(I40:I44,I41,L40:L44,"=Orçamento de empresa")>1,"Erro: há repetição de empresa de orçamento de empresa para o item sendo precificado - B10.01a05", IF(COUNTIFS(I40:I44,I42,L40:L44,"=Orçamento de empresa")>1,"Erro: há repetição de empresa de orçamento de empresa para o item sendo precificado - B10.01a05", IF(COUNTIFS(I40:I44,I43,L40:L44,"=Orçamento de empresa")>1,"Erro: há repetição de empresa de orçamento de empresa para o item sendo precificado - B10.01a05", IF(COUNTIFS(I40:I44,I44,L40:L44,"=Orçamento de empresa")>1,"Erro: há repetição de empresa de orçamento de empresa para o item sendo precificado - B10.01a05", "***"))))) -> *** | X40: =IF(AND(I40="Compras governamentais",K40<>"",L40="Orçamento de empresa"),"Erro: a fonte de preços informada é incompatível com compras governamentais - B11.01a05", IF(AND(I41="Compras governamentais",K41<>"",L41="Orçamento de empresa"),"Erro: a fonte de preços informada é incompatível com compras governamentais - B11.01a05", IF(AND(I42="Compras governamentais",K42<>"",L42="Orçamento de empresa"),"Erro: a fonte de preços informada é incompatível com compras governamentais - B11.01a05", IF(AND(I43="Compras governamentais",K43<>"",L43="Orçamento de empresa"),"Erro: a fonte de preços informada é incompatível com compras governamentais - B11.01a05", IF(AND(I44="Compras governamentais",K44<>"",L44="Orçamento de empresa"),"Erro: a fonte de preços informada é incompatível com compras governamentais - B11.01a05", "***"))))) -> *** | Y40: =IF(AND(I40="Compras governamentais",K40<>"",L40="Mídia especializada"),"Erro: a fonte de preços informada é incompatível com compras governamentais - B12.01a05", IF(AND(I41="Compras governamentais",K41<>"",L41="Mídia especializada"),"Erro: a fonte de preços informada é incompatível com compras governamentais - B12.01a05", IF(AND(I42="Compras governamentais",K42<>"",L42="Mídia especializada"),"Erro: a fonte de preços informada é incompatível com compras governamentais - B12.01a05", IF(AND(I43="Compras governamentais",K43<>"",L43="Mídia especializada"),"Erro: a fonte de preços informada é incompatível com compras governamentais - B12.01a05", IF(AND(I44="Compras governamentais",K44<>"",L44="Mídia especializada"),"Erro: a fonte de preços informada é incompatível com compras governamentais - B12.01a05", "***"))))) -> *** | Z40: =IF(AND(I41<>"",OR(I40="")),"Erro: há linhas sendo puladas - B13.01a04", IF(AND(I42<>"",OR(I40="",I41="")),"Erro: há linhas sendo puladas - B13.01a04", IF(AND(I43<>"",OR(I40="",I41="",I42="")),"Erro: há linhas sendo puladas - B13.01a04", IF(AND(I44<>"",OR(I40="",I41="",I42="",I43="")),"Erro: há linhas sendo puladas - B13.01a04", "***")))) -> *** | AA40: =IF(AND(K41<>"",OR(K40="")),"Erro: há linhas sendo puladas - B14.01a05", IF(AND(K42<>"",OR(K40="",K41="")),"Erro: há linhas sendo puladas - B14.01a05", IF(AND(K43<>"",OR(K40="",K41="",K42="")),"Erro: há linhas sendo puladas - B14.01a05", IF(AND(K44<>"",OR(K40="",K41="",K42="",K43="")),"Erro: há linhas sendo puladas - B14.01a05", "***")))) -> *** | AB40: =IF(AND(L41<>"",OR(L40="")),"Erro: há linhas sendo puladas - B15.01a05", IF(AND(L42<>"",OR(L40="",L41="")),"Erro: há linhas sendo puladas - B15.01a05", IF(AND(L43<>"",OR(L40="",L41="",L42="")),"Erro: há linhas sendo puladas - B15.01a05", IF(AND(L44<>"",OR(L40="",L41="",L42="",L43="")),"Erro: há linhas sendo puladas - B15.01a05", "***")))) -> *** | AC40: =IF(AND(M41<>"",OR(M40="")),"Erro: há linhas sendo puladas - B16.01a05", IF(AND(M42<>"",OR(M40="",M41="")),"Erro: há linhas sendo puladas - B16.01a05", IF(AND(M43<>"",OR(M40="",M41="",M42="")),"Erro: há linhas sendo puladas - B16.01a05", IF(AND(M44<>"",OR(M40="",M41="",M42="",M43="")),"Erro: há linhas sendo puladas - B16.01a05", "***")))) -> *** | AD40: =IF(T40<>"Preenchimento correto","", IF(K40="","", IF(M40="Não válido","", K40)))
H41: 2 | J41: =IF(I41="","", VLOOKUP(I41,'BD EMPRES'!$B$8:$C$507,2,FALSE)) | AD41: =IF(T40<>"Preenchimento correto","", IF(K41="","", IF(M41="Não válido","", K41)))
H42: 3 | J42: =IF(I42="","", VLOOKUP(I42,'BD EMPRES'!$B$8:$C$507,2,FALSE)) | AD42: =IF(T40<>"Preenchimento correto","", IF(K42="","", IF(M42="Não válido","", K42)))
H43: 4 | J43: =IF(I43="","", VLOOKUP(I43,'BD EMPRES'!$B$8:$C$507,2,FALSE)) | AD43: =IF(T40<>"Preenchimento correto","", IF(K43="","", IF(M43="Não válido","", K43)))
H44: 5 | J44: =IF(I44="","", VLOOKUP(I44,'BD EMPRES'!$B$8:$C$507,2,FALSE)) | AD44: =IF(T40>"Preenchimento correto","", IF(K44="","", IF(M44="Não válido","", K44)))
B45: =IF(OR('BD ITEM'!$Q19<>"Preenchimento correto"),"",'BD ITEM'!B19) | C45: =IF(OR('BD ITEM'!$Q19<>"Preenchimento correto"),"",'BD ITEM'!C19) | D45: =IF(OR('BD ITEM'!$Q19<>"Preenchimento correto"),"",'BD ITEM'!D19) | E45: =IF(OR('BD ITEM'!$Q19<>"Preenchimento correto"),"",'BD ITEM'!J19) | F45: =IF(OR('BD ITEM'!$Q19<>"Preenchimento correto"),"",'BD ITEM'!K19) | G45: =IF(OR('BD ITEM'!$Q19<>"Preenchimento correto"),"",'BD ITEM'!L19) | H45: 1 | J45: =IF(I45="","", VLOOKUP(I45,'BD EMPRES'!$B$8:$C$507,2,FALSE)) | P45: =IF(AND(K45="",K46="",K47="",K48="",K49=""),"", COUNTIFS(K45:K49,"<>""",M45:M49,"=Válido")) | Q45: =IF(T45<>"Preenchimento correto","", IF(P45=1,0, IF(P45=0,"", IF(P45="","", ROUND(_xlfn.STDEV.S(AD45:AD49)/AVERAGE(AD45:AD49),4))))) | R45: =IF(T45<>"Preenchimento correto","", IF(P45="","", IF(P45=0,"", IF(O45="","", IF(O45="Menor valor",MIN(AD45:AD49), IF(AND(O45="Tend. central",Q45<=0.25),ROUND(AVERAGE(AD45:AD49),2), IF(AND(O45="Tend. central",Q45>0.25),ROUND(MEDIAN(AD45:AD49),2)))))))) | S45: =IF(T45<>"Preenchimento correto","", IF(O45="","", IF(P45="","", IF(P45=0,"", IF(OR(G45="",R45=""),"", G45*R45))))) | T45: =IF(AND(A45="",B45="",I45="",I46="",I47="",I48="",I49="",K45="",K46="",K47="",K48="",K49="",L45="",L46="",L47="",L48="",L49="",M45="",M46="",M47="",M48="",M49="",O45=""),"", IF(A45="","Preenchimento incompleto: falta informar o ID SEC - B01.01", IF(AND(A45<>"",B45<>"",I45="",I46="",I47="",I48="",I49="",K45="",K46="",K47="",K48="",K49="",L45="",L46="",L47="",L48="",L49="",M45="",M46="",M47="",M48="",M49="",O45=""),"Preenchimento incompleto: item sem nenhuma informação de empresa e preço e fonte de preço e validade do orçamento e modalidade de cálculo - B02.01", IF(AND(B45="",OR(I45<>"",I46<>"",I47<>"",I48<>"",I49<>"",K45<>"",K46<>"",K47<>"",K48<>"",K49<>"",L45<>"",L46<>"",L47<>"",L48<>"",L49<>"",M45<>"",M46<>"",M47<>"",M48<>"",M49<>"",O45<>"")),"Erro: há empresa(s) e/ou preço(s) e/ou fonte(s) de preço e/ou validade(s) do orçamento e/ou modalidade de cálculo informados para item inexistente - B03.01", IF(AND(I45<>"",OR(K45="",L45="",M45="",O45="")),"Preenchimento incompleto: empresa sem preço e(ou) fonte de preço e(ou) validade do orçamento e(ou) modalidade de cálculo associados - B04.01", IF(AND(I46<>"",OR(K46="",L46="",M46="",O45="")),"Preenchimento incompleto: empresa sem preço e(ou) fonte de preço e(ou) validade do orçamento e(ou) modalidade de cálculo associados - B04.02", IF(AND(I47<>"",OR(K47="",L47="",M47="",O45="")),"Preenchimento incompleto: empresa sem preço e(ou) fonte de preço e(ou) validade do orçamento e(ou) modalidade de cálculo associados - B04.03", IF(AND(I48<>"",OR(K48="",L48="",M48="",O45="")),"Preenchimento incompleto: empresa sem preço e(ou) fonte de preço e(ou) validade do orçamento e(ou) modalidade de cálculo associados - B04.04", IF(AND(I49<>"",OR(K49="",L49="",M49="",O45="")),"Preenchimento incompleto: empresa sem preço e(ou) fonte de preço e(ou) validade do orçamento e(ou) modalidade de cálculo associados - B04.05", IF(AND(K45<>"",OR(I45="",L45="",M45="",O45="")),"Preenchimento incompleto: preço sem empresa e(ou) fonte do preço associados e(ou) validade do orçamento e(ou) modalidade de cálculo associados - B05.01", IF(AND(K46<>"",OR(I46="",L46="",M46="",O45="")),"Preenchimento incompleto: preço sem empresa e(ou) fonte do preço associados e(ou) validade do orçamento e(ou) modalidade de cálculo associados - B05.02", IF(AND(K47<>"",OR(I47="",L47="",M47="",O45="")),"Preenchimento incompleto: preço sem empresa e(ou) fonte do preço associados e(ou) validade do orçamento e(ou) modalidade de cálculo associados - B05.03", IF(AND(K48<>"",OR(I48="",L48="",M48="",O45="")),"Preenchimento incompleto: preço sem empresa e(ou) fonte do preço associados e(ou) validade do orçamento e(ou) modalidade de cálculo associados - B05.04", IF(AND(K49<>"",OR(I49="",L49="",M49="",O45="")),"Preenchimento incompleto: preço sem empresa e(ou) fonte do preço associados e(ou) validade do orçamento e(ou) modalidade de cálculo associados - B05.05", IF(AND(L45<>"",OR(K45="",I45="",M45="",O45="")),"Preenchimento incompleto: fonte do preço sem empresa e(ou) preço associados e(ou) validade do orçamento e(ou) modalidade de cálculo associados - B06.01", IF(AND(L46<>"",OR(K46="",I46="",M46="",O45="")),"Preenchimento incompleto: fonte do preço sem empresa e(ou) preço associados e(ou) validade do orçamento e(ou) modalidade de cálculo associados - B06.02", IF(AND(L47<>"",OR(K47="",I47="",M47="",O45="")),"Preenchimento incompleto: fonte do preço sem empresa e(ou) preço associados e(ou) validade do orçamento e(ou) modalidade de cálculo associados - B06.03", IF(AND(L48<>"",OR(K48="",I48="",M48="",O45="")),"Preenchimento incompleto: fonte do preço sem empresa e(ou) preço associados e(ou) validade do orçamento e(ou) modalidade de cálculo associados - B06.04", IF(AND(L49<>"",OR(K49="",I49="",M49="",O45="")),"Preenchimento incompleto: fonte do preço sem empresa e(ou) preço associados e(ou) validade do orçamento e(ou) modalidade de cálculo associados - B06.05", IF(AND(M45<>"",OR(K45="",I45="",L45="",O45="")),"Preenchimento incompleto: validade do orçamento sem empresa e(ou) preço associados e(ou) fonte do preço e(ou) modalidade de cálculo associados - B07.01", IF(AND(M46<>"",OR(K46="",I46="",L46="",O45="")),"Preenchimento incompleto: validade do orçamento sem empresa e(ou) preço associados e(ou) fonte do preço e(ou) modalidade de cálculo associados - B07.02", IF(AND(M47<>"",OR(K47="",I47="",L47="",O45="")),"Preenchimento incompleto: validade do orçamento sem empresa e(ou) preço associados e(ou) fonte do preço e(ou) modalidade de cálculo associados - B07.03", IF(AND(M48<>"",OR(K48="",I48="",L48="",O45="")),"Preenchimento incompleto: validade do orçamento sem empresa e(ou) preço associados e(ou) fonte do preço e(ou) modalidade de cálculo associados - B07.04", IF(AND(M49<>"",OR(K49="",I49="",L49="",O45="")),"Preenchimento incompleto: validade do orçamento sem empresa e(ou) preço associados e(ou) fonte do preço e(ou) modalidade de cálculo associados - B07.05", IF(O45="","Preenchimento incompleto: modalidade de cálculo não informada - B08.01", IF(V45="Erro: há repetição de empresa de mídia especializada para o item sendo precificado - B09.01a05","Erro: há repetição de empresa de mídia especializada para o item sendo precificado - B09.01a05", IF(W45="Erro: há repetição de empresa de orçamento de empresa para o item sendo precificado - B10.01a05","Erro: há repetição de empresa de orçamento de empresa para o item sendo precificado - B10.01a05", IF(X45="Erro: a fonte de preços informada é incompatível com compras governamentais - B11.01a05","Erro: a fonte de preços informada é incompatível com compras governamentais - B11.01a05", IF(Y45="Erro: a fonte de preços informada é incompatível com compras governamentais - B12.01a05","Erro: a fonte de preços informada é incompatível com compras governamentais - B12.01a05", IF(Z45="Erro: há linhas sendo puladas - B13.01a04","Erro: há linhas sendo puladas - B13.01a04", IF(AA45="Erro: há linhas sendo puladas - B14.01a05","Erro: há linhas sendo puladas - B14.01a05", IF(AB45="Erro: há linhas sendo puladas - B15.01a05","Erro: há linhas sendo puladas - B15.01a05", IF(AC45="Erro: há linhas sendo puladas - B16.01a05","Erro: há linhas sendo puladas - B16.01a05", IF(AND(P45<>"",P45=0),"Preenchimento incompleto: número de propostas válidas igual a zero - B17.01", "Preenchimento correto")))))))))))))))))))))))))))))))))) | V45: =IF(COUNTIFS(I45:I49,I45,L45:L49,"=Mídia especializada")>1,"Erro: há repetição de empresa de mídia especializada para o item sendo precificado - B09.01a05", IF(COUNTIFS(I45:I49,I46,L45:L49,"=Mídia especializada")>1,"Erro: há repetição de empresa de mídia especializada para o item sendo precificado - B09.01a05", IF(COUNTIFS(I45:I49,I47,L45:L49,"=Mídia especializada")>1,"Erro: há repetição de empresa de mídia especializada para o item sendo precificado - B09.01a05", IF(COUNTIFS(I45:I49,I48,L45:L49,"=Mídia especializada")>1,"Erro: há repetição de empresa de mídia especializada para o item sendo precificado - B09.01a05", IF(COUNTIFS(I45:I49,I49,L45:L49,"=Mídia especializada")>1,"Erro: há repetição de empresa de mídia especializada para o item sendo precificado - B09.01a05", "***"))))) -> *** | W45: =IF(COUNTIFS(I45:I49,I45,L45:L49,"=Orçamento de empresa")>1,"Erro: há repetição de empresa de orçamento de empresa para o item sendo precificado - B10.01a05", IF(COUNTIFS(I45:I49,I46,L45:L49,"=Orçamento de empresa")>1,"Erro: há repetição de empresa de orçamento de empresa para o item sendo precificado - B10.01a05", IF(COUNTIFS(I45:I49,I47,L45:L49,"=Orçamento de empresa")>1,"Erro: há repetição de empresa de orçamento de empresa para o item sendo precificado - B10.01a05", IF(COUNTIFS(I45:I49,I48,L45:L49,"=Orçamento de empresa")>1,"Erro: há repetição de empresa de orçamento de empresa para o item sendo precificado - B10.01a05", IF(COUNTIFS(I45:I49,I49,L45:L49,"=Orçamento de empresa")>1,"Erro: há repetição de empresa de orçamento de empresa para o item sendo precificado - B10.01a05", "***"))))) -> *** | X45: =IF(AND(I45="Compras governamentais",K45<>"",L45="Orçamento de empresa"),"Erro: a fonte de preços informada é incompatível com compras governamentais - B11.01a05", IF(AND(I46="Compras governamentais",K46<>"",L46="Orçamento de empresa"),"Erro: a fonte de preços informada é incompatível com compras governamentais - B11.01a05", IF(AND(I47="Compras governamentais",K47<>"",L47="Orçamento de empresa"),"Erro: a fonte de preços informada é incompatível com compras governamentais - B11.01a05", IF(AND(I48="Compras governamentais",K48<>"",L48="Orçamento de empresa"),"Erro: a fonte de preços informada é incompatível com compras governamentais - B11.01a05", IF(AND(I49="Compras governamentais",K49<>"",L49="Orçamento de empresa"),"Erro: a fonte de preços informada é incompatível com compras governamentais - B11.01a05", "***"))))) -> *** | Y45: =IF(AND(I45="Compras governamentais",K45<>"",L45="Mídia especializada"),"Erro: a fonte de preços informada é incompatível com compras governamentais - B12.01a05", IF(AND(I46="Compras governamentais",K46<>"",L46="Mídia especializada"),"Erro: a fonte de preços informada é incompatível com compras governamentais - B12.01a05", IF(AND(I47="Compras governamentais",K47<>"",L47="Mídia especializada"),"Erro: a fonte de preços informada é incompatível com compras governamentais - B12.01a05", IF(AND(I48="Compras governamentais",K48<>"",L48="Mídia especializada"),"Erro: a fonte de preços informada é incompatível com compras governamentais - B12.01a05", IF(AND(I49="Compras governamentais",K49<>"",L49="Mídia especializada"),"Erro: a fonte de preços informada é incompatível com compras governamentais - B12.01a05", "***"))))) -> *** | Z45: =IF(AND(I46<>"",OR(I45="")),"Erro: há linhas sendo puladas - B13.01a04", IF(AND(I47<>"",OR(I45="",I46="")),"Erro: há linhas sendo puladas - B13.01a04", IF(AND(I48<>"",OR(I45="",I46="",I47="")),"Erro: há linhas sendo puladas - B13.01a04", IF(AND(I49<>"",OR(I45="",I46="",I47="",I48="")),"Erro: há linhas sendo puladas - B13.01a04", "***")))) -> *** | AA45: =IF(AND(K46<>"",OR(K45="")),"Erro: há linhas sendo puladas - B14.01a05", IF(AND(K47<>"",OR(K45="",K46="")),"Erro: há linhas sendo puladas - B14.01a05", IF(AND(K48<>"",OR(K45="",K46="",K47="")),"Erro: há linhas sendo puladas - B14.01a05", IF(AND(K49<>"",OR(K45="",K46="",K47="",K48="")),"Erro: há linhas sendo puladas - B14.01a05", "***")))) -> *** | AB45: =IF(AND(L46<>"",OR(L45="")),"Erro: há linhas sendo puladas - B15.01a05", IF(AND(L47<>"",OR(L45="",L46="")),"Erro: há linhas sendo puladas - B15.01a05", IF(AND(L48<>"",OR(L45="",L46="",L47="")),"Erro: há linhas sendo puladas - B15.01a05", IF(AND(L49<>"",OR(L45="",L46="",L47="",L48="")),"Erro: há linhas sendo puladas - B15.01a05", "***")))) -> *** | AC45: =IF(AND(M46<>"",OR(M45="")),"Erro: há linhas sendo puladas - B16.01a05", IF(AND(M47<>"",OR(M45="",M46="")),"Erro: há linhas sendo puladas - B16.01a05", IF(AND(M48<>"",OR(M45="",M46="",M47="")),"Erro: há linhas sendo puladas - B16.01a05", IF(AND(M49<>"",OR(M45="",M46="",M47="",M48="")),"Erro: há linhas sendo puladas - B16.01a05", "***")))) -> *** | AD45: =IF(T45<>"Preenchimento correto","", IF(K45="","", IF(M45="Não válido","", K45)))
H46: 2 | J46: =IF(I46="","", VLOOKUP(I46,'BD EMPRES'!$B$8:$C$507,2,FALSE)) | AD46: =IF(T45<>"Preenchimento correto","", IF(K46="","", IF(M46="Não válido","", K46)))
H47: 3 | J47: =IF(I47="","", VLOOKUP(I47,'BD EMPRES'!$B$8:$C$507,2,FALSE)) | AD47: =IF(T45<>"Preenchimento correto","", IF(K47="","", IF(M47="Não válido","", K47)))
H48: 4 | J48: =IF(I48="","", VLOOKUP(I48,'BD EMPRES'!$B$8:$C$507,2,FALSE)) | AD48: =IF(T45<>"Preenchimento correto","", IF(K48="","", IF(M48="Não válido","", K48)))
H49: 5 | J49: =IF(I49="","", VLOOKUP(I49,'BD EMPRES'!$B$8:$C$507,2,FALSE)) | AD49: =IF(T45>"Preenchimento correto","", IF(K49="","", IF(M49="Não válido","", K49)))
B50: =IF(OR('BD ITEM'!$Q20<>"Preenchimento correto"),"",'BD ITEM'!B20) | C50: =IF(OR('BD ITEM'!$Q20<>"Preenchimento correto"),"",'BD ITEM'!C20) | D50: =IF(OR('BD ITEM'!$Q20<>"Preenchimento correto"),"",'BD ITEM'!D20) | E50: =IF(OR('BD ITEM'!$Q20<>"Preenchimento correto"),"",'BD ITEM'!J20) | F50: =IF(OR('BD ITEM'!$Q20<>"Preenchimento correto"),"",'BD ITEM'!K20) | G50: =IF(OR('BD ITEM'!$Q20<>"Preenchimento correto"),"",'BD ITEM'!L20) | H50: 1 | J50: =IF(I50="","", VLOOKUP(I50,'BD EMPRES'!$B$8:$C$507,2,FALSE)) | P50: =IF(AND(K50="",K51="",K52="",K53="",K54=""),"", COUNTIFS(K50:K54,"<>""",M50:M54,"=Válido")) | Q50: =IF(T50<>"Preenchimento correto","", IF(P50=1,0, IF(P50=0,"", IF(P50="","", ROUND(_xlfn.STDEV.S(AD50:AD54)/AVERAGE(AD50:AD54),4))))) | R50: =IF(T50<>"Preenchimento correto","", IF(P50="","", IF(P50=0,"", IF(O50="","", IF(O50="Menor valor",MIN(AD50:AD54), IF(AND(O50="Tend. central",Q50<=0.25),ROUND(AVERAGE(AD50:AD54),2), IF(AND(O50="Tend. central",Q50>0.25),ROUND(MEDIAN(AD50:AD54),2)))))))) | S50: =IF(T50<>"Preenchimento correto","", IF(O50="","", IF(P50="","", IF(P50=0,"", IF(OR(G50="",R50=""),"", G50*R50))))) | T50: =IF(AND(A50="",B50="",I50="",I51="",I52="",I53="",I54="",K50="",K51="",K52="",K53="",K54="",L50="",L51="",L52="",L53="",L54="",M50="",M51="",M52="",M53="",M54="",O50=""),"", IF(A50="","Preenchimento incompleto: falta informar o ID SEC - B01.01", IF(AND(A50<>"",B50<>"",I50="",I51="",I52="",I53="",I54="",K50="",K51="",K52="",K53="",K54="",L50="",L51="",L52="",L53="",L54="",M50="",M51="",M52="",M53="",M54="",O50=""),"Preenchimento incompleto: item sem nenhuma informação de empresa e preço e fonte de preço e validade do orçamento e modalidade de cálculo - B02.01", IF(AND(B50="",OR(I50<>"",I51<>"",I52<>"",I53<>"",I54<>"",K50<>"",K51<>"",K52<>"",K53<>"",K54<>"",L50<>"",L51<>"",L52<>"",L53<>"",L54<>"",M50<>"",M51<>"",M52<>"",M53<>"",M54<>"",O50<>"")),"Erro: há empresa(s) e/ou preço(s) e/ou fonte(s) de preço e/ou validade(s) do orçamento e/ou modalidade de cálculo informados para item inexistente - B03.01", IF(AND(I50<>"",OR(K50="",L50="",M50="",O50="")),"Preenchimento incompleto: empresa sem preço e(ou) fonte de preço e(ou) validade do orçamento e(ou) modalidade de cálculo associados - B04.01", IF(AND(I51<>"",OR(K51="",L51="",M51="",O50="")),"Preenchimento incompleto: empresa sem preço e(ou) fonte de preço e(ou) validade do orçamento e(ou) modalidade de cálculo associados - B04.02", IF(AND(I52<>"",OR(K52="",L52="",M52="",O50="")),"Preenchimento incompleto: empresa sem preço e(ou) fonte de preço e(ou) validade do orçamento e(ou) modalidade de cálculo associados - B04.03", IF(AND(I53<>"",OR(K53="",L53="",M53="",O50="")),"Preenchimento incompleto: empresa sem preço e(ou) fonte de preço e(ou) validade do orçamento e(ou) modalidade de cálculo associados - B04.04", IF(AND(I54<>"",OR(K54="",L54="",M54="",O50="")),"Preenchimento incompleto: empresa sem preço e(ou) fonte de preço e(ou) validade do orçamento e(ou) modalidade de cálculo associados - B04.05", IF(AND(K50<>"",OR(I50="",L50="",M50="",O50="")),"Preenchimento incompleto: preço sem empresa e(ou) fonte do preço associados e(ou) validade do orçamento e(ou) modalidade de cálculo associados - B05.01", IF(AND(K51<>"",OR(I51="",L51="",M51="",O50="")),"Preenchimento incompleto: preço sem empresa e(ou) fonte do preço associados e(ou) validade do orçamento e(ou) modalidade de cálculo associados - B05.02", IF(AND(K52<>"",OR(I52="",L52="",M52="",O50="")),"Preenchimento incompleto: preço sem empresa e(ou) fonte do preço associados e(ou) validade do orçamento e(ou) modalidade de cálculo associados - B05.03", IF(AND(K53<>"",OR(I53="",L53="",M53="",O50="")),"Preenchimento incompleto: preço sem empresa e(ou) fonte do preço associados e(ou) validade do orçamento e(ou) modalidade de cálculo associados - B05.04", IF(AND(K54<>"",OR(I54="",L54="",M54="",O50="")),"Preenchimento incompleto: preço sem empresa e(ou) fonte do preço associados e(ou) validade do orçamento e(ou) modalidade de cálculo associados - B05.05", IF(AND(L50<>"",OR(K50="",I50="",M50="",O50="")),"Preenchimento incompleto: fonte do preço sem empresa e(ou) preço associados e(ou) validade do orçamento e(ou) modalidade de cálculo associados - B06.01", IF(AND(L51<>"",OR(K51="",I51="",M51="",O50="")),"Preenchimento incompleto: fonte do preço sem empresa e(ou) preço associados e(ou) validade do orçamento e(ou) modalidade de cálculo associados - B06.02", IF(AND(L52<>"",OR(K52="",I52="",M52="",O50="")),"Preenchimento incompleto: fonte do preço sem empresa e(ou) preço associados e(ou) validade do orçamento e(ou) modalidade de cálculo associados - B06.03", IF(AND(L53<>"",OR(K53="",I53="",M53="",O50="")),"Preenchimento incompleto: fonte do preço sem empresa e(ou) preço associados e(ou) validade do orçamento e(ou) modalidade de cálculo associados - B06.04", IF(AND(L54<>"",OR(K54="",I54="",M54="",O50="")),"Preenchimento incompleto: fonte do preço sem empresa e(ou) preço associados e(ou) validade do orçamento e(ou) modalidade de cálculo associados - B06.05", IF(AND(M50<>"",OR(K50="",I50="",L50="",O50="")),"Preenchimento incompleto: validade do orçamento sem empresa e(ou) preço associados e(ou) fonte do preço e(ou) modalidade de cálculo associados - B07.01", IF(AND(M51<>"",OR(K51="",I51="",L51="",O50="")),"Preenchimento incompleto: validade do orçamento sem empresa e(ou) preço associados e(ou) fonte do preço e(ou) modalidade de cálculo associados - B07.02", IF(AND(M52<>"",OR(K52="",I52="",L52="",O50="")),"Preenchimento incompleto: validade do orçamento sem empresa e(ou) preço associados e(ou) fonte do preço e(ou) modalidade de cálculo associados - B07.03", IF(AND(M53<>"",OR(K53="",I53="",L53="",O50="")),"Preenchimento incompleto: validade do orçamento sem empresa e(ou) preço associados e(ou) fonte do preço e(ou) modalidade de cálculo associados - B07.04", IF(AND(M54<>"",OR(K54="",I54="",L54="",O50="")),"Preenchimento incompleto: validade do orçamento sem empresa e(ou) preço associados e(ou) fonte do preço e(ou) modalidade de cálculo associados - B07.05", IF(O50="","Preenchimento incompleto: modalidade de cálculo não informada - B08.01", IF(V50="Erro: há repetição de empresa de mídia especializada para o item sendo precificado - B09.01a05","Erro: há repetição de empresa de mídia especializada para o item sendo precificado - B09.01a05", IF(W50="Erro: há repetição de empresa de orçamento de empresa para o item sendo precificado - B10.01a05","Erro: há repetição de empresa de orçamento de empresa para o item sendo precificado - B10.01a05", IF(X50="Erro: a fonte de preços informada é incompatível com compras governamentais - B11.01a05","Erro: a fonte de preços informada é incompatível com compras governamentais - B11.01a05", IF(Y50="Erro: a fonte de preços informada é incompatível com compras governamentais - B12.01a05","Erro: a fonte de preços informada é incompatível com compras governamentais - B12.01a05", IF(Z50="Erro: há linhas sendo puladas - B13.01a04","Erro: há linhas sendo puladas - B13.01a04", IF(AA50="Erro: há linhas sendo puladas - B14.01a05","Erro: há linhas sendo puladas - B14.01a05", IF(AB50="Erro: há linhas sendo puladas - B15.01a05","Erro: há linhas sendo puladas - B15.01a05", IF(AC50="Erro: há linhas sendo puladas - B16.01a05","Erro: há linhas sendo puladas - B16.01a05", IF(AND(P50<>"",P50=0),"Preenchimento incompleto: número de propostas válidas igual a zero - B17.01", "Preenchimento correto")))))))))))))))))))))))))))))))))) | V50: =IF(COUNTIFS(I50:I54,I50,L50:L54,"=Mídia especializada")>1,"Erro: há repetição de empresa de mídia especializada para o item sendo precificado - B09.01a05", IF(COUNTIFS(I50:I54,I51,L50:L54,"=Mídia especializada")>1,"Erro: há repetição de empresa de mídia especializada para o item sendo precificado - B09.01a05", IF(COUNTIFS(I50:I54,I52,L50:L54,"=Mídia especializada")>1,"Erro: há repetição de empresa de mídia especializada para o item sendo precificado - B09.01a05", IF(COUNTIFS(I50:I54,I53,L50:L54,"=Mídia especializada")>1,"Erro: há repetição de empresa de mídia especializada para o item sendo precificado - B09.01a05", IF(COUNTIFS(I50:I54,I54,L50:L54,"=Mídia especializada")>1,"Erro: há repetição de empresa de mídia especializada para o item sendo precificado - B09.01a05", "***"))))) -> *** | W50: =IF(COUNTIFS(I50:I54,I50,L50:L54,"=Orçamento de empresa")>1,"Erro: há repetição de empresa de orçamento de empresa para o item sendo precificado - B10.01a05", IF(COUNTIFS(I50:I54,I51,L50:L54,"=Orçamento de empresa")>1,"Erro: há repetição de empresa de orçamento de empresa para o item sendo precificado - B10.01a05", IF(COUNTIFS(I50:I54,I52,L50:L54,"=Orçamento de empresa")>1,"Erro: há repetição de empresa de orçamento de empresa para o item sendo precificado - B10.01a05", IF(COUNTIFS(I50:I54,I53,L50:L54,"=Orçamento de empresa")>1,"Erro: há repetição de empresa de orçamento de empresa para o item sendo precificado - B10.01a05", IF(COUNTIFS(I50:I54,I54,L50:L54,"=Orçamento de empresa")>1,"Erro: há repetição de empresa de orçamento de empresa para o item sendo precificado - B10.01a05", "***"))))) -> *** | X50: =IF(AND(I50="Compras governamentais",K50<>"",L50="Orçamento de empresa"),"Erro: a fonte de preços informada é incompatível com compras governamentais - B11.01a05", IF(AND(I51="Compras governamentais",K51<>"",L51="Orçamento de empresa"),"Erro: a fonte de preços informada é incompatível com compras governamentais - B11.01a05", IF(AND(I52="Compras governamentais",K52<>"",L52="Orçamento de empresa"),"Erro: a fonte de preços informada é incompatível com compras governamentais - B11.01a05", IF(AND(I53="Compras governamentais",K53<>"",L53="Orçamento de empresa"),"Erro: a fonte de preços informada é incompatível com compras governamentais - B11.01a05", IF(AND(I54="Compras governamentais",K54<>"",L54="Orçamento de empresa"),"Erro: a fonte de preços informada é incompatível com compras governamentais - B11.01a05", "***"))))) -> *** | Y50: =IF(AND(I50="Compras governamentais",K50<>"",L50="Mídia especializada"),"Erro: a fonte de preços informada é incompatível com compras governamentais - B12.01a05", IF(AND(I51="Compras governamentais",K51<>"",L51="Mídia especializada"),"Erro: a fonte de preços informada é incompatível com compras governamentais - B12.01a05", IF(AND(I52="Compras governamentais",K52<>"",L52="Mídia especializada"),"Erro: a fonte de preços informada é incompatível com compras governamentais - B12.01a05", IF(AND(I53="Compras governamentais",K53<>"",L53="Mídia especializada"),"Erro: a fonte de preços informada é incompatível com compras governamentais - B12.01a05", IF(AND(I54="Compras governamentais",K54<>"",L54="Mídia especializada"),"Erro: a fonte de preços informada é incompatível com compras governamentais - B12.01a05", "***"))))) -> *** | Z50: =IF(AND(I51<>"",OR(I50="")),"Erro: há linhas sendo puladas - B13.01a04", IF(AND(I52<>"",OR(I50="",I51="")),"Erro: há linhas sendo puladas - B13.01a04", IF(AND(I53<>"",OR(I50="",I51="",I52="")),"Erro: há linhas sendo puladas - B13.01a04", IF(AND(I54<>"",OR(I50="",I51="",I52="",I53="")),"Erro: há linhas sendo puladas - B13.01a04", "***")))) -> *** | AA50: =IF(AND(K51<>"",OR(K50="")),"Erro: há linhas sendo puladas - B14.01a05", IF(AND(K52<>"",OR(K50="",K51="")),"Erro: há linhas sendo puladas - B14.01a05", IF(AND(K53<>"",OR(K50="",K51="",K52="")),"Erro: há linhas sendo puladas - B14.01a05", IF(AND(K54<>"",OR(K50="",K51="",K52="",K53="")),"Erro: há linhas sendo puladas - B14.01a05", "***")))) -> *** | AB50: =IF(AND(L51<>"",OR(L50="")),"Erro: há linhas sendo puladas - B15.01a05", IF(AND(L52<>"",OR(L50="",L51="")),"Erro: há linhas sendo puladas - B15.01a05", IF(AND(L53<>"",OR(L50="",L51="",L52="")),"Erro: há linhas sendo puladas - B15.01a05", IF(AND(L54<>"",OR(L50="",L51="",L52="",L53="")),"Erro: há linhas sendo puladas - B15.01a05", "***")))) -> *** | AC50: =IF(AND(M51<>"",OR(M50="")),"Erro: há linhas sendo puladas - B16.01a05", IF(AND(M52<>"",OR(M50="",M51="")),"Erro: há linhas sendo puladas - B16.01a05", IF(AND(M53<>"",OR(M50="",M51="",M52="")),"Erro: há linhas sendo puladas - B16.01a05", IF(AND(M54<>"",OR(M50="",M51="",M52="",M53="")),"Erro: há linhas sendo puladas - B16.01a05", "***")))) -> *** | AD50: =IF(T50<>"Preenchimento correto","", IF(K50="","", IF(M50="Não válido","", K50)))
H51: 2 | J51: =IF(I51="","", VLOOKUP(I51,'BD EMPRES'!$B$8:$C$507,2,FALSE)) | AD51: =IF(T50<>"Preenchimento correto","", IF(K51="","", IF(M51="Não válido","", K51)))
H52: 3 | J52: =IF(I52="","", VLOOKUP(I52,'BD EMPRES'!$B$8:$C$507,2,FALSE)) | AD52: =IF(T50<>"Preenchimento correto","", IF(K52="","", IF(M52="Não válido","", K52)))
H53: 4 | J53: =IF(I53="","", VLOOKUP(I53,'BD EMPRES'!$B$8:$C$507,2,FALSE)) | AD53: =IF(T50<>"Preenchimento correto","", IF(K53="","", IF(M53="Não válido","", K53)))
H54: 5 | J54: =IF(I54="","", VLOOKUP(I54,'BD EMPRES'!$B$8:$C$507,2,FALSE)) | AD54: =IF(T50>"Preenchimento correto","", IF(K54="","", IF(M54="Não válido","", K54)))
B55: =IF(OR('BD ITEM'!$Q21<>"Preenchimento correto"),"",'BD ITEM'!B21) | C55: =IF(OR('BD ITEM'!$Q21<>"Preenchimento correto"),"",'BD ITEM'!C21) | D55: =IF(OR('BD ITEM'!$Q21<>"Preenchimento correto"),"",'BD ITEM'!D21) | E55: =IF(OR('BD ITEM'!$Q21<>"Preenchimento correto"),"",'BD ITEM'!J21) | F55: =IF(OR('BD ITEM'!$Q21<>"Preenchimento correto"),"",'BD ITEM'!K21) | G55: =IF(OR('BD ITEM'!$Q21<>"Preenchimento correto"),"",'BD ITEM'!L21) | H55: 1 | J55: =IF(I55="","", VLOOKUP(I55,'BD EMPRES'!$B$8:$C$507,2,FALSE)) | P55: =IF(AND(K55="",K56="",K57="",K58="",K59=""),"", COUNTIFS(K55:K59,"<>""",M55:M59,"=Válido")) | Q55: =IF(T55<>"Preenchimento correto","", IF(P55=1,0, IF(P55=0,"", IF(P55="","", ROUND(_xlfn.STDEV.S(AD55:AD59)/AVERAGE(AD55:AD59),4))))) | R55: =IF(T55<>"Preenchimento correto","", IF(P55="","", IF(P55=0,"", IF(O55="","", IF(O55="Menor valor",MIN(AD55:AD59), IF(AND(O55="Tend. central",Q55<=0.25),ROUND(AVERAGE(AD55:AD59),2), IF(AND(O55="Tend. central",Q55>0.25),ROUND(MEDIAN(AD55:AD59),2)))))))) | S55: =IF(T55<>"Preenchimento correto","", IF(O55="","", IF(P55="","", IF(P55=0,"", IF(OR(G55="",R55=""),"", G55*R55))))) | T55: =IF(AND(A55="",B55="",I55="",I56="",I57="",I58="",I59="",K55="",K56="",K57="",K58="",K59="",L55="",L56="",L57="",L58="",L59="",M55="",M56="",M57="",M58="",M59="",O55=""),"", IF(A55="","Preenchimento incompleto: falta informar o ID SEC - B01.01", IF(AND(A55<>"",B55<>"",I55="",I56="",I57="",I58="",I59="",K55="",K56="",K57="",K58="",K59="",L55="",L56="",L57="",L58="",L59="",M55="",M56="",M57="",M58="",M59="",O55=""),"Preenchimento incompleto: item sem nenhuma informação de empresa e preço e fonte de preço e validade do orçamento e modalidade de cálculo - B02.01", IF(AND(B55="",OR(I55<>"",I56<>"",I57<>"",I58<>"",I59<>"",K55<>"",K56<>"",K57<>"",K58<>"",K59<>"",L55<>"",L56<>"",L57<>"",L58<>"",L59<>"",M55<>"",M56<>"",M57<>"",M58<>"",M59<>"",O55<>"")),"Erro: há empresa(s) e/ou preço(s) e/ou fonte(s) de preço e/ou validade(s) do orçamento e/ou modalidade de cálculo informados para item inexistente - B03.01", IF(AND(I55<>"",OR(K55="",L55="",M55="",O55="")),"Preenchimento incompleto: empresa sem preço e(ou) fonte de preço e(ou) validade do orçamento e(ou) modalidade de cálculo associados - B04.01", IF(AND(I56<>"",OR(K56="",L56="",M56="",O55="")),"Preenchimento incompleto: empresa sem preço e(ou) fonte de preço e(ou) validade do orçamento e(ou) modalidade de cálculo associados - B04.02", IF(AND(I57<>"",OR(K57="",L57="",M57="",O55="")),"Preenchimento incompleto: empresa sem preço e(ou) fonte de preço e(ou) validade do orçamento e(ou) modalidade de cálculo associados - B04.03", IF(AND(I58<>"",OR(K58="",L58="",M58="",O55="")),"Preenchimento incompleto: empresa sem preço e(ou) fonte de preço e(ou) validade do orçamento e(ou) modalidade de cálculo associados - B04.04", IF(AND(I59<>"",OR(K59="",L59="",M59="",O55="")),"Preenchimento incompleto: empresa sem preço e(ou) fonte de preço e(ou) validade do orçamento e(ou) modalidade de cálculo associados - B04.05", IF(AND(K55<>"",OR(I55="",L55="",M55="",O55="")),"Preenchimento incompleto: preço sem empresa e(ou) fonte do preço associados e(ou) validade do orçamento e(ou) modalidade de cálculo associados - B05.01", IF(AND(K56<>"",OR(I56="",L56="",M56="",O55="")),"Preenchimento incompleto: preço sem empresa e(ou) fonte do preço associados e(ou) validade do orçamento e(ou) modalidade de cálculo associados - B05.02", IF(AND(K57<>"",OR(I57="",L57="",M57="",O55="")),"Preenchimento incompleto: preço sem empresa e(ou) fonte do preço associados e(ou) validade do orçamento e(ou) modalidade de cálculo associados - B05.03", IF(AND(K58<>"",OR(I58="",L58="",M58="",O55="")),"Preenchimento incompleto: preço sem empresa e(ou) fonte do preço associados e(ou) validade do orçamento e(ou) modalidade de cálculo associados - B05.04", IF(AND(K59<>"",OR(I59="",L59="",M59="",O55="")),"Preenchimento incompleto: preço sem empresa e(ou) fonte do preço associados e(ou) validade do orçamento e(ou) modalidade de cálculo associados - B05.05", IF(AND(L55<>"",OR(K55="",I55="",M55="",O55="")),"Preenchimento incompleto: fonte do preço sem empresa e(ou) preço associados e(ou) validade do orçamento e(ou) modalidade de cálculo associados - B06.01", IF(AND(L56<>"",OR(K56="",I56="",M56="",O55="")),"Preenchimento incompleto: fonte do preço sem empresa e(ou) preço associados e(ou) validade do orçamento e(ou) modalidade de cálculo associados - B06.02", IF(AND(L57<>"",OR(K57="",I57="",M57="",O55="")),"Preenchimento incompleto: fonte do preço sem empresa e(ou) preço associados e(ou) validade do orçamento e(ou) modalidade de cálculo associados - B06.03", IF(AND(L58<>"",OR(K58="",I58="",M58="",O55="")),"Preenchimento incompleto: fonte do preço sem empresa e(ou) preço associados e(ou) validade do orçamento e(ou) modalidade de cálculo associados - B06.04", IF(AND(L59<>"",OR(K59="",I59="",M59="",O55="")),"Preenchimento incompleto: fonte do preço sem empresa e(ou) preço associados e(ou) validade do orçamento e(ou) modalidade de cálculo associados - B06.05", IF(AND(M55<>"",OR(K55="",I55="",L55="",O55="")),"Preenchimento incompleto: validade do orçamento sem empresa e(ou) preço associados e(ou) fonte do preço e(ou) modalidade de cálculo associados - B07.01", IF(AND(M56<>"",OR(K56="",I56="",L56="",O55="")),"Preenchimento incompleto: validade do orçamento sem empresa e(ou) preço associados e(ou) fonte do preço e(ou) modalidade de cálculo associados - B07.02", IF(AND(M57<>"",OR(K57="",I57="",L57="",O55="")),"Preenchimento incompleto: validade do orçamento sem empresa e(ou) preço associados e(ou) fonte do preço e(ou) modalidade de cálculo associados - B07.03", IF(AND(M58<>"",OR(K58="",I58="",L58="",O55="")),"Preenchimento incompleto: validade do orçamento sem empresa e(ou) preço associados e(ou) fonte do preço e(ou) modalidade de cálculo associados - B07.04", IF(AND(M59<>"",OR(K59="",I59="",L59="",O55="")),"Preenchimento incompleto: validade do orçamento sem empresa e(ou) preço associados e(ou) fonte do preço e(ou) modalidade de cálculo associados - B07.05", IF(O55="","Preenchimento incompleto: modalidade de cálculo não informada - B08.01", IF(V55="Erro: há repetição de empresa de mídia especializada para o item sendo precificado - B09.01a05","Erro: há repetição de empresa de mídia especializada para o item sendo precificado - B09.01a05", IF(W55="Erro: há repetição de empresa de orçamento de empresa para o item sendo precificado - B10.01a05","Erro: há repetição de empresa de orçamento de empresa para o item sendo precificado - B10.01a05", IF(X55="Erro: a fonte de preços informada é incompatível com compras governamentais - B11.01a05","Erro: a fonte de preços informada é incompatível com compras governamentais - B11.01a05", IF(Y55="Erro: a fonte de preços informada é incompatível com compras governamentais - B12.01a05","Erro: a fonte de preços informada é incompatível com compras governamentais - B12.01a05", IF(Z55="Erro: há linhas sendo puladas - B13.01a04","Erro: há linhas sendo puladas - B13.01a04", IF(AA55="Erro: há linhas sendo puladas - B14.01a05","Erro: há linhas sendo puladas - B14.01a05", IF(AB55="Erro: há linhas sendo puladas - B15.01a05","Erro: há linhas sendo puladas - B15.01a05", IF(AC55="Erro: há linhas sendo puladas - B16.01a05","Erro: há linhas sendo puladas - B16.01a05", IF(AND(P55<>"",P55=0),"Preenchimento incompleto: número de propostas válidas igual a zero - B17.01", "Preenchimento correto")))))))))))))))))))))))))))))))))) | V55: =IF(COUNTIFS(I55:I59,I55,L55:L59,"=Mídia especializada")>1,"Erro: há repetição de empresa de mídia especializada para o item sendo precificado - B09.01a05", IF(COUNTIFS(I55:I59,I56,L55:L59,"=Mídia especializada")>1,"Erro: há repetição de empresa de mídia especializada para o item sendo precificado - B09.01a05", IF(COUNTIFS(I55:I59,I57,L55:L59,"=Mídia especializada")>1,"Erro: há repetição de empresa de mídia especializada para o item sendo precificado - B09.01a05", IF(COUNTIFS(I55:I59,I58,L55:L59,"=Mídia especializada")>1,"Erro: há repetição de empresa de mídia especializada para o item sendo precificado - B09.01a05", IF(COUNTIFS(I55:I59,I59,L55:L59,"=Mídia especializada")>1,"Erro: há repetição de empresa de mídia especializada para o item sendo precificado - B09.01a05", "***"))))) -> *** | W55: =IF(COUNTIFS(I55:I59,I55,L55:L59,"=Orçamento de empresa")>1,"Erro: há repetição de empresa de orçamento de empresa para o item sendo precificado - B10.01a05", IF(COUNTIFS(I55:I59,I56,L55:L59,"=Orçamento de empresa")>1,"Erro: há repetição de empresa de orçamento de empresa para o item sendo precificado - B10.01a05", IF(COUNTIFS(I55:I59,I57,L55:L59,"=Orçamento de empresa")>1,"Erro: há repetição de empresa de orçamento de empresa para o item sendo precificado - B10.01a05", IF(COUNTIFS(I55:I59,I58,L55:L59,"=Orçamento de empresa")>1,"Erro: há repetição de empresa de orçamento de empresa para o item sendo precificado - B10.01a05", IF(COUNTIFS(I55:I59,I59,L55:L59,"=Orçamento de empresa")>1,"Erro: há repetição de empresa de orçamento de empresa para o item sendo precificado - B10.01a05", "***"))))) -> *** | X55: =IF(AND(I55="Compras governamentais",K55<>"",L55="Orçamento de empresa"),"Erro: a fonte de preços informada é incompatível com compras governamentais - B11.01a05", IF(AND(I56="Compras governamentais",K56<>"",L56="Orçamento de empresa"),"Erro: a fonte de preços informada é incompatível com compras governamentais - B11.01a05", IF(AND(I57="Compras governamentais",K57<>"",L57="Orçamento de empresa"),"Erro: a fonte de preços informada é incompatível com compras governamentais - B11.01a05", IF(AND(I58="Compras governamentais",K58<>"",L58="Orçamento de empresa"),"Erro: a fonte de preços informada é incompatível com compras governamentais - B11.01a05", IF(AND(I59="Compras governamentais",K59<>"",L59="Orçamento de empresa"),"Erro: a fonte de preços informada é incompatível com compras governamentais - B11.01a05", "***"))))) -> *** | Y55: =IF(AND(I55="Compras governamentais",K55<>"",L55="Mídia especializada"),"Erro: a fonte de preços informada é incompatível com compras governamentais - B12.01a05", IF(AND(I56="Compras governamentais",K56<>"",L56="Mídia especializada"),"Erro: a fonte de preços informada é incompatível com compras governamentais - B12.01a05", IF(AND(I57="Compras governamentais",K57<>"",L57="Mídia especializada"),"Erro: a fonte de preços informada é incompatível com compras governamentais - B12.01a05", IF(AND(I58="Compras governamentais",K58<>"",L58="Mídia especializada"),"Erro: a fonte de preços informada é incompatível com compras governamentais - B12.01a05", IF(AND(I59="Compras governamentais",K59<>"",L59="Mídia especializada"),"Erro: a fonte de preços informada é incompatível com compras governamentais - B12.01a05", "***"))))) -> *** | Z55: =IF(AND(I56<>"",OR(I55="")),"Erro: há linhas sendo puladas - B13.01a04", IF(AND(I57<>"",OR(I55="",I56="")),"Erro: há linhas sendo puladas - B13.01a04", IF(AND(I58<>"",OR(I55="",I56="",I57="")),"Erro: há linhas sendo puladas - B13.01a04", IF(AND(I59<>"",OR(I55="",I56="",I57="",I58="")),"Erro: há linhas sendo puladas - B13.01a04", "***")))) -> *** | AA55: =IF(AND(K56<>"",OR(K55="")),"Erro: há linhas sendo puladas - B14.01a05", IF(AND(K57<>"",OR(K55="",K56="")),"Erro: há linhas sendo puladas - B14.01a05", IF(AND(K58<>"",OR(K55="",K56="",K57="")),"Erro: há linhas sendo puladas - B14.01a05", IF(AND(K59<>"",OR(K55="",K56="",K57="",K58="")),"Erro: há linhas sendo puladas - B14.01a05", "***")))) -> *** | AB55: =IF(AND(L56<>"",OR(L55="")),"Erro: há linhas sendo puladas - B15.01a05", IF(AND(L57<>"",OR(L55="",L56="")),"Erro: há linhas sendo puladas - B15.01a05", IF(AND(L58<>"",OR(L55="",L56="",L57="")),"Erro: há linhas sendo puladas - B15.01a05", IF(AND(L59<>"",OR(L55="",L56="",L57="",L58="")),"Erro: há linhas sendo puladas - B15.01a05", "***")))) -> *** | AC55: =IF(AND(M56<>"",OR(M55="")),"Erro: há linhas sendo puladas - B16.01a05", IF(AND(M57<>"",OR(M55="",M56="")),"Erro: há linhas sendo puladas - B16.01a05", IF(AND(M58<>"",OR(M55="",M56="",M57="")),"Erro: há linhas sendo puladas - B16.01a05", IF(AND(M59<>"",OR(M55="",M56="",M57="",M58="")),"Erro: há linhas sendo puladas - B16.01a05", "***")))) -> *** | AD55: =IF(T55<>"Preenchimento correto","", IF(K55="","", IF(M55="Não válido","", K55)))
H56: 2 | J56: =IF(I56="","", VLOOKUP(I56,'BD EMPRES'!$B$8:$C$507,2,FALSE)) | AD56: =IF(T55<>"Preenchimento correto","", IF(K56="","", IF(M56="Não válido","", K56)))
H57: 3 | J57: =IF(I57="","", VLOOKUP(I57,'BD EMPRES'!$B$8:$C$507,2,FALSE)) | AD57: =IF(T55<>"Preenchimento correto","", IF(K57="","", IF(M57="Não válido","", K57)))
H58: 4 | J58: =IF(I58="","", VLOOKUP(I58,'BD EMPRES'!$B$8:$C$507,2,FALSE)) | AD58: =IF(T55<>"Preenchimento correto","", IF(K58="","", IF(M58="Não válido","", K58)))
H59: 5 | J59: =IF(I59="","", VLOOKUP(I59,'BD EMPRES'!$B$8:$C$507,2,FALSE)) | AD59: =IF(T55>"Preenchimento correto","", IF(K59="","", IF(M59="Não válido","", K59)))
B60: =IF(OR('BD ITEM'!$Q22<>"Preenchimento correto"),"",'BD ITEM'!B22) | C60: =IF(OR('BD ITEM'!$Q22<>"Preenchimento correto"),"",'BD ITEM'!C22) | D60: =IF(OR('BD ITEM'!$Q22<>"Preenchimento correto"),"",'BD ITEM'!D22) | E60: =IF(OR('BD ITEM'!$Q22<>"Preenchimento correto"),"",'BD ITEM'!J22) | F60: =IF(OR('BD ITEM'!$Q22<>"Preenchimento correto"),"",'BD ITEM'!K22) | G60: =IF(OR('BD ITEM'!$Q22<>"Preenchimento correto"),"",'BD ITEM'!L22) | H60: 1 | J60: =IF(I60="","", VLOOKUP(I60,'BD EMPRES'!$B$8:$C$507,2,FALSE)) | P60: =IF(AND(K60="",K61="",K62="",K63="",K64=""),"", COUNTIFS(K60:K64,"<>""",M60:M64,"=Válido")) | Q60: =IF(T60<>"Preenchimento correto","", IF(P60=1,0, IF(P60=0,"", IF(P60="","", ROUND(_xlfn.STDEV.S(AD60:AD64)/AVERAGE(AD60:AD64),4))))) | R60: =IF(T60<>"Preenchimento correto","", IF(P60="","", IF(P60=0,"", IF(O60="","", IF(O60="Menor valor",MIN(AD60:AD64), IF(AND(O60="Tend. central",Q60<=0.25),ROUND(AVERAGE(AD60:AD64),2), IF(AND(O60="Tend. central",Q60>0.25),ROUND(MEDIAN(AD60:AD64),2)))))))) | S60: =IF(T60<>"Preenchimento correto","", IF(O60="","", IF(P60="","", IF(P60=0,"", IF(OR(G60="",R60=""),"", G60*R60))))) | T60: =IF(AND(A60="",B60="",I60="",I61="",I62="",I63="",I64="",K60="",K61="",K62="",K63="",K64="",L60="",L61="",L62="",L63="",L64="",M60="",M61="",M62="",M63="",M64="",O60=""),"", IF(A60="","Preenchimento incompleto: falta informar o ID SEC - B01.01", IF(AND(A60<>"",B60<>"",I60="",I61="",I62="",I63="",I64="",K60="",K61="",K62="",K63="",K64="",L60="",L61="",L62="",L63="",L64="",M60="",M61="",M62="",M63="",M64="",O60=""),"Preenchimento incompleto: item sem nenhuma informação de empresa e preço e fonte de preço e validade do orçamento e modalidade de cálculo - B02.01", IF(AND(B60="",OR(I60<>"",I61<>"",I62<>"",I63<>"",I64<>"",K60<>"",K61<>"",K62<>"",K63<>"",K64<>"",L60<>"",L61<>"",L62<>"",L63<>"",L64<>"",M60<>"",M61<>"",M62<>"",M63<>"",M64<>"",O60<>"")),"Erro: há empresa(s) e/ou preço(s) e/ou fonte(s) de preço e/ou validade(s) do orçamento e/ou modalidade de cálculo informados para item inexistente - B03.01", IF(AND(I60<>"",OR(K60="",L60="",M60="",O60="")),"Preenchimento incompleto: empresa sem preço e(ou) fonte de preço e(ou) validade do orçamento e(ou) modalidade de cálculo associados - B04.01", IF(AND(I61<>"",OR(K61="",L61="",M61="",O60="")),"Preenchimento incompleto: empresa sem preço e(ou) fonte de preço e(ou) validade do orçamento e(ou) modalidade de cálculo associados - B04.02", IF(AND(I62<>"",OR(K62="",L62="",M62="",O60="")),"Preenchimento incompleto: empresa sem preço e(ou) fonte de preço e(ou) validade do orçamento e(ou) modalidade de cálculo associados - B04.03", IF(AND(I63<>"",OR(K63="",L63="",M63="",O60="")),"Preenchimento incompleto: empresa sem preço e(ou) fonte de preço e(ou) validade do orçamento e(ou) modalidade de cálculo associados - B04.04", IF(AND(I64<>"",OR(K64="",L64="",M64="",O60="")),"Preenchimento incompleto: empresa sem preço e(ou) fonte de preço e(ou) validade do orçamento e(ou) modalidade de cálculo associados - B04.05", IF(AND(K60<>"",OR(I60="",L60="",M60="",O60="")),"Preenchimento incompleto: preço sem empresa e(ou) fonte do preço associados e(ou) validade do orçamento e(ou) modalidade de cálculo associados - B05.01", IF(AND(K61<>"",OR(I61="",L61="",M61="",O60="")),"Preenchimento incompleto: preço sem empresa e(ou) fonte do preço associados e(ou) validade do orçamento e(ou) modalidade de cálculo associados - B05.02", IF(AND(K62<>"",OR(I62="",L62="",M62="",O60="")),"Preenchimento incompleto: preço sem empresa e(ou) fonte do preço associados e(ou) validade do orçamento e(ou) modalidade de cálculo associados - B05.03", IF(AND(K63<>"",OR(I63="",L63="",M63="",O60="")),"Preenchimento incompleto: preço sem empresa e(ou) fonte do preço associados e(ou) validade do orçamento e(ou) modalidade de cálculo associados - B05.04", IF(AND(K64<>"",OR(I64="",L64="",M64="",O60="")),"Preenchimento incompleto: preço sem empresa e(ou) fonte do preço associados e(ou) validade do orçamento e(ou) modalidade de cálculo associados - B05.05", IF(AND(L60<>"",OR(K60="",I60="",M60="",O60="")),"Preenchimento incompleto: fonte do preço sem empresa e(ou) preço associados e(ou) validade do orçamento e(ou) modalidade de cálculo associados - B06.01", IF(AND(L61<>"",OR(K61="",I61="",M61="",O60="")),"Preenchimento incompleto: fonte do preço sem empresa e(ou) preço associados e(ou) validade do orçamento e(ou) modalidade de cálculo associados - B06.02", IF(AND(L62<>"",OR(K62="",I62="",M62="",O60="")),"Preenchimento incompleto: fonte do preço sem empresa e(ou) preço associados e(ou) validade do orçamento e(ou) modalidade de cálculo associados - B06.03", IF(AND(L63<>"",OR(K63="",I63="",M63="",O60="")),"Preenchimento incompleto: fonte do preço sem empresa e(ou) preço associados e(ou) validade do orçamento e(ou) modalidade de cálculo associados - B06.04", IF(AND(L64<>"",OR(K64="",I64="",M64="",O60="")),"Preenchimento incompleto: fonte do preço sem empresa e(ou) preço associados e(ou) validade do orçamento e(ou) modalidade de cálculo associados - B06.05", IF(AND(M60<>"",OR(K60="",I60="",L60="",O60="")),"Preenchimento incompleto: validade do orçamento sem empresa e(ou) preço associados e(ou) fonte do preço e(ou) modalidade de cálculo associados - B07.01", IF(AND(M61<>"",OR(K61="",I61="",L61="",O60="")),"Preenchimento incompleto: validade do orçamento sem empresa e(ou) preço associados e(ou) fonte do preço e(ou) modalidade de cálculo associados - B07.02", IF(AND(M62<>"",OR(K62="",I62="",L62="",O60="")),"Preenchimento incompleto: validade do orçamento sem empresa e(ou) preço associados e(ou) fonte do preço e(ou) modalidade de cálculo associados - B07.03", IF(AND(M63<>"",OR(K63="",I63="",L63="",O60="")),"Preenchimento incompleto: validade do orçamento sem empresa e(ou) preço associados e(ou) fonte do preço e(ou) modalidade de cálculo associados - B07.04", IF(AND(M64<>"",OR(K64="",I64="",L64="",O60="")),"Preenchimento incompleto: validade do orçamento sem empresa e(ou) preço associados e(ou) fonte do preço e(ou) modalidade de cálculo associados - B07.05", IF(O60="","Preenchimento incompleto: modalidade de cálculo não informada - B08.01", IF(V60="Erro: há repetição de empresa de mídia especializada para o item sendo precificado - B09.01a05","Erro: há repetição de empresa de mídia especializada para o item sendo precificado - B09.01a05", IF(W60="Erro: há repetição de empresa de orçamento de empresa para o item sendo precificado - B10.01a05","Erro: há repetição de empresa de orçamento de empresa para o item sendo precificado - B10.01a05", IF(X60="Erro: a fonte de preços informada é incompatível com compras governamentais - B11.01a05","Erro: a fonte de preços informada é incompatível com compras governamentais - B11.01a05", IF(Y60="Erro: a fonte de preços informada é incompatível com compras governamentais - B12.01a05","Erro: a fonte de preços informada é incompatível com compras governamentais - B12.01a05", IF(Z60="Erro: há linhas sendo puladas - B13.01a04","Erro: há linhas sendo puladas - B13.01a04", IF(AA60="Erro: há linhas sendo puladas - B14.01a05","Erro: há linhas sendo puladas - B14.01a05", IF(AB60="Erro: há linhas sendo puladas - B15.01a05","Erro: há linhas sendo puladas - B15.01a05", IF(AC60="Erro: há linhas sendo puladas - B16.01a05","Erro: há linhas sendo puladas - B16.01a05", IF(AND(P60<>"",P60=0),"Preenchimento incompleto: número de propostas válidas igual a zero - B17.01", "Preenchimento correto")))))))))))))))))))))))))))))))))) | V60: =IF(COUNTIFS(I60:I64,I60,L60:L64,"=Mídia especializada")>1,"Erro: há repetição de empresa de mídia especializada para o item sendo precificado - B09.01a05", IF(COUNTIFS(I60:I64,I61,L60:L64,"=Mídia especializada")>1,"Erro: há repetição de empresa de mídia especializada para o item sendo precificado - B09.01a05", IF(COUNTIFS(I60:I64,I62,L60:L64,"=Mídia especializada")>1,"Erro: há repetição de empresa de mídia especializada para o item sendo precificado - B09.01a05", IF(COUNTIFS(I60:I64,I63,L60:L64,"=Mídia especializada")>1,"Erro: há repetição de empresa de mídia especializada para o item sendo precificado - B09.01a05", IF(COUNTIFS(I60:I64,I64,L60:L64,"=Mídia especializada")>1,"Erro: há repetição de empresa de mídia especializada para o item sendo precificado - B09.01a05", "***"))))) -> *** | W60: =IF(COUNTIFS(I60:I64,I60,L60:L64,"=Orçamento de empresa")>1,"Erro: há repetição de empresa de orçamento de empresa para o item sendo precificado - B10.01a05", IF(COUNTIFS(I60:I64,I61,L60:L64,"=Orçamento de empresa")>1,"Erro: há repetição de empresa de orçamento de empresa para o item sendo precificado - B10.01a05", IF(COUNTIFS(I60:I64,I62,L60:L64,"=Orçamento de empresa")>1,"Erro: há repetição de empresa de orçamento de empresa para o item sendo precificado - B10.01a05", IF(COUNTIFS(I60:I64,I63,L60:L64,"=Orçamento de empresa")>1,"Erro: há repetição de empresa de orçamento de empresa para o item sendo precificado - B10.01a05", IF(COUNTIFS(I60:I64,I64,L60:L64,"=Orçamento de empresa")>1,"Erro: há repetição de empresa de orçamento de empresa para o item sendo precificado - B10.01a05", "***"))))) -> *** | X60: =IF(AND(I60="Compras governamentais",K60<>"",L60="Orçamento de empresa"),"Erro: a fonte de preços informada é incompatível com compras governamentais - B11.01a05", IF(AND(I61="Compras governamentais",K61<>"",L61="Orçamento de empresa"),"Erro: a fonte de preços informada é incompatível com compras governamentais - B11.01a05", IF(AND(I62="Compras governamentais",K62<>"",L62="Orçamento de empresa"),"Erro: a fonte de preços informada é incompatível com compras governamentais - B11.01a05", IF(AND(I63="Compras governamentais",K63<>"",L63="Orçamento de empresa"),"Erro: a fonte de preços informada é incompatível com compras governamentais - B11.01a05", IF(AND(I64="Compras governamentais",K64<>"",L64="Orçamento de empresa"),"Erro: a fonte de preços informada é incompatível com compras governamentais - B11.01a05", "***"))))) -> *** | Y60: =IF(AND(I60="Compras governamentais",K60<>"",L60="Mídia especializada"),"Erro: a fonte de preços informada é incompatível com compras governamentais - B12.01a05", IF(AND(I61="Compras governamentais",K61<>"",L61="Mídia especializada"),"Erro: a fonte de preços informada é incompatível com compras governamentais - B12.01a05", IF(AND(I62="Compras governamentais",K62<>"",L62="Mídia especializada"),"Erro: a fonte de preços informada é incompatível com compras governamentais - B12.01a05", IF(AND(I63="Compras governamentais",K63<>"",L63="Mídia especializada"),"Erro: a fonte de preços informada é incompatível com compras governamentais - B12.01a05", IF(AND(I64="Compras governamentais",K64<>"",L64="Mídia especializada"),"Erro: a fonte de preços informada é incompatível com compras governamentais - B12.01a05", "***"))))) -> *** | Z60: =IF(AND(I61<>"",OR(I60="")),"Erro: há linhas sendo puladas - B13.01a04", IF(AND(I62<>"",OR(I60="",I61="")),"Erro: há linhas sendo puladas - B13.01a04", IF(AND(I63<>"",OR(I60="",I61="",I62="")),"Erro: há linhas sendo puladas - B13.01a04", IF(AND(I64<>"",OR(I60="",I61="",I62="",I63="")),"Erro: há linhas sendo puladas - B13.01a04", "***")))) -> *** | AA60: =IF(AND(K61<>"",OR(K60="")),"Erro: há linhas sendo puladas - B14.01a05", IF(AND(K62<>"",OR(K60="",K61="")),"Erro: há linhas sendo puladas - B14.01a05", IF(AND(K63<>"",OR(K60="",K61="",K62="")),"Erro: há linhas sendo puladas - B14.01a05", IF(AND(K64<>"",OR(K60="",K61="",K62="",K63="")),"Erro: há linhas sendo puladas - B14.01a05", "***")))) -> *** | AB60: =IF(AND(L61<>"",OR(L60="")),"Erro: há linhas sendo puladas - B15.01a05", IF(AND(L62<>"",OR(L60="",L61="")),"Erro: há linhas sendo puladas - B15.01a05", IF(AND(L63<>"",OR(L60="",L61="",L62="")),"Erro: há linhas sendo puladas - B15.01a05", IF(AND(L64<>"",OR(L60="",L61="",L62="",L63="")),"Erro: há linhas sendo puladas - B15.01a05", "***")))) -> *** | AC60: =IF(AND(M61<>"",OR(M60="")),"Erro: há linhas sendo puladas - B16.01a05", IF(AND(M62<>"",OR(M60="",M61="")),"Erro: há linhas sendo puladas - B16.01a05", IF(AND(M63<>"",OR(M60="",M61="",M62="")),"Erro: há linhas sendo puladas - B16.01a05", IF(AND(M64<>"",OR(M60="",M61="",M62="",M63="")),"Erro: há linhas sendo puladas - B16.01a05", "***")))) -> *** | AD60: =IF(T60<>"Preenchimento correto","", IF(K60="","", IF(M60="Não válido","", K60)))
H61: 2 | J61: =IF(I61="","", VLOOKUP(I61,'BD EMPRES'!$B$8:$C$507,2,FALSE)) | AD61: =IF(T60<>"Preenchimento correto","", IF(K61="","", IF(M61="Não válido","", K61)))
H62: 3 | J62: =IF(I62="","", VLOOKUP(I62,'BD EMPRES'!$B$8:$C$507,2,FALSE)) | AD62: =IF(T60<>"Preenchimento correto","", IF(K62="","", IF(M62="Não válido","", K62)))
H63: 4 | J63: =IF(I63="","", VLOOKUP(I63,'BD EMPRES'!$B$8:$C$507,2,FALSE)) | AD63: =IF(T60<>"Preenchimento correto","", IF(K63="","", IF(M63="Não válido","", K63)))
H64: 5 | J64: =IF(I64="","", VLOOKUP(I64,'BD EMPRES'!$B$8:$C$507,2,FALSE)) | AD64: =IF(T60>"Preenchimento correto","", IF(K64="","", IF(M64="Não válido","", K64)))
B65: =IF(OR('BD ITEM'!$Q23<>"Preenchimento correto"),"",'BD ITEM'!B23) | C65: =IF(OR('BD ITEM'!$Q23<>"Preenchimento correto"),"",'BD ITEM'!C23) | D65: =IF(OR('BD ITEM'!$Q23<>"Preenchimento correto"),"",'BD ITEM'!D23) | E65: =IF(OR('BD ITEM'!$Q23<>"Preenchimento correto"),"",'BD ITEM'!J23) | F65: =IF(OR('BD ITEM'!$Q23<>"Preenchimento correto"),"",'BD ITEM'!K23) | G65: =IF(OR('BD ITEM'!$Q23<>"Preenchimento correto"),"",'BD ITEM'!L23) | H65: 1 | J65: =IF(I65="","", VLOOKUP(I65,'BD EMPRES'!$B$8:$C$507,2,FALSE)) | P65: =IF(AND(K65="",K66="",K67="",K68="",K69=""),"", COUNTIFS(K65:K69,"<>""",M65:M69,"=Válido")) | Q65: =IF(T65<>"Preenchimento correto","", IF(P65=1,0, IF(P65=0,"", IF(P65="","", ROUND(_xlfn.STDEV.S(AD65:AD69)/AVERAGE(AD65:AD69),4))))) | R65: =IF(T65<>"Preenchimento correto","", IF(P65="","", IF(P65=0,"", IF(O65="","", IF(O65="Menor valor",MIN(AD65:AD69), IF(AND(O65="Tend. central",Q65<=0.25),ROUND(AVERAGE(AD65:AD69),2), IF(AND(O65="Tend. central",Q65>0.25),ROUND(MEDIAN(AD65:AD69),2)))))))) | S65: =IF(T65<>"Preenchimento correto","", IF(O65="","", IF(P65="","", IF(P65=0,"", IF(OR(G65="",R65=""),"", G65*R65))))) | T65: =IF(AND(A65="",B65="",I65="",I66="",I67="",I68="",I69="",K65="",K66="",K67="",K68="",K69="",L65="",L66="",L67="",L68="",L69="",M65="",M66="",M67="",M68="",M69="",O65=""),"", IF(A65="","Preenchimento incompleto: falta informar o ID SEC - B01.01", IF(AND(A65<>"",B65<>"",I65="",I66="",I67="",I68="",I69="",K65="",K66="",K67="",K68="",K69="",L65="",L66="",L67="",L68="",L69="",M65="",M66="",M67="",M68="",M69="",O65=""),"Preenchimento incompleto: item sem nenhuma informação de empresa e preço e fonte de preço e validade do orçamento e modalidade de cálculo - B02.01", IF(AND(B65="",OR(I65<>"",I66<>"",I67<>"",I68<>"",I69<>"",K65<>"",K66<>"",K67<>"",K68<>"",K69<>"",L65<>"",L66<>"",L67<>"",L68<>"",L69<>"",M65<>"",M66<>"",M67<>"",M68<>"",M69<>"",O65<>"")),"Erro: há empresa(s) e/ou preço(s) e/ou fonte(s) de preço e/ou validade(s) do orçamento e/ou modalidade de cálculo informados para item inexistente - B03.01", IF(AND(I65<>"",OR(K65="",L65="",M65="",O65="")),"Preenchimento incompleto: empresa sem preço e(ou) fonte de preço e(ou) validade do orçamento e(ou) modalidade de cálculo associados - B04.01", IF(AND(I66<>"",OR(K66="",L66="",M66="",O65="")),"Preenchimento incompleto: empresa sem preço e(ou) fonte de preço e(ou) validade do orçamento e(ou) modalidade de cálculo associados - B04.02", IF(AND(I67<>"",OR(K67="",L67="",M67="",O65="")),"Preenchimento incompleto: empresa sem preço e(ou) fonte de preço e(ou) validade do orçamento e(ou) modalidade de cálculo associados - B04.03", IF(AND(I68<>"",OR(K68="",L68="",M68="",O65="")),"Preenchimento incompleto: empresa sem preço e(ou) fonte de preço e(ou) validade do orçamento e(ou) modalidade de cálculo associados - B04.04", IF(AND(I69<>"",OR(K69="",L69="",M69="",O65="")),"Preenchimento incompleto: empresa sem preço e(ou) fonte de preço e(ou) validade do orçamento e(ou) modalidade de cálculo associados - B04.05", IF(AND(K65<>"",OR(I65="",L65="",M65="",O65="")),"Preenchimento incompleto: preço sem empresa e(ou) fonte do preço associados e(ou) validade do orçamento e(ou) modalidade de cálculo associados - B05.01", IF(AND(K66<>"",OR(I66="",L66="",M66="",O65="")),"Preenchimento incompleto: preço sem empresa e(ou) fonte do preço associados e(ou) validade do orçamento e(ou) modalidade de cálculo associados - B05.02", IF(AND(K67<>"",OR(I67="",L67="",M67="",O65="")),"Preenchimento incompleto: preço sem empresa e(ou) fonte do preço associados e(ou) validade do orçamento e(ou) modalidade de cálculo associados - B05.03", IF(AND(K68<>"",OR(I68="",L68="",M68="",O65="")),"Preenchimento incompleto: preço sem empresa e(ou) fonte do preço associados e(ou) validade do orçamento e(ou) modalidade de cálculo associados - B05.04", IF(AND(K69<>"",OR(I69="",L69="",M69="",O65="")),"Preenchimento incompleto: preço sem empresa e(ou) fonte do preço associados e(ou) validade do orçamento e(ou) modalidade de cálculo associados - B05.05", IF(AND(L65<>"",OR(K65="",I65="",M65="",O65="")),"Preenchimento incompleto: fonte do preço sem empresa e(ou) preço associados e(ou) validade do orçamento e(ou) modalidade de cálculo associados - B06.01", IF(AND(L66<>"",OR(K66="",I66="",M66="",O65="")),"Preenchimento incompleto: fonte do preço sem empresa e(ou) preço associados e(ou) validade do orçamento e(ou) modalidade de cálculo associados - B06.02", IF(AND(L67<>"",OR(K67="",I67="",M67="",O65="")),"Preenchimento incompleto: fonte do preço sem empresa e(ou) preço associados e(ou) validade do orçamento e(ou) modalidade de cálculo associados - B06.03", IF(AND(L68<>"",OR(K68="",I68="",M68="",O65="")),"Preenchimento incompleto: fonte do preço sem empresa e(ou) preço associados e(ou) validade do orçamento e(ou) modalidade de cálculo associados - B06.04", IF(AND(L69<>"",OR(K69="",I69="",M69="",O65="")),"Preenchimento incompleto: fonte do preço sem empresa e(ou) preço associados e(ou) validade do orçamento e(ou) modalidade de cálculo associados - B06.05", IF(AND(M65<>"",OR(K65="",I65="",L65="",O65="")),"Preenchimento incompleto: validade do orçamento sem empresa e(ou) preço associados e(ou) fonte do preço e(ou) modalidade de cálculo associados - B07.01", IF(AND(M66<>"",OR(K66="",I66="",L66="",O65="")),"Preenchimento incompleto: validade do orçamento sem empresa e(ou) preço associados e(ou) fonte do preço e(ou) modalidade de cálculo associados - B07.02", IF(AND(M67<>"",OR(K67="",I67="",L67="",O65="")),"Preenchimento incompleto: validade do orçamento sem empresa e(ou) preço associados e(ou) fonte do preço e(ou) modalidade de cálculo associados - B07.03", IF(AND(M68<>"",OR(K68="",I68="",L68="",O65="")),"Preenchimento incompleto: validade do orçamento sem empresa e(ou) preço associados e(ou) fonte do preço e(ou) modalidade de cálculo associados - B07.04", IF(AND(M69<>"",OR(K69="",I69="",L69="",O65="")),"Preenchimento incompleto: validade do orçamento sem empresa e(ou) preço associados e(ou) fonte do preço e(ou) modalidade de cálculo associados - B07.05", IF(O65="","Preenchimento incompleto: modalidade de cálculo não informada - B08.01", IF(V65="Erro: há repetição de empresa de mídia especializada para o item sendo precificado - B09.01a05","Erro: há repetição de empresa de mídia especializada para o item sendo precificado - B09.01a05", IF(W65="Erro: há repetição de empresa de orçamento de empresa para o item sendo precificado - B10.01a05","Erro: há repetição de empresa de orçamento de empresa para o item sendo precificado - B10.01a05", IF(X65="Erro: a fonte de preços informada é incompatível com compras governamentais - B11.01a05","Erro: a fonte de preços informada é incompatível com compras governamentais - B11.01a05", IF(Y65="Erro: a fonte de preços informada é incompatível com compras governamentais - B12.01a05","Erro: a fonte de preços informada é incompatível com compras governamentais - B12.01a05", IF(Z65="Erro: há linhas sendo puladas - B13.01a04","Erro: há linhas sendo puladas - B13.01a04", IF(AA65="Erro: há linhas sendo puladas - B14.01a05","Erro: há linhas sendo puladas - B14.01a05", IF(AB65="Erro: há linhas sendo puladas - B15.01a05","Erro: há linhas sendo puladas - B15.01a05", IF(AC65="Erro: há linhas sendo puladas - B16.01a05","Erro: há linhas sendo puladas - B16.01a05", IF(AND(P65<>"",P65=0),"Preenchimento incompleto: número de propostas válidas igual a zero - B17.01", "Preenchimento correto")))))))))))))))))))))))))))))))))) | V65: =IF(COUNTIFS(I65:I69,I65,L65:L69,"=Mídia especializada")>1,"Erro: há repetição de empresa de mídia especializada para o item sendo precificado - B09.01a05", IF(COUNTIFS(I65:I69,I66,L65:L69,"=Mídia especializada")>1,"Erro: há repetição de empresa de mídia especializada para o item sendo precificado - B09.01a05", IF(COUNTIFS(I65:I69,I67,L65:L69,"=Mídia especializada")>1,"Erro: há repetição de empresa de mídia especializada para o item sendo precificado - B09.01a05", IF(COUNTIFS(I65:I69,I68,L65:L69,"=Mídia especializada")>1,"Erro: há repetição de empresa de mídia especializada para o item sendo precificado - B09.01a05", IF(COUNTIFS(I65:I69,I69,L65:L69,"=Mídia especializada")>1,"Erro: há repetição de empresa de mídia especializada para o item sendo precificado - B09.01a05", "***"))))) -> *** | W65: =IF(COUNTIFS(I65:I69,I65,L65:L69,"=Orçamento de empresa")>1,"Erro: há repetição de empresa de orçamento de empresa para o item sendo precificado - B10.01a05", IF(COUNTIFS(I65:I69,I66,L65:L69,"=Orçamento de empresa")>1,"Erro: há repetição de empresa de orçamento de empresa para o item sendo precificado - B10.01a05", IF(COUNTIFS(I65:I69,I67,L65:L69,"=Orçamento de empresa")>1,"Erro: há repetição de empresa de orçamento de empresa para o item sendo precificado - B10.01a05", IF(COUNTIFS(I65:I69,I68,L65:L69,"=Orçamento de empresa")>1,"Erro: há repetição de empresa de orçamento de empresa para o item sendo precificado - B10.01a05", IF(COUNTIFS(I65:I69,I69,L65:L69,"=Orçamento de empresa")>1,"Erro: há repetição de empresa de orçamento de empresa para o item sendo precificado - B10.01a05", "***"))))) -> *** | X65: =IF(AND(I65="Compras governamentais",K65<>"",L65="Orçamento de empresa"),"Erro: a fonte de preços informada é incompatível com compras governamentais - B11.01a05", IF(AND(I66="Compras governamentais",K66<>"",L66="Orçamento de empresa"),"Erro: a fonte de preços informada é incompatível com compras governamentais - B11.01a05", IF(AND(I67="Compras governamentais",K67<>"",L67="Orçamento de empresa"),"Erro: a fonte de preços informada é incompatível com compras governamentais - B11.01a05", IF(AND(I68="Compras governamentais",K68<>"",L68="Orçamento de empresa"),"Erro: a fonte de preços informada é incompatível com compras governamentais - B11.01a05", IF(AND(I69="Compras governamentais",K69<>"",L69="Orçamento de empresa"),"Erro: a fonte de preços informada é incompatível com compras governamentais - B11.01a05", "***"))))) -> *** | Y65: =IF(AND(I65="Compras governamentais",K65<>"",L65="Mídia especializada"),"Erro: a fonte de preços informada é incompatível com compras governamentais - B12.01a05", IF(AND(I66="Compras governamentais",K66<>"",L66="Mídia especializada"),"Erro: a fonte de preços informada é incompatível com compras governamentais - B12.01a05", IF(AND(I67="Compras governamentais",K67<>"",L67="Mídia especializada"),"Erro: a fonte de preços informada é incompatível com compras governamentais - B12.01a05", IF(AND(I68="Compras governamentais",K68<>"",L68="Mídia especializada"),"Erro: a fonte de preços informada é incompatível com compras governamentais - B12.01a05", IF(AND(I69="Compras governamentais",K69<>"",L69="Mídia especializada"),"Erro: a fonte de preços informada é incompatível com compras governamentais - B12.01a05", "***"))))) -> *** | Z65: =IF(AND(I66<>"",OR(I65="")),"Erro: há linhas sendo puladas - B13.01a04", IF(AND(I67<>"",OR(I65="",I66="")),"Erro: há linhas sendo puladas - B13.01a04", IF(AND(I68<>"",OR(I65="",I66="",I67="")),"Erro: há linhas sendo puladas - B13.01a04", IF(AND(I69<>"",OR(I65="",I66="",I67="",I68="")),"Erro: há linhas sendo puladas - B13.01a04", "***")))) -> *** | AA65: =IF(AND(K66<>"",OR(K65="")),"Erro: há linhas sendo puladas - B14.01a05", IF(AND(K67<>"",OR(K65="",K66="")),"Erro: há linhas sendo puladas - B14.01a05", IF(AND(K68<>"",OR(K65="",K66="",K67="")),"Erro: há linhas sendo puladas - B14.01a05", IF(AND(K69<>"",OR(K65="",K66="",K67="",K68="")),"Erro: há linhas sendo puladas - B14.01a05", "***")))) -> *** | AB65: =IF(AND(L66<>"",OR(L65="")),"Erro: há linhas sendo puladas - B15.01a05", IF(AND(L67<>"",OR(L65="",L66="")),"Erro: há linhas sendo puladas - B15.01a05", IF(AND(L68<>"",OR(L65="",L66="",L67="")),"Erro: há linhas sendo puladas - B15.01a05", IF(AND(L69<>"",OR(L65="",L66="",L67="",L68="")),"Erro: há linhas sendo puladas - B15.01a05", "***")))) -> *** | AC65: =IF(AND(M66<>"",OR(M65="")),"Erro: há linhas sendo puladas - B16.01a05", IF(AND(M67<>"",OR(M65="",M66="")),"Erro: há linhas sendo puladas - B16.01a05", IF(AND(M68<>"",OR(M65="",M66="",M67="")),"Erro: há linhas sendo puladas - B16.01a05", IF(AND(M69<>"",OR(M65="",M66="",M67="",M68="")),"Erro: há linhas sendo puladas - B16.01a05", "***")))) -> *** | AD65: =IF(T65<>"Preenchimento correto","", IF(K65="","", IF(M65="Não válido","", K65)))
H66: 2 | J66: =IF(I66="","", VLOOKUP(I66,'BD EMPRES'!$B$8:$C$507,2,FALSE)) | AD66: =IF(T65<>"Preenchimento correto","", IF(K66="","", IF(M66="Não válido","", K66)))
H67: 3 | J67: =IF(I67="","", VLOOKUP(I67,'BD EMPRES'!$B$8:$C$507,2,FALSE)) | AD67: =IF(T65<>"Preenchimento correto","", IF(K67="","", IF(M67="Não válido","", K67)))
H68: 4 | J68: =IF(I68="","", VLOOKUP(I68,'BD EMPRES'!$B$8:$C$507,2,FALSE)) | AD68: =IF(T65<>"Preenchimento correto","", IF(K68="","", IF(M68="Não válido","", K68)))
H69: 5 | J69: =IF(I69="","", VLOOKUP(I69,'BD EMPRES'!$B$8:$C$507,2,FALSE)) | AD69: =IF(T65>"Preenchimento correto","", IF(K69="","", IF(M69="Não válido","", K69)))
B70: =IF(OR('BD ITEM'!$Q24<>"Preenchimento correto"),"",'BD ITEM'!B24) | C70: =IF(OR('BD ITEM'!$Q24<>"Preenchimento correto"),"",'BD ITEM'!C24) | D70: =IF(OR('BD ITEM'!$Q24<>"Preenchimento correto"),"",'BD ITEM'!D24) | E70: =IF(OR('BD ITEM'!$Q24<>"Preenchimento correto"),"",'BD ITEM'!J24) | F70: =IF(OR('BD ITEM'!$Q24<>"Preenchimento correto"),"",'BD ITEM'!K24) | G70: =IF(OR('BD ITEM'!$Q24<>"Preenchimento correto"),"",'BD ITEM'!L24) | H70: 1 | J70: =IF(I70="","", VLOOKUP(I70,'BD EMPRES'!$B$8:$C$507,2,FALSE)) | P70: =IF(AND(K70="",K71="",K72="",K73="",K74=""),"", COUNTIFS(K70:K74,"<>""",M70:M74,"=Válido")) | Q70: =IF(T70<>"Preenchimento correto","", IF(P70=1,0, IF(P70=0,"", IF(P70="","", ROUND(_xlfn.STDEV.S(AD70:AD74)/AVERAGE(AD70:AD74),4))))) | R70: =IF(T70<>"Preenchimento correto","", IF(P70="","", IF(P70=0,"", IF(O70="","", IF(O70="Menor valor",MIN(AD70:AD74), IF(AND(O70="Tend. central",Q70<=0.25),ROUND(AVERAGE(AD70:AD74),2), IF(AND(O70="Tend. central",Q70>0.25),ROUND(MEDIAN(AD70:AD74),2)))))))) | S70: =IF(T70<>"Preenchimento correto","", IF(O70="","", IF(P70="","", IF(P70=0,"", IF(OR(G70="",R70=""),"", G70*R70))))) | T70: =IF(AND(A70="",B70="",I70="",I71="",I72="",I73="",I74="",K70="",K71="",K72="",K73="",K74="",L70="",L71="",L72="",L73="",L74="",M70="",M71="",M72="",M73="",M74="",O70=""),"", IF(A70="","Preenchimento incompleto: falta informar o ID SEC - B01.01", IF(AND(A70<>"",B70<>"",I70="",I71="",I72="",I73="",I74="",K70="",K71="",K72="",K73="",K74="",L70="",L71="",L72="",L73="",L74="",M70="",M71="",M72="",M73="",M74="",O70=""),"Preenchimento incompleto: item sem nenhuma informação de empresa e preço e fonte de preço e validade do orçamento e modalidade de cálculo - B02.01", IF(AND(B70="",OR(I70<>"",I71<>"",I72<>"",I73<>"",I74<>"",K70<>"",K71<>"",K72<>"",K73<>"",K74<>"",L70<>"",L71<>"",L72<>"",L73<>"",L74<>"",M70<>"",M71<>"",M72<>"",M73<>"",M74<>"",O70<>"")),"Erro: há empresa(s) e/ou preço(s) e/ou fonte(s) de preço e/ou validade(s) do orçamento e/ou modalidade de cálculo informados para item inexistente - B03.01", IF(AND(I70<>"",OR(K70="",L70="",M70="",O70="")),"Preenchimento incompleto: empresa sem preço e(ou) fonte de preço e(ou) validade do orçamento e(ou) modalidade de cálculo associados - B04.01", IF(AND(I71<>"",OR(K71="",L71="",M71="",O70="")),"Preenchimento incompleto: empresa sem preço e(ou) fonte de preço e(ou) validade do orçamento e(ou) modalidade de cálculo associados - B04.02", IF(AND(I72<>"",OR(K72="",L72="",M72="",O70="")),"Preenchimento incompleto: empresa sem preço e(ou) fonte de preço e(ou) validade do orçamento e(ou) modalidade de cálculo associados - B04.03", IF(AND(I73<>"",OR(K73="",L73="",M73="",O70="")),"Preenchimento incompleto: empresa sem preço e(ou) fonte de preço e(ou) validade do orçamento e(ou) modalidade de cálculo associados - B04.04", IF(AND(I74<>"",OR(K74="",L74="",M74="",O70="")),"Preenchimento incompleto: empresa sem preço e(ou) fonte de preço e(ou) validade do orçamento e(ou) modalidade de cálculo associados - B04.05", IF(AND(K70<>"",OR(I70="",L70="",M70="",O70="")),"Preenchimento incompleto: preço sem empresa e(ou) fonte do preço associados e(ou) validade do orçamento e(ou) modalidade de cálculo associados - B05.01", IF(AND(K71<>"",OR(I71="",L71="",M71="",O70="")),"Preenchimento incompleto: preço sem empresa e(ou) fonte do preço associados e(ou) validade do orçamento e(ou) modalidade de cálculo associados - B05.02", IF(AND(K72<>"",OR(I72="",L72="",M72="",O70="")),"Preenchimento incompleto: preço sem empresa e(ou) fonte do preço associados e(ou) validade do orçamento e(ou) modalidade de cálculo associados - B05.03", IF(AND(K73<>"",OR(I73="",L73="",M73="",O70="")),"Preenchimento incompleto: preço sem empresa e(ou) fonte do preço associados e(ou) validade do orçamento e(ou) modalidade de cálculo associados - B05.04", IF(AND(K74<>"",OR(I74="",L74="",M74="",O70="")),"Preenchimento incompleto: preço sem empresa e(ou) fonte do preço associados e(ou) validade do orçamento e(ou) modalidade de cálculo associados - B05.05", IF(AND(L70<>"",OR(K70="",I70="",M70="",O70="")),"Preenchimento incompleto: fonte do preço sem empresa e(ou) preço associados e(ou) validade do orçamento e(ou) modalidade de cálculo associados - B06.01", IF(AND(L71<>"",OR(K71="",I71="",M71="",O70="")),"Preenchimento incompleto: fonte do preço sem empresa e(ou) preço associados e(ou) validade do orçamento e(ou) modalidade de cálculo associados - B06.02", IF(AND(L72<>"",OR(K72="",I72="",M72="",O70="")),"Preenchimento incompleto: fonte do preço sem empresa e(ou) preço associados e(ou) validade do orçamento e(ou) modalidade de cálculo associados - B06.03", IF(AND(L73<>"",OR(K73="",I73="",M73="",O70="")),"Preenchimento incompleto: fonte do preço sem empresa e(ou) preço associados e(ou) validade do orçamento e(ou) modalidade de cálculo associados - B06.04", IF(AND(L74<>"",OR(K74="",I74="",M74="",O70="")),"Preenchimento incompleto: fonte do preço sem empresa e(ou) preço associados e(ou) validade do orçamento e(ou) modalidade de cálculo associados - B06.05", IF(AND(M70<>"",OR(K70="",I70="",L70="",O70="")),"Preenchimento incompleto: validade do orçamento sem empresa e(ou) preço associados e(ou) fonte do preço e(ou) modalidade de cálculo associados - B07.01", IF(AND(M71<>"",OR(K71="",I71="",L71="",O70="")),"Preenchimento incompleto: validade do orçamento sem empresa e(ou) preço associados e(ou) fonte do preço e(ou) modalidade de cálculo associados - B07.02", IF(AND(M72<>"",OR(K72="",I72="",L72="",O70="")),"Preenchimento incompleto: validade do orçamento sem empresa e(ou) preço associados e(ou) fonte do preço e(ou) modalidade de cálculo associados - B07.03", IF(AND(M73<>"",OR(K73="",I73="",L73="",O70="")),"Preenchimento incompleto: validade do orçamento sem empresa e(ou) preço associados e(ou) fonte do preço e(ou) modalidade de cálculo associados - B07.04", IF(AND(M74<>"",OR(K74="",I74="",L74="",O70="")),"Preenchimento incompleto: validade do orçamento sem empresa e(ou) preço associados e(ou) fonte do preço e(ou) modalidade de cálculo associados - B07.05", IF(O70="","Preenchimento incompleto: modalidade de cálculo não informada - B08.01", IF(V70="Erro: há repetição de empresa de mídia especializada para o item sendo precificado - B09.01a05","Erro: há repetição de empresa de mídia especializada para o item sendo precificado - B09.01a05", IF(W70="Erro: há repetição de empresa de orçamento de empresa para o item sendo precificado - B10.01a05","Erro: há repetição de empresa de orçamento de empresa para o item sendo precificado - B10.01a05", IF(X70="Erro: a fonte de preços informada é incompatível com compras governamentais - B11.01a05","Erro: a fonte de preços informada é incompatível com compras governamentais - B11.01a05", IF(Y70="Erro: a fonte de preços informada é incompatível com compras governamentais - B12.01a05","Erro: a fonte de preços informada é incompatível com compras governamentais - B12.01a05", IF(Z70="Erro: há linhas sendo puladas - B13.01a04","Erro: há linhas sendo puladas - B13.01a04", IF(AA70="Erro: há linhas sendo puladas - B14.01a05","Erro: há linhas sendo puladas - B14.01a05", IF(AB70="Erro: há linhas sendo puladas - B15.01a05","Erro: há linhas sendo puladas - B15.01a05", IF(AC70="Erro: há linhas sendo puladas - B16.01a05","Erro: há linhas sendo puladas - B16.01a05", IF(AND(P70<>"",P70=0),"Preenchimento incompleto: número de propostas válidas igual a zero - B17.01", "Preenchimento correto")))))))))))))))))))))))))))))))))) | V70: =IF(COUNTIFS(I70:I74,I70,L70:L74,"=Mídia especializada")>1,"Erro: há repetição de empresa de mídia especializada para o item sendo precificado - B09.01a05", IF(COUNTIFS(I70:I74,I71,L70:L74,"=Mídia especializada")>1,"Erro: há repetição de empresa de mídia especializada para o item sendo precificado - B09.01a05", IF(COUNTIFS(I70:I74,I72,L70:L74,"=Mídia especializada")>1,"Erro: há repetição de empresa de mídia especializada para o item sendo precificado - B09.01a05", IF(COUNTIFS(I70:I74,I73,L70:L74,"=Mídia especializada")>1,"Erro: há repetição de empresa de mídia especializada para o item sendo precificado - B09.01a05", IF(COUNTIFS(I70:I74,I74,L70:L74,"=Mídia especializada")>1,"Erro: há repetição de empresa de mídia especializada para o item sendo precificado - B09.01a05", "***"))))) -> *** | W70: =IF(COUNTIFS(I70:I74,I70,L70:L74,"=Orçamento de empresa")>1,"Erro: há repetição de empresa de orçamento de empresa para o item sendo precificado - B10.01a05", IF(COUNTIFS(I70:I74,I71,L70:L74,"=Orçamento de empresa")>1,"Erro: há repetição de empresa de orçamento de empresa para o item sendo precificado - B10.01a05", IF(COUNTIFS(I70:I74,I72,L70:L74,"=Orçamento de empresa")>1,"Erro: há repetição de empresa de orçamento de empresa para o item sendo precificado - B10.01a05", IF(COUNTIFS(I70:I74,I73,L70:L74,"=Orçamento de empresa")>1,"Erro: há repetição de empresa de orçamento de empresa para o item sendo precificado - B10.01a05", IF(COUNTIFS(I70:I74,I74,L70:L74,"=Orçamento de empresa")>1,"Erro: há repetição de empresa de orçamento de empresa para o item sendo precificado - B10.01a05", "***"))))) -> *** | X70: =IF(AND(I70="Compras governamentais",K70<>"",L70="Orçamento de empresa"),"Erro: a fonte de preços informada é incompatível com compras governamentais - B11.01a05", IF(AND(I71="Compras governamentais",K71<>"",L71="Orçamento de empresa"),"Erro: a fonte de preços informada é incompatível com compras governamentais - B11.01a05", IF(AND(I72="Compras governamentais",K72<>"",L72="Orçamento de empresa"),"Erro: a fonte de preços informada é incompatível com compras governamentais - B11.01a05", IF(AND(I73="Compras governamentais",K73<>"",L73="Orçamento de empresa"),"Erro: a fonte de preços informada é incompatível com compras governamentais - B11.01a05", IF(AND(I74="Compras governamentais",K74<>"",L74="Orçamento de empresa"),"Erro: a fonte de preços informada é incompatível com compras governamentais - B11.01a05", "***"))))) -> *** | Y70: =IF(AND(I70="Compras governamentais",K70<>"",L70="Mídia especializada"),"Erro: a fonte de preços informada é incompatível com compras governamentais - B12.01a05", IF(AND(I71="Compras governamentais",K71<>"",L71="Mídia especializada"),"Erro: a fonte de preços informada é incompatível com compras governamentais - B12.01a05", IF(AND(I72="Compras governamentais",K72<>"",L72="Mídia especializada"),"Erro: a fonte de preços informada é incompatível com compras governamentais - B12.01a05", IF(AND(I73="Compras governamentais",K73<>"",L73="Mídia especializada"),"Erro: a fonte de preços informada é incompatível com compras governamentais - B12.01a05", IF(AND(I74="Compras governamentais",K74<>"",L74="Mídia especializada"),"Erro: a fonte de preços informada é incompatível com compras governamentais - B12.01a05", "***"))))) -> *** | Z70: =IF(AND(I71<>"",OR(I70="")),"Erro: há linhas sendo puladas - B13.01a04", IF(AND(I72<>"",OR(I70="",I71="")),"Erro: há linhas sendo puladas - B13.01a04", IF(AND(I73<>"",OR(I70="",I71="",I72="")),"Erro: há linhas sendo puladas - B13.01a04", IF(AND(I74<>"",OR(I70="",I71="",I72="",I73="")),"Erro: há linhas sendo puladas - B13.01a04", "***")))) -> *** | AA70: =IF(AND(K71<>"",OR(K70="")),"Erro: há linhas sendo puladas - B14.01a05", IF(AND(K72<>"",OR(K70="",K71="")),"Erro: há linhas sendo puladas - B14.01a05", IF(AND(K73<>"",OR(K70="",K71="",K72="")),"Erro: há linhas sendo puladas - B14.01a05", IF(AND(K74<>"",OR(K70="",K71="",K72="",K73="")),"Erro: há linhas sendo puladas - B14.01a05", "***")))) -> *** | AB70: =IF(AND(L71<>"",OR(L70="")),"Erro: há linhas sendo puladas - B15.01a05", IF(AND(L72<>"",OR(L70="",L71="")),"Erro: há linhas sendo puladas - B15.01a05", IF(AND(L73<>"",OR(L70="",L71="",L72="")),"Erro: há linhas sendo puladas - B15.01a05", IF(AND(L74<>"",OR(L70="",L71="",L72="",L73="")),"Erro: há linhas sendo puladas - B15.01a05", "***")))) -> *** | AC70: =IF(AND(M71<>"",OR(M70="")),"Erro: há linhas sendo puladas - B16.01a05", IF(AND(M72<>"",OR(M70="",M71="")),"Erro: há linhas sendo puladas - B16.01a05", IF(AND(M73<>"",OR(M70="",M71="",M72="")),"Erro: há linhas sendo puladas - B16.01a05", IF(AND(M74<>"",OR(M70="",M71="",M72="",M73="")),"Erro: há linhas sendo puladas - B16.01a05", "***")))) -> *** | AD70: =IF(T70<>"Preenchimento correto","", IF(K70="","", IF(M70="Não válido","", K70)))
H71: 2 | J71: =IF(I71="","", VLOOKUP(I71,'BD EMPRES'!$B$8:$C$507,2,FALSE)) | AD71: =IF(T70<>"Preenchimento correto","", IF(K71="","", IF(M71="Não válido","", K71)))
H72: 3 | J72: =IF(I72="","", VLOOKUP(I72,'BD EMPRES'!$B$8:$C$507,2,FALSE)) | AD72: =IF(T70<>"Preenchimento correto","", IF(K72="","", IF(M72="Não válido","", K72)))
H73: 4 | J73: =IF(I73="","", VLOOKUP(I73,'BD EMPRES'!$B$8:$C$507,2,FALSE)) | AD73: =IF(T70<>"Preenchimento correto","", IF(K73="","", IF(M73="Não válido","", K73)))
H74: 5 | J74: =IF(I74="","", VLOOKUP(I74,'BD EMPRES'!$B$8:$C$507,2,FALSE)) | AD74: =IF(T70>"Preenchimento correto","", IF(K74="","", IF(M74="Não válido","", K74)))
