Workbook

Sheet REL GER - RELAT. COMPRASGOV
A1: MAPA DE PREÇOS DO DiLAB/LFDA-MG - PLANILHA MAPRE - PREÇOS DE REFERÊNCIA POR MENOR VALOR OU TENDÊNCIA CENTRAL
A2: Relatório geral para inclusão em processos de aquisição
A4: Data atual | F4: =TODAY() -> 46098
J5: Nota: somente são explicitados dados que possuem preenchimento correto na aba BD ITEM e consequentemente, na aba BD PREÇO e não foram nelas excluídos com identificação de *** nos IDs.
A7: Síntese da lista | K7: Células de fórmula intrínseca | N7: Células base de filtro
A9: N° de itens válidos finais da lista | E9: =IF(A16="","",COUNTA(A16:A335)) -> 2 | K9: Células consequência de filtro
A11: Valor total da lista | E11: =IF(A16="","", SUM(M16:M335)) -> 8184
A14: RELATÓRIO DE PRECIFICAÇÃO | D14: LISTA: | E14: =IF('BD PREÇO'!C5="","",'BD PREÇO'!C5) -> 21181.000240/2026-41
A15: N° item ComprasGov (ID SEC) | B15: ID PRI | C15: Descrição do(s) item(ns) | D15: Requisitantes | E15: CATMAT | F15: Unidade | G15: Quantidade Total | H15: Requisição mínima | I15: Requisição máxima | J15: N° de propostas na precificação | K15: Coeficiente de variação (%) | L15: Valor unitário estimado (R$) | M15: Valor total estimado (R$) | N15: Prazo de validade mínimo contado a partir do recebimento definitivo do item | O15: Necessita amostra no certame? (Se não, inserir ***; se sim, inserir Sim, + justificativa) | P15: Auditoria de preenchimento aba BD ITEM | Q15: Auditoria de preenchimento aba BD PREÇO
A16: {=IF(COUNTIF('BD ITEM'!Q12:Q261,"Preenchimento correto")=0,"", _xlfn._xlws.SORT(_xlfn._xlws.FILTER('BD PREÇO'!A10:A1609,('BD PREÇO'!A10:A1609<>"***")*('BD PREÇO'!T10:T1609="Preenchimento correto"),""),1,1,FALSE))} -> 01 | B16: {=IF(A16="","", _xlfn._xlws.FILTER('BD PREÇO'!$B$10:$B$1609,'BD PREÇO'!$A$10:$A$1609=A16,""))} -> 1 | C16: {=IF(A16="","", _xlfn._xlws.FILTER('BD PREÇO'!$C$10:$C$1609,'BD PREÇO'!$A$10:$A$1609=A16,""))} -> BOMBA DE OR LINHA INT/ADV - NCM 84138100 | D16: {=IF(A16="","", _xlfn._xlws.FILTER('BD ITEM'!$I$12:$I$331,'BD ITEM'!$B$12:$B$331=B16,""))} -> RCA-1 | E16: {=IF(A16="","", _xlfn._xlws.FILTER('BD PREÇO'!$E$10:$E$1609,'BD PREÇO'!$A$10:$A$1609=A16,""))} -> 415030 | F16: {=IF(A16="","", _xlfn._xlws.FILTER('BD PREÇO'!$F$10:$F$1609,'BD PREÇO'!$A$10:$A$1609=A16,""))} -> RCA | G16: {=IF(A16="","", _xlfn._xlws.FILTER('BD PREÇO'!$G$10:$G$1609,'BD PREÇO'!$A$10:$A$1609=A16,""))} -> 1 | H16: {=IF(A16="","", _xlfn._xlws.FILTER('BD ITEM'!$M$12:$M$331,'BD ITEM'!$B$12:$B$331=B16,""))} -> 1 | I16: {=IF(A16="","", _xlfn._xlws.FILTER('BD ITEM'!$N$12:$N$331,'BD ITEM'!$B$12:$B$331=B16,""))} -> 1 | J16: {=IF(A16="","", _xlfn._xlws.FILTER('BD PREÇO'!$P$10:$P$1609,'BD PREÇO'!$A$10:$A$1609=A16,""))} -> 3 | K16: {=IF(A16="","", _xlfn._xlws.FILTER('BD PREÇO'!$Q$10:$Q$1609,'BD PREÇO'!$A$10:$A$1609=A16,""))} -> 0.6761 | L16: {=IF(A16="","", _xlfn._xlws.FILTER('BD PREÇO'!$R$10:$R$1609,'BD PREÇO'!$A$10:$A$1609=A16,""))} -> 3369 | M16: {=IF(A16="","", _xlfn._xlws.FILTER('BD PREÇO'!$S$10:$S$1609,'BD PREÇO'!$A$10:$A$1609=A16,""))} -> 3369 | N16: {=IF(A16="","", _xlfn._xlws.FILTER('BD ITEM'!$O$12:$O$331,'BD ITEM'!$B$12:$B$331=B16,""))} -> 60 dias | O16: {=IF(A16="","", _xlfn._xlws.FILTER('BD ITEM'!$P$12:$P$331,'BD ITEM'!$B$12:$B$331=B16,""))} -> Não | P16: {=IF(A16="","", _xlfn._xlws.FILTER('BD ITEM'!$Q$12:$Q$331,'BD ITEM'!$B$12:$B$331=B16,""))} -> Preenchimento correto | Q16: {=IF(A16="","", _xlfn._xlws.FILTER('BD PREÇO'!$T$10:$T$1609,'BD PREÇO'!$A$10:$A$1609=A16,""))} -> Preenchimento correto
A17: 02 | B17: {=IF(A17="","", _xlfn._xlws.FILTER('BD PREÇO'!$B$10:$B$1609,'BD PREÇO'!$A$10:$A$1609=A17,""))} -> 2 | C17: {=IF(A17="","", _xlfn._xlws.FILTER('BD PREÇO'!$C$10:$C$1609,'BD PREÇO'!$A$10:$A$1609=A17,""))} -> PLACA FONTE SISTEMA INTEGRAL - NCM 85423190 | D17: {=IF(A17="","", _xlfn._xlws.FILTER('BD ITEM'!$I$12:$I$331,'BD ITEM'!$B$12:$B$331=B17,""))} -> RCA-1 | E17: {=IF(A17="","", _xlfn._xlws.FILTER('BD PREÇO'!$E$10:$E$1609,'BD PREÇO'!$A$10:$A$1609=A17,""))} -> 426971 | F17: {=IF(A17="","", _xlfn._xlws.FILTER('BD PREÇO'!$F$10:$F$1609,'BD PREÇO'!$A$10:$A$1609=A17,""))} -> RCA | G17: {=IF(A17="","", _xlfn._xlws.FILTER('BD PREÇO'!$G$10:$G$1609,'BD PREÇO'!$A$10:$A$1609=A17,""))} -> 1 | H17: {=IF(A17="","", _xlfn._xlws.FILTER('BD ITEM'!$M$12:$M$331,'BD ITEM'!$B$12:$B$331=B17,""))} -> 1 | I17: {=IF(A17="","", _xlfn._xlws.FILTER('BD ITEM'!$N$12:$N$331,'BD ITEM'!$B$12:$B$331=B17,""))} -> 1 | J17: {=IF(A17="","", _xlfn._xlws.FILTER('BD PREÇO'!$P$10:$P$1609,'BD PREÇO'!$A$10:$A$1609=A17,""))} -> 3 | K17: {=IF(A17="","", _xlfn._xlws.FILTER('BD PREÇO'!$Q$10:$Q$1609,'BD PREÇO'!$A$10:$A$1609=A17,""))} -> 0.2125 | L17: {=IF(A17="","", _xlfn._xlws.FILTER('BD PREÇO'!$R$10:$R$1609,'BD PREÇO'!$A$10:$A$1609=A17,""))} -> 4815 | M17: {=IF(A17="","", _xlfn._xlws.FILTER('BD PREÇO'!$S$10:$S$1609,'BD PREÇO'!$A$10:$A$1609=A17,""))} -> 4815 | N17: {=IF(A17="","", _xlfn._xlws.FILTER('BD ITEM'!$O$12:$O$331,'BD ITEM'!$B$12:$B$331=B17,""))} -> 60 dias | O17: {=IF(A17="","", _xlfn._xlws.FILTER('BD ITEM'!$P$12:$P$331,'BD ITEM'!$B$12:$B$331=B17,""))} -> Não | P17: {=IF(A17="","", _xlfn._xlws.FILTER('BD ITEM'!$Q$12:$Q$331,'BD ITEM'!$B$12:$B$331=B17,""))} -> Preenchimento correto | Q17: {=IF(A17="","", _xlfn._xlws.FILTER('BD PREÇO'!$T$10:$T$1609,'BD PREÇO'!$A$10:$A$1609=A17,""))} -> Preenchimento correto
B18: {=IF(A18="","", _xlfn._xlws.FILTER('BD PREÇO'!$B$10:$B$1609,'BD PREÇO'!$A$10:$A$1609=A18,""))} | C18: {=IF(A18="","", _xlfn._xlws.FILTER('BD PREÇO'!$C$10:$C$1609,'BD PREÇO'!$A$10:$A$1609=A18,""))} | D18: {=IF(A18="","", _xlfn._xlws.FILTER('BD ITEM'!$I$12:$I$331,'BD ITEM'!$B$12:$B$331=B18,""))} | E18: {=IF(A18="","", _xlfn._xlws.FILTER('BD PREÇO'!$E$10:$E$1609,'BD PREÇO'!$A$10:$A$1609=A18,""))} | F18: {=IF(A18="","", _xlfn._xlws.FILTER('BD PREÇO'!$F$10:$F$1609,'BD PREÇO'!$A$10:$A$1609=A18,""))} | G18: {=IF(A18="","", _xlfn._xlws.FILTER('BD PREÇO'!$G$10:$G$1609,'BD PREÇO'!$A$10:$A$1609=A18,""))} | H18: {=IF(A18="","", _xlfn._xlws.FILTER('BD ITEM'!$M$12:$M$331,'BD ITEM'!$B$12:$B$331=B18,""))} | I18: {=IF(A18="","", _xlfn._xlws.FILTER('BD ITEM'!$N$12:$N$331,'BD ITEM'!$B$12:$B$331=B18,""))} | J18: {=IF(A18="","", _xlfn._xlws.FILTER('BD PREÇO'!$P$10:$P$1609,'BD PREÇO'!$A$10:$A$1609=A18,""))} | K18: {=IF(A18="","", _xlfn._xlws.FILTER('BD PREÇO'!$Q$10:$Q$1609,'BD PREÇO'!$A$10:$A$1609=A18,""))} | L18: {=IF(A18="","", _xlfn._xlws.FILTER('BD PREÇO'!$R$10:$R$1609,'BD PREÇO'!$A$10:$A$1609=A18,""))} | M18: {=IF(A18="","", _xlfn._xlws.FILTER('BD PREÇO'!$S$10:$S$1609,'BD PREÇO'!$A$10:$A$1609=A18,""))} | N18: {=IF(A18="","", _xlfn._xlws.FILTER('BD ITEM'!$O$12:$O$331,'BD ITEM'!$B$12:$B$331=B18,""))} | O18: {=IF(A18="","", _xlfn._xlws.FILTER('BD ITEM'!$P$12:$P$331,'BD ITEM'!$B$12:$B$331=B18,""))} | P18: {=IF(A18="","", _xlfn._xlws.FILTER('BD ITEM'!$Q$12:$Q$331,'BD ITEM'!$B$12:$B$331=B18,""))} | Q18: {=IF(A18="","", _xlfn._xlws.FILTER('BD PREÇO'!$T$10:$T$1609,'BD PREÇO'!$A$10:$A$1609=A18,""))}
B19: {=IF(A19="","", _xlfn._xlws.FILTER('BD PREÇO'!$B$10:$B$1609,'BD PREÇO'!$A$10:$A$1609=A19,""))} | C19: {=IF(A19="","", _xlfn._xlws.FILTER('BD PREÇO'!$C$10:$C$1609,'BD PREÇO'!$A$10:$A$1609=A19,""))} | D19: {=IF(A19="","", _xlfn._xlws.FILTER('BD ITEM'!$I$12:$I$331,'BD ITEM'!$B$12:$B$331=B19,""))} | E19: {=IF(A19="","", _xlfn._xlws.FILTER('BD PREÇO'!$E$10:$E$1609,'BD PREÇO'!$A$10:$A$1609=A19,""))} | F19: {=IF(A19="","", _xlfn._xlws.FILTER('BD PREÇO'!$F$10:$F$1609,'BD PREÇO'!$A$10:$A$1609=A19,""))} | G19: {=IF(A19="","", _xlfn._xlws.FILTER('BD PREÇO'!$G$10:$G$1609,'BD PREÇO'!$A$10:$A$1609=A19,""))} | H19: {=IF(A19="","", _xlfn._xlws.FILTER('BD ITEM'!$M$12:$M$331,'BD ITEM'!$B$12:$B$331=B19,""))} | I19: {=IF(A19="","", _xlfn._xlws.FILTER('BD ITEM'!$N$12:$N$331,'BD ITEM'!$B$12:$B$331=B19,""))} | J19: {=IF(A19="","", _xlfn._xlws.FILTER('BD PREÇO'!$P$10:$P$1609,'BD PREÇO'!$A$10:$A$1609=A19,""))} | K19: {=IF(A19="","", _xlfn._xlws.FILTER('BD PREÇO'!$Q$10:$Q$1609,'BD PREÇO'!$A$10:$A$1609=A19,""))} | L19: {=IF(A19="","", _xlfn._xlws.FILTER('BD PREÇO'!$R$10:$R$1609,'BD PREÇO'!$A$10:$A$1609=A19,""))} | M19: {=IF(A19="","", _xlfn._xlws.FILTER('BD PREÇO'!$S$10:$S$1609,'BD PREÇO'!$A$10:$A$1609=A19,""))} | N19: {=IF(A19="","", _xlfn._xlws.FILTER('BD ITEM'!$O$12:$O$331,'BD ITEM'!$B$12:$B$331=B19,""))} | O19: {=IF(A19="","", _xlfn._xlws.FILTER('BD ITEM'!$P$12:$P$331,'BD ITEM'!$B$12:$B$331=B19,""))} | P19: {=IF(A19="","", _xlfn._xlws.FILTER('BD ITEM'!$Q$12:$Q$331,'BD ITEM'!$B$12:$B$331=B19,""))} | Q19: {=IF(A19="","", _xlfn._xlws.FILTER('BD PREÇO'!$T$10:$T$1609,'BD PREÇO'!$A$10:$A$1609=A19,""))}
B20: {=IF(A20="","", _xlfn._xlws.FILTER('BD PREÇO'!$B$10:$B$1609,'BD PREÇO'!$A$10:$A$1609=A20,""))} | C20: {=IF(A20="","", _xlfn._xlws.FILTER('BD PREÇO'!$C$10:$C$1609,'BD PREÇO'!$A$10:$A$1609=A20,""))} | D20: {=IF(A20="","", _xlfn._xlws.FILTER('BD ITEM'!$I$12:$I$331,'BD ITEM'!$B$12:$B$331=B20,""))} | E20: {=IF(A20="","", _xlfn._xlws.FILTER('BD PREÇO'!$E$10:$E$1609,'BD PREÇO'!$A$10:$A$1609=A20,""))} | F20: {=IF(A20="","", _xlfn._xlws.FILTER('BD PREÇO'!$F$10:$F$1609,'BD PREÇO'!$A$10:$A$1609=A20,""))} | G20: {=IF(A20="","", _xlfn._xlws.FILTER('BD PREÇO'!$G$10:$G$1609,'BD PREÇO'!$A$10:$A$1609=A20,""))} | H20: {=IF(A20="","", _xlfn._xlws.FILTER('BD ITEM'!$M$12:$M$331,'BD ITEM'!$B$12:$B$331=B20,""))} | I20: {=IF(A20="","", _xlfn._xlws.FILTER('BD ITEM'!$N$12:$N$331,'BD ITEM'!$B$12:$B$331=B20,""))} | J20: {=IF(A20="","", _xlfn._xlws.FILTER('BD PREÇO'!$P$10:$P$1609,'BD PREÇO'!$A$10:$A$1609=A20,""))} | K20: {=IF(A20="","", _xlfn._xlws.FILTER('BD PREÇO'!$Q$10:$Q$1609,'BD PREÇO'!$A$10:$A$1609=A20,""))} | L20: {=IF(A20="","", _xlfn._xlws.FILTER('BD PREÇO'!$R$10:$R$1609,'BD PREÇO'!$A$10:$A$1609=A20,""))} | M20: {=IF(A20="","", _xlfn._xlws.FILTER('BD PREÇO'!$S$10:$S$1609,'BD PREÇO'!$A$10:$A$1609=A20,""))} | N20: {=IF(A20="","", _xlfn._xlws.FILTER('BD ITEM'!$O$12:$O$331,'BD ITEM'!$B$12:$B$331=B20,""))} | O20: {=IF(A20="","", _xlfn._xlws.FILTER('BD ITEM'!$P$12:$P$331,'BD ITEM'!$B$12:$B$331=B20,""))} | P20: {=IF(A20="","", _xlfn._xlws.FILTER('BD ITEM'!$Q$12:$Q$331,'BD ITEM'!$B$12:$B$331=B20,""))} | Q20: {=IF(A20="","", _xlfn._xlws.FILTER('BD PREÇO'!$T$10:$T$1609,'BD PREÇO'!$A$10:$A$1609=A20,""))}
B21: {=IF(A21="","", _xlfn._xlws.FILTER('BD PREÇO'!$B$10:$B$1609,'BD PREÇO'!$A$10:$A$1609=A21,""))} | C21: {=IF(A21="","", _xlfn._xlws.FILTER('BD PREÇO'!$C$10:$C$1609,'BD PREÇO'!$A$10:$A$1609=A21,""))} | D21: {=IF(A21="","", _xlfn._xlws.FILTER('BD ITEM'!$I$12:$I$331,'BD ITEM'!$B$12:$B$331=B21,""))} | E21: {=IF(A21="","", _xlfn._xlws.FILTER('BD PREÇO'!$E$10:$E$1609,'BD PREÇO'!$A$10:$A$1609=A21,""))} | F21: {=IF(A21="","", _xlfn._xlws.FILTER('BD PREÇO'!$F$10:$F$1609,'BD PREÇO'!$A$10:$A$1609=A21,""))} | G21: {=IF(A21="","", _xlfn._xlws.FILTER('BD PREÇO'!$G$10:$G$1609,'BD PREÇO'!$A$10:$A$1609=A21,""))} | H21: {=IF(A21="","", _xlfn._xlws.FILTER('BD ITEM'!$M$12:$M$331,'BD ITEM'!$B$12:$B$331=B21,""))} | I21: {=IF(A21="","", _xlfn._xlws.FILTER('BD ITEM'!$N$12:$N$331,'BD ITEM'!$B$12:$B$331=B21,""))} | J21: {=IF(A21="","", _xlfn._xlws.FILTER('BD PREÇO'!$P$10:$P$1609,'BD PREÇO'!$A$10:$A$1609=A21,""))} | K21: {=IF(A21="","", _xlfn._xlws.FILTER('BD PREÇO'!$Q$10:$Q$1609,'BD PREÇO'!$A$10:$A$1609=A21,""))} | L21: {=IF(A21="","", _xlfn._xlws.FILTER('BD PREÇO'!$R$10:$R$1609,'BD PREÇO'!$A$10:$A$1609=A21,""))} | M21: {=IF(A21="","", _xlfn._xlws.FILTER('BD PREÇO'!$S$10:$S$1609,'BD PREÇO'!$A$10:$A$1609=A21,""))} | N21: {=IF(A21="","", _xlfn._xlws.FILTER('BD ITEM'!$O$12:$O$331,'BD ITEM'!$B$12:$B$331=B21,""))} | O21: {=IF(A21="","", _xlfn._xlws.FILTER('BD ITEM'!$P$12:$P$331,'BD ITEM'!$B$12:$B$331=B21,""))} | P21: {=IF(A21="","", _xlfn._xlws.FILTER('BD ITEM'!$Q$12:$Q$331,'BD ITEM'!$B$12:$B$331=B21,""))} | Q21: {=IF(A21="","", _xlfn._xlws.FILTER('BD PREÇO'!$T$10:$T$1609,'BD PREÇO'!$A$10:$A$1609=A21,""))}
B22: {=IF(A22="","", _xlfn._xlws.FILTER('BD PREÇO'!$B$10:$B$1609,'BD PREÇO'!$A$10:$A$1609=A22,""))} | C22: {=IF(A22="","", _xlfn._xlws.FILTER('BD PREÇO'!$C$10:$C$1609,'BD PREÇO'!$A$10:$A$1609=A22,""))} | D22: {=IF(A22="","", _xlfn._xlws.FILTER('BD ITEM'!$I$12:$I$331,'BD ITEM'!$B$12:$B$331=B22,""))} | E22: {=IF(A22="","", _xlfn._xlws.FILTER('BD PREÇO'!$E$10:$E$1609,'BD PREÇO'!$A$10:$A$1609=A22,""))} | F22: {=IF(A22="","", _xlfn._xlws.FILTER('BD PREÇO'!$F$10:$F$1609,'BD PREÇO'!$A$10:$A$1609=A22,""))} | G22: {=IF(A22="","", _xlfn._xlws.FILTER('BD PREÇO'!$G$10:$G$1609,'BD PREÇO'!$A$10:$A$1609=A22,""))} | H22: {=IF(A22="","", _xlfn._xlws.FILTER('BD ITEM'!$M$12:$M$331,'BD ITEM'!$B$12:$B$331=B22,""))} | I22: {=IF(A22="","", _xlfn._xlws.FILTER('BD ITEM'!$N$12:$N$331,'BD ITEM'!$B$12:$B$331=B22,""))} | J22: {=IF(A22="","", _xlfn._xlws.FILTER('BD PREÇO'!$P$10:$P$1609,'BD PREÇO'!$A$10:$A$1609=A22,""))} | K22: {=IF(A22="","", _xlfn._xlws.FILTER('BD PREÇO'!$Q$10:$Q$1609,'BD PREÇO'!$A$10:$A$1609=A22,""))} | L22: {=IF(A22="","", _xlfn._xlws.FILTER('BD PREÇO'!$R$10:$R$1609,'BD PREÇO'!$A$10:$A$1609=A22,""))} | M22: {=IF(A22="","", _xlfn._xlws.FILTER('BD PREÇO'!$S$10:$S$1609,'BD PREÇO'!$A$10:$A$1609=A22,""))} | N22: {=IF(A22="","", _xlfn._xlws.FILTER('BD ITEM'!$O$12:$O$331,'BD ITEM'!$B$12:$B$331=B22,""))} | O22: {=IF(A22="","", _xlfn._xlws.FILTER('BD ITEM'!$P$12:$P$331,'BD ITEM'!$B$12:$B$331=B22,""))} | P22: {=IF(A22="","", _xlfn._xlws.FILTER('BD ITEM'!$Q$12:$Q$331,'BD ITEM'!$B$12:$B$331=B22,""))} | Q22: {=IF(A22="","", _xlfn._xlws.FILTER('BD PREÇO'!$T$10:$T$1609,'BD PREÇO'!$A$10:$A$1609=A22,""))}
B23: {=IF(A23="","", _xlfn._xlws.FILTER('BD PREÇO'!$B$10:$B$1609,'BD PREÇO'!$A$10:$A$1609=A23,""))} | C23: {=IF(A23="","", _xlfn._xlws.FILTER('BD PREÇO'!$C$10:$C$1609,'BD PREÇO'!$A$10:$A$1609=A23,""))} | D23: {=IF(A23="","", _xlfn._xlws.FILTER('BD ITEM'!$I$12:$I$331,'BD ITEM'!$B$12:$B$331=B23,""))} | E23: {=IF(A23="","", _xlfn._xlws.FILTER('BD PREÇO'!$E$10:$E$1609,'BD PREÇO'!$A$10:$A$1609=A23,""))} | F23: {=IF(A23="","", _xlfn._xlws.FILTER('BD PREÇO'!$F$10:$F$1609,'BD PREÇO'!$A$10:$A$1609=A23,""))} | G23: {=IF(A23="","", _xlfn._xlws.FILTER('BD PREÇO'!$G$10:$G$1609,'BD PREÇO'!$A$10:$A$1609=A23,""))} | H23: {=IF(A23="","", _xlfn._xlws.FILTER('BD ITEM'!$M$12:$M$331,'BD ITEM'!$B$12:$B$331=B23,""))} | I23: {=IF(A23="","", _xlfn._xlws.FILTER('BD ITEM'!$N$12:$N$331,'BD ITEM'!$B$12:$B$331=B23,""))} | J23: {=IF(A23="","", _xlfn._xlws.FILTER('BD PREÇO'!$P$10:$P$1609,'BD PREÇO'!$A$10:$A$1609=A23,""))} | K23: {=IF(A23="","", _xlfn._xlws.FILTER('BD PREÇO'!$Q$10:$Q$1609,'BD PREÇO'!$A$10:$A$1609=A23,""))} | L23: {=IF(A23="","", _xlfn._xlws.FILTER('BD PREÇO'!$R$10:$R$1609,'BD PREÇO'!$A$10:$A$1609=A23,""))} | M23: {=IF(A23="","", _xlfn._xlws.FILTER('BD PREÇO'!$S$10:$S$1609,'BD PREÇO'!$A$10:$A$1609=A23,""))} | N23: {=IF(A23="","", _xlfn._xlws.FILTER('BD ITEM'!$O$12:$O$331,'BD ITEM'!$B$12:$B$331=B23,""))} | O23: {=IF(A23="","", _xlfn._xlws.FILTER('BD ITEM'!$P$12:$P$331,'BD ITEM'!$B$12:$B$331=B23,""))} | P23: {=IF(A23="","", _xlfn._xlws.FILTER('BD ITEM'!$Q$12:$Q$331,'BD ITEM'!$B$12:$B$331=B23,""))} | Q23: {=IF(A23="","", _xlfn._xlws.FILTER('BD PREÇO'!$T$10:$T$1609,'BD PREÇO'!$A$10:$A$1609=A23,""))}
B24: {=IF(A24="","", _xlfn._xlws.FILTER('BD PREÇO'!$B$10:$B$1609,'BD PREÇO'!$A$10:$A$1609=A24,""))} | C24: {=IF(A24="","", _xlfn._xlws.FILTER('BD PREÇO'!$C$10:$C$1609,'BD PREÇO'!$A$10:$A$1609=A24,""))} | D24: {=IF(A24="","", _xlfn._xlws.FILTER('BD ITEM'!$I$12:$I$331,'BD ITEM'!$B$12:$B$331=B24,""))} | E24: {=IF(A24="","", _xlfn._xlws.FILTER('BD PREÇO'!$E$10:$E$1609,'BD PREÇO'!$A$10:$A$1609=A24,""))} | F24: {=IF(A24="","", _xlfn._xlws.FILTER('BD PREÇO'!$F$10:$F$1609,'BD PREÇO'!$A$10:$A$1609=A24,""))} | G24: {=IF(A24="","", _xlfn._xlws.FILTER('BD PREÇO'!$G$10:$G$1609,'BD PREÇO'!$A$10:$A$1609=A24,""))} | H24: {=IF(A24="","", _xlfn._xlws.FILTER('BD ITEM'!$M$12:$M$331,'BD ITEM'!$B$12:$B$331=B24,""))} | I24: {=IF(A24="","", _xlfn._xlws.FILTER('BD ITEM'!$N$12:$N$331,'BD ITEM'!$B$12:$B$331=B24,""))} | J24: {=IF(A24="","", _xlfn._xlws.FILTER('BD PREÇO'!$P$10:$P$1609,'BD PREÇO'!$A$10:$A$1609=A24,""))} | K24: {=IF(A24="","", _xlfn._xlws.FILTER('BD PREÇO'!$Q$10:$Q$1609,'BD PREÇO'!$A$10:$A$1609=A24,""))} | L24: {=IF(A24="","", _xlfn._xlws.FILTER('BD PREÇO'!$R$10:$R$1609,'BD PREÇO'!$A$10:$A$1609=A24,""))} | M24: {=IF(A24="","", _xlfn._xlws.FILTER('BD PREÇO'!$S$10:$S$1609,'BD PREÇO'!$A$10:$A$1609=A24,""))} | N24: {=IF(A24="","", _xlfn._xlws.FILTER('BD ITEM'!$O$12:$O$331,'BD ITEM'!$B$12:$B$331=B24,""))} | O24: {=IF(A24="","", _xlfn._xlws.FILTER('BD ITEM'!$P$12:$P$331,'BD ITEM'!$B$12:$B$331=B24,""))} | P24: {=IF(A24="","", _xlfn._xlws.FILTER('BD ITEM'!$Q$12:$Q$331,'BD ITEM'!$B$12:$B$331=B24,""))} | Q24: {=IF(A24="","", _xlfn._xlws.FILTER('BD PREÇO'!$T$10:$T$1609,'BD PREÇO'!$A$10:$A$1609=A24,""))}
B25: {=IF(A25="","", _xlfn._xlws.FILTER('BD PREÇO'!$B$10:$B$1609,'BD PREÇO'!$A$10:$A$1609=A25,""))} | C25: {=IF(A25="","", _xlfn._xlws.FILTER('BD PREÇO'!$C$10:$C$1609,'BD PREÇO'!$A$10:$A$1609=A25,""))} | D25: {=IF(A25="","", _xlfn._xlws.FILTER('BD ITEM'!$I$12:$I$331,'BD ITEM'!$B$12:$B$331=B25,""))} | E25: {=IF(A25="","", _xlfn._xlws.FILTER('BD PREÇO'!$E$10:$E$1609,'BD PREÇO'!$A$10:$A$1609=A25,""))} | F25: {=IF(A25="","", _xlfn._xlws.FILTER('BD PREÇO'!$F$10:$F$1609,'BD PREÇO'!$A$10:$A$1609=A25,""))} | G25: {=IF(A25="","", _xlfn._xlws.FILTER('BD PREÇO'!$G$10:$G$1609,'BD PREÇO'!$A$10:$A$1609=A25,""))} | H25: {=IF(A25="","", _xlfn._xlws.FILTER('BD ITEM'!$M$12:$M$331,'BD ITEM'!$B$12:$B$331=B25,""))} | I25: {=IF(A25="","", _xlfn._xlws.FILTER('BD ITEM'!$N$12:$N$331,'BD ITEM'!$B$12:$B$331=B25,""))} | J25: {=IF(A25="","", _xlfn._xlws.FILTER('BD PREÇO'!$P$10:$P$1609,'BD PREÇO'!$A$10:$A$1609=A25,""))} | K25: {=IF(A25="","", _xlfn._xlws.FILTER('BD PREÇO'!$Q$10:$Q$1609,'BD PREÇO'!$A$10:$A$1609=A25,""))} | L25: {=IF(A25="","", _xlfn._xlws.FILTER('BD PREÇO'!$R$10:$R$1609,'BD PREÇO'!$A$10:$A$1609=A25,""))} | M25: {=IF(A25="","", _xlfn._xlws.FILTER('BD PREÇO'!$S$10:$S$1609,'BD PREÇO'!$A$10:$A$1609=A25,""))} | N25: {=IF(A25="","", _xlfn._xlws.FILTER('BD ITEM'!$O$12:$O$331,'BD ITEM'!$B$12:$B$331=B25,""))} | O25: {=IF(A25="","", _xlfn._xlws.FILTER('BD ITEM'!$P$12:$P$331,'BD ITEM'!$B$12:$B$331=B25,""))} | P25: {=IF(A25="","", _xlfn._xlws.FILTER('BD ITEM'!$Q$12:$Q$331,'BD ITEM'!$B$12:$B$331=B25,""))} | Q25: {=IF(A25="","", _xlfn._xlws.FILTER('BD PREÇO'!$T$10:$T$1609,'BD PREÇO'!$A$10:$A$1609=A25,""))}
B26: {=IF(A26="","", _xlfn._xlws.FILTER('BD PREÇO'!$B$10:$B$1609,'BD PREÇO'!$A$10:$A$1609=A26,""))} | C26: {=IF(A26="","", _xlfn._xlws.FILTER('BD PREÇO'!$C$10:$C$1609,'BD PREÇO'!$A$10:$A$1609=A26,""))} | D26: {=IF(A26="","", _xlfn._xlws.FILTER('BD ITEM'!$I$12:$I$331,'BD ITEM'!$B$12:$B$331=B26,""))} | E26: {=IF(A26="","", _xlfn._xlws.FILTER('BD PREÇO'!$E$10:$E$1609,'BD PREÇO'!$A$10:$A$1609=A26,""))} | F26: {=IF(A26="","", _xlfn._xlws.FILTER('BD PREÇO'!$F$10:$F$1609,'BD PREÇO'!$A$10:$A$1609=A26,""))} | G26: {=IF(A26="","", _xlfn._xlws.FILTER('BD PREÇO'!$G$10:$G$1609,'BD PREÇO'!$A$10:$A$1609=A26,""))} | H26: {=IF(A26="","", _xlfn._xlws.FILTER('BD ITEM'!$M$12:$M$331,'BD ITEM'!$B$12:$B$331=B26,""))} | I26: {=IF(A26="","", _xlfn._xlws.FILTER('BD ITEM'!$N$12:$N$331,'BD ITEM'!$B$12:$B$331=B26,""))} | J26: {=IF(A26="","", _xlfn._xlws.FILTER('BD PREÇO'!$P$10:$P$1609,'BD PREÇO'!$A$10:$A$1609=A26,""))} | K26: {=IF(A26="","", _xlfn._xlws.FILTER('BD PREÇO'!$Q$10:$Q$1609,'BD PREÇO'!$A$10:$A$1609=A26,""))} | L26: {=IF(A26="","", _xlfn._xlws.FILTER('BD PREÇO'!$R$10:$R$1609,'BD PREÇO'!$A$10:$A$1609=A26,""))} | M26: {=IF(A26="","", _xlfn._xlws.FILTER('BD PREÇO'!$S$10:$S$1609,'BD PREÇO'!$A$10:$A$1609=A26,""))} | N26: {=IF(A26="","", _xlfn._xlws.FILTER('BD ITEM'!$O$12:$O$331,'BD ITEM'!$B$12:$B$331=B26,""))} | O26: {=IF(A26="","", _xlfn._xlws.FILTER('BD ITEM'!$P$12:$P$331,'BD ITEM'!$B$12:$B$331=B26,""))} | P26: {=IF(A26="","", _xlfn._xlws.FILTER('BD ITEM'!$Q$12:$Q$331,'BD ITEM'!$B$12:$B$331=B26,""))} | Q26: {=IF(A26="","", _xlfn._xlws.FILTER('BD PREÇO'!$T$10:$T$1609,'BD PREÇO'!$A$10:$A$1609=A26,""))}
B27: {=IF(A27="","", _xlfn._xlws.FILTER('BD PREÇO'!$B$10:$B$1609,'BD PREÇO'!$A$10:$A$1609=A27,""))} | C27: {=IF(A27="","", _xlfn._xlws.FILTER('BD PREÇO'!$C$10:$C$1609,'BD PREÇO'!$A$10:$A$1609=A27,""))} | D27: {=IF(A27="","", _xlfn._xlws.FILTER('BD ITEM'!$I$12:$I$331,'BD ITEM'!$B$12:$B$331=B27,""))} | E27: {=IF(A27="","", _xlfn._xlws.FILTER('BD PREÇO'!$E$10:$E$1609,'BD PREÇO'!$A$10:$A$1609=A27,""))} | F27: {=IF(A27="","", _xlfn._xlws.FILTER('BD PREÇO'!$F$10:$F$1609,'BD PREÇO'!$A$10:$A$1609=A27,""))} | G27: {=IF(A27="","", _xlfn._xlws.FILTER('BD PREÇO'!$G$10:$G$1609,'BD PREÇO'!$A$10:$A$1609=A27,""))} | H27: {=IF(A27="","", _xlfn._xlws.FILTER('BD ITEM'!$M$12:$M$331,'BD ITEM'!$B$12:$B$331=B27,""))} | I27: {=IF(A27="","", _xlfn._xlws.FILTER('BD ITEM'!$N$12:$N$331,'BD ITEM'!$B$12:$B$331=B27,""))} | J27: {=IF(A27="","", _xlfn._xlws.FILTER('BD PREÇO'!$P$10:$P$1609,'BD PREÇO'!$A$10:$A$1609=A27,""))} | K27: {=IF(A27="","", _xlfn._xlws.FILTER('BD PREÇO'!$Q$10:$Q$1609,'BD PREÇO'!$A$10:$A$1609=A27,""))} | L27: {=IF(A27="","", _xlfn._xlws.FILTER('BD PREÇO'!$R$10:$R$1609,'BD PREÇO'!$A$10:$A$1609=A27,""))} | M27: {=IF(A27="","", _xlfn._xlws.FILTER('BD PREÇO'!$S$10:$S$1609,'BD PREÇO'!$A$10:$A$1609=A27,""))} | N27: {=IF(A27="","", _xlfn._xlws.FILTER('BD ITEM'!$O$12:$O$331,'BD ITEM'!$B$12:$B$331=B27,""))} | O27: {=IF(A27="","", _xlfn._xlws.FILTER('BD ITEM'!$P$12:$P$331,'BD ITEM'!$B$12:$B$331=B27,""))} | P27: {=IF(A27="","", _xlfn._xlws.FILTER('BD ITEM'!$Q$12:$Q$331,'BD ITEM'!$B$12:$B$331=B27,""))} | Q27: {=IF(A27="","", _xlfn._xlws.FILTER('BD PREÇO'!$T$10:$T$1609,'BD PREÇO'!$A$10:$A$1609=A27,""))}
B28: {=IF(A28="","", _xlfn._xlws.FILTER('BD PREÇO'!$B$10:$B$1609,'BD PREÇO'!$A$10:$A$1609=A28,""))} | C28: {=IF(A28="","", _xlfn._xlws.FILTER('BD PREÇO'!$C$10:$C$1609,'BD PREÇO'!$A$10:$A$1609=A28,""))} | D28: {=IF(A28="","", _xlfn._xlws.FILTER('BD ITEM'!$I$12:$I$331,'BD ITEM'!$B$12:$B$331=B28,""))} | E28: {=IF(A28="","", _xlfn._xlws.FILTER('BD PREÇO'!$E$10:$E$1609,'BD PREÇO'!$A$10:$A$1609=A28,""))} | F28: {=IF(A28="","", _xlfn._xlws.FILTER('BD PREÇO'!$F$10:$F$1609,'BD PREÇO'!$A$10:$A$1609=A28,""))} | G28: {=IF(A28="","", _xlfn._xlws.FILTER('BD PREÇO'!$G$10:$G$1609,'BD PREÇO'!$A$10:$A$1609=A28,""))} | H28: {=IF(A28="","", _xlfn._xlws.FILTER('BD ITEM'!$M$12:$M$331,'BD ITEM'!$B$12:$B$331=B28,""))} | I28: {=IF(A28="","", _xlfn._xlws.FILTER('BD ITEM'!$N$12:$N$331,'BD ITEM'!$B$12:$B$331=B28,""))} | J28: {=IF(A28="","", _xlfn._xlws.FILTER('BD PREÇO'!$P$10:$P$1609,'BD PREÇO'!$A$10:$A$1609=A28,""))} | K28: {=IF(A28="","", _xlfn._xlws.FILTER('BD PREÇO'!$Q$10:$Q$1609,'BD PREÇO'!$A$10:$A$1609=A28,""))} | L28: {=IF(A28="","", _xlfn._xlws.FILTER('BD PREÇO'!$R$10:$R$1609,'BD PREÇO'!$A$10:$A$1609=A28,""))} | M28: {=IF(A28="","", _xlfn._xlws.FILTER('BD PREÇO'!$S$10:$S$1609,'BD PREÇO'!$A$10:$A$1609=A28,""))} | N28: {=IF(A28="","", _xlfn._xlws.FILTER('BD ITEM'!$O$12:$O$331,'BD ITEM'!$B$12:$B$331=B28,""))} | O28: {=IF(A28="","", _xlfn._xlws.FILTER('BD ITEM'!$P$12:$P$331,'BD ITEM'!$B$12:$B$331=B28,""))} | P28: {=IF(A28="","", _xlfn._xlws.FILTER('BD ITEM'!$Q$12:$Q$331,'BD ITEM'!$B$12:$B$331=B28,""))} | Q28: {=IF(A28="","", _xlfn._xlws.FILTER('BD PREÇO'!$T$10:$T$1609,'BD PREÇO'!$A$10:$A$1609=A28,""))}
B29: {=IF(A29="","", _xlfn._xlws.FILTER('BD PREÇO'!$B$10:$B$1609,'BD PREÇO'!$A$10:$A$1609=A29,""))} | C29: {=IF(A29="","", _xlfn._xlws.FILTER('BD PREÇO'!$C$10:$C$1609,'BD PREÇO'!$A$10:$A$1609=A29,""))} | D29: {=IF(A29="","", _xlfn._xlws.FILTER('BD ITEM'!$I$12:$I$331,'BD ITEM'!$B$12:$B$331=B29,""))} | E29: {=IF(A29="","", _xlfn._xlws.FILTER('BD PREÇO'!$E$10:$E$1609,'BD PREÇO'!$A$10:$A$1609=A29,""))} | F29: {=IF(A29="","", _xlfn._xlws.FILTER('BD PREÇO'!$F$10:$F$1609,'BD PREÇO'!$A$10:$A$1609=A29,""))} | G29: {=IF(A29="","", _xlfn._xlws.FILTER('BD PREÇO'!$G$10:$G$1609,'BD PREÇO'!$A$10:$A$1609=A29,""))} | H29: {=IF(A29="","", _xlfn._xlws.FILTER('BD ITEM'!$M$12:$M$331,'BD ITEM'!$B$12:$B$331=B29,""))} | I29: {=IF(A29="","", _xlfn._xlws.FILTER('BD ITEM'!$N$12:$N$331,'BD ITEM'!$B$12:$B$331=B29,""))} | J29: {=IF(A29="","", _xlfn._xlws.FILTER('BD PREÇO'!$P$10:$P$1609,'BD PREÇO'!$A$10:$A$1609=A29,""))} | K29: {=IF(A29="","", _xlfn._xlws.FILTER('BD PREÇO'!$Q$10:$Q$1609,'BD PREÇO'!$A$10:$A$1609=A29,""))} | L29: {=IF(A29="","", _xlfn._xlws.FILTER('BD PREÇO'!$R$10:$R$1609,'BD PREÇO'!$A$10:$A$1609=A29,""))} | M29: {=IF(A29="","", _xlfn._xlws.FILTER('BD PREÇO'!$S$10:$S$1609,'BD PREÇO'!$A$10:$A$1609=A29,""))} | N29: {=IF(A29="","", _xlfn._xlws.FILTER('BD ITEM'!$O$12:$O$331,'BD ITEM'!$B$12:$B$331=B29,""))} | O29: {=IF(A29="","", _xlfn._xlws.FILTER('BD ITEM'!$P$12:$P$331,'BD ITEM'!$B$12:$B$331=B29,""))} | P29: {=IF(A29="","", _xlfn._xlws.FILTER('BD ITEM'!$Q$12:$Q$331,'BD ITEM'!$B$12:$B$331=B29,""))} | Q29: {=IF(A29="","", _xlfn._xlws.FILTER('BD PREÇO'!$T$10:$T$1609,'BD PREÇO'!$A$10:$A$1609=A29,""))}
... B335: {=IF(A335="","", _xlfn._xlws.FILTER('BD PREÇO'!$B$10:$B$1609,'BD PREÇO'!$A$10:$A$1609=A335,""))} | C335: {=IF(A335="","", _xlfn._xlws.FILTER('BD PREÇO'!$C$10:$C$1609,'BD PREÇO'!$A$10:$A$1609=A335,""))} | D335: {=IF(A335="","", _xlfn._xlws.FILTER('BD ITEM'!$I$12:$I$331,'BD ITEM'!$B$12:$B$331=B335,""))} | E335: {=IF(A335="","", _xlfn._xlws.FILTER('BD PREÇO'!$E$10:$E$1609,'BD PREÇO'!$A$10:$A$1609=A335,""))} | F335: {=IF(A335="","", _xlfn._xlws.FILTER('BD PREÇO'!$F$10:$F$1609,'BD PREÇO'!$A$10:$A$1609=A335,""))} | G335: {=IF(A335="","", _xlfn._xlws.FILTER('BD PREÇO'!$G$10:$G$1609,'BD PREÇO'!$A$10:$A$1609=A335,""))} | H335: {=IF(A335="","", _xlfn._xlws.FILTER('BD ITEM'!$M$12:$M$331,'BD ITEM'!$B$12:$B$331=B335,""))} | I335: {=IF(A335="","", _xlfn._xlws.FILTER('BD ITEM'!$N$12:$N$331,'BD ITEM'!$B$12:$B$331=B335,""))} | J335: {=IF(A335="","", _xlfn._xlws.FILTER('BD PREÇO'!$P$10:$P$1609,'BD PREÇO'!$A$10:$A$1609=A335,""))} | K335: {=IF(A335="","", _xlfn._xlws.FILTER('BD PREÇO'!$Q$10:$Q$1609,'BD PREÇO'!$A$10:$A$1609=A335,""))} | L335: {=IF(A335="","", _xlfn._xlws.FILTER('BD PREÇO'!$R$10:$R$1609,'BD PREÇO'!$A$10:$A$1609=A335,""))} | M335: {=IF(A335="","", _xlfn._xlws.FILTER('BD PREÇO'!$S$10:$S$1609,'BD PREÇO'!$A$10:$A$1609=A335,""))} | N335: {=IF(A335="","", _xlfn._xlws.FILTER('BD ITEM'!$O$12:$O$331,'BD ITEM'!$B$12:$B$331=B335,""))} | O335: {=IF(A335="","", _xlfn._xlws.FILTER('BD ITEM'!$P$12:$P$331,'BD ITEM'!$B$12:$B$331=B335,""))} | P335: {=IF(A335="","", _xlfn._xlws.FILTER('BD ITEM'!$Q$12:$Q$331,'BD ITEM'!$B$12:$B$331=B335,""))} | Q335: {=IF(A335="","", _xlfn._xlws.FILTER('BD PREÇO'!$T$10:$T$1609,'BD PREÇO'!$A$10:$A$1609=A335,""))}

Sheet BD PREÇO
A1: MAPA DE PREÇOS DO DILAB/LFDA-MG - PLANILHA MAPRE - PREÇOS DE REFERÊNCIA POR MENOR VALOR OU TENDÊNCIA CENTRAL
A2: Precificação de itens - compilação de informações | G2: Nota: Nesta aba BD PREÇO, somente dados da aba BD ITEM com linhas com preenchimento corerto são carregados.
A4: Data atual: | C4: =TODAY() -> 46098 | I4: Quant. de itens nesta aba (preench. correto em [BD ITEM]: | J4: ='BD ITEM'!I5 -> 2
A5: Lista: | C5: =IF('BD ITEM'!C5="","Nome da lista não informado na aba BD ITEM",'BD ITEM'!C5) -> 21181.000240/2026-41 | I5: Quantidade de itens válidos finais: | J5: ='REL GER - RELAT. COMPRASGOV'!E9 -> 2
A6: Origem de ID SEC: | F6: Origem de ID PRI: | I6: =IF('BD ITEM'!C9="","",'BD ITEM'!C9) -> 2026
A8: Preços obtidos para os itens elencados | I8: Nota: o CNPJ 00.000.000/0000-00 para Compras governamentais e o CNPJ 99.999.999/9999-99 para Item excluído não são CNPJ válidos, atribuído somente para que o campo não fique com valor nulo.
A9: ID SEC (*** para excluído ao REL GER) | B9: ID PRI (*** se excluído em BD ITEM) | C9: Descrição do(s) item(ns) | D9: Referência (*** se vazio) | E9: CATMAT (*** se vazio) | F9: Unid. | G9: Quantid. total | H9: N° ordem do preço | I9: Empresa | J9: CNPJ | K9: Preço (R$) - Valor unitário | L9: Fonte do preço | M9: Válidade do orçamento/preço | N9: Notas, comentários e observações (não obrigatório) | O9: Modalidade de cálculo | P9: N° de propostas válidas na precificação | Q9: Coeficiente de variação das propostas válidas (%) | R9: Valor unitário estimado (R$) | S9: Valor total estimado (R$) | T9: Auditoria de preenchimento | V9: Auditoria Bloco 9 | W9: Auditoria Bloco 10 | X9: Auditoria Bloco 11 | Y9: Auditoria Bloco 12 | Z9: Auditoria Bloco 13 | AA9: Auditoria Bloco 14 | AB9: Auditoria Bloco 15 | AC9: Auditoria Bloco 16 | AD9: Preços válidos
A10: 01 | B10: =IF(OR('BD ITEM'!$Q12<>"Preenchimento correto"),"",'BD ITEM'!B12) -> 1 | C10: =IF(OR('BD ITEM'!$Q12<>"Preenchimento correto"),"",'BD ITEM'!C12) -> BOMBA DE OR LINHA INT/ADV - NCM 84138100 | D10: =IF(OR('BD ITEM'!$Q12<>"Preenchimento correto"),"",'BD ITEM'!D12) -> Orçamento Merck 50597455 | E10: =IF(OR('BD ITEM'!$Q12<>"Preenchimento correto"),"",'BD ITEM'!J12) -> 415030 | F10: =IF(OR('BD ITEM'!$Q12<>"Preenchimento correto"),"",'BD ITEM'!K12) -> RCA | G10: =IF(OR('BD ITEM'!$Q12<>"Preenchimento correto"),"",'BD ITEM'!L12) -> 1 | H10: 1 | I10: MERCK S/A | J10: =IF(I10="","", VLOOKUP(I10,'BD EMPRES'!$B$8:$C$507,2,FALSE)) -> 33.069.212/0008-50 | K10: 3369 | L10: Orçamento de empresa | M10: Válido | O10: Menor valor | P10: =IF(AND(K10="",K11="",K12="",K13="",K14=""),"", COUNTIFS(K10:K14,"<>""",M10:M14,"=Válido")) -> 3 | Q10: =IF(T10<>"Preenchimento correto","", IF(P10=1,0, IF(P10=0,"", IF(P10="","", ROUND(_xlfn.STDEV.S(AD10:AD14)/AVERAGE(AD10:AD14),4))))) -> 0.6761 | R10: =IF(T10<>"Preenchimento correto","", IF(P10="","", IF(P10=0,"", IF(O10="","", IF(O10="Menor valor",MIN(AD10:AD14), IF(AND(O10="Tend. central",Q10<=0.25),ROUND(AVERAGE(AD10:AD14),2), IF(AND(O10="Tend. central",Q10>0.25),ROUND(MEDIAN(AD10:AD14),2)))))))) -> 3369 | S10: =IF(T10<>"Preenchimento correto","", IF(O10="","", IF(P10="","", IF(P10=0,"", IF(OR(G10="",R10=""),"", G10*R10))))) -> 3369 | T10: =IF(AND(A10="",B10="",I10="",I11="",I12="",I13="",I14="",K10="",K11="",K12="",K13="",K14="",L10="",L11="",L12="",L13="",L14="",M10="",M11="",M12="",M13="",M14="",O10=""),"", IF(A10="","Preenchimento incompleto: falta informar o ID SEC - B01.01", IF(AND(A10<>"",B10<>"",I10="",I11="",I12="",I13="",I14="",K10="",K11="",K12="",K13="",K14="",L10="",L11="",L12="",L13="",L14="",M10="",M11="",M12="",M13="",M14="",O10=""),"Preenchimento incompleto: item sem nenhuma informação de empresa e preço e fonte de preço e validade do orçamento e modalidade de cálculo - B02.01", IF(AND(B10="",OR(I10<>"",I11<>"",I12<>"",I13<>"",I14<>"",K10<>"",K11<>"",K12<>"",K13<>"",K14<>"",L10<>"",L11<>"",L12<>"",L13<>"",L14<>"",M10<>"",M11<>"",M12<>"",M13<>"",M14<>"",O10<>"")),"Erro: há empresa(s) e/ou preço(s) e/ou fonte(s) de preço e/ou validade(s) do orçamento e/ou modalidade de cálculo informados para item inexistente - B03.01", IF(AND(I10<>"",OR(K10="",L10="",M10="",O10="")),"Preenchimento incompleto: empresa sem preço e(ou) fonte de preço e(ou) validade do orçamento e(ou) modalidade de cálculo associados - B04.01", IF(AND(I11<>"",OR(K11="",L11="",M11="",O10="")),"Preenchimento incompleto: empresa sem preço e(ou) fonte de preço e(ou) validade do orçamento e(ou) modalidade de cálculo associados - B04.02", IF(AND(I12<>"",OR(K12="",L12="",M12="",O10="")),"Preenchimento incompleto: empresa sem preço e(ou) fonte de preço e(ou) validade do orçamento e(ou) modalidade de cálculo associados - B04.03", IF(AND(I13<>"",OR(K13="",L13="",M13="",O10="")),"Preenchimento incompleto: empresa sem preço e(ou) fonte de preço e(ou) validade do orçamento e(ou) modalidade de cálculo associados - B04.04", IF(AND(I14<>"",OR(K14="",L14="",M14="",O10="")),"Preenchimento incompleto: empresa sem preço e(ou) fonte de preço e(ou) validade do orçamento e(ou) modalidade de cálculo associados - B04.05", IF(AND(K10<>"",OR(I10="",L10="",M10="",O10="")),"Preenchimento incompleto: preço sem empresa e(ou) fonte do preço associados e(ou) validade do orçamento e(ou) modalidade de cálculo associados - B05.01", IF(AND(K11<>"",OR(I11="",L11="",M11="",O10="")),"Preenchimento incompleto: preço sem empresa e(ou) fonte do preço associados e(ou) validade do orçamento e(ou) modalidade de cálculo associados - B05.02", IF(AND(K12<>"",OR(I12="",L12="",M12="",O10="")),"Preenchimento incompleto: preço sem empresa e(ou) fonte do preço associados e(ou) validade do orçamento e(ou) modalidade de cálculo associados - B05.03", IF(AND(K13<>"",OR(I13="",L13="",M13="",O10="")),"Preenchimento incompleto: preço sem empresa e(ou) fonte do preço associados e(ou) validade do orçamento e(ou) modalidade de cálculo associados - B05.04", IF(AND(K14<>"",OR(I14="",L14="",M14="",O10="")),"Preenchimento incompleto: preço sem empresa e(ou) fonte do preço associados e(ou) validade do orçamento e(ou) modalidade de cálculo associados - B05.05", IF(AND(L10<>"",OR(K10="",I10="",M10="",O10="")),"Preenchimento incompleto: fonte do preço sem empresa e(ou) preço associados e(ou) validade do orçamento e(ou) modalidade de cálculo associados - B06.01", IF(AND(L11<>"",OR(K11="",I11="",M11="",O10="")),"Preenchimento incompleto: fonte do preço sem empresa e(ou) preço associados e(ou) validade do orçamento e(ou) modalidade de cálculo associados - B06.02", IF(AND(L12<>"",OR(K12="",I12="",M12="",O10="")),"Preenchimento incompleto: fonte do preço sem empresa e(ou) preço associados e(ou) validade do orçamento e(ou) modalidade de cálculo associados - B06.03", IF(AND(L13<>"",OR(K13="",I13="",M13="",O10="")),"Preenchimento incompleto: fonte do preço sem empresa e(ou) preço associados e(ou) validade do orçamento e(ou) modalidade de cálculo associados - B06.04", IF(AND(L14<>"",OR(K14="",I14="",M14="",O10="")),"Preenchimento incompleto: fonte do preço sem empresa e(ou) preço associados e(ou) validade do orçamento e(ou) modalidade de cálculo associados - B06.05", IF(AND(M10<>"",OR(K10="",I10="",L10="",O10="")),"Preenchimento incompleto: validade do orçamento sem empresa e(ou) preço associados e(ou) fonte do preço e(ou) modalidade de cálculo associados - B07.01", IF(AND(M11<>"",OR(K11="",I11="",L11="",O10="")),"Preenchimento incompleto: validade do orçamento sem empresa e(ou) preço associados e(ou) fonte do preço e(ou) modalidade de cálculo associados - B07.02", IF(AND(M12<>"",OR(K12="",I12="",L12="",O10="")),"Preenchimento incompleto: validade do orçamento sem empresa e(ou) preço associados e(ou) fonte do preço e(ou) modalidade de cálculo associados - B07.03", IF(AND(M13<>"",OR(K13="",I13="",L13="",O10="")),"Preenchimento incompleto: validade do orçamento sem empresa e(ou) preço associados e(ou) fonte do preço e(ou) modalidade de cálculo associados - B07.04", IF(AND(M14<>"",OR(K14="",I14="",L14="",O10="")),"Preenchimento incompleto: validade do orçamento sem empresa e(ou) preço associados e(ou) fonte do preço e(ou) modalidade de cálculo associados - B07.05", IF(O10="","Preenchimento incompleto: modalidade de cálculo não informada - B08.01", IF(V10="Erro: há repetição de empresa de mídia especializada para o item sendo precificado - B09.01a05","Erro: há repetição de empresa de mídia especializada para o item sendo precificado - B09.01a05", IF(W10="Erro: há repetição de empresa de orçamento de empresa para o item sendo precificado - B10.01a05","Erro: há repetição de empresa de orçamento de empresa para o item sendo precificado - B10.01a05", IF(X10="Erro: a fonte de preços informada é incompatível com compras governamentais - B11.01a05","Erro: a fonte de preços informada é incompatível com compras governamentais - B11.01a05", IF(Y10="Erro: a fonte de preços informada é incompatível com compras governamentais - B12.01a05","Erro: a fonte de preços informada é incompatível com compras governamentais - B12.01a05", IF(Z10="Erro: há linhas sendo puladas - B13.01a04","Erro: há linhas sendo puladas - B13.01a04", IF(AA10="Erro: há linhas sendo puladas - B14.01a05","Erro: há linhas sendo puladas - B14.01a05", IF(AB10="Erro: há linhas sendo puladas - B15.01a05","Erro: há linhas sendo puladas - B15.01a05", IF(AC10="Erro: há linhas sendo puladas - B16.01a05","Erro: há linhas sendo puladas - B16.01a05", IF(AND(P10<>"",P10=0),"Preenchimento incompleto: número de propostas válidas igual a zero - B17.01", "Preenchimento correto")))))))))))))))))))))))))))))))))) -> Preenchimento correto | V10: =IF(COUNTIFS(I10:I14,I10,L10:L14,"=Mídia especializada")>1,"Erro: há repetição de empresa de mídia especializada para o item sendo precificado - B09.01a05", IF(COUNTIFS(I10:I14,I11,L10:L14,"=Mídia especializada")>1,"Erro: há repetição de empresa de mídia especializada para o item sendo precificado - B09.01a05", IF(COUNTIFS(I10:I14,I12,L10:L14,"=Mídia especializada")>1,"Erro: há repetição de empresa de mídia especializada para o item sendo precificado - B09.01a05", IF(COUNTIFS(I10:I14,I13,L10:L14,"=Mídia especializada")>1,"Erro: há repetição de empresa de mídia especializada para o item sendo precificado - B09.01a05", IF(COUNTIFS(I10:I14,I14,L10:L14,"=Mídia especializada")>1,"Erro: há repetição de empresa de mídia especializada para o item sendo precificado - B09.01a05", "***"))))) -> *** | W10: =IF(COUNTIFS(I10:I14,I10,L10:L14,"=Orçamento de empresa")>1,"Erro: há repetição de empresa de orçamento de empresa para o item sendo precificado - B10.01a05", IF(COUNTIFS(I10:I14,I11,L10:L14,"=Orçamento de empresa")>1,"Erro: há repetição de empresa de orçamento de empresa para o item sendo precificado - B10.01a05", IF(COUNTIFS(I10:I14,I12,L10:L14,"=Orçamento de empresa")>1,"Erro: há repetição de empresa de orçamento de empresa para o item sendo precificado - B10.01a05", IF(COUNTIFS(I10:I14,I13,L10:L14,"=Orçamento de empresa")>1,"Erro: há repetição de empresa de orçamento de empresa para o item sendo precificado - B10.01a05", IF(COUNTIFS(I10:I14,I14,L10:L14,"=Orçamento de empresa")>1,"Erro: há repetição de empresa de orçamento de empresa para o item sendo precificado - B10.01a05", "***"))))) -> *** | X10: =IF(AND(I10="Compras governamentais",K10<>"",L10="Orçamento de empresa"),"Erro: a fonte de preços informada é incompatível com compras governamentais - B11.01a05", IF(AND(I11="Compras governamentais",K11<>"",L11="Orçamento de empresa"),"Erro: a fonte de preços informada é incompatível com compras governamentais - B11.01a05", IF(AND(I12="Compras governamentais",K12<>"",L12="Orçamento de empresa"),"Erro: a fonte de preços informada é incompatível com compras governamentais - B11.01a05", IF(AND(I13="Compras governamentais",K13<>"",L13="Orçamento de empresa"),"Erro: a fonte de preços informada é incompatível com compras governamentais - B11.01a05", IF(AND(I14="Compras governamentais",K14<>"",L14="Orçamento de empresa"),"Erro: a fonte de preços informada é incompatível com compras governamentais - B11.01a05", "***"))))) -> *** | Y10: =IF(AND(I10="Compras governamentais",K10<>"",L10="Mídia especializada"),"Erro: a fonte de preços informada é incompatível com compras governamentais - B12.01a05", IF(AND(I11="Compras governamentais",K11<>"",L11="Mídia especializada"),"Erro: a fonte de preços informada é incompatível com compras governamentais - B12.01a05", IF(AND(I12="Compras governamentais",K12<>"",L12="Mídia especializada"),"Erro: a fonte de preços informada é incompatível com compras governamentais - B12.01a05", IF(AND(I13="Compras governamentais",K13<>"",L13="Mídia especializada"),"Erro: a fonte de preços informada é incompatível com compras governamentais - B12.01a05", IF(AND(I14="Compras governamentais",K14<>"",L14="Mídia especializada"),"Erro: a fonte de preços informada é incompatível com compras governamentais - B12.01a05", "***"))))) -> *** | Z10: =IF(AND(I11<>"",OR(I10="")),"Erro: há linhas sendo puladas - B13.01a04", IF(AND(I12<>"",OR(I10="",I11="")),"Erro: há linhas sendo puladas - B13.01a04", IF(AND(I13<>"",OR(I10="",I11="",I12="")),"Erro: há linhas sendo puladas - B13.01a04", IF(AND(I14<>"",OR(I10="",I11="",I12="",I13="")),"Erro: há linhas sendo puladas - B13.01a04", "***")))) -> *** | AA10: =IF(AND(K11<>"",OR(K10="")),"Erro: há linhas sendo puladas - B14.01a05", IF(AND(K12<>"",OR(K10="",K11="")),"Erro: há linhas sendo puladas - B14.01a05", IF(AND(K13<>"",OR(K10="",K11="",K12="")),"Erro: há linhas sendo puladas - B14.01a05", IF(AND(K14<>"",OR(K10="",K11="",K12="",K13="")),"Erro: há linhas sendo puladas - B14.01a05", "***")))) -> *** | AB10: =IF(AND(L11<>"",OR(L10="")),"Erro: há linhas sendo puladas - B15.01a05", IF(AND(L12<>"",OR(L10="",L11="")),"Erro: há linhas sendo puladas - B15.01a05", IF(AND(L13<>"",OR(L10="",L11="",L12="")),"Erro: há linhas sendo puladas - B15.01a05", IF(AND(L14<>"",OR(L10="",L11="",L12="",L13="")),"Erro: há linhas sendo puladas - B15.01a05", "***")))) -> *** | AC10: =IF(AND(M11<>"",OR(M10="")),"Erro: há linhas sendo puladas - B16.01a05", IF(AND(M12<>"",OR(M10="",M11="")),"Erro: há linhas sendo puladas - B16.01a05", IF(AND(M13<>"",OR(M10="",M11="",M12="")),"Erro: há linhas sendo puladas - B16.01a05", IF(AND(M14<>"",OR(M10="",M11="",M12="",M13="")),"Erro: há linhas sendo puladas - B16.01a05", "***")))) -> *** | AD10: =IF(T10<>"Preenchimento correto","", IF(K10="","", IF(M10="Não válido","", K10))) -> 3369
H11: 2 | I11: Milli express | J11: =IF(I11="","", VLOOKUP(I11,'BD EMPRES'!$B$8:$C$507,2,FALSE)) -> 08.623.794/0001-51 | K11: 3743 | L11: Orçamento de empresa | M11: Válido | AD11: =IF(T10<>"Preenchimento correto","", IF(K11="","", IF(M11="Não válido","", K11))) -> 3743
H12: 3 | I12: Compras governamentais | J12: =IF(I12="","", VLOOKUP(I12,'BD EMPRES'!$B$8:$C$507,2,FALSE)) -> 00.000.000/0000-00 | K12: 10374.5 | L12: ComprasGov | M12: Válido | AD12: =IF(T10<>"Preenchimento correto","", IF(K12="","", IF(M12="Não válido","", K12))) -> 10374.5
H13: 4 | J13: =IF(I13="","", VLOOKUP(I13,'BD EMPRES'!$B$8:$C$507,2,FALSE)) | AD13: =IF(T10<>"Preenchimento correto","", IF(K13="","", IF(M13="Não válido","", K13)))
H14: 5 | J14: =IF(I14="","", VLOOKUP(I14,'BD EMPRES'!$B$8:$C$507,2,FALSE)) | AD14: =IF(T10>"Preenchimento correto","", IF(K14="","", IF(M14="Não válido","", K14)))
A15: 02 | B15: =IF(OR('BD ITEM'!$Q13<>"Preenchimento correto"),"",'BD ITEM'!B13) -> 2 | C15: =IF(OR('BD ITEM'!$Q13<>"Preenchimento correto"),"",'BD ITEM'!C13) -> PLACA FONTE SISTEMA INTEGRAL - NCM 85423190 | D15: =IF(OR('BD ITEM'!$Q13<>"Preenchimento correto"),"",'BD ITEM'!D13) -> Orçamento Merck 50597455 | E15: =IF(OR('BD ITEM'!$Q13<>"Preenchimento correto"),"",'BD ITEM'!J13) -> 426971 | F15: =IF(OR('BD ITEM'!$Q13<>"Preenchimento correto"),"",'BD ITEM'!K13) -> RCA | G15: =IF(OR('BD ITEM'!$Q13<>"Preenchimento correto"),"",'BD ITEM'!L13) -> 1 | H15: 1 | I15: MERCK S/A | J15: =IF(I15="","", VLOOKUP(I15,'BD EMPRES'!$B$8:$C$507,2,FALSE)) -> 33.069.212/0008-50 | K15: 6556 | L15: Orçamento de empresa | M15: Válido | O15: Menor valor | P15: =IF(AND(K15="",K16="",K17="",K18="",K19=""),"", COUNTIFS(K15:K19,"<>""",M15:M19,"=Válido")) -> 3 | Q15: =IF(T15<>"Preenchimento correto","", IF(P15=1,0, IF(P15=0,"", IF(P15="","", ROUND(_xlfn.STDEV.S(AD15:AD19)/AVERAGE(AD15:AD19),4))))) -> 0.2125 | R15: =IF(T15<>"Preenchimento correto","", IF(P15="","", IF(P15=0,"", IF(O15="","", IF(O15="Menor valor",MIN(AD15:AD19), IF(AND(O15="Tend. central",Q15<=0.25),ROUND(AVERAGE(AD15:AD19),2), IF(AND(O15="Tend. central",Q15>0.25),ROUND(MEDIAN(AD15:AD19),2)))))))) -> 4815 | S15: =IF(T15<>"Preenchimento correto","", IF(O15="","", IF(P15="","", IF(P15=0,"", IF(OR(G15="",R15=""),"", G15*R15))))) -> 4815 | T15: =IF(AND(A15="",B15="",I15="",I16="",I17="",I18="",I19="",K15="",K16="",K17="",K18="",K19="",L15="",L16="",L17="",L18="",L19="",M15="",M16="",M17="",M18="",M19="",O15=""),"", IF(A15="","Preenchimento incompleto: falta informar o ID SEC - B01.01", IF(AND(A15<>"",B15<>"",I15="",I16="",I17="",I18="",I19="",K15="",K16="",K17="",K18="",K19="",L15="",L16="",L17="",L18="",L19="",M15="",M16="",M17="",M18="",M19="",O15=""),"Preenchimento incompleto: item sem nenhuma informação de empresa e preço e fonte de preço e validade do orçamento e modalidade de cálculo - B02.01", IF(AND(B15="",OR(I15<>"",I16<>"",I17<>"",I18<>"",I19<>"",K15<>"",K16<>"",K17<>"",K18<>"",K19<>"",L15<>"",L16<>"",L17<>"",L18<>"",L19<>"",M15<>"",M16<>"",M17<>"",M18<>"",M19<>"",O15<>"")),"Erro: há empresa(s) e/ou preço(s) e/ou fonte(s) de preço e/ou validade(s) do orçamento e/ou modalidade de cálculo informados para item inexistente - B03.01", IF(AND(I15<>"",OR(K15="",L15="",M15="",O15="")),"Preenchimento incompleto: empresa sem preço e(ou) fonte de preço e(ou) validade do orçamento e(ou) modalidade de cálculo associados - B04.01", IF(AND(I16<>"",OR(K16="",L16="",M16="",O15="")),"Preenchimento incompleto: empresa sem preço e(ou) fonte de preço e(ou) validade do orçamento e(ou) modalidade de cálculo associados - B04.02", IF(AND(I17<>"",OR(K17="",L17="",M17="",O15="")),"Preenchimento incompleto: empresa sem preço e(ou) fonte de preço e(ou) validade do orçamento e(ou) modalidade de cálculo associados - B04.03", IF(AND(I18<>"",OR(K18="",L18="",M18="",O15="")),"Preenchimento incompleto: empresa sem preço e(ou) fonte de preço e(ou) validade do orçamento e(ou) modalidade de cálculo associados - B04.04", IF(AND(I19<>"",OR(K19="",L19="",M19="",O15="")),"Preenchimento incompleto: empresa sem preço e(ou) fonte de preço e(ou) validade do orçamento e(ou) modalidade de cálculo associados - B04.05", IF(AND(K15<>"",OR(I15="",L15="",M15="",O15="")),"Preenchimento incompleto: preço sem empresa e(ou) fonte do preço associados e(ou) validade do orçamento e(ou) modalidade de cálculo associados - B05.01", IF(AND(K16<>"",OR(I16="",L16="",M16="",O15="")),"Preenchimento incompleto: preço sem empresa e(ou) fonte do preço associados e(ou) validade do orçamento e(ou) modalidade de cálculo associados - B05.02", IF(AND(K17<>"",OR(I17="",L17="",M17="",O15="")),"Preenchimento incompleto: preço sem empresa e(ou) fonte do preço associados e(ou) validade do orçamento e(ou) modalidade de cálculo associados - B05.03", IF(AND(K18<>"",OR(I18="",L18="",M18="",O15="")),"Preenchimento incompleto: preço sem empresa e(ou) fonte do preço associados e(ou) validade do orçamento e(ou) modalidade de cálculo associados - B05.04", IF(AND(K19<>"",OR(I19="",L19="",M19="",O15="")),"Preenchimento incompleto: preço sem empresa e(ou) fonte do preço associados e(ou) validade do orçamento e(ou) modalidade de cálculo associados - B05.05", IF(AND(L15<>"",OR(K15="",I15="",M15="",O15="")),"Preenchimento incompleto: fonte do preço sem empresa e(ou) preço associados e(ou) validade do orçamento e(ou) modalidade de cálculo associados - B06.01", IF(AND(L16<>"",OR(K16="",I16="",M16="",O15="")),"Preenchimento incompleto: fonte do preço sem empresa e(ou) preço associados e(ou) validade do orçamento e(ou) modalidade de cálculo associados - B06.02", IF(AND(L17<>"",OR(K17="",I17="",M17="",O15="")),"Preenchimento incompleto: fonte do preço sem empresa e(ou) preço associados e(ou) validade do orçamento e(ou) modalidade de cálculo associados - B06.03", IF(AND(L18<>"",OR(K18="",I18="",M18="",O15="")),"Preenchimento incompleto: fonte do preço sem empresa e(ou) preço associados e(ou) validade do orçamento e(ou) modalidade de cálculo associados - B06.04", IF(AND(L19<>"",OR(K19="",I19="",M19="",O15="")),"Preenchimento incompleto: fonte do preço sem empresa e(ou) preço associados e(ou) validade do orçamento e(ou) modalidade de cálculo associados - B06.05", IF(AND(M15<>"",OR(K15="",I15="",L15="",O15="")),"Preenchimento incompleto: validade do orçamento sem empresa e(ou) preço associados e(ou) fonte do preço e(ou) modalidade de cálculo associados - B07.01", IF(AND(M16<>"",OR(K16="",I16="",L16="",O15="")),"Preenchimento incompleto: validade do orçamento sem empresa e(ou) preço associados e(ou) fonte do preço e(ou) modalidade de cálculo associados - B07.02", IF(AND(M17<>"",OR(K17="",I17="",L17="",O15="")),"Preenchimento incompleto: validade do orçamento sem empresa e(ou) preço associados e(ou) fonte do preço e(ou) modalidade de cálculo associados - B07.03", IF(AND(M18<>"",OR(K18="",I18="",L18="",O15="")),"Preenchimento incompleto: validade do orçamento sem empresa e(ou) preço associados e(ou) fonte do preço e(ou) modalidade de cálculo associados - B07.04", IF(AND(M19<>"",OR(K19="",I19="",L19="",O15="")),"Preenchimento incompleto: validade do orçamento sem empresa e(ou) preço associados e(ou) fonte do preço e(ou) modalidade de cálculo associados - B07.05", IF(O15="","Preenchimento incompleto: modalidade de cálculo não informada - B08.01", IF(V15="Erro: há repetição de empresa de mídia especializada para o item sendo precificado - B09.01a05","Erro: há repetição de empresa de mídia especializada para o item sendo precificado - B09.01a05", IF(W15="Erro: há repetição de empresa de orçamento de empresa para o item sendo precificado - B10.01a05","Erro: há repetição de empresa de orçamento de empresa para o item sendo precificado - B10.01a05", IF(X15="Erro: a fonte de preços informada é incompatível com compras governamentais - B11.01a05","Erro: a fonte de preços informada é incompatível com compras governamentais - B11.01a05", IF(Y15="Erro: a fonte de preços informada é incompatível com compras governamentais - B12.01a05","Erro: a fonte de preços informada é incompatível com compras governamentais - B12.01a05", IF(Z15="Erro: há linhas sendo puladas - B13.01a04","Erro: há linhas sendo puladas - B13.01a04", IF(AA15="Erro: há linhas sendo puladas - B14.01a05","Erro: há linhas sendo puladas - B14.01a05", IF(AB15="Erro: há linhas sendo puladas - B15.01a05","Erro: há linhas sendo puladas - B15.01a05", IF(AC15="Erro: há linhas sendo puladas - B16.01a05","Erro: há linhas sendo puladas - B16.01a05", IF(AND(P15<>"",P15=0),"Preenchimento incompleto: número de propostas válidas igual a zero - B17.01", "Preenchimento correto")))))))))))))))))))))))))))))))))) -> Preenchimento correto | V15: =IF(COUNTIFS(I15:I19,I15,L15:L19,"=Mídia especializada")>1,"Erro: há repetição de empresa de mídia especializada para o item sendo precificado - B09.01a05", IF(COUNTIFS(I15:I19,I16,L15:L19,"=Mídia especializada")>1,"Erro: há repetição de empresa de mídia especializada para o item sendo precificado - B09.01a05", IF(COUNTIFS(I15:I19,I17,L15:L19,"=Mídia especializada")>1,"Erro: há repetição de empresa de mídia especializada para o item sendo precificado - B09.01a05", IF(COUNTIFS(I15:I19,I18,L15:L19,"=Mídia especializada")>1,"Erro: há repetição de empresa de mídia especializada para o item sendo precificado - B09.01a05", IF(COUNTIFS(I15:I19,I19,L15:L19,"=Mídia especializada")>1,"Erro: há repetição de empresa de mídia especializada para o item sendo precificado - B09.01a05", "***"))))) -> *** | W15: =IF(COUNTIFS(I15:I19,I15,L15:L19,"=Orçamento de empresa")>1,"Erro: há repetição de empresa de orçamento de empresa para o item sendo precificado - B10.01a05", IF(COUNTIFS(I15:I19,I16,L15:L19,"=Orçamento de empresa")>1,"Erro: há repetição de empresa de orçamento de empresa para o item sendo precificado - B10.01a05", IF(COUNTIFS(I15:I19,I17,L15:L19,"=Orçamento de empresa")>1,"Erro: há repetição de empresa de orçamento de empresa para o item sendo precificado - B10.01a05", IF(COUNTIFS(I15:I19,I18,L15:L19,"=Orçamento de empresa")>1,"Erro: há repetição de empresa de orçamento de empresa para o item sendo precificado - B10.01a05", IF(COUNTIFS(I15:I19,I19,L15:L19,"=Orçamento de empresa")>1,"Erro: há repetição de empresa de orçamento de empresa para o item sendo precificado - B10.01a05", "***"))))) -> *** | X15: =IF(AND(I15="Compras governamentais",K15<>"",L15="Orçamento de empresa"),"Erro: a fonte de preços informada é incompatível com compras governamentais - B11.01a05", IF(AND(I16="Compras governamentais",K16<>"",L16="Orçamento de empresa"),"Erro: a fonte de preços informada é incompatível com compras governamentais - B11.01a05", IF(AND(I17="Compras governamentais",K17<>"",L17="Orçamento de empresa"),"Erro: a fonte de preços informada é incompatível com compras governamentais - B11.01a05", IF(AND(I18="Compras governamentais",K18<>"",L18="Orçamento de empresa"),"Erro: a fonte de preços informada é incompatível com compras governamentais - B11.01a05", IF(AND(I19="Compras governamentais",K19<>"",L19="Orçamento de empresa"),"Erro: a fonte de preços informada é incompatível com compras governamentais - B11.01a05", "***"))))) -> *** | Y15: =IF(AND(I15="Compras governamentais",K15<>"",L15="Mídia especializada"),"Erro: a fonte de preços informada é incompatível com compras governamentais - B12.01a05", IF(AND(I16="Compras governamentais",K16<>"",L16="Mídia especializada"),"Erro: a fonte de preços informada é incompatível com compras governamentais - B12.01a05", IF(AND(I17="Compras governamentais",K17<>"",L17="Mídia especializada"),"Erro: a fonte de preços informada é incompatível com compras governamentais - B12.01a05", IF(AND(I18="Compras governamentais",K18<>"",L18="Mídia especializada"),"Erro: a fonte de preços informada é incompatível com compras governamentais - B12.01a05", IF(AND(I19="Compras governamentais",K19<>"",L19="Mídia especializada"),"Erro: a fonte de preços informada é incompatível com compras governamentais - B12.01a05", "***"))))) -> *** | Z15: =IF(AND(I16<>"",OR(I15="")),"Erro: há linhas sendo puladas - B13.01a04", IF(AND(I17<>"",OR(I15="",I16="")),"Erro: há linhas sendo puladas - B13.01a04", IF(AND(I18<>"",OR(I15="",I16="",I17="")),"Erro: há linhas sendo puladas - B13.01a04", IF(AND(I19<>"",OR(I15="",I16="",I17="",I18="")),"Erro: há linhas sendo puladas - B13.01a04", "***")))) -> *** | AA15: =IF(AND(K16<>"",OR(K15="")),"Erro: há linhas sendo puladas - B14.01a05", IF(AND(K17<>"",OR(K15="",K16="")),"Erro: há linhas sendo puladas - B14.01a05", IF(AND(K18<>"",OR(K15="",K16="",K17="")),"Erro: há linhas sendo puladas - B14.01a05", IF(AND(K19<>"",OR(K15="",K16="",K17="",K18="")),"Erro: há linhas sendo puladas - B14.01a05", "***")))) -> *** | AB15: =IF(AND(L16<>"",OR(L15="")),"Erro: há linhas sendo puladas - B15.01a05", IF(AND(L17<>"",OR(L15="",L16="")),"Erro: há linhas sendo puladas - B15.01a05", IF(AND(L18<>"",OR(L15="",L16="",L17="")),"Erro: há linhas sendo puladas - B15.01a05", IF(AND(L19<>"",OR(L15="",L16="",L17="",L18="")),"Erro: há linhas sendo puladas - B15.01a05", "***")))) -> *** | AC15: =IF(AND(M16<>"",OR(M15="")),"Erro: há linhas sendo puladas - B16.01a05", IF(AND(M17<>"",OR(M15="",M16="")),"Erro: há linhas sendo puladas - B16.01a05", IF(AND(M18<>"",OR(M15="",M16="",M17="")),"Erro: há linhas sendo puladas - B16.01a05", IF(AND(M19<>"",OR(M15="",M16="",M17="",M18="")),"Erro: há linhas sendo puladas - B16.01a05", "***")))) -> *** | AD15: =IF(T15<>"Preenchimento correto","", IF(K15="","", IF(M15="Não válido","", K15))) -> 6556
H16: 2 | I16: Milli express | J16: =IF(I16="","", VLOOKUP(I16,'BD EMPRES'!$B$8:$C$507,2,FALSE)) -> 08.623.794/0001-51 | K16: 7431 | L16: Orçamento de empresa | M16: Válido | AD16: =IF(T15<>"Preenchimento correto","", IF(K16="","", IF(M16="Não válido","", K16))) -> 7431
H17: 3 | I17: Compras governamentais | J17: =IF(I17="","", VLOOKUP(I17,'BD EMPRES'!$B$8:$C$507,2,FALSE)) -> 00.000.000/0000-00 | K17: 4815 | L17: ComprasGov | M17: Válido | AD17: =IF(T15<>"Preenchimento correto","", IF(K17="","", IF(M17="Não válido","", K17))) -> 4815
H18: 4 | J18: =IF(I18="","", VLOOKUP(I18,'BD EMPRES'!$B$8:$C$507,2,FALSE)) | AD18: =IF(T15<>"Preenchimento correto","", IF(K18="","", IF(M18="Não válido","", K18)))
H19: 5 | J19: =IF(I19="","", VLOOKUP(I19,'BD EMPRES'!$B$8:$C$507,2,FALSE)) | AD19: =IF(T15>"Preenchimento correto","", IF(K19="","", IF(M19="Não válido","", K19)))
