Workbook
Name txt_01563ae623f948ef3d5cbf1e7055e4e3: CIP!#REF!
Name txt_021c6a9fc97241d3c23af6edb0997c0a: CIP!#REF!
Name txt_0550699c3de74574471d89864fa4aa6e: CIP!#REF!
Name txt_08c7c02fe4e04fc233d594009aa7021d: CIP!$E$9
Name txt_0db42b081594427fe32500c45be2fc17: CIP!#REF!
Name txt_0df94473c4c346c1bb29837eafbfd2e0: CIP!#REF!
Name txt_0f787561c5f74cc0b209f6024e8655ca: CIP!$E$16
Name txt_0ff365bbf74c453f263feb5364857cc8: CIP!#REF!
Name txt_1905da5fa0da4eed6501e349970c0be8: CIP!#REF!
Name txt_1dc9d053e01e4defc3dc29e1c6fc782e: CIP!#REF!
Name txt_20f9575fec7d4849c9e12404ce3574f9: CIP!#REF!
Name txt_23dda578561b4d1da03ac0994376ff61: CIP!$E$12
Name txt_2d6ab00b30764efe763e0bba670fd16d: CIP!#REF!
Name txt_381ae1e750ee4ced59e1e42990682663: CIP!$E$4
Name txt_3e77c9c4c7de4876c3085ee3b2572e85: CIP!$E$21
Name txt_3ee2251323884efb602624675587b6d6: CIP!#REF!
Name txt_4bca2ab044984eb5ad5d61e3ac2d8b8b: CIP!#REF!
Name txt_4be4914fac1b407750facd563fa44ce5: CIP!#REF!
Name txt_4cf0da6e2ac64886d7979d02f947e406: CIP!#REF!
Name txt_4d1c1d462c2b483497f504d5e037c382: CIP!#REF!
Name txt_53c8461358b74356ebb8e62c176fe9bf: CIP!#REF!
Name txt_5500a702e56c45528ea8ff246b8a308b: CIP!$E$19
Name txt_56eedd1dd4044ab4fd3fb001f8b14ad8: CIP!#REF!
Name txt_58648137b4b843ffeac8b176997c826a: CIP!#REF!
Name txt_5983c44932c145eb92be75c6831a110e: CIP!$E$5
Name txt_5aa9d64e730c47477dcad49f57da016f: CIP!#REF!
Name txt_5cb86c7ce561478c1256ea823ea9671e: CIP!#REF!
Name txt_613939da30074621ce5189a9f2d616ef: CIP!#REF!
Name txt_672e6db7c99b4f6e51f1418ec238e60c: CIP!#REF!
Name txt_68fa426d2af947e87f1680fb6f6941c0: CIP!$E$17
Name txt_695098407d274d308f10b25e2d437b9e: CIP!$E$18
Name txt_6a6cb49b06444ea5a53305eb5363f35e: CIP!#REF!
Name txt_710c076fd9fd4e7c7f4dbd2432e73a11: CIP!#REF!
Name txt_720349131dd64687d451e2a5ed25c033: CIP!#REF!
Name txt_75bc0621c72b4304d55db20524cd5456: CIP!$E$14
Name txt_769f9e0219e545c494987ac72a6e9343: CIP!#REF!
Name txt_788970df6e134bc6471e8362e80fc81d: CIP!$E$8
Name txt_8070392cd53d414908b0ff8046a69966: CIP!$E$20
Name txt_81398d986d154908d3fbe6956488e225: CIP!#REF!
Name txt_826098b2e6484390348aea27e6a37bb2: CIP!#REF!
Name txt_88e779668eec41948c0637328d138576: CIP!#REF!
Name txt_9baa59c582b7401cb32fe2b281e280ad: CIP!#REF!
Name txt_9e9231b83f6b4ebe9e239e9d41edd900: CIP!$E$15
Name txt_a3ee6f48254c4b1f4bf555307a9a453e: CIP!#REF!
Name txt_a527c6bcc3ec4068b6991c47be142f4c: CIP!#REF!
Name txt_a794114432094953b6e5b892eacd1b99: CIP!#REF!
Name txt_aa95b9d211aa4b4c92fcef118668f66c: CIP!$E$11
Name txt_aabe553ef7014dc0623a5c7e130d16ac: CIP!$E$22
Name txt_ad2308cd606647f56232410cdd02b5ad: CIP!$E$23
Name txt_b849c92dd3934721f4acbab0aa5ba609: CIP!#REF!
Name txt_c172a31a6f274ab00794666b8c9d6257: CIP!$E$24
Name txt_caaa431440d84d350d448031079ce742: CIP!#REF!
Name txt_ce78b57b3ec24ce7b03e13a23bc786e1: CIP!#REF!
Name txt_d32af414ab3b42f179e2f7e8450d7ae4: CIP!$E$10
Name txt_d42634819cc5464600301fa3bb7a9cd5: CIP!#REF!
Name txt_d6ab17a6ae8044ae417090430ec5c1d5: CIP!$E$6
Name txt_dc6bbf17d7e247699039322a6be4ebeb: CIP!$E$7
Name txt_e02a3cf6ea0544cdae248ce1a45e63c7: CIP!#REF!
Name txt_e3d9f1a94d7c4e50efaf745e5f9ed0b8: CIP!$E$13
Name txt_e94840b0734c41ec59a222abdd795cf2: CIP!#REF!

Sheet Consumo Grupo A
A1: Níveis de Confiança | C1: 0.1 | D1: 0.6 | E1: CEB Bloco P 24/17 e 25/17 | H1: CEB Anexo P 21/17 e 22/17 | K1: CEB Bloco F 09/17 e 10/17 | M1: CEB Anexo F 11/17 e 12/17 | O1: CEB Bloco C 76/18 e 77/18 | R1: CEB Bloco K - Med 1 78/18 e 82/18 | U1: CEB Bloco K- Med 2 79/18 e 80/18 | X1: CEB Bloco J 39/17 | AA1: CEB 516N 32/18 e 33/18 | AD1: CEB Órgãos Centrais 26/17 e 27/17 | AG1: CEB Órgãos Regionais 28/17 e 29/17 | AJ1: CEB CERET SIA Trecho 3 16/18 e 17/18 | AM1: CEB Alvorada 26/14 | AN1: CEB RFB SIA Trecho 6 26/14 | AO1: CEB SGMN 31/12 | AP1: CEB SGON 31/12 | AQ1: CEB SIG 31/12 | AR1: CEB SAAN 41/17 | AS1: CEB Edifício Garagem 26/14 | AT1: Soma
B2: 0 | C2: 0.85 | D2: Mês | E2: Bloco P Identificação 492451-7 | H2: Anexo P Identificação 492425-8 | K2: Bloco F Identificação 491623-9 | M2: Anexo F Identificação 493009-6 | O2: Bloco C Identificação 492464-9 | R2: Bloco K - Medidor 1 Identificação 493166-1 | U2: Bloco K - Medidor 2 Identificação 492469-X | X2: Bloco J Identificação 491613-1 | AA2: 516N Identificação 493201-3 | AD2: Órgãos Centrais Identificação 527316-1 | AG2: Órgãos Regionais Identificação 492449-5 | AJ2: CERET SIA Techo 3 Identificação 611050-9 | AM2: Edifício Alvorada - Identificação 1217752-0/ 2066819-8 | AN2: Edifício RFB SIA Trecho 6 | AO2: SGMN | AP2: SGON | AQ2: SIG | AR2: SAAN | AS2: Garagem
C3: 0 | E3: Ponta | F3: Fora Ponta | G3: p/fp | H3: Ponta | I3: Fora Ponta | J3: p/fp | K3: Ponta | L3: Fora Ponta | M3: Ponta | N3: Fora Ponta | O3: Ponta | P3: Fora Ponta | Q3: p/fp | R3: Ponta | S3: Fora Ponta | T3: p/fp | U3: Ponta | V3: Fora Ponta | W3: p/fp | X3: Ponta | Y3: Fora Ponta | Z3: p/fp | AA3: Ponta | AB3: Fora Ponta | AC3: p/fp | AD3: Ponta | AE3: Fora Ponta | AF3: p/fp | AG3: Ponta | AH3: Fora Ponta | AI3: p/fp | AJ3: Ponta | AK3: Fora Ponta | AL3: Fora Ponta
A4: Bloco P | B4: 0.925 | C4: =MONTH(D4) -> 1 | D4: 43101 | E4: 11629 | F4: 148169 | G4: =E4/F4 -> 0.078484703 | H4: 24141 | I4: 303796 | J4: =H4/I4 -> 0.079464509 | K4: 7320 | L4: 124588 | M4: 15663 | N4: 242865 | O4: 7327 | P4: 156788 | Q4: =O4/P4 -> 0.046731893 | R4: 10704 | S4: 124941 | T4: =R4/S4 -> 0.085672437 | U4: 366 | V4: 119133 | W4: =U4/V4 -> 0.0030721966 | X4: 10722 | Y4: 154690 | Z4: =X4/Y4 -> 0.069312819 | AA4: 8648 | AB4: 105937 | AC4: =AA4/AB4 -> 0.081633424 | AD4: 4810 | AE4: 109842 | AF4: =AD4/AE4 -> 0.043790171 | AG4: 6081 | AH4: 110062 | AI4: =AG4/AH4 -> 0.055250677 | AJ4: 243 | AL4: 3546 | AM4: 35400 | AN4: 2184 | AO4: 865 | AP4: 2170 | AQ4: 830 | AR4: 610 | AS4: 7298 | AT4: 1861369 | AV4: 2018 | AW4: 20833201
A5: Anexo P | B5: 0.8 | C5: =MONTH(D5) -> 1 | D5: 43466 | E5: 12721 | F5: 162669 | G5: =E5/F5 -> 0.078201747 | H5: 26249 | I5: 288755 | J5: =H5/I5 -> 0.090904054 | K5: 11253 | L5: 155057 | M5: 14689 | N5: 241287 | O5: 7371 | P5: 162926 | Q5: =O5/P5 -> 0.045241398 | R5: 10322 | S5: 122703 | T5: =R5/S5 -> 0.084121823 | U5: 575 | V5: 127441 | W5: =U5/V5 -> 0.0045118918 | X5: 14759 | Y5: 185136 | Z5: =X5/Y5 -> 0.079719774 | AA5: 9589 | AB5: 94067 | AC5: =AA5/AB5 -> 0.10193798 | AD5: 5640 | AE5: 117005 | AF5: =AD5/AE5 -> 0.048203068 | AG5: 6169 | AH5: 136266 | AI5: =AG5/AH5 -> 0.045271748 | AJ5: 282 | AL5: 3756 | AM5: 42300 | AN5: 2087 | AO5: 477 | AP5: 1930 | AQ5: 630 | AR5: 1110 | AS5: 9012 | AT5: 1974234 | AU5: 0.1297 | AV5: 2019 | AW5: 20784085
A6: Bloco C | B6: 0.73 | C6: =MONTH(D6) -> 1 | D6: 43831 | E6: 15784 | F6: 152975 | G6: =E6/F6 -> 0.10318026 | H6: 24895 | I6: 280557 | J6: =H6/I6 -> 0.088734197 | K6: 14303 | L6: 130287 | M6: 17066 | N6: 223983 | O6: 4404 | P6: 130282 | Q6: =O6/P6 -> 0.033803595 | R6: 10126 | S6: 116664 | T6: =R6/S6 -> 0.08679627 | U6: 469 | V6: 127651 | W6: =U6/V6 -> 0.0036740801 | X6: 13853 | Y6: 143878 | Z6: =X6/Y6 -> 0.096282962 | AA6: 9505 | AB6: 96173 | AC6: =AA6/AB6 -> 0.098832313 | AD6: 7568 | AE6: 113606 | AF6: =AD6/AE6 -> 0.0666162 | AG6: 7570 | AH6: 112248 | AI6: =AG6/AH6 -> 0.067439954 | AJ6: 198 | AL6: 2617 | AM6: 40200 | AN6: 2294 | AO6: 408 | AP6: 1950 | AQ6: 510 | AR6: 610 | AS6: 7144 | AT6: 1809779 | AU6: 0.0757 | AV6: 2020 | AW6: #DIV/0!
A7: Bloco K - Medidor 1 | B7: 0.72 | C7: =MONTH(D7) -> 1 | D7: 44197 | E7: 11968 | F7: 119152 | G7: =E7/F7 -> 0.10044313 | H7: 19269 | I7: 227734 | J7: =H7/I7 -> 0.084611872 | K7: 10826 | L7: 103575 | M7: 13875 | N7: 192083 | O7: 11403 | P7: 145316 | Q7: =O7/P7 -> 0.078470368 | R7: 8799 | S7: 94242 | T7: =R7/S7 -> 0.093366015 | U7: 2046 | V7: 90319 | W7: =U7/V7 -> 0.022653041 | X7: 15356 | Y7: 163924 | Z7: =X7/Y7 -> 0.093677558 | AA7: 6204 | AB7: 87396 | AC7: =AA7/AB7 -> 0.070987231 | AD7: 5165 | AE7: 83423 | AF7: =AD7/AE7 -> 0.061913381 | AG7: 5765 | AH7: 90982 | AI7: =AG7/AH7 -> 0.063364182 | AJ7: 338 | AL7: 4121 | AM7: 25800 | AN7: 6027 | AO7: 329 | AP7: 1180 | AQ7: 320 | AR7: 750 | AS7: 3264 | AT7: 1550952 | AU7: 0.4279 | AV7: 2021 | AW7: 15611908
A8: Bloco K - Medidor 2 | B8: 0.89 | C8: =MONTH(D8) -> 1 | D8: 44562 | E8: 10370 | F8: 107535 | G8: =E8/F8 -> 0.096433719 | H8: 16638 | I8: 229451 | J8: =H8/I8 -> 0.072512214 | K8: 10451 | L8: 93932 | M8: 11411 | N8: 162908 | O8: 6773 | P8: 87436 | Q8: =O8/P8 -> 0.077462372 | R8: 8924 | S8: 97899 | T8: =R8/S8 -> 0.09115517 | U8: 429 | V8: 107879 | W8: =U8/V8 -> 0.0039766776 | X8: 8595 | Y8: 85119 | Z8: =X8/Y8 -> 0.10097628 | AA8: 6003 | AB8: 78481 | AC8: =AA8/AB8 -> 0.076489851 | AD8: 4434 | AE8: 63797 | AF8: =AD8/AE8 -> 0.069501701 | AG8: 2923 | AH8: 60812 | AI8: =AG8/AH8 -> 0.048066171 | AJ8: 479 | AL8: 6543 | AM8: 24300 | AN8: 2251 | AO8: 415 | AP8: 1350 | AQ8: 380 | AR8: 550 | AS8: 3473 | AT8: 1301942 | AU8: -0.034 | AV8: 2022 | AW8: 15014626
A9: Bloco J | B9: 0.97 | C9: =MONTH(D9) -> 1 | D9: 44927 | E9: 10618 | F9: 114129 | G9: =E9/F9 -> 0.093035074 | H9: 17604 | I9: 232927 | J9: =H9/I9 -> 0.075577327 | M9: 12789 | N9: 175323 | O9: 7885 | P9: 97896 | Q9: =O9/P9 -> 0.08054466 | R9: 10016 | S9: 109867 | T9: =R9/S9 -> 0.091164772 | U9: 474 | V9: 72236 | W9: =U9/V9 -> 0.0065618251 | X9: 9857 | Y9: 99115 | Z9: =X9/Y9 -> 0.099450134 | AA9: 6567 | AB9: 84456 | AC9: =AA9/AB9 -> 0.077756465 | AD9: 2112 | AE9: 75845 | AF9: =AD9/AE9 -> 0.027846265 | AG9: 3716 | AH9: 73669 | AI9: =AG9/AH9 -> 0.050441841 | AM9: 27300 | AN9: 3501 | AO9: 124800 | AP9: 1160 | AQ9: 7500 | AR9: 530 | AS9: 2029 | AT9: 1383922 | AU9: 0.1253 | AV9: 2023 | AW9: 15823057
A10: 516N | B10: 0.695 | C10: =MONTH(D10) -> 1 | D10: 45292 | E10: 11108 | F10: 135773 | G10: =E10/F10 -> 0.081813026 | H10: 14661 | I10: 222798 | J10: =H10/I10 -> 0.065804002 | M10: 19244 | N10: 186718 | O10: 9670 | P10: 108132 | Q10: =O10/P10 -> 0.089427736 | R10: 9838 | S10: 114696 | T10: =R10/S10 -> 0.085774569 | U10: 575 | V10: 84435 | W10: =U10/V10 -> 0.0068099722 | X10: 19568 | Y10: 201351 | Z10: =X10/Y10 -> 0.097183525 | AA10: 9373 | AB10: 84880 | AC10: =AA10/AB10 -> 0.11042648 | AD10: 2822 | AE10: 93785 | AF10: =AD10/AE10 -> 0.0300901 | AG10: 2060 | AH10: 34663 | AI10: =AG10/AH10 -> 0.059429363 | AJ10: 0 | AM10: 32400 | AN10: 0 | AO10: 589 | AP10: 1310 | AQ10: 530 | AR10: 700 | AS10: 3036 | AT10: 1404716 | AV10: 2024 | AW10: 6908920
A11: Órgãos Centrais | B11: 0.935 | C11: =MONTH(D11) -> 1 | D11: 45658 | E11: =_xlfn.FORECAST.ETS(DATE(2025,1,1),E$4:E$10,$D$4:$D$10,1,1)+_xlfn.FORECAST.ETS.CONFINT(DATE(2025,1,1),E$4:E$10,$D$4:$D$10,$B$4,1) -> 13569.726 | F11: =_xlfn.FORECAST.ETS(DATE(2025,1,1),F$4:F$10,$D$4:$D$10,1,1)+_xlfn.FORECAST.ETS.CONFINT(DATE(2025,1,1),F$4:F$10,$D$4:$D$10,$B$4,1) -> 131634.28 | G11: =E11/F11 -> 0.10308656 | H11: =_xlfn.FORECAST.ETS(DATE(2025,1,1),H$4:H$10,$D$4:$D$10,1,1)+_xlfn.FORECAST.ETS.CONFINT(DATE(2025,1,1),H$4:H$10,$D$4:$D$10,$B$5,1) -> 15393.781 | I11: =_xlfn.FORECAST.ETS(DATE(2025,1,1),I$4:I$10,$D$4:$D$10,1,1)+_xlfn.FORECAST.ETS.CONFINT(DATE(2025,1,1),I$4:I$10,$D$4:$D$10,$B$5,1) -> 220283.06 | J11: =H11/I11 -> 0.069881819 | O11: =_xlfn.FORECAST.ETS(DATE(2025,1,1),O$4:O$10,$D$4:$D$10,1,1)+_xlfn.FORECAST.ETS.CONFINT(DATE(2025,1,1),O$4:O$10,$D$4:$D$10,$B$6,1) -> 12122.297 | P11: =_xlfn.FORECAST.ETS(DATE(2025,1,1),P$4:P$10,$D$4:$D$10,1,1)+_xlfn.FORECAST.ETS.CONFINT(DATE(2025,1,1),P$4:P$10,$D$4:$D$10,$B$6,1) -> 111012.67 | Q11: =O11/P11 -> 0.10919742 | R11: =_xlfn.FORECAST.ETS(DATE(2025,1,1),R$4:R$10,$D$4:$D$10,1,1)+_xlfn.FORECAST.ETS.CONFINT(DATE(2025,1,1),R$4:R$10,$D$4:$D$10,$B$7,1) -> 10386.569 | S11: =_xlfn.FORECAST.ETS(DATE(2025,1,1),S$4:S$10,$D$4:$D$10,1,1)+_xlfn.FORECAST.ETS.CONFINT(DATE(2025,1,1),S$4:S$10,$D$4:$D$10,$B$7,1) -> 122240.36 | T11: =R11/S11 -> 0.08496841 | U11: =_xlfn.FORECAST.ETS(DATE(2025,1,1),U$4:U$10,$D$4:$D$10,1,1)+_xlfn.FORECAST.ETS.CONFINT(DATE(2025,1,1),U$4:U$10,$D$4:$D$10,$B$8,1) -> 1612.6305 | V11: =_xlfn.FORECAST.ETS(DATE(2025,1,1),V$4:V$10,$D$4:$D$10,1,1)+_xlfn.FORECAST.ETS.CONFINT(DATE(2025,1,1),V$4:V$10,$D$4:$D$10,$B$8,1) -> 80397.908 | W11: =U11/V11 -> 0.020058115 | X11: =_xlfn.FORECAST.ETS(DATE(2025,1,1),X$4:X$10,$D$4:$D$10,1,1)+_xlfn.FORECAST.ETS.CONFINT(DATE(2025,1,1),X$4:X$10,$D$4:$D$10,$B$9,1) -> 21573.531 | Y11: =_xlfn.FORECAST.ETS(DATE(2025,1,1),Y$4:Y$10,$D$4:$D$10,1,1)+_xlfn.FORECAST.ETS.CONFINT(DATE(2025,1,1),Y$4:Y$10,$D$4:$D$10,$B$9,1) -> 216817.68 | Z11: =X11/Y11 -> 0.09950079 | AA11: =_xlfn.FORECAST.ETS(DATE(2025,1,1),AA$4:AA$10,$D$4:$D$10,1,1)+_xlfn.FORECAST.ETS.CONFINT(DATE(2025,1,1),AA$4:AA$10,$D$4:$D$10,$B$10,1) -> 8290.6654 | AB11: =_xlfn.FORECAST.ETS(DATE(2025,1,1),AB$4:AB$10,$D$4:$D$10,1,1)+_xlfn.FORECAST.ETS.CONFINT(DATE(2025,1,1),AB$4:AB$10,$D$4:$D$10,$B$10,1) -> 83711.702 | AC11: =AA11/AB11 -> 0.099038309 | AD11: =_xlfn.FORECAST.ETS(DATE(2025,1,1),AD$4:AD$10,$D$4:$D$10,1,1)+_xlfn.FORECAST.ETS.CONFINT(DATE(2025,1,1),AD$4:AD$10,$D$4:$D$10,$B$11,1) -> 4804.0976 | AE11: =_xlfn.FORECAST.ETS(DATE(2025,1,1),AE$4:AE$10,$D$4:$D$10,1,1)+_xlfn.FORECAST.ETS.CONFINT(DATE(2025,1,1),AE$4:AE$10,$D$4:$D$10,$B$11,1) -> 91362.149 | AF11: =AD11/AE11 -> 0.052583019 | AG11: =_xlfn.FORECAST.ETS(DATE(2025,1,1),AG$4:AG$10,$D$4:$D$10,1,1)+_xlfn.FORECAST.ETS.CONFINT(DATE(2025,1,1),AG$4:AG$10,$D$4:$D$10,$B$12,1) -> 2636.2455 | AH11: =_xlfn.FORECAST.ETS(DATE(2025,1,1),AH$4:AH$10,$D$4:$D$10,1,1)+_xlfn.FORECAST.ETS.CONFINT(DATE(2025,1,1),AH$4:AH$10,$D$4:$D$10,$B$12,1) -> 43054.296 | AI11: =AG11/AH11 -> 0.06123072 | AM11: =_xlfn.FORECAST.ETS(DATE(2025,1,1),AM$4:AM$10,$D$4:$D$10,1,1)+_xlfn.FORECAST.ETS.CONFINT(DATE(2025,1,1),AM$4:AM$10,$D$4:$D$10,$C$1,1) -> 24072.701 | AN11: =_xlfn.FORECAST.ETS(DATE(2025,1,1),AN$4:AN$10,$D$4:$D$10,1,1)+_xlfn.FORECAST.ETS.CONFINT(DATE(2025,1,1),AN$4:AN$10,$D$4:$D$10,$C$1,1) -> 1920.267 | AO11: =_xlfn.FORECAST.ETS(DATE(2025,1,1),AO$4:AO$10,$D$4:$D$10,1,1)+_xlfn.FORECAST.ETS.CONFINT(DATE(2025,1,1),AO$4:AO$10,$D$4:$D$10,$C$1,1) -> 83771.505 | AP11: =_xlfn.FORECAST.ETS(DATE(2025,1,1),AP$4:AP$10,$D$4:$D$10,1,1)+_xlfn.FORECAST.ETS.CONFINT(DATE(2025,1,1),AP$4:AP$10,$D$4:$D$10,$C$1,1) -> 1013.5221 | AQ11: =_xlfn.FORECAST.ETS(DATE(2025,1,1),AQ$4:AQ$10,$D$4:$D$10,1,1)+_xlfn.FORECAST.ETS.CONFINT(DATE(2025,1,1),AQ$4:AQ$10,$D$4:$D$10,$C$1,1) -> 5135.8322 | AR11: =_xlfn.FORECAST.ETS(DATE(2025,1,1),AR$4:AR$10,$D$4:$D$10,1,1)+_xlfn.FORECAST.ETS.CONFINT(DATE(2025,1,1),AR$4:AR$10,$D$4:$D$10,$C$1,1) -> 505.68504 | AS11: =_xlfn.FORECAST.ETS(DATE(2025,1,1),AS$4:AS$10,$D$4:$D$10,1,1)+_xlfn.FORECAST.ETS.CONFINT(DATE(2025,1,1),AS$4:AS$10,$D$4:$D$10,$C$1,1) -> 513.97937
A12: Órgãos Regionais | B12: 0.565 | C12: =MONTH(D12) -> 1 | D12: 46023 | E12: =_xlfn.FORECAST.ETS(DATE(2026,1,1),E$4:E$11,$D$4:$D$11,1,1)+_xlfn.FORECAST.ETS.CONFINT(DATE(2026,1,1),E$4:E$11,$D$4:$D$11,$B$4,1) -> 14639.547 | F12: =_xlfn.FORECAST.ETS(DATE(2026,1,1),F$4:F$11,$D$4:$D$11,1,1)+_xlfn.FORECAST.ETS.CONFINT(DATE(2026,1,1),F$4:F$11,$D$4:$D$11,$B$4,1) -> 139522.07 | G12: =E12/F12 -> 0.10492639 | H12: =_xlfn.FORECAST.ETS(DATE(2026,1,1),H$4:H$11,$D$4:$D$11,1,1)+_xlfn.FORECAST.ETS.CONFINT(DATE(2026,1,1),H$4:H$11,$D$4:$D$11,$D$1,1) -> 13901.803 | I12: =_xlfn.FORECAST.ETS(DATE(2026,1,1),I$4:I$11,$D$4:$D$11,1,1)+_xlfn.FORECAST.ETS.CONFINT(DATE(2026,1,1),I$4:I$11,$D$4:$D$11,$D$1,1) -> 209765.41 | O12: =_xlfn.FORECAST.ETS(DATE(2026,1,1),O$4:O$11,$D$4:$D$11,1,1)+_xlfn.FORECAST.ETS.CONFINT(DATE(2026,1,1),O$4:O$11,$D$4:$D$11,$D$1,1) -> 11096.173 | P12: =_xlfn.FORECAST.ETS(DATE(2026,1,1),P$4:P$11,$D$4:$D$11,1,1)+_xlfn.FORECAST.ETS.CONFINT(DATE(2026,1,1),P$4:P$11,$D$4:$D$11,$D$1,1) -> 99285.069 | R12: =_xlfn.FORECAST.ETS(DATE(2026,1,1),R$4:R$11,$D$4:$D$11,1,1)+_xlfn.FORECAST.ETS.CONFINT(DATE(2026,1,1),R$4:R$11,$D$4:$D$11,$D$1,1) -> 10824.714 | S12: =_xlfn.FORECAST.ETS(DATE(2026,1,1),S$4:S$11,$D$4:$D$11,1,1)+_xlfn.FORECAST.ETS.CONFINT(DATE(2026,1,1),S$4:S$11,$D$4:$D$11,$D$1,1) -> 128984.96 | U12: =_xlfn.FORECAST.ETS(DATE(2026,1,1),U$4:U$11,$D$4:$D$11,1,1)+_xlfn.FORECAST.ETS.CONFINT(DATE(2026,1,1),U$4:U$11,$D$4:$D$11,$D$1,1) -> 1545.5795 | V12: =_xlfn.FORECAST.ETS(DATE(2026,1,1),V$4:V$11,$D$4:$D$11,1,1)+_xlfn.FORECAST.ETS.CONFINT(DATE(2026,1,1),V$4:V$11,$D$4:$D$11,$D$1,1) -> 70102.837
D13: 46388 | E13: =_xlfn.FORECAST.ETS(DATE(2027,1,1),E$4:E$12,$D$4:$D$12,1,1)+_xlfn.FORECAST.ETS.CONFINT(DATE(2027,1,1),E$4:E$12,$D$4:$D$12,$B$4,1) -> 15529.925 | F13: =_xlfn.FORECAST.ETS(DATE(2027,1,1),F$4:F$12,$D$4:$D$12,1,1)+_xlfn.FORECAST.ETS.CONFINT(DATE(2027,1,1),F$4:F$12,$D$4:$D$12,$B$4,1) -> 164070.71 | G13: =E13/F13 -> 0.094653851 | H13: =_xlfn.FORECAST.ETS(DATE(2027,1,1),H$4:H$12,$D$4:$D$12,1,1)+_xlfn.FORECAST.ETS.CONFINT(DATE(2027,1,1),H$4:H$12,$D$4:$D$12,$D$1,1) -> 12571.17 | I13: =_xlfn.FORECAST.ETS(DATE(2027,1,1),I$4:I$12,$D$4:$D$12,1,1)+_xlfn.FORECAST.ETS.CONFINT(DATE(2027,1,1),I$4:I$12,$D$4:$D$12,$D$1,1) -> 210130.57 | O13: =_xlfn.FORECAST.ETS(DATE(2027,1,1),O$4:O$12,$D$4:$D$12,1,1)+_xlfn.FORECAST.ETS.CONFINT(DATE(2027,1,1),O$4:O$12,$D$4:$D$12,$D$1,1) -> 13835.438 | P13: =_xlfn.FORECAST.ETS(DATE(2027,1,1),P$4:P$12,$D$4:$D$12,1,1)+_xlfn.FORECAST.ETS.CONFINT(DATE(2027,1,1),P$4:P$12,$D$4:$D$12,$D$1,1) -> 98686.024 | R13: =_xlfn.FORECAST.ETS(DATE(2027,1,1),R$4:R$12,$D$4:$D$12,1,1)+_xlfn.FORECAST.ETS.CONFINT(DATE(2027,1,1),R$4:R$12,$D$4:$D$12,$D$1,1) -> 11343.573 | S13: =_xlfn.FORECAST.ETS(DATE(2027,1,1),S$4:S$12,$D$4:$D$12,1,1)+_xlfn.FORECAST.ETS.CONFINT(DATE(2027,1,1),S$4:S$12,$D$4:$D$12,$D$1,1) -> 137053.85 | U13: =_xlfn.FORECAST.ETS(DATE(2027,1,1),U$4:U$12,$D$4:$D$12,1,1)+_xlfn.FORECAST.ETS.CONFINT(DATE(2027,1,1),U$4:U$12,$D$4:$D$12,$D$1,1) -> 1805.8905 | V13: =_xlfn.FORECAST.ETS(DATE(2027,1,1),V$4:V$12,$D$4:$D$12,1,1)+_xlfn.FORECAST.ETS.CONFINT(DATE(2027,1,1),V$4:V$12,$D$4:$D$12,$D$1,1) -> 69313.389
D14: 46753 | E14: =_xlfn.FORECAST.ETS(DATE(2028,1,1),E$4:E$13,$D$4:$D$13,1,1)+_xlfn.FORECAST.ETS.CONFINT(DATE(2028,1,1),E$4:E$13,$D$4:$D$13,$B$4,1) -> 16994.778 | F14: =_xlfn.FORECAST.ETS(DATE(2028,1,1),F$4:F$13,$D$4:$D$13,1,1)+_xlfn.FORECAST.ETS.CONFINT(DATE(2028,1,1),F$4:F$13,$D$4:$D$13,$B$4,1) -> 191641.78 | G14: =E14/F14 -> 0.088679921 | H14: =_xlfn.FORECAST.ETS(DATE(2028,1,1),H$4:H$13,$D$4:$D$13,1,1)+_xlfn.FORECAST.ETS.CONFINT(DATE(2028,1,1),H$4:H$13,$D$4:$D$13,$D$1,1) -> 11527.663 | I14: =_xlfn.FORECAST.ETS(DATE(2028,1,1),I$4:I$13,$D$4:$D$13,1,1)+_xlfn.FORECAST.ETS.CONFINT(DATE(2028,1,1),I$4:I$13,$D$4:$D$13,$D$1,1) -> 209539 | O14: =_xlfn.FORECAST.ETS(DATE(2028,1,1),O$4:O$13,$D$4:$D$13,1,1)+_xlfn.FORECAST.ETS.CONFINT(DATE(2028,1,1),O$4:O$13,$D$4:$D$13,$D$1,1) -> 15293.011 | P14: =_xlfn.FORECAST.ETS(DATE(2028,1,1),P$4:P$13,$D$4:$D$13,1,1)+_xlfn.FORECAST.ETS.CONFINT(DATE(2028,1,1),P$4:P$13,$D$4:$D$13,$D$1,1) -> 99710.295 | R14: =_xlfn.FORECAST.ETS(DATE(2028,1,1),R$4:R$13,$D$4:$D$13,1,1)+_xlfn.FORECAST.ETS.CONFINT(DATE(2028,1,1),R$4:R$13,$D$4:$D$13,$D$1,1) -> 11920.476 | S14: =_xlfn.FORECAST.ETS(DATE(2028,1,1),S$4:S$13,$D$4:$D$13,1,1)+_xlfn.FORECAST.ETS.CONFINT(DATE(2028,1,1),S$4:S$13,$D$4:$D$13,$D$1,1) -> 146749.44 | U14: =_xlfn.FORECAST.ETS(DATE(2028,1,1),U$4:U$13,$D$4:$D$13,1,1)+_xlfn.FORECAST.ETS.CONFINT(DATE(2028,1,1),U$4:U$13,$D$4:$D$13,$D$1,1) -> 2089.4409 | V14: =_xlfn.FORECAST.ETS(DATE(2028,1,1),V$4:V$13,$D$4:$D$13,1,1)+_xlfn.FORECAST.ETS.CONFINT(DATE(2028,1,1),V$4:V$13,$D$4:$D$13,$D$1,1) -> 64764.1
D15: 47119 | E15: =_xlfn.FORECAST.ETS(DATE(2029,1,1),E$4:E$14,$D$4:$D$14,1,1)+_xlfn.FORECAST.ETS.CONFINT(DATE(2029,1,1),E$4:E$14,$D$4:$D$14,$B$4,1) -> 18828.177 | F15: =_xlfn.FORECAST.ETS(DATE(2029,1,1),F$4:F$14,$D$4:$D$14,1,1)+_xlfn.FORECAST.ETS.CONFINT(DATE(2029,1,1),F$4:F$14,$D$4:$D$14,$B$4,1) -> 244342.1 | G15: =E15/F15 -> 0.077056624 | H15: =_xlfn.FORECAST.ETS(DATE(2029,1,1),H$4:H$14,$D$4:$D$14,1,1)+_xlfn.FORECAST.ETS.CONFINT(DATE(2029,1,1),H$4:H$14,$D$4:$D$14,$D$1,1) -> 10408.387 | I15: =_xlfn.FORECAST.ETS(DATE(2029,1,1),I$4:I$14,$D$4:$D$14,1,1)+_xlfn.FORECAST.ETS.CONFINT(DATE(2029,1,1),I$4:I$14,$D$4:$D$14,$D$1,1) -> 211691.31 | O15: =_xlfn.FORECAST.ETS(DATE(2029,1,1),O$4:O$14,$D$4:$D$14,1,1)+_xlfn.FORECAST.ETS.CONFINT(DATE(2029,1,1),O$4:O$14,$D$4:$D$14,$D$1,1) -> 16854.027 | P15: =_xlfn.FORECAST.ETS(DATE(2029,1,1),P$4:P$14,$D$4:$D$14,1,1)+_xlfn.FORECAST.ETS.CONFINT(DATE(2029,1,1),P$4:P$14,$D$4:$D$14,$D$1,1) -> 97547.158 | R15: =_xlfn.FORECAST.ETS(DATE(2029,1,1),R$4:R$14,$D$4:$D$14,1,1)+_xlfn.FORECAST.ETS.CONFINT(DATE(2029,1,1),R$4:R$14,$D$4:$D$14,$D$1,1) -> 13075.055 | S15: =_xlfn.FORECAST.ETS(DATE(2029,1,1),S$4:S$14,$D$4:$D$14,1,1)+_xlfn.FORECAST.ETS.CONFINT(DATE(2029,1,1),S$4:S$14,$D$4:$D$14,$D$1,1) -> 164717.18 | U15: =_xlfn.FORECAST.ETS(DATE(2029,1,1),U$4:U$14,$D$4:$D$14,1,1)+_xlfn.FORECAST.ETS.CONFINT(DATE(2029,1,1),U$4:U$14,$D$4:$D$14,$D$1,1) -> 2397.4694 | V15: =_xlfn.FORECAST.ETS(DATE(2029,1,1),V$4:V$14,$D$4:$D$14,1,1)+_xlfn.FORECAST.ETS.CONFINT(DATE(2029,1,1),V$4:V$14,$D$4:$D$14,$D$1,1) -> 60807.527
A16: 0 | C16: =MONTH(D16) -> 2 | D16: 43132 | E16: 13867 | F16: 173810 | G16: =E16/F16 -> 0.079782521 | H16: 23524 | I16: 263994 | J16: 0.0891 | K16: 8432 | L16: 140686 | M16: 14476 | N16: 199410 | O16: 8794 | P16: 127812 | Q16: 0.0688 | R16: 10489 | S16: 106711 | T16: 0.0983 | U16: 699 | V16: 93338 | W16: 0.0075 | X16: 14979 | Y16: 180628 | Z16: 0.0829 | AA16: 9401 | AB16: 88187 | AC16: 0.1066 | AD16: 5320 | AE16: 90748 | AF16: 0.0586 | AG16: 6350 | AH16: 95498 | AI16: 0.0665 | AJ16: 57 | AL16: 1944 | AM16: 36000 | AN16: 2733 | AO16: 603 | AP16: 1960 | AQ16: 780 | AR16: 590 | AS16: 7127 | AT16: 1728948 | AU16: -0.0711
A17: =0.005+A16 -> 0.005 | C17: =MONTH(D17) -> 2 | D17: 43497 | E17: 15603 | F17: 197396 | G17: =E17/F17 -> 0.079044155 | H17: 26425 | I17: 287501 | J17: 0.0919 | K17: 10589 | L17: 124515 | M17: 16065 | N17: 214694 | O17: 6779 | P17: 124542 | Q17: 0.0544 | R17: 9216 | S17: 102729 | T17: 0.0897 | U17: 812 | V17: 95066 | W17: 0.0085 | X17: 12692 | Y17: 138956 | Z17: 0.0913 | AA17: 6363 | AB17: 105216 | AC17: 0.0605 | AD17: 6211 | AE17: 95651 | AF17: 0.0649 | AG17: 6333 | AH17: 119657 | AI17: 0.0529 | AJ17: 154 | AL17: 3681 | AM17: 35400 | AN17: 2841 | AO17: 425 | AP17: 1730 | AQ17: 500 | AR17: 1070 | AS17: 7958 | AT17: 1776771 | AU17: -0.1
A18: =0.005+A17 -> 0.01 | C18: =MONTH(D18) -> 2 | D18: 43862 | E18: 13525 | F18: 128526 | G18: =E18/F18 -> 0.10523163 | H18: 22776 | I18: 246468 | J18: 0.0924 | K18: 12380 | L18: 111977 | M18: 15934 | N18: 194957 | O18: 6652 | P18: 121753 | Q18: 0.0546 | R18: 9428 | S18: 105708 | T18: 0.0892 | U18: 739 | V18: 103556 | W18: 0.0071 | X18: 12433 | Y18: 127145 | Z18: 0.0978 | AA18: 8955 | AB18: 87037 | AC18: 0.1029 | AD18: 6562 | AE18: 92959 | AF18: 0.0706 | AG18: 6498 | AH18: 91034 | AI18: 0.0714 | AJ18: 129 | AL18: 2237 | AM18: 34200 | AN18: 2352 | AO18: 410 | AP18: 1550 | AQ18: 380 | AR18: 670 | AS18: 6738 | AT18: 1575669 | AU18: -0.1294
A19: =0.005+A18 -> 0.015 | C19: =MONTH(D19) -> 2 | D19: 44228 | E19: 3751 | F19: 32176 | G19: =E19/F19 -> 0.11657757 | H19: 16775 | I19: 196578 | J19: 0.0853 | K19: 10273 | L19: 97710 | M19: 13046 | N19: 166478 | O19: 5752 | P19: 74271 | Q19: 0.0774 | R19: 8699 | S19: 96322 | T19: 0.0903 | U19: 3897 | V19: 88217 | W19: 0.0442 | X19: 11296 | Y19: 112090 | Z19: 0.1008 | AA19: 5894 | AB19: 76364 | AC19: 0.0772 | AD19: 4531 | AE19: 70379 | AF19: 0.0644 | AG19: 5521 | AH19: 97144 | AI19: 0.0568 | AJ19: 367 | AL19: 3845 | AM19: 24300 | AN19: 2782 | AO19: 307 | AP19: 1180 | AQ19: 310 | AR19: 700 | AS19: 2597 | AT19: 1233553 | AU19: -0.2046
A20: =0.005+A19 -> 0.02 | C20: =MONTH(D20) -> 2 | D20: 44593 | E20: 9856 | F20: 99751 | G20: =E20/F20 -> 0.098806027 | H20: 15959 | I20: 198172 | J20: 0.0805 | K20: 6560 | L20: 60668 | M20: 10891 | N20: 150477 | O20: 6412 | P20: 75911 | Q20: 0.0845 | R20: 8711 | S20: 91079 | T20: 0.0956 | U20: 497 | V20: 79354 | W20: 0.0063 | X20: 8832 | Y20: 90512 | Z20: 0.0976 | AA20: 5779 | AB20: 71303 | AC20: 0.081 | AD20: 4129 | AE20: 64037 | AF20: 0.0645 | AG20: 2886 | AH20: 57343 | AI20: 0.0503 | AJ20: 71 | AL20: 1945 | AM20: 14700 | AN20: 2886 | AO20: 434 | AP20: 1320 | AQ20: 400 | AR20: 500 | AS20: 3603 | AT20: 1144979 | AU20: -0.1206
A21: =0.005+A20 -> 0.025 | C21: =MONTH(D21) -> 2 | D21: 44958 | E21: 11390 | F21: 122446 | G21: =E21/F21 -> 0.093020597 | H21: 15227 | I21: 223833 | J21: 0.068 | M21: 13192 | N21: 165899 | O21: 9512 | P21: 106121 | Q21: 0.0896 | R21: 9599 | S21: 102751 | T21: 0.0934 | U21: 548 | V21: 73856 | W21: 0.0074 | X21: 10804 | Y21: 103044 | Z21: 0.1048 | AA21: 6525 | AB21: 77409 | AC21: 0.0843 | AD21: 1843 | AE21: 70219 | AF21: 0.0262 | AG21: 3949 | AH21: 69862 | AI21: 0.0565 | AM21: 30600 | AN21: 2728 | AO21: 125700 | AP21: 1250 | AQ21: 10200 | AR21: 710 | AS21: 2335 | AT21: 1371553 | AU21: -0.0089
A22: =0.005+A21 -> 0.03 | C22: =MONTH(D22) -> 2 | D22: 45323 | E22: 10421 | F22: 125839 | G22: =E22/F22 -> 0.082812165 | H22: 13475 | I22: 210117 | J22: 0.0641 | M22: 18738 | N22: 169682 | O22: 9240 | P22: 100358 | Q22: 0.0921 | R22: 9278 | S22: 108935 | T22: 0.0852 | U22: 416 | V22: 59016 | W22: 0.007 | X22: 19101 | Y22: 197189 | Z22: 0.0969 | AA22: 8035 | AB22: 74862 | AC22: 0.1073 | AD22: 2558 | AE22: 82173 | AF22: 0.0311 | AG22: 1915 | AH22: 39149 | AI22: 0.0489 | AJ22: 0 | AM22: 36600 | AN22: 9637 | AO22: 591 | AP22: 1370 | AQ22: 520 | AR22: 750 | AS22: 3564 | AT22: 1313530
A23: =0.005+A22 -> 0.035 | C23: =MONTH(D23) -> 2 | D23: 45689 | E23: =_xlfn.FORECAST.ETS(DATE(2025,1,1),E$16:E$22,$D$16:$D$22,1,1)+_xlfn.FORECAST.ETS.CONFINT(DATE(2025,1,1),E$16:E$22,$D$16:$D$22,$B$4,1) -> 13801.62 | F23: =_xlfn.FORECAST.ETS(DATE(2025,1,1),F$16:F$22,$D$16:$D$22,1,1)+_xlfn.FORECAST.ETS.CONFINT(DATE(2025,1,1),F$16:F$22,$D$16:$D$22,$B$4,1) -> 171094.86 | G23: =E23/F23 -> 0.080666479 | H23: =_xlfn.FORECAST.ETS(DATE(2025,1,1),H$16:H$22,$D$16:$D$22,1,1)+_xlfn.FORECAST.ETS.CONFINT(DATE(2025,1,1),H$16:H$22,$D$16:$D$22,$B$5,1) -> 13496.493 | I23: =_xlfn.FORECAST.ETS(DATE(2025,1,1),I$16:I$22,$D$16:$D$22,1,1)+_xlfn.FORECAST.ETS.CONFINT(DATE(2025,1,1),I$16:I$22,$D$16:$D$22,$B$5,1) -> 207677.74 | J23: =H23/I23 -> 0.064987674 | O23: =_xlfn.FORECAST.ETS(DATE(2025,1,1),O$16:O$22,$D$16:$D$22,1,1)+_xlfn.FORECAST.ETS.CONFINT(DATE(2025,1,1),O$16:O$22,$D$16:$D$22,$B$6,1) -> 11039.06 | P23: =_xlfn.FORECAST.ETS(DATE(2025,1,1),P$16:P$22,$D$16:$D$22,1,1)+_xlfn.FORECAST.ETS.CONFINT(DATE(2025,1,1),P$16:P$22,$D$16:$D$22,$B$6,1) -> 105755.17 | Q23: =O23/P23 -> 0.10438317 | R23: =_xlfn.FORECAST.ETS(DATE(2025,1,1),R$16:R$22,$D$16:$D$22,1,1)+_xlfn.FORECAST.ETS.CONFINT(DATE(2025,1,1),R$16:R$22,$D$16:$D$22,$B$7,1) -> 9786.1125 | S23: =_xlfn.FORECAST.ETS(DATE(2025,1,1),S$16:S$22,$D$16:$D$22,1,1)+_xlfn.FORECAST.ETS.CONFINT(DATE(2025,1,1),S$16:S$22,$D$16:$D$22,$B$7,1) -> 109344 | T23: =R23/S23 -> 0.089498394 | U23: =_xlfn.FORECAST.ETS(DATE(2025,1,1),U$16:U$22,$D$16:$D$22,1,1)+_xlfn.FORECAST.ETS.CONFINT(DATE(2025,1,1),U$16:U$22,$D$16:$D$22,$B$8,1) -> 2550.9751 | V23: =_xlfn.FORECAST.ETS(DATE(2025,1,1),V$16:V$22,$D$16:$D$22,1,1)+_xlfn.FORECAST.ETS.CONFINT(DATE(2025,1,1),V$16:V$22,$D$16:$D$22,$B$8,1) -> 66553.043 | W23: =U23/V23 -> 0.038329954 | X23: =_xlfn.FORECAST.ETS(DATE(2025,1,1),X$16:X$22,$D$16:$D$22,1,1)+_xlfn.FORECAST.ETS.CONFINT(DATE(2025,1,1),X$16:X$22,$D$16:$D$22,$B$9,1) -> 26101.826 | Y23: =_xlfn.FORECAST.ETS(DATE(2025,1,1),Y$16:Y$22,$D$16:$D$22,1,1)+_xlfn.FORECAST.ETS.CONFINT(DATE(2025,1,1),Y$16:Y$22,$D$16:$D$22,$B$9,1) -> 276170.49 | Z23: =X23/Y23 -> 0.094513451 | AA23: =_xlfn.FORECAST.ETS(DATE(2025,1,1),AA$16:AA$22,$D$16:$D$22,1,1)+_xlfn.FORECAST.ETS.CONFINT(DATE(2025,1,1),AA$16:AA$22,$D$16:$D$22,$B$10,1) -> 8167.7003 | AB23: =_xlfn.FORECAST.ETS(DATE(2025,1,1),AB$16:AB$22,$D$16:$D$22,1,1)+_xlfn.FORECAST.ETS.CONFINT(DATE(2025,1,1),AB$16:AB$22,$D$16:$D$22,$B$10,1) -> 79584.945 | AC23: =AA23/AB23 -> 0.10262871 | AD23: =_xlfn.FORECAST.ETS(DATE(2025,1,1),AD$16:AD$22,$D$16:$D$22,1,1)+_xlfn.FORECAST.ETS.CONFINT(DATE(2025,1,1),AD$16:AD$22,$D$16:$D$22,$B$11,1) -> 3597.8205 | AE23: =_xlfn.FORECAST.ETS(DATE(2025,1,1),AE$16:AE$22,$D$16:$D$22,1,1)+_xlfn.FORECAST.ETS.CONFINT(DATE(2025,1,1),AE$16:AE$22,$D$16:$D$22,$B$11,1) -> 80942.462 | AF23: =AD23/AE23 -> 0.044449111 | AG23: =_xlfn.FORECAST.ETS(DATE(2025,1,1),AG$16:AG$22,$D$16:$D$22,1,1)+_xlfn.FORECAST.ETS.CONFINT(DATE(2025,1,1),AG$16:AG$22,$D$16:$D$22,$B$12,1) -> 2323.8595 | AH23: =_xlfn.FORECAST.ETS(DATE(2025,1,1),AH$16:AH$22,$D$16:$D$22,1,1)+_xlfn.FORECAST.ETS.CONFINT(DATE(2025,1,1),AH$16:AH$22,$D$16:$D$22,$B$12,1) -> 56114.13 | AI23: =AG23/AH23 -> 0.041413089 | AM23: =_xlfn.FORECAST.ETS(DATE(2025,1,1),AM$4:AM$10,$D$4:$D$10,1,1)+_xlfn.FORECAST.ETS.CONFINT(DATE(2025,1,1),AM$4:AM$10,$D$4:$D$10,$C$1,1) -> 24072.701 | AN23: =_xlfn.FORECAST.ETS(DATE(2025,1,1),AN$4:AN$10,$D$4:$D$10,1,1)+_xlfn.FORECAST.ETS.CONFINT(DATE(2025,1,1),AN$4:AN$10,$D$4:$D$10,$C$1,1) -> 1920.267 | AO23: =_xlfn.FORECAST.ETS(DATE(2025,1,1),AO$4:AO$10,$D$4:$D$10,1,1)+_xlfn.FORECAST.ETS.CONFINT(DATE(2025,1,1),AO$4:AO$10,$D$4:$D$10,$C$1,1) -> 83771.505 | AP23: =_xlfn.FORECAST.ETS(DATE(2025,1,1),AP$4:AP$10,$D$4:$D$10,1,1)+_xlfn.FORECAST.ETS.CONFINT(DATE(2025,1,1),AP$4:AP$10,$D$4:$D$10,$C$1,1) -> 1013.5221 | AQ23: =_xlfn.FORECAST.ETS(DATE(2025,1,1),AQ$4:AQ$10,$D$4:$D$10,1,1)+_xlfn.FORECAST.ETS.CONFINT(DATE(2025,1,1),AQ$4:AQ$10,$D$4:$D$10,$C$1,1) -> 5135.8322 | AR23: =_xlfn.FORECAST.ETS(DATE(2025,1,1),AR$4:AR$10,$D$4:$D$10,1,1)+_xlfn.FORECAST.ETS.CONFINT(DATE(2025,1,1),AR$4:AR$10,$D$4:$D$10,$C$1,1) -> 505.68504 | AS23: =_xlfn.FORECAST.ETS(DATE(2025,1,1),AS$4:AS$10,$D$4:$D$10,1,1)+_xlfn.FORECAST.ETS.CONFINT(DATE(2025,1,1),AS$4:AS$10,$D$4:$D$10,$C$1,1) -> 513.97937
A24: =0.005+A23 -> 0.04 | C24: =MONTH(D24) -> 3 | D24: 43160 | E24: 14840 | F24: 145287 | G24: =E24/F24 -> 0.10214266 | H24: 26343 | I24: 292869 | J24: 0.0899 | K24: 8095 | L24: 118809 | M24: 16621 | N24: 227576 | O24: 9449 | P24: 139673 | Q24: 0.0677 | R24: 11376 | S24: 119038 | T24: 0.0956 | U24: 691 | V24: 109011 | W24: 0.0063 | X24: 14630 | Y24: 150506 | Z24: 0.0972 | AA24: 12004 | AB24: 102106 | AC24: 0.1176 | AD24: 5800 | AE24: 94449 | AF24: 0.0614 | AG24: 7313 | AH24: 110717 | AI24: 0.0661 | AJ24: 273 | AL24: 3779 | AM24: 39300 | AN24: 2368 | AO24: 629 | AP24: 2610 | AQ24: 100 | AR24: 770 | AS24: 7590 | AT24: 1794623 | AU24: 0.038
A25: =0.005+A24 -> 0.045 | C25: =MONTH(D25) -> 3 | D25: 43525 | E25: 18329 | F25: 170602 | G25: =E25/F25 -> 0.10743719 | H25: 29142 | I25: 276019 | J25: 0.1056 | K25: 13148 | L25: 139754 | M25: 18761 | N25: 228674 | O25: 8347 | P25: 143296 | Q25: 0.0583 | R25: 11031 | S25: 114528 | T25: 0.0963 | U25: 730 | V25: 117350 | W25: 0.0062 | X25: 15980 | Y25: 159305 | Z25: 0.1003 | AA25: 8722 | AB25: 94781 | AC25: 0.092 | AD25: 8208 | AE25: 112854 | AF25: 0.0727 | AG25: 9283 | AH25: 134553 | AI25: 0.069 | AJ25: 247 | AL25: 3777 | AM25: 35400 | AN25: 2355 | AO25: 390 | AP25: 1520 | AQ25: 470 | AR25: 970 | AS25: 7857 | AT25: 1886384 | AU25: 0.0617
A26: =0.005+A25 -> 0.05 | C26: =MONTH(D26) -> 3 | D26: 43891 | E26: 13684 | F26: 121890 | G26: =E26/F26 -> 0.11226516 | H26: 22546 | I26: 237229 | J26: 0.095 | K26: 13382 | L26: 105196 | M26: 15165 | N26: 173516 | O26: 6642 | P26: 121521 | Q26: 0.0547 | R26: 9512 | S26: 97063 | T26: 0.098 | U26: 642 | V26: 114469 | W26: 0.0056 | X26: 13701 | Y26: 122379 | Z26: 0.112 | AA26: 9117 | AB26: 87992 | AC26: 0.1036 | AD26: 6561 | AE26: 89162 | AF26: 0.0736 | AG26: 7035 | AH26: 92027 | AI26: 0.0764 | AJ26: 214 | AL26: 2846 | AM26: 26100 | AN26: 320 | AO26: 380 | AP26: 1430 | AQ26: 340 | AR26: 540 | AS26: 6579 | AT26: 1519181 | AU26: -0.0359
A27: =0.005+A26 -> 0.055 | C27: =MONTH(D27) -> 3 | D27: 44256 | E27: 21286 | F27: 193572 | G27: =E27/F27 -> 0.10996425 | H27: 19217 | I27: 234649 | J27: 0.0819 | K27: 10304 | L27: 87221 | M27: 16006 | N27: 183872 | O27: 7245 | P27: 85581 | Q27: 0.0847 | R27: 6784 | S27: 67701 | T27: 0.1002 | U27: 4109 | V27: 106645 | W27: 0.0385 | X27: 13045 | Y27: 134284 | Z27: 0.0971 | AA27: 6520 | AB27: 83344 | AC27: 0.0782 | AD27: 5257 | AE27: 79835 | AF27: 0.0658 | AG27: 3164 | AH27: 73175 | AI27: 0.0432 | AJ27: 394 | AL27: 3572 | AM27: 25800 | AN27: 2628 | AO27: 347 | AP27: 1390 | AQ27: 350 | AR27: 750 | AS27: 2846 | AT27: 1480894 | AU27: 0.2005
A28: =0.005+A27 -> 0.06 | C28: =MONTH(D28) -> 3 | D28: 44621 | E28: 13175 | F28: 135785 | G28: =E28/F28 -> 0.09702839 | H28: 17407 | I28: 245552 | J28: 0.0709 | K28: 10559 | L28: 96942 | M28: 12489 | N28: 173640 | O28: 8411 | P28: 104276 | Q28: 0.0807 | R28: 10161 | S28: 108622 | T28: 0.0935 | U28: 490 | V28: 105459 | W28: 0.0046 | X28: 10655 | Y28: 106917 | Z28: 0.0997 | AA28: 6540 | AB28: 84615 | AC28: 0.0773 | AD28: 4266 | AE28: 78733 | AF28: 0.0542 | AG28: 3955 | AH28: 96207 | AI28: 0.0411 | AJ28: 403 | AL28: 5764 | AM28: 36600 | AN28: 3266 | AO28: 479 | AP28: 1720 | AQ28: 610 | AR28: 550 | AS28: 3476 | AT28: 1487725 | AU28: 0.2993
A29: =0.005+A28 -> 0.065 | C29: =MONTH(D29) -> 3 | D29: 44986 | E29: 11501 | F29: 125208 | G29: =E29/F29 -> 0.091855153 | H29: 19608 | I29: 259446 | J29: 0.0756 | M29: 16578 | N29: 190071 | O29: 10068 | P29: 107931 | Q29: 0.0933 | R29: 11153 | S29: 116557 | T29: 0.0957 | U29: 787 | V29: 86887 | W29: 0.0091 | X29: 11322 | Y29: 108880 | Z29: 0.104 | AA29: 7962 | AB29: 85678 | AC29: 0.0929 | AD29: 2418 | AE29: 85709 | AF29: 0.0282 | AG29: 3840 | AH29: 76184 | AI29: 0.0504 | AM29: 28500 | AN29: 3735 | AO29: 121200 | AP29: 1050 | AQ29: 7500 | AR29: 530 | AS29: 2175 | AT29: 1502479 | AU29: 0.0955
A30: =0.005+A29 -> 0.07 | C30: =MONTH(D30) -> 3 | D30: 45352 | E30: 11516 | F30: 150280 | G30: =E30/F30 -> 0.07663029 | H30: 13856 | I30: 230674 | J30: 0.0601 | M30: 19787 | N30: 189937 | O30: 11089 | P30: 121540 | Q30: 0.0912 | R30: 10167 | S30: 126191 | T30: 0.0806 | U30: 479 | V30: 86043 | W30: 0.0056 | X30: 17900 | Y30: 196952 | Z30: 0.0909 | AA30: 9059 | AB30: 87381 | AC30: 0.1037 | AD30: 2637 | AE30: 93696 | AF30: 0.0281 | AG30: 2095 | AH30: 45071 | AI30: 0.0465 | AJ30: 0 | AM30: 34200 | AN30: 3793 | AO30: 515 | AP30: 1130 | AQ30: 420 | AR30: 630 | AS30: 3271 | AT30: 1470310
A31: =0.005+A30 -> 0.075 | C31: =MONTH(D31) -> 3 | D31: 45717 | E31: =_xlfn.FORECAST.ETS(DATE(2025,1,1),E$24:E$30,$D$24:$D$30,1,1)+_xlfn.FORECAST.ETS.CONFINT(DATE(2025,1,1),E$24:E$30,$D$24:$D$30,$B$4,1) -> 16675.524 | F31: =_xlfn.FORECAST.ETS(DATE(2025,1,1),F$24:F$30,$D$24:$D$30,1,1)+_xlfn.FORECAST.ETS.CONFINT(DATE(2025,1,1),F$24:F$30,$D$24:$D$30,$B$4,1) -> 189861.77 | G31: =E31/F31 -> 0.087829816 | H31: =_xlfn.FORECAST.ETS(DATE(2025,1,1),H$24:H$30,$D$24:$D$30,1,1)+_xlfn.FORECAST.ETS.CONFINT(DATE(2025,1,1),H$24:H$30,$D$24:$D$30,$B$5,1) -> 16315.029 | I31: =_xlfn.FORECAST.ETS(DATE(2025,1,1),I$24:I$30,$D$24:$D$30,1,1)+_xlfn.FORECAST.ETS.CONFINT(DATE(2025,1,1),I$24:I$30,$D$24:$D$30,$B$5,1) -> 247828.42 | J31: =H31/I31 -> 0.065831954 | O31: =_xlfn.FORECAST.ETS(DATE(2025,1,1),O$24:O$30,$D$24:$D$30,1,1)+_xlfn.FORECAST.ETS.CONFINT(DATE(2025,1,1),O$24:O$30,$D$24:$D$30,$B$6,1) -> 12536.795 | P31: =_xlfn.FORECAST.ETS(DATE(2025,1,1),P$24:P$30,$D$24:$D$30,1,1)+_xlfn.FORECAST.ETS.CONFINT(DATE(2025,1,1),P$24:P$30,$D$24:$D$30,$B$6,1) -> 121996.03 | Q31: =O31/P31 -> 0.10276396 | R31: =_xlfn.FORECAST.ETS(DATE(2025,1,1),R$24:R$30,$D$24:$D$30,1,1)+_xlfn.FORECAST.ETS.CONFINT(DATE(2025,1,1),R$24:R$30,$D$24:$D$30,$B$7,1) -> 11554.37 | S31: =_xlfn.FORECAST.ETS(DATE(2025,1,1),S$24:S$30,$D$24:$D$30,1,1)+_xlfn.FORECAST.ETS.CONFINT(DATE(2025,1,1),S$24:S$30,$D$24:$D$30,$B$7,1) -> 146805.44 | T31: =R31/S31 -> 0.078705327 | U31: =_xlfn.FORECAST.ETS(DATE(2025,1,1),U$24:U$30,$D$24:$D$30,1,1)+_xlfn.FORECAST.ETS.CONFINT(DATE(2025,1,1),U$24:U$30,$D$24:$D$30,$B$8,1) -> 2482.6791 | V31: =_xlfn.FORECAST.ETS(DATE(2025,1,1),V$24:V$30,$D$24:$D$30,1,1)+_xlfn.FORECAST.ETS.CONFINT(DATE(2025,1,1),V$24:V$30,$D$24:$D$30,$B$8,1) -> 92504.63 | W31: =U31/V31 -> 0.026838431 | X31: =_xlfn.FORECAST.ETS(DATE(2025,1,1),X$24:X$30,$D$24:$D$30,1,1)+_xlfn.FORECAST.ETS.CONFINT(DATE(2025,1,1),X$24:X$30,$D$24:$D$30,$B$9,1) -> 18751.217 | Y31: =_xlfn.FORECAST.ETS(DATE(2025,1,1),Y$24:Y$30,$D$24:$D$30,1,1)+_xlfn.FORECAST.ETS.CONFINT(DATE(2025,1,1),Y$24:Y$30,$D$24:$D$30,$B$9,1) -> 219829.91 | Z31: =X31/Y31 -> 0.085298751 | AA31: =_xlfn.FORECAST.ETS(DATE(2025,1,1),AA$24:AA$30,$D$24:$D$30,1,1)+_xlfn.FORECAST.ETS.CONFINT(DATE(2025,1,1),AA$24:AA$30,$D$24:$D$30,$B$10,1) -> 10060.295 | AB31: =_xlfn.FORECAST.ETS(DATE(2025,1,1),AB$24:AB$30,$D$24:$D$30,1,1)+_xlfn.FORECAST.ETS.CONFINT(DATE(2025,1,1),AB$24:AB$30,$D$24:$D$30,$B$10,1) -> 88333.807 | AC31: =AA31/AB31 -> 0.11388953 | AD31: =_xlfn.FORECAST.ETS(DATE(2025,1,1),AD$24:AD$30,$D$24:$D$30,1,1)+_xlfn.FORECAST.ETS.CONFINT(DATE(2025,1,1),AD$24:AD$30,$D$24:$D$30,$B$11,1) -> 4011.17 | AE31: =_xlfn.FORECAST.ETS(DATE(2025,1,1),AE$24:AE$30,$D$24:$D$30,1,1)+_xlfn.FORECAST.ETS.CONFINT(DATE(2025,1,1),AE$24:AE$30,$D$24:$D$30,$B$11,1) -> 95368.84 | AF31: =AD31/AE31 -> 0.042059544 | AG31: =_xlfn.FORECAST.ETS(DATE(2025,1,1),AG$24:AG$30,$D$24:$D$30,1,1)+_xlfn.FORECAST.ETS.CONFINT(DATE(2025,1,1),AG$24:AG$30,$D$24:$D$30,$B$12,1) -> 2855.2655 | AH31: =_xlfn.FORECAST.ETS(DATE(2025,1,1),AH$24:AH$30,$D$24:$D$30,1,1)+_xlfn.FORECAST.ETS.CONFINT(DATE(2025,1,1),AH$24:AH$30,$D$24:$D$30,$B$12,1) -> 68090.775 | AI31: =AG31/AH31 -> 0.04193322 | AM31: =_xlfn.FORECAST.ETS(DATE(2025,1,1),AM$24:AM$30,$D$24:$D$30,1,1)+_xlfn.FORECAST.ETS.CONFINT(DATE(2025,1,1),AM$24:AM$30,$D$24:$D$30,$C$1,1) -> 31364.392 | AN31: =_xlfn.FORECAST.ETS(DATE(2025,1,1),AN$24:AN$30,$D$24:$D$30,1,1)+_xlfn.FORECAST.ETS.CONFINT(DATE(2025,1,1),AN$24:AN$30,$D$24:$D$30,$C$1,1) -> 4259.8108 | AO31: =_xlfn.FORECAST.ETS(DATE(2025,1,1),AO$24:AO$30,$D$24:$D$30,1,1)+_xlfn.FORECAST.ETS.CONFINT(DATE(2025,1,1),AO$24:AO$30,$D$24:$D$30,$C$1,1) -> 75058.208 | AP31: =_xlfn.FORECAST.ETS(DATE(2025,1,1),AP$24:AP$30,$D$24:$D$30,1,1)+_xlfn.FORECAST.ETS.CONFINT(DATE(2025,1,1),AP$24:AP$30,$D$24:$D$30,$C$1,1) -> 954.66985 | AQ31: =_xlfn.FORECAST.ETS(DATE(2025,1,1),AQ$24:AQ$30,$D$24:$D$30,1,1)+_xlfn.FORECAST.ETS.CONFINT(DATE(2025,1,1),AQ$24:AQ$30,$D$24:$D$30,$C$1,1) -> 4081.8125 | AR31: =_xlfn.FORECAST.ETS(DATE(2025,1,1),AR$24:AR$30,$D$24:$D$30,1,1)+_xlfn.FORECAST.ETS.CONFINT(DATE(2025,1,1),AR$24:AR$30,$D$24:$D$30,$C$1,1) -> 498.01321 | AS31: =_xlfn.FORECAST.ETS(DATE(2025,1,1),AS$24:AS$30,$D$24:$D$30,1,1)+_xlfn.FORECAST.ETS.CONFINT(DATE(2025,1,1),AS$24:AS$30,$D$24:$D$30,$C$1,1) -> 1025.9097
A32: =0.005+A31 -> 0.08 | C32: =MONTH(D32) -> 4 | D32: 43191 | E32: 16227 | F32: 160223 | G32: =E32/F32 -> 0.10127759 | H32: 27602 | I32: 283007 | J32: 0.0975 | K32: 8754 | L32: 133865 | M32: 16566 | N32: 224545 | O32: 8658 | P32: 119202 | Q32: 0.0726 | R32: 11847 | S32: 115473 | T32: 0.1026 | U32: 805 | V32: 91403 | W32: 0.0088 | X32: 15861 | Y32: 163437 | Z32: 0.097 | AA32: 10770 | AB32: 95882 | AC32: 0.1123 | AD32: 5678 | AE32: 93027 | AF32: 0.061 | AG32: 11882 | AH32: 140131 | AI32: 0.0848 | AJ32: 261 | AL32: 3205 | AM32: 33600 | AN32: 2678 | AO32: 700 | AP32: 2020 | AQ32: 400 | AR32: 730 | AS32: 6863 | AT32: 1805303 | AU32: 0.006
A33: =0.005+A32 -> 0.085 | C33: =MONTH(D33) -> 4 | D33: 43556 | E33: 15929 | F33: 157949 | G33: =E33/F33 -> 0.10084901 | H33: 27594 | I33: 287136 | J33: 0.0961 | K33: 11622 | L33: 129208 | M33: 17585 | N33: 220723 | O33: 7040 | P33: 125995 | Q33: 0.0559 | R33: 10013 | S33: 107841 | T33: 0.0928 | U33: 559 | V33: 110998 | W33: 0.005 | X33: 13726 | Y33: 144255 | Z33: 0.0952 | AA33: 10883 | AB33: 95750 | AC33: 0.1137 | AD33: 6866 | AE33: 84223 | AF33: 0.0815 | AG33: 5616 | AH33: 90952 | AI33: 0.0617 | AJ33: 214 | AL33: 3174 | AM33: 39600 | AN33: 2176 | AO33: 452 | AP33: 1720 | AQ33: 480 | AR33: 1030 | AS33: 10075 | AT33: 1741385 | AU33: -0.0769
A34: =0.005+A33 -> 0.09 | C34: =MONTH(D34) -> 4 | D34: 43922 | E34: 7418 | F34: 74127 | G34: =E34/F34 -> 0.1000715 | H34: 16717 | I34: 186439 | J34: 0.0897 | K34: 8241 | L34: 72680 | M34: 10089 | N34: 131923 | O34: 6500 | P34: 119706 | Q34: 0.0543 | R34: 6780 | S34: 79739 | T34: 0.085 | U34: 267 | V34: 70673 | W34: 0.0038 | X34: 8491 | Y34: 86515 | Z34: 0.0981 | AA34: 9474 | AB34: 91045 | AC34: 0.1041 | AD34: 5514 | AE34: 56026 | AF34: 0.0984 | AG34: 5234 | AH34: 51992 | AI34: 0.1007 | AJ34: 214 | AL34: 2349 | AM34: 18900 | AN34: 2566 | AO34: 379 | AP34: 1270 | AQ34: 250 | AR34: 550 | AS34: 6005 | AT34: 1138074 | AU34: -0.2509
A35: =0.005+A34 -> 0.095 | C35: =MONTH(D35) -> 4 | D35: 44287 | E35: 8870 | F35: 89328 | G35: =E35/F35 -> 0.099296973 | H35: 18131 | I35: 214923 | J35: 0.0844 | K35: 10048 | L35: 85723 | M35: 14036 | N35: 165440 | O35: 6142 | P35: 85502 | Q35: 0.0718 | R35: 8370 | S35: 90611 | T35: 0.0924 | U35: 1965 | V35: 85482 | W35: 0.023 | X35: 8508 | Y35: 84857 | Z35: 0.1003 | AA35: 5478 | AB35: 74021 | AC35: 0.074 | AD35: 3955 | AE35: 58952 | AF35: 0.0671 | AG35: 3298 | AH35: 68840 | AI35: 0.0479 | AJ35: 345 | AL35: 3427 | AM35: 23100 | AN35: 2599 | AO35: 283 | AP35: 1120 | AQ35: 240 | AR35: 810 | AS35: 2375 | AT35: 1226780 | AU35: -0.1716
A36: =0.005+A35 -> 0.1 | C36: =MONTH(D36) -> 4 | D36: 44652 | E36: 11052 | F36: 120148 | G36: =E36/F36 -> 0.09198655 | H36: 15356 | I36: 227908 | J36: 0.0674 | K36: 11628 | L36: 102610 | M36: 10758 | N36: 161257 | O36: 6683 | P36: 94398 | Q36: 0.0708 | R36: 9054 | S36: 106935 | T36: 0.0847 | U36: 320 | V36: 93156 | W36: 0.0034 | X36: 12320 | Y36: 126785 | Z36: 0.0972 | AA36: 5630 | AB36: 79733 | AC36: 0.0706 | AD36: 3922 | AE36: 66920 | AF36: 0.0586 | AG36: 1991 | AH36: 49167 | AI36: 0.0405 | AJ36: 491 | AL36: 6860 | AM36: 23700 | AN36: 3284 | AO36: 485 | AP36: 1570 | AQ36: 810 | AR36: 460 | AS36: 3432 | AT36: 1358824 | AU36: -0.0866
A37: =0.005+A36 -> 0.105 | C37: =MONTH(D37) -> 4 | D37: 45017 | E37: 8092 | F37: 95666 | G37: =E37/F37 -> 0.084585955 | H37: 15876 | I37: 230492 | J37: 0.0689 | M37: 12983 | N37: 162796 | O37: 7774 | P37: 89374 | Q37: 0.087 | R37: 8778 | S37: 102677 | T37: 0.0855 | U37: 500 | V37: 66631 | W37: 0.0075 | X37: 8803 | Y37: 95315 | Z37: 0.0924 | AA37: 6694 | AB37: 77240 | AC37: 0.0867 | AD37: 1816 | AE37: 64881 | AF37: 0.028 | AG37: 2881 | AH37: 52971 | AI37: 0.0544 | AM37: 26400 | AN37: 3769 | AO37: 125400 | AP37: 1020 | AQ37: 6600 | AR37: 490 | AS37: 1899 | AT37: 1277819 | AU37: -0.1495
A38: =0.005+A37 -> 0.11 | C38: =MONTH(D38) -> 4 | D38: 45383 | E38: 11655 | F38: 144597 | G38: =E38/F38 -> 0.080603332 | H38: 15757 | I38: 242835 | J38: 0.0649 | M38: 19145 | N38: 189534 | O38: 11197 | P38: 117684 | Q38: 0.0951 | R38: 11300 | S38: 125772 | T38: 0.0898 | U38: 543 | V38: 83148 | W38: 0.0065 | X38: 18110 | Y38: 184050 | Z38: 0.0984 | AA38: 9402 | AB38: 83769 | AC38: 0.1122 | AD38: 2835 | AE38: 88815 | AF38: 0.0319 | AG38: 1823 | AH38: 33659 | AI38: 0.0542 | AJ38: 0 | AM38: 36000 | AN38: 3912 | AO38: 650 | AP38: 1230 | AQ38: 350 | AR38: 670 | AS38: 3475 | AT38: 1441918
A39: =0.005+A38 -> 0.115 | C39: =MONTH(D39) -> 4 | D39: 45748 | E39: =_xlfn.FORECAST.ETS(DATE(2025,1,1),E$32:E$38,$D$32:$D$38,1,1)+_xlfn.FORECAST.ETS.CONFINT(DATE(2025,1,1),E$32:E$38,$D$32:$D$38,$B$4,1) -> 13402.289 | F39: =_xlfn.FORECAST.ETS(DATE(2025,1,1),F$32:F$38,$D$32:$D$38,1,1)+_xlfn.FORECAST.ETS.CONFINT(DATE(2025,1,1),F$32:F$38,$D$32:$D$38,$B$4,1) -> 166619.35 | G39: =E39/F39 -> 0.080436571 | H39: =_xlfn.FORECAST.ETS(DATE(2025,1,1),H$32:H$38,$D$32:$D$38,1,1)+_xlfn.FORECAST.ETS.CONFINT(DATE(2025,1,1),H$32:H$38,$D$32:$D$38,$B$5,1) -> 15744.632 | I39: =_xlfn.FORECAST.ETS(DATE(2025,1,1),I$32:I$38,$D$32:$D$38,1,1)+_xlfn.FORECAST.ETS.CONFINT(DATE(2025,1,1),I$32:I$38,$D$32:$D$38,$B$5,1) -> 258316.91 | J39: =H39/I39 -> 0.060950837 | O39: =_xlfn.FORECAST.ETS(DATE(2025,1,1),O$32:O$38,$D$32:$D$38,1,1)+_xlfn.FORECAST.ETS.CONFINT(DATE(2025,1,1),O$32:O$38,$D$32:$D$38,$B$6,1) -> 12674.959 | P39: =_xlfn.FORECAST.ETS(DATE(2025,1,1),P$32:P$38,$D$32:$D$38,1,1)+_xlfn.FORECAST.ETS.CONFINT(DATE(2025,1,1),P$32:P$38,$D$32:$D$38,$B$6,1) -> 107576.15 | Q39: =O39/P39 -> 0.11782314 | R39: =_xlfn.FORECAST.ETS(DATE(2025,1,1),R$32:R$38,$D$32:$D$38,1,1)+_xlfn.FORECAST.ETS.CONFINT(DATE(2025,1,1),R$32:R$38,$D$32:$D$38,$B$7,1) -> 12710.788 | S39: =_xlfn.FORECAST.ETS(DATE(2025,1,1),S$32:S$38,$D$32:$D$38,1,1)+_xlfn.FORECAST.ETS.CONFINT(DATE(2025,1,1),S$32:S$38,$D$32:$D$38,$B$7,1) -> 139834.29 | T39: =R39/S39 -> 0.090898933 | U39: =_xlfn.FORECAST.ETS(DATE(2025,1,1),U$32:U$38,$D$32:$D$38,1,1)+_xlfn.FORECAST.ETS.CONFINT(DATE(2025,1,1),U$32:U$38,$D$32:$D$38,$B$8,1) -> 1342.3936 | V39: =_xlfn.FORECAST.ETS(DATE(2025,1,1),V$32:V$38,$D$32:$D$38,1,1)+_xlfn.FORECAST.ETS.CONFINT(DATE(2025,1,1),V$32:V$38,$D$32:$D$38,$B$8,1) -> 89318.87 | W39: =U39/V39 -> 0.015029227 | X39: =_xlfn.FORECAST.ETS(DATE(2025,1,1),X$32:X$38,$D$32:$D$38,1,1)+_xlfn.FORECAST.ETS.CONFINT(DATE(2025,1,1),X$32:X$38,$D$32:$D$38,$B$9,1) -> 22234.873 | Y39: =_xlfn.FORECAST.ETS(DATE(2025,1,1),Y$32:Y$38,$D$32:$D$38,1,1)+_xlfn.FORECAST.ETS.CONFINT(DATE(2025,1,1),Y$32:Y$38,$D$32:$D$38,$B$9,1) -> 227040.85 | Z39: =X39/Y39 -> 0.097933362 | AA39: =_xlfn.FORECAST.ETS(DATE(2025,1,1),AA$32:AA$38,$D$32:$D$38,1,1)+_xlfn.FORECAST.ETS.CONFINT(DATE(2025,1,1),AA$32:AA$38,$D$32:$D$38,$B$10,1) -> 8549.279 | AB39: =_xlfn.FORECAST.ETS(DATE(2025,1,1),AB$32:AB$38,$D$32:$D$38,1,1)+_xlfn.FORECAST.ETS.CONFINT(DATE(2025,1,1),AB$32:AB$38,$D$32:$D$38,$B$10,1) -> 80607.079 | AC39: =AA39/AB39 -> 0.10606114 | AD39: =_xlfn.FORECAST.ETS(DATE(2025,1,1),AD$32:AD$38,$D$32:$D$38,1,1)+_xlfn.FORECAST.ETS.CONFINT(DATE(2025,1,1),AD$32:AD$38,$D$32:$D$38,$B$10,1) -> 1923.6757 | AE39: =_xlfn.FORECAST.ETS(DATE(2025,1,1),AE$32:AE$38,$D$32:$D$38,1,1)+_xlfn.FORECAST.ETS.CONFINT(DATE(2025,1,1),AE$32:AE$38,$D$32:$D$38,$B$11,1) -> 109033.16 | AF39: =AD39/AE39 -> 0.017643032 | AG39: =_xlfn.FORECAST.ETS(DATE(2025,1,1),AG$32:AG$38,$D$32:$D$38,1,1)+_xlfn.FORECAST.ETS.CONFINT(DATE(2025,1,1),AG$32:AG$38,$D$32:$D$38,$B$12,1) -> 2118.168 | AH39: =_xlfn.FORECAST.ETS(DATE(2025,1,1),AH$32:AH$38,$D$32:$D$38,1,1)+_xlfn.FORECAST.ETS.CONFINT(DATE(2025,1,1),AH$32:AH$38,$D$32:$D$38,$B$12,1) -> 37637.97 | AI39: =AG39/AH39 -> 0.056277424 | AM39: =_xlfn.FORECAST.ETS(DATE(2025,1,1),AM$32:AM$38,$D$32:$D$38,1,1)+_xlfn.FORECAST.ETS.CONFINT(DATE(2025,1,1),AM$32:AM$38,$D$32:$D$38,$C$1,1) -> 30842.357 | AN39: =_xlfn.FORECAST.ETS(DATE(2025,1,1),AN$32:AN$38,$D$32:$D$38,1,1)+_xlfn.FORECAST.ETS.CONFINT(DATE(2025,1,1),AN$32:AN$38,$D$32:$D$38,$C$1,1) -> 4165.3701 | AO39: =_xlfn.FORECAST.ETS(DATE(2025,1,1),AO$32:AO$38,$D$32:$D$38,1,1)+_xlfn.FORECAST.ETS.CONFINT(DATE(2025,1,1),AO$32:AO$38,$D$32:$D$38,$C$1,1) -> 74284.588 | AP39: =_xlfn.FORECAST.ETS(DATE(2025,1,1),AP$32:AP$38,$D$32:$D$38,1,1)+_xlfn.FORECAST.ETS.CONFINT(DATE(2025,1,1),AP$32:AP$38,$D$32:$D$38,$C$1,1) -> 1028.6987 | AQ39: =_xlfn.FORECAST.ETS(DATE(2025,1,1),AQ$32:AQ$38,$D$32:$D$38,1,1)+_xlfn.FORECAST.ETS.CONFINT(DATE(2025,1,1),AQ$32:AQ$38,$D$32:$D$38,$C$1,1) -> 3653.9259 | AR39: =_xlfn.FORECAST.ETS(DATE(2025,1,1),AR$32:AR$38,$D$32:$D$38,1,1)+_xlfn.FORECAST.ETS.CONFINT(DATE(2025,1,1),AR$32:AR$38,$D$32:$D$38,$C$1,1) -> 503.75702 | AS39: =_xlfn.FORECAST.ETS(DATE(2025,1,1),AS$32:AS$38,$D$32:$D$38,1,1)+_xlfn.FORECAST.ETS.CONFINT(DATE(2025,1,1),AS$32:AS$38,$D$32:$D$38,$C$1,1) -> 680.93119
A40: =0.005+A39 -> 0.12 | C40: =MONTH(D40) -> 5 | D40: 43221 | E40: 15165 | F40: 137581 | G40: =E40/F40 -> 0.11022598 | H40: 27411 | I40: 276925 | J40: 0.099 | K40: 8615 | L40: 119956 | M40: 16434 | N40: 224177 | O40: 8227 | P40: 107560 | Q40: 0.0765 | R40: 11518 | S40: 116251 | T40: 0.0991 | U40: 471 | V40: 74555 | W40: 0.0063 | X40: 14079 | Y40: 137531 | Z40: 0.1024 | AA40: 9735 | AB40: 90112 | AC40: 0.108 | AD40: 5665 | AE40: 92993 | AF40: 0.0609 | AG40: 18019 | AH40: 84380 | AI40: 0.2135 | AJ40: 390 | AL40: 4465 | AM40: 34800 | AN40: 2310 | AO40: 826 | AP40: 2100 | AQ40: 390 | AR40: 780 | AS40: 7272 | AT40: 1650694 | AU40: -0.0856
A41: =0.005+A40 -> 0.125 | C41: =MONTH(D41) -> 5 | D41: 43586 | E41: 15481 | F41: 143303 | G41: =E41/F41 -> 0.10802984 | H41: 27703 | I41: 291095 | J41: 0.0952 | K41: 11503 | L41: 123545 | M41: 18169 | N41: 218457 | O41: 6847 | P41: 114186 | Q41: 0.06 | R41: 10886 | S41: 115617 | T41: 0.0942 | U41: 671 | V41: 103634 | W41: 0.0065 | X41: 13270 | Y41: 133596 | Z41: 0.0993 | AA41: 10817 | AB41: 93312 | AC41: 0.1159 | AD41: 7968 | AE41: 108784 | AF41: 0.0732 | AG41: 8169 | AH41: 111443 | AI41: 0.0733 | AJ41: 202 | AL41: 3111 | AM41: 36600 | AN41: 2323 | AO41: 430 | AP41: 1920 | AQ41: 470 | AR41: 1040 | AS41: 8799 | AT41: 1743352 | AU41: 0.0011
A42: =0.005+A41 -> 0.13 | C42: =MONTH(D42) -> 5 | D42: 43952 | E42: 9338 | F42: 78921 | G42: =E42/F42 -> 0.11832085 | H42: 19707 | I42: 191456 | J42: 0.1029 | K42: 9737 | L42: 73591 | M42: 12280 | N42: 135211 | O42: 6455 | P42: 119182 | Q42: 0.0542 | R42: 8488 | S42: 84579 | T42: 0.1004 | U42: 287 | V42: 56752 | W42: 0.0051 | X42: 10045 | Y42: 89514 | Z42: 0.1122 | AA42: 9362 | AB42: 90856 | AC42: 0.103 | AD42: 6018 | AE42: 44380 | AF42: 0.1356 | AG42: 6505 | AH42: 60429 | AI42: 0.1076 | AJ42: 246 | AL42: 2451 | AM42: 16200 | AN42: 2047 | AO42: 294 | AP42: 840 | AQ42: 220 | AR42: 330 | AS42: 4265 | AT42: 1149987 | AU42: 0.0105
A43: =0.005+A42 -> 0.135 | C43: =MONTH(D43) -> 5 | D43: 44317 | E43: 10457 | F43: 93618 | G43: =E43/F43 -> 0.1116986 | H43: 19166 | I43: 233333 | J43: 0.0821 | K43: 7180 | L43: 118859 | M43: 13797 | N43: 163168 | O43: 5945 | P43: 59401 | Q43: 0.1001 | R43: 8876 | S43: 94776 | T43: 0.0937 | U43: 1608 | V43: 86453 | W43: 0.0186 | X43: 10895 | Y43: 104872 | Z43: 0.1039 | AA43: 5258 | AB43: 67951 | AC43: 0.0774 | AD43: 3872 | AE43: 50558 | AF43: 0.0766 | AG43: 3514 | AH43: 63673 | AI43: 0.0552 | AJ43: 340 | AL43: 3632 | AM43: 24000 | AN43: 2440 | AO43: 320 | AP43: 1110 | AQ43: 250 | AR43: 630 | AS43: 2410 | AT43: 1262363 | AU43: 0.029
A44: =0.005+A43 -> 0.14 | C44: =MONTH(D44) -> 5 | D44: 44682 | E44: 10040 | F44: 101425 | G44: =E44/F44 -> 0.098989401 | H44: 17283 | I44: 211422 | J44: 0.0817 | K44: 8601 | L44: 69445 | M44: 13596 | N44: 159241 | O44: 6306 | P44: 78375 | Q44: 0.0805 | R44: 10030 | S44: 107896 | T44: 0.093 | U44: 178 | V44: 76819 | W44: 0.0023 | X44: 8069 | Y44: 75757 | Z44: 0.1065 | AA44: 7081 | AB44: 79586 | AC44: 0.089 | AD44: 4788 | AE44: 58086 | AF44: 0.0824 | AG44: 3339 | AH44: 61947 | AI44: 0.0539 | AJ44: 429 | AL44: 5970 | AM44: 22200 | AN44: 2901 | AO44: 498 | AP44: 1280 | AQ44: 340 | AR44: 480 | AS44: 3116 | AT44: 1206525 | AU44: -0.1121
A45: =0.005+A44 -> 0.145 | C45: =MONTH(D45) -> 5 | D45: 45047 | E45: 9098 | F45: 97828 | G45: =E45/F45 -> 0.092999959 | H45: 18888 | I45: 235889 | J45: 0.0801 | M45: 14492 | N45: 171453 | O45: 8682 | P45: 90265 | Q45: 0.0962 | R45: 10206 | S45: 112217 | T45: 0.0909 | U45: 361 | V45: 73247 | W45: 0.0049 | X45: 10442 | Y45: 100852 | Z45: 0.1035 | AA45: 7501 | AB45: 79531 | AC45: 0.0943 | AD45: 2538 | AE45: 71940 | AF45: 0.0353 | AG45: 2880 | AH45: 49670 | AI45: 0.058 | AM45: 28200 | AN45: 2499 | AO45: 129300 | AP45: 1010 | AQ45: 7200 | AR45: 550 | AS45: 2179 | AT45: 1338919 | AU45: 0.0478
A46: =0.005+A45 -> 0.15 | C46: =MONTH(D46) -> 5 | D46: 45413 | E46: 9825 | F46: 123131 | G46: =E46/F46 -> 0.079793066 | H46: 14584 | I46: 221420 | J46: 0.0659 | M46: 17021 | N46: 174832 | O46: 9624 | P46: 105088 | Q46: 0.0916 | R46: 10504 | S46: 123734 | T46: 0.0849 | U46: 391 | V46: 74092 | W46: 0.0053 | X46: 13573 | Y46: 139760 | Z46: 0.0971 | AA46: 8306 | AB46: 78764 | AC46: 0.1055 | AD46: 2592 | AE46: 81672 | AF46: 0.0317 | AG46: 1556 | AH46: 23983 | AI46: 0.0649 | AJ46: 0 | AM46: 34500 | AN46: 3931 | AO46: 550 | AP46: 1310 | AQ46: 370 | AR46: 590 | AS46: 2744 | AT46: 1278448
A47: =0.005+A46 -> 0.155 | C47: =MONTH(D47) -> 5 | D47: 45778 | E47: =_xlfn.FORECAST.ETS(DATE(2025,1,1),E$40:E$46,$D$40:$D$46,1,1)+_xlfn.FORECAST.ETS.CONFINT(DATE(2025,1,1),E$40:E$46,$D$40:$D$46,$B$4,1) -> 10615.876 | F47: =_xlfn.FORECAST.ETS(DATE(2025,1,1),F$40:F$46,$D$40:$D$46,1,1)+_xlfn.FORECAST.ETS.CONFINT(DATE(2025,1,1),F$40:F$46,$D$40:$D$46,$B$4,1) -> 135273.94 | G47: =E47/F47 -> 0.078476878 | H47: =_xlfn.FORECAST.ETS(DATE(2025,1,1),H$40:H$46,$D$40:$D$46,1,1)+_xlfn.FORECAST.ETS.CONFINT(DATE(2025,1,1),H$40:H$46,$D$40:$D$46,$B$5,1) -> 15582.56 | I47: =_xlfn.FORECAST.ETS(DATE(2025,1,1),I$40:I$46,$D$40:$D$46,1,1)+_xlfn.FORECAST.ETS.CONFINT(DATE(2025,1,1),I$40:I$46,$D$40:$D$46,$B$5,1) -> 246369.51 | J47: =H47/I47 -> 0.063248735 | O47: =_xlfn.FORECAST.ETS(DATE(2025,1,1),O$40:O$46,$D$40:$D$46,1,1)+_xlfn.FORECAST.ETS.CONFINT(DATE(2025,1,1),O$40:O$46,$D$40:$D$46,$B$6,1) -> 10854.359 | P47: =_xlfn.FORECAST.ETS(DATE(2025,1,1),P$40:P$46,$D$40:$D$46,1,1)+_xlfn.FORECAST.ETS.CONFINT(DATE(2025,1,1),P$40:P$46,$D$40:$D$46,$B$6,1) -> 101549.56 | Q47: =O47/P47 -> 0.1068873 | R47: =_xlfn.FORECAST.ETS(DATE(2025,1,1),R$40:R$46,$D$40:$D$46,1,1)+_xlfn.FORECAST.ETS.CONFINT(DATE(2025,1,1),R$40:R$46,$D$40:$D$46,$B$7,1) -> 11329.637 | S47: =_xlfn.FORECAST.ETS(DATE(2025,1,1),S$40:S$46,$D$40:$D$46,1,1)+_xlfn.FORECAST.ETS.CONFINT(DATE(2025,1,1),S$40:S$46,$D$40:$D$46,$B$7,1) -> 136040.68 | T47: =R47/S47 -> 0.083281237 | U47: =_xlfn.FORECAST.ETS(DATE(2025,1,1),U$40:U$46,$D$40:$D$46,1,1)+_xlfn.FORECAST.ETS.CONFINT(DATE(2025,1,1),U$40:U$46,$D$40:$D$46,$B$8,1) -> 998.777 | V47: =_xlfn.FORECAST.ETS(DATE(2025,1,1),V$40:V$46,$D$40:$D$46,1,1)+_xlfn.FORECAST.ETS.CONFINT(DATE(2025,1,1),V$40:V$46,$D$40:$D$46,$B$8,1) -> 89429.006 | W47: =U47/V47 -> 0.011168379 | X47: =_xlfn.FORECAST.ETS(DATE(2025,1,1),X$40:X$46,$D$40:$D$46,1,1)+_xlfn.FORECAST.ETS.CONFINT(DATE(2025,1,1),X$40:X$46,$D$40:$D$46,$B$9,1) -> 16976.645 | Y47: =_xlfn.FORECAST.ETS(DATE(2025,1,1),Y$40:Y$46,$D$40:$D$46,1,1)+_xlfn.FORECAST.ETS.CONFINT(DATE(2025,1,1),Y$40:Y$46,$D$40:$D$46,$B$9,1) -> 174200.66 | Z47: =X47/Y47 -> 0.09745454 | AA47: =_xlfn.FORECAST.ETS(DATE(2025,1,1),AA$40:AA$46,$D$40:$D$46,1,1)+_xlfn.FORECAST.ETS.CONFINT(DATE(2025,1,1),AA$40:AA$46,$D$40:$D$46,$B$10,1) -> 7808.3113 | AB47: =_xlfn.FORECAST.ETS(DATE(2025,1,1),AB$40:AB$46,$D$40:$D$46,1,1)+_xlfn.FORECAST.ETS.CONFINT(DATE(2025,1,1),AB$40:AB$46,$D$40:$D$46,$B$10,1) -> 78273.191 | AC47: =AA47/AB47 -> 0.09975716 | AD47: =_xlfn.FORECAST.ETS(DATE(2025,1,1),AD$40:AD$46,$D$40:$D$46,1,1)+_xlfn.FORECAST.ETS.CONFINT(DATE(2025,1,1),AD$40:AD$46,$D$40:$D$46,$B$11,1) -> 3701.1346 | AE47: =_xlfn.FORECAST.ETS(DATE(2025,1,1),AE$40:AE$46,$D$40:$D$46,1,1)+_xlfn.FORECAST.ETS.CONFINT(DATE(2025,1,1),AE$40:AE$46,$D$40:$D$46,$B$11,1) -> 99919.199 | AF47: =AD47/AE47 -> 0.037041276 | AG47: =_xlfn.FORECAST.ETS(DATE(2025,1,1),AG$40:AG$46,$D$40:$D$46,1,1)+_xlfn.FORECAST.ETS.CONFINT(DATE(2025,1,1),AG$40:AG$46,$D$40:$D$46,$B$12,1) -> 1914.7201 | AH47: =_xlfn.FORECAST.ETS(DATE(2025,1,1),AH$40:AH$46,$D$40:$D$46,1,1)+_xlfn.FORECAST.ETS.CONFINT(DATE(2025,1,1),AH$40:AH$46,$D$40:$D$46,$B$12,1) -> 44109.707 | AI47: =AG47/AH47 -> 0.043408134 | AM47: =_xlfn.FORECAST.ETS(DATE(2025,1,1),AM$40:AM$46,$D$40:$D$46,1,1)+_xlfn.FORECAST.ETS.CONFINT(DATE(2025,1,1),AM$40:AM$46,$D$40:$D$46,$C$1,1) -> 28693.881 | AN47: =_xlfn.FORECAST.ETS(DATE(2025,1,1),AN$40:AN$46,$D$40:$D$46,1,1)+_xlfn.FORECAST.ETS.CONFINT(DATE(2025,1,1),AN$40:AN$46,$D$40:$D$46,$C$1,1) -> 3551.7421 | AO47: =_xlfn.FORECAST.ETS(DATE(2025,1,1),AO$40:AO$46,$D$40:$D$46,1,1)+_xlfn.FORECAST.ETS.CONFINT(DATE(2025,1,1),AO$40:AO$46,$D$40:$D$46,$C$1,1) -> 73096.615 | AP47: =_xlfn.FORECAST.ETS(DATE(2025,1,1),AP$40:AP$46,$D$40:$D$46,1,1)+_xlfn.FORECAST.ETS.CONFINT(DATE(2025,1,1),AP$40:AP$46,$D$40:$D$46,$C$1,1) -> 1045.8404 | AQ47: =_xlfn.FORECAST.ETS(DATE(2025,1,1),AQ$40:AQ$46,$D$40:$D$46,1,1)+_xlfn.FORECAST.ETS.CONFINT(DATE(2025,1,1),AQ$40:AQ$46,$D$40:$D$46,$C$1,1) -> 4264.5719 | AR47: =_xlfn.FORECAST.ETS(DATE(2025,1,1),AR$40:AR$46,$D$40:$D$46,1,1)+_xlfn.FORECAST.ETS.CONFINT(DATE(2025,1,1),AR$40:AR$46,$D$40:$D$46,$C$1,1) -> 555.45944 | AS47: =_xlfn.FORECAST.ETS(DATE(2025,1,1),AS$40:AS$46,$D$40:$D$46,1,1)+_xlfn.FORECAST.ETS.CONFINT(DATE(2025,1,1),AS$40:AS$46,$D$40:$D$46,$C$1,1) -> 752.81053
A48: =0.005+A47 -> 0.16 | C48: =MONTH(D48) -> 6 | D48: 43252 | E48: 14450 | F48: 130011 | G48: =E48/F48 -> 0.11114444 | H48: 26744 | I48: 261176 | J48: 0.1024 | K48: 8138 | L48: 111105 | M48: 15991 | N48: 222563 | O48: 7811 | P48: 99118 | Q48: 0.0788 | R48: 11182 | S48: 110148 | T48: 0.1015 | U48: 305 | V48: 65838 | W48: 0.0046 | X48: 13206 | Y48: 128769 | Z48: 0.1026 | AA48: 9109 | AB48: 84437 | AC48: 0.1079 | AD48: 6174 | AE48: 95707 | AF48: 0.0645 | AG48: 12565 | AH48: 75726 | AI48: 0.1659 | AJ48: 393 | AL48: 4378 | AM48: 32100 | AN48: 2301 | AO48: 587 | AP48: 1960 | AQ48: 470 | AR48: 810 | AS48: 6580 | AT48: 1559853 | AU48: -0.055
A49: =0.005+A48 -> 0.165 | C49: =MONTH(D49) -> 6 | D49: 43617 | E49: 13608 | F49: 119868 | G49: =E49/F49 -> 0.11352488 | H49: 26319 | I49: 261520 | J49: 0.1006 | K49: 10187 | L49: 60483 | M49: 16948 | N49: 199913 | O49: 6325 | P49: 92048 | Q49: 0.0687 | R49: 10574 | S49: 110710 | T49: 0.0955 | U49: 371 | V49: 65834 | W49: 0.0056 | X49: 11798 | Y49: 112087 | Z49: 0.1053 | AA49: 10859 | AB49: 93312 | AC49: 0.1164 | AD49: 6951 | AE49: 85044 | AF49: 0.0817 | AG49: 8148 | AH49: 98011 | AI49: 0.0831 | AJ49: 190 | AL49: 2900 | AM49: 28800 | AN49: 2273 | AO49: 384 | AP49: 1450 | AQ49: 340 | AR49: 870 | AS49: 6494 | AT49: 1464620 | AU49: -0.1599
A50: =0.005+A49 -> 0.17 | C50: =MONTH(D50) -> 6 | D50: 43983 | E50: 8708 | F50: 73111 | G50: =E50/F50 -> 0.11910656 | H50: 18297 | I50: 178695 | J50: 0.1024 | K50: 9013 | L50: 69065 | M50: 10964 | N50: 122991 | O50: 6762 | P50: 12308 | R50: 8429 | S50: 81509 | T50: 0.1034 | U50: 244 | V50: 28002 | W50: 0.0087 | X50: 9020 | Y50: 81396 | Z50: 0.1108 | AA50: 0 | AB50: 0 | AC50: #DIV/0! | AD50: 4490 | AE50: 39053 | AF50: 0.115 | AG50: 3508 | AH50: 42983 | AI50: 0.0816 | AJ50: 253 | AL50: 2358 | AM50: 17400 | AN50: 1812 | AO50: 330 | AP50: 800 | AQ50: 200 | AR50: 300 | AS50: 4297 | AT50: #DIV/0! | AU50: #DIV/0!
A51: =0.005+A50 -> 0.175 | C51: =MONTH(D51) -> 6 | D51: 44348 | E51: 9101 | F51: 79733 | G51: =E51/F51 -> 0.11414345 | H51: 16015 | I51: 178990 | J51: 0.0895 | K51: 5410 | L51: 53798 | M51: 12797 | N51: 152188 | O51: 5913 | P51: 63595 | Q51: 0.093 | R51: 8639 | S51: 89464 | T51: 0.0966 | U51: 517 | V51: 65649 | W51: 0.0079 | X51: 3905 | Y51: 36730 | Z51: 0.1063 | AA51: 5583 | AB51: 60753 | AC51: 0.0919 | AD51: 4084 | AE51: 44000 | AF51: 0.0928 | AG51: 3278 | AH51: 48194 | AI51: 0.068 | AJ51: 353 | AL51: 3587 | AM51: 21600 | AN51: 2808 | AO51: 285 | AP51: 1180 | AQ51: 290 | AR51: 600 | AS51: 2471 | AT51: 981511 | AU51: -0.2225
A52: =0.005+A51 -> 0.18 | C52: =MONTH(D52) -> 6 | D52: 44713 | E52: 9108 | F52: 85892 | G52: =E52/F52 -> 0.10604014 | H52: 15605 | I52: 179890 | J52: 0.0867 | K52: 7228 | L52: 60941 | M52: 12100 | N52: 144205 | O52: 5895 | P52: 64798 | Q52: 0.091 | R52: 9469 | S52: 102789 | T52: 0.0921 | U52: 128 | V52: 59948 | W52: 0.0021 | X52: 8040 | Y52: 75894 | Z52: 0.1059 | AA52: 5852 | AB52: 71738 | AC52: 0.0816 | AD52: 4304 | AE52: 50427 | AF52: 0.0854 | AG52: 2115 | AH52: 33188 | AI52: 0.0637 | AJ52: 422 | AL52: 5283 | AM52: 22200 | AN52: 2085 | AO52: 526 | AP52: 1270 | AQ52: 290 | AR52: 460 | AS52: 3127 | AT52: 1045218 | AU52: -0.1337
A53: =0.005+A52 -> 0.185 | C53: =MONTH(D53) -> 6 | D53: 45078 | E53: 7818 | F53: 81698 | G53: =E53/F53 -> 0.095693897 | H53: 16017 | I53: 97025 | J53: 0.1651 | M53: 13138 | N53: 49499 | O53: 7740 | P53: 77646 | Q53: 0.0997 | R53: 9479 | S53: 105136 | T53: 0.0902 | U53: 400 | V53: 48743 | W53: 0.0082 | X53: 8865 | Y53: 87290 | Z53: 0.1016 | AA53: 6960 | AB53: 73275 | AC53: 0.095 | AD53: 2394 | AE53: 55650 | AF53: 0.043 | AG53: 1820 | AH53: 21422 | AI53: 0.085 | AM53: 25500 | AN53: 2835 | AO53: 140100 | AP53: 1200 | AQ53: 8100 | AR53: 520 | AS53: 4549 | AT53: 954820 | AU53: -0.2869
A54: =0.005+A53 -> 0.19 | C54: =MONTH(D54) -> 6 | D54: 45444 | G54: =E54/F54 -> #DIV/0! | J54: #DIV/0! | Q54: #DIV/0! | T54: #DIV/0! | Z54: #DIV/0! | AC54: #DIV/0! | AF54: #DIV/0! | AI54: #DIV/0! | AJ54: 0 | AN54: 4216
A55: =0.005+A54 -> 0.195 | C55: =MONTH(D55) -> 6 | D55: 45809 | E55: =_xlfn.FORECAST.ETS(DATE(2025,1,1),E$48:E$54,$D$48:$D$54,1,1)+_xlfn.FORECAST.ETS.CONFINT(DATE(2025,1,1),E$48:E$54,$D$48:$D$54,$B$4,1) -> 8317.148 | F55: =_xlfn.FORECAST.ETS(DATE(2025,1,1),F$48:F$54,$D$48:$D$54,1,1)+_xlfn.FORECAST.ETS.CONFINT(DATE(2025,1,1),F$48:F$54,$D$48:$D$54,$B$4,1) -> 96200.948 | G55: =E55/F55 -> 0.086455987 | H55: =_xlfn.FORECAST.ETS(DATE(2025,1,1),H$48:H$54,$D$48:$D$54,1,1)+_xlfn.FORECAST.ETS.CONFINT(DATE(2025,1,1),H$48:H$54,$D$48:$D$54,$B$5,1) -> 13556.785 | I55: =_xlfn.FORECAST.ETS(DATE(2025,1,1),I$48:I$54,$D$48:$D$54,1,1)+_xlfn.FORECAST.ETS.CONFINT(DATE(2025,1,1),I$48:I$54,$D$48:$D$54,$B$5,1) -> 86528.787 | J55: =H55/I55 -> 0.1566737 | O55: =_xlfn.FORECAST.ETS(DATE(2025,1,1),O$48:O$54,$D$48:$D$54,1,1)+_xlfn.FORECAST.ETS.CONFINT(DATE(2025,1,1),O$48:O$54,$D$48:$D$54,$B$6,1) -> 8629.5251 | P55: =_xlfn.FORECAST.ETS(DATE(2025,1,1),P$48:P$54,$D$48:$D$54,1,1)+_xlfn.FORECAST.ETS.CONFINT(DATE(2025,1,1),P$48:P$54,$D$48:$D$54,$B$6,1) -> 104127.58 | Q55: =O55/P55 -> 0.082874538 | R55: =_xlfn.FORECAST.ETS(DATE(2025,1,1),R$48:R$54,$D$48:$D$54,1,1)+_xlfn.FORECAST.ETS.CONFINT(DATE(2025,1,1),R$48:R$54,$D$48:$D$54,$B$7,1) -> 10269.222 | S55: =_xlfn.FORECAST.ETS(DATE(2025,1,1),S$48:S$54,$D$48:$D$54,1,1)+_xlfn.FORECAST.ETS.CONFINT(DATE(2025,1,1),S$48:S$54,$D$48:$D$54,$B$7,1) -> 114254.76 | T55: =R55/S55 -> 0.089880042 | U55: =_xlfn.FORECAST.ETS(DATE(2025,1,1),U$48:U$54,$D$48:$D$54,1,1)+_xlfn.FORECAST.ETS.CONFINT(DATE(2025,1,1),U$48:U$54,$D$48:$D$54,$B$8,1) -> 410.92852 | V55: =_xlfn.FORECAST.ETS(DATE(2025,1,1),V$48:V$54,$D$48:$D$54,1,1)+_xlfn.FORECAST.ETS.CONFINT(DATE(2025,1,1),V$48:V$54,$D$48:$D$54,$B$8,1) -> 78205.83 | W55: =U55/V55 -> 0.0052544487 | X55: =_xlfn.FORECAST.ETS(DATE(2025,1,1),X$48:X$54,$D$48:$D$54,1,1)+_xlfn.FORECAST.ETS.CONFINT(DATE(2025,1,1),X$48:X$54,$D$48:$D$54,$B$9,1) -> 11638.915 | Y55: =_xlfn.FORECAST.ETS(DATE(2025,1,1),Y$48:Y$54,$D$48:$D$54,1,1)+_xlfn.FORECAST.ETS.CONFINT(DATE(2025,1,1),Y$48:Y$54,$D$48:$D$54,$B$9,1) -> 144142.44 | Z55: =X55/Y55 -> 0.080745923 | AA55: =_xlfn.FORECAST.ETS(DATE(2025,1,1),AA$48:AA$54,$D$48:$D$54,1,1)+_xlfn.FORECAST.ETS.CONFINT(DATE(2025,1,1),AA$48:AA$54,$D$48:$D$54,$B$10,1) -> 9173.5667 | AB55: =_xlfn.FORECAST.ETS(DATE(2025,1,1),AB$48:AB$54,$D$48:$D$54,1,1)+_xlfn.FORECAST.ETS.CONFINT(DATE(2025,1,1),AB$48:AB$54,$D$48:$D$54,$B$10,1) -> 110028.12 | AC55: =AA55/AB55 -> 0.083374746 | AD55: =_xlfn.FORECAST.ETS(DATE(2025,1,1),AD$48:AD$54,$D$48:$D$54,1,1)+_xlfn.FORECAST.ETS.CONFINT(DATE(2025,1,1),AD$48:AD$54,$D$48:$D$54,$B$11,1) -> 2806.0607 | AE55: =_xlfn.FORECAST.ETS(DATE(2025,1,1),AE$48:AE$54,$D$48:$D$54,1,1)+_xlfn.FORECAST.ETS.CONFINT(DATE(2025,1,1),AE$48:AE$54,$D$48:$D$54,$B$11,1) -> 83931.508 | AF55: =AD55/AE55 -> 0.033432746 | AG55: =_xlfn.FORECAST.ETS(DATE(2025,1,1),AG$48:AG$54,$D$48:$D$54,1,1)+_xlfn.FORECAST.ETS.CONFINT(DATE(2025,1,1),AG$48:AG$54,$D$48:$D$54,$B$12,1) -> 537.1659 | AH55: =_xlfn.FORECAST.ETS(DATE(2025,1,1),AH$48:AH$54,$D$48:$D$54,1,1)+_xlfn.FORECAST.ETS.CONFINT(DATE(2025,1,1),AH$48:AH$54,$D$48:$D$54,$B$12,1) -> 1815.3278 | AI55: =AG55/AH55 -> 0.29590574
A56: =0.005+A55 -> 0.2 | C56: =MONTH(D56) -> 7 | D56: 43282 | E56: 13582 | F56: 120349 | G56: 0.1129 | H56: 30202 | I56: 286407 | J56: 0.1055 | K56: 7814 | L56: 102838 | M56: 21994 | N56: 196922 | O56: 8557 | P56: 110366 | Q56: 0.0775 | R56: 12201 | S56: 115349 | T56: 0.1058 | U56: 449 | V56: 87262 | W56: 0.0051 | X56: 12573 | Y56: 121464 | Z56: 0.1035 | AA56: 9109 | AB56: 84437 | AC56: 0.1079 | AD56: 6125 | AE56: 88370 | AF56: 0.0693 | AG56: 16460 | AH56: 95598 | AI56: 0.1722 | AJ56: 405 | AL56: 5364 | AM56: 31500 | AN56: 1700 | AO56: 577 | AP56: 1830 | AQ56: 660 | AR56: 830 | AS56: 6523 | AT56: 1597818 | AU56: 0.0243
A57: =0.005+A56 -> 0.205 | C57: =MONTH(D57) -> 7 | D57: 43647 | E57: 14627 | F57: 120651 | G57: 0.1212 | H57: 28755 | I57: 264475 | J57: 0.1087 | K57: 10614 | L57: 101738 | M57: 18356 | N57: 203245 | O57: 6728 | P57: 94133 | Q57: 0.0715 | R57: 11156 | S57: 112609 | T57: 0.0991 | U57: 360 | V57: 72617 | W57: 0.005 | X57: 12652 | Y57: 117835 | Z57: 0.1074 | AA57: 9600 | AB57: 83384 | AC57: 0.1151 | AD57: 6815 | AE57: 77748 | AF57: 0.0877 | AG57: 5992 | AH57: 63486 | AI57: 0.0944 | AJ57: 194 | AL57: 2153 | AM57: 30000 | AN57: 0 | AO57: 452 | AP57: 1680 | AQ57: 410 | AR57: 910 | AS57: 7458 | AT57: 1480834 | AU57: 0.0111
A58: =0.005+A57 -> 0.21 | C58: =MONTH(D58) -> 7 | D58: 44013 | E58: 8202 | F58: 73132 | G58: 0.1122 | H58: 17934 | I58: 181318 | J58: 0.0989 | K58: 8911 | L58: 69193 | M58: 11013 | N58: 124427 | O58: 5891 | P58: 52005 | Q58: 0.1133 | R58: 8072 | S58: 84552 | T58: 0.0955 | U58: 227 | V58: 21289 | W58: 0.0107 | X58: 8884 | Y58: 82338 | Z58: 0.1079 | AA58: 2536 | AB58: 46851 | AC58: 0.0541 | AD58: 6112 | AE58: 41051 | AF58: 0.1489 | AG58: 6967 | AH58: 61649 | AI58: 0.113 | AJ58: 278 | AL58: 2575 | AM58: 18900 | AN58: 840 | AO58: 407 | AP58: 890 | AQ58: 220 | AR58: 310 | AS58: 4439 | AT58: 951414 | AU58: #DIV/0!
A59: =0.005+A58 -> 0.215 | C59: =MONTH(D59) -> 7 | D59: 44378 | E59: 8939 | F59: 81476 | G59: 0.1097 | H59: 18267 | I59: 198273 | J59: 0.0921 | K59: 7818 | L59: 76845 | M59: 13121 | N59: 147601 | O59: 5818 | P59: 61019 | Q59: 0.0953 | R59: 9120 | S59: 93764 | T59: 0.0973 | U59: 872 | V59: 41681 | W59: 0.0209 | X59: 8331 | Y59: 80743 | Z59: 0.1032 | AA59: 5912 | AB59: 60638 | AC59: 0.0975 | AD59: 4153 | AE59: 38014 | AF59: 0.1092 | AG59: 3262 | AH59: 38942 | AI59: 0.0838 | AJ59: 346 | AL59: 3691 | AM59: 24900 | AN59: 820 | AO59: 268 | AP59: 1230 | AQ59: 310 | AR59: 680 | AS59: 2426 | AT59: 1039281 | AU59: 0.0589
A60: =0.005+A59 -> 0.22 | C60: =MONTH(D60) -> 7 | D60: 44743 | E60: 8274 | F60: 84748 | G60: 0.0976 | H60: 14967 | I60: 179365 | J60: 0.0834 | K60: 8209 | L60: 68547 | M60: 11941 | N60: 145388 | O60: 5627 | P60: 64505 | Q60: 0.0872 | R60: 9385 | S60: 102981 | T60: 0.0911 | U60: 109 | V60: 49580 | W60: 0.0022 | X60: 9396 | Y60: 89105 | Z60: 0.1054 | AA60: 5675 | AB60: 72229 | AC60: 0.0786 | AD60: 4278 | AE60: 33005 | AF60: 0.1296 | AG60: 2607 | AH60: 30047 | AI60: 0.0868 | AM60: 22500 | AN60: 1530 | AO60: 429 | AP60: 1030 | AQ60: 240 | AR60: 560 | AS60: 2863 | AT60: 1029121 | AU60: -0.0154
A61: =0.005+A60 -> 0.225 | C61: =MONTH(D61) -> 7 | D61: 45108 | E61: 7988 | F61: 84587 | G61: 0.0944 | H61: 15975 | I61: 325000 | J61: 0.0492 | M61: 11683 | N61: 50884 | O61: 7715 | P61: 80932 | Q61: 0.0953 | R61: 9786 | S61: 109751 | T61: 0.0892 | U61: 470 | V61: 42667 | W61: 0.011 | X61: 10501 | Y61: 102148 | Z61: 0.1028 | AA61: 6606 | AB61: 74084 | AC61: 0.0892 | AD61: 2519 | AE61: 55459 | AF61: 0.0454 | AG61: 1626 | AH61: 24280 | AI61: 0.067 | AM61: 27900 | AN61: 1380 | AO61: 300 | AP61: 1130 | AQ61: 290 | AR61: 510 | AS61: 2051 | AT61: 1058223
A62: =0.005+A61 -> 0.23 | C62: =MONTH(D62) -> 7 | D62: 45474 | G62: #DIV/0! | J62: #DIV/0! | Q62: #DIV/0! | T62: #DIV/0! | Z62: #DIV/0! | AC62: #DIV/0! | AF62: #DIV/0! | AG62: 0 | AI62: #DIV/0! | AJ62: 0 | AN62: 10
A63: =0.005+A62 -> 0.235 | C63: =MONTH(D63) -> 7 | D63: 45839 | E63: =_xlfn.FORECAST.ETS(DATE(2025,1,1),E$56:E$62,$D$56:$D$62,1,1)+_xlfn.FORECAST.ETS.CONFINT(DATE(2025,1,1),E$56:E$62,$D$56:$D$62,$B$4,1) -> 7989.1708 | F63: =_xlfn.FORECAST.ETS(DATE(2025,1,1),F$56:F$62,$D$56:$D$62,1,1)+_xlfn.FORECAST.ETS.CONFINT(DATE(2025,1,1),F$56:F$62,$D$56:$D$62,$B$4,1) -> 95903.124 | G63: =E63/F63 -> 0.083304593 | H63: =_xlfn.FORECAST.ETS(DATE(2025,1,1),H$56:H$62,$D$56:$D$62,1,1)+_xlfn.FORECAST.ETS.CONFINT(DATE(2025,1,1),H$56:H$62,$D$56:$D$62,$B$5,1) -> 13383.694 | I63: =_xlfn.FORECAST.ETS(DATE(2025,1,1),I$56:I$62,$D$56:$D$62,1,1)+_xlfn.FORECAST.ETS.CONFINT(DATE(2025,1,1),I$56:I$62,$D$56:$D$62,$B$5,1) -> 362370.53 | J63: =H63/I63 -> 0.036933728 | O63: =_xlfn.FORECAST.ETS(DATE(2025,1,1),O$56:O$62,$D$56:$D$62,1,1)+_xlfn.FORECAST.ETS.CONFINT(DATE(2025,1,1),O$56:O$62,$D$56:$D$62,$B$6,1) -> 8948.9929 | P63: =_xlfn.FORECAST.ETS(DATE(2025,1,1),P$56:P$62,$D$56:$D$62,1,1)+_xlfn.FORECAST.ETS.CONFINT(DATE(2025,1,1),P$56:P$62,$D$56:$D$62,$B$6,1) -> 97287.063 | Q63: =O63/P63 -> 0.091985436 | R63: =_xlfn.FORECAST.ETS(DATE(2025,1,1),R$56:R$62,$D$56:$D$62,1,1)+_xlfn.FORECAST.ETS.CONFINT(DATE(2025,1,1),R$56:R$62,$D$56:$D$62,$B$7,1) -> 10895.251 | S63: =_xlfn.FORECAST.ETS(DATE(2025,1,1),S$56:S$62,$D$56:$D$62,1,1)+_xlfn.FORECAST.ETS.CONFINT(DATE(2025,1,1),S$56:S$62,$D$56:$D$62,$B$7,1) -> 124876.83 | T63: =R63/S63 -> 0.087247972 | U63: =_xlfn.FORECAST.ETS(DATE(2025,1,1),U$56:U$62,$D$56:$D$62,1,1)+_xlfn.FORECAST.ETS.CONFINT(DATE(2025,1,1),U$56:U$62,$D$56:$D$62,$B$8,1) -> 860.83084 | V63: =_xlfn.FORECAST.ETS(DATE(2025,1,1),V$56:V$62,$D$56:$D$62,1,1)+_xlfn.FORECAST.ETS.CONFINT(DATE(2025,1,1),V$56:V$62,$D$56:$D$62,$B$8,1) -> 66637.299 | W63: =U63/V63 -> 0.012918153 | X63: =_xlfn.FORECAST.ETS(DATE(2025,1,1),X$56:X$62,$D$56:$D$62,1,1)+_xlfn.FORECAST.ETS.CONFINT(DATE(2025,1,1),X$56:X$62,$D$56:$D$62,$B$9,1) -> 12191.716 | Y63: =_xlfn.FORECAST.ETS(DATE(2025,1,1),Y$56:Y$62,$D$56:$D$62,1,1)+_xlfn.FORECAST.ETS.CONFINT(DATE(2025,1,1),Y$56:Y$62,$D$56:$D$62,$B$9,1) -> 134290.12 | Z63: =X63/Y63 -> 0.09078639 | AA63: =_xlfn.FORECAST.ETS(DATE(2025,1,1),AA$56:AA$62,$D$56:$D$62,1,1)+_xlfn.FORECAST.ETS.CONFINT(DATE(2025,1,1),AA$56:AA$62,$D$56:$D$62,$B$10,1) -> 7715.9172 | AB63: =_xlfn.FORECAST.ETS(DATE(2025,1,1),AB$56:AB$62,$D$56:$D$62,1,1)+_xlfn.FORECAST.ETS.CONFINT(DATE(2025,1,1),AB$56:AB$62,$D$56:$D$62,$B$10,1) -> 84141.601 | AC63: =AA63/AB63 -> 0.091701573 | AD63: =_xlfn.FORECAST.ETS(DATE(2025,1,1),AD$56:AD$62,$D$56:$D$62,1,1)+_xlfn.FORECAST.ETS.CONFINT(DATE(2025,1,1),AD$56:AD$62,$D$56:$D$62,$B$11,1) -> 3165.4726 | AE63: =_xlfn.FORECAST.ETS(DATE(2025,1,1),AE$56:AE$62,$D$56:$D$62,1,1)+_xlfn.FORECAST.ETS.CONFINT(DATE(2025,1,1),AE$56:AE$62,$D$56:$D$62,$B$11,1) -> 73393.212 | AF63: =AD63/AE63 -> 0.043130318 | AG63: =_xlfn.FORECAST.ETS(DATE(2025,1,1),AG$56:AG$62,$D$56:$D$62,1,1)+_xlfn.FORECAST.ETS.CONFINT(DATE(2025,1,1),AG$56:AG$62,$D$56:$D$62,$B$12,1) -> 444.8896 | AH63: =_xlfn.FORECAST.ETS(DATE(2025,1,1),AH$56:AH$62,$D$56:$D$62,1,1)+_xlfn.FORECAST.ETS.CONFINT(DATE(2025,1,1),AH$56:AH$62,$D$56:$D$62,$B$12,1) -> 9412.4327 | AI63: =AG63/AH63 -> 0.047266166
A64: =0.005+A63 -> 0.24 | C64: =MONTH(D64) -> 8 | D64: 43313 | E64: 15930 | F64: 137348 | G64: 0.116 | H64: 26186 | I64: 285689 | J64: 0.0917 | K64: 7861 | L64: 117033 | M64: 16204 | N64: 205858 | O64: 7662 | P64: 119356 | Q64: 0.0642 | R64: 10527 | S64: 111764 | T64: 0.0942 | U64: 582 | V64: 58634 | W64: 0.0099 | X64: 14231 | Y64: 133565 | Z64: 0.1065 | AA64: 9719 | AB64: 85485 | AC64: 0.1137 | AD64: 5677 | AE64: 94244 | AF64: 0.0602 | AG64: 21479 | AH64: 106336 | AI64: 0.202 | AJ64: 370 | AL64: 4510 | AM64: 36000 | AN64: 1850 | AO64: 561 | AP64: 2320 | AQ64: 1020 | AR64: 1000 | AS64: 7866 | AT64: 1646868 | AU64: 0.0307
A65: =0.005+A64 -> 0.245 | C65: =MONTH(D65) -> 8 | D65: 43678 | E65: 14258 | F65: 144851 | G65: 0.0984 | H65: 22889 | I65: 283522 | J65: 0.0807 | K65: 10272 | L65: 119242 | M65: 15548 | N65: 206058 | O65: 6204 | P65: 116931 | Q65: 0.0531 | R65: 9853 | S65: 116847 | T65: 0.0843 | U65: 1157 | V65: 96973 | W65: 0.0119 | X65: 11973 | Y65: 137926 | Z65: 0.0868 | AA65: 9868 | AB65: 83231 | AC65: 0.1186 | AD65: 6735 | AE65: 101991 | AF65: 0.066 | AG65: 7327 | AH65: 104725 | AI65: 0.07 | AJ65: 173 | AL65: 2292 | AM65: 35700 | AN65: 1520 | AO65: 452 | AP65: 1860 | AQ65: 440 | AR65: 910 | AS65: 8034 | AT65: 1679763 | AU65: 0.1343
A66: =0.005+A65 -> 0.25 | C66: =MONTH(D66) -> 8 | D66: 44044 | E66: 10277 | F66: 91375 | G66: 0.1125 | H66: 20533 | I66: 205086 | J66: 0.1001 | K66: 10722 | L66: 82296 | M66: 12372 | N66: 138557 | O66: 7203 | P66: 66931 | Q66: 0.1076 | R66: 8959 | S66: 93096 | T66: 0.0962 | U66: 386 | V66: 49248 | W66: 0.0078 | X66: 10647 | Y66: 98480 | Z66: 0.1081 | AA66: 6117 | AB66: 66322 | AC66: 0.0922 | AD66: 5870 | AE66: 58770 | AF66: 0.0999 | AG66: 5227 | AH66: 64974 | AI66: 0.0804 | AJ66: 275 | AL66: 2525 | AM66: 18600 | AN66: 1130 | AO66: 368 | AP66: 830 | AQ66: 210 | AR66: 250 | AS66: 3668 | AT66: 1141305 | AU66: 0.1996
A67: =0.005+A66 -> 0.255 | C67: =MONTH(D67) -> 8 | D67: 44409 | E67: 11088 | F67: 107110 | G67: 0.1035 | H67: 18994 | I67: 214911 | J67: 0.0884 | K67: 8547 | L67: 88365 | M67: 13332 | N67: 158577 | O67: 6644 | P67: 75534 | Q67: 0.088 | R67: 9473 | S67: 97262 | T67: 0.0974 | U67: 596 | V67: 64701 | W67: 0.0092 | X67: 9081 | Y67: 97225 | Z67: 0.0934 | AA67: 6134 | AB67: 72734 | AC67: 0.0843 | AD67: 4078 | AE67: 58525 | AF67: 0.0697 | AG67: 3316 | AH67: 51735 | AI67: 0.0641 | AJ67: 460 | AL67: 4430 | AM67: 29400 | AN67: 1150 | AO67: 544 | AP67: 1340 | AQ67: 300 | AR67: 610 | AS67: 2634 | AT67: 1218831 | AU67: 0.1728
A68: =0.005+A67 -> 0.26 | C68: =MONTH(D68) -> 8 | D68: 44774 | E68: 10545 | F68: 104927 | G68: 0.1005 | H68: 16659 | I68: 199913 | J68: 0.0833 | M68: 12859 | N68: 163486 | O68: 6491 | P68: 78793 | Q68: 0.0824 | R68: 10694 | S68: 108677 | T68: 0.0984 | U68: 228 | V68: 75455 | W68: 0.003 | X68: 9560 | Y68: 95706 | Z68: 0.0999 | AA68: 6221 | AB68: 76558 | AC68: 0.0813 | AD68: 4384 | AE68: 58375 | AF68: 0.0751 | AG68: 2790 | AH68: 51413 | AI68: 0.0543 | AM68: 28200 | AN68: 2380 | AO68: 145200 | AP68: 1050 | AQ68: 240 | AR68: 520 | AS68: 3371 | AT68: 1274696 | AU68: 0.2386
A69: =0.005+A68 -> 0.265 | C69: =MONTH(D69) -> 8 | D69: 45139 | E69: 10078 | F69: 106619 | G69: 0.0945 | H69: 17813 | I69: 226520 | J69: 0.0786 | M69: 13295 | N69: 72869 | O69: 11773 | P69: 110184 | Q69: 0.1068 | R69: 10963 | S69: 116506 | T69: 0.0941 | U69: 665 | V69: 73442 | W69: 0.0091 | X69: 15233 | Y69: 146985 | Z69: 0.1036 | AA69: 8046 | AB69: 79946 | AC69: 0.1006 | AD69: 2782 | AE69: 84060 | AF69: 0.0331 | AG69: 2219 | AH69: 41455 | AI69: 0.0535 | AM69: 33900 | AN69: 2120 | AO69: 1088 | AP69: 1260 | AQ69: 350 | AR69: 570 | AS69: 1945 | AT69: 1192687
A70: =0.005+A69 -> 0.27 | C70: =MONTH(D70) -> 8 | D70: 45505 | G70: #DIV/0! | J70: #DIV/0! | Q70: #DIV/0! | T70: #DIV/0! | X70: 0 | Z70: #DIV/0! | AC70: #DIV/0! | AF70: #DIV/0! | AG70: 0 | AI70: #DIV/0! | AJ70: 0 | AN70: 0
A71: =0.005+A70 -> 0.275 | C71: =MONTH(D71) -> 8 | D71: 45870 | E71: =_xlfn.FORECAST.ETS(DATE(2025,1,1),E$64:E$70,$D$64:$D$70,1,1)+_xlfn.FORECAST.ETS.CONFINT(DATE(2025,1,1),E$64:E$70,$D$64:$D$70,$B$4,1) -> 11296.542 | F71: =_xlfn.FORECAST.ETS(DATE(2025,1,1),F$64:F$70,$D$64:$D$70,1,1)+_xlfn.FORECAST.ETS.CONFINT(DATE(2025,1,1),F$64:F$70,$D$64:$D$70,$C$1,1) -> 94282.777 | G71: =E71/F71 -> 0.11981554 | H71: =_xlfn.FORECAST.ETS(DATE(2025,1,1),H$64:H$70,$D$64:$D$70,1,1)+_xlfn.FORECAST.ETS.CONFINT(DATE(2025,1,1),H$64:H$70,$D$64:$D$70,$B$5,1) -> 16794.275 | I71: =_xlfn.FORECAST.ETS(DATE(2025,1,1),I$64:I$70,$D$64:$D$70,1,1)+_xlfn.FORECAST.ETS.CONFINT(DATE(2025,1,1),I$64:I$70,$D$64:$D$70,$B$5,1) -> 222099.81 | J71: =H71/I71 -> 0.075615893 | O71: =_xlfn.FORECAST.ETS(DATE(2025,1,1),O$64:O$70,$D$64:$D$70,1,1)+_xlfn.FORECAST.ETS.CONFINT(DATE(2025,1,1),O$64:O$70,$D$64:$D$70,$B$6,1) -> 13390.589 | P71: =_xlfn.FORECAST.ETS(DATE(2025,1,1),P$64:P$70,$D$64:$D$70,1,1)+_xlfn.FORECAST.ETS.CONFINT(DATE(2025,1,1),P$64:P$70,$D$64:$D$70,$B$6,1) -> 117050.5 | Q71: =O71/P71 -> 0.1144001 | R71: =_xlfn.FORECAST.ETS(DATE(2025,1,1),R$64:R$70,$D$64:$D$70,1,1)+_xlfn.FORECAST.ETS.CONFINT(DATE(2025,1,1),R$64:R$70,$D$64:$D$70,$B$7,1) -> 12221.868 | S71: =_xlfn.FORECAST.ETS(DATE(2025,1,1),S$64:S$70,$D$64:$D$70,1,1)+_xlfn.FORECAST.ETS.CONFINT(DATE(2025,1,1),S$64:S$70,$D$64:$D$70,$B$7,1) -> 123715.43 | T71: =R71/S71 -> 0.098790173 | U71: =_xlfn.FORECAST.ETS(DATE(2025,1,1),U$64:U$70,$D$64:$D$70,1,1)+_xlfn.FORECAST.ETS.CONFINT(DATE(2025,1,1),U$64:U$70,$D$64:$D$70,$B$8,1) -> 365.97001 | V71: =_xlfn.FORECAST.ETS(DATE(2025,1,1),V$64:V$70,$D$64:$D$70,1,1)+_xlfn.FORECAST.ETS.CONFINT(DATE(2025,1,1),V$64:V$70,$D$64:$D$70,$B$8,1) -> 103349.13 | W71: =U71/V71 -> 0.0035411039 | X71: =_xlfn.FORECAST.ETS(DATE(2025,1,1),X$64:X$70,$D$64:$D$70,1,1)+_xlfn.FORECAST.ETS.CONFINT(DATE(2025,1,1),X$64:X$70,$D$64:$D$70,$B$9,1) -> 11031.245 | Y71: =_xlfn.FORECAST.ETS(DATE(2025,1,1),Y$64:Y$70,$D$64:$D$70,1,1)+_xlfn.FORECAST.ETS.CONFINT(DATE(2025,1,1),Y$64:Y$70,$D$64:$D$70,$B$9,1) -> 176134.74 | Z71: =X71/Y71 -> 0.062629582 | AA71: =_xlfn.FORECAST.ETS(DATE(2025,1,1),AA$64:AA$70,$D$64:$D$70,1,1)+_xlfn.FORECAST.ETS.CONFINT(DATE(2025,1,1),AA$64:AA$70,$D$64:$D$70,$B$10,1) -> 7748.4136 | AB71: =_xlfn.FORECAST.ETS(DATE(2025,1,1),AB$64:AB$70,$D$64:$D$70,1,1)+_xlfn.FORECAST.ETS.CONFINT(DATE(2025,1,1),AB$64:AB$70,$D$64:$D$70,$B$10,1) -> 86362.287 | AC71: =AA71/AB71 -> 0.089719875 | AD71: =_xlfn.FORECAST.ETS(DATE(2025,1,1),AD$64:AD$70,$D$64:$D$70,1,1)+_xlfn.FORECAST.ETS.CONFINT(DATE(2025,1,1),AD$64:AD$70,$D$64:$D$70,$B$11,1) -> 3730.277 | AE71: =_xlfn.FORECAST.ETS(DATE(2025,1,1),AE$64:AE$70,$D$64:$D$70,1,1)+_xlfn.FORECAST.ETS.CONFINT(DATE(2025,1,1),AE$64:AE$70,$D$64:$D$70,$B$11,1) -> 96085.323 | AF71: =AD71/AE71 -> 0.038822547 | AG71: =_xlfn.FORECAST.ETS(DATE(2025,1,1),AG$64:AG$70,$D$64:$D$70,1,1)+_xlfn.FORECAST.ETS.CONFINT(DATE(2025,1,1),AG$64:AG$70,$D$64:$D$70,$B$12,1) -> 1047.1183 | AH71: =_xlfn.FORECAST.ETS(DATE(2025,1,1),AH$64:AH$70,$D$64:$D$70,1,1)+_xlfn.FORECAST.ETS.CONFINT(DATE(2025,1,1),AH$64:AH$70,$D$64:$D$70,$B$12,1) -> 22751.235 | AI71: =AG71/AH71 -> 0.046024681
A72: =0.005+A71 -> 0.28 | C72: =MONTH(D72) -> 9 | D72: 43344 | E72: 14905 | F72: 144046 | G72: 0.1035 | H72: 30152 | I72: 310709 | J72: 0.097 | K72: 9100 | L72: 142552 | M72: 17936 | N72: 218559 | O72: 8788 | P72: 152245 | Q72: 0.0577 | R72: 11759 | S72: 117435 | T72: 0.1001 | U72: 581 | V72: 104972 | W72: 0.0055 | X72: 13551 | Y72: 141629 | Z72: 0.0957 | AA72: 10096 | AB72: 93079 | AC72: 0.1085 | AD72: 5503 | AE72: 96636 | AF72: 0.0569 | AG72: 29014 | AH72: 111702 | AI72: 0.2597 | AJ72: 318 | AL72: 4188 | AM72: 43500 | AN72: 2130 | AO72: 466 | AP72: 2430 | AQ72: 1110 | AR72: 1120 | AS72: 8604 | AT72: 1848816 | AU72: 0.1226
A73: =0.005+A72 -> 0.285 | C73: =MONTH(D73) -> 9 | D73: 43709 | E73: 15303 | F73: 170275 | G73: 0.0899 | H73: 20058 | I73: 294047 | J73: 0.0682 | K73: 10699 | L73: 139402 | M73: 16120 | N73: 216487 | O73: 6619 | P73: 143246 | Q73: 0.0462 | R73: 9580 | S73: 119644 | T73: 0.0801 | U73: 549 | V73: 131820 | W73: 0.0042 | X73: 13021 | Y73: 158819 | Z73: 0.082 | AA73: 8077 | AB73: 95083 | AC73: 0.0849 | AD73: 3811 | AE73: 102979 | AF73: 0.037 | AG73: 3489 | AH73: 95647 | AI73: 0.0365 | AJ73: 212 | AL73: 4051 | AM73: 36000 | AN73: 1690 | AO73: 485 | AP73: 2030 | AQ73: 540 | AR73: 840 | AS73: 0 | AT73: 1820624 | AU73: 0.0839
A74: =0.005+A73 -> 0.29 | C74: =MONTH(D74) -> 9 | D74: 44075 | E74: 13189 | F74: 120957 | G74: 0.109 | H74: 20636 | I74: 226121 | J74: 0.0913 | K74: 12255 | L74: 101206 | M74: 14747 | N74: 177957 | O74: 2161 | P74: 95748 | Q74: 0.0226 | R74: 9514 | S74: 98185 | T74: 0.0969 | U74: 559 | V74: 103411 | W74: 0.0054 | X74: 12687 | Y74: 122724 | Z74: 0.1034 | AA74: 6012 | AB74: 75417 | AC74: 0.0797 | AD74: 5636 | AE74: 76642 | AF74: 0.0735 | AG74: 5571 | AH74: 63732 | AI74: 0.0874 | AJ74: 371 | AL74: 3480 | AM74: 23400 | AN74: 1470 | AO74: 428 | AP74: 1370 | AQ74: 290 | AR74: 660 | AS74: 3669 | AT74: 1400206 | AU74: 0.2268
A75: =0.005+A74 -> 0.295 | C75: =MONTH(D75) -> 9 | D75: 44440 | E75: 9500 | F75: 98893 | G75: 0.0961 | H75: 19436 | I75: 248897 | J75: 0.0781 | K75: 9628 | L75: 106035 | M75: 12402 | N75: 166954 | O75: 8029 | P75: 103637 | Q75: 0.0775 | R75: 9345 | S75: 99734 | T75: 0.0937 | U75: 649 | V75: 109126 | W75: 0.0059 | X75: 10834 | Y75: 121735 | Z75: 0.089 | AA75: 6192 | AB75: 82463 | AC75: 0.0751 | AD75: 4283 | AE75: 76827 | AF75: 0.0557 | AG75: 3386 | AH75: 83070 | AI75: 0.0408 | AJ75: 560 | AL75: 7136 | AM75: 32100 | AN75: 1360 | AO75: 370 | AP75: 1790 | AQ75: 320 | AR75: 730 | AS75: 2518 | AT75: 1437940 | AU75: 0.1798
A76: =0.005+A75 -> 0.3 | C76: =MONTH(D76) -> 9 | D76: 44805 | E76: 10727 | F76: 115687 | G76: 0.0927 | H76: 16778 | I76: 218095 | J76: 0.0769 | K76: 7554 | L76: 74043 | M76: 12097 | N76: 162899 | O76: 6963 | P76: 91336 | Q76: 0.0762 | R76: 9669 | S76: 105331 | T76: 0.0918 | U76: 458 | V76: 70155 | W76: 0.0065 | X76: 8510 | Y76: 90754 | Z76: 0.0938 | AA76: 5833 | AB76: 76178 | AC76: 0.0766 | AD76: 3012 | AE76: 72189 | AF76: 0.0417 | AG76: 2070 | AH76: 55528 | AI76: 0.0373 | AM76: 28500 | AN76: 2270 | AO76: 523 | AP76: 1290 | AQ76: 290 | AR76: 590 | AS76: 2595 | AT76: 1251925 | AU76: -0.0179
A77: =0.005+A76 -> 0.305 | C77: =MONTH(D77) -> 9 | D77: 45170 | E77: 11032 | F77: 135611 | G77: 0.0814 | H77: 15757 | I77: 238238 | J77: 0.0661 | M77: 14527 | N77: 179251 | O77: 11193 | P77: 126441 | Q77: 0.0885 | R77: 9919 | S77: 115991 | T77: 0.0855 | U77: 722 | V77: 88623 | W77: 0.0081 | X77: 13007 | Y77: 139198 | Z77: 0.0934 | AA77: 7472 | AB77: 86698 | AC77: 0.0862 | AD77: 2534 | AE77: 88037 | AF77: 0.0288 | AG77: 2457 | AH77: 55908 | AI77: 0.0439 | AM77: 36900 | AN77: 2450 | AP77: 1580 | AQ77: 580 | AR77: 640 | AS77: 2317 | AT77: 1387084
A78: =0.005+A77 -> 0.31 | C78: =MONTH(D78) -> 9 | D78: 45536 | G78: #DIV/0! | J78: #DIV/0! | Q78: #DIV/0! | T78: #DIV/0! | X78: 0 | Z78: #DIV/0! | AA78: 0 | AC78: #DIV/0! | AF78: #DIV/0! | AG78: 0 | AI78: #DIV/0! | AJ78: 0 | AN78: 0
A79: =0.005+A78 -> 0.315 | C79: =MONTH(D79) -> 9 | D79: 45901 | E79: =_xlfn.FORECAST.ETS(DATE(2025,1,1),E$72:E$78,$D$72:$D$78,1,1)+_xlfn.FORECAST.ETS.CONFINT(DATE(2025,1,1),E$72:E$78,$D$72:$D$78,$B$4,1) -> 10366.468 | F79: =_xlfn.FORECAST.ETS(DATE(2025,1,1),F$72:F$78,$D$72:$D$78,1,1)+_xlfn.FORECAST.ETS.CONFINT(DATE(2025,1,1),F$72:F$78,$D$72:$D$78,$B$4,1) -> 136826.49 | G79: =E79/F79 -> 0.075763606 | H79: =_xlfn.FORECAST.ETS(DATE(2025,1,1),H$72:H$78,$D$72:$D$78,1,1)+_xlfn.FORECAST.ETS.CONFINT(DATE(2025,1,1),H$72:H$78,$D$72:$D$78,$B$5,1) -> 17614.014 | I79: =_xlfn.FORECAST.ETS(DATE(2025,1,1),I$72:I$78,$D$72:$D$78,1,1)+_xlfn.FORECAST.ETS.CONFINT(DATE(2025,1,1),I$72:I$78,$D$72:$D$78,$B$5,1) -> 235434.87 | J79: =H79/I79 -> 0.074814806 | O79: =_xlfn.FORECAST.ETS(DATE(2025,1,1),O$72:O$78,$D$72:$D$78,1,1)+_xlfn.FORECAST.ETS.CONFINT(DATE(2025,1,1),O$72:O$78,$D$72:$D$78,$B$6,1) -> 14737.427 | P79: =_xlfn.FORECAST.ETS(DATE(2025,1,1),P$72:P$78,$D$72:$D$78,1,1)+_xlfn.FORECAST.ETS.CONFINT(DATE(2025,1,1),P$72:P$78,$D$72:$D$78,$B$6,1) -> 123404.42 | Q79: =O79/P79 -> 0.11942382 | R79: =_xlfn.FORECAST.ETS(DATE(2025,1,1),R$72:R$78,$D$72:$D$78,1,1)+_xlfn.FORECAST.ETS.CONFINT(DATE(2025,1,1),R$72:R$78,$D$72:$D$78,$B$7,1) -> 10755.448 | S79: =_xlfn.FORECAST.ETS(DATE(2025,1,1),S$72:S$78,$D$72:$D$78,1,1)+_xlfn.FORECAST.ETS.CONFINT(DATE(2025,1,1),S$72:S$78,$D$72:$D$78,$B$7,1) -> 117824.3 | T79: =R79/S79 -> 0.091283779 | U79: =_xlfn.FORECAST.ETS(DATE(2025,1,1),U$72:U$78,$D$72:$D$78,1,1)+_xlfn.FORECAST.ETS.CONFINT(DATE(2025,1,1),U$72:U$78,$D$72:$D$78,$B$8,1) -> 819.22226 | V79: =_xlfn.FORECAST.ETS(DATE(2025,1,1),V$72:V$78,$D$72:$D$78,1,1)+_xlfn.FORECAST.ETS.CONFINT(DATE(2025,1,1),V$72:V$78,$D$72:$D$78,$B$8,1) -> 69223.475 | W79: =U79/V79 -> 0.011834457 | X79: =_xlfn.FORECAST.ETS(DATE(2025,1,1),X$72:X$78,$D$72:$D$78,1,1)+_xlfn.FORECAST.ETS.CONFINT(DATE(2025,1,1),X$72:X$78,$D$72:$D$78,$B$9,1) -> 7804.7392 | Y79: =_xlfn.FORECAST.ETS(DATE(2025,1,1),Y$72:Y$78,$D$72:$D$78,1,1)+_xlfn.FORECAST.ETS.CONFINT(DATE(2025,1,1),Y$72:Y$78,$D$72:$D$78,$B$9,1) -> 124341.59 | Z79: =X79/Y79 -> 0.062768535 | AA79: =_xlfn.FORECAST.ETS(DATE(2025,1,1),AA$72:AA$78,$D$72:$D$78,1,1)+_xlfn.FORECAST.ETS.CONFINT(DATE(2025,1,1),AA$72:AA$78,$D$72:$D$78,$B$10,1) -> 4024.5194 | AB79: =_xlfn.FORECAST.ETS(DATE(2025,1,1),AB$72:AB$78,$D$72:$D$78,1,1)+_xlfn.FORECAST.ETS.CONFINT(DATE(2025,1,1),AB$72:AB$78,$D$72:$D$78,$B$10,1) -> 81860.141 | AC79: =AA79/AB79 -> 0.049163358 | AD79: =_xlfn.FORECAST.ETS(DATE(2025,1,1),AD$72:AD$78,$D$72:$D$78,1,1)+_xlfn.FORECAST.ETS.CONFINT(DATE(2025,1,1),AD$72:AD$78,$D$72:$D$78,$B$11,1) -> 3506.3896 | AE79: =_xlfn.FORECAST.ETS(DATE(2025,1,1),AE$72:AE$78,$D$72:$D$78,1,1)+_xlfn.FORECAST.ETS.CONFINT(DATE(2025,1,1),AE$72:AE$78,$D$72:$D$78,$B$11,1) -> 90381.783 | AF79: =AD79/AE79 -> 0.038795313 | AG79: =_xlfn.FORECAST.ETS(DATE(2025,1,1),AG$72:AG$78,$D$72:$D$78,1,1)+_xlfn.FORECAST.ETS.CONFINT(DATE(2025,1,1),AG$72:AG$78,$D$72:$D$78,$B$12,1) -> 2304.4824 | AH79: =_xlfn.FORECAST.ETS(DATE(2025,1,1),AH$72:AH$78,$D$72:$D$78,1,1)+_xlfn.FORECAST.ETS.CONFINT(DATE(2025,1,1),AH$72:AH$78,$D$72:$D$78,$B$12,1) -> 43229.649 | AI79: =AG79/AH79 -> 0.053307915
A80: =0.005+A79 -> 0.32 | C80: =MONTH(D80) -> 10 | D80: 43374 | E80: 18758 | F80: 183704 | G80: 0.1021 | H80: 27910 | I80: 312310 | J80: 0.0894 | K80: 8144 | L80: 131416 | M80: 16315 | N80: 219235 | O80: 7714 | P80: 137535 | Q80: 0.0561 | R80: 10675 | S80: 116244 | T80: 0.0918 | U80: 771 | V80: 106335 | W80: 0.0073 | X80: 17117 | Y80: 174921 | Z80: 0.0979 | AA80: 10093 | AB80: 94948 | AC80: 0.1063 | AD80: 5418 | AE80: 96868 | AF80: 0.0559 | AG80: 20600 | AH80: 100953 | AI80: 0.2041 | AJ80: 304 | AL80: 3890 | AM80: 36900 | AN80: 1710 | AO80: 462 | AP80: 2460 | AQ80: 1100 | AR80: 1180 | AS80: 9411 | AT80: 1875402 | AU80: 0.0144
A81: =0.005+A80 -> 0.325 | C81: =MONTH(D81) -> 10 | D81: 43739 | E81: 15239 | F81: 166456 | G81: 0.0915 | H81: 19487 | I81: 289303 | J81: 0.0674 | K81: 10179 | L81: 126144 | M81: 16176 | N81: 215997 | O81: 6867 | P81: 125949 | Q81: 0.0545 | R81: 9397 | S81: 118594 | T81: 0.0792 | U81: 940 | V81: 129645 | W81: 0.0073 | X81: 11629 | Y81: 158314 | Z81: 0.0735 | AA81: 8638 | AB81: 97439 | AC81: 0.0887 | AD81: 4201 | AE81: 107942 | AF81: 0.0389 | AG81: 4603 | AH81: 126222 | AI81: 0.0365 | AJ81: 248 | AL81: 4979 | AM81: 62400 | AN81: 1780 | AO81: 451 | AP81: 2540 | AQ81: 570 | AR81: 910 | AS81: 19964 | AT81: 1863204 | AU81: 0.0234
A82: =0.005+A81 -> 0.33 | C82: =MONTH(D82) -> 10 | D82: 44105 | E82: 9652 | F82: 99757 | G82: 0.0968 | H82: 19502 | I82: 219730 | J82: 0.0888 | K82: 9974 | L82: 94933 | M82: 11970 | N82: 173044 | O82: 1750 | P82: 76026 | Q82: 0.023 | R82: 8006 | S82: 97537 | T82: 0.0821 | U82: 294 | V82: 93916 | W82: 0.0031 | X82: 10105 | Y82: 111262 | Z82: 0.0908 | AA82: 6075 | AB82: 81103 | AC82: 0.0749 | AD82: 6318 | AE82: 81797 | AF82: 0.0772 | AG82: 6615 | AH82: 98751 | AI82: 0.067 | AJ82: 363 | AL82: 4334 | AM82: 25800 | AN82: 1090 | AO82: 411 | AP82: 1460 | AQ82: 330 | AR82: 690 | AS82: 3652 | AT82: 1356248 | AU82: -0.0314
A83: =0.005+A82 -> 0.335 | C83: =MONTH(D83) -> 10 | D83: 44470 | E83: 10935 | F83: 126037 | G83: 0.0868 | H83: 16209 | I83: 232112 | J83: 0.0698 | K83: 10898 | L83: 109575 | M83: 11816 | N83: 171866 | O83: 5630 | P83: 76634 | Q83: 0.0735 | R83: 9101 | S83: 102279 | T83: 0.089 | U83: 781 | V83: 92796 | W83: 0.0084 | X83: 10370 | Y83: 131293 | Z83: 0.079 | AA83: 5958 | AB83: 85443 | AC83: 0.0697 | AD83: 4692 | AE83: 82197 | AF83: 0.0571 | AG83: 3618 | AH83: 86395 | AI83: 0.0419 | AJ83: 470 | AL83: 6779 | AM83: 26400 | AN83: 970 | AO83: 372 | AP83: 720 | AQ83: 420 | AR83: 710 | AS83: 2237 | AT83: 1425714 | AU83: -0.0085
A84: =0.005+A83 -> 0.34 | C84: =MONTH(D84) -> 10 | D84: 44835 | E84: 10766 | F84: 131701 | G84: 0.0817 | H84: 15620 | I84: 225284 | J84: 0.0693 | K84: 9016 | L84: 93380 | M84: 11832 | N84: 171778 | O84: 7106 | P84: 106232 | Q84: 0.0669 | R84: 9289 | S84: 110922 | T84: 0.0837 | U84: 311 | V84: 91970 | W84: 0.0034 | X84: 7346 | Y84: 77400 | Z84: 0.0949 | AA84: 5771 | AB84: 81195 | AC84: 0.0711 | AD84: 2037 | AE84: 71778 | AF84: 0.0284 | AG84: 2842 | AH84: 58424 | AI84: 0.0486 | AM84: 28500 | AN84: 2180 | AO84: 141300 | AP84: 1320 | AQ84: 390 | AR84: 620 | AS84: 2131 | AT84: 1478442 | AU84: 0.1809
A85: =0.005+A84 -> 0.345 | C85: =MONTH(D85) -> 10 | D85: 45200 | E85: 12639 | F85: 152280 | G85: 0.083 | H85: 16555 | I85: 254462 | J85: 0.0651 | M85: 17763 | N85: 196101 | O85: 12068 | P85: 136423 | Q85: 0.0885 | R85: 10833 | S85: 124650 | T85: 0.0869 | U85: 804 | V85: 98397 | W85: 0.0082 | X85: 13846 | Y85: 149062 | Z85: 0.0929 | AA85: 8973 | AB85: 92438 | AC85: 0.0971 | AD85: 2816 | AE85: 96382 | AF85: 0.0292 | AG85: 2604 | AH85: 58091 | AI85: 0.0448 | AJ85: 0 | AM85: 38700 | AN85: 2880 | AO85: 624 | AP85: 1530 | AQ85: 830 | AR85: 600 | AS85: 3673 | AT85: 1506025
A86: =0.005+A85 -> 0.35 | C86: =MONTH(D86) -> 10 | D86: 45566 | G86: #DIV/0! | J86: #DIV/0! | Q86: #DIV/0! | T86: #DIV/0! | Z86: #DIV/0! | AC86: #DIV/0! | AF86: #DIV/0! | AI86: #DIV/0!
A87: =0.005+A86 -> 0.355 | C87: =MONTH(D87) -> 10 | D87: 45931 | E87: =_xlfn.FORECAST.ETS(DATE(2025,1,1),E$80:E$86,$D$80:$D$86,1,1)+_xlfn.FORECAST.ETS.CONFINT(DATE(2025,1,1),E$80:E$86,$D$80:$D$86,$C$1,1) -> 11550.723 | F87: =_xlfn.FORECAST.ETS(DATE(2025,1,1),F$80:F$86,$D$80:$D$86,1,1)+_xlfn.FORECAST.ETS.CONFINT(DATE(2025,1,1),F$80:F$86,$D$80:$D$86,$C$1,1) -> 148646.07 | G87: =E87/F87 -> 0.077706213 | H87: =_xlfn.FORECAST.ETS(DATE(2025,1,1),H$80:H$86,$D$80:$D$86,1,1)+_xlfn.FORECAST.ETS.CONFINT(DATE(2025,1,1),H$80:H$86,$D$80:$D$86,$B$5,1) -> 18538.166 | I87: =_xlfn.FORECAST.ETS(DATE(2025,1,1),I$80:I$86,$D$80:$D$86,1,1)+_xlfn.FORECAST.ETS.CONFINT(DATE(2025,1,1),I$80:I$86,$D$80:$D$86,$B$5,1) -> 280176.27 | J87: =H87/I87 -> 0.066166083 | O87: =_xlfn.FORECAST.ETS(DATE(2025,1,1),O$80:O$86,$D$80:$D$86,1,1)+_xlfn.FORECAST.ETS.CONFINT(DATE(2025,1,1),O$80:O$86,$D$80:$D$86,$B$6,1) -> 16966.936 | P87: =_xlfn.FORECAST.ETS(DATE(2025,1,1),P$80:P$86,$D$80:$D$86,1,1)+_xlfn.FORECAST.ETS.CONFINT(DATE(2025,1,1),P$80:P$86,$D$80:$D$86,$B$6,1) -> 167946.47 | Q87: =O87/P87 -> 0.10102586 | R87: =_xlfn.FORECAST.ETS(DATE(2025,1,1),R$80:R$86,$D$80:$D$86,1,1)+_xlfn.FORECAST.ETS.CONFINT(DATE(2025,1,1),R$80:R$86,$D$80:$D$86,$B$7,1) -> 12242.93 | S87: =_xlfn.FORECAST.ETS(DATE(2025,1,1),S$80:S$86,$D$80:$D$86,1,1)+_xlfn.FORECAST.ETS.CONFINT(DATE(2025,1,1),S$80:S$86,$D$80:$D$86,$B$7,1) -> 135641.01 | T87: =R87/S87 -> 0.090259797 | U87: =_xlfn.FORECAST.ETS(DATE(2025,1,1),U$80:U$86,$D$80:$D$86,1,1)+_xlfn.FORECAST.ETS.CONFINT(DATE(2025,1,1),U$80:U$86,$D$80:$D$86,$B$8,1) -> 625.05924 | V87: =_xlfn.FORECAST.ETS(DATE(2025,1,1),V$80:V$86,$D$80:$D$86,1,1)+_xlfn.FORECAST.ETS.CONFINT(DATE(2025,1,1),V$80:V$86,$D$80:$D$86,$B$8,1) -> 92538.885 | W87: =U87/V87 -> 0.0067545577 | X87: =_xlfn.FORECAST.ETS(DATE(2025,1,1),X$80:X$86,$D$80:$D$86,1,1)+_xlfn.FORECAST.ETS.CONFINT(DATE(2025,1,1),X$80:X$86,$D$80:$D$86,$B$9,1) -> 19978.538 | Y87: =_xlfn.FORECAST.ETS(DATE(2025,1,1),Y$80:Y$86,$D$80:$D$86,1,1)+_xlfn.FORECAST.ETS.CONFINT(DATE(2025,1,1),Y$80:Y$86,$D$80:$D$86,$B$9,1) -> 153921.94 | Z87: =X87/Y87 -> 0.12979656 | AA87: =_xlfn.FORECAST.ETS(DATE(2025,1,1),AA$80:AA$86,$D$80:$D$86,1,1)+_xlfn.FORECAST.ETS.CONFINT(DATE(2025,1,1),AA$80:AA$86,$D$80:$D$86,$B$10,1) -> 10336.187 | AB87: =_xlfn.FORECAST.ETS(DATE(2025,1,1),AB$80:AB$86,$D$80:$D$86,1,1)+_xlfn.FORECAST.ETS.CONFINT(DATE(2025,1,1),AB$80:AB$86,$D$80:$D$86,$B$10,1) -> 92756.254 | AC87: =AA87/AB87 -> 0.11143386 | AD87: =_xlfn.FORECAST.ETS(DATE(2025,1,1),AD$80:AD$86,$D$80:$D$86,1,1)+_xlfn.FORECAST.ETS.CONFINT(DATE(2025,1,1),AD$80:AD$86,$D$80:$D$86,$B$11,1) -> 3500.3732 | AE87: =_xlfn.FORECAST.ETS(DATE(2025,1,1),AE$80:AE$86,$D$80:$D$86,1,1)+_xlfn.FORECAST.ETS.CONFINT(DATE(2025,1,1),AE$80:AE$86,$D$80:$D$86,$B$11,1) -> 88104.652 | AF87: =AD87/AE87 -> 0.039729721 | AG87: =_xlfn.FORECAST.ETS(DATE(2025,1,1),AG$80:AG$86,$D$80:$D$86,1,1)+_xlfn.FORECAST.ETS.CONFINT(DATE(2025,1,1),AG$80:AG$86,$D$80:$D$86,$B$12,1) -> 4270.3363 | AH87: =_xlfn.FORECAST.ETS(DATE(2025,1,1),AH$80:AH$86,$D$80:$D$86,1,1)+_xlfn.FORECAST.ETS.CONFINT(DATE(2025,1,1),AH$80:AH$86,$D$80:$D$86,$B$12,1) -> 34264.444 | AI87: =AG87/AH87 -> 0.12462879
A88: =0.005+A87 -> 0.36 | C88: =MONTH(D88) -> 11 | D88: 43405 | E88: 15960 | F88: 164394 | G88: 0.0971 | H88: 21618 | I88: 287458 | J88: 0.0752 | K88: 6264 | L88: 115128 | M88: 12253 | N88: 207404 | O88: 5817 | P88: 119325 | Q88: 0.0487 | R88: 8489 | S88: 108601 | T88: 0.0782 | U88: 316 | V88: 92271 | W88: 0.0034 | X88: 14395 | Y88: 159493 | Z88: 0.0903 | AA88: 9939 | AB88: 100600 | AC88: 0.0988 | AD88: 6030 | AE88: 105640 | AF88: 0.0571 | AG88: 5094 | AH88: 100987 | AI88: 0.0504 | AJ88: 169 | AL88: 2920 | AM88: 33000 | AN88: 1180 | AO88: 385 | AP88: 1970 | AQ88: 810 | AR88: 990 | AS88: 7009 | AT88: 1715910 | AU88: -0.085
A89: =0.005+A88 -> 0.365 | C89: =MONTH(D89) -> 11 | D89: 43770 | E89: 13651 | F89: 135657 | G89: 0.1006 | H89: 23406 | I89: 258357 | J89: 0.0906 | K89: 10349 | L89: 125705 | M89: 15440 | N89: 212222 | O89: 6796 | P89: 124984 | Q89: 0.0544 | R89: 8957 | S89: 105190 | T89: 0.0852 | U89: 426 | V89: 106693 | W89: 0.004 | X89: 11532 | Y89: 129396 | Z89: 0.0891 | AA89: 8910 | AB89: 91133 | AC89: 0.0978 | AD89: 5950 | AE89: 105356 | AF89: 0.0565 | AG89: 5575 | AH89: 111627 | AI89: 0.0499 | AJ89: 221 | AL89: 3768 | AM89: 36300 | AN89: 1120 | AO89: 383 | AP89: 1940 | AQ89: 490 | AR89: 760 | AS89: 8206 | AT89: 1670501 | AU89: -0.1034
A90: =0.005+A89 -> 0.37 | C90: =MONTH(D90) -> 11 | D90: 44136 | E90: 11715 | F90: 105987 | G90: 0.1105 | H90: 20345 | I90: 218431 | J90: 0.0931 | K90: 12381 | L90: 103932 | M90: 14808 | N90: 183453 | O90: 6901 | P90: 85124 | Q90: 0.0811 | R90: 9430 | S90: 96828 | T90: 0.0974 | U90: 473 | V90: 99856 | W90: 0.0047 | X90: 11515 | Y90: 111048 | Z90: 0.1037 | AA90: 6303 | AB90: 83379 | AC90: 0.0756 | AD90: 5467 | AE90: 80146 | AF90: 0.0682 | AG90: 5030 | AH90: 100716 | AI90: 0.0499 | AJ90: 375 | AL90: 4625 | AM90: 26100 | AN90: 1110 | AO90: 100 | AP90: 1100 | AQ90: 270 | AR90: 650 | AS90: 3281 | AT90: 1410880 | AU90: 0.0403
A91: =0.005+A90 -> 0.375 | C91: =MONTH(D91) -> 11 | D91: 44501 | E91: 9412 | F91: 101339 | G91: 0.0929 | H91: 18034 | I91: 222565 | J91: 0.081 | K91: 12586 | L91: 119065 | M91: 11556 | N91: 164445 | O91: 8891 | P91: 109471 | Q91: 0.0812 | R91: 8823 | S91: 95115 | T91: 0.0928 | U91: 413 | V91: 88707 | W91: 0.0047 | X91: 12748 | Y91: 138370 | Z91: 0.0921 | AA91: 5907 | AB91: 80749 | AC91: 0.0732 | AD91: 4435 | AE91: 67331 | AF91: 0.0659 | AG91: 3762 | AH91: 80240 | AI91: 0.0469 | AJ91: 394 | AL91: 4434 | AM91: 28200 | AN91: 1460 | AO91: 541 | AP91: 2540 | AQ91: 390 | AR91: 650 | AS91: 3757 | AT91: 1406331 | AU91: -0.0136
A92: =0.005+A91 -> 0.38 | C92: =MONTH(D92) -> 11 | D92: 44866 | E92: 8227 | F92: 91718 | G92: 0.0897 | H92: 16218 | I92: 198165 | J92: 0.0818 | M92: 10316 | N92: 151251 | O92: 5987 | P92: 78930 | Q92: 0.0759 | R92: 8685 | S92: 100966 | T92: 0.086 | U92: 158 | V92: 59136 | W92: 0.0027 | X92: 7801 | Y92: 83409 | Z92: 0.0935 | AA92: 6174 | AB92: 74864 | AC92: 0.0825 | AD92: 1912 | AE92: 56365 | AF92: 0.0339 | AG92: 3202 | AH92: 53238 | AI92: 0.0601 | AM92: 25800 | AN92: 2010 | AO92: 156900 | AP92: 1090 | AQ92: 260 | AR92: 530 | AS92: 2098 | AT92: 1205411 | AU92: -0.1847
A93: =0.005+A92 -> 0.385 | C93: =MONTH(D93) -> 11 | D93: 45231 | E93: 11808 | F93: 148861 | G93: 0.0793 | H93: 14257 | I93: 231151 | J93: 0.0617 | M93: 19679 | N93: 191696 | O93: 11899 | P93: 137545 | Q93: 0.0865 | R93: 10144 | S93: 121196 | T93: 0.0837 | U93: 658 | V93: 100702 | W93: 0.0065 | X93: 13955 | Y93: 150150 | Z93: 0.0929 | AA93: 9446 | AB93: 89607 | AC93: 0.1054 | AD93: 2781 | AE93: 96627 | AF93: 0.0288 | AG93: 2089 | AH93: 52706 | AI93: 0.0396 | AJ93: 0 | AM93: 39900 | AN93: 2520 | AO93: 572 | AP93: 1530 | AQ93: 820 | AR93: 800 | AS93: 3359 | AT93: 1466459
A94: =0.005+A93 -> 0.39 | C94: =MONTH(D94) -> 11 | D94: 45597 | G94: #DIV/0! | J94: #DIV/0! | Q94: #DIV/0! | T94: #DIV/0! | Z94: #DIV/0! | AC94: #DIV/0! | AF94: #DIV/0! | AI94: #DIV/0!
A95: =0.005+A94 -> 0.395 | C95: =MONTH(D95) -> 11 | D95: 45962 | E95: =_xlfn.FORECAST.ETS(DATE(2025,1,1),E$88:E$94,$D$88:$D$94,1,1)+_xlfn.FORECAST.ETS.CONFINT(DATE(2025,1,1),E$88:E$94,$D$88:$D$94,$B$4,1) -> 12480.896 | F95: =_xlfn.FORECAST.ETS(DATE(2025,1,1),F$88:F$94,$D$88:$D$94,1,1)+_xlfn.FORECAST.ETS.CONFINT(DATE(2025,1,1),F$88:F$94,$D$88:$D$94,$B$4,1) -> 194211.64 | G95: =E95/F95 -> 0.064264405 | H95: =_xlfn.FORECAST.ETS(DATE(2025,1,1),H$88:H$94,$D$88:$D$94,1,1)+_xlfn.FORECAST.ETS.CONFINT(DATE(2025,1,1),H$88:H$94,$D$88:$D$94,$B$5,1) -> 14084.121 | I95: =_xlfn.FORECAST.ETS(DATE(2025,1,1),I$88:I$94,$D$88:$D$94,1,1)+_xlfn.FORECAST.ETS.CONFINT(DATE(2025,1,1),I$88:I$94,$D$88:$D$94,$B$5,1) -> 239418.01 | J95: =H95/I95 -> 0.058826487 | O95: =_xlfn.FORECAST.ETS(DATE(2025,1,1),O$88:O$94,$D$88:$D$94,1,1)+_xlfn.FORECAST.ETS.CONFINT(DATE(2025,1,1),O$88:O$94,$D$88:$D$94,$B$6,1) -> 11468.67 | P95: =_xlfn.FORECAST.ETS(DATE(2025,1,1),P$88:P$94,$D$88:$D$94,1,1)+_xlfn.FORECAST.ETS.CONFINT(DATE(2025,1,1),P$88:P$94,$D$88:$D$94,$B$6,1) -> 122971.97 | Q95: =O95/P95 -> 0.093262476 | R95: =_xlfn.FORECAST.ETS(DATE(2025,1,1),R$88:R$94,$D$88:$D$94,1,1)+_xlfn.FORECAST.ETS.CONFINT(DATE(2025,1,1),R$88:R$94,$D$88:$D$94,$B$7,1) -> 10129.107 | S95: =_xlfn.FORECAST.ETS(DATE(2025,1,1),S$88:S$94,$D$88:$D$94,1,1)+_xlfn.FORECAST.ETS.CONFINT(DATE(2025,1,1),S$88:S$94,$D$88:$D$94,$B$7,1) -> 132701.14 | T95: =R95/S95 -> 0.076330217 | U95: =_xlfn.FORECAST.ETS(DATE(2025,1,1),U$88:U$94,$D$88:$D$94,1,1)+_xlfn.FORECAST.ETS.CONFINT(DATE(2025,1,1),U$88:U$94,$D$88:$D$94,$B$8,1) -> 687.71439 | V95: =_xlfn.FORECAST.ETS(DATE(2025,1,1),V$88:V$94,$D$88:$D$94,1,1)+_xlfn.FORECAST.ETS.CONFINT(DATE(2025,1,1),V$88:V$94,$D$88:$D$94,$B$8,1) -> 86469.61 | W95: =U95/V95 -> 0.0079532495 | X95: =_xlfn.FORECAST.ETS(DATE(2025,1,1),X$88:X$94,$D$88:$D$94,1,1)+_xlfn.FORECAST.ETS.CONFINT(DATE(2025,1,1),X$88:X$94,$D$88:$D$94,$B$9,1) -> 17322.403 | Y95: =_xlfn.FORECAST.ETS(DATE(2025,1,1),Y$88:Y$94,$D$88:$D$94,1,1)+_xlfn.FORECAST.ETS.CONFINT(DATE(2025,1,1),Y$88:Y$94,$D$88:$D$94,$B$9,1) -> 190972.49 | Z95: =X95/Y95 -> 0.090706272 | AA95: =_xlfn.FORECAST.ETS(DATE(2025,1,1),AA$88:AA$94,$D$88:$D$94,1,1)+_xlfn.FORECAST.ETS.CONFINT(DATE(2025,1,1),AA$88:AA$94,$D$88:$D$94,$B$10,1) -> 10876.475 | AB95: =_xlfn.FORECAST.ETS(DATE(2025,1,1),AB$88:AB$94,$D$88:$D$94,1,1)+_xlfn.FORECAST.ETS.CONFINT(DATE(2025,1,1),AB$88:AB$94,$D$88:$D$94,$B$10,1) -> 91368.139 | AC95: =AA95/AB95 -> 0.11904013 | AD95: =_xlfn.FORECAST.ETS(DATE(2025,1,1),AD$88:AD$94,$D$88:$D$94,1,1)+_xlfn.FORECAST.ETS.CONFINT(DATE(2025,1,1),AD$88:AD$94,$D$88:$D$94,$B$11,1) -> 2213.3688 | AE95: =_xlfn.FORECAST.ETS(DATE(2025,1,1),AE$88:AE$94,$D$88:$D$94,1,1)+_xlfn.FORECAST.ETS.CONFINT(DATE(2025,1,1),AE$88:AE$94,$D$88:$D$94,$B$11,1) -> 105601.32 | AF95: =AD95/AE95 -> 0.02095967 | AG95: =_xlfn.FORECAST.ETS(DATE(2025,1,1),AG$88:AG$94,$D$88:$D$94,1,1)+_xlfn.FORECAST.ETS.CONFINT(DATE(2025,1,1),AG$88:AG$94,$D$88:$D$94,$B$12,1) -> 1736.3324 | AH95: =_xlfn.FORECAST.ETS(DATE(2025,1,1),AH$88:AH$94,$D$88:$D$94,1,1)+_xlfn.FORECAST.ETS.CONFINT(DATE(2025,1,1),AH$88:AH$94,$D$88:$D$94,$B$12,1) -> 44575.74 | AI95: =AG95/AH95 -> 0.038952407
A96: =0.005+A95 -> 0.4 | C96: =MONTH(D96) -> 12 | D96: 43435 | E96: 10646 | F96: 140801 | G96: 0.0756 | H96: 23161 | I96: 300724 | J96: 0.077 | K96: 7754 | L96: 132921 | M96: 13307 | N96: 215797 | O96: 6618 | P96: 137232 | Q96: 0.0482 | R96: 9283 | S96: 113502 | T96: 0.0818 | U96: 466 | V96: 102619 | W96: 0.0045 | X96: 12393 | Y96: 158631 | Z96: 0.0781 | AA96: 7265 | AB96: 88641 | AC96: 0.082 | AD96: 5153 | AE96: 100917 | AF96: 0.0511 | AG96: 5118 | AH96: 109030 | AI96: 0.0469 | AJ96: 141 | AL96: 2330 | AM96: 31500 | AN96: 100 | AO96: 413 | AP96: 1870 | AQ96: 510 | AR96: 1020 | AS96: 7736 | AT96: 1747600 | AU96: 0.0185
A97: =0.005+A96 -> 0.405 | C97: =MONTH(D97) -> 12 | D97: 43800 | E97: 13773 | F97: 138131 | G97: 0.0997 | H97: 25880 | I97: 274675 | J97: 0.0942 | K97: 11710 | L97: 119544 | M97: 15797 | N97: 216286 | O97: 6878 | P97: 125455 | Q97: 0.0548 | R97: 9474 | S97: 110003 | T97: 0.0861 | U97: 370 | V97: 116205 | W97: 0.0032 | X97: 12554 | Y97: 133448 | Z97: 0.0941 | AA97: 9508 | AB97: 93635 | AC97: 0.1015 | AD97: 6005 | AE97: 94228 | AF97: 0.0637 | AG97: 6166 | AH97: 92925 | AI97: 0.0664 | AJ97: 214 | AL97: 3487 | AM97: 33600 | AN97: 100 | AO97: 723 | AP97: 1840 | AQ97: 510 | AR97: 630 | AS97: 8762 | AT97: 1682417 | AU97: 0.0071
A98: =0.005+A97 -> 0.41 | C98: =MONTH(D98) -> 12 | D98: 44166 | E98: 7697 | F98: 76547 | G98: 0.1006 | H98: 14805 | I98: 156168 | J98: 0.0948 | K98: 7942 | L98: 73285 | M98: 10209 | N98: 132328 | O98: 5683 | P98: 93836 | Q98: 0.0606 | R98: 8851 | S98: 95455 | T98: 0.0927 | U98: 413 | V98: 82085 | W98: 0.005 | X98: 3305 | Y98: 32840 | Z98: 0.1006 | AA98: 7219 | AB98: 80267 | AC98: 0.0899 | AD98: 4198 | AE98: 67804 | AF98: 0.0619 | AG98: 4762 | AH98: 76285 | AI98: 0.0624 | AJ98: 383 | AL98: 4367 | AM98: 32100 | AN98: 100 | AO98: 717 | AP98: 1320 | AQ98: 310 | AR98: 730 | AS98: 4144 | AT98: 1086156 | AU98: -0.2302
A99: =0.005+A98 -> 0.415 | C99: =MONTH(D99) -> 12 | D99: 44531 | E99: 10615 | F99: 110134 | G99: 0.0964 | H99: 19098 | I99: 243890 | J99: 0.0783 | K99: 9185 | L99: 92562 | M99: 12578 | N99: 171246 | O99: 7370 | P99: 92049 | Q99: 0.0801 | R99: 9431 | S99: 96781 | T99: 0.0974 | U99: 198 | V99: 118841 | W99: 0.0017 | X99: 9916 | Y99: 97378 | Z99: 0.1018 | AA99: 6484 | AB99: 83591 | AC99: 0.0776 | AD99: 5056 | AE99: 74520 | AF99: 0.0678 | AG99: 2050 | AH99: 38805 | AI99: 0.0528 | AJ99: 250 | AL99: 3296 | AM99: 26100 | AN99: 100 | AO99: 586 | AP99: 1210 | AQ99: 320 | AR99: 590 | AS99: 3531 | AT99: 1347762 | AU99: -0.0416
A100: =0.005+A99 -> 0.42 | C100: =MONTH(D100) -> 12 | D100: 44896 | E100: 8713 | F100: 94791 | G100: 0.0919 | H100: 17410 | I100: 220682 | J100: 0.0789 | M100: 13059 | N100: 164493 | O100: 6607 | P100: 80841 | Q100: 0.0817 | R100: 9415 | S100: 104679 | T100: 0.0899 | U100: 211 | V100: 63915 | W100: 0.0033 | X100: 8419 | Y100: 82276 | Z100: 0.1023 | AA100: 6657 | AB100: 82840 | AC100: 0.0804 | AD100: 2123 | AE100: 64422 | AF100: 0.033 | AG100: 2704 | AH100: 55730 | AI100: 0.0485 | AM100: 23700 | AN100: 100 | AO100: 112200 | AP100: 1030 | AQ100: 260 | AR100: 560 | AS100: 1984 | AT100: 1229822 | AU100: 0.0203
...

Sheet Demanda Grupo A
A1: 0.95 | D1: Bloco P Identificação 492451-7 | E1: Anexo P Identificação 492425-8 | F1: Bloco C Identificação 492464-9 | G1: Bloco K - Medidor 1 Identificação 493166-1 | H1: Bloco K - Medidor 2 Identificação 492469-X | I1: Bloco J Identificação 491613-1 | L1: 516N Identificação 493201-3 | M1: Órgãos Centrais Identificação 527316-1 | N1: Órgãos Regionais Identificação 492449-5
A2: jan./18 | B2: 43101 | C2: =MONTH(DATE(YEAR(B2),MONTH(B2),DAY(B2))) -> 1 | D2: 698 | E2: 901 | F2: 610 | G2: 344 | H2: 603 | K2: =MAX(I2,J2) -> 0 | L2: 330 | M2: 574 | N2: 565
A3: jan./19 | B3: 43466 | C3: =MONTH(DATE(YEAR(B3),MONTH(B3),DAY(B3))) -> 1 | D3: 771 | E3: 0 | F3: 689 | G3: 339 | H3: 657 | I3: 371 | K3: =MAX(I3,J3) -> 371 | L3: 270 | M3: 562
A4: jan./20 | B4: 43831 | C4: =MONTH(DATE(YEAR(B4),MONTH(B4),DAY(B4))) -> 1 | D4: 753 | E4: 1067 | F4: 599 | G4: 335 | H4: 746 | I4: 300 | K4: =MAX(I4,J4) -> 300 | L4: 319 | M4: 547 | N4: 504
A5: jan./21 | B5: 44197 | C5: =MONTH(DATE(YEAR(B5),MONTH(B5),DAY(B5))) -> 1 | D5: 515 | E5: 728 | F5: 344 | G5: 0 | H5: 711 | I5: 137 | J5: 0 | K5: =MAX(I5,J5) -> 137 | L5: 309 | M5: 502 | N5: 50
A6: jan./22 | B6: 44562 | C6: =MONTH(DATE(YEAR(B6),MONTH(B6),DAY(B6))) -> 1 | D6: 566 | F6: 436 | G6: 255 | I6: 204 | J6: 276 | K6: =MAX(I6,J6) -> 276 | L6: 283 | M6: 459 | N6: 408
A7: jan./23 | B7: 44927 | C7: =MONTH(DATE(YEAR(B7),MONTH(B7),DAY(B7))) -> 1 | D7: 496 | E7: 728 | F7: 412 | G7: 286 | H7: 386 | I7: 244 | J7: 341 | K7: =MAX(I7,J7) -> 341 | L7: 283 | M7: 386 | N7: 425
A8: jan./24 | B8: 45292 | C8: =MONTH(DATE(YEAR(B8),MONTH(B8),DAY(B8))) -> 1 | D8: 606 | E8: 726 | F8: 485 | G8: 321 | H8: 448 | I8: 556 | J8: 810 | K8: =MAX(I8,J8) -> 810 | L8: 288 | M8: 492 | N8: 403
D9: =_xlfn.FORECAST.ETS(DATE(2025,1,1),D$2:D$8,$B$2:$B$8,1,1)+_xlfn.FORECAST.ETS.CONFINT(DATE(2025,1,1),D$2:D$8,$B$2:$B$8,$A$1,1) -> 631.04541 | E9: =_xlfn.FORECAST.ETS(DATE(2025,1,1),E$2:E$8,$B$2:$B$8,1,1)+_xlfn.FORECAST.ETS.CONFINT(DATE(2025,1,1),E$2:E$8,$B$2:$B$8,$A$1,1) -> 1327.2596 | F9: =_xlfn.FORECAST.ETS(DATE(2025,1,1),F$2:F$8,$B$2:$B$8,1,1)+_xlfn.FORECAST.ETS.CONFINT(DATE(2025,1,1),F$2:F$8,$B$2:$B$8,$A$1,1) -> 508.13693 | G9: =_xlfn.FORECAST.ETS(DATE(2025,1,1),G$2:G$8,$B$2:$B$8,1,1)+_xlfn.FORECAST.ETS.CONFINT(DATE(2025,1,1),G$2:G$8,$B$2:$B$8,$A$1,1) -> 517.51508 | H9: =_xlfn.FORECAST.ETS(DATE(2025,1,1),H$2:H$8,$B$2:$B$8,1,1)+_xlfn.FORECAST.ETS.CONFINT(DATE(2025,1,1),H$2:H$8,$B$2:$B$8,$A$1,1) -> 591.15045 | K9: =_xlfn.FORECAST.ETS(DATE(2025,1,1),K$2:K$8,$B$2:$B$8,1,1)+_xlfn.FORECAST.ETS.CONFINT(DATE(2025,1,1),K$2:K$8,$B$2:$B$8,$A$1,1) -> 934.11189 | L9: =_xlfn.FORECAST.ETS(DATE(2025,1,1),L$2:L$8,$B$2:$B$8,1,1)+_xlfn.FORECAST.ETS.CONFINT(DATE(2025,1,1),L$2:L$8,$B$2:$B$8,$A$1,1) -> 310.53102 | M9: =_xlfn.FORECAST.ETS(DATE(2025,1,1),M$2:M$8,$B$2:$B$8,1,1)+_xlfn.FORECAST.ETS.CONFINT(DATE(2025,1,1),M$2:M$8,$B$2:$B$8,$A$1,1) -> 474.71151 | N9: =_xlfn.FORECAST.ETS(DATE(2025,1,1),N$2:N$8,$B$2:$B$8,1,1)+_xlfn.FORECAST.ETS.CONFINT(DATE(2025,1,1),N$2:N$8,$B$2:$B$8,$A$1,1) -> 681.52784
A10: fev./18 | B10: 43132 | C10: =MONTH(DATE(YEAR(B10),MONTH(B10),DAY(B10))) -> 2 | D10: 769 | E10: 942 | F10: 630 | G10: 367 | H10: 644 | K10: =MAX(I10,J10) -> 0 | L10: 330 | M10: 564 | N10: 594
A11: fev./19 | B11: 43497 | C11: =MONTH(DATE(YEAR(B11),MONTH(B11),DAY(B11))) -> 2 | D11: 894 | E11: 0 | F11: 611 | G11: 322 | H11: 617 | I11: 369 | K11: =MAX(I11,J11) -> 369 | L11: 322 | M11: 552
A12: fev./20 | B12: 43862 | C12: =MONTH(DATE(YEAR(B12),MONTH(B12),DAY(B12))) -> 2 | D12: 695 | E12: 892 | G12: 325 | H12: 726 | I12: 358 | K12: =MAX(I12,J12) -> 358 | L12: 339 | M12: 526 | N12: 518
A13: fev./21 | B13: 44228 | C13: =MONTH(DATE(YEAR(B13),MONTH(B13),DAY(B13))) -> 2 | D13: 515 | E13: 756 | F13: 370 | G13: 231 | H13: 689 | I13: 333 | J13: 201 | K13: =MAX(I13,J13) -> 333 | L13: 301 | M13: 501 | N13: 462
A14: fev./22 | B14: 44593 | C14: =MONTH(DATE(YEAR(B14),MONTH(B14),DAY(B14))) -> 2 | F14: 0 | G14: 259 | I14: 209 | J14: 366 | K14: =MAX(I14,J14) -> 366 | L14: 282 | N14: 0
A15: fev./23 | B15: 44958 | C15: =MONTH(DATE(YEAR(B15),MONTH(B15),DAY(B15))) -> 2 | D15: 628 | E15: 758 | F15: 474 | G15: 316 | H15: 454 | I15: 315 | J15: 446 | K15: =MAX(I15,J15) -> 446 | L15: 294 | M15: 425 | N15: 0
A16: fev./24 | B16: 45323 | C16: =MONTH(DATE(YEAR(B16),MONTH(B16),DAY(B16))) -> 2 | D16: 573 | E16: 737 | F16: 467 | G16: 334 | H16: 432 | I16: 556 | J16: 810 | K16: =MAX(I16,J16) -> 810 | L16: 286 | M16: 480 | N16: 396
D17: =_xlfn.FORECAST.ETS(DATE(2025,1,1),D$10:D$16,$B$10:$B$16,1,1)+_xlfn.FORECAST.ETS.CONFINT(DATE(2025,1,1),D$10:D$16,$B$10:$B$16,$A$1,1) -> 629.85972 | E17: =_xlfn.FORECAST.ETS(DATE(2025,1,1),E$10:E$16,$B$10:$B$16,1,1)+_xlfn.FORECAST.ETS.CONFINT(DATE(2025,1,1),E$10:E$16,$B$10:$B$16,$A$1,1) -> 1310.1669 | F17: =_xlfn.FORECAST.ETS(DATE(2025,1,1),F$10:F$16,$B$10:$B$16,1,1)+_xlfn.FORECAST.ETS.CONFINT(DATE(2025,1,1),F$10:F$16,$B$10:$B$16,$A$1,1) -> 663.95979 | G17: =_xlfn.FORECAST.ETS(DATE(2025,1,1),G$10:G$16,$B$10:$B$16,1,1)+_xlfn.FORECAST.ETS.CONFINT(DATE(2025,1,1),G$10:G$16,$B$10:$B$16,$A$1,1) -> 412.17253 | H17: =_xlfn.FORECAST.ETS(DATE(2025,1,1),H$10:H$16,$B$10:$B$16,1,1)+_xlfn.FORECAST.ETS.CONFINT(DATE(2025,1,1),H$10:H$16,$B$10:$B$16,$A$1,1) -> 529.39419 | K17: =_xlfn.FORECAST.ETS(DATE(2025,1,1),K$10:K$16,$B$10:$B$16,1,1)+_xlfn.FORECAST.ETS.CONFINT(DATE(2025,1,1),K$10:K$16,$B$10:$B$16,$A$1,1) -> 1009.3913 | L17: =_xlfn.FORECAST.ETS(DATE(2025,1,1),L$10:L$16,$B$10:$B$16,1,1)+_xlfn.FORECAST.ETS.CONFINT(DATE(2025,1,1),L$10:L$16,$B$10:$B$16,$A$1,1) -> 292.19191 | M17: =_xlfn.FORECAST.ETS(DATE(2025,1,1),M$10:M$16,$B$10:$B$16,1,1)+_xlfn.FORECAST.ETS.CONFINT(DATE(2025,1,1),M$10:M$16,$B$10:$B$16,$A$1,1) -> 464.22873 | N17: =_xlfn.FORECAST.ETS(DATE(2025,1,1),N$10:N$16,$B$10:$B$16,1,1)+_xlfn.FORECAST.ETS.CONFINT(DATE(2025,1,1),N$10:N$16,$B$10:$B$16,$A$1,1) -> 372.21485
A18: mar./18 | B18: 43160 | C18: =MONTH(DATE(YEAR(B18),MONTH(B18),DAY(B18))) -> 3 | D18: 776 | E18: 921 | F18: 669 | G18: 352 | H18: 654 | K18: =MAX(I18,J18) -> 0 | L18: 343 | M18: 564 | N18: 0
A19: mar./19 | B19: 43525 | C19: =MONTH(DATE(YEAR(B19),MONTH(B19),DAY(B19))) -> 3 | D19: 762 | E19: 876 | F19: 625 | G19: 309 | H19: 604 | I19: 374 | K19: =MAX(I19,J19) -> 374 | L19: 337 | M19: 553
A20: mar./20 | B20: 43891 | C20: =MONTH(DATE(YEAR(B20),MONTH(B20),DAY(B20))) -> 3 | D20: 612 | E20: 852 | G20: 314 | H20: 640 | I20: 506 | K20: =MAX(I20,J20) -> 506 | L20: 318 | M20: 525 | N20: 164
A21: mar./21 | B21: 44256 | C21: =MONTH(DATE(YEAR(B21),MONTH(B21),DAY(B21))) -> 3 | D21: 426 | E21: 723 | F21: 304 | G21: 221 | H21: 640 | I21: 265 | J21: 185 | K21: =MAX(I21,J21) -> 265 | L21: 282 | M21: 501 | N21: 464
A22: mar./22 | B22: 44621 | C22: =MONTH(DATE(YEAR(B22),MONTH(B22),DAY(B22))) -> 3 | D22: 589 | E22: 755 | F22: 435 | G22: 295 | H22: 567 | I22: 248 | J22: 383 | K22: =MAX(I22,J22) -> 383 | L22: 290 | M22: 472 | N22: 424
A23: mar./23 | B23: 44986 | C23: =MONTH(DATE(YEAR(B23),MONTH(B23),DAY(B23))) -> 3 | D23: 624 | E23: 776 | F23: 478 | G23: 321 | H23: 466 | I23: 235 | J23: 404 | K23: =MAX(I23,J23) -> 404 | L23: 273 | M23: 441 | N23: 427
A24: mar./24 | B24: 45352 | C24: =MONTH(DATE(YEAR(B24),MONTH(B24),DAY(B24))) -> 3 | D24: 678 | E24: 860 | F24: 515 | G24: 359 | H24: 528 | I24: 529 | J24: 893 | K24: =MAX(I24,J24) -> 893 | L24: 300 | M24: 506 | N24: 398
D25: =_xlfn.FORECAST.ETS(DATE(2025,1,1),D$18:D$24,$B$18:$B$24,1,1)+_xlfn.FORECAST.ETS.CONFINT(DATE(2025,1,1),D$18:D$24,$B$18:$B$24,$A$1,1) -> 853.12111 | E25: =_xlfn.FORECAST.ETS(DATE(2025,1,1),E$18:E$24,$B$18:$B$24,1,1)+_xlfn.FORECAST.ETS.CONFINT(DATE(2025,1,1),E$18:E$24,$B$18:$B$24,$A$1,1) -> 948.44265 | F25: =_xlfn.FORECAST.ETS(DATE(2025,1,1),F$18:F$24,$B$18:$B$24,1,1)+_xlfn.FORECAST.ETS.CONFINT(DATE(2025,1,1),F$18:F$24,$B$18:$B$24,$A$1,1) -> 667.60521 | G25: =_xlfn.FORECAST.ETS(DATE(2025,1,1),G$18:G$24,$B$18:$B$24,1,1)+_xlfn.FORECAST.ETS.CONFINT(DATE(2025,1,1),G$18:G$24,$B$18:$B$24,$A$1,1) -> 436.88128 | H25: =_xlfn.FORECAST.ETS(DATE(2025,1,1),H$18:H$24,$B$18:$B$24,1,1)+_xlfn.FORECAST.ETS.CONFINT(DATE(2025,1,1),H$18:H$24,$B$18:$B$24,$A$1,1) -> 546.91268 | K25: =_xlfn.FORECAST.ETS(DATE(2025,1,1),K$18:K$24,$B$18:$B$24,1,1)+_xlfn.FORECAST.ETS.CONFINT(DATE(2025,1,1),K$18:K$24,$B$18:$B$24,$A$1,1) -> 1068.3314 | L25: =_xlfn.FORECAST.ETS(DATE(2025,1,1),L$18:L$24,$B$18:$B$24,1,1)+_xlfn.FORECAST.ETS.CONFINT(DATE(2025,1,1),L$18:L$24,$B$18:$B$24,$A$1,1) -> 302.00503 | M25: =_xlfn.FORECAST.ETS(DATE(2025,1,1),M$18:M$24,$B$18:$B$24,1,1)+_xlfn.FORECAST.ETS.CONFINT(DATE(2025,1,1),M$18:M$24,$B$18:$B$24,$A$1,1) -> 498.33393 | N25: =_xlfn.FORECAST.ETS(DATE(2025,1,1),N$18:N$24,$B$18:$B$24,1,1)+_xlfn.FORECAST.ETS.CONFINT(DATE(2025,1,1),N$18:N$24,$B$18:$B$24,$A$1,1) -> 732.65506
A26: abr./18 | B26: 43191 | C26: =MONTH(DATE(YEAR(B26),MONTH(B26),DAY(B26))) -> 4 | D26: 754 | E26: 926 | F26: 503 | G26: 340 | H26: 668 | K26: =MAX(I26,J26) -> 0 | L26: 326 | M26: 534 | N26: 562
A27: abr./19 | B27: 43556 | C27: =MONTH(DATE(YEAR(B27),MONTH(B27),DAY(B27))) -> 4 | D27: 686 | E27: 932 | F27: 525 | G27: 314 | H27: 596 | I27: 344 | K27: =MAX(I27,J27) -> 344 | L27: 322 | M27: 502
A28: abr./20 | B28: 43922 | C28: =MONTH(DATE(YEAR(B28),MONTH(B28),DAY(B28))) -> 4 | D28: 345 | E28: 790 | G28: 169 | H28: 594 | I28: 277 | K28: =MAX(I28,J28) -> 277 | L28: 270 | M28: 505 | N28: 154
A29: abr./21 | B29: 44287 | C29: =MONTH(DATE(YEAR(B29),MONTH(B29),DAY(B29))) -> 4 | D29: 357 | E29: 746 | G29: 217 | H29: 643 | I29: 212 | J29: 154 | K29: =MAX(I29,J29) -> 212 | L29: 288 | M29: 483 | N29: 453
A30: abr./22 | B30: 44652 | C30: =MONTH(DATE(YEAR(B30),MONTH(B30),DAY(B30))) -> 4 | D30: 578 | E30: 801 | F30: 410 | G30: 302 | H30: 575 | I30: 213 | J30: 307 | K30: =MAX(I30,J30) -> 307 | L30: 285 | M30: 460 | N30: 41
A31: abr./23 | B31: 45017 | C31: =MONTH(DATE(YEAR(B31),MONTH(B31),DAY(B31))) -> 4 | D31: 500 | E31: 728 | F31: 418 | G31: 308 | H31: 436 | I31: 0 | J31: 130 | K31: =MAX(I31,J31) -> 130 | L31: 276 | M31: 400 | N31: 413
A32: abr./24 | B32: 45383 | C32: =MONTH(DATE(YEAR(B32),MONTH(B32),DAY(B32))) -> 4 | D32: 605 | E32: 779 | F32: 472 | G32: 346 | H32: 480 | I32: 483 | J32: 764 | K32: =MAX(I32,J32) -> 764 | L32: 291 | M32: 447 | N32: 408
D33: =_xlfn.FORECAST.ETS(DATE(2025,1,1),D$26:D$32,$B$26:$B$32,1,1)+_xlfn.FORECAST.ETS.CONFINT(DATE(2025,1,1),D$26:D$32,$B$26:$B$32,$A$1,1) -> 851.66867 | E33: =_xlfn.FORECAST.ETS(DATE(2025,1,1),E$26:E$32,$B$26:$B$32,1,1)+_xlfn.FORECAST.ETS.CONFINT(DATE(2025,1,1),E$26:E$32,$B$26:$B$32,$A$1,1) -> 810.83527 | F33: =_xlfn.FORECAST.ETS(DATE(2025,1,1),F$26:F$32,$B$26:$B$32,1,1)+_xlfn.FORECAST.ETS.CONFINT(DATE(2025,1,1),F$26:F$32,$B$26:$B$32,$A$1,1) -> 460.22738 | G33: =_xlfn.FORECAST.ETS(DATE(2025,1,1),G$26:G$32,$B$26:$B$32,1,1)+_xlfn.FORECAST.ETS.CONFINT(DATE(2025,1,1),G$26:G$32,$B$26:$B$32,$A$1,1) -> 463.6344 | H33: =_xlfn.FORECAST.ETS(DATE(2025,1,1),H$26:H$32,$B$26:$B$32,1,1)+_xlfn.FORECAST.ETS.CONFINT(DATE(2025,1,1),H$26:H$32,$B$26:$B$32,$A$1,1) -> 524.02011 | K33: =_xlfn.FORECAST.ETS(DATE(2025,1,1),K$26:K$32,$B$26:$B$32,1,1)+_xlfn.FORECAST.ETS.CONFINT(DATE(2025,1,1),K$26:K$32,$B$26:$B$32,$A$1,1) -> 753.62097 | L33: =_xlfn.FORECAST.ETS(DATE(2025,1,1),L$26:L$32,$B$26:$B$32,1,1)+_xlfn.FORECAST.ETS.CONFINT(DATE(2025,1,1),L$26:L$32,$B$26:$B$32,$A$1,1) -> 303.45339 | M33: =_xlfn.FORECAST.ETS(DATE(2025,1,1),M$26:M$32,$B$26:$B$32,1,1)+_xlfn.FORECAST.ETS.CONFINT(DATE(2025,1,1),M$26:M$32,$B$26:$B$32,$A$1,1) -> 443.66798 | N33: =_xlfn.FORECAST.ETS(DATE(2025,1,1),N$26:N$32,$B$26:$B$32,1,1)+_xlfn.FORECAST.ETS.CONFINT(DATE(2025,1,1),N$26:N$32,$B$26:$B$32,$A$1,1) -> 660.29459
A34: mai./18 | B34: 43221 | C34: =MONTH(DATE(YEAR(B34),MONTH(B34),DAY(B34))) -> 5 | D34: 670 | E34: 915 | F34: 449 | G34: 324 | H34: 559 | K34: =MAX(I34,J34) -> 0 | L34: 318 | M34: 534 | N34: 552
A35: mai./19 | B35: 43586 | C35: =MONTH(DATE(YEAR(B35),MONTH(B35),DAY(B35))) -> 5 | D35: 648 | E35: 943 | F35: 488 | G35: 316 | H35: 571 | I35: 314 | K35: =MAX(I35,J35) -> 314 | L35: 323 | M35: 492
A36: mai./20 | B36: 43952 | C36: =MONTH(DATE(YEAR(B36),MONTH(B36),DAY(B36))) -> 5 | D36: 253 | E36: 603 | G36: 174 | H36: 542 | I36: 237 | K36: =MAX(I36,J36) -> 237 | L36: 270 | M36: 471 | N36: 151
A37: mai./21 | B37: 44317 | C37: =MONTH(DATE(YEAR(B37),MONTH(B37),DAY(B37))) -> 5 | D37: 405 | E37: 772 | F37: 279 | G37: 216 | H37: 574 | I37: 202 | J37: 142 | K37: =MAX(I37,J37) -> 202 | L37: 254 | M37: 387 | N37: 454
A38: mai./22 | B38: 44682 | C38: =MONTH(DATE(YEAR(B38),MONTH(B38),DAY(B38))) -> 5 | D38: 488 | E38: 739 | F38: 377 | G38: 298 | H38: 494 | I38: 217 | J38: 217 | K38: =MAX(I38,J38) -> 217 | L38: 282 | M38: 443 | N38: 136
A39: mai./23 | B39: 45047 | C39: =MONTH(DATE(YEAR(B39),MONTH(B39),DAY(B39))) -> 5 | D39: 413 | E39: 653 | F39: 351 | G39: 301 | H39: 394 | I39: 195 | J39: 282 | K39: =MAX(I39,J39) -> 282 | L39: 268 | M39: 396 | N39: 406
A40: mai./24 | B40: 45413 | C40: =MONTH(DATE(YEAR(B40),MONTH(B40),DAY(B40))) -> 5 | D40: 525 | E40: 756 | F40: 417 | G40: 343 | H40: 446 | I40: 457 | J40: 702 | K40: =MAX(I40,J40) -> 702 | L40: 281 | M40: 438 | N40: 398
D41: =_xlfn.FORECAST.ETS(DATE(2025,1,1),D$34:D$40,$B$34:$B$40,1,1)+_xlfn.FORECAST.ETS.CONFINT(DATE(2025,1,1),D$34:D$40,$B$34:$B$40,$A$1,1) -> 665.84114 | E41: =_xlfn.FORECAST.ETS(DATE(2025,1,1),E$34:E$40,$B$34:$B$40,1,1)+_xlfn.FORECAST.ETS.CONFINT(DATE(2025,1,1),E$34:E$40,$B$34:$B$40,$A$1,1) -> 840.75086 | F41: =_xlfn.FORECAST.ETS(DATE(2025,1,1),F$34:F$40,$B$34:$B$40,1,1)+_xlfn.FORECAST.ETS.CONFINT(DATE(2025,1,1),F$34:F$40,$B$34:$B$40,$A$1,1) -> 454.15372 | G41: =_xlfn.FORECAST.ETS(DATE(2025,1,1),G$34:G$40,$B$34:$B$40,1,1)+_xlfn.FORECAST.ETS.CONFINT(DATE(2025,1,1),G$34:G$40,$B$34:$B$40,$A$1,1) -> 448.7474 | H41: =_xlfn.FORECAST.ETS(DATE(2025,1,1),H$34:H$40,$B$34:$B$40,1,1)+_xlfn.FORECAST.ETS.CONFINT(DATE(2025,1,1),H$34:H$40,$B$34:$B$40,$A$1,1) -> 480.36145 | K41: =_xlfn.FORECAST.ETS(DATE(2025,1,1),K$34:K$40,$B$34:$B$40,1,1)+_xlfn.FORECAST.ETS.CONFINT(DATE(2025,1,1),K$34:K$40,$B$34:$B$40,$A$1,1) -> 719.5697 | L41: =_xlfn.FORECAST.ETS(DATE(2025,1,1),L$34:L$40,$B$34:$B$40,1,1)+_xlfn.FORECAST.ETS.CONFINT(DATE(2025,1,1),L$34:L$40,$B$34:$B$40,$A$1,1) -> 296.72135 | M41: =_xlfn.FORECAST.ETS(DATE(2025,1,1),M$34:M$40,$B$34:$B$40,1,1)+_xlfn.FORECAST.ETS.CONFINT(DATE(2025,1,1),M$34:M$40,$B$34:$B$40,$A$1,1) -> 452.66971 | N41: =_xlfn.FORECAST.ETS(DATE(2025,1,1),N$34:N$40,$B$34:$B$40,1,1)+_xlfn.FORECAST.ETS.CONFINT(DATE(2025,1,1),N$34:N$40,$B$34:$B$40,$A$1,1) -> 619.19745
A42: jun./18 | B42: 43252 | C42: =MONTH(DATE(YEAR(B42),MONTH(B42),DAY(B42))) -> 6 | D42: 586 | E42: 910 | F42: 445 | G42: 329 | H42: 646 | K42: =MAX(I42,J42) -> 0 | L42: 296 | M42: 553 | N42: 566
A43: jun./19 | B43: 43617 | C43: =MONTH(DATE(YEAR(B43),MONTH(B43),DAY(B43))) -> 6 | D43: 528 | E43: 896 | F43: 348 | G43: 313 | H43: 556 | I43: 399 | K43: =MAX(I43,J43) -> 399 | L43: 304 | M43: 461 | N43: 523
A44: jun./20 | B44: 43983 | C44: =MONTH(DATE(YEAR(B44),MONTH(B44),DAY(B44))) -> 6 | D44: 237 | E44: 532 | F44: 171 | G44: 178 | H44: 482 | I44: 219 | K44: =MAX(I44,J44) -> 219 | L44: 273 | M44: 440 | N44: 144
A45: jun./21 | B45: 44348 | C45: =MONTH(DATE(YEAR(B45),MONTH(B45),DAY(B45))) -> 6 | D45: 305 | E45: 739 | F45: 246 | G45: 211 | H45: 557 | I45: 182 | J45: 130 | K45: =MAX(I45,J45) -> 182 | L45: 254 | M45: 368 | N45: 449
A46: jun./22 | B46: 44713 | C46: =MONTH(DATE(YEAR(B46),MONTH(B46),DAY(B46))) -> 6 | D46: 353 | E46: 662 | F46: 255 | G46: 271 | H46: 486 | I46: 206 | J46: 206 | K46: =MAX(I46,J46) -> 206 | L46: 281 | M46: 424 | N46: 88
A47: jun./23 | B47: 45078 | C47: =MONTH(DATE(YEAR(B47),MONTH(B47),DAY(B47))) -> 6 | D47: 392 | E47: 633 | F47: 348 | G47: 294 | H47: 347 | I47: 500 | J47: 0 | K47: =MAX(I47,J47) -> 500 | L47: 270 | M47: 412 | N47: 391
A48: jun./24 | B48: 45444 | C48: =MONTH(DATE(YEAR(B48),MONTH(B48),DAY(B48))) -> 6 | D48: 383 | E48: 997 | F48: 332 | G48: 316 | H48: 358 | K48: =MAX(I48,J48) -> 0
D49: =_xlfn.FORECAST.ETS(DATE(2025,1,1),D$42:D$48,$B$42:$B$48,1,1)+_xlfn.FORECAST.ETS.CONFINT(DATE(2025,1,1),D$42:D$48,$B$42:$B$48,$A$1,1) -> 534.42413 | E49: =_xlfn.FORECAST.ETS(DATE(2025,1,1),E$42:E$48,$B$42:$B$48,1,1)+_xlfn.FORECAST.ETS.CONFINT(DATE(2025,1,1),E$42:E$48,$B$42:$B$48,$A$1,1) -> 1061.4217 | F49: =_xlfn.FORECAST.ETS(DATE(2025,1,1),F$42:F$48,$B$42:$B$48,1,1)+_xlfn.FORECAST.ETS.CONFINT(DATE(2025,1,1),F$42:F$48,$B$42:$B$48,$A$1,1) -> 459.25657 | G49: =_xlfn.FORECAST.ETS(DATE(2025,1,1),G$42:G$48,$B$42:$B$48,1,1)+_xlfn.FORECAST.ETS.CONFINT(DATE(2025,1,1),G$42:G$48,$B$42:$B$48,$A$1,1) -> 402.93994 | H49: =_xlfn.FORECAST.ETS(DATE(2025,1,1),H$42:H$48,$B$42:$B$48,1,1)+_xlfn.FORECAST.ETS.CONFINT(DATE(2025,1,1),H$42:H$48,$B$42:$B$48,$A$1,1) -> 414.6769 | K49: =_xlfn.FORECAST.ETS(DATE(2025,1,1),K$42:K$48,$B$42:$B$48,1,1)+_xlfn.FORECAST.ETS.CONFINT(DATE(2025,1,1),K$42:K$48,$B$42:$B$48,$A$1,1) -> 537.29301 | L49: =_xlfn.FORECAST.ETS(DATE(2025,1,1),L$42:L$48,$B$42:$B$48,1,1)+_xlfn.FORECAST.ETS.CONFINT(DATE(2025,1,1),L$42:L$48,$B$42:$B$48,$A$1,1) -> 280.62295 | M49: =_xlfn.FORECAST.ETS(DATE(2025,1,1),M$42:M$48,$B$42:$B$48,1,1)+_xlfn.FORECAST.ETS.CONFINT(DATE(2025,1,1),M$42:M$48,$B$42:$B$48,$A$1,1) -> 479.22408 | N49: =_xlfn.FORECAST.ETS(DATE(2025,1,1),N$42:N$48,$B$42:$B$48,1,1)+_xlfn.FORECAST.ETS.CONFINT(DATE(2025,1,1),N$42:N$48,$B$42:$B$48,$A$1,1) -> 461.84612
A50: jul./18 | B50: 43282 | C50: =MONTH(DATE(YEAR(B50),MONTH(B50),DAY(B50))) -> 7 | D50: 589 | E50: 895 | F50: 504 | G50: 315 | K50: =MAX(I50,J50) -> 0 | L50: 307 | M50: 507 | N50: 266
A51: jul./19 | B51: 43647 | C51: =MONTH(DATE(YEAR(B51),MONTH(B51),DAY(B51))) -> 7 | D51: 506 | E51: 798 | F51: 365 | G51: 292 | H51: 425 | I51: 254 | K51: =MAX(I51,J51) -> 254 | L51: 294 | M51: 481 | N51: 493
A52: jul./20 | B52: 44013 | C52: =MONTH(DATE(YEAR(B52),MONTH(B52),DAY(B52))) -> 7 | D52: 228 | E52: 614 | F52: 164 | G52: 171 | H52: 435 | I52: 202 | K52: =MAX(I52,J52) -> 202 | L52: 243 | M52: 411 | N52: 402
A53: jul./21 | B53: 44378 | C53: =MONTH(DATE(YEAR(B53),MONTH(B53),DAY(B53))) -> 7 | D53: 301 | E53: 730 | F53: 217 | G53: 217 | H53: 599 | I53: 0 | J53: 97 | K53: =MAX(I53,J53) -> 97 | L53: 238 | M53: 354
A54: jul./22 | B54: 44743 | C54: =MONTH(DATE(YEAR(B54),MONTH(B54),DAY(B54))) -> 7 | D54: 329 | E54: 669 | F54: 224 | G54: 258 | H54: 474 | I54: 206 | J54: 222 | K54: =MAX(I54,J54) -> 222 | L54: 269 | M54: 404 | N54: 193
A55: jul./23 | B55: 45108 | C55: =MONTH(DATE(YEAR(B55),MONTH(B55),DAY(B55))) -> 7 | D55: 377 | E55: 593 | F55: 347 | G55: 297 | H55: 327 | I55: 500 | J55: 500 | K55: =MAX(I55,J55) -> 500 | L55: 270 | M55: 415 | N55: 394
A56: jul./24 | B56: 45474 | C56: =MONTH(DATE(YEAR(B56),MONTH(B56),DAY(B56))) -> 7 | D56: 412 | E56: 682 | G56: 310 | I56: 540 | J56: 373 | K56: =MAX(I56,J56) -> 540
D57: =_xlfn.FORECAST.ETS(DATE(2025,1,1),D$50:D$56,$B$50:$B$56,1,1)+_xlfn.FORECAST.ETS.CONFINT(DATE(2025,1,1),D$50:D$56,$B$50:$B$56,$A$1,1) -> 550.76313 | E57: =_xlfn.FORECAST.ETS(DATE(2025,1,1),E$50:E$56,$B$50:$B$56,1,1)+_xlfn.FORECAST.ETS.CONFINT(DATE(2025,1,1),E$50:E$56,$B$50:$B$56,$A$1,1) -> 721.85658 | F57: =_xlfn.FORECAST.ETS(DATE(2025,1,1),F$50:F$56,$B$50:$B$56,1,1)+_xlfn.FORECAST.ETS.CONFINT(DATE(2025,1,1),F$50:F$56,$B$50:$B$56,$A$1,1) -> 564.67602 | G57: =_xlfn.FORECAST.ETS(DATE(2025,1,1),G$50:G$56,$B$50:$B$56,1,1)+_xlfn.FORECAST.ETS.CONFINT(DATE(2025,1,1),G$50:G$56,$B$50:$B$56,$A$1,1) -> 386.50871 | H57: =_xlfn.FORECAST.ETS(DATE(2025,1,1),H$50:H$56,$B$50:$B$56,1,1)+_xlfn.FORECAST.ETS.CONFINT(DATE(2025,1,1),H$50:H$56,$B$50:$B$56,$A$1,1) -> 561.4891 | K57: =_xlfn.FORECAST.ETS(DATE(2025,1,1),K$50:K$56,$B$50:$B$56,1,1)+_xlfn.FORECAST.ETS.CONFINT(DATE(2025,1,1),K$50:K$56,$B$50:$B$56,$A$1,1) -> 644.57609 | L57: =_xlfn.FORECAST.ETS(DATE(2025,1,1),L$50:L$56,$B$50:$B$56,1,1)+_xlfn.FORECAST.ETS.CONFINT(DATE(2025,1,1),L$50:L$56,$B$50:$B$56,$A$1,1) -> 317.58039 | M57: =_xlfn.FORECAST.ETS(DATE(2025,1,1),M$50:M$56,$B$50:$B$56,1,1)+_xlfn.FORECAST.ETS.CONFINT(DATE(2025,1,1),M$50:M$56,$B$50:$B$56,$A$1,1) -> 478.75998 | N57: =_xlfn.FORECAST.ETS(DATE(2025,1,1),N$50:N$56,$B$50:$B$56,1,1)+_xlfn.FORECAST.ETS.CONFINT(DATE(2025,1,1),N$50:N$56,$B$50:$B$56,$A$1,1) -> 409.97701
A58: ago./18 | B58: 43313 | C58: =MONTH(DATE(YEAR(B58),MONTH(B58),DAY(B58))) -> 8 | D58: 669 | E58: 924 | F58: 562 | G58: 315 | H58: 626 | K58: =MAX(I58,J58) -> 0 | L58: 318 | M58: 507 | N58: 587
A59: ago./19 | B59: 43678 | C59: =MONTH(DATE(YEAR(B59),MONTH(B59),DAY(B59))) -> 8 | D59: 720 | E59: 899 | F59: 543 | G59: 342 | H59: 662 | I59: 301 | K59: =MAX(I59,J59) -> 301 | L59: 282 | M59: 497 | N59: 555
A60: ago./20 | B60: 44044 | C60: =MONTH(DATE(YEAR(B60),MONTH(B60),DAY(B60))) -> 8 | D60: 371 | E60: 685 | F60: 280 | G60: 223 | H60: 594 | I60: 312 | K60: =MAX(I60,J60) -> 312 | L60: 275 | M60: 460 | N60: 451
A61: ago./21 | B61: 44409 | C61: =MONTH(DATE(YEAR(B61),MONTH(B61),DAY(B61))) -> 8 | D61: 543 | E61: 724 | F61: 321 | G61: 231 | H61: 603 | I61: 163 | J61: 264 | K61: =MAX(I61,J61) -> 264 | L61: 262 | M61: 362 | N61: 406
A62: ago./22 | B62: 44774 | C62: =MONTH(DATE(YEAR(B62),MONTH(B62),DAY(B62))) -> 8 | D62: 474 | E62: 710 | F62: 329 | G62: 283 | H62: 497 | I62: 234 | J62: 395 | K62: =MAX(I62,J62) -> 395 | L62: 264 | M62: 416 | N62: 414
A63: ago./23 | B63: 45139 | C63: =MONTH(DATE(YEAR(B63),MONTH(B63),DAY(B63))) -> 8 | D63: 476 | E63: 695 | F63: 408 | G63: 264 | H63: 396 | I63: 397 | J63: 626 | K63: =MAX(I63,J63) -> 626 | L63: 270 | M63: 435 | N63: 482.6
A64: ago./24 | B64: 45505 | C64: =MONTH(DATE(YEAR(B64),MONTH(B64),DAY(B64))) -> 8 | K64: =MAX(I64,J64) -> 0
D65: =_xlfn.FORECAST.ETS(DATE(2025,1,1),D$58:D$64,$B$58:$B$64,1,1)+_xlfn.FORECAST.ETS.CONFINT(DATE(2025,1,1),D$58:D$64,$B$58:$B$64,$A$1,1) -> 536.32013 | E65: =_xlfn.FORECAST.ETS(DATE(2025,1,1),E$58:E$64,$B$58:$B$64,1,1)+_xlfn.FORECAST.ETS.CONFINT(DATE(2025,1,1),E$58:E$64,$B$58:$B$64,$A$1,1) -> 746.89301 | F65: =_xlfn.FORECAST.ETS(DATE(2025,1,1),F$58:F$64,$B$58:$B$64,1,1)+_xlfn.FORECAST.ETS.CONFINT(DATE(2025,1,1),F$58:F$64,$B$58:$B$64,$A$1,1) -> 499.11262 | G65: =_xlfn.FORECAST.ETS(DATE(2025,1,1),G$58:G$64,$B$58:$B$64,1,1)+_xlfn.FORECAST.ETS.CONFINT(DATE(2025,1,1),G$58:G$64,$B$58:$B$64,$A$1,1) -> 318.74374 | H65: =_xlfn.FORECAST.ETS(DATE(2025,1,1),H$58:H$64,$B$58:$B$64,1,1)+_xlfn.FORECAST.ETS.CONFINT(DATE(2025,1,1),H$58:H$64,$B$58:$B$64,$A$1,1) -> 446.49686 | K65: =_xlfn.FORECAST.ETS(DATE(2025,1,1),K$58:K$64,$B$58:$B$64,1,1)+_xlfn.FORECAST.ETS.CONFINT(DATE(2025,1,1),K$58:K$64,$B$58:$B$64,$A$1,1) -> 629.22841 | L65: =_xlfn.FORECAST.ETS(DATE(2025,1,1),L$58:L$64,$B$58:$B$64,1,1)+_xlfn.FORECAST.ETS.CONFINT(DATE(2025,1,1),L$58:L$64,$B$58:$B$64,$A$1,1) -> 290.30514 | M65: =_xlfn.FORECAST.ETS(DATE(2025,1,1),M$58:M$64,$B$58:$B$64,1,1)+_xlfn.FORECAST.ETS.CONFINT(DATE(2025,1,1),M$58:M$64,$B$58:$B$64,$A$1,1) -> 460.12067 | N65: =_xlfn.FORECAST.ETS(DATE(2025,1,1),N$58:N$64,$B$58:$B$64,1,1)+_xlfn.FORECAST.ETS.CONFINT(DATE(2025,1,1),N$58:N$64,$B$58:$B$64,$A$1,1) -> 560.2996
A66: set./17 | B66: 42979 | C66: =MONTH(DATE(YEAR(B66),MONTH(B66),DAY(B66))) -> 9
A67: set./18 | B67: 43344 | C67: =MONTH(DATE(YEAR(B67),MONTH(B67),DAY(B67))) -> 9 | D67: 846 | E67: 964 | F67: 682 | G67: 341 | H67: 665 | K67: =MAX(I67,J67) -> 0 | L67: 320 | M67: 507 | N67: 615
A68: set./19 | B68: 43709 | C68: =MONTH(DATE(YEAR(B68),MONTH(B68),DAY(B68))) -> 9 | D68: 749 | E68: 928 | F68: 594 | G68: 343 | H68: 732 | I68: 592 | K68: =MAX(I68,J68) -> 592 | L68: 324 | M68: 493 | N68: 535
A69: set./20 | B69: 44075 | C69: =MONTH(DATE(YEAR(B69),MONTH(B69),DAY(B69))) -> 9 | D69: 534 | E69: 747 | F69: 120 | G69: 251 | H69: 684 | I69: 448 | K69: =MAX(I69,J69) -> 448 | L69: 280 | M69: 485 | N69: 479
A70: set./21 | B70: 44440 | C70: =MONTH(DATE(YEAR(B70),MONTH(B70),DAY(B70))) -> 9 | D70: 584 | E70: 748 | F70: 430 | G70: 251 | H70: 699 | I70: 224 | J70: 431 | K70: =MAX(I70,J70) -> 431 | L70: 283 | M70: 463 | N70: 431
A71: set./22 | B71: 44805 | C71: =MONTH(DATE(YEAR(B71),MONTH(B71),DAY(B71))) -> 9 | D71: 554 | E71: 694 | F71: 445 | G71: 296 | H71: 542 | I71: 363 | J71: 0 | K71: =MAX(I71,J71) -> 363 | L71: 273 | M71: 439 | N71: 50
A72: set./23 | B72: 45170 | C72: =MONTH(DATE(YEAR(B72),MONTH(B72),DAY(B72))) -> 9 | D72: 728 | E72: 770 | F72: 598 | G72: 296.4 | H72: 534 | I72: 263 | J72: 431 | K72: =MAX(I72,J72) -> 431 | L72: 320 | M72: 514 | N72: 515
A73: set./24 | B73: 45536 | C73: =MONTH(DATE(YEAR(B73),MONTH(B73),DAY(B73))) -> 9 | K73: =MAX(I73,J73) -> 0
D74: =_xlfn.FORECAST.ETS(DATE(2025,1,1),D$66:D$72,$B$66:$B$72,1,1)+_xlfn.FORECAST.ETS.CONFINT(DATE(2025,1,1),D$66:D$72,$B$66:$B$72,$A$1,1) -> 945.85504 | E74: =_xlfn.FORECAST.ETS(DATE(2025,1,1),E$66:E$72,$B$66:$B$72,1,1)+_xlfn.FORECAST.ETS.CONFINT(DATE(2025,1,1),E$66:E$72,$B$66:$B$72,$A$1,1) -> 788.11941 | F74: =_xlfn.FORECAST.ETS(DATE(2025,1,1),F$66:F$72,$B$66:$B$72,1,1)+_xlfn.FORECAST.ETS.CONFINT(DATE(2025,1,1),F$66:F$72,$B$66:$B$72,$A$1,1) -> 979.51641 | G74: =_xlfn.FORECAST.ETS(DATE(2025,1,1),G$66:G$72,$B$66:$B$72,1,1)+_xlfn.FORECAST.ETS.CONFINT(DATE(2025,1,1),G$66:G$72,$B$66:$B$72,$A$1,1) -> 345.27492 | H74: =_xlfn.FORECAST.ETS(DATE(2025,1,1),H$66:H$72,$B$66:$B$72,1,1)+_xlfn.FORECAST.ETS.CONFINT(DATE(2025,1,1),H$66:H$72,$B$66:$B$72,$A$1,1) -> 617.69735 | K74: =_xlfn.FORECAST.ETS(DATE(2025,1,1),K$66:K$72,$B$66:$B$72,1,1)+_xlfn.FORECAST.ETS.CONFINT(DATE(2025,1,1),K$66:K$72,$B$66:$B$72,$A$1,1) -> 952.94863 | L74: =_xlfn.FORECAST.ETS(DATE(2025,1,1),L$66:L$72,$B$66:$B$72,1,1)+_xlfn.FORECAST.ETS.CONFINT(DATE(2025,1,1),L$66:L$72,$B$66:$B$72,$A$1,1) -> 339.02969 | M74: =_xlfn.FORECAST.ETS(DATE(2025,1,1),M$66:M$72,$B$66:$B$72,1,1)+_xlfn.FORECAST.ETS.CONFINT(DATE(2025,1,1),M$66:M$72,$B$66:$B$72,$A$1,1) -> 536.18611 | N74: =_xlfn.FORECAST.ETS(DATE(2025,1,1),N$66:N$72,$B$66:$B$72,1,1)+_xlfn.FORECAST.ETS.CONFINT(DATE(2025,1,1),N$66:N$72,$B$66:$B$72,$A$1,1) -> 587.95049
A75: out./17 | B75: 43009 | C75: =MONTH(DATE(YEAR(B75),MONTH(B75),DAY(B75))) -> 10
A76: out./18 | B76: 43374 | C76: =MONTH(DATE(YEAR(B76),MONTH(B76),DAY(B76))) -> 10 | D76: 846 | E76: 957 | F76: 621 | G76: 342 | H76: 646 | K76: =MAX(I76,J76) -> 0 | L76: 294 | M76: 507 | N76: 568
A77: out./19 | B77: 43739 | C77: =MONTH(DATE(YEAR(B77),MONTH(B77),DAY(B77))) -> 10 | D77: 763 | E77: 891 | G77: 339 | H77: 719 | I77: 616 | K77: =MAX(I77,J77) -> 616 | L77: 329 | M77: 540 | N77: 548
A78: out./20 | B78: 44105 | C78: =MONTH(DATE(YEAR(B78),MONTH(B78),DAY(B78))) -> 10 | D78: 447 | E78: 721 | F78: 346 | G78: 259 | H78: 658 | I78: 390 | K78: =MAX(I78,J78) -> 390 | L78: 280 | M78: 505 | N78: 453
A79: out./21 | B79: 44470 | C79: =MONTH(DATE(YEAR(B79),MONTH(B79),DAY(B79))) -> 10 | D79: 571 | E79: 738 | F79: 419 | G79: 259 | H79: 659 | I79: 198 | J79: 347 | K79: =MAX(I79,J79) -> 347 | L79: 286 | M79: 481 | N79: 416
A80: out./22 | B80: 44835 | C80: =MONTH(DATE(YEAR(B80),MONTH(B80),DAY(B80))) -> 10 | D80: 489 | E80: 693 | F80: 442 | G80: 296 | H80: 404 | I80: 194 | J80: 376 | K80: =MAX(I80,J80) -> 376 | L80: 276 | M80: 449 | N80: 496.25
A81: out./23 | B81: 45200 | C81: =MONTH(DATE(YEAR(B81),MONTH(B81),DAY(B81))) -> 10 | D81: 672 | E81: 772 | F81: 577 | G81: 360 | H81: 529 | I81: 468 | J81: 750 | K81: =MAX(I81,J81) -> 750 | L81: 292 | M81: 503 | N81: 496.25
D82: =_xlfn.FORECAST.ETS(DATE(2025,1,1),D$75:D$81,$B$75:$B$81,1,1)+_xlfn.FORECAST.ETS.CONFINT(DATE(2025,1,1),D$75:D$81,$B$75:$B$81,$A$1,1) -> 836.93985 | E82: =_xlfn.FORECAST.ETS(DATE(2025,1,1),E$75:E$81,$B$75:$B$81,1,1)+_xlfn.FORECAST.ETS.CONFINT(DATE(2025,1,1),E$75:E$81,$B$75:$B$81,$A$1,1) -> 854.75282 | F82: =_xlfn.FORECAST.ETS(DATE(2025,1,1),F$75:F$81,$B$75:$B$81,1,1)+_xlfn.FORECAST.ETS.CONFINT(DATE(2025,1,1),F$75:F$81,$B$75:$B$81,$A$1,1) -> 795.24391 | G82: =_xlfn.FORECAST.ETS(DATE(2025,1,1),G$75:G$81,$B$75:$B$81,1,1)+_xlfn.FORECAST.ETS.CONFINT(DATE(2025,1,1),G$75:G$81,$B$75:$B$81,$A$1,1) -> 453.82057 | H82: =_xlfn.FORECAST.ETS(DATE(2025,1,1),H$75:H$81,$B$75:$B$81,1,1)+_xlfn.FORECAST.ETS.CONFINT(DATE(2025,1,1),H$75:H$81,$B$75:$B$81,$A$1,1) -> 498.89119 | K82: =_xlfn.FORECAST.ETS(DATE(2025,1,1),K$75:K$81,$B$75:$B$81,1,1)+_xlfn.FORECAST.ETS.CONFINT(DATE(2025,1,1),K$75:K$81,$B$75:$B$81,$A$1,1) -> 815.98525 | L82: =_xlfn.FORECAST.ETS(DATE(2025,1,1),L$75:L$81,$B$75:$B$81,1,1)+_xlfn.FORECAST.ETS.CONFINT(DATE(2025,1,1),L$75:L$81,$B$75:$B$81,$A$1,1) -> 282.06084 | M82: =_xlfn.FORECAST.ETS(DATE(2025,1,1),M$75:M$81,$B$75:$B$81,1,1)+_xlfn.FORECAST.ETS.CONFINT(DATE(2025,1,1),M$75:M$81,$B$75:$B$81,$A$1,1) -> 476.80266 | N82: =_xlfn.FORECAST.ETS(DATE(2025,1,1),N$75:N$81,$B$75:$B$81,1,1)+_xlfn.FORECAST.ETS.CONFINT(DATE(2025,1,1),N$75:N$81,$B$75:$B$81,$A$1,1) -> 591.73246
A83: nov./17 | B83: 43040 | C83: =MONTH(DATE(YEAR(B83),MONTH(B83),DAY(B83))) -> 11
A84: nov./18 | B84: 43405 | C84: =MONTH(DATE(YEAR(B84),MONTH(B84),DAY(B84))) -> 11 | D84: 805 | E84: 932 | F84: 566 | G84: 319 | H84: 620 | K84: =MAX(I84,J84) -> 0 | L84: 291 | M84: 541 | N84: 572
A85: nov./19 | B85: 43770 | C85: =MONTH(DATE(YEAR(B85),MONTH(B85),DAY(B85))) -> 11 | D85: 799 | E85: 1082 | G85: 345 | H85: 715 | I85: 326 | J85: 631 | K85: =MAX(I85,J85) -> 631 | L85: 352 | M85: 543 | N85: 560
A86: nov./20 | B86: 44136 | C86: =MONTH(DATE(YEAR(B86),MONTH(B86),DAY(B86))) -> 11 | D86: 515 | E86: 219 | F86: 374 | G86: 247 | H86: 604 | I86: 394 | K86: =MAX(I86,J86) -> 394 | L86: 303 | M86: 508 | N86: 477
A87: nov./21 | B87: 44501 | C87: =MONTH(DATE(YEAR(B87),MONTH(B87),DAY(B87))) -> 11 | D87: 509 | E87: 725 | F87: 388 | G87: 248 | H87: 574 | I87: 187 | J87: 353 | K87: =MAX(I87,J87) -> 353 | L87: 278 | M87: 479 | N87: 420
A88: nov./22 | B88: 44866 | C88: =MONTH(DATE(YEAR(B88),MONTH(B88),DAY(B88))) -> 11 | D88: 514 | E88: 730 | F88: 419 | G88: 279 | H88: 488 | I88: 158 | J88: 286 | K88: =MAX(I88,J88) -> 286 | L88: 282 | M88: 429 | N88: 430
A89: nov./23 | B89: 45231 | C89: =MONTH(DATE(YEAR(B89),MONTH(B89),DAY(B89))) -> 11 | D89: 712 | E89: 769 | F89: 636 | G89: 368 | H89: 551 | I89: 425 | J89: 631 | K89: =MAX(I89,J89) -> 631 | L89: 297 | M89: 498 | N89: 401
D90: =_xlfn.FORECAST.ETS(DATE(2025,1,1),D$83:D$89,$B$83:$B$89,1,1)+_xlfn.FORECAST.ETS.CONFINT(DATE(2025,1,1),D$83:D$89,$B$83:$B$89,$A$1,1) -> 819.34837 | E90: =_xlfn.FORECAST.ETS(DATE(2025,1,1),E$83:E$89,$B$83:$B$89,1,1)+_xlfn.FORECAST.ETS.CONFINT(DATE(2025,1,1),E$83:E$89,$B$83:$B$89,$A$1,1) -> 1018.9181 | F90: =_xlfn.FORECAST.ETS(DATE(2025,1,1),F$83:F$89,$B$83:$B$89,1,1)+_xlfn.FORECAST.ETS.CONFINT(DATE(2025,1,1),F$83:F$89,$B$83:$B$89,$A$1,1) -> 860.40856 | G90: =_xlfn.FORECAST.ETS(DATE(2025,1,1),G$83:G$89,$B$83:$B$89,1,1)+_xlfn.FORECAST.ETS.CONFINT(DATE(2025,1,1),G$83:G$89,$B$83:$B$89,$A$1,1) -> 430.50823 | H90: =_xlfn.FORECAST.ETS(DATE(2025,1,1),H$83:H$89,$B$83:$B$89,1,1)+_xlfn.FORECAST.ETS.CONFINT(DATE(2025,1,1),H$83:H$89,$B$83:$B$89,$A$1,1) -> 471.46162 | K90: =_xlfn.FORECAST.ETS(DATE(2025,1,1),K$83:K$89,$B$83:$B$89,1,1)+_xlfn.FORECAST.ETS.CONFINT(DATE(2025,1,1),K$83:K$89,$B$83:$B$89,$A$1,1) -> 669.15888 | L90: =_xlfn.FORECAST.ETS(DATE(2025,1,1),L$83:L$89,$B$83:$B$89,1,1)+_xlfn.FORECAST.ETS.CONFINT(DATE(2025,1,1),L$83:L$89,$B$83:$B$89,$A$1,1) -> 327.69872 | M90: =_xlfn.FORECAST.ETS(DATE(2025,1,1),M$83:M$89,$B$83:$B$89,1,1)+_xlfn.FORECAST.ETS.CONFINT(DATE(2025,1,1),M$83:M$89,$B$83:$B$89,$A$1,1) -> 471.5908 | N90: =_xlfn.FORECAST.ETS(DATE(2025,1,1),N$83:N$89,$B$83:$B$89,1,1)+_xlfn.FORECAST.ETS.CONFINT(DATE(2025,1,1),N$83:N$89,$B$83:$B$89,$A$1,1) -> 387.80883
A91: dez./17 | B91: 43070 | C91: =MONTH(DATE(YEAR(B91),MONTH(B91),DAY(B91))) -> 12 | E91: 849 | K91: =MAX(I91,J91) -> 0 | M91: 549 | N91: 543
A92: dez./18 | B92: 43435 | C92: =MONTH(DATE(YEAR(B92),MONTH(B92),DAY(B92))) -> 12 | D92: 694 | E92: 951 | F92: 655 | G92: 331 | H92: 627 | I92: 318 | K92: =MAX(I92,J92) -> 318 | L92: 296 | M92: 516 | N92: 523
A93: dez./19 | B93: 43800 | C93: =MONTH(DATE(YEAR(B93),MONTH(B93),DAY(B93))) -> 12 | D93: 668 | E93: 886 | G93: 307 | H93: 618 | I93: 540 | K93: =MAX(I93,J93) -> 540 | L93: 316 | M93: 528 | N93: 507
A94: dez./20 | B94: 44166 | C94: =MONTH(DATE(YEAR(B94),MONTH(B94),DAY(B94))) -> 12 | D94: 465 | E94: 732 | F94: 374 | G94: 0 | H94: 604 | I94: 391 | J94: 228 | K94: =MAX(I94,J94) -> 391 | L94: 299 | M94: 500 | N94: 465
A95: dez./21 | B95: 44531 | C95: =MONTH(DATE(YEAR(B95),MONTH(B95),DAY(B95))) -> 12 | D95: 472 | E95: 765 | F95: 356 | G95: 247 | H95: 638 | I95: 190 | J95: 306 | K95: =MAX(I95,J95) -> 306 | L95: 275 | M95: 466 | N95: 60
A96: dez./22 | B96: 44896 | C96: =MONTH(DATE(YEAR(B96),MONTH(B96),DAY(B96))) -> 12 | D96: 453 | E96: 718 | F96: 342 | G96: 278 | H96: 508 | I96: 82 | J96: 0 | K96: =MAX(I96,J96) -> 82 | L96: 287 | M96: 427 | N96: 425
A97: dez./23 | B97: 45261 | C97: =MONTH(DATE(YEAR(B97),MONTH(B97),DAY(B97))) -> 12 | D97: 699 | E97: 760 | F97: 528 | G97: 341 | H97: 519 | I97: 383 | J97: 749 | K97: =MAX(I97,J97) -> 749 | L97: 292 | M97: 498 | N97: 403
D98: =_xlfn.FORECAST.ETS(DATE(2025,1,1),D$91:D$97,$B$91:$B$97,1,1)+_xlfn.FORECAST.ETS.CONFINT(DATE(2025,1,1),D$91:D$97,$B$91:$B$97,$A$1,1) -> 833.88633 | E98: =_xlfn.FORECAST.ETS(DATE(2025,1,1),E$91:E$97,$B$91:$B$97,1,1)+_xlfn.FORECAST.ETS.CONFINT(DATE(2025,1,1),E$91:E$97,$B$91:$B$97,$A$1,1) -> 811.35541 | F98: =_xlfn.FORECAST.ETS(DATE(2025,1,1),F$91:F$97,$B$91:$B$97,1,1)+_xlfn.FORECAST.ETS.CONFINT(DATE(2025,1,1),F$91:F$97,$B$91:$B$97,$A$1,1) -> 709.87556 | G98: =_xlfn.FORECAST.ETS(DATE(2025,1,1),G$91:G$97,$B$91:$B$97,1,1)+_xlfn.FORECAST.ETS.CONFINT(DATE(2025,1,1),G$91:G$97,$B$91:$B$97,$A$1,1) -> 616.91931 | H98: =_xlfn.FORECAST.ETS(DATE(2025,1,1),H$91:H$97,$B$91:$B$97,1,1)+_xlfn.FORECAST.ETS.CONFINT(DATE(2025,1,1),H$91:H$97,$B$91:$B$97,$A$1,1) -> 539.6415 | K98: =_xlfn.FORECAST.ETS(DATE(2025,1,1),K$91:K$97,$B$91:$B$97,1,1)+_xlfn.FORECAST.ETS.CONFINT(DATE(2025,1,1),K$91:K$97,$B$91:$B$97,$A$1,1) -> 1048.4251 | L98: =_xlfn.FORECAST.ETS(DATE(2025,1,1),L$91:L$97,$B$91:$B$97,1,1)+_xlfn.FORECAST.ETS.CONFINT(DATE(2025,1,1),L$91:L$97,$B$91:$B$97,$A$1,1) -> 307.29341 | M98: =_xlfn.FORECAST.ETS(DATE(2025,1,1),M$91:M$97,$B$91:$B$97,1,1)+_xlfn.FORECAST.ETS.CONFINT(DATE(2025,1,1),M$91:M$97,$B$91:$B$97,$A$1,1) -> 501.39023 | N98: =_xlfn.FORECAST.ETS(DATE(2025,1,1),N$91:N$97,$B$91:$B$97,1,1)+_xlfn.FORECAST.ETS.CONFINT(DATE(2025,1,1),N$91:N$97,$B$91:$B$97,$A$1,1) -> 536.63709
K99: =MAX(I99,J99) -> 0
K100: =MAX(I100,J100) -> 0
...

Sheet Consumo Grupo B
A1: 0.9
C2: Ed. Alvorada | D2: Ed. Garagem | E2: Galpão RFB SIA Trecho 6 | F2: Depósito SGMN SUCAD | G2: Galpão SGON | H2: Galpão SIG | I2: Depósito SAAN
A3: =MONTH(DATE(YEAR(B3),MONTH(B3),DAY(B3))) -> 1 | B3: 43101 | C3: 35400 | D3: 7298 | F3: 865 | G3: 2170 | H3: 830
A4: =MONTH(DATE(YEAR(B4),MONTH(B4),DAY(B4))) -> 1 | B4: 43466 | C4: 42300 | D4: 9012 | E4: 2087 | F4: 477 | G4: 1930 | H4: 630 | I4: 1110
A5: =MONTH(DATE(YEAR(B5),MONTH(B5),DAY(B5))) -> 1 | B5: 43831 | C5: 40200 | D5: 7144 | E5: 2294 | F5: 408 | G5: 1950 | H5: 510 | I5: 610
A6: =MONTH(DATE(YEAR(B6),MONTH(B6),DAY(B6))) -> 1 | B6: 44197 | C6: 25800 | D6: 3264 | E6: 6027 | F6: 329 | G6: 1180 | H6: 320 | I6: 750
A7: =MONTH(DATE(YEAR(B7),MONTH(B7),DAY(B7))) -> 1 | B7: 44562 | C7: 24300 | D7: 3473 | E7: 2251 | F7: 415 | G7: 1350 | H7: 380 | I7: 550
A8: =MONTH(DATE(YEAR(B8),MONTH(B8),DAY(B8))) -> 1 | B8: 44927 | C8: 27300 | D8: 2029 | E8: 3501 | F8: 416 | G8: 1160 | H8: 250 | I8: 530
A9: =MONTH(DATE(YEAR(B9),MONTH(B9),DAY(B9))) -> 1 | B9: 45292 | C9: 32400 | D9: 3036 | E9: 3582 | F9: 589 | G9: 1310 | H9: 530 | I9: 700
C10: =_xlfn.FORECAST.ETS(DATE(2025,1,1),C$3:C$9,$B$3:$B$9,1,1)+_xlfn.FORECAST.ETS.CONFINT(DATE(2025,1,1),C$3:C$9,$B$3:$B$9,$A$1,1) -> 33195.826 | D10: =_xlfn.FORECAST.ETS(DATE(2025,1,1),D$3:D$9,$B$3:$B$9,1,1)+_xlfn.FORECAST.ETS.CONFINT(DATE(2025,1,1),D$3:D$9,$B$3:$B$9,$A$1,1) -> 2809.044 | E10: =_xlfn.FORECAST.ETS(DATE(2025,1,1),E$3:E$9,$B$3:$B$9,1,1)+_xlfn.FORECAST.ETS.CONFINT(DATE(2025,1,1),E$3:E$9,$B$3:$B$9,$A$1,1) -> 5941.3382 | F10: =_xlfn.FORECAST.ETS(DATE(2025,1,1),F$3:F$9,$B$3:$B$9,1,1)+_xlfn.FORECAST.ETS.CONFINT(DATE(2025,1,1),F$3:F$9,$B$3:$B$9,$A$1,1) -> 807.4395 | G10: =_xlfn.FORECAST.ETS(DATE(2025,1,1),G$3:G$9,$B$3:$B$9,1,1)+_xlfn.FORECAST.ETS.CONFINT(DATE(2025,1,1),G$3:G$9,$B$3:$B$9,$A$1,1) -> 1341.0961 | H10: =_xlfn.FORECAST.ETS(DATE(2025,1,1),H$3:H$9,$B$3:$B$9,1,1)+_xlfn.FORECAST.ETS.CONFINT(DATE(2025,1,1),H$3:H$9,$B$3:$B$9,$A$1,1) -> 638.49813 | I10: =_xlfn.FORECAST.ETS(DATE(2025,1,1),I$3:I$9,$B$3:$B$9,1,1)+_xlfn.FORECAST.ETS.CONFINT(DATE(2025,1,1),I$3:I$9,$B$3:$B$9,$A$1,1) -> 950.81421
A11: =MONTH(DATE(YEAR(B11),MONTH(B11),DAY(B11))) -> 2 | B11: 43132 | C11: 36000 | D11: 7127 | F11: 603 | G11: 1960 | H11: 780
A12: =MONTH(DATE(YEAR(B12),MONTH(B12),DAY(B12))) -> 2 | B12: 43497 | C12: 35400 | D12: 7958 | E12: 2841 | F12: 425 | G12: 1730 | H12: 500 | I12: 1070
A13: =MONTH(DATE(YEAR(B13),MONTH(B13),DAY(B13))) -> 2 | B13: 43862 | C13: 34200 | D13: 6738 | E13: 2352 | F13: 410 | G13: 1550 | H13: 380 | I13: 670
A14: =MONTH(DATE(YEAR(B14),MONTH(B14),DAY(B14))) -> 2 | B14: 44228 | C14: 24300 | D14: 2597 | E14: 2782 | F14: 307 | G14: 1180 | H14: 310 | I14: 700
A15: =MONTH(DATE(YEAR(B15),MONTH(B15),DAY(B15))) -> 2 | B15: 44593 | C15: 14700 | D15: 3603 | E15: 2886 | F15: 434 | G15: 1320 | H15: 400 | I15: 500
A16: =MONTH(DATE(YEAR(B16),MONTH(B16),DAY(B16))) -> 2 | B16: 44958 | C16: 30600 | D16: 2335 | E16: 2728 | F16: 419 | G16: 1250 | H16: 340 | I16: 710
A17: =MONTH(DATE(YEAR(B17),MONTH(B17),DAY(B17))) -> 2 | B17: 45323 | C17: 36600 | D17: 3564 | E17: 9637 | F17: 591 | G17: 1370 | H17: 520 | I17: 750
C18: =_xlfn.FORECAST.ETS(DATE(2025,1,1),C$11:C$17,$B$11:$B$17,1,1)+_xlfn.FORECAST.ETS.CONFINT(DATE(2025,1,1),C$11:C$17,$B$11:$B$17,$A$1,1) -> 41365.485 | D18: =_xlfn.FORECAST.ETS(DATE(2025,1,1),D$11:D$17,$B$11:$B$17,1,1)+_xlfn.FORECAST.ETS.CONFINT(DATE(2025,1,1),D$11:D$17,$B$11:$B$17,$A$1,1) -> 2987.7091 | E18: =_xlfn.FORECAST.ETS(DATE(2025,1,1),E$11:E$17,$B$11:$B$17,1,1)+_xlfn.FORECAST.ETS.CONFINT(DATE(2025,1,1),E$11:E$17,$B$11:$B$17,$A$1,1) -> 11973.004 | F18: =_xlfn.FORECAST.ETS(DATE(2025,1,1),F$11:F$17,$B$11:$B$17,1,1)+_xlfn.FORECAST.ETS.CONFINT(DATE(2025,1,1),F$11:F$17,$B$11:$B$17,$A$1,1) -> 748.49715 | G18: =_xlfn.FORECAST.ETS(DATE(2025,1,1),G$11:G$17,$B$11:$B$17,1,1)+_xlfn.FORECAST.ETS.CONFINT(DATE(2025,1,1),G$11:G$17,$B$11:$B$17,$A$1,1) -> 1517.6089 | H18: =_xlfn.FORECAST.ETS(DATE(2025,1,1),H$11:H$17,$B$11:$B$17,1,1)+_xlfn.FORECAST.ETS.CONFINT(DATE(2025,1,1),H$11:H$17,$B$11:$B$17,$A$1,1) -> 680.80052 | I18: =_xlfn.FORECAST.ETS(DATE(2025,1,1),I$11:I$17,$B$11:$B$17,1,1)+_xlfn.FORECAST.ETS.CONFINT(DATE(2025,1,1),I$11:I$17,$B$11:$B$17,$A$1,1) -> 1023.9225
A19: =MONTH(DATE(YEAR(B19),MONTH(B19),DAY(B19))) -> 3 | B19: 43160 | C19: 39300 | D19: 7590 | F19: 629 | G19: 2610 | H19: 100
A20: =MONTH(DATE(YEAR(B20),MONTH(B20),DAY(B20))) -> 3 | B20: 43525 | C20: 35400 | D20: 7857 | E20: 2355 | F20: 390 | G20: 1520 | H20: 470 | I20: 970
A21: =MONTH(DATE(YEAR(B21),MONTH(B21),DAY(B21))) -> 3 | B21: 43891 | C21: 26100 | D21: 6579 | E21: 320 | F21: 380 | G21: 1430 | H21: 340 | I21: 540
A22: =MONTH(DATE(YEAR(B22),MONTH(B22),DAY(B22))) -> 3 | B22: 44256 | C22: 25800 | D22: 2846 | E22: 2628 | F22: 347 | G22: 1390 | H22: 350 | I22: 750
A23: =MONTH(DATE(YEAR(B23),MONTH(B23),DAY(B23))) -> 3 | B23: 44621 | C23: 36600 | D23: 3476 | E23: 3266 | F23: 479 | G23: 1720 | H23: 610 | I23: 550
A24: =MONTH(DATE(YEAR(B24),MONTH(B24),DAY(B24))) -> 3 | B24: 44986 | C24: 28500 | D24: 2175 | E24: 3735 | F24: 404 | G24: 1050 | H24: 250 | I24: 530
A25: =MONTH(DATE(YEAR(B25),MONTH(B25),DAY(B25))) -> 3 | B25: 45352 | C25: 34200 | D25: 3271 | E25: 3793 | F25: 515 | G25: 1130 | H25: 420 | I25: 630
C26: =_xlfn.FORECAST.ETS(DATE(2025,1,1),C$19:C$25,$B$19:$B$25,1,1)+_xlfn.FORECAST.ETS.CONFINT(DATE(2025,1,1),C$19:C$25,$B$19:$B$25,$A$1,1) -> 39716.667 | D26: =_xlfn.FORECAST.ETS(DATE(2025,1,1),D$19:D$25,$B$19:$B$25,1,1)+_xlfn.FORECAST.ETS.CONFINT(DATE(2025,1,1),D$19:D$25,$B$19:$B$25,$A$1,1) -> 2555.4418 | E26: =_xlfn.FORECAST.ETS(DATE(2025,1,1),E$19:E$25,$B$19:$B$25,1,1)+_xlfn.FORECAST.ETS.CONFINT(DATE(2025,1,1),E$19:E$25,$B$19:$B$25,$A$1,1) -> 6765.4946 | F26: =_xlfn.FORECAST.ETS(DATE(2025,1,1),F$19:F$25,$B$19:$B$25,1,1)+_xlfn.FORECAST.ETS.CONFINT(DATE(2025,1,1),F$19:F$25,$B$19:$B$25,$A$1,1) -> 650.67219 | G26: =_xlfn.FORECAST.ETS(DATE(2025,1,1),G$19:G$25,$B$19:$B$25,1,1)+_xlfn.FORECAST.ETS.CONFINT(DATE(2025,1,1),G$19:G$25,$B$19:$B$25,$A$1,1) -> 1549.3199 | H26: =_xlfn.FORECAST.ETS(DATE(2025,1,1),H$19:H$25,$B$19:$B$25,1,1)+_xlfn.FORECAST.ETS.CONFINT(DATE(2025,1,1),H$19:H$25,$B$19:$B$25,$A$1,1) -> 681.54585 | I26: =_xlfn.FORECAST.ETS(DATE(2025,1,1),I$19:I$25,$B$19:$B$25,1,1)+_xlfn.FORECAST.ETS.CONFINT(DATE(2025,1,1),I$19:I$25,$B$19:$B$25,$A$1,1) -> 811.66245
A27: =MONTH(DATE(YEAR(B27),MONTH(B27),DAY(B27))) -> 4 | B27: 43191 | C27: 33600 | D27: 6863 | F27: 700 | G27: 2020 | H27: 400
A28: =MONTH(DATE(YEAR(B28),MONTH(B28),DAY(B28))) -> 4 | B28: 43556 | C28: 39600 | D28: 10075 | E28: 2176 | F28: 452 | G28: 1720 | H28: 480 | I28: 1030
A29: =MONTH(DATE(YEAR(B29),MONTH(B29),DAY(B29))) -> 4 | B29: 43922 | C29: 18900 | D29: 6005 | E29: 2566 | F29: 379 | G29: 1270 | H29: 250 | I29: 550
A30: =MONTH(DATE(YEAR(B30),MONTH(B30),DAY(B30))) -> 4 | B30: 44287 | C30: 23100 | D30: 2375 | E30: 2599 | F30: 283 | G30: 1120 | H30: 240 | I30: 810
A31: =MONTH(DATE(YEAR(B31),MONTH(B31),DAY(B31))) -> 4 | B31: 44652 | C31: 23700 | D31: 3432 | E31: 3284 | F31: 485 | G31: 1570 | H31: 810 | I31: 460
A32: =MONTH(DATE(YEAR(B32),MONTH(B32),DAY(B32))) -> 4 | B32: 45017 | C32: 26400 | D32: 1899 | E32: 3769 | F32: 418 | G32: 1020 | H32: 220 | I32: 490
A33: =MONTH(DATE(YEAR(B33),MONTH(B33),DAY(B33))) -> 4 | B33: 45383 | C33: 36000 | D33: 3475 | E33: 3912 | F33: 650 | G33: 1230 | H33: 350 | I33: 670
C34: =_xlfn.FORECAST.ETS(DATE(2025,1,1),C$27:C$33,$B$27:$B$33,1,1)+_xlfn.FORECAST.ETS.CONFINT(DATE(2025,1,1),C$27:C$33,$B$27:$B$33,$A$1,1) -> 41089.285 | D34: =_xlfn.FORECAST.ETS(DATE(2025,1,1),D$27:D$33,$B$27:$B$33,1,1)+_xlfn.FORECAST.ETS.CONFINT(DATE(2025,1,1),D$27:D$33,$B$27:$B$33,$A$1,1) -> 3346.2656 | E34: =_xlfn.FORECAST.ETS(DATE(2025,1,1),E$27:E$33,$B$27:$B$33,1,1)+_xlfn.FORECAST.ETS.CONFINT(DATE(2025,1,1),E$27:E$33,$B$27:$B$33,$A$1,1) -> 4555.0077 | F34: =_xlfn.FORECAST.ETS(DATE(2025,1,1),F$27:F$33,$B$27:$B$33,1,1)+_xlfn.FORECAST.ETS.CONFINT(DATE(2025,1,1),F$27:F$33,$B$27:$B$33,$A$1,1) -> 847.96057 | G34: =_xlfn.FORECAST.ETS(DATE(2025,1,1),G$27:G$33,$B$27:$B$33,1,1)+_xlfn.FORECAST.ETS.CONFINT(DATE(2025,1,1),G$27:G$33,$B$27:$B$33,$A$1,1) -> 1394.9973 | H34: =_xlfn.FORECAST.ETS(DATE(2025,1,1),H$27:H$33,$B$27:$B$33,1,1)+_xlfn.FORECAST.ETS.CONFINT(DATE(2025,1,1),H$27:H$33,$B$27:$B$33,$A$1,1) -> 647.52975 | I34: =_xlfn.FORECAST.ETS(DATE(2025,1,1),I$27:I$33,$B$27:$B$33,1,1)+_xlfn.FORECAST.ETS.CONFINT(DATE(2025,1,1),I$27:I$33,$B$27:$B$33,$A$1,1) -> 858.2308
A35: =MONTH(DATE(YEAR(B35),MONTH(B35),DAY(B35))) -> 5 | B35: 43221 | C35: 34800 | D35: 7272 | F35: 826 | G35: 2100 | H35: 390
A36: =MONTH(DATE(YEAR(B36),MONTH(B36),DAY(B36))) -> 5 | B36: 43586 | C36: 36600 | D36: 8799 | E36: 2323 | F36: 430 | G36: 1920 | H36: 470 | I36: 1040
A37: =MONTH(DATE(YEAR(B37),MONTH(B37),DAY(B37))) -> 5 | B37: 43952 | C37: 16200 | D37: 4265 | E37: 2047 | F37: 294 | G37: 840 | H37: 220 | I37: 330
A38: =MONTH(DATE(YEAR(B38),MONTH(B38),DAY(B38))) -> 5 | B38: 44317 | C38: 24000 | D38: 2410 | E38: 2440 | F38: 320 | G38: 1110 | H38: 250 | I38: 630
A39: =MONTH(DATE(YEAR(B39),MONTH(B39),DAY(B39))) -> 5 | B39: 44682 | C39: 22200 | D39: 3116 | E39: 2901 | F39: 498 | G39: 1280 | H39: 340 | I39: 480
A40: =MONTH(DATE(YEAR(B40),MONTH(B40),DAY(B40))) -> 5 | B40: 45047 | C40: 28200 | D40: 2179 | E40: 2499 | F40: 431 | G40: 1010 | H40: 240 | I40: 550
A41: =MONTH(DATE(YEAR(B41),MONTH(B41),DAY(B41))) -> 5 | B41: 45413 | C41: 34500 | D41: 2744 | E41: 3931 | F41: 550 | G41: 1310 | H41: 370 | I41: 590
C42: =_xlfn.FORECAST.ETS(DATE(2025,1,1),C$35:C$41,$B$35:$B$41,1,1)+_xlfn.FORECAST.ETS.CONFINT(DATE(2025,1,1),C$35:C$41,$B$35:$B$41,$A$1,1) -> 38984.572 | D42: =_xlfn.FORECAST.ETS(DATE(2025,1,1),D$35:D$41,$B$35:$B$41,1,1)+_xlfn.FORECAST.ETS.CONFINT(DATE(2025,1,1),D$35:D$41,$B$35:$B$41,$A$1,1) -> 2455.5588 | E42: =_xlfn.FORECAST.ETS(DATE(2025,1,1),E$35:E$41,$B$35:$B$41,1,1)+_xlfn.FORECAST.ETS.CONFINT(DATE(2025,1,1),E$35:E$41,$B$35:$B$41,$A$1,1) -> 4424.0354 | F42: =_xlfn.FORECAST.ETS(DATE(2025,1,1),F$35:F$41,$B$35:$B$41,1,1)+_xlfn.FORECAST.ETS.CONFINT(DATE(2025,1,1),F$35:F$41,$B$35:$B$41,$A$1,1) -> 762.75592 | G42: =_xlfn.FORECAST.ETS(DATE(2025,1,1),G$35:G$41,$B$35:$B$41,1,1)+_xlfn.FORECAST.ETS.CONFINT(DATE(2025,1,1),G$35:G$41,$B$35:$B$41,$A$1,1) -> 1562.4136 | H42: =_xlfn.FORECAST.ETS(DATE(2025,1,1),H$35:H$41,$B$35:$B$41,1,1)+_xlfn.FORECAST.ETS.CONFINT(DATE(2025,1,1),H$35:H$41,$B$35:$B$41,$A$1,1) -> 406.58173 | I42: =_xlfn.FORECAST.ETS(DATE(2025,1,1),I$35:I$41,$B$35:$B$41,1,1)+_xlfn.FORECAST.ETS.CONFINT(DATE(2025,1,1),I$35:I$41,$B$35:$B$41,$A$1,1) -> 960.49364
A43: =MONTH(DATE(YEAR(B43),MONTH(B43),DAY(B43))) -> 6 | B43: 43252 | C43: 32100 | D43: 6580 | F43: 587 | G43: 1960 | H43: 470
A44: =MONTH(DATE(YEAR(B44),MONTH(B44),DAY(B44))) -> 6 | B44: 43617 | C44: 28800 | D44: 6494 | E44: 2273 | F44: 384 | G44: 1450 | H44: 340 | I44: 870
A45: =MONTH(DATE(YEAR(B45),MONTH(B45),DAY(B45))) -> 6 | B45: 43983 | C45: 17400 | D45: 4297 | E45: 1812 | F45: 330 | G45: 800 | H45: 200 | I45: 300
A46: =MONTH(DATE(YEAR(B46),MONTH(B46),DAY(B46))) -> 6 | B46: 44348 | C46: 21600 | D46: 2471 | E46: 2808 | F46: 285 | G46: 1180 | H46: 290 | I46: 600
A47: =MONTH(DATE(YEAR(B47),MONTH(B47),DAY(B47))) -> 6 | B47: 44713 | C47: 22200 | D47: 3127 | E47: 2085 | F47: 526 | G47: 1270 | H47: 290 | I47: 460
A48: =MONTH(DATE(YEAR(B48),MONTH(B48),DAY(B48))) -> 6 | B48: 45078 | C48: 25500 | D48: 4549 | E48: 2835 | F48: 420.75 | G48: 1200 | H48: 270 | I48: 520
A49: =MONTH(DATE(YEAR(B49),MONTH(B49),DAY(B49))) -> 6 | B49: 45444 | E49: 4216 | H49: 280
C50: =_xlfn.FORECAST.ETS(DATE(2025,1,1),C$43:C$49,$B$43:$B$49,1,1)+_xlfn.FORECAST.ETS.CONFINT(DATE(2025,1,1),C$43:C$49,$B$43:$B$49,$A$1,1) -> 33853.971 | D50: =_xlfn.FORECAST.ETS(DATE(2025,1,1),D$43:D$49,$B$43:$B$49,1,1)+_xlfn.FORECAST.ETS.CONFINT(DATE(2025,1,1),D$43:D$49,$B$43:$B$49,$A$1,1) -> 4720.0714 | E50: =_xlfn.FORECAST.ETS(DATE(2025,1,1),E$43:E$49,$B$43:$B$49,1,1)+_xlfn.FORECAST.ETS.CONFINT(DATE(2025,1,1),E$43:E$49,$B$43:$B$49,$A$1,1) -> 4832.2701 | F50: =_xlfn.FORECAST.ETS(DATE(2025,1,1),F$43:F$49,$B$43:$B$49,1,1)+_xlfn.FORECAST.ETS.CONFINT(DATE(2025,1,1),F$43:F$49,$B$43:$B$49,$A$1,1) -> 692.38984 | G50: =_xlfn.FORECAST.ETS(DATE(2025,1,1),G$43:G$49,$B$43:$B$49,1,1)+_xlfn.FORECAST.ETS.CONFINT(DATE(2025,1,1),G$43:G$49,$B$43:$B$49,$A$1,1) -> 1795.8282 | H50: =_xlfn.FORECAST.ETS(DATE(2025,1,1),H$43:H$49,$B$43:$B$49,1,1)+_xlfn.FORECAST.ETS.CONFINT(DATE(2025,1,1),H$43:H$49,$B$43:$B$49,$A$1,1) -> 359.14893 | I50: =_xlfn.FORECAST.ETS(DATE(2025,1,1),I$43:I$49,$B$43:$B$49,1,1)+_xlfn.FORECAST.ETS.CONFINT(DATE(2025,1,1),I$43:I$49,$B$43:$B$49,$A$1,1) -> 823.68012
A51: =MONTH(DATE(YEAR(B51),MONTH(B51),DAY(B51))) -> 7 | B51: 43282 | C51: 31500 | D51: 6523 | F51: 577 | G51: 1830 | H51: 660
A52: =MONTH(DATE(YEAR(B52),MONTH(B52),DAY(B52))) -> 7 | B52: 43647 | C52: 30000 | D52: 7458 | E52: 1942 | F52: 452 | G52: 1680 | H52: 410 | I52: 910
A53: =MONTH(DATE(YEAR(B53),MONTH(B53),DAY(B53))) -> 7 | B53: 44013 | C53: 18900 | D53: 4439 | E53: 1914 | F53: 407 | G53: 890 | H53: 220 | I53: 310
A54: =MONTH(DATE(YEAR(B54),MONTH(B54),DAY(B54))) -> 7 | B54: 44378 | C54: 24900 | D54: 2426 | E54: 4361 | F54: 268 | G54: 1230 | H54: 310 | I54: 680
A55: =MONTH(DATE(YEAR(B55),MONTH(B55),DAY(B55))) -> 7 | B55: 44743 | C55: 22500 | D55: 2863 | E55: 3519 | F55: 429 | G55: 1030 | H55: 240 | I55: 560
A56: =MONTH(DATE(YEAR(B56),MONTH(B56),DAY(B56))) -> 7 | B56: 45108 | C56: 27900 | D56: 2051 | E56: 9636 | F56: 1 | G56: 1130 | H56: 290 | I56: 510
A57: =MONTH(DATE(YEAR(B57),MONTH(B57),DAY(B57))) -> 7 | B57: 45474 | H57: 290
C58: =_xlfn.FORECAST.ETS(DATE(2025,1,1),C$51:C$57,$B$51:$B$57,1,1)+_xlfn.FORECAST.ETS.CONFINT(DATE(2025,1,1),C$51:C$57,$B$51:$B$57,$A$1,1) -> 32354.216 | D58: =_xlfn.FORECAST.ETS(DATE(2025,1,1),D$51:D$57,$B$51:$B$57,1,1)+_xlfn.FORECAST.ETS.CONFINT(DATE(2025,1,1),D$51:D$57,$B$51:$B$57,$A$1,1) -> 1759.1086 | E58: =_xlfn.FORECAST.ETS(DATE(2025,1,1),E$51:E$57,$B$51:$B$57,1,1)+_xlfn.FORECAST.ETS.CONFINT(DATE(2025,1,1),E$51:E$57,$B$51:$B$57,$A$1,1) -> 13883.142 | F58: =_xlfn.FORECAST.ETS(DATE(2025,1,1),F$51:F$57,$B$51:$B$57,1,1)+_xlfn.FORECAST.ETS.CONFINT(DATE(2025,1,1),F$51:F$57,$B$51:$B$57,$A$1,1) -> 163.56933 | G58: =_xlfn.FORECAST.ETS(DATE(2025,1,1),G$51:G$57,$B$51:$B$57,1,1)+_xlfn.FORECAST.ETS.CONFINT(DATE(2025,1,1),G$51:G$57,$B$51:$B$57,$A$1,1) -> 1301.5431 | H58: =_xlfn.FORECAST.ETS(DATE(2025,1,1),H$51:H$57,$B$51:$B$57,1,1)+_xlfn.FORECAST.ETS.CONFINT(DATE(2025,1,1),H$51:H$57,$B$51:$B$57,$A$1,1) -> 396.29785 | I58: =_xlfn.FORECAST.ETS(DATE(2025,1,1),I$51:I$57,$B$51:$B$57,1,1)+_xlfn.FORECAST.ETS.CONFINT(DATE(2025,1,1),I$51:I$57,$B$51:$B$57,$A$1,1) -> 1003.5495
A59: =MONTH(DATE(YEAR(B59),MONTH(B59),DAY(B59))) -> 8 | B59: 43313 | C59: 36000 | D59: 7866 | F59: 561 | G59: 2320 | H59: 1020
A60: =MONTH(DATE(YEAR(B60),MONTH(B60),DAY(B60))) -> 8 | B60: 43678 | C60: 35700 | D60: 8034 | E60: 460 | F60: 452 | G60: 1860 | H60: 440 | I60: 910
A61: =MONTH(DATE(YEAR(B61),MONTH(B61),DAY(B61))) -> 8 | B61: 44044 | C61: 18600 | D61: 3668 | E61: 2186 | F61: 368 | G61: 830 | H61: 210 | I61: 250
A62: =MONTH(DATE(YEAR(B62),MONTH(B62),DAY(B62))) -> 8 | B62: 44409 | C62: 29400 | D62: 2634 | E62: 3972 | F62: 544 | G62: 1340 | H62: 300 | I62: 610
A63: =MONTH(DATE(YEAR(B63),MONTH(B63),DAY(B63))) -> 8 | B63: 44774 | C63: 28200 | D63: 3371 | E63: 2785 | F63: 484 | G63: 1050 | H63: 240 | I63: 520
A64: =MONTH(DATE(YEAR(B64),MONTH(B64),DAY(B64))) -> 8 | B64: 45139 | C64: 33900 | D64: 1945 | E64: 2690 | F64: 1088 | G64: 1260 | H64: 350 | I64: 570
A65: =MONTH(DATE(YEAR(B65),MONTH(B65),DAY(B65))) -> 8 | B65: 45505
C66: =_xlfn.FORECAST.ETS(DATE(2025,1,1),C$59:C$65,$B$59:$B$65,1,1)+_xlfn.FORECAST.ETS.CONFINT(DATE(2025,1,1),C$59:C$65,$B$59:$B$65,$A$1,1) -> 42513.633 | D66: =_xlfn.FORECAST.ETS(DATE(2025,1,1),D$59:D$65,$B$59:$B$65,1,1)+_xlfn.FORECAST.ETS.CONFINT(DATE(2025,1,1),D$59:D$65,$B$59:$B$65,$A$1,1) -> 1567.7258 | E66: =_xlfn.FORECAST.ETS(DATE(2025,1,1),E$59:E$65,$B$59:$B$65,1,1)+_xlfn.FORECAST.ETS.CONFINT(DATE(2025,1,1),E$59:E$65,$B$59:$B$65,$A$1,1) -> 5723.1182 | F66: =_xlfn.FORECAST.ETS(DATE(2025,1,1),F$59:F$65,$B$59:$B$65,1,1)+_xlfn.FORECAST.ETS.CONFINT(DATE(2025,1,1),F$59:F$65,$B$59:$B$65,$A$1,1) -> 1554.6367 | G66: =_xlfn.FORECAST.ETS(DATE(2025,1,1),G$59:G$65,$B$59:$B$65,1,1)+_xlfn.FORECAST.ETS.CONFINT(DATE(2025,1,1),G$59:G$65,$B$59:$B$65,$A$1,1) -> 1634.001 | H66: =_xlfn.FORECAST.ETS(DATE(2025,1,1),H$59:H$65,$B$59:$B$65,1,1)+_xlfn.FORECAST.ETS.CONFINT(DATE(2025,1,1),H$59:H$65,$B$59:$B$65,$A$1,1) -> 684.70203 | I66: =_xlfn.FORECAST.ETS(DATE(2025,1,1),I$59:I$65,$B$59:$B$65,1,1)+_xlfn.FORECAST.ETS.CONFINT(DATE(2025,1,1),I$59:I$65,$B$59:$B$65,$A$1,1) -> 961.43821
A67: =MONTH(DATE(YEAR(B67),MONTH(B67),DAY(B67))) -> 9 | B67: 43344 | C67: 43500 | D67: 8604 | F67: 466 | G67: 2430 | H67: 1110
A68: =MONTH(DATE(YEAR(B68),MONTH(B68),DAY(B68))) -> 9 | B68: 43709 | C68: 36000 | D68: 0 | E68: 2606 | F68: 485 | G68: 2030 | H68: 540 | I68: 840
A69: =MONTH(DATE(YEAR(B69),MONTH(B69),DAY(B69))) -> 9 | B69: 44075 | C69: 23400 | D69: 3669 | E69: 7163 | F69: 428 | G69: 1370 | H69: 290 | I69: 660
A70: =MONTH(DATE(YEAR(B70),MONTH(B70),DAY(B70))) -> 9 | B70: 44440 | C70: 32100 | D70: 2518 | E70: 3002 | F70: 370 | G70: 1790 | H70: 320 | I70: 730
A71: =MONTH(DATE(YEAR(B71),MONTH(B71),DAY(B71))) -> 9 | B71: 44805 | C71: 28500 | D71: 2595 | E71: 3071 | F71: 523 | G71: 1290 | H71: 290 | I71: 590
A72: =MONTH(DATE(YEAR(B72),MONTH(B72),DAY(B72))) -> 9 | B72: 45170 | C72: 36900 | D72: 2317 | E72: 5453 | G72: 1580 | H72: 580 | I72: 640
A73: =MONTH(DATE(YEAR(B73),MONTH(B73),DAY(B73))) -> 9 | B73: 45536
C74: =_xlfn.FORECAST.ETS(DATE(2025,1,1),C$67:C$73,$B$67:$B$73,1,1)+_xlfn.FORECAST.ETS.CONFINT(DATE(2025,1,1),C$67:C$73,$B$67:$B$73,$A$1,1) -> 47549.413 | D74: =_xlfn.FORECAST.ETS(DATE(2025,1,1),D$67:D$73,$B$67:$B$73,1,1)+_xlfn.FORECAST.ETS.CONFINT(DATE(2025,1,1),D$67:D$73,$B$67:$B$73,$A$1,1) -> 7677.2149 | E74: =_xlfn.FORECAST.ETS(DATE(2025,1,1),E$67:E$73,$B$67:$B$73,1,1)+_xlfn.FORECAST.ETS.CONFINT(DATE(2025,1,1),E$67:E$73,$B$67:$B$73,$A$1,1) -> 7055.865 | F74: =_xlfn.FORECAST.ETS(DATE(2025,1,1),F$67:F$73,$B$67:$B$73,1,1)+_xlfn.FORECAST.ETS.CONFINT(DATE(2025,1,1),F$67:F$73,$B$67:$B$73,$A$1,1) -> 577.63339 | G74: =_xlfn.FORECAST.ETS(DATE(2025,1,1),G$67:G$73,$B$67:$B$73,1,1)+_xlfn.FORECAST.ETS.CONFINT(DATE(2025,1,1),G$67:G$73,$B$67:$B$73,$A$1,1) -> 1804.9177 | H74: =_xlfn.FORECAST.ETS(DATE(2025,1,1),H$67:H$73,$B$67:$B$73,1,1)+_xlfn.FORECAST.ETS.CONFINT(DATE(2025,1,1),H$67:H$73,$B$67:$B$73,$A$1,1) -> 973.34341 | I74: =_xlfn.FORECAST.ETS(DATE(2025,1,1),I$67:I$73,$B$67:$B$73,1,1)+_xlfn.FORECAST.ETS.CONFINT(DATE(2025,1,1),I$67:I$73,$B$67:$B$73,$A$1,1) -> 545.07534
A75: =MONTH(DATE(YEAR(B75),MONTH(B75),DAY(B75))) -> 10 | B75: 43374 | C75: 36900 | D75: 9411 | F75: 462 | G75: 2460 | H75: 1100
A76: =MONTH(DATE(YEAR(B76),MONTH(B76),DAY(B76))) -> 10 | B76: 43739 | C76: 62400 | D76: 19964 | E76: 2626 | F76: 451 | G76: 2540 | H76: 570 | I76: 910
A77: =MONTH(DATE(YEAR(B77),MONTH(B77),DAY(B77))) -> 10 | B77: 44105 | C77: 25800 | D77: 3652 | E77: 7027 | F77: 411 | G77: 1460 | H77: 330 | I77: 690
A78: =MONTH(DATE(YEAR(B78),MONTH(B78),DAY(B78))) -> 10 | B78: 44470 | C78: 26400 | D78: 2237 | E78: 6396 | F78: 372 | G78: 720 | H78: 420 | I78: 710
A79: =MONTH(DATE(YEAR(B79),MONTH(B79),DAY(B79))) -> 10 | B79: 44835 | C79: 28500 | D79: 2131 | E79: 6927 | F79: 471 | G79: 1320 | H79: 390 | I79: 620
A80: =MONTH(DATE(YEAR(B80),MONTH(B80),DAY(B80))) -> 10 | B80: 45200 | C80: 38700 | D80: 3673 | E80: 3901 | F80: 624 | G80: 1530 | H80: 830 | I80: 600
A81: =MONTH(DATE(YEAR(B81),MONTH(B81),DAY(B81))) -> 10 | B81: 45566
C82: =_xlfn.FORECAST.ETS(DATE(2025,1,1),C$75:C$81,$B$75:$B$81,1,1)+_xlfn.FORECAST.ETS.CONFINT(DATE(2025,1,1),C$75:C$81,$B$75:$B$81,$A$1,1) -> 36998.085 | D82: =_xlfn.FORECAST.ETS(DATE(2025,1,1),D$75:D$81,$B$75:$B$81,1,1)+_xlfn.FORECAST.ETS.CONFINT(DATE(2025,1,1),D$75:D$81,$B$75:$B$81,$A$1,1) -> 1082.5077 | E82: =_xlfn.FORECAST.ETS(DATE(2025,1,1),E$75:E$81,$B$75:$B$81,1,1)+_xlfn.FORECAST.ETS.CONFINT(DATE(2025,1,1),E$75:E$81,$B$75:$B$81,$A$1,1) -> 9419.9061 | F82: =_xlfn.FORECAST.ETS(DATE(2025,1,1),F$75:F$81,$B$75:$B$81,1,1)+_xlfn.FORECAST.ETS.CONFINT(DATE(2025,1,1),F$75:F$81,$B$75:$B$81,$A$1,1) -> 783.19362 | G82: =_xlfn.FORECAST.ETS(DATE(2025,1,1),G$75:G$81,$B$75:$B$81,1,1)+_xlfn.FORECAST.ETS.CONFINT(DATE(2025,1,1),G$75:G$81,$B$75:$B$81,$A$1,1) -> 1755.0326 | H82: =_xlfn.FORECAST.ETS(DATE(2025,1,1),H$75:H$81,$B$75:$B$81,1,1)+_xlfn.FORECAST.ETS.CONFINT(DATE(2025,1,1),H$75:H$81,$B$75:$B$81,$A$1,1) -> 1318.502 | I82: =_xlfn.FORECAST.ETS(DATE(2025,1,1),I$75:I$81,$B$75:$B$81,1,1)+_xlfn.FORECAST.ETS.CONFINT(DATE(2025,1,1),I$75:I$81,$B$75:$B$81,$A$1,1) -> 572.90908
A83: =MONTH(DATE(YEAR(B83),MONTH(B83),DAY(B83))) -> 11 | B83: 43405 | C83: 33000 | D83: 7009 | F83: 385 | G83: 1970 | H83: 810
A84: =MONTH(DATE(YEAR(B84),MONTH(B84),DAY(B84))) -> 11 | B84: 43770 | C84: 36300 | D84: 8206 | E84: 2948 | F84: 383 | G84: 1940 | H84: 490 | I84: 760
A85: =MONTH(DATE(YEAR(B85),MONTH(B85),DAY(B85))) -> 11 | B85: 44136 | C85: 26100 | D85: 3281 | E85: 6859 | F85: 100 | G85: 1100 | H85: 270 | I85: 650
A86: =MONTH(DATE(YEAR(B86),MONTH(B86),DAY(B86))) -> 11 | B86: 44501 | C86: 28200 | D86: 3757 | E86: 4957 | F86: 541 | G86: 2540 | H86: 390 | I86: 650
A87: =MONTH(DATE(YEAR(B87),MONTH(B87),DAY(B87))) -> 11 | B87: 44866 | C87: 25800 | D87: 2098 | E87: 5608 | F87: 523 | G87: 1090 | H87: 260 | I87: 530
A88: =MONTH(DATE(YEAR(B88),MONTH(B88),DAY(B88))) -> 11 | B88: 45231 | C88: 39900 | D88: 3359 | E88: 4659 | F88: 572 | G88: 1530 | H88: 820 | I88: 800
A89: =MONTH(DATE(YEAR(B89),MONTH(B89),DAY(B89))) -> 11 | B89: 45597
C90: =_xlfn.FORECAST.ETS(DATE(2025,1,1),C$83:C$89,$B$83:$B$89,1,1)+_xlfn.FORECAST.ETS.CONFINT(DATE(2025,1,1),C$83:C$89,$B$83:$B$89,$A$1,1) -> 44533.284 | D90: =_xlfn.FORECAST.ETS(DATE(2025,1,1),D$83:D$89,$B$83:$B$89,1,1)+_xlfn.FORECAST.ETS.CONFINT(DATE(2025,1,1),D$83:D$89,$B$83:$B$89,$A$1,1) -> 1501.6023 | E90: =_xlfn.FORECAST.ETS(DATE(2025,1,1),E$83:E$89,$B$83:$B$89,1,1)+_xlfn.FORECAST.ETS.CONFINT(DATE(2025,1,1),E$83:E$89,$B$83:$B$89,$A$1,1) -> 8103.7291 | F90: =_xlfn.FORECAST.ETS(DATE(2025,1,1),F$83:F$89,$B$83:$B$89,1,1)+_xlfn.FORECAST.ETS.CONFINT(DATE(2025,1,1),F$83:F$89,$B$83:$B$89,$A$1,1) -> 936.01446 | G90: =_xlfn.FORECAST.ETS(DATE(2025,1,1),G$83:G$89,$B$83:$B$89,1,1)+_xlfn.FORECAST.ETS.CONFINT(DATE(2025,1,1),G$83:G$89,$B$83:$B$89,$A$1,1) -> 1778.6631 | H90: =_xlfn.FORECAST.ETS(DATE(2025,1,1),H$83:H$89,$B$83:$B$89,1,1)+_xlfn.FORECAST.ETS.CONFINT(DATE(2025,1,1),H$83:H$89,$B$83:$B$89,$A$1,1) -> 1201.2032 | I90: =_xlfn.FORECAST.ETS(DATE(2025,1,1),I$83:I$89,$B$83:$B$89,1,1)+_xlfn.FORECAST.ETS.CONFINT(DATE(2025,1,1),I$83:I$89,$B$83:$B$89,$A$1,1) -> 901.2843
A91: =MONTH(DATE(YEAR(B91),MONTH(B91),DAY(B91))) -> 12 | B91: 43435 | C91: 31500 | D91: 7736 | F91: 413 | G91: 1870 | H91: 510
A92: =MONTH(DATE(YEAR(B92),MONTH(B92),DAY(B92))) -> 12 | B92: 43800 | C92: 33600 | D92: 8762 | E92: 2373 | F92: 723 | G92: 1840 | H92: 510 | I92: 630
A93: =MONTH(DATE(YEAR(B93),MONTH(B93),DAY(B93))) -> 12 | B93: 44166 | C93: 32100 | D93: 4144 | E93: 6821 | F93: 717 | G93: 1320 | H93: 310 | I93: 730
A94: =MONTH(DATE(YEAR(B94),MONTH(B94),DAY(B94))) -> 12 | B94: 44531 | C94: 26100 | D94: 3531 | E94: 6136 | F94: 586 | G94: 1210 | H94: 320 | I94: 590
A95: =MONTH(DATE(YEAR(B95),MONTH(B95),DAY(B95))) -> 12 | B95: 44896 | C95: 23700 | D95: 1984 | E95: 4631 | F95: 374 | G95: 1030 | H95: 260 | I95: 560
A96: =MONTH(DATE(YEAR(B96),MONTH(B96),DAY(B96))) -> 12 | B96: 45261 | C96: 27600 | D96: 2939 | E96: 6110 | F96: 539 | G96: 1290 | H96: 630 | I96: 640
A97: =MONTH(DATE(YEAR(B97),MONTH(B97),DAY(B97))) -> 12 | B97: 45627
C98: =_xlfn.FORECAST.ETS(DATE(2025,1,1),C$91:C$97,$B$91:$B$97,1,1)+_xlfn.FORECAST.ETS.CONFINT(DATE(2025,1,1),C$91:C$97,$B$91:$B$97,$A$1,1) -> 26766.15 | D98: =_xlfn.FORECAST.ETS(DATE(2025,1,1),D$91:D$97,$B$91:$B$97,1,1)+_xlfn.FORECAST.ETS.CONFINT(DATE(2025,1,1),D$91:D$97,$B$91:$B$97,$A$1,1) -> 736.83071 | E98: =_xlfn.FORECAST.ETS(DATE(2025,1,1),E$91:E$97,$B$91:$B$97,1,1)+_xlfn.FORECAST.ETS.CONFINT(DATE(2025,1,1),E$91:E$97,$B$91:$B$97,$A$1,1) -> 9540.172 | F98: =_xlfn.FORECAST.ETS(DATE(2025,1,1),F$91:F$97,$B$91:$B$97,1,1)+_xlfn.FORECAST.ETS.CONFINT(DATE(2025,1,1),F$91:F$97,$B$91:$B$97,$A$1,1) -> 768.64658 | G98: =_xlfn.FORECAST.ETS(DATE(2025,1,1),G$91:G$97,$B$91:$B$97,1,1)+_xlfn.FORECAST.ETS.CONFINT(DATE(2025,1,1),G$91:G$97,$B$91:$B$97,$A$1,1) -> 1264.535 | H98: =_xlfn.FORECAST.ETS(DATE(2025,1,1),H$91:H$97,$B$91:$B$97,1,1)+_xlfn.FORECAST.ETS.CONFINT(DATE(2025,1,1),H$91:H$97,$B$91:$B$97,$A$1,1) -> 720.36693 | I98: =_xlfn.FORECAST.ETS(DATE(2025,1,1),I$91:I$97,$B$91:$B$97,1,1)+_xlfn.FORECAST.ETS.CONFINT(DATE(2025,1,1),I$91:I$97,$B$91:$B$97,$A$1,1) -> 660.46257
C103: Ed. Alvorada | D103: Ed. Garagem | E103: Galpão RFB SIA Trecho 6 | F103: Depósito SGMN SUCAD | G103: Galpão SGON | H103: Galpão SIG | I103: Depósito SAAN
B104: 45658 | C104: =C10 -> 33195.826 | D104: =D10 -> 2809.044 | E104: =E10 -> 5941.3382 | F104: =F10 -> 807.4395 | G104: =G10 -> 1341.0961 | H104: =H10 -> 638.49813 | I104: =I10 -> 950.81421
...

Sheet Histórico Tarifas - Grupo A
D1: HISTÓRICO DE FATURAMENTO | J1: VERDE SUBGRUPO AS | Q1: ESTIMATIVA DE TRIBUTOS E ENCARGOS %
A2: 0.95 | B2: Data Referência | C2: Mês | D2: Tarifa Demanda (R$/kW) | E2: Tarifa Ponta - P (R$/kWh) | F2: Tarifa Fora Ponta - FP (R$/kWh) | G2: Tarifa EREX P/FP (R$/UFER) | H2: Contribuição de Iluminação Pública - CIP | J2: TUSD R$/kW | K2: TUSD R$/kWh P | L2: TUSD R$/kWh FP | M2: TE R$/kWh P | N2: TE R$/kWh FP | O2: RESOLUÇÃO HOMOLOGATÓRIA ANEEL | P2: VIGÊNCIA | Q2: Tarifa Demanda (R$/kW) | R2: Tarifa Ponta - P (R$/kWh) | S2: Tarifa Fora Ponta - FP (R$/kWh) | T2: MÉDIA | U2: VALOR MÁXIMO
B3: 43101 | C3: =MONTH(DATE(YEAR(B3),MONTH(B3),DAY(B3))) -> 1 | D3: 16.610351 | E3: 2.0592107 | F3: 0.4847009 | G3: 0.38520795 | H3: 702.62 | J3: 12.29 | K3: 1.07572 | L3: 0.06646 | M3: 0.4266 | N3: 0.27088 | O3: 2.316/17 | P3: 22/10/17 a 21/10/18 | Q3: =IFERROR(1-J3/D3,"") -> 0.26009991 | R3: =IFERROR(1-(K3+M3)/E3,"") -> 0.27043891 | S3: =IFERROR(1-(L3+N3)/F3,"") -> 0.3040244 | T3: =IFERROR(AVERAGE(Q3:S3),"") -> 0.27818774 | U3: =IFERROR(LARGE(Q3:S3,1),"") -> 0.3040244
B4: 43466 | C4: =MONTH(DATE(YEAR(B4),MONTH(B4),DAY(B4))) -> 1 | D4: 15.785065 | E4: 2.2377527 | F4: 0.5768317 | G4: 0.4592035 | H4: 716.25 | J4: 11.31 | K4: 1.1124 | L4: 0.10686 | M4: 0.49095 | N4: 0.30644 | O4: 2.471/18 | P4: 22/10/18 a 21/10/19 | Q4: =IFERROR(1-J4/D4,"") -> 0.28349994 | R4: =IFERROR(1-(K4+M4)/E4,"") -> 0.28349991 | S4: =IFERROR(1-(L4+N4)/F4,"") -> 0.28349985 | T4: =IFERROR(AVERAGE(Q4:S4),"") -> 0.2834999 | U4: =IFERROR(LARGE(Q4:S4,1),"") -> 0.28349994
B5: 43831 | C5: =MONTH(DATE(YEAR(B5),MONTH(B5),DAY(B5))) -> 1 | D5: 17.140455 | E5: 2.2610663 | F5: 0.5254553 | G5: 0.3793865 | H5: 766.75 | J5: 12.24 | K5: 1.17466 | L5: 0.10975 | M5: 0.43087 | N5: 0.25638 | O5: 2.625/19 | P5: 22/10/19 a 21/10/20 | Q5: =IFERROR(1-J5/D5,"") -> 0.28589993 | R5: =IFERROR(1-(K5+M5)/E5,"") -> 0.28992352 | S5: =IFERROR(1-(L5+N5)/F5,"") -> 0.3032138 | T5: =IFERROR(AVERAGE(Q5:S5),"") -> 0.29301242 | U5: =IFERROR(LARGE(Q5:S5,1),"") -> 0.3032138
B6: 44197 | C6: =MONTH(DATE(YEAR(B6),MONTH(B6),DAY(B6))) -> 1 | D6: 21.677277 | E6: 2.2959894 | F6: 0.4839993 | G6: 0.3291015 | H6: 766.75 | J6: 16 | K6: 1.30555 | L6: 0.11298 | M6: 0.37569 | N6: 0.23083 | O6: 2.789/20 | P6: 22/10/20 a 21/10/21 | Q6: =IFERROR(1-J6/D6,"") -> 0.26189993 | R6: =IFERROR(1-(K6+M6)/E6,"") -> 0.26774923 | S6: =IFERROR(1-(L6+N6)/F6,"") -> 0.28964773 | T6: =IFERROR(AVERAGE(Q6:S6),"") -> 0.27309896 | U6: =IFERROR(LARGE(Q6:S6,1),"") -> 0.28964773
B7: 44562 | C7: =MONTH(DATE(YEAR(B7),MONTH(B7),DAY(B7))) -> 1 | D7: 15.823658 | E7: 2.6204944 | F7: 0.768007 | G7: 0.4185874 | H7: 895.03 | J7: 11.45 | K7: 1.2948 | L7: 0.12507 | M7: 0.45939 | N7: 0.28866 | O7: 2.965/21 | P7: 22/10/21 a 21/10/22 | Q7: =IFERROR(1-J7/D7,"") -> 0.27639994 | R7: =IFERROR(1-(K7+M7)/E7,"") -> 0.33058815 | S7: =IFERROR(1-(L7+N7)/F7,"") -> 0.46129397 | T7: =IFERROR(AVERAGE(Q7:S7),"") -> 0.35609402 | U7: =IFERROR(LARGE(Q7:S7,1),"") -> 0.46129397
B8: 44927 | C8: =MONTH(DATE(YEAR(B8),MONTH(B8),DAY(B8))) -> 1 | D8: 15.898351 | E8: 2.4730172 | F8: 0.6753542 | G8: 0.4508108 | H8: 948.46 | J8: 12.45 | K8: 1.39354 | L8: 0.19312 | M8: 0.54308 | N8: 0.33575 | O8: 3.134/22 | P8: 03/11/22 a 21/10/23 | Q8: =IFERROR(1-J8/D8,"") -> 0.21689992 | R8: =IFERROR(1-(K8+M8)/E8,"") -> 0.21689991 | S8: =IFERROR(1-(L8+N8)/F8,"") -> 0.21689981 | T8: =IFERROR(AVERAGE(Q8:S8),"") -> 0.21689988 | U8: =IFERROR(LARGE(Q8:S8,1),"") -> 0.21689992
B9: 45292 | C9: =MONTH(DATE(YEAR(B9),MONTH(B9),DAY(B9))) -> 1 | D9: 18.938222 | E9: 2.7730086 | F9: 0.7285731 | G9: 0 | H9: 948.46 | J9: 14.84 | K9: 1.55124 | L9: 0.17694 | M9: 0.62169 | N9: 0.39397 | O9: 3.276/23 | P9: 22/10/23 a 21/10/24 | Q9: =IFERROR(1-J9/D9,"") -> 0.21639952 | R9: =IFERROR(1-(K9+M9)/E9,"") -> 0.21639983 | S9: =IFERROR(1-(L9+N9)/F9,"") -> 0.21639984 | T9: =IFERROR(AVERAGE(Q9:S9),"") -> 0.21639973 | U9: =IFERROR(LARGE(Q9:S9,1),"") -> 0.21639984
B10: 45658 | C10: =MONTH(DATE(YEAR(B10),MONTH(B10),DAY(B10))) -> 1 | D10: =_xlfn.FORECAST.ETS(DATE(2025,1,1),D$3:D$9,$B$3:$B$9,1,1)+_xlfn.FORECAST.ETS.CONFINT(DATE(2025,1,1),D$3:D$9,$B$3:$B$9,$A$2,1) -> 21.992285 | E10: =_xlfn.FORECAST.ETS(DATE(2025,1,1),E$3:E$9,$B$3:$B$9,1,1)+_xlfn.FORECAST.ETS.CONFINT(DATE(2025,1,1),E$3:E$9,$B$3:$B$9,$A$2,1) -> 2.8670212 | F10: =_xlfn.FORECAST.ETS(DATE(2025,1,1),F$3:F$9,$B$3:$B$9,1,1)+_xlfn.FORECAST.ETS.CONFINT(DATE(2025,1,1),F$3:F$9,$B$3:$B$9,$A$2,1) -> 0.91440595 | G10: =_xlfn.FORECAST.ETS(DATE(2025,1,1),G$3:G$9,$B$3:$B$9,1,1)+_xlfn.FORECAST.ETS.CONFINT(DATE(2025,1,1),G$3:G$9,$B$3:$B$9,$A$2,1) -> 0.43203034 | H10: =_xlfn.FORECAST.ETS(DATE(2025,1,1),H$3:H$9,$B$3:$B$9,1,1)+_xlfn.FORECAST.ETS.CONFINT(DATE(2025,1,1),H$3:H$9,$B$3:$B$9,$A$2,1) -> 1082.1096 | J10: =_xlfn.FORECAST.ETS(DATE(2025,1,1),J$3:J$9,$B$3:$B$9,1,1)+_xlfn.FORECAST.ETS.CONFINT(DATE(2025,1,1),J$3:J$9,$B$3:$B$9,$A$2,1) -> 17.597991 | K10: =_xlfn.FORECAST.ETS(DATE(2025,1,1),K$3:K$9,$B$3:$B$9,1,1)+_xlfn.FORECAST.ETS.CONFINT(DATE(2025,1,1),K$3:K$9,$B$3:$B$9,$A$2,1) -> 1.6645837 | L10: =_xlfn.FORECAST.ETS(DATE(2025,1,1),L$3:L$9,$B$3:$B$9,1,1)+_xlfn.FORECAST.ETS.CONFINT(DATE(2025,1,1),L$3:L$9,$B$3:$B$9,$A$2,1) -> 0.22956905 | M10: =_xlfn.FORECAST.ETS(DATE(2025,1,1),M$3:M$9,$B$3:$B$9,1,1)+_xlfn.FORECAST.ETS.CONFINT(DATE(2025,1,1),M$3:M$9,$B$3:$B$9,$A$2,1) -> 0.76099023 | N10: =_xlfn.FORECAST.ETS(DATE(2025,1,1),N$3:N$9,$B$3:$B$9,1,1)+_xlfn.FORECAST.ETS.CONFINT(DATE(2025,1,1),N$3:N$9,$B$3:$B$9,$A$2,1) -> 0.48518421 | Q10: =_xlfn.FORECAST.ETS(DATE(2025,1,1),Q$3:Q$9,$B$3:$B$9,1,1)+_xlfn.FORECAST.ETS.CONFINT(DATE(2025,1,1),Q$3:Q$9,$B$3:$B$9,$A$2,1) -> 0.25847459 | R10: =_xlfn.FORECAST.ETS(DATE(2025,1,1),R$3:R$9,$B$3:$B$9,1,1)+_xlfn.FORECAST.ETS.CONFINT(DATE(2025,1,1),R$3:R$9,$B$3:$B$9,$A$2,1) -> 0.30268719 | S10: =_xlfn.FORECAST.ETS(DATE(2025,1,1),S$3:S$9,$B$3:$B$9,1,1)+_xlfn.FORECAST.ETS.CONFINT(DATE(2025,1,1),S$3:S$9,$B$3:$B$9,$A$2,1) -> 0.39443221 | T10: =_xlfn.FORECAST.ETS(DATE(2025,1,1),T$3:T$9,$B$3:$B$9,1,1)+_xlfn.FORECAST.ETS.CONFINT(DATE(2025,1,1),T$3:T$9,$B$3:$B$9,$A$2,1) -> 0.31644537 | U10: =_xlfn.FORECAST.ETS(DATE(2025,1,1),U$3:U$9,$B$3:$B$9,1,1)+_xlfn.FORECAST.ETS.CONFINT(DATE(2025,1,1),U$3:U$9,$B$3:$B$9,$A$2,1) -> 0.3944322
B11: 43132 | C11: =MONTH(DATE(YEAR(B11),MONTH(B11),DAY(B11))) -> 2 | D11: 16.677974 | E11: 2.0387023 | F11: 0.4577825 | G11: 0.39169274 | H11: 716.25 | J11: 12.29 | K11: 1.07572 | L11: 0.06646 | M11: 0.4266 | N11: 0.27088 | O11: 2.316/17 | P11: 22/10/17 a 21/10/18 | Q11: =IFERROR(1-J11/D11,"") -> 0.26309992 | R11: =IFERROR(1-(K11+M11)/E11,"") -> 0.26309987 | S11: =IFERROR(1-(L11+N11)/F11,"") -> 0.26309983 | T11: =IFERROR(AVERAGE(Q11:S11),"") -> 0.26309987 | U11: =IFERROR(LARGE(Q11:S11,1),"") -> 0.26309992
B12: 43497 | C12: =MONTH(DATE(YEAR(B12),MONTH(B12),DAY(B12))) -> 2 | D12: 16.138697 | E12: 2.287885 | F12: 0.5897543 | G12: 0.4614423 | H12: 741.75 | J12: 11.31 | K12: 1.1124 | L12: 0.10686 | M12: 0.49095 | N12: 0.30644 | O12: 2.471/18 | P12: 22/10/18 a 21/10/19 | Q12: =IFERROR(1-J12/D12,"") -> 0.29919992 | R12: =IFERROR(1-(K12+M12)/E12,"") -> 0.29919992 | S12: =IFERROR(1-(L12+N12)/F12,"") -> 0.29919968 | T12: =IFERROR(AVERAGE(Q12:S12),"") -> 0.29919984 | U12: =IFERROR(LARGE(Q12:S12,1),"") -> 0.29919992
B13: 43862 | C13: =MONTH(DATE(YEAR(B13),MONTH(B13),DAY(B13))) -> 2 | D13: 17.142855 | E13: 2.2486411 | F13: 0.512787 | G13: 0.3794397 | H13: 766.75 | J13: 12.24 | K13: 1.17466 | L13: 0.10975 | M13: 0.43087 | N13: 0.25638 | O13: 2.625/19 | P13: 22/10/19 a 21/10/20 | Q13: =IFERROR(1-J13/D13,"") -> 0.28599993 | R13: =IFERROR(1-(K13+M13)/E13,"") -> 0.28599989 | S13: =IFERROR(1-(L13+N13)/F13,"") -> 0.28599984 | T13: =IFERROR(AVERAGE(Q13:S13),"") -> 0.28599989 | U13: =IFERROR(LARGE(Q13:S13,1),"") -> 0.28599993
B14: 44228 | C14: =MONTH(DATE(YEAR(B14),MONTH(B14),DAY(B14))) -> 2 | D14: 22.005224 | E14: 2.3307244 | F14: 0.4913215 | G14: 0.3340805 | H14: 766.75 | J14: 16 | K14: 1.30555 | L14: 0.11298 | M14: 0.37569 | N14: 0.23083 | O14: 2.789/20 | P14: 22/10/20 a 21/10/21 | Q14: =IFERROR(1-J14/D14,"") -> 0.27289992 | R14: =IFERROR(1-(K14+M14)/E14,"") -> 0.27866203 | S14: =IFERROR(1-(L14+N14)/F14,"") -> 0.30023416 | T14: =IFERROR(AVERAGE(Q14:S14),"") -> 0.28393204 | U14: =IFERROR(LARGE(Q14:S14,1),"") -> 0.30023416
B15: 44593 | C15: =MONTH(DATE(YEAR(B15),MONTH(B15),DAY(B15))) -> 2 | D15: 15.500202 | E15: 2.5669282 | F15: 0.7523079 | G15: 0.410031 | H15: 895.03 | J15: 11.45 | K15: 1.2948 | L15: 0.12507 | M15: 0.45939 | N15: 0.28866 | O15: 2.965/21 | P15: 22/10/21 a 21/10/22 | Q15: =IFERROR(1-J15/D15,"") -> 0.26129994 | R15: =IFERROR(1-(K15+M15)/E15,"") -> 0.31661898 | S15: =IFERROR(1-(L15+N15)/F15,"") -> 0.4500523 | T15: =IFERROR(AVERAGE(Q15:S15),"") -> 0.34265707 | U15: =IFERROR(LARGE(Q15:S15,1),"") -> 0.4500523 | AE15: 0.065
B16: 44958 | C16: =MONTH(DATE(YEAR(B16),MONTH(B16),DAY(B16))) -> 2 | D16: 15.825599 | E16: 2.4617005 | F16: 0.6722637 | G16: 0.4487478 | H16: 948.46 | J16: 12.45 | K16: 1.39354 | L16: 0.19312 | M16: 0.54308 | N16: 0.33575 | O16: 3.134/22 | P16: 03/11/22 a 21/10/23 | Q16: =IFERROR(1-J16/D16,"") -> 0.21329992 | R16: =IFERROR(1-(K16+M16)/E16,"") -> 0.21329991 | S16: =IFERROR(1-(L16+N16)/F16,"") -> 0.21329978 | T16: =IFERROR(AVERAGE(Q16:S16),"") -> 0.21329987 | U16: =IFERROR(LARGE(Q16:S16,1),"") -> 0.21329992
B17: 45323 | C17: =MONTH(DATE(YEAR(B17),MONTH(B17),DAY(B17))) -> 2 | D17: 19.178078 | E17: 2.8081278 | F17: 0.7378003 | G17: 0.5336239 | H17: 984.98 | J17: 14.84 | K17: 1.55124 | L17: 0.17694 | M17: 0.62169 | N17: 0.39397 | O17: 3.276/23 | P17: 22/10/23 a 21/10/24 | Q17: =IFERROR(1-J17/D17,"") -> 0.22619982 | R17: =IFERROR(1-(K17+M17)/E17,"") -> 0.22619975 | S17: =IFERROR(1-(L17+N17)/F17,"") -> 0.22619983 | T17: =IFERROR(AVERAGE(Q17:S17),"") -> 0.2261998 | U17: =IFERROR(LARGE(Q17:S17,1),"") -> 0.22619983
B18: 45689 | C18: =MONTH(DATE(YEAR(B18),MONTH(B18),DAY(B18))) -> 2 | D18: =_xlfn.FORECAST.ETS(DATE(2025,1,1),D$11:D$17,$B$11:$B$17,1,1)+_xlfn.FORECAST.ETS.CONFINT(DATE(2025,1,1),D$11:D$17,$B$11:$B$17,$A$2,1) -> 21.998633 | E18: =_xlfn.FORECAST.ETS(DATE(2025,1,1),E$11:E$17,$B$11:$B$17,1,1)+_xlfn.FORECAST.ETS.CONFINT(DATE(2025,1,1),E$11:E$17,$B$11:$B$17,$A$2,1) -> 2.8563464 | F18: =_xlfn.FORECAST.ETS(DATE(2025,1,1),F$11:F$17,$B$11:$B$17,1,1)+_xlfn.FORECAST.ETS.CONFINT(DATE(2025,1,1),F$11:F$17,$B$11:$B$17,$A$2,1) -> 0.89376463 | G18: =_xlfn.FORECAST.ETS(DATE(2025,1,1),G$11:G$17,$B$11:$B$17,1,1)+_xlfn.FORECAST.ETS.CONFINT(DATE(2025,1,1),G$11:G$17,$B$11:$B$17,$A$2,1) -> 0.59864636 | H18: =_xlfn.FORECAST.ETS(DATE(2025,1,1),H$11:H$17,$B$11:$B$17,1,1)+_xlfn.FORECAST.ETS.CONFINT(DATE(2025,1,1),H$11:H$17,$B$11:$B$17,$A$2,1) -> 1095.0659 | J18: =_xlfn.FORECAST.ETS(DATE(2025,1,1),J$11:J$17,$B$11:$B$17,1,1)+_xlfn.FORECAST.ETS.CONFINT(DATE(2025,1,1),J$11:J$17,$B$11:$B$17,$A$2,1) -> 17.439087 | K18: =_xlfn.FORECAST.ETS(DATE(2025,1,1),K$11:K$17,$B$11:$B$17,1,1)+_xlfn.FORECAST.ETS.CONFINT(DATE(2025,1,1),K$11:K$17,$B$11:$B$17,$A$2,1) -> 1.6545493 | L18: =_xlfn.FORECAST.ETS(DATE(2025,1,1),L$11:L$17,$B$11:$B$17,1,1)+_xlfn.FORECAST.ETS.CONFINT(DATE(2025,1,1),L$11:L$17,$B$11:$B$17,$A$2,1) -> 0.2265636 | M18: =_xlfn.FORECAST.ETS(DATE(2025,1,1),M$11:M$17,$B$11:$B$17,1,1)+_xlfn.FORECAST.ETS.CONFINT(DATE(2025,1,1),M$11:M$17,$B$11:$B$17,$A$2,1) -> 0.75364009 | N18: =_xlfn.FORECAST.ETS(DATE(2025,1,1),N$11:N$17,$B$11:$B$17,1,1)+_xlfn.FORECAST.ETS.CONFINT(DATE(2025,1,1),N$11:N$17,$B$11:$B$17,$A$2,1) -> 0.48035847 | Q18: =_xlfn.FORECAST.ETS(DATE(2025,1,1),Q$11:Q$17,$B$11:$B$17,1,1)+_xlfn.FORECAST.ETS.CONFINT(DATE(2025,1,1),Q$11:Q$17,$B$11:$B$17,$A$2,1) -> 0.25684061 | R18: =_xlfn.FORECAST.ETS(DATE(2025,1,1),R$11:R$17,$B$11:$B$17,1,1)+_xlfn.FORECAST.ETS.CONFINT(DATE(2025,1,1),R$11:R$17,$B$11:$B$17,$A$2,1) -> 0.29822039 | S18: =_xlfn.FORECAST.ETS(DATE(2025,1,1),S$11:S$17,$B$11:$B$17,1,1)+_xlfn.FORECAST.ETS.CONFINT(DATE(2025,1,1),S$11:S$17,$B$11:$B$17,$A$2,1) -> 0.40782733 | T18: =_xlfn.FORECAST.ETS(DATE(2025,1,1),T$11:T$17,$B$11:$B$17,1,1)+_xlfn.FORECAST.ETS.CONFINT(DATE(2025,1,1),T$11:T$17,$B$11:$B$17,$A$2,1) -> 0.32070357 | U18: =_xlfn.FORECAST.ETS(DATE(2025,1,1),U$11:U$17,$B$11:$B$17,1,1)+_xlfn.FORECAST.ETS.CONFINT(DATE(2025,1,1),U$11:U$17,$B$11:$B$17,$A$2,1) -> 0.40782729
B19: 43160 | C19: =MONTH(DATE(YEAR(B19),MONTH(B19),DAY(B19))) -> 3 | D19: 16.958739 | E19: 2.073023 | F19: 0.465489 | G19: 0.38778648 | H19: 716.25 | J19: 12.29 | K19: 1.07572 | L19: 0.06646 | M19: 0.4266 | N19: 0.27088 | O19: 2.316/17 | P19: 22/10/17 a 21/10/18 | Q19: =IFERROR(1-J19/D19,"") -> 0.27529991 | R19: =IFERROR(1-(K19+M19)/E19,"") -> 0.27529989 | S19: =IFERROR(1-(L19+N19)/F19,"") -> 0.27529974 | T19: =IFERROR(AVERAGE(Q19:S19),"") -> 0.27529984 | U19: =IFERROR(LARGE(Q19:S19,1),"") -> 0.27529991
B20: 43525 | C20: =MONTH(DATE(YEAR(B20),MONTH(B20),DAY(B20))) -> 3 | D20: 16.191839 | E20: 2.2954186 | F20: 0.5916963 | G20: 0.4607157 | H20: 741.75 | J20: 11.31 | K20: 1.1124 | L20: 0.10686 | M20: 0.49095 | N20: 0.30644 | O20: 2.471/18 | P20: 22/10/18 a 21/10/19 | Q20: =IFERROR(1-J20/D20,"") -> 0.30149997 | R20: =IFERROR(1-(K20+M20)/E20,"") -> 0.30149995 | S20: =IFERROR(1-(L20+N20)/F20,"") -> 0.30149977 | T20: =IFERROR(AVERAGE(Q20:S20),"") -> 0.3014999 | U20: =IFERROR(LARGE(Q20:S20,1),"") -> 0.30149997
B21: 43891 | C21: =MONTH(DATE(YEAR(B21),MONTH(B21),DAY(B21))) -> 3 | D21: 17.102137 | E21: 2.2433 | F21: 0.511569 | G21: 0.3785383 | H21: 766.75 | J21: 12.24 | K21: 1.17466 | L21: 0.10975 | M21: 0.43087 | N21: 0.25638 | O21: 2.625/19 | P21: 22/10/19 a 21/10/20 | Q21: =IFERROR(1-J21/D21,"") -> 0.28429997 | R21: =IFERROR(1-(K21+M21)/E21,"") -> 0.28429992 | S21: =IFERROR(1-(L21+N21)/F21,"") -> 0.28429987 | T21: =IFERROR(AVERAGE(Q21:S21),"") -> 0.28429992 | U21: =IFERROR(LARGE(Q21:S21,1),"") -> 0.28429997
B22: 44256 | C22: =MONTH(DATE(YEAR(B22),MONTH(B22),DAY(B22))) -> 3 | D22: 21.840021 | E22: 2.3132267 | F22: 0.487633 | G22: 0.3315723 | H22: 766.75 | J22: 16 | K22: 1.30555 | L22: 0.11298 | M22: 0.37569 | N22: 0.23083 | O22: 2.789/20 | P22: 22/10/20 a 21/10/21 | Q22: =IFERROR(1-J22/D22,"") -> 0.26739996 | R22: =IFERROR(1-(K22+M22)/E22,"") -> 0.27320569 | S22: =IFERROR(1-(L22+N22)/F22,"") -> 0.29494107 | T22: =IFERROR(AVERAGE(Q22:S22),"") -> 0.27851558 | U22: =IFERROR(LARGE(Q22:S22,1),"") -> 0.29494107
B23: 44621 | C23: =MONTH(DATE(YEAR(B23),MONTH(B23),DAY(B23))) -> 3 | D23: 16.236527 | E23: 2.688868 | F23: 0.7880458 | G23: 0.4295091 | H23: 895.03 | J23: 11.45 | K23: 1.2948 | L23: 0.12507 | M23: 0.45939 | N23: 0.28866 | O23: 2.965/21 | P23: 22/10/21 a 21/10/22 | Q23: =IFERROR(1-J23/D23,"") -> 0.29479993 | R23: =IFERROR(1-(K23+M23)/E23,"") -> 0.34761022 | S23: =IFERROR(1-(L23+N23)/F23,"") -> 0.47499244 | T23: =IFERROR(AVERAGE(Q23:S23),"") -> 0.37246753 | U23: =IFERROR(LARGE(Q23:S23,1),"") -> 0.47499244
B24: 44986 | C24: =MONTH(DATE(YEAR(B24),MONTH(B24),DAY(B24))) -> 3 | D24: 15.416046 | E24: 2.3979937 | F24: 0.6548661 | G24: 0.4371346 | H24: 948.46 | J24: 12.45 | K24: 1.39354 | L24: 0.19312 | M24: 0.54308 | N24: 0.33575 | O24: 3.134/22 | P24: 03/11/22 a 21/10/23 | Q24: =IFERROR(1-J24/D24,"") -> 0.1923999 | R24: =IFERROR(1-(K24+M24)/E24,"") -> 0.19239988 | S24: =IFERROR(1-(L24+N24)/F24,"") -> 0.19239979 | T24: =IFERROR(AVERAGE(Q24:S24),"") -> 0.19239986 | U24: =IFERROR(LARGE(Q24:S24,1),"") -> 0.1923999
B25: 45352 | C25: =MONTH(DATE(YEAR(B25),MONTH(B25),DAY(B25))) -> 3 | D25: 18.986689 | E25: 2.7801042 | F25: 0.7304375 | G25: 0.5283182 | H25: 984.98 | J25: 14.84 | K25: 1.55124 | L25: 0.17694 | M25: 0.62169 | N25: 0.39397 | O25: 3.276/23 | P25: 22/10/23 a 21/10/24 | Q25: =IFERROR(1-J25/D25,"") -> 0.21839979 | R25: =IFERROR(1-(K25+M25)/E25,"") -> 0.2183998 | S25: =IFERROR(1-(L25+N25)/F25,"") -> 0.21839993 | T25: =IFERROR(AVERAGE(Q25:S25),"") -> 0.21839984 | U25: =IFERROR(LARGE(Q25:S25,1),"") -> 0.21839993
B26: 45717 | C26: =MONTH(DATE(YEAR(B26),MONTH(B26),DAY(B26))) -> 3 | D26: =_xlfn.FORECAST.ETS(DATE(2025,1,1),D$19:D$25,$B$19:$B$25,1,1)+_xlfn.FORECAST.ETS.CONFINT(DATE(2025,1,1),D$19:D$25,$B$19:$B$25,$A$2,1) -> 21.512627 | E26: =_xlfn.FORECAST.ETS(DATE(2025,1,1),E$19:E$25,$B$19:$B$25,1,1)+_xlfn.FORECAST.ETS.CONFINT(DATE(2025,1,1),E$19:E$25,$B$19:$B$25,$A$2,1) -> 2.8905676 | F26: =_xlfn.FORECAST.ETS(DATE(2025,1,1),F$19:F$25,$B$19:$B$25,1,1)+_xlfn.FORECAST.ETS.CONFINT(DATE(2025,1,1),F$19:F$25,$B$19:$B$25,$A$2,1) -> 0.89987443 | G26: =_xlfn.FORECAST.ETS(DATE(2025,1,1),G$19:G$25,$B$19:$B$25,1,1)+_xlfn.FORECAST.ETS.CONFINT(DATE(2025,1,1),G$19:G$25,$B$19:$B$25,$A$2,1) -> 0.58431169 | H26: =_xlfn.FORECAST.ETS(DATE(2025,1,1),H$19:H$25,$B$19:$B$25,1,1)+_xlfn.FORECAST.ETS.CONFINT(DATE(2025,1,1),H$19:H$25,$B$19:$B$25,$A$2,1) -> 1088.4627 | J26: =_xlfn.FORECAST.ETS(DATE(2025,1,1),J$19:J$25,$B$19:$B$25,1,1)+_xlfn.FORECAST.ETS.CONFINT(DATE(2025,1,1),J$19:J$25,$B$19:$B$25,$A$2,1) -> 17.289352 | K26: =_xlfn.FORECAST.ETS(DATE(2025,1,1),K$19:K$25,$B$19:$B$25,1,1)+_xlfn.FORECAST.ETS.CONFINT(DATE(2025,1,1),K$19:K$25,$B$19:$B$25,$A$2,1) -> 1.6452837 | L26: =_xlfn.FORECAST.ETS(DATE(2025,1,1),L$19:L$25,$B$19:$B$25,1,1)+_xlfn.FORECAST.ETS.CONFINT(DATE(2025,1,1),L$19:L$25,$B$19:$B$25,$A$2,1) -> 0.22377471 | M26: =_xlfn.FORECAST.ETS(DATE(2025,1,1),M$19:M$25,$B$19:$B$25,1,1)+_xlfn.FORECAST.ETS.CONFINT(DATE(2025,1,1),M$19:M$25,$B$19:$B$25,$A$2,1) -> 0.74675108 | N26: =_xlfn.FORECAST.ETS(DATE(2025,1,1),N$19:N$25,$B$19:$B$25,1,1)+_xlfn.FORECAST.ETS.CONFINT(DATE(2025,1,1),N$19:N$25,$B$19:$B$25,$A$2,1) -> 0.47583407 | Q26: =_xlfn.FORECAST.ETS(DATE(2025,1,1),Q$19:Q$25,$B$19:$B$25,1,1)+_xlfn.FORECAST.ETS.CONFINT(DATE(2025,1,1),Q$19:Q$25,$B$19:$B$25,$A$2,1) -> 0.268524 | R26: =_xlfn.FORECAST.ETS(DATE(2025,1,1),R$19:R$25,$B$19:$B$25,1,1)+_xlfn.FORECAST.ETS.CONFINT(DATE(2025,1,1),R$19:R$25,$B$19:$B$25,$A$2,1) -> 0.30220286 | S26: =_xlfn.FORECAST.ETS(DATE(2025,1,1),S$19:S$25,$B$19:$B$25,1,1)+_xlfn.FORECAST.ETS.CONFINT(DATE(2025,1,1),S$19:S$25,$B$19:$B$25,$A$2,1) -> 0.39138321 | T26: =_xlfn.FORECAST.ETS(DATE(2025,1,1),T$19:T$25,$B$19:$B$25,1,1)+_xlfn.FORECAST.ETS.CONFINT(DATE(2025,1,1),T$19:T$25,$B$19:$B$25,$A$2,1) -> 0.32355316 | U26: =_xlfn.FORECAST.ETS(DATE(2025,1,1),U$19:U$25,$B$19:$B$25,1,1)+_xlfn.FORECAST.ETS.CONFINT(DATE(2025,1,1),U$19:U$25,$B$19:$B$25,$A$2,1) -> 0.39138314
B27: 43191 | C27: =MONTH(DATE(YEAR(B27),MONTH(B27),DAY(B27))) -> 4 | D27: 16.789616 | E27: 2.0523494 | F27: 0.4608469 | G27: 0.39375709 | H27: 716.25 | J27: 12.29 | K27: 1.07572 | L27: 0.06646 | M27: 0.4266 | N27: 0.27088 | O27: 2.316/17 | P27: 22/10/17 a 21/10/18 | Q27: =IFERROR(1-J27/D27,"") -> 0.26799993 | R27: =IFERROR(1-(K27+M27)/E27,"") -> 0.26799988 | S27: =IFERROR(1-(L27+N27)/F27,"") -> 0.26799985 | T27: =IFERROR(AVERAGE(Q27:S27),"") -> 0.26799989 | U27: =IFERROR(LARGE(Q27:S27,1),"") -> 0.26799993 | AE27: -0.0679
B28: 43556 | C28: =MONTH(DATE(YEAR(B28),MONTH(B28),DAY(B28))) -> 4 | D28: 16.081329 | E28: 2.2844918 | F28: 0.5923975 | G28: 0.4575713 | H28: 741.75 | J28: 11.31 | K28: 1.1124 | L28: 0.10686 | M28: 0.49095 | N28: 0.30644 | O28: 2.471/18 | P28: 22/10/18 a 21/10/19 | Q28: =IFERROR(1-J28/D28,"") -> 0.29669994 | R28: =IFERROR(1-(K28+M28)/E28,"") -> 0.298159 | S28: =IFERROR(1-(L28+N28)/F28,"") -> 0.30232656 | T28: =IFERROR(AVERAGE(Q28:S28),"") -> 0.29906184 | U28: =IFERROR(LARGE(Q28:S28,1),"") -> 0.30232656
B29: 43922 | C29: =MONTH(DATE(YEAR(B29),MONTH(B29),DAY(B29))) -> 4 | D29: 17.12367 | E29: 2.2461246 | F29: 0.512213 | G29: 0.379015 | H29: 766.75 | J29: 12.24 | K29: 1.17466 | L29: 0.10975 | M29: 0.43087 | N29: 0.25638 | O29: 2.625/19 | P29: 22/10/19 a 21/10/20 | Q29: =IFERROR(1-J29/D29,"") -> 0.28519995 | R29: =IFERROR(1-(K29+M29)/E29,"") -> 0.28519994 | S29: =IFERROR(1-(L29+N29)/F29,"") -> 0.28519971 | T29: =IFERROR(AVERAGE(Q29:S29),"") -> 0.28519987 | U29: =IFERROR(LARGE(Q29:S29,1),"") -> 0.28519995
B30: 44287 | C30: =MONTH(DATE(YEAR(B30),MONTH(B30),DAY(B30))) -> 4 | D30: 21.540117 | E30: 2.2827299 | F30: 0.482205 | G30: 0.3270193 | H30: 766.75 | J30: 16 | K30: 1.30555 | L30: 0.11298 | M30: 0.37569 | N30: 0.23083 | O30: 2.789/20 | P30: 22/10/20 a 21/10/21 | Q30: =IFERROR(1-J30/D30,"") -> 0.25719994 | R30: =IFERROR(1-(K30+M30)/E30,"") -> 0.26349587 | S30: =IFERROR(1-(L30+N30)/F30,"") -> 0.28700449 | T30: =IFERROR(AVERAGE(Q30:S30),"") -> 0.26923343 | U30: =IFERROR(LARGE(Q30:S30,1),"") -> 0.28700449
B31: 44652 | C31: =MONTH(DATE(YEAR(B31),MONTH(B31),DAY(B31))) -> 4 | D31: 15.642075 | E31: 2.4869623 | F31: 0.6557329 | G31: 0.4137839 | H31: 895.03 | J31: 11.45 | K31: 1.2948 | L31: 0.12507 | M31: 0.45939 | N31: 0.28866 | O31: 2.965/21 | P31: 22/10/21 a 21/10/22 | Q31: =IFERROR(1-J31/D31,"") -> 0.26799993 | R31: =IFERROR(1-(K31+M31)/E31,"") -> 0.29464552 | S31: =IFERROR(1-(L31+N31)/F31,"") -> 0.36905713 | T31: =IFERROR(AVERAGE(Q31:S31),"") -> 0.31056753 | U31: =IFERROR(LARGE(Q31:S31,1),"") -> 0.36905713
B32: 45017 | C32: =MONTH(DATE(YEAR(B32),MONTH(B32),DAY(B32))) -> 4 | D32: 15.805507 | E32: 2.4585751 | F32: 0.6714103 | G32: 0.4481781 | H32: 948.46 | J32: 12.45 | K32: 1.39354 | L32: 0.19312 | M32: 0.54308 | N32: 0.33575 | O32: 3.134/22 | P32: 03/11/22 a 21/10/23 | Q32: =IFERROR(1-J32/D32,"") -> 0.21229989 | R32: =IFERROR(1-(K32+M32)/E32,"") -> 0.21229984 | S32: =IFERROR(1-(L32+N32)/F32,"") -> 0.21229984 | T32: =IFERROR(AVERAGE(Q32:S32),"") -> 0.21229986 | U32: =IFERROR(LARGE(Q32:S32,1),"") -> 0.21229989
B33: 45383 | C33: =MONTH(DATE(YEAR(B33),MONTH(B33),DAY(B33))) -> 4 | D33: 19.549456 | E33: 2.8625071 | F33: 0.7520877 | G33: 0.5439706 | H33: 984.98 | J33: 14.84 | K33: 1.55124 | L33: 0.17694 | M33: 0.62169 | N33: 0.39397 | O33: 3.276/23 | P33: 22/10/23 a 21/10/24 | Q33: =IFERROR(1-J33/D33,"") -> 0.24089958 | R33: =IFERROR(1-(K33+M33)/E33,"") -> 0.2408997 | S33: =IFERROR(1-(L33+N33)/F33,"") -> 0.2408997 | T33: =IFERROR(AVERAGE(Q33:S33),"") -> 0.24089966 | U33: =IFERROR(LARGE(Q33:S33,1),"") -> 0.2408997
B34: 45748 | C34: =MONTH(DATE(YEAR(B34),MONTH(B34),DAY(B34))) -> 4 | D34: =_xlfn.FORECAST.ETS(DATE(2025,1,1),D$27:D$33,$B$27:$B$33,1,1)+_xlfn.FORECAST.ETS.CONFINT(DATE(2025,1,1),D$27:D$33,$B$27:$B$33,$A$2,1) -> 21.713148 | E34: =_xlfn.FORECAST.ETS(DATE(2025,1,1),E$27:E$33,$B$27:$B$33,1,1)+_xlfn.FORECAST.ETS.CONFINT(DATE(2025,1,1),E$27:E$33,$B$27:$B$33,$A$2,1) -> 2.9131302 | F34: =_xlfn.FORECAST.ETS(DATE(2025,1,1),F$27:F$33,$B$27:$B$33,1,1)+_xlfn.FORECAST.ETS.CONFINT(DATE(2025,1,1),F$27:F$33,$B$27:$B$33,$A$2,1) -> 0.84059739 | G34: =_xlfn.FORECAST.ETS(DATE(2025,1,1),G$27:G$33,$B$27:$B$33,1,1)+_xlfn.FORECAST.ETS.CONFINT(DATE(2025,1,1),G$27:G$33,$B$27:$B$33,$A$2,1) -> 0.60455642 | H34: =_xlfn.FORECAST.ETS(DATE(2025,1,1),H$27:H$33,$B$27:$B$33,1,1)+_xlfn.FORECAST.ETS.CONFINT(DATE(2025,1,1),H$27:H$33,$B$27:$B$33,$A$2,1) -> 1081.0148 | J34: =_xlfn.FORECAST.ETS(DATE(2025,1,1),J$27:J$33,$B$27:$B$33,1,1)+_xlfn.FORECAST.ETS.CONFINT(DATE(2025,1,1),J$27:J$33,$B$27:$B$33,$A$2,1) -> 17.117222 | K34: =_xlfn.FORECAST.ETS(DATE(2025,1,1),K$27:K$33,$B$27:$B$33,1,1)+_xlfn.FORECAST.ETS.CONFINT(DATE(2025,1,1),K$27:K$33,$B$27:$B$33,$A$2,1) -> 1.6348654 | L34: =_xlfn.FORECAST.ETS(DATE(2025,1,1),L$27:L$33,$B$27:$B$33,1,1)+_xlfn.FORECAST.ETS.CONFINT(DATE(2025,1,1),L$27:L$33,$B$27:$B$33,$A$2,1) -> 0.22062171 | M34: =_xlfn.FORECAST.ETS(DATE(2025,1,1),M$27:M$33,$B$27:$B$33,1,1)+_xlfn.FORECAST.ETS.CONFINT(DATE(2025,1,1),M$27:M$33,$B$27:$B$33,$A$2,1) -> 0.73887724 | N34: =_xlfn.FORECAST.ETS(DATE(2025,1,1),N$27:N$33,$B$27:$B$33,1,1)+_xlfn.FORECAST.ETS.CONFINT(DATE(2025,1,1),N$27:N$33,$B$27:$B$33,$A$2,1) -> 0.47066115 | Q34: =_xlfn.FORECAST.ETS(DATE(2025,1,1),Q$27:Q$33,$B$27:$B$33,1,1)+_xlfn.FORECAST.ETS.CONFINT(DATE(2025,1,1),Q$27:Q$33,$B$27:$B$33,$A$2,1) -> 0.24123451 | R34: =_xlfn.FORECAST.ETS(DATE(2025,1,1),R$27:R$33,$B$27:$B$33,1,1)+_xlfn.FORECAST.ETS.CONFINT(DATE(2025,1,1),R$27:R$33,$B$27:$B$33,$A$2,1) -> 0.26909034 | S34: =_xlfn.FORECAST.ETS(DATE(2025,1,1),S$27:S$33,$B$27:$B$33,1,1)+_xlfn.FORECAST.ETS.CONFINT(DATE(2025,1,1),S$27:S$33,$B$27:$B$33,$A$2,1) -> 0.33295261 | T34: =_xlfn.FORECAST.ETS(DATE(2025,1,1),T$27:T$33,$B$27:$B$33,1,1)+_xlfn.FORECAST.ETS.CONFINT(DATE(2025,1,1),T$27:T$33,$B$27:$B$33,$A$2,1) -> 0.28154456 | U34: =_xlfn.FORECAST.ETS(DATE(2025,1,1),U$27:U$33,$B$27:$B$33,1,1)+_xlfn.FORECAST.ETS.CONFINT(DATE(2025,1,1),U$27:U$33,$B$27:$B$33,$A$2,1) -> 0.33295258
B35: 43221 | C35: =MONTH(DATE(YEAR(B35),MONTH(B35),DAY(B35))) -> 5 | D35: 17.048133 | E35: 2.0885743 | F35: 0.4725665 | G35: 0.39217994 | H35: 716.25 | J35: 12.29 | K35: 1.07572 | L35: 0.06646 | M35: 0.4266 | N35: 0.27088 | O35: 2.316/17 | P35: 22/10/17 a 21/10/18 | Q35: =IFERROR(1-J35/D35,"") -> 0.27909997 | R35: =IFERROR(1-(K35+M35)/E35,"") -> 0.28069593 | S35: =IFERROR(1-(L35+N35)/F35,"") -> 0.28615338 | T35: =IFERROR(AVERAGE(Q35:S35),"") -> 0.28198309 | U35: =IFERROR(LARGE(Q35:S35,1),"") -> 0.28615338
B36: 43586 | C36: =MONTH(DATE(YEAR(B36),MONTH(B36),DAY(B36))) -> 5 | D36: 16.079043 | E36: 2.2890587 | F36: 0.597205 | G36: 0.4575062 | H36: 741.75 | J36: 11.31 | K36: 1.1124 | L36: 0.10686 | M36: 0.49095 | N36: 0.30644 | O36: 2.471/18 | P36: 22/10/18 a 21/10/19 | Q36: =IFERROR(1-J36/D36,"") -> 0.29659995 | R36: =IFERROR(1-(K36+M36)/E36,"") -> 0.29955925 | S36: =IFERROR(1-(L36+N36)/F36,"") -> 0.30794283 | T36: =IFERROR(AVERAGE(Q36:S36),"") -> 0.30136734 | U36: =IFERROR(LARGE(Q36:S36,1),"") -> 0.30794283
B37: 43952 | C37: =MONTH(DATE(YEAR(B37),MONTH(B37),DAY(B37))) -> 5 | D37: 17.140455 | E37: 2.2483263 | F37: 0.5127151 | G37: 0.3793865 | H37: 766.75 | J37: 12.24 | K37: 1.17466 | L37: 0.10975 | M37: 0.43087 | N37: 0.25638 | O37: 2.625/19 | P37: 22/10/19 a 21/10/20 | Q37: =IFERROR(1-J37/D37,"") -> 0.28589993 | R37: =IFERROR(1-(K37+M37)/E37,"") -> 0.28589992 | S37: =IFERROR(1-(L37+N37)/F37,"") -> 0.28589971 | T37: =IFERROR(AVERAGE(Q37:S37),"") -> 0.28589985 | U37: =IFERROR(LARGE(Q37:S37,1),"") -> 0.28589993
B38: 44317 | C38: =MONTH(DATE(YEAR(B38),MONTH(B38),DAY(B38))) -> 5 | D38: 21.777595 | E38: 2.34599 | F38: 0.5256143 | G38: 0.3306246 | H38: 766.75 | J38: 16 | K38: 1.30555 | L38: 0.11298 | M38: 0.37569 | N38: 0.23083 | O38: 2.789/20 | P38: 22/10/20 a 21/10/21 | Q38: =IFERROR(1-J38/D38,"") -> 0.26529996 | R38: =IFERROR(1-(K38+M38)/E38,"") -> 0.28335585 | S38: =IFERROR(1-(L38+N38)/F38,"") -> 0.34588918 | T38: =IFERROR(AVERAGE(Q38:S38),"") -> 0.29818167 | U38: =IFERROR(LARGE(Q38:S38,1),"") -> 0.34588918
B39: 44682 | C39: =MONTH(DATE(YEAR(B39),MONTH(B39),DAY(B39))) -> 5 | D39: 15.595205 | E39: 2.3892534 | F39: 0.5635111 | G39: 0.4125441 | H39: 895.03 | J39: 11.45 | K39: 1.2948 | L39: 0.12507 | M39: 0.45939 | N39: 0.28866 | O39: 2.965/21 | P39: 22/10/21 a 21/10/22 | Q39: =IFERROR(1-J39/D39,"") -> 0.26579996 | R39: =IFERROR(1-(K39+M39)/E39,"") -> 0.26579994 | S39: =IFERROR(1-(L39+N39)/F39,"") -> 0.26579973 | T39: =IFERROR(AVERAGE(Q39:S39),"") -> 0.26579988 | U39: =IFERROR(LARGE(Q39:S39,1),"") -> 0.26579996 | AE39: 0.0027
B40: 45047 | C40: =MONTH(DATE(YEAR(B40),MONTH(B40),DAY(B40))) -> 5 | D40: 15.884152 | E40: 2.4708084 | F40: 0.674751 | G40: 0.4504081 | H40: 948.46 | J40: 12.45 | K40: 1.39354 | L40: 0.19312 | M40: 0.54308 | N40: 0.33575 | O40: 3.134/22 | P40: 03/11/22 a 21/10/23 | Q40: =IFERROR(1-J40/D40,"") -> 0.2161999 | R40: =IFERROR(1-(K40+M40)/E40,"") -> 0.21619985 | S40: =IFERROR(1-(L40+N40)/F40,"") -> 0.21619975 | T40: =IFERROR(AVERAGE(Q40:S40),"") -> 0.21619983 | U40: =IFERROR(LARGE(Q40:S40,1),"") -> 0.2161999
B41: 45413 | C41: =MONTH(DATE(YEAR(B41),MONTH(B41),DAY(B41))) -> 5 | D41: 19.285244 | E41: 2.8238198 | F41: 0.7419232 | G41: 0.5366148 | H41: 984.98 | J41: 14.84 | K41: 1.55124 | L41: 0.17694 | M41: 0.62169 | N41: 0.39397 | O41: 3.276/23 | P41: 22/10/23 a 21/10/24 | Q41: =IFERROR(1-J41/D41,"") -> 0.23049977 | R41: =IFERROR(1-(K41+M41)/E41,"") -> 0.23049976 | S41: =IFERROR(1-(L41+N41)/F41,"") -> 0.23049987 | T41: =IFERROR(AVERAGE(Q41:S41),"") -> 0.2304998 | U41: =IFERROR(LARGE(Q41:S41,1),"") -> 0.23049987
B42: 45778 | C42: =MONTH(DATE(YEAR(B42),MONTH(B42),DAY(B42))) -> 5 | D42: =_xlfn.FORECAST.ETS(DATE(2025,1,1),D$35:D$41,$B$35:$B$41,1,1)+_xlfn.FORECAST.ETS.CONFINT(DATE(2025,1,1),D$35:D$41,$B$35:$B$41,$A$2,1) -> 21.472775 | E42: =_xlfn.FORECAST.ETS(DATE(2025,1,1),E$35:E$41,$B$35:$B$41,1,1)+_xlfn.FORECAST.ETS.CONFINT(DATE(2025,1,1),E$35:E$41,$B$35:$B$41,$A$2,1) -> 2.8764809 | F42: =_xlfn.FORECAST.ETS(DATE(2025,1,1),F$35:F$41,$B$35:$B$41,1,1)+_xlfn.FORECAST.ETS.CONFINT(DATE(2025,1,1),F$35:F$41,$B$35:$B$41,$A$2,1) -> 0.79586419 | G42: =_xlfn.FORECAST.ETS(DATE(2025,1,1),G$35:G$41,$B$35:$B$41,1,1)+_xlfn.FORECAST.ETS.CONFINT(DATE(2025,1,1),G$35:G$41,$B$35:$B$41,$A$2,1) -> 0.58786604 | H42: =_xlfn.FORECAST.ETS(DATE(2025,1,1),H$35:H$41,$B$35:$B$41,1,1)+_xlfn.FORECAST.ETS.CONFINT(DATE(2025,1,1),H$35:H$41,$B$35:$B$41,$A$2,1) -> 1073.6212 | J42: =_xlfn.FORECAST.ETS(DATE(2025,1,1),J$35:J$41,$B$35:$B$41,1,1)+_xlfn.FORECAST.ETS.CONFINT(DATE(2025,1,1),J$35:J$41,$B$35:$B$41,$A$2,1) -> 16.942655 | K42: =_xlfn.FORECAST.ETS(DATE(2025,1,1),K$35:K$41,$B$35:$B$41,1,1)+_xlfn.FORECAST.ETS.CONFINT(DATE(2025,1,1),K$35:K$41,$B$35:$B$41,$A$2,1) -> 1.6245606 | L42: =_xlfn.FORECAST.ETS(DATE(2025,1,1),L$35:L$41,$B$35:$B$41,1,1)+_xlfn.FORECAST.ETS.CONFINT(DATE(2025,1,1),L$35:L$41,$B$35:$B$41,$A$2,1) -> 0.2174834 | M42: =_xlfn.FORECAST.ETS(DATE(2025,1,1),M$35:M$41,$B$35:$B$41,1,1)+_xlfn.FORECAST.ETS.CONFINT(DATE(2025,1,1),M$35:M$41,$B$35:$B$41,$A$2,1) -> 0.73094289 | N42: =_xlfn.FORECAST.ETS(DATE(2025,1,1),N$35:N$41,$B$35:$B$41,1,1)+_xlfn.FORECAST.ETS.CONFINT(DATE(2025,1,1),N$35:N$41,$B$35:$B$41,$A$2,1) -> 0.46544651 | Q42: =_xlfn.FORECAST.ETS(DATE(2025,1,1),Q$35:Q$41,$B$35:$B$41,1,1)+_xlfn.FORECAST.ETS.CONFINT(DATE(2025,1,1),Q$35:Q$41,$B$35:$B$41,$A$2,1) -> 0.2326513 | R42: =_xlfn.FORECAST.ETS(DATE(2025,1,1),R$35:R$41,$B$35:$B$41,1,1)+_xlfn.FORECAST.ETS.CONFINT(DATE(2025,1,1),R$35:R$41,$B$35:$B$41,$A$2,1) -> 0.25050062 | S42: =_xlfn.FORECAST.ETS(DATE(2025,1,1),S$35:S$41,$B$35:$B$41,1,1)+_xlfn.FORECAST.ETS.CONFINT(DATE(2025,1,1),S$35:S$41,$B$35:$B$41,$A$2,1) -> 0.28461737 | T42: =_xlfn.FORECAST.ETS(DATE(2025,1,1),T$35:T$41,$B$35:$B$41,1,1)+_xlfn.FORECAST.ETS.CONFINT(DATE(2025,1,1),T$35:T$41,$B$35:$B$41,$A$2,1) -> 0.25612113 | U42: =_xlfn.FORECAST.ETS(DATE(2025,1,1),U$35:U$41,$B$35:$B$41,1,1)+_xlfn.FORECAST.ETS.CONFINT(DATE(2025,1,1),U$35:U$41,$B$35:$B$41,$A$2,1) -> 0.28461746
B43: 43252 | C43: =MONTH(DATE(YEAR(B43),MONTH(B43),DAY(B43))) -> 6 | D43: 16.979827 | E43: 2.1072438 | F43: 0.4977109 | G43: 0.43201865 | H43: 716.25 | J43: 12.23 | K43: 1.082 | L43: 0.07448 | M43: 0.49233 | N43: 0.30289 | O43: 2.406/18 | P43: 22/06/18 a 21/10/18 | Q43: =IFERROR(1-J43/D43,"") -> 0.27973355 | R43: =IFERROR(1-(K43+M43)/E43,"") -> 0.25289613 | S43: =IFERROR(1-(L43+N43)/F43,"") -> 0.24178876 | T43: =IFERROR(AVERAGE(Q43:S43),"") -> 0.25813948 | U43: =IFERROR(LARGE(Q43:S43,1),"") -> 0.27973355
B44: 43617 | C44: =MONTH(DATE(YEAR(B44),MONTH(B44),DAY(B44))) -> 6 | D44: 16.063059 | E44: 2.2842634 | F44: 0.5940917 | G44: 0.4570514 | H44: 741.75 | J44: 11.31 | K44: 1.1124 | L44: 0.10686 | M44: 0.49095 | N44: 0.30644 | O44: 2.471/18 | P44: 22/10/18 a 21/10/19 | Q44: =IFERROR(1-J44/D44,"") -> 0.29589997 | R44: =IFERROR(1-(K44+M44)/E44,"") -> 0.29808883 | S44: =IFERROR(1-(L44+N44)/F44,"") -> 0.30431615 | T44: =IFERROR(AVERAGE(Q44:S44),"") -> 0.29943498 | U44: =IFERROR(LARGE(Q44:S44,1),"") -> 0.30431615
B45: 43983 | C45: =MONTH(DATE(YEAR(B45),MONTH(B45),DAY(B45))) -> 6 | D45: 17.023643 | E45: 2.2330039 | F45: 0.509221 | G45: 0.376801 | H45: 766.75 | J45: 12.24 | K45: 1.17466 | L45: 0.10975 | M45: 0.43087 | N45: 0.25638 | O45: 2.625/19 | P45: 22/10/19 a 21/10/20 | Q45: =IFERROR(1-J45/D45,"") -> 0.28099995 | R45: =IFERROR(1-(K45+M45)/E45,"") -> 0.28099991 | S45: =IFERROR(1-(L45+N45)/F45,"") -> 0.2809998 | T45: =IFERROR(AVERAGE(Q45:S45),"") -> 0.28099989 | U45: =IFERROR(LARGE(Q45:S45,1),"") -> 0.28099995
B46: 44348 | C46: =MONTH(DATE(YEAR(B46),MONTH(B46),DAY(B46))) -> 6 | D46: 22.139199 | E46: 2.4142146 | F46: 0.5636127 | G46: 0.3361145 | H46: 766.75 | J46: 16 | K46: 1.30555 | L46: 0.11298 | M46: 0.37569 | N46: 0.23083 | O46: 2.789/20 | P46: 22/10/20 a 21/10/21 | Q46: =IFERROR(1-J46/D46,"") -> 0.27729997 | R46: =IFERROR(1-(K46+M46)/E46,"") -> 0.30360789 | S46: =IFERROR(1-(L46+N46)/F46,"") -> 0.38998891 | T46: =IFERROR(AVERAGE(Q46:S46),"") -> 0.32363226 | U46: =IFERROR(LARGE(Q46:S46,1),"") -> 0.38998891
B47: 44713 | C47: =MONTH(DATE(YEAR(B47),MONTH(B47),DAY(B47))) -> 6 | D47: 14.190108 | E47: 2.1739864 | F47: 0.5127399 | G47: 0.3753747 | H47: 895.03 | J47: 11.45 | K47: 1.2948 | L47: 0.12507 | M47: 0.45939 | N47: 0.28866 | O47: 2.965/21 | P47: 22/10/21 a 21/10/22 | Q47: =IFERROR(1-J47/D47,"") -> 0.19309987 | R47: =IFERROR(1-(K47+M47)/E47,"") -> 0.19309983 | S47: =IFERROR(1-(L47+N47)/F47,"") -> 0.19309966 | T47: =IFERROR(AVERAGE(Q47:S47),"") -> 0.19309979 | U47: =IFERROR(LARGE(Q47:S47,1),"") -> 0.19309987
B48: 45078 | C48: =MONTH(DATE(YEAR(B48),MONTH(B48),DAY(B48))) -> 6 | D48: 16.054156 | E48: 2.4972525 | F48: 0.6819726 | G48: 0.4552146 | H48: 948.46 | J48: 12.45 | K48: 1.39354 | L48: 0.19312 | M48: 0.54308 | N48: 0.33575 | O48: 3.134/22 | P48: 03/11/22 a 21/10/23 | Q48: =IFERROR(1-J48/D48,"") -> 0.22449985 | R48: =IFERROR(1-(K48+M48)/E48,"") -> 0.22449973 | S48: =IFERROR(1-(L48+N48)/F48,"") -> 0.22449964 | T48: =IFERROR(AVERAGE(Q48:S48),"") -> 0.22449974 | U48: =IFERROR(LARGE(Q48:S48,1),"") -> 0.22449985
B49: 45444 | C49: =MONTH(DATE(YEAR(B49),MONTH(B49),DAY(B49))) -> 6 | J49: 14.84 | K49: 1.55124 | L49: 0.17694 | M49: 0.62169 | N49: 0.39397 | O49: 3.276/23 | P49: 22/10/23 a 21/10/24 | Q49: =IFERROR(1-J49/D49,"") | R49: =IFERROR(1-(K49+M49)/E49,"") | S49: =IFERROR(1-(L49+N49)/F49,"") | T49: =IFERROR(AVERAGE(Q49:S49),"") | U49: =IFERROR(LARGE(Q49:S49,1),"")
B50: 45809 | C50: =MONTH(DATE(YEAR(B50),MONTH(B50),DAY(B50))) -> 6 | D50: =_xlfn.FORECAST.ETS(DATE(2025,1,1),D$43:D$49,$B$43:$B$49,1,1)+_xlfn.FORECAST.ETS.CONFINT(DATE(2025,1,1),D$43:D$49,$B$43:$B$49,$A$2,1) -> 20.631464 | E50: =_xlfn.FORECAST.ETS(DATE(2025,1,1),E$43:E$49,$B$43:$B$49,1,1)+_xlfn.FORECAST.ETS.CONFINT(DATE(2025,1,1),E$43:E$49,$B$43:$B$49,$A$2,1) -> 2.5465038 | F50: =_xlfn.FORECAST.ETS(DATE(2025,1,1),F$43:F$49,$B$43:$B$49,1,1)+_xlfn.FORECAST.ETS.CONFINT(DATE(2025,1,1),F$43:F$49,$B$43:$B$49,$A$2,1) -> 0.7031272 | G50: =_xlfn.FORECAST.ETS(DATE(2025,1,1),G$43:G$49,$B$43:$B$49,1,1)+_xlfn.FORECAST.ETS.CONFINT(DATE(2025,1,1),G$43:G$49,$B$43:$B$49,$A$2,1) -> 0.50447624 | H50: =_xlfn.FORECAST.ETS(DATE(2025,1,1),H$43:H$49,$B$43:$B$49,1,1)+_xlfn.FORECAST.ETS.CONFINT(DATE(2025,1,1),H$43:H$49,$B$43:$B$49,$A$2,1) -> 1094.7506 | J50: =_xlfn.FORECAST.ETS(DATE(2025,1,1),J$43:J$49,$B$43:$B$49,1,1)+_xlfn.FORECAST.ETS.CONFINT(DATE(2025,1,1),J$43:J$49,$B$43:$B$49,$A$2,1) -> 16.723858 | K50: =_xlfn.FORECAST.ETS(DATE(2025,1,1),K$43:K$49,$B$43:$B$49,1,1)+_xlfn.FORECAST.ETS.CONFINT(DATE(2025,1,1),K$43:K$49,$B$43:$B$49,$A$2,1) -> 1.6148182 | L50: =_xlfn.FORECAST.ETS(DATE(2025,1,1),L$43:L$49,$B$43:$B$49,1,1)+_xlfn.FORECAST.ETS.CONFINT(DATE(2025,1,1),L$43:L$49,$B$43:$B$49,$A$2,1) -> 0.21483452 | M50: =_xlfn.FORECAST.ETS(DATE(2025,1,1),M$43:M$49,$B$43:$B$49,1,1)+_xlfn.FORECAST.ETS.CONFINT(DATE(2025,1,1),M$43:M$49,$B$43:$B$49,$A$2,1) -> 0.71972819 | N50: =_xlfn.FORECAST.ETS(DATE(2025,1,1),N$43:N$49,$B$43:$B$49,1,1)+_xlfn.FORECAST.ETS.CONFINT(DATE(2025,1,1),N$43:N$49,$B$43:$B$49,$A$2,1) -> 0.46066655 | Q50: =_xlfn.FORECAST.ETS(DATE(2025,1,1),Q$43:Q$49,$B$43:$B$49,1,1)+_xlfn.FORECAST.ETS.CONFINT(DATE(2025,1,1),Q$43:Q$49,$B$43:$B$49,$A$2,1) -> 0.22350398 | R50: =_xlfn.FORECAST.ETS(DATE(2025,1,1),R$43:R$49,$B$43:$B$49,1,1)+_xlfn.FORECAST.ETS.CONFINT(DATE(2025,1,1),R$43:R$49,$B$43:$B$49,$A$2,1) -> 0.24973712 | S50: =_xlfn.FORECAST.ETS(DATE(2025,1,1),S$43:S$49,$B$43:$B$49,1,1)+_xlfn.FORECAST.ETS.CONFINT(DATE(2025,1,1),S$43:S$49,$B$43:$B$49,$A$2,1) -> 0.33061041 | T50: =_xlfn.FORECAST.ETS(DATE(2025,1,1),T$43:T$49,$B$43:$B$49,1,1)+_xlfn.FORECAST.ETS.CONFINT(DATE(2025,1,1),T$43:T$49,$B$43:$B$49,$A$2,1) -> 0.26024524 | U50: =_xlfn.FORECAST.ETS(DATE(2025,1,1),U$43:U$49,$B$43:$B$49,1,1)+_xlfn.FORECAST.ETS.CONFINT(DATE(2025,1,1),U$43:U$49,$B$43:$B$49,$A$2,1) -> 0.30838457
B51: 43282 | C51: =MONTH(DATE(YEAR(B51),MONTH(B51),DAY(B51))) -> 7 | D51: 17.30264 | E51: 2.2566391 | F51: 0.5828163 | G51: 0.43529469 | H51: 716.25 | J51: 12.23 | K51: 1.082 | L51: 0.07448 | M51: 0.49233 | N51: 0.30289 | O51: 2.406/18 | P51: 22/06/18 a 21/10/18 | Q51: =IFERROR(1-J51/D51,"") -> 0.29317143 | R51: =IFERROR(1-(K51+M51)/E51,"") -> 0.30235632 | S51: =IFERROR(1-(L51+N51)/F51,"") -> 0.3525061 | T51: =IFERROR(AVERAGE(Q51:S51),"") -> 0.31601129 | U51: =IFERROR(LARGE(Q51:S51,1),"") -> 0.3525061 | AE51: 0.111
B52: 43647 | C52: =MONTH(DATE(YEAR(B52),MONTH(B52),DAY(B52))) -> 7 | D52: 15.958797 | E52: 2.2949264 | F52: 0.6157251 | G52: 0.4540849 | H52: 741.75 | J52: 11.31 | K52: 1.1124 | L52: 0.10686 | M52: 0.49095 | N52: 0.30644 | O52: 2.471/18 | P52: 22/10/18 a 21/10/19 | Q52: =IFERROR(1-J52/D52,"") -> 0.29129996 | R52: =IFERROR(1-(K52+M52)/E52,"") -> 0.30135014 | S52: =IFERROR(1-(L52+N52)/F52,"") -> 0.32875889 | T52: =IFERROR(AVERAGE(Q52:S52),"") -> 0.30713633 | U52: =IFERROR(LARGE(Q52:S52,1),"") -> 0.32875889
B53: 44013 | C53: =MONTH(DATE(YEAR(B53),MONTH(B53),DAY(B53))) -> 7 | D53: 16.981131 | E53: 2.2274276 | F53: 0.5079494 | G53: 0.3758601 | H53: 766.75 | J53: 12.24 | K53: 1.17466 | L53: 0.10975 | M53: 0.43087 | N53: 0.25638 | O53: 2.625/19 | P53: 22/10/19 a 21/10/20 | Q53: =IFERROR(1-J53/D53,"") -> 0.27919995 | R53: =IFERROR(1-(K53+M53)/E53,"") -> 0.27919992 | S53: =IFERROR(1-(L53+N53)/F53,"") -> 0.27919986 | T53: =IFERROR(AVERAGE(Q53:S53),"") -> 0.27919991 | U53: =IFERROR(LARGE(Q53:S53,1),"") -> 0.27919995
B54: 44378 | C54: =MONTH(DATE(YEAR(B54),MONTH(B54),DAY(B54))) -> 7 | D54: 23.158197 | E54: 2.5707914 | F54: 0.6350121 | G54: 0.3515847 | H54: 766.75 | J54: 16 | K54: 1.30555 | L54: 0.11298 | M54: 0.37569 | N54: 0.23083 | O54: 2.789/20 | P54: 22/10/20 a 21/10/21 | Q54: =IFERROR(1-J54/D54,"") -> 0.30909992 | R54: =IFERROR(1-(K54+M54)/E54,"") -> 0.3460224 | S54: =IFERROR(1-(L54+N54)/F54,"") -> 0.45857725 | T54: =IFERROR(AVERAGE(Q54:S54),"") -> 0.37123319 | U54: =IFERROR(LARGE(Q54:S54,1),"") -> 0.45857725
B55: 44743 | C55: =MONTH(DATE(YEAR(B55),MONTH(B55),DAY(B55))) -> 7 | D55: 14.289278 | E55: 2.1891797 | F55: 0.5163233 | G55: 0.3779981 | H55: 895.03 | J55: 11.45 | K55: 1.2948 | L55: 0.12507 | M55: 0.45939 | N55: 0.28866 | O55: 2.965/21 | P55: 22/10/21 a 21/10/22 | Q55: =IFERROR(1-J55/D55,"") -> 0.19869987 | R55: =IFERROR(1-(K55+M55)/E55,"") -> 0.19869986 | S55: =IFERROR(1-(L55+N55)/F55,"") -> 0.19869973 | T55: =IFERROR(AVERAGE(Q55:S55),"") -> 0.19869982 | U55: =IFERROR(LARGE(Q55:S55,1),"") -> 0.19869987
B56: 45108 | C56: =MONTH(DATE(YEAR(B56),MONTH(B56),DAY(B56))) -> 7 | D56: 15.666256 | E56: 2.4372258 | F56: 0.6655798 | G56: 0.4442857 | H56: 948.46 | J56: 12.45 | K56: 1.39354 | L56: 0.19312 | M56: 0.54308 | N56: 0.33575 | O56: 3.134/22 | P56: 03/11/22 a 21/10/23 | Q56: =IFERROR(1-J56/D56,"") -> 0.2052983 | R56: =IFERROR(1-(K56+M56)/E56,"") -> 0.20539984 | S56: =IFERROR(1-(L56+N56)/F56,"") -> 0.20539956 | T56: =IFERROR(AVERAGE(Q56:S56),"") -> 0.2053659 | U56: =IFERROR(LARGE(Q56:S56,1),"") -> 0.20539984
B57: 45474 | C57: =MONTH(DATE(YEAR(B57),MONTH(B57),DAY(B57))) -> 7 | J57: 14.84 | K57: 1.55124 | L57: 0.17694 | M57: 0.62169 | N57: 0.39397 | O57: 3.276/23 | P57: 22/10/23 a 21/10/24 | Q57: =IFERROR(1-J57/D57,"") | R57: =IFERROR(1-(K57+M57)/E57,"") | S57: =IFERROR(1-(L57+N57)/F57,"") | T57: =IFERROR(AVERAGE(Q57:S57),"") | U57: =IFERROR(LARGE(Q57:S57,1),"")
