Workbook
Name txt_01563ae623f948ef3d5cbf1e7055e4e3: CIP!#REF!
Name txt_021c6a9fc97241d3c23af6edb0997c0a: CIP!#REF!
Name txt_0550699c3de74574471d89864fa4aa6e: CIP!#REF!
Name txt_08c7c02fe4e04fc233d594009aa7021d: CIP!$E$9
Name txt_0db42b081594427fe32500c45be2fc17: CIP!#REF!
Name txt_0df94473c4c346c1bb29837eafbfd2e0: CIP!#REF!
Name txt_0f787561c5f74cc0b209f6024e8655ca: CIP!$E$16
Name txt_0ff365bbf74c453f263feb5364857cc8: CIP!#REF!
Name txt_1905da5fa0da4eed6501e349970c0be8: CIP!#REF!
Name txt_1dc9d053e01e4defc3dc29e1c6fc782e: CIP!#REF!
Name txt_20f9575fec7d4849c9e12404ce3574f9: CIP!#REF!
Name txt_23dda578561b4d1da03ac0994376ff61: CIP!$E$12
Name txt_2d6ab00b30764efe763e0bba670fd16d: CIP!#REF!
Name txt_381ae1e750ee4ced59e1e42990682663: CIP!$E$4
Name txt_3e77c9c4c7de4876c3085ee3b2572e85: CIP!$E$21
Name txt_3ee2251323884efb602624675587b6d6: CIP!#REF!
Name txt_4bca2ab044984eb5ad5d61e3ac2d8b8b: CIP!#REF!
Name txt_4be4914fac1b407750facd563fa44ce5: CIP!#REF!
Name txt_4cf0da6e2ac64886d7979d02f947e406: CIP!#REF!
Name txt_4d1c1d462c2b483497f504d5e037c382: CIP!#REF!
Name txt_53c8461358b74356ebb8e62c176fe9bf: CIP!#REF!
Name txt_5500a702e56c45528ea8ff246b8a308b: CIP!$E$19
Name txt_56eedd1dd4044ab4fd3fb001f8b14ad8: CIP!#REF!
Name txt_58648137b4b843ffeac8b176997c826a: CIP!#REF!
Name txt_5983c44932c145eb92be75c6831a110e: CIP!$E$5
Name txt_5aa9d64e730c47477dcad49f57da016f: CIP!#REF!
Name txt_5cb86c7ce561478c1256ea823ea9671e: CIP!#REF!
Name txt_613939da30074621ce5189a9f2d616ef: CIP!#REF!
Name txt_672e6db7c99b4f6e51f1418ec238e60c: CIP!#REF!
Name txt_68fa426d2af947e87f1680fb6f6941c0: CIP!$E$17
Name txt_695098407d274d308f10b25e2d437b9e: CIP!$E$18
Name txt_6a6cb49b06444ea5a53305eb5363f35e: CIP!#REF!
Name txt_710c076fd9fd4e7c7f4dbd2432e73a11: CIP!#REF!
Name txt_720349131dd64687d451e2a5ed25c033: CIP!#REF!
Name txt_75bc0621c72b4304d55db20524cd5456: CIP!$E$14
Name txt_769f9e0219e545c494987ac72a6e9343: CIP!#REF!
Name txt_788970df6e134bc6471e8362e80fc81d: CIP!$E$8
Name txt_8070392cd53d414908b0ff8046a69966: CIP!$E$20
Name txt_81398d986d154908d3fbe6956488e225: CIP!#REF!
Name txt_826098b2e6484390348aea27e6a37bb2: CIP!#REF!
Name txt_88e779668eec41948c0637328d138576: CIP!#REF!
Name txt_9baa59c582b7401cb32fe2b281e280ad: CIP!#REF!
Name txt_9e9231b83f6b4ebe9e239e9d41edd900: CIP!$E$15
Name txt_a3ee6f48254c4b1f4bf555307a9a453e: CIP!#REF!
Name txt_a527c6bcc3ec4068b6991c47be142f4c: CIP!#REF!
Name txt_a794114432094953b6e5b892eacd1b99: CIP!#REF!
Name txt_aa95b9d211aa4b4c92fcef118668f66c: CIP!$E$11
Name txt_aabe553ef7014dc0623a5c7e130d16ac: CIP!$E$22
Name txt_ad2308cd606647f56232410cdd02b5ad: CIP!$E$23
Name txt_b849c92dd3934721f4acbab0aa5ba609: CIP!#REF!
Name txt_c172a31a6f274ab00794666b8c9d6257: CIP!$E$24
Name txt_caaa431440d84d350d448031079ce742: CIP!#REF!
Name txt_ce78b57b3ec24ce7b03e13a23bc786e1: CIP!#REF!
Name txt_d32af414ab3b42f179e2f7e8450d7ae4: CIP!$E$10
Name txt_d42634819cc5464600301fa3bb7a9cd5: CIP!#REF!
Name txt_d6ab17a6ae8044ae417090430ec5c1d5: CIP!$E$6
Name txt_dc6bbf17d7e247699039322a6be4ebeb: CIP!$E$7
Name txt_e02a3cf6ea0544cdae248ce1a45e63c7: CIP!#REF!
Name txt_e3d9f1a94d7c4e50efaf745e5f9ed0b8: CIP!$E$13
Name txt_e94840b0734c41ec59a222abdd795cf2: CIP!#REF!

Sheet Consumo Grupo A
A1: Níveis de Confiança | C1: 0.1 | D1: 0.6 | E1: CEB Bloco P 24/17 e 25/17 | H1: CEB Anexo P 21/17 e 22/17 | K1: CEB Bloco F 09/17 e 10/17 | M1: CEB Anexo F 11/17 e 12/17 | O1: CEB Bloco C 76/18 e 77/18 | R1: CEB Bloco K - Med 1 78/18 e 82/18 | U1: CEB Bloco K- Med 2 79/18 e 80/18 | X1: CEB Bloco J 39/17 | AA1: CEB 516N 32/18 e 33/18 | AD1: CEB Órgãos Centrais 26/17 e 27/17 | AG1: CEB Órgãos Regionais 28/17 e 29/17 | AJ1: CEB CERET SIA Trecho 3 16/18 e 17/18 | AM1: CEB Alvorada 26/14 | AN1: CEB RFB SIA Trecho 6 26/14 | AO1: CEB SGMN 31/12 | AP1: CEB SGON 31/12 | AQ1: CEB SIG 31/12 | AR1: CEB SAAN 41/17 | AS1: CEB Edifício Garagem 26/14 | AT1: Soma
B2: 0 | C2: 0.85 | D2: Mês | E2: Bloco P Identificação 492451-7 | H2: Anexo P Identificação 492425-8 | K2: Bloco F Identificação 491623-9 | M2: Anexo F Identificação 493009-6 | O2: Bloco C Identificação 492464-9 | R2: Bloco K - Medidor 1 Identificação 493166-1 | U2: Bloco K - Medidor 2 Identificação 492469-X | X2: Bloco J Identificação 491613-1 | AA2: 516N Identificação 493201-3 | AD2: Órgãos Centrais Identificação 527316-1 | AG2: Órgãos Regionais Identificação 492449-5 | AJ2: CERET SIA Techo 3 Identificação 611050-9 | AM2: Edifício Alvorada - Identificação 1217752-0/ 2066819-8 | AN2: Edifício RFB SIA Trecho 6 | AO2: SGMN | AP2: SGON | AQ2: SIG | AR2: SAAN | AS2: Garagem
C3: 0 | E3: Ponta | F3: Fora Ponta | G3: p/fp | H3: Ponta | I3: Fora Ponta | J3: p/fp | K3: Ponta | L3: Fora Ponta | M3: Ponta | N3: Fora Ponta | O3: Ponta | P3: Fora Ponta | Q3: p/fp | R3: Ponta | S3: Fora Ponta | T3: p/fp | U3: Ponta | V3: Fora Ponta | W3: p/fp | X3: Ponta | Y3: Fora Ponta | Z3: p/fp | AA3: Ponta | AB3: Fora Ponta | AC3: p/fp | AD3: Ponta | AE3: Fora Ponta | AF3: p/fp | AG3: Ponta | AH3: Fora Ponta | AI3: p/fp | AJ3: Ponta | AK3: Fora Ponta | AL3: Fora Ponta
A4: Bloco P | B4: 0.925 | C4: =MONTH(D4) -> 1 | D4: 43101 | E4: 11629 | F4: 148169 | G4: =E4/F4 -> 0.078484703 | H4: 24141 | I4: 303796 | J4: =H4/I4 -> 0.079464509 | K4: 7320 | L4: 124588 | M4: 15663 | N4: 242865 | O4: 7327 | P4: 156788 | Q4: =O4/P4 -> 0.046731893 | R4: 10704 | S4: 124941 | T4: =R4/S4 -> 0.085672437 | U4: 366 | V4: 119133 | W4: =U4/V4 -> 0.0030721966 | X4: 10722 | Y4: 154690 | Z4: =X4/Y4 -> 0.069312819 | AA4: 8648 | AB4: 105937 | AC4: =AA4/AB4 -> 0.081633424 | AD4: 4810 | AE4: 109842 | AF4: =AD4/AE4 -> 0.043790171 | AG4: 6081 | AH4: 110062 | AI4: =AG4/AH4 -> 0.055250677 | AJ4: 243 | AL4: 3546 | AM4: 35400 | AN4: 2184 | AO4: 865 | AP4: 2170 | AQ4: 830 | AR4: 610 | AS4: 7298 | AT4: 1861369 | AV4: 2018 | AW4: 20833201
A5: Anexo P | B5: 0.8 | C5: =MONTH(D5) -> 1 | D5: 43466 | E5: 12721 | F5: 162669 | G5: =E5/F5 -> 0.078201747 | H5: 26249 | I5: 288755 | J5: =H5/I5 -> 0.090904054 | K5: 11253 | L5: 155057 | M5: 14689 | N5: 241287 | O5: 7371 | P5: 162926 | Q5: =O5/P5 -> 0.045241398 | R5: 10322 | S5: 122703 | T5: =R5/S5 -> 0.084121823 | U5: 575 | V5: 127441 | W5: =U5/V5 -> 0.0045118918 | X5: 14759 | Y5: 185136 | Z5: =X5/Y5 -> 0.079719774 | AA5: 9589 | AB5: 94067 | AC5: =AA5/AB5 -> 0.10193798 | AD5: 5640 | AE5: 117005 | AF5: =AD5/AE5 -> 0.048203068 | AG5: 6169 | AH5: 136266 | AI5: =AG5/AH5 -> 0.045271748 | AJ5: 282 | AL5: 3756 | AM5: 42300 | AN5: 2087 | AO5: 477 | AP5: 1930 | AQ5: 630 | AR5: 1110 | AS5: 9012 | AT5: 1974234 | AU5: 0.1297 | AV5: 2019 | AW5: 20784085
A6: Bloco C | B6: 0.73 | C6: =MONTH(D6) -> 1 | D6: 43831 | E6: 15784 | F6: 152975 | G6: =E6/F6 -> 0.10318026 | H6: 24895 | I6: 280557 | J6: =H6/I6 -> 0.088734197 | K6: 14303 | L6: 130287 | M6: 17066 | N6: 223983 | O6: 4404 | P6: 130282 | Q6: =O6/P6 -> 0.033803595 | R6: 10126 | S6: 116664 | T6: =R6/S6 -> 0.08679627 | U6: 469 | V6: 127651 | W6: =U6/V6 -> 0.0036740801 | X6: 13853 | Y6: 143878 | Z6: =X6/Y6 -> 0.096282962 | AA6: 9505 | AB6: 96173 | AC6: =AA6/AB6 -> 0.098832313 | AD6: 7568 | AE6: 113606 | AF6: =AD6/AE6 -> 0.0666162 | AG6: 7570 | AH6: 112248 | AI6: =AG6/AH6 -> 0.067439954 | AJ6: 198 | AL6: 2617 | AM6: 40200 | AN6: 2294 | AO6: 408 | AP6: 1950 | AQ6: 510 | AR6: 610 | AS6: 7144 | AT6: 1809779 | AU6: 0.0757 | AV6: 2020 | AW6: #DIV/0!
A7: Bloco K - Medidor 1 | B7: 0.72 | C7: =MONTH(D7) -> 1 | D7: 44197 | E7: 11968 | F7: 119152 | G7: =E7/F7 -> 0.10044313 | H7: 19269 | I7: 227734 | J7: =H7/I7 -> 0.084611872 | K7: 10826 | L7: 103575 | M7: 13875 | N7: 192083 | O7: 11403 | P7: 145316 | Q7: =O7/P7 -> 0.078470368 | R7: 8799 | S7: 94242 | T7: =R7/S7 -> 0.093366015 | U7: 2046 | V7: 90319 | W7: =U7/V7 -> 0.022653041 | X7: 15356 | Y7: 163924 | Z7: =X7/Y7 -> 0.093677558 | AA7: 6204 | AB7: 87396 | AC7: =AA7/AB7 -> 0.070987231 | AD7: 5165 | AE7: 83423 | AF7: =AD7/AE7 -> 0.061913381 | AG7: 5765 | AH7: 90982 | AI7: =AG7/AH7 -> 0.063364182 | AJ7: 338 | AL7: 4121 | AM7: 25800 | AN7: 6027 | AO7: 329 | AP7: 1180 | AQ7: 320 | AR7: 750 | AS7: 3264 | AT7: 1550952 | AU7: 0.4279 | AV7: 2021 | AW7: 15611908
A8: Bloco K - Medidor 2 | B8: 0.89 | C8: =MONTH(D8) -> 1 | D8: 44562 | E8: 10370 | F8: 107535 | G8: =E8/F8 -> 0.096433719 | H8: 16638 | I8: 229451 | J8: =H8/I8 -> 0.072512214 | K8: 10451 | L8: 93932 | M8: 11411 | N8: 162908 | O8: 6773 | P8: 87436 | Q8: =O8/P8 -> 0.077462372 | R8: 8924 | S8: 97899 | T8: =R8/S8 -> 0.09115517 | U8: 429 | V8: 107879 | W8: =U8/V8 -> 0.0039766776 | X8: 8595 | Y8: 85119 | Z8: =X8/Y8 -> 0.10097628 | AA8: 6003 | AB8: 78481 | AC8: =AA8/AB8 -> 0.076489851 | AD8: 4434 | AE8: 63797 | AF8: =AD8/AE8 -> 0.069501701 | AG8: 2923 | AH8: 60812 | AI8: =AG8/AH8 -> 0.048066171 | AJ8: 479 | AL8: 6543 | AM8: 24300 | AN8: 2251 | AO8: 415 | AP8: 1350 | AQ8: 380 | AR8: 550 | AS8: 3473 | AT8: 1301942 | AU8: -0.034 | AV8: 2022 | AW8: 15014626
A9: Bloco J | B9: 0.97 | C9: =MONTH(D9) -> 1 | D9: 44927 | E9: 10618 | F9: 114129 | G9: =E9/F9 -> 0.093035074 | H9: 17604 | I9: 232927 | J9: =H9/I9 -> 0.075577327 | M9: 12789 | N9: 175323 | O9: 7885 | P9: 97896 | Q9: =O9/P9 -> 0.08054466 | R9: 10016 | S9: 109867 | T9: =R9/S9 -> 0.091164772 | U9: 474 | V9: 72236 | W9: =U9/V9 -> 0.0065618251 | X9: 9857 | Y9: 99115 | Z9: =X9/Y9 -> 0.099450134 | AA9: 6567 | AB9: 84456 | AC9: =AA9/AB9 -> 0.077756465 | AD9: 2112 | AE9: 75845 | AF9: =AD9/AE9 -> 0.027846265 | AG9: 3716 | AH9: 73669 | AI9: =AG9/AH9 -> 0.050441841 | AM9: 27300 | AN9: 3501 | AO9: 124800 | AP9: 1160 | AQ9: 7500 | AR9: 530 | AS9: 2029 | AT9: 1383922 | AU9: 0.1253 | AV9: 2023 | AW9: 15823057
A10: 516N | B10: 0.695 | C10: =MONTH(D10) -> 1 | D10: 45292 | E10: 11108 | F10: 135773 | G10: =E10/F10 -> 0.081813026 | H10: 14661 | I10: 222798 | J10: =H10/I10 -> 0.065804002 | M10: 19244 | N10: 186718 | O10: 9670 | P10: 108132 | Q10: =O10/P10 -> 0.089427736 | R10: 9838 | S10: 114696 | T10: =R10/S10 -> 0.085774569 | U10: 575 | V10: 84435 | W10: =U10/V10 -> 0.0068099722 | X10: 19568 | Y10: 201351 | Z10: =X10/Y10 -> 0.097183525 | AA10: 9373 | AB10: 84880 | AC10: =AA10/AB10 -> 0.11042648 | AD10: 2822 | AE10: 93785 | AF10: =AD10/AE10 -> 0.0300901 | AG10: 2060 | AH10: 34663 | AI10: =AG10/AH10 -> 0.059429363 | AJ10: 0 | AM10: 32400 | AN10: 0 | AO10: 589 | AP10: 1310 | AQ10: 530 | AR10: 700 | AS10: 3036 | AT10: 1404716 | AV10: 2024 | AW10: 6908920
A11: Órgãos Centrais | B11: 0.935 | C11: =MONTH(D11) -> 1 | D11: 45658 | E11: =_xlfn.FORECAST.ETS(DATE(2025,1,1),E$4:E$10,$D$4:$D$10,1,1)+_xlfn.FORECAST.ETS.CONFINT(DATE(2025,1,1),E$4:E$10,$D$4:$D$10,$B$4,1) -> 13569.726 | F11: =_xlfn.FORECAST.ETS(DATE(2025,1,1),F$4:F$10,$D$4:$D$10,1,1)+_xlfn.FORECAST.ETS.CONFINT(DATE(2025,1,1),F$4:F$10,$D$4:$D$10,$B$4,1) -> 131634.28 | G11: =E11/F11 -> 0.10308656 | H11: =_xlfn.FORECAST.ETS(DATE(2025,1,1),H$4:H$10,$D$4:$D$10,1,1)+_xlfn.FORECAST.ETS.CONFINT(DATE(2025,1,1),H$4:H$10,$D$4:$D$10,$B$5,1) -> 15393.781 | I11: =_xlfn.FORECAST.ETS(DATE(2025,1,1),I$4:I$10,$D$4:$D$10,1,1)+_xlfn.FORECAST.ETS.CONFINT(DATE(2025,1,1),I$4:I$10,$D$4:$D$10,$B$5,1) -> 220283.06 | J11: =H11/I11 -> 0.069881819 | O11: =_xlfn.FORECAST.ETS(DATE(2025,1,1),O$4:O$10,$D$4:$D$10,1,1)+_xlfn.FORECAST.ETS.CONFINT(DATE(2025,1,1),O$4:O$10,$D$4:$D$10,$B$6,1) -> 12122.297 | P11: =_xlfn.FORECAST.ETS(DATE(2025,1,1),P$4:P$10,$D$4:$D$10,1,1)+_xlfn.FORECAST.ETS.CONFINT(DATE(2025,1,1),P$4:P$10,$D$4:$D$10,$B$6,1) -> 111012.67 | Q11: =O11/P11 -> 0.10919742 | R11: =_xlfn.FORECAST.ETS(DATE(2025,1,1),R$4:R$10,$D$4:$D$10,1,1)+_xlfn.FORECAST.ETS.CONFINT(DATE(2025,1,1),R$4:R$10,$D$4:$D$10,$B$7,1) -> 10386.569 | S11: =_xlfn.FORECAST.ETS(DATE(2025,1,1),S$4:S$10,$D$4:$D$10,1,1)+_xlfn.FORECAST.ETS.CONFINT(DATE(2025,1,1),S$4:S$10,$D$4:$D$10,$B$7,1) -> 122240.36 | T11: =R11/S11 -> 0.08496841 | U11: =_xlfn.FORECAST.ETS(DATE(2025,1,1),U$4:U$10,$D$4:$D$10,1,1)+_xlfn.FORECAST.ETS.CONFINT(DATE(2025,1,1),U$4:U$10,$D$4:$D$10,$B$8,1) -> 1612.6305 | V11: =_xlfn.FORECAST.ETS(DATE(2025,1,1),V$4:V$10,$D$4:$D$10,1,1)+_xlfn.FORECAST.ETS.CONFINT(DATE(2025,1,1),V$4:V$10,$D$4:$D$10,$B$8,1) -> 80397.908 | W11: =U11/V11 -> 0.020058115 | X11: =_xlfn.FORECAST.ETS(DATE(2025,1,1),X$4:X$10,$D$4:$D$10,1,1)+_xlfn.FORECAST.ETS.CONFINT(DATE(2025,1,1),X$4:X$10,$D$4:$D$10,$B$9,1) -> 21573.531 | Y11: =_xlfn.FORECAST.ETS(DATE(2025,1,1),Y$4:Y$10,$D$4:$D$10,1,1)+_xlfn.FORECAST.ETS.CONFINT(DATE(2025,1,1),Y$4:Y$10,$D$4:$D$10,$B$9,1) -> 216817.68 | Z11: =X11/Y11 -> 0.09950079 | AA11: =_xlfn.FORECAST.ETS(DATE(2025,1,1),AA$4:AA$10,$D$4:$D$10,1,1)+_xlfn.FORECAST.ETS.CONFINT(DATE(2025,1,1),AA$4:AA$10,$D$4:$D$10,$B$10,1) -> 8290.6654 | AB11: =_xlfn.FORECAST.ETS(DATE(2025,1,1),AB$4:AB$10,$D$4:$D$10,1,1)+_xlfn.FORECAST.ETS.CONFINT(DATE(2025,1,1),AB$4:AB$10,$D$4:$D$10,$B$10,1) -> 83711.702 | AC11: =AA11/AB11 -> 0.099038309 | AD11: =_xlfn.FORECAST.ETS(DATE(2025,1,1),AD$4:AD$10,$D$4:$D$10,1,1)+_xlfn.FORECAST.ETS.CONFINT(DATE(2025,1,1),AD$4:AD$10,$D$4:$D$10,$B$11,1) -> 4804.0976 | AE11: =_xlfn.FORECAST.ETS(DATE(2025,1,1),AE$4:AE$10,$D$4:$D$10,1,1)+_xlfn.FORECAST.ETS.CONFINT(DATE(2025,1,1),AE$4:AE$10,$D$4:$D$10,$B$11,1) -> 91362.149 | AF11: =AD11/AE11 -> 0.052583019 | AG11: =_xlfn.FORECAST.ETS(DATE(2025,1,1),AG$4:AG$10,$D$4:$D$10,1,1)+_xlfn.FORECAST.ETS.CONFINT(DATE(2025,1,1),AG$4:AG$10,$D$4:$D$10,$B$12,1) -> 2636.2455 | AH11: =_xlfn.FORECAST.ETS(DATE(2025,1,1),AH$4:AH$10,$D$4:$D$10,1,1)+_xlfn.FORECAST.ETS.CONFINT(DATE(2025,1,1),AH$4:AH$10,$D$4:$D$10,$B$12,1) -> 43054.296 | AI11: =AG11/AH11 -> 0.06123072 | AM11: =_xlfn.FORECAST.ETS(DATE(2025,1,1),AM$4:AM$10,$D$4:$D$10,1,1)+_xlfn.FORECAST.ETS.CONFINT(DATE(2025,1,1),AM$4:AM$10,$D$4:$D$10,$C$1,1) -> 24072.701 | AN11: =_xlfn.FORECAST.ETS(DATE(2025,1,1),AN$4:AN$10,$D$4:$D$10,1,1)+_xlfn.FORECAST.ETS.CONFINT(DATE(2025,1,1),AN$4:AN$10,$D$4:$D$10,$C$1,1) -> 1920.267 | AO11: =_xlfn.FORECAST.ETS(DATE(2025,1,1),AO$4:AO$10,$D$4:$D$10,1,1)+_xlfn.FORECAST.ETS.CONFINT(DATE(2025,1,1),AO$4:AO$10,$D$4:$D$10,$C$1,1) -> 83771.505 | AP11: =_xlfn.FORECAST.ETS(DATE(2025,1,1),AP$4:AP$10,$D$4:$D$10,1,1)+_xlfn.FORECAST.ETS.CONFINT(DATE(2025,1,1),AP$4:AP$10,$D$4:$D$10,$C$1,1) -> 1013.5221 | AQ11: =_xlfn.FORECAST.ETS(DATE(2025,1,1),AQ$4:AQ$10,$D$4:$D$10,1,1)+_xlfn.FORECAST.ETS.CONFINT(DATE(2025,1,1),AQ$4:AQ$10,$D$4:$D$10,$C$1,1) -> 5135.8322 | AR11: =_xlfn.FORECAST.ETS(DATE(2025,1,1),AR$4:AR$10,$D$4:$D$10,1,1)+_xlfn.FORECAST.ETS.CONFINT(DATE(2025,1,1),AR$4:AR$10,$D$4:$D$10,$C$1,1) -> 505.68504 | AS11: =_xlfn.FORECAST.ETS(DATE(2025,1,1),AS$4:AS$10,$D$4:$D$10,1,1)+_xlfn.FORECAST.ETS.CONFINT(DATE(2025,1,1),AS$4:AS$10,$D$4:$D$10,$C$1,1) -> 513.97937
A12: Órgãos Regionais | B12: 0.565 | C12: =MONTH(D12) -> 1 | D12: 46023 | E12: =_xlfn.FORECAST.ETS(DATE(2026,1,1),E$4:E$11,$D$4:$D$11,1,1)+_xlfn.FORECAST.ETS.CONFINT(DATE(2026,1,1),E$4:E$11,$D$4:$D$11,$B$4,1) -> 14639.547 | F12: =_xlfn.FORECAST.ETS(DATE(2026,1,1),F$4:F$11,$D$4:$D$11,1,1)+_xlfn.FORECAST.ETS.CONFINT(DATE(2026,1,1),F$4:F$11,$D$4:$D$11,$B$4,1) -> 139522.07 | G12: =E12/F12 -> 0.10492639 | H12: =_xlfn.FORECAST.ETS(DATE(2026,1,1),H$4:H$11,$D$4:$D$11,1,1)+_xlfn.FORECAST.ETS.CONFINT(DATE(2026,1,1),H$4:H$11,$D$4:$D$11,$D$1,1) -> 13901.803 | I12: =_xlfn.FORECAST.ETS(DATE(2026,1,1),I$4:I$11,$D$4:$D$11,1,1)+_xlfn.FORECAST.ETS.CONFINT(DATE(2026,1,1),I$4:I$11,$D$4:$D$11,$D$1,1) -> 209765.41 | O12: =_xlfn.FORECAST.ETS(DATE(2026,1,1),O$4:O$11,$D$4:$D$11,1,1)+_xlfn.FORECAST.ETS.CONFINT(DATE(2026,1,1),O$4:O$11,$D$4:$D$11,$D$1,1) -> 11096.173 | P12: =_xlfn.FORECAST.ETS(DATE(2026,1,1),P$4:P$11,$D$4:$D$11,1,1)+_xlfn.FORECAST.ETS.CONFINT(DATE(2026,1,1),P$4:P$11,$D$4:$D$11,$D$1,1) -> 99285.069 | R12: =_xlfn.FORECAST.ETS(DATE(2026,1,1),R$4:R$11,$D$4:$D$11,1,1)+_xlfn.FORECAST.ETS.CONFINT(DATE(2026,1,1),R$4:R$11,$D$4:$D$11,$D$1,1) -> 10824.714 | S12: =_xlfn.FORECAST.ETS(DATE(2026,1,1),S$4:S$11,$D$4:$D$11,1,1)+_xlfn.FORECAST.ETS.CONFINT(DATE(2026,1,1),S$4:S$11,$D$4:$D$11,$D$1,1) -> 128984.96 | U12: =_xlfn.FORECAST.ETS(DATE(2026,1,1),U$4:U$11,$D$4:$D$11,1,1)+_xlfn.FORECAST.ETS.CONFINT(DATE(2026,1,1),U$4:U$11,$D$4:$D$11,$D$1,1) -> 1545.5795 | V12: =_xlfn.FORECAST.ETS(DATE(2026,1,1),V$4:V$11,$D$4:$D$11,1,1)+_xlfn.FORECAST.ETS.CONFINT(DATE(2026,1,1),V$4:V$11,$D$4:$D$11,$D$1,1) -> 70102.837
D13: 46388 | E13: =_xlfn.FORECAST.ETS(DATE(2027,1,1),E$4:E$12,$D$4:$D$12,1,1)+_xlfn.FORECAST.ETS.CONFINT(DATE(2027,1,1),E$4:E$12,$D$4:$D$12,$B$4,1) -> 15529.925 | F13: =_xlfn.FORECAST.ETS(DATE(2027,1,1),F$4:F$12,$D$4:$D$12,1,1)+_xlfn.FORECAST.ETS.CONFINT(DATE(2027,1,1),F$4:F$12,$D$4:$D$12,$B$4,1) -> 164070.71 | G13: =E13/F13 -> 0.094653851 | H13: =_xlfn.FORECAST.ETS(DATE(2027,1,1),H$4:H$12,$D$4:$D$12,1,1)+_xlfn.FORECAST.ETS.CONFINT(DATE(2027,1,1),H$4:H$12,$D$4:$D$12,$D$1,1) -> 12571.17 | I13: =_xlfn.FORECAST.ETS(DATE(2027,1,1),I$4:I$12,$D$4:$D$12,1,1)+_xlfn.FORECAST.ETS.CONFINT(DATE(2027,1,1),I$4:I$12,$D$4:$D$12,$D$1,1) -> 210130.57 | O13: =_xlfn.FORECAST.ETS(DATE(2027,1,1),O$4:O$12,$D$4:$D$12,1,1)+_xlfn.FORECAST.ETS.CONFINT(DATE(2027,1,1),O$4:O$12,$D$4:$D$12,$D$1,1) -> 13835.438 | P13: =_xlfn.FORECAST.ETS(DATE(2027,1,1),P$4:P$12,$D$4:$D$12,1,1)+_xlfn.FORECAST.ETS.CONFINT(DATE(2027,1,1),P$4:P$12,$D$4:$D$12,$D$1,1) -> 98686.024 | R13: =_xlfn.FORECAST.ETS(DATE(2027,1,1),R$4:R$12,$D$4:$D$12,1,1)+_xlfn.FORECAST.ETS.CONFINT(DATE(2027,1,1),R$4:R$12,$D$4:$D$12,$D$1,1) -> 11343.573 | S13: =_xlfn.FORECAST.ETS(DATE(2027,1,1),S$4:S$12,$D$4:$D$12,1,1)+_xlfn.FORECAST.ETS.CONFINT(DATE(2027,1,1),S$4:S$12,$D$4:$D$12,$D$1,1) -> 137053.85 | U13: =_xlfn.FORECAST.ETS(DATE(2027,1,1),U$4:U$12,$D$4:$D$12,1,1)+_xlfn.FORECAST.ETS.CONFINT(DATE(2027,1,1),U$4:U$12,$D$4:$D$12,$D$1,1) -> 1805.8905 | V13: =_xlfn.FORECAST.ETS(DATE(2027,1,1),V$4:V$12,$D$4:$D$12,1,1)+_xlfn.FORECAST.ETS.CONFINT(DATE(2027,1,1),V$4:V$12,$D$4:$D$12,$D$1,1) -> 69313.389
D14: 46753 | E14: =_xlfn.FORECAST.ETS(DATE(2028,1,1),E$4:E$13,$D$4:$D$13,1,1)+_xlfn.FORECAST.ETS.CONFINT(DATE(2028,1,1),E$4:E$13,$D$4:$D$13,$B$4,1) -> 16994.778 | F14: =_xlfn.FORECAST.ETS(DATE(2028,1,1),F$4:F$13,$D$4:$D$13,1,1)+_xlfn.FORECAST.ETS.CONFINT(DATE(2028,1,1),F$4:F$13,$D$4:$D$13,$B$4,1) -> 191641.78 | G14: =E14/F14 -> 0.088679921 | H14: =_xlfn.FORECAST.ETS(DATE(2028,1,1),H$4:H$13,$D$4:$D$13,1,1)+_xlfn.FORECAST.ETS.CONFINT(DATE(2028,1,1),H$4:H$13,$D$4:$D$13,$D$1,1) -> 11527.663 | I14: =_xlfn.FORECAST.ETS(DATE(2028,1,1),I$4:I$13,$D$4:$D$13,1,1)+_xlfn.FORECAST.ETS.CONFINT(DATE(2028,1,1),I$4:I$13,$D$4:$D$13,$D$1,1) -> 209539 | O14: =_xlfn.FORECAST.ETS(DATE(2028,1,1),O$4:O$13,$D$4:$D$13,1,1)+_xlfn.FORECAST.ETS.CONFINT(DATE(2028,1,1),O$4:O$13,$D$4:$D$13,$D$1,1) -> 15293.011 | P14: =_xlfn.FORECAST.ETS(DATE(2028,1,1),P$4:P$13,$D$4:$D$13,1,1)+_xlfn.FORECAST.ETS.CONFINT(DATE(2028,1,1),P$4:P$13,$D$4:$D$13,$D$1,1) -> 99710.295 | R14: =_xlfn.FORECAST.ETS(DATE(2028,1,1),R$4:R$13,$D$4:$D$13,1,1)+_xlfn.FORECAST.ETS.CONFINT(DATE(2028,1,1),R$4:R$13,$D$4:$D$13,$D$1,1) -> 11920.476 | S14: =_xlfn.FORECAST.ETS(DATE(2028,1,1),S$4:S$13,$D$4:$D$13,1,1)+_xlfn.FORECAST.ETS.CONFINT(DATE(2028,1,1),S$4:S$13,$D$4:$D$13,$D$1,1) -> 146749.44 | U14: =_xlfn.FORECAST.ETS(DATE(2028,1,1),U$4:U$13,$D$4:$D$13,1,1)+_xlfn.FORECAST.ETS.CONFINT(DATE(2028,1,1),U$4:U$13,$D$4:$D$13,$D$1,1) -> 2089.4409 | V14: =_xlfn.FORECAST.ETS(DATE(2028,1,1),V$4:V$13,$D$4:$D$13,1,1)+_xlfn.FORECAST.ETS.CONFINT(DATE(2028,1,1),V$4:V$13,$D$4:$D$13,$D$1,1) -> 64764.1
D15: 47119 | E15: =_xlfn.FORECAST.ETS(DATE(2029,1,1),E$4:E$14,$D$4:$D$14,1,1)+_xlfn.FORECAST.ETS.CONFINT(DATE(2029,1,1),E$4:E$14,$D$4:$D$14,$B$4,1) -> 18828.177 | F15: =_xlfn.FORECAST.ETS(DATE(2029,1,1),F$4:F$14,$D$4:$D$14,1,1)+_xlfn.FORECAST.ETS.CONFINT(DATE(2029,1,1),F$4:F$14,$D$4:$D$14,$B$4,1) -> 244342.1 | G15: =E15/F15 -> 0.077056624 | H15: =_xlfn.FORECAST.ETS(DATE(2029,1,1),H$4:H$14,$D$4:$D$14,1,1)+_xlfn.FORECAST.ETS.CONFINT(DATE(2029,1,1),H$4:H$14,$D$4:$D$14,$D$1,1) -> 10408.387 | I15: =_xlfn.FORECAST.ETS(DATE(2029,1,1),I$4:I$14,$D$4:$D$14,1,1)+_xlfn.FORECAST.ETS.CONFINT(DATE(2029,1,1),I$4:I$14,$D$4:$D$14,$D$1,1) -> 211691.31 | O15: =_xlfn.FORECAST.ETS(DATE(2029,1,1),O$4:O$14,$D$4:$D$14,1,1)+_xlfn.FORECAST.ETS.CONFINT(DATE(2029,1,1),O$4:O$14,$D$4:$D$14,$D$1,1) -> 16854.027 | P15: =_xlfn.FORECAST.ETS(DATE(2029,1,1),P$4:P$14,$D$4:$D$14,1,1)+_xlfn.FORECAST.ETS.CONFINT(DATE(2029,1,1),P$4:P$14,$D$4:$D$14,$D$1,1) -> 97547.158 | R15: =_xlfn.FORECAST.ETS(DATE(2029,1,1),R$4:R$14,$D$4:$D$14,1,1)+_xlfn.FORECAST.ETS.CONFINT(DATE(2029,1,1),R$4:R$14,$D$4:$D$14,$D$1,1) -> 13075.055 | S15: =_xlfn.FORECAST.ETS(DATE(2029,1,1),S$4:S$14,$D$4:$D$14,1,1)+_xlfn.FORECAST.ETS.CONFINT(DATE(2029,1,1),S$4:S$14,$D$4:$D$14,$D$1,1) -> 164717.18 | U15: =_xlfn.FORECAST.ETS(DATE(2029,1,1),U$4:U$14,$D$4:$D$14,1,1)+_xlfn.FORECAST.ETS.CONFINT(DATE(2029,1,1),U$4:U$14,$D$4:$D$14,$D$1,1) -> 2397.4694 | V15: =_xlfn.FORECAST.ETS(DATE(2029,1,1),V$4:V$14,$D$4:$D$14,1,1)+_xlfn.FORECAST.ETS.CONFINT(DATE(2029,1,1),V$4:V$14,$D$4:$D$14,$D$1,1) -> 60807.527
A16: 0 | C16: =MONTH(D16) -> 2 | D16: 43132 | E16: 13867 | F16: 173810 | G16: =E16/F16 -> 0.079782521 | H16: 23524 | I16: 263994 | J16: 0.0891 | K16: 8432 | L16: 140686 | M16: 14476 | N16: 199410 | O16: 8794 | P16: 127812 | Q16: 0.0688 | R16: 10489 | S16: 106711 | T16: 0.0983 | U16: 699 | V16: 93338 | W16: 0.0075 | X16: 14979 | Y16: 180628 | Z16: 0.0829 | AA16: 9401 | AB16: 88187 | AC16: 0.1066 | AD16: 5320 | AE16: 90748 | AF16: 0.0586 | AG16: 6350 | AH16: 95498 | AI16: 0.0665 | AJ16: 57 | AL16: 1944 | AM16: 36000 | AN16: 2733 | AO16: 603 | AP16: 1960 | AQ16: 780 | AR16: 590 | AS16: 7127 | AT16: 1728948 | AU16: -0.0711
A17: =0.005+A16 -> 0.005 | C17: =MONTH(D17) -> 2 | D17: 43497 | E17: 15603 | F17: 197396 | G17: =E17/F17 -> 0.079044155 | H17: 26425 | I17: 287501 | J17: 0.0919 | K17: 10589 | L17: 124515 | M17: 16065 | N17: 214694 | O17: 6779 | P17: 124542 | Q17: 0.0544 | R17: 9216 | S17: 102729 | T17: 0.0897 | U17: 812 | V17: 95066 | W17: 0.0085 | X17: 12692 | Y17: 138956 | Z17: 0.0913 | AA17: 6363 | AB17: 105216 | AC17: 0.0605 | AD17: 6211 | AE17: 95651 | AF17: 0.0649 | AG17: 6333 | AH17: 119657 | AI17: 0.0529 | AJ17: 154 | AL17: 3681 | AM17: 35400 | AN17: 2841 | AO17: 425 | AP17: 1730 | AQ17: 500 | AR17: 1070 | AS17: 7958 | AT17: 1776771 | AU17: -0.1
A18: =0.005+A17 -> 0.01 | C18: =MONTH(D18) -> 2 | D18: 43862 | E18: 13525 | F18: 128526 | G18: =E18/F18 -> 0.10523163 | H18: 22776 | I18: 246468 | J18: 0.0924 | K18: 12380 | L18: 111977 | M18: 15934 | N18: 194957 | O18: 6652 | P18: 121753 | Q18: 0.0546 | R18: 9428 | S18: 105708 | T18: 0.0892 | U18: 739 | V18: 103556 | W18: 0.0071 | X18: 12433 | Y18: 127145 | Z18: 0.0978 | AA18: 8955 | AB18: 87037 | AC18: 0.1029 | AD18: 6562 | AE18: 92959 | AF18: 0.0706 | AG18: 6498 | AH18: 91034 | AI18: 0.0714 | AJ18: 129 | AL18: 2237 | AM18: 34200 | AN18: 2352 | AO18: 410 | AP18: 1550 | AQ18: 380 | AR18: 670 | AS18: 6738 | AT18: 1575669 | AU18: -0.1294
A19: =0.005+A18 -> 0.015 | C19: =MONTH(D19) -> 2 | D19: 44228 | E19: 3751 | F19: 32176 | G19: =E19/F19 -> 0.11657757 | H19: 16775 | I19: 196578 | J19: 0.0853 | K19: 10273 | L19: 97710 | M19: 13046 | N19: 166478 | O19: 5752 | P19: 74271 | Q19: 0.0774 | R19: 8699 | S19: 96322 | T19: 0.0903 | U19: 3897 | V19: 88217 | W19: 0.0442 | X19: 11296 | Y19: 112090 | Z19: 0.1008 | AA19: 5894 | AB19: 76364 | AC19: 0.0772 | AD19: 4531 | AE19: 70379 | AF19: 0.0644 | AG19: 5521 | AH19: 97144 | AI19: 0.0568 | AJ19: 367 | AL19: 3845 | AM19: 24300 | AN19: 2782 | AO19: 307 | AP19: 1180 | AQ19: 310 | AR19: 700 | AS19: 2597 | AT19: 1233553 | AU19: -0.2046
A20: =0.005+A19 -> 0.02 | C20: =MONTH(D20) -> 2 | D20: 44593 | E20: 9856 | F20: 99751 | G20: =E20/F20 -> 0.098806027 | H20: 15959 | I20: 198172 | J20: 0.0805 | K20: 6560 | L20: 60668 | M20: 10891 | N20: 150477 | O20: 6412 | P20: 75911 | Q20: 0.0845 | R20: 8711 | S20: 91079 | T20: 0.0956 | U20: 497 | V20: 79354 | W20: 0.0063 | X20: 8832 | Y20: 90512 | Z20: 0.0976 | AA20: 5779 | AB20: 71303 | AC20: 0.081 | AD20: 4129 | AE20: 64037 | AF20: 0.0645 | AG20: 2886 | AH20: 57343 | AI20: 0.0503 | AJ20: 71 | AL20: 1945 | AM20: 14700 | AN20: 2886 | AO20: 434 | AP20: 1320 | AQ20: 400 | AR20: 500 | AS20: 3603 | AT20: 1144979 | AU20: -0.1206
A21: =0.005+A20 -> 0.025 | C21: =MONTH(D21) -> 2 | D21: 44958 | E21: 11390 | F21: 122446 | G21: =E21/F21 -> 0.093020597 | H21: 15227 | I21: 223833 | J21: 0.068 | M21: 13192 | N21: 165899 | O21: 9512 | P21: 106121 | Q21: 0.0896 | R21: 9599 | S21: 102751 | T21: 0.0934 | U21: 548 | V21: 73856 | W21: 0.0074 | X21: 10804 | Y21: 103044 | Z21: 0.1048 | AA21: 6525 | AB21: 77409 | AC21: 0.0843 | AD21: 1843 | AE21: 70219 | AF21: 0.0262 | AG21: 3949 | AH21: 69862 | AI21: 0.0565 | AM21: 30600 | AN21: 2728 | AO21: 125700 | AP21: 1250 | AQ21: 10200 | AR21: 710 | AS21: 2335 | AT21: 1371553 | AU21: -0.0089
A22: =0.005+A21 -> 0.03 | C22: =MONTH(D22) -> 2 | D22: 45323 | E22: 10421 | F22: 125839 | G22: =E22/F22 -> 0.082812165 | H22: 13475 | I22: 210117 | J22: 0.0641 | M22: 18738 | N22: 169682 | O22: 9240 | P22: 100358 | Q22: 0.0921 | R22: 9278 | S22: 108935 | T22: 0.0852 | U22: 416 | V22: 59016 | W22: 0.007 | X22: 19101 | Y22: 197189 | Z22: 0.0969 | AA22: 8035 | AB22: 74862 | AC22: 0.1073 | AD22: 2558 | AE22: 82173 | AF22: 0.0311 | AG22: 1915 | AH22: 39149 | AI22: 0.0489 | AJ22: 0 | AM22: 36600 | AN22: 9637 | AO22: 591 | AP22: 1370 | AQ22: 520 | AR22: 750 | AS22: 3564 | AT22: 1313530
A23: =0.005+A22 -> 0.035 | C23: =MONTH(D23) -> 2 | D23: 45689 | E23: =_xlfn.FORECAST.ETS(DATE(2025,1,1),E$16:E$22,$D$16:$D$22,1,1)+_xlfn.FORECAST.ETS.CONFINT(DATE(2025,1,1),E$16:E$22,$D$16:$D$22,$B$4,1) -> 13801.62 | F23: =_xlfn.FORECAST.ETS(DATE(2025,1,1),F$16:F$22,$D$16:$D$22,1,1)+_xlfn.FORECAST.ETS.CONFINT(DATE(2025,1,1),F$16:F$22,$D$16:$D$22,$B$4,1) -> 171094.86 | G23: =E23/F23 -> 0.080666479 | H23: =_xlfn.FORECAST.ETS(DATE(2025,1,1),H$16:H$22,$D$16:$D$22,1,1)+_xlfn.FORECAST.ETS.CONFINT(DATE(2025,1,1),H$16:H$22,$D$16:$D$22,$B$5,1) -> 13496.493 | I23: =_xlfn.FORECAST.ETS(DATE(2025,1,1),I$16:I$22,$D$16:$D$22,1,1)+_xlfn.FORECAST.ETS.CONFINT(DATE(2025,1,1),I$16:I$22,$D$16:$D$22,$B$5,1) -> 207677.74 | J23: =H23/I23 -> 0.064987674 | O23: =_xlfn.FORECAST.ETS(DATE(2025,1,1),O$16:O$22,$D$16:$D$22,1,1)+_xlfn.FORECAST.ETS.CONFINT(DATE(2025,1,1),O$16:O$22,$D$16:$D$22,$B$6,1) -> 11039.06 | P23: =_xlfn.FORECAST.ETS(DATE(2025,1,1),P$16:P$22,$D$16:$D$22,1,1)+_xlfn.FORECAST.ETS.CONFINT(DATE(2025,1,1),P$16:P$22,$D$16:$D$22,$B$6,1) -> 105755.17 | Q23: =O23/P23 -> 0.10438317 | R23: =_xlfn.FORECAST.ETS(DATE(2025,1,1),R$16:R$22,$D$16:$D$22,1,1)+_xlfn.FORECAST.ETS.CONFINT(DATE(2025,1,1),R$16:R$22,$D$16:$D$22,$B$7,1) -> 9786.1125 | S23: =_xlfn.FORECAST.ETS(DATE(2025,1,1),S$16:S$22,$D$16:$D$22,1,1)+_xlfn.FORECAST.ETS.CONFINT(DATE(2025,1,1),S$16:S$22,$D$16:$D$22,$B$7,1) -> 109344 | T23: =R23/S23 -> 0.089498394 | U23: =_xlfn.FORECAST.ETS(DATE(2025,1,1),U$16:U$22,$D$16:$D$22,1,1)+_xlfn.FORECAST.ETS.CONFINT(DATE(2025,1,1),U$16:U$22,$D$16:$D$22,$B$8,1) -> 2550.9751 | V23: =_xlfn.FORECAST.ETS(DATE(2025,1,1),V$16:V$22,$D$16:$D$22,1,1)+_xlfn.FORECAST.ETS.CONFINT(DATE(2025,1,1),V$16:V$22,$D$16:$D$22,$B$8,1) -> 66553.043 | W23: =U23/V23 -> 0.038329954 | X23: =_xlfn.FORECAST.ETS(DATE(2025,1,1),X$16:X$22,$D$16:$D$22,1,1)+_xlfn.FORECAST.ETS.CONFINT(DATE(2025,1,1),X$16:X$22,$D$16:$D$22,$B$9,1) -> 26101.826 | Y23: =_xlfn.FORECAST.ETS(DATE(2025,1,1),Y$16:Y$22,$D$16:$D$22,1,1)+_xlfn.FORECAST.ETS.CONFINT(DATE(2025,1,1),Y$16:Y$22,$D$16:$D$22,$B$9,1) -> 276170.49 | Z23: =X23/Y23 -> 0.094513451 | AA23: =_xlfn.FORECAST.ETS(DATE(2025,1,1),AA$16:AA$22,$D$16:$D$22,1,1)+_xlfn.FORECAST.ETS.CONFINT(DATE(2025,1,1),AA$16:AA$22,$D$16:$D$22,$B$10,1) -> 8167.7003 | AB23: =_xlfn.FORECAST.ETS(DATE(2025,1,1),AB$16:AB$22,$D$16:$D$22,1,1)+_xlfn.FORECAST.ETS.CONFINT(DATE(2025,1,1),AB$16:AB$22,$D$16:$D$22,$B$10,1) -> 79584.945 | AC23: =AA23/AB23 -> 0.10262871 | AD23: =_xlfn.FORECAST.ETS(DATE(2025,1,1),AD$16:AD$22,$D$16:$D$22,1,1)+_xlfn.FORECAST.ETS.CONFINT(DATE(2025,1,1),AD$16:AD$22,$D$16:$D$22,$B$11,1) -> 3597.8205 | AE23: =_xlfn.FORECAST.ETS(DATE(2025,1,1),AE$16:AE$22,$D$16:$D$22,1,1)+_xlfn.FORECAST.ETS.CONFINT(DATE(2025,1,1),AE$16:AE$22,$D$16:$D$22,$B$11,1) -> 80942.462 | AF23: =AD23/AE23 -> 0.044449111 | AG23: =_xlfn.FORECAST.ETS(DATE(2025,1,1),AG$16:AG$22,$D$16:$D$22,1,1)+_xlfn.FORECAST.ETS.CONFINT(DATE(2025,1,1),AG$16:AG$22,$D$16:$D$22,$B$12,1) -> 2323.8595 | AH23: =_xlfn.FORECAST.ETS(DATE(2025,1,1),AH$16:AH$22,$D$16:$D$22,1,1)+_xlfn.FORECAST.ETS.CONFINT(DATE(2025,1,1),AH$16:AH$22,$D$16:$D$22,$B$12,1) -> 56114.13 | AI23: =AG23/AH23 -> 0.041413089 | AM23: =_xlfn.FORECAST.ETS(DATE(2025,1,1),AM$4:AM$10,$D$4:$D$10,1,1)+_xlfn.FORECAST.ETS.CONFINT(DATE(2025,1,1),AM$4:AM$10,$D$4:$D$10,$C$1,1) -> 24072.701 | AN23: =_xlfn.FORECAST.ETS(DATE(2025,1,1),AN$4:AN$10,$D$4:$D$10,1,1)+_xlfn.FORECAST.ETS.CONFINT(DATE(2025,1,1),AN$4:AN$10,$D$4:$D$10,$C$1,1) -> 1920.267 | AO23: =_xlfn.FORECAST.ETS(DATE(2025,1,1),AO$4:AO$10,$D$4:$D$10,1,1)+_xlfn.FORECAST.ETS.CONFINT(DATE(2025,1,1),AO$4:AO$10,$D$4:$D$10,$C$1,1) -> 83771.505 | AP23: =_xlfn.FORECAST.ETS(DATE(2025,1,1),AP$4:AP$10,$D$4:$D$10,1,1)+_xlfn.FORECAST.ETS.CONFINT(DATE(2025,1,1),AP$4:AP$10,$D$4:$D$10,$C$1,1) -> 1013.5221 | AQ23: =_xlfn.FORECAST.ETS(DATE(2025,1,1),AQ$4:AQ$10,$D$4:$D$10,1,1)+_xlfn.FORECAST.ETS.CONFINT(DATE(2025,1,1),AQ$4:AQ$10,$D$4:$D$10,$C$1,1) -> 5135.8322 | AR23: =_xlfn.FORECAST.ETS(DATE(2025,1,1),AR$4:AR$10,$D$4:$D$10,1,1)+_xlfn.FORECAST.ETS.CONFINT(DATE(2025,1,1),AR$4:AR$10,$D$4:$D$10,$C$1,1) -> 505.68504 | AS23: =_xlfn.FORECAST.ETS(DATE(2025,1,1),AS$4:AS$10,$D$4:$D$10,1,1)+_xlfn.FORECAST.ETS.CONFINT(DATE(2025,1,1),AS$4:AS$10,$D$4:$D$10,$C$1,1) -> 513.97937
A24: =0.005+A23 -> 0.04 | C24: =MONTH(D24) -> 3 | D24: 43160 | E24: 14840 | F24: 145287 | G24: =E24/F24 -> 0.10214266 | H24: 26343 | I24: 292869 | J24: 0.0899 | K24: 8095 | L24: 118809 | M24: 16621 | N24: 227576 | O24: 9449 | P24: 139673 | Q24: 0.0677 | R24: 11376 | S24: 119038 | T24: 0.0956 | U24: 691 | V24: 109011 | W24: 0.0063 | X24: 14630 | Y24: 150506 | Z24: 0.0972 | AA24: 12004 | AB24: 102106 | AC24: 0.1176 | AD24: 5800 | AE24: 94449 | AF24: 0.0614 | AG24: 7313 | AH24: 110717 | AI24: 0.0661 | AJ24: 273 | AL24: 3779 | AM24: 39300 | AN24: 2368 | AO24: 629 | AP24: 2610 | AQ24: 100 | AR24: 770 | AS24: 7590 | AT24: 1794623 | AU24: 0.038
A25: =0.005+A24 -> 0.045 | C25: =MONTH(D25) -> 3 | D25: 43525 | E25: 18329 | F25: 170602 | G25: =E25/F25 -> 0.10743719 | H25: 29142 | I25: 276019 | J25: 0.1056 | K25: 13148 | L25: 139754 | M25: 18761 | N25: 228674 | O25: 8347 | P25: 143296 | Q25: 0.0583 | R25: 11031 | S25: 114528 | T25: 0.0963 | U25: 730 | V25: 117350 | W25: 0.0062 | X25: 15980 | Y25: 159305 | Z25: 0.1003 | AA25: 8722 | AB25: 94781 | AC25: 0.092 | AD25: 8208 | AE25: 112854 | AF25: 0.0727 | AG25: 9283 | AH25: 134553 | AI25: 0.069 | AJ25: 247 | AL25: 3777 | AM25: 35400 | AN25: 2355 | AO25: 390 | AP25: 1520 | AQ25: 470 | AR25: 970 | AS25: 7857 | AT25: 1886384 | AU25: 0.0617
A26: =0.005+A25 -> 0.05 | C26: =MONTH(D26) -> 3 | D26: 43891 | E26: 13684 | F26: 121890 | G26: =E26/F26 -> 0.11226516 | H26: 22546 | I26: 237229 | J26: 0.095 | K26: 13382 | L26: 105196 | M26: 15165 | N26: 173516 | O26: 6642 | P26: 121521 | Q26: 0.0547 | R26: 9512 | S26: 97063 | T26: 0.098 | U26: 642 | V26: 114469 | W26: 0.0056 | X26: 13701 | Y26: 122379 | Z26: 0.112 | AA26: 9117 | AB26: 87992 | AC26: 0.1036 | AD26: 6561 | AE26: 89162 | AF26: 0.0736 | AG26: 7035 | AH26: 92027 | AI26: 0.0764 | AJ26: 214 | AL26: 2846 | AM26: 26100 | AN26: 320 | AO26: 380 | AP26: 1430 | AQ26: 340 | AR26: 540 | AS26: 6579 | AT26: 1519181 | AU26: -0.0359
A27: =0.005+A26 -> 0.055 | C27: =MONTH(D27) -> 3 | D27: 44256 | E27: 21286 | F27: 193572 | G27: =E27/F27 -> 0.10996425 | H27: 19217 | I27: 234649 | J27: 0.0819 | K27: 10304 | L27: 87221 | M27: 16006 | N27: 183872 | O27: 7245 | P27: 85581 | Q27: 0.0847 | R27: 6784 | S27: 67701 | T27: 0.1002 | U27: 4109 | V27: 106645 | W27: 0.0385 | X27: 13045 | Y27: 134284 | Z27: 0.0971 | AA27: 6520 | AB27: 83344 | AC27: 0.0782 | AD27: 5257 | AE27: 79835 | AF27: 0.0658 | AG27: 3164 | AH27: 73175 | AI27: 0.0432 | AJ27: 394 | AL27: 3572 | AM27: 25800 | AN27: 2628 | AO27: 347 | AP27: 1390 | AQ27: 350 | AR27: 750 | AS27: 2846 | AT27: 1480894 | AU27: 0.2005
A28: =0.005+A27 -> 0.06 | C28: =MONTH(D28) -> 3 | D28: 44621 | E28: 13175 | F28: 135785 | G28: =E28/F28 -> 0.09702839 | H28: 17407 | I28: 245552 | J28: 0.0709 | K28: 10559 | L28: 96942 | M28: 12489 | N28: 173640 | O28: 8411 | P28: 104276 | Q28: 0.0807 | R28: 10161 | S28: 108622 | T28: 0.0935 | U28: 490 | V28: 105459 | W28: 0.0046 | X28: 10655 | Y28: 106917 | Z28: 0.0997 | AA28: 6540 | AB28: 84615 | AC28: 0.0773 | AD28: 4266 | AE28: 78733 | AF28: 0.0542 | AG28: 3955 | AH28: 96207 | AI28: 0.0411 | AJ28: 403 | AL28: 5764 | AM28: 36600 | AN28: 3266 | AO28: 479 | AP28: 1720 | AQ28: 610 | AR28: 550 | AS28: 3476 | AT28: 1487725 | AU28: 0.2993
A29: =0.005+A28 -> 0.065 | C29: =MONTH(D29) -> 3 | D29: 44986 | E29: 11501 | F29: 125208 | G29: =E29/F29 -> 0.091855153 | H29: 19608 | I29: 259446 | J29: 0.0756 | M29: 16578 | N29: 190071 | O29: 10068 | P29: 107931 | Q29: 0.0933 | R29: 11153 | S29: 116557 | T29: 0.0957 | U29: 787 | V29: 86887 | W29: 0.0091 | X29: 11322 | Y29: 108880 | Z29: 0.104 | AA29: 7962 | AB29: 85678 | AC29: 0.0929 | AD29: 2418 | AE29: 85709 | AF29: 0.0282 | AG29: 3840 | AH29: 76184 | AI29: 0.0504 | AM29: 28500 | AN29: 3735 | AO29: 121200 | AP29: 1050 | AQ29: 7500 | AR29: 530 | AS29: 2175 | AT29: 1502479 | AU29: 0.0955
A30: =0.005+A29 -> 0.07 | C30: =MONTH(D30) -> 3 | D30: 45352 | E30: 11516 | F30: 150280 | G30: =E30/F30 -> 0.07663029 | H30: 13856 | I30: 230674 | J30: 0.0601 | M30: 19787 | N30: 189937 | O30: 11089 | P30: 121540 | Q30: 0.0912 | R30: 10167 | S30: 126191 | T30: 0.0806 | U30: 479 | V30: 86043 | W30: 0.0056 | X30: 17900 | Y30: 196952 | Z30: 0.0909 | AA30: 9059 | AB30: 87381 | AC30: 0.1037 | AD30: 2637 | AE30: 93696 | AF30: 0.0281 | AG30: 2095 | AH30: 45071 | AI30: 0.0465 | AJ30: 0 | AM30: 34200 | AN30: 3793 | AO30: 515 | AP30: 1130 | AQ30: 420 | AR30: 630 | AS30: 3271 | AT30: 1470310
A31: =0.005+A30 -> 0.075 | C31: =MONTH(D31) -> 3 | D31: 45717 | E31: =_xlfn.FORECAST.ETS(DATE(2025,1,1),E$24:E$30,$D$24:$D$30,1,1)+_xlfn.FORECAST.ETS.CONFINT(DATE(2025,1,1),E$24:E$30,$D$24:$D$30,$B$4,1) -> 16675.524 | F31: =_xlfn.FORECAST.ETS(DATE(2025,1,1),F$24:F$30,$D$24:$D$30,1,1)+_xlfn.FORECAST.ETS.CONFINT(DATE(2025,1,1),F$24:F$30,$D$24:$D$30,$B$4,1) -> 189861.77 | G31: =E31/F31 -> 0.087829816 | H31: =_xlfn.FORECAST.ETS(DATE(2025,1,1),H$24:H$30,$D$24:$D$30,1,1)+_xlfn.FORECAST.ETS.CONFINT(DATE(2025,1,1),H$24:H$30,$D$24:$D$30,$B$5,1) -> 16315.029 | I31: =_xlfn.FORECAST.ETS(DATE(2025,1,1),I$24:I$30,$D$24:$D$30,1,1)+_xlfn.FORECAST.ETS.CONFINT(DATE(2025,1,1),I$24:I$30,$D$24:$D$30,$B$5,1) -> 247828.42 | J31: =H31/I31 -> 0.065831954 | O31: =_xlfn.FORECAST.ETS(DATE(2025,1,1),O$24:O$30,$D$24:$D$30,1,1)+_xlfn.FORECAST.ETS.CONFINT(DATE(2025,1,1),O$24:O$30,$D$24:$D$30,$B$6,1) -> 12536.795 | P31: =_xlfn.FORECAST.ETS(DATE(2025,1,1),P$24:P$30,$D$24:$D$30,1,1)+_xlfn.FORECAST.ETS.CONFINT(DATE(2025,1,1),P$24:P$30,$D$24:$D$30,$B$6,1) -> 121996.03 | Q31: =O31/P31 -> 0.10276396 | R31: =_xlfn.FORECAST.ETS(DATE(2025,1,1),R$24:R$30,$D$24:$D$30,1,1)+_xlfn.FORECAST.ETS.CONFINT(DATE(2025,1,1),R$24:R$30,$D$24:$D$30,$B$7,1) -> 11554.37 | S31: =_xlfn.FORECAST.ETS(DATE(2025,1,1),S$24:S$30,$D$24:$D$30,1,1)+_xlfn.FORECAST.ETS.CONFINT(DATE(2025,1,1),S$24:S$30,$D$24:$D$30,$B$7,1) -> 146805.44 | T31: =R31/S31 -> 0.078705327 | U31: =_xlfn.FORECAST.ETS(DATE(2025,1,1),U$24:U$30,$D$24:$D$30,1,1)+_xlfn.FORECAST.ETS.CONFINT(DATE(2025,1,1),U$24:U$30,$D$24:$D$30,$B$8,1) -> 2482.6791 | V31: =_xlfn.FORECAST.ETS(DATE(2025,1,1),V$24:V$30,$D$24:$D$30,1,1)+_xlfn.FORECAST.ETS.CONFINT(DATE(2025,1,1),V$24:V$30,$D$24:$D$30,$B$8,1) -> 92504.63 | W31: =U31/V31 -> 0.026838431 | X31: =_xlfn.FORECAST.ETS(DATE(2025,1,1),X$24:X$30,$D$24:$D$30,1,1)+_xlfn.FORECAST.ETS.CONFINT(DATE(2025,1,1),X$24:X$30,$D$24:$D$30,$B$9,1) -> 18751.217 | Y31: =_xlfn.FORECAST.ETS(DATE(2025,1,1),Y$24:Y$30,$D$24:$D$30,1,1)+_xlfn.FORECAST.ETS.CONFINT(DATE(2025,1,1),Y$24:Y$30,$D$24:$D$30,$B$9,1) -> 219829.91 | Z31: =X31/Y31 -> 0.085298751 | AA31: =_xlfn.FORECAST.ETS(DATE(2025,1,1),AA$24:AA$30,$D$24:$D$30,1,1)+_xlfn.FORECAST.ETS.CONFINT(DATE(2025,1,1),AA$24:AA$30,$D$24:$D$30,$B$10,1) -> 10060.295 | AB31: =_xlfn.FORECAST.ETS(DATE(2025,1,1),AB$24:AB$30,$D$24:$D$30,1,1)+_xlfn.FORECAST.ETS.CONFINT(DATE(2025,1,1),AB$24:AB$30,$D$24:$D$30,$B$10,1) -> 88333.807 | AC31: =AA31/AB31 -> 0.11388953 | AD31: =_xlfn.FORECAST.ETS(DATE(2025,1,1),AD$24:AD$30,$D$24:$D$30,1,1)+_xlfn.FORECAST.ETS.CONFINT(DATE(2025,1,1),AD$24:AD$30,$D$24:$D$30,$B$11,1) -> 4011.17 | AE31: =_xlfn.FORECAST.ETS(DATE(2025,1,1),AE$24:AE$30,$D$24:$D$30,1,1)+_xlfn.FORECAST.ETS.CONFINT(DATE(2025,1,1),AE$24:AE$30,$D$24:$D$30,$B$11,1) -> 95368.84 | AF31: =AD31/AE31 -> 0.042059544 | AG31: =_xlfn.FORECAST.ETS(DATE(2025,1,1),AG$24:AG$30,$D$24:$D$30,1,1)+_xlfn.FORECAST.ETS.CONFINT(DATE(2025,1,1),AG$24:AG$30,$D$24:$D$30,$B$12,1) -> 2855.2655 | AH31: =_xlfn.FORECAST.ETS(DATE(2025,1,1),AH$24:AH$30,$D$24:$D$30,1,1)+_xlfn.FORECAST.ETS.CONFINT(DATE(2025,1,1),AH$24:AH$30,$D$24:$D$30,$B$12,1) -> 68090.775 | AI31: =AG31/AH31 -> 0.04193322 | AM31: =_xlfn.FORECAST.ETS(DATE(2025,1,1),AM$24:AM$30,$D$24:$D$30,1,1)+_xlfn.FORECAST.ETS.CONFINT(DATE(2025,1,1),AM$24:AM$30,$D$24:$D$30,$C$1,1) -> 31364.392 | AN31: =_xlfn.FORECAST.ETS(DATE(2025,1,1),AN$24:AN$30,$D$24:$D$30,1,1)+_xlfn.FORECAST.ETS.CONFINT(DATE(2025,1,1),AN$24:AN$30,$D$24:$D$30,$C$1,1) -> 4259.8108 | AO31: =_xlfn.FORECAST.ETS(DATE(2025,1,1),AO$24:AO$30,$D$24:$D$30,1,1)+_xlfn.FORECAST.ETS.CONFINT(DATE(2025,1,1),AO$24:AO$30,$D$24:$D$30,$C$1,1) -> 75058.208 | AP31: =_xlfn.FORECAST.ETS(DATE(2025,1,1),AP$24:AP$30,$D$24:$D$30,1,1)+_xlfn.FORECAST.ETS.CONFINT(DATE(2025,1,1),AP$24:AP$30,$D$24:$D$30,$C$1,1) -> 954.66985 | AQ31: =_xlfn.FORECAST.ETS(DATE(2025,1,1),AQ$24:AQ$30,$D$24:$D$30,1,1)+_xlfn.FORECAST.ETS.CONFINT(DATE(2025,1,1),AQ$24:AQ$30,$D$24:$D$30,$C$1,1) -> 4081.8125 | AR31: =_xlfn.FORECAST.ETS(DATE(2025,1,1),AR$24:AR$30,$D$24:$D$30,1,1)+_xlfn.FORECAST.ETS.CONFINT(DATE(2025,1,1),AR$24:AR$30,$D$24:$D$30,$C$1,1) -> 498.01321 | AS31: =_xlfn.FORECAST.ETS(DATE(2025,1,1),AS$24:AS$30,$D$24:$D$30,1,1)+_xlfn.FORECAST.ETS.CONFINT(DATE(2025,1,1),AS$24:AS$30,$D$24:$D$30,$C$1,1) -> 1025.9097
A32: =0.005+A31 -> 0.08 | C32: =MONTH(D32) -> 4 | D32: 43191 | E32: 16227 | F32: 160223 | G32: =E32/F32 -> 0.10127759 | H32: 27602 | I32: 283007 | J32: 0.0975 | K32: 8754 | L32: 133865 | M32: 16566 | N32: 224545 | O32: 8658 | P32: 119202 | Q32: 0.0726 | R32: 11847 | S32: 115473 | T32: 0.1026 | U32: 805 | V32: 91403 | W32: 0.0088 | X32: 15861 | Y32: 163437 | Z32: 0.097 | AA32: 10770 | AB32: 95882 | AC32: 0.1123 | AD32: 5678 | AE32: 93027 | AF32: 0.061 | AG32: 11882 | AH32: 140131 | AI32: 0.0848 | AJ32: 261 | AL32: 3205 | AM32: 33600 | AN32: 2678 | AO32: 700 | AP32: 2020 | AQ32: 400 | AR32: 730 | AS32: 6863 | AT32: 1805303 | AU32: 0.006
A33: =0.005+A32 -> 0.085 | C33: =MONTH(D33) -> 4 | D33: 43556 | E33: 15929 | F33: 157949 | G33: =E33/F33 -> 0.10084901 | H33: 27594 | I33: 287136 | J33: 0.0961 | K33: 11622 | L33: 129208 | M33: 17585 | N33: 220723 | O33: 7040 | P33: 125995 | Q33: 0.0559 | R33: 10013 | S33: 107841 | T33: 0.0928 | U33: 559 | V33: 110998 | W33: 0.005 | X33: 13726 | Y33: 144255 | Z33: 0.0952 | AA33: 10883 | AB33: 95750 | AC33: 0.1137 | AD33: 6866 | AE33: 84223 | AF33: 0.0815 | AG33: 5616 | AH33: 90952 | AI33: 0.0617 | AJ33: 214 | AL33: 3174 | AM33: 39600 | AN33: 2176 | AO33: 452 | AP33: 1720 | AQ33: 480 | AR33: 1030 | AS33: 10075 | AT33: 1741385 | AU33: -0.0769
A34: =0.005+A33 -> 0.09 | C34: =MONTH(D34) -> 4 | D34: 43922 | E34: 7418 | F34: 74127 | G34: =E34/F34 -> 0.1000715 | H34: 16717 | I34: 186439 | J34: 0.0897 | K34: 8241 | L34: 72680 | M34: 10089 | N34: 131923 | O34: 6500 | P34: 119706 | Q34: 0.0543 | R34: 6780 | S34: 79739 | T34: 0.085 | U34: 267 | V34: 70673 | W34: 0.0038 | X34: 8491 | Y34: 86515 | Z34: 0.0981 | AA34: 9474 | AB34: 91045 | AC34: 0.1041 | AD34: 5514 | AE34: 56026 | AF34: 0.0984 | AG34: 5234 | AH34: 51992 | AI34: 0.1007 | AJ34: 214 | AL34: 2349 | AM34: 18900 | AN34: 2566 | AO34: 379 | AP34: 1270 | AQ34: 250 | AR34: 550 | AS34: 6005 | AT34: 1138074 | AU34: -0.2509
A35: =0.005+A34 -> 0.095 | C35: =MONTH(D35) -> 4 | D35: 44287 | E35: 8870 | F35: 89328 | G35: =E35/F35 -> 0.099296973 | H35: 18131 | I35: 214923 | J35: 0.0844 | K35: 10048 | L35: 85723 | M35: 14036 | N35: 165440 | O35: 6142 | P35: 85502 | Q35: 0.0718 | R35: 8370 | S35: 90611 | T35: 0.0924 | U35: 1965 | V35: 85482 | W35: 0.023 | X35: 8508 | Y35: 84857 | Z35: 0.1003 | AA35: 5478 | AB35: 74021 | AC35: 0.074 | AD35: 3955 | AE35: 58952 | AF35: 0.0671 | AG35: 3298 | AH35: 68840 | AI35: 0.0479 | AJ35: 345 | AL35: 3427 | AM35: 23100 | AN35: 2599 | AO35: 283 | AP35: 1120 | AQ35: 240 | AR35: 810 | AS35: 2375 | AT35: 1226780 | AU35: -0.1716
A36: =0.005+A35 -> 0.1 | C36: =MONTH(D36) -> 4 | D36: 44652 | E36: 11052 | F36: 120148 | G36: =E36/F36 -> 0.09198655 | H36: 15356 | I36: 227908 | J36: 0.0674 | K36: 11628 | L36: 102610 | M36: 10758 | N36: 161257 | O36: 6683 | P36: 94398 | Q36: 0.0708 | R36: 9054 | S36: 106935 | T36: 0.0847 | U36: 320 | V36: 93156 | W36: 0.0034 | X36: 12320 | Y36: 126785 | Z36: 0.0972 | AA36: 5630 | AB36: 79733 | AC36: 0.0706 | AD36: 3922 | AE36: 66920 | AF36: 0.0586 | AG36: 1991 | AH36: 49167 | AI36: 0.0405 | AJ36: 491 | AL36: 6860 | AM36: 23700 | AN36: 3284 | AO36: 485 | AP36: 1570 | AQ36: 810 | AR36: 460 | AS36: 3432 | AT36: 1358824 | AU36: -0.0866
A37: =0.005+A36 -> 0.105 | C37: =MONTH(D37) -> 4 | D37: 45017 | E37: 8092 | F37: 95666 | G37: =E37/F37 -> 0.084585955 | H37: 15876 | I37: 230492 | J37: 0.0689 | M37: 12983 | N37: 162796 | O37: 7774 | P37: 89374 | Q37: 0.087 | R37: 8778 | S37: 102677 | T37: 0.0855 | U37: 500 | V37: 66631 | W37: 0.0075 | X37: 8803 | Y37: 95315 | Z37: 0.0924 | AA37: 6694 | AB37: 77240 | AC37: 0.0867 | AD37: 1816 | AE37: 64881 | AF37: 0.028 | AG37: 2881 | AH37: 52971 | AI37: 0.0544 | AM37: 26400 | AN37: 3769 | AO37: 125400 | AP37: 1020 | AQ37: 6600 | AR37: 490 | AS37: 1899 | AT37: 1277819 | AU37: -0.1495
A38: =0.005+A37 -> 0.11 | C38: =MONTH(D38) -> 4 | D38: 45383 | E38: 11655 | F38: 144597 | G38: =E38/F38 -> 0.080603332 | H38: 15757 | I38: 242835 | J38: 0.0649 | M38: 19145 | N38: 189534 | O38: 11197 | P38: 117684 | Q38: 0.0951 | R38: 11300 | S38: 125772 | T38: 0.0898 | U38: 543 | V38: 83148 | W38: 0.0065 | X38: 18110 | Y38: 184050 | Z38: 0.0984 | AA38: 9402 | AB38: 83769 | AC38: 0.1122 | AD38: 2835 | AE38: 88815 | AF38: 0.0319 | AG38: 1823 | AH38: 33659 | AI38: 0.0542 | AJ38: 0 | AM38: 36000 | AN38: 3912 | AO38: 650 | AP38: 1230 | AQ38: 350 | AR38: 670 | AS38: 3475 | AT38: 1441918
A39: =0.005+A38 -> 0.115 | C39: =MONTH(D39) -> 4 | D39: 45748 | E39: =_xlfn.FORECAST.ETS(DATE(2025,1,1),E$32:E$38,$D$32:$D$38,1,1)+_xlfn.FORECAST.ETS.CONFINT(DATE(2025,1,1),E$32:E$38,$D$32:$D$38,$B$4,1) -> 13402.289 | F39: =_xlfn.FORECAST.ETS(DATE(2025,1,1),F$32:F$38,$D$32:$D$38,1,1)+_xlfn.FORECAST.ETS.CONFINT(DATE(2025,1,1),F$32:F$38,$D$32:$D$38,$B$4,1) -> 166619.35 | G39: =E39/F39 -> 0.080436571 | H39: =_xlfn.FORECAST.ETS(DATE(2025,1,1),H$32:H$38,$D$32:$D$38,1,1)+_xlfn.FORECAST.ETS.CONFINT(DATE(2025,1,1),H$32:H$38,$D$32:$D$38,$B$5,1) -> 15744.632 | I39: =_xlfn.FORECAST.ETS(DATE(2025,1,1),I$32:I$38,$D$32:$D$38,1,1)+_xlfn.FORECAST.ETS.CONFINT(DATE(2025,1,1),I$32:I$38,$D$32:$D$38,$B$5,1) -> 258316.91 | J39: =H39/I39 -> 0.060950837 | O39: =_xlfn.FORECAST.ETS(DATE(2025,1,1),O$32:O$38,$D$32:$D$38,1,1)+_xlfn.FORECAST.ETS.CONFINT(DATE(2025,1,1),O$32:O$38,$D$32:$D$38,$B$6,1) -> 12674.959 | P39: =_xlfn.FORECAST.ETS(DATE(2025,1,1),P$32:P$38,$D$32:$D$38,1,1)+_xlfn.FORECAST.ETS.CONFINT(DATE(2025,1,1),P$32:P$38,$D$32:$D$38,$B$6,1) -> 107576.15 | Q39: =O39/P39 -> 0.11782314 | R39: =_xlfn.FORECAST.ETS(DATE(2025,1,1),R$32:R$38,$D$32:$D$38,1,1)+_xlfn.FORECAST.ETS.CONFINT(DATE(2025,1,1),R$32:R$38,$D$32:$D$38,$B$7,1) -> 12710.788 | S39: =_xlfn.FORECAST.ETS(DATE(2025,1,1),S$32:S$38,$D$32:$D$38,1,1)+_xlfn.FORECAST.ETS.CONFINT(DATE(2025,1,1),S$32:S$38,$D$32:$D$38,$B$7,1) -> 139834.29 | T39: =R39/S39 -> 0.090898933 | U39: =_xlfn.FORECAST.ETS(DATE(2025,1,1),U$32:U$38,$D$32:$D$38,1,1)+_xlfn.FORECAST.ETS.CONFINT(DATE(2025,1,1),U$32:U$38,$D$32:$D$38,$B$8,1) -> 1342.3936 | V39: =_xlfn.FORECAST.ETS(DATE(2025,1,1),V$32:V$38,$D$32:$D$38,1,1)+_xlfn.FORECAST.ETS.CONFINT(DATE(2025,1,1),V$32:V$38,$D$32:$D$38,$B$8,1) -> 89318.87 | W39: =U39/V39 -> 0.015029227 | X39: =_xlfn.FORECAST.ETS(DATE(2025,1,1),X$32:X$38,$D$32:$D$38,1,1)+_xlfn.FORECAST.ETS.CONFINT(DATE(2025,1,1),X$32:X$38,$D$32:$D$38,$B$9,1) -> 22234.873 | Y39: =_xlfn.FORECAST.ETS(DATE(2025,1,1),Y$32:Y$38,$D$32:$D$38,1,1)+_xlfn.FORECAST.ETS.CONFINT(DATE(2025,1,1),Y$32:Y$38,$D$32:$D$38,$B$9,1) -> 227040.85 | Z39: =X39/Y39 -> 0.097933362 | AA39: =_xlfn.FORECAST.ETS(DATE(2025,1,1),AA$32:AA$38,$D$32:$D$38,1,1)+_xlfn.FORECAST.ETS.CONFINT(DATE(2025,1,1),AA$32:AA$38,$D$32:$D$38,$B$10,1) -> 8549.279 | AB39: =_xlfn.FORECAST.ETS(DATE(2025,1,1),AB$32:AB$38,$D$32:$D$38,1,1)+_xlfn.FORECAST.ETS.CONFINT(DATE(2025,1,1),AB$32:AB$38,$D$32:$D$38,$B$10,1) -> 80607.079 | AC39: =AA39/AB39 -> 0.10606114 | AD39: =_xlfn.FORECAST.ETS(DATE(2025,1,1),AD$32:AD$38,$D$32:$D$38,1,1)+_xlfn.FORECAST.ETS.CONFINT(DATE(2025,1,1),AD$32:AD$38,$D$32:$D$38,$B$10,1) -> 1923.6757 | AE39: =_xlfn.FORECAST.ETS(DATE(2025,1,1),AE$32:AE$38,$D$32:$D$38,1,1)+_xlfn.FORECAST.ETS.CONFINT(DATE(2025,1,1),AE$32:AE$38,$D$32:$D$38,$B$11,1) -> 109033.16 | AF39: =AD39/AE39 -> 0.017643032 | AG39: =_xlfn.FORECAST.ETS(DATE(2025,1,1),AG$32:AG$38,$D$32:$D$38,1,1)+_xlfn.FORECAST.ETS.CONFINT(DATE(2025,1,1),AG$32:AG$38,$D$32:$D$38,$B$12,1) -> 2118.168 | AH39: =_xlfn.FORECAST.ETS(DATE(2025,1,1),AH$32:AH$38,$D$32:$D$38,1,1)+_xlfn.FORECAST.ETS.CONFINT(DATE(2025,1,1),AH$32:AH$38,$D$32:$D$38,$B$12,1) -> 37637.97 | AI39: =AG39/AH39 -> 0.056277424 | AM39: =_xlfn.FORECAST.ETS(DATE(2025,1,1),AM$32:AM$38,$D$32:$D$38,1,1)+_xlfn.FORECAST.ETS.CONFINT(DATE(2025,1,1),AM$32:AM$38,$D$32:$D$38,$C$1,1) -> 30842.357 | AN39: =_xlfn.FORECAST.ETS(DATE(2025,1,1),AN$32:AN$38,$D$32:$D$38,1,1)+_xlfn.FORECAST.ETS.CONFINT(DATE(2025,1,1),AN$32:AN$38,$D$32:$D$38,$C$1,1) -> 4165.3701 | AO39: =_xlfn.FORECAST.ETS(DATE(2025,1,1),AO$32:AO$38,$D$32:$D$38,1,1)+_xlfn.FORECAST.ETS.CONFINT(DATE(2025,1,1),AO$32:AO$38,$D$32:$D$38,$C$1,1) -> 74284.588 | AP39: =_xlfn.FORECAST.ETS(DATE(2025,1,1),AP$32:AP$38,$D$32:$D$38,1,1)+_xlfn.FORECAST.ETS.CONFINT(DATE(2025,1,1),AP$32:AP$38,$D$32:$D$38,$C$1,1) -> 1028.6987 | AQ39: =_xlfn.FORECAST.ETS(DATE(2025,1,1),AQ$32:AQ$38,$D$32:$D$38,1,1)+_xlfn.FORECAST.ETS.CONFINT(DATE(2025,1,1),AQ$32:AQ$38,$D$32:$D$38,$C$1,1) -> 3653.9259 | AR39: =_xlfn.FORECAST.ETS(DATE(2025,1,1),AR$32:AR$38,$D$32:$D$38,1,1)+_xlfn.FORECAST.ETS.CONFINT(DATE(2025,1,1),AR$32:AR$38,$D$32:$D$38,$C$1,1) -> 503.75702 | AS39: =_xlfn.FORECAST.ETS(DATE(2025,1,1),AS$32:AS$38,$D$32:$D$38,1,1)+_xlfn.FORECAST.ETS.CONFINT(DATE(2025,1,1),AS$32:AS$38,$D$32:$D$38,$C$1,1) -> 680.93119
A40: =0.005+A39 -> 0.12 | C40: =MONTH(D40) -> 5 | D40: 43221 | E40: 15165 | F40: 137581 | G40: =E40/F40 -> 0.11022598 | H40: 27411 | I40: 276925 | J40: 0.099 | K40: 8615 | L40: 119956 | M40: 16434 | N40: 224177 | O40: 8227 | P40: 107560 | Q40: 0.0765 | R40: 11518 | S40: 116251 | T40: 0.0991 | U40: 471 | V40: 74555 | W40: 0.0063 | X40: 14079 | Y40: 137531 | Z40: 0.1024 | AA40: 9735 | AB40: 90112 | AC40: 0.108 | AD40: 5665 | AE40: 92993 | AF40: 0.0609 | AG40: 18019 | AH40: 84380 | AI40: 0.2135 | AJ40: 390 | AL40: 4465 | AM40: 34800 | AN40: 2310 | AO40: 826 | AP40: 2100 | AQ40: 390 | AR40: 780 | AS40: 7272 | AT40: 1650694 | AU40: -0.0856
...

Sheet Demanda Grupo A
A1: 0.95 | D1: Bloco P Identificação 492451-7 | E1: Anexo P Identificação 492425-8 | F1: Bloco C Identificação 492464-9 | G1: Bloco K - Medidor 1 Identificação 493166-1 | H1: Bloco K - Medidor 2 Identificação 492469-X | I1: Bloco J Identificação 491613-1 | L1: 516N Identificação 493201-3 | M1: Órgãos Centrais Identificação 527316-1 | N1: Órgãos Regionais Identificação 492449-5
A2: jan./18 | B2: 43101 | C2: =MONTH(DATE(YEAR(B2),MONTH(B2),DAY(B2))) -> 1 | D2: 698 | E2: 901 | F2: 610 | G2: 344 | H2: 603 | K2: =MAX(I2,J2) -> 0 | L2: 330 | M2: 574 | N2: 565
A3: jan./19 | B3: 43466 | C3: =MONTH(DATE(YEAR(B3),MONTH(B3),DAY(B3))) -> 1 | D3: 771 | E3: 0 | F3: 689 | G3: 339 | H3: 657 | I3: 371 | K3: =MAX(I3,J3) -> 371 | L3: 270 | M3: 562
A4: jan./20 | B4: 43831 | C4: =MONTH(DATE(YEAR(B4),MONTH(B4),DAY(B4))) -> 1 | D4: 753 | E4: 1067 | F4: 599 | G4: 335 | H4: 746 | I4: 300 | K4: =MAX(I4,J4) -> 300 | L4: 319 | M4: 547 | N4: 504
A5: jan./21 | B5: 44197 | C5: =MONTH(DATE(YEAR(B5),MONTH(B5),DAY(B5))) -> 1 | D5: 515 | E5: 728 | F5: 344 | G5: 0 | H5: 711 | I5: 137 | J5: 0 | K5: =MAX(I5,J5) -> 137 | L5: 309 | M5: 502 | N5: 50
A6: jan./22 | B6: 44562 | C6: =MONTH(DATE(YEAR(B6),MONTH(B6),DAY(B6))) -> 1 | D6: 566 | F6: 436 | G6: 255 | I6: 204 | J6: 276 | K6: =MAX(I6,J6) -> 276 | L6: 283 | M6: 459 | N6: 408
A7: jan./23 | B7: 44927 | C7: =MONTH(DATE(YEAR(B7),MONTH(B7),DAY(B7))) -> 1 | D7: 496 | E7: 728 | F7: 412 | G7: 286 | H7: 386 | I7: 244 | J7: 341 | K7: =MAX(I7,J7) -> 341 | L7: 283 | M7: 386 | N7: 425
A8: jan./24 | B8: 45292 | C8: =MONTH(DATE(YEAR(B8),MONTH(B8),DAY(B8))) -> 1 | D8: 606 | E8: 726 | F8: 485 | G8: 321 | H8: 448 | I8: 556 | J8: 810 | K8: =MAX(I8,J8) -> 810 | L8: 288 | M8: 492 | N8: 403
D9: =_xlfn.FORECAST.ETS(DATE(2025,1,1),D$2:D$8,$B$2:$B$8,1,1)+_xlfn.FORECAST.ETS.CONFINT(DATE(2025,1,1),D$2:D$8,$B$2:$B$8,$A$1,1) -> 631.04541 | E9: =_xlfn.FORECAST.ETS(DATE(2025,1,1),E$2:E$8,$B$2:$B$8,1,1)+_xlfn.FORECAST.ETS.CONFINT(DATE(2025,1,1),E$2:E$8,$B$2:$B$8,$A$1,1) -> 1327.2596 | F9: =_xlfn.FORECAST.ETS(DATE(2025,1,1),F$2:F$8,$B$2:$B$8,1,1)+_xlfn.FORECAST.ETS.CONFINT(DATE(2025,1,1),F$2:F$8,$B$2:$B$8,$A$1,1) -> 508.13693 | G9: =_xlfn.FORECAST.ETS(DATE(2025,1,1),G$2:G$8,$B$2:$B$8,1,1)+_xlfn.FORECAST.ETS.CONFINT(DATE(2025,1,1),G$2:G$8,$B$2:$B$8,$A$1,1) -> 517.51508 | H9: =_xlfn.FORECAST.ETS(DATE(2025,1,1),H$2:H$8,$B$2:$B$8,1,1)+_xlfn.FORECAST.ETS.CONFINT(DATE(2025,1,1),H$2:H$8,$B$2:$B$8,$A$1,1) -> 591.15045 | K9: =_xlfn.FORECAST.ETS(DATE(2025,1,1),K$2:K$8,$B$2:$B$8,1,1)+_xlfn.FORECAST.ETS.CONFINT(DATE(2025,1,1),K$2:K$8,$B$2:$B$8,$A$1,1) -> 934.11189 | L9: =_xlfn.FORECAST.ETS(DATE(2025,1,1),L$2:L$8,$B$2:$B$8,1,1)+_xlfn.FORECAST.ETS.CONFINT(DATE(2025,1,1),L$2:L$8,$B$2:$B$8,$A$1,1) -> 310.53102 | M9: =_xlfn.FORECAST.ETS(DATE(2025,1,1),M$2:M$8,$B$2:$B$8,1,1)+_xlfn.FORECAST.ETS.CONFINT(DATE(2025,1,1),M$2:M$8,$B$2:$B$8,$A$1,1) -> 474.71151 | N9: =_xlfn.FORECAST.ETS(DATE(2025,1,1),N$2:N$8,$B$2:$B$8,1,1)+_xlfn.FORECAST.ETS.CONFINT(DATE(2025,1,1),N$2:N$8,$B$2:$B$8,$A$1,1) -> 681.52784
A10: fev./18 | B10: 43132 | C10: =MONTH(DATE(YEAR(B10),MONTH(B10),DAY(B10))) -> 2 | D10: 769 | E10: 942 | F10: 630 | G10: 367 | H10: 644 | K10: =MAX(I10,J10) -> 0 | L10: 330 | M10: 564 | N10: 594
A11: fev./19 | B11: 43497 | C11: =MONTH(DATE(YEAR(B11),MONTH(B11),DAY(B11))) -> 2 | D11: 894 | E11: 0 | F11: 611 | G11: 322 | H11: 617 | I11: 369 | K11: =MAX(I11,J11) -> 369 | L11: 322 | M11: 552
A12: fev./20 | B12: 43862 | C12: =MONTH(DATE(YEAR(B12),MONTH(B12),DAY(B12))) -> 2 | D12: 695 | E12: 892 | G12: 325 | H12: 726 | I12: 358 | K12: =MAX(I12,J12) -> 358 | L12: 339 | M12: 526 | N12: 518
A13: fev./21 | B13: 44228 | C13: =MONTH(DATE(YEAR(B13),MONTH(B13),DAY(B13))) -> 2 | D13: 515 | E13: 756 | F13: 370 | G13: 231 | H13: 689 | I13: 333 | J13: 201 | K13: =MAX(I13,J13) -> 333 | L13: 301 | M13: 501 | N13: 462
A14: fev./22 | B14: 44593 | C14: =MONTH(DATE(YEAR(B14),MONTH(B14),DAY(B14))) -> 2 | F14: 0 | G14: 259 | I14: 209 | J14: 366 | K14: =MAX(I14,J14) -> 366 | L14: 282 | N14: 0
A15: fev./23 | B15: 44958 | C15: =MONTH(DATE(YEAR(B15),MONTH(B15),DAY(B15))) -> 2 | D15: 628 | E15: 758 | F15: 474 | G15: 316 | H15: 454 | I15: 315 | J15: 446 | K15: =MAX(I15,J15) -> 446 | L15: 294 | M15: 425 | N15: 0
A16: fev./24 | B16: 45323 | C16: =MONTH(DATE(YEAR(B16),MONTH(B16),DAY(B16))) -> 2 | D16: 573 | E16: 737 | F16: 467 | G16: 334 | H16: 432 | I16: 556 | J16: 810 | K16: =MAX(I16,J16) -> 810 | L16: 286 | M16: 480 | N16: 396
D17: =_xlfn.FORECAST.ETS(DATE(2025,1,1),D$10:D$16,$B$10:$B$16,1,1)+_xlfn.FORECAST.ETS.CONFINT(DATE(2025,1,1),D$10:D$16,$B$10:$B$16,$A$1,1) -> 629.85972 | E17: =_xlfn.FORECAST.ETS(DATE(2025,1,1),E$10:E$16,$B$10:$B$16,1,1)+_xlfn.FORECAST.ETS.CONFINT(DATE(2025,1,1),E$10:E$16,$B$10:$B$16,$A$1,1) -> 1310.1669 | F17: =_xlfn.FORECAST.ETS(DATE(2025,1,1),F$10:F$16,$B$10:$B$16,1,1)+_xlfn.FORECAST.ETS.CONFINT(DATE(2025,1,1),F$10:F$16,$B$10:$B$16,$A$1,1) -> 663.95979 | G17: =_xlfn.FORECAST.ETS(DATE(2025,1,1),G$10:G$16,$B$10:$B$16,1,1)+_xlfn.FORECAST.ETS.CONFINT(DATE(2025,1,1),G$10:G$16,$B$10:$B$16,$A$1,1) -> 412.17253 | H17: =_xlfn.FORECAST.ETS(DATE(2025,1,1),H$10:H$16,$B$10:$B$16,1,1)+_xlfn.FORECAST.ETS.CONFINT(DATE(2025,1,1),H$10:H$16,$B$10:$B$16,$A$1,1) -> 529.39419 | K17: =_xlfn.FORECAST.ETS(DATE(2025,1,1),K$10:K$16,$B$10:$B$16,1,1)+_xlfn.FORECAST.ETS.CONFINT(DATE(2025,1,1),K$10:K$16,$B$10:$B$16,$A$1,1) -> 1009.3913 | L17: =_xlfn.FORECAST.ETS(DATE(2025,1,1),L$10:L$16,$B$10:$B$16,1,1)+_xlfn.FORECAST.ETS.CONFINT(DATE(2025,1,1),L$10:L$16,$B$10:$B$16,$A$1,1) -> 292.19191 | M17: =_xlfn.FORECAST.ETS(DATE(2025,1,1),M$10:M$16,$B$10:$B$16,1,1)+_xlfn.FORECAST.ETS.CONFINT(DATE(2025,1,1),M$10:M$16,$B$10:$B$16,$A$1,1) -> 464.22873 | N17: =_xlfn.FORECAST.ETS(DATE(2025,1,1),N$10:N$16,$B$10:$B$16,1,1)+_xlfn.FORECAST.ETS.CONFINT(DATE(2025,1,1),N$10:N$16,$B$10:$B$16,$A$1,1) -> 372.21485
A18: mar./18 | B18: 43160 | C18: =MONTH(DATE(YEAR(B18),MONTH(B18),DAY(B18))) -> 3 | D18: 776 | E18: 921 | F18: 669 | G18: 352 | H18: 654 | K18: =MAX(I18,J18) -> 0 | L18: 343 | M18: 564 | N18: 0
A19: mar./19 | B19: 43525 | C19: =MONTH(DATE(YEAR(B19),MONTH(B19),DAY(B19))) -> 3 | D19: 762 | E19: 876 | F19: 625 | G19: 309 | H19: 604 | I19: 374 | K19: =MAX(I19,J19) -> 374 | L19: 337 | M19: 553
A20: mar./20 | B20: 43891 | C20: =MONTH(DATE(YEAR(B20),MONTH(B20),DAY(B20))) -> 3 | D20: 612 | E20: 852 | G20: 314 | H20: 640 | I20: 506 | K20: =MAX(I20,J20) -> 506 | L20: 318 | M20: 525 | N20: 164
A21: mar./21 | B21: 44256 | C21: =MONTH(DATE(YEAR(B21),MONTH(B21),DAY(B21))) -> 3 | D21: 426 | E21: 723 | F21: 304 | G21: 221 | H21: 640 | I21: 265 | J21: 185 | K21: =MAX(I21,J21) -> 265 | L21: 282 | M21: 501 | N21: 464
A22: mar./22 | B22: 44621 | C22: =MONTH(DATE(YEAR(B22),MONTH(B22),DAY(B22))) -> 3 | D22: 589 | E22: 755 | F22: 435 | G22: 295 | H22: 567 | I22: 248 | J22: 383 | K22: =MAX(I22,J22) -> 383 | L22: 290 | M22: 472 | N22: 424
A23: mar./23 | B23: 44986 | C23: =MONTH(DATE(YEAR(B23),MONTH(B23),DAY(B23))) -> 3 | D23: 624 | E23: 776 | F23: 478 | G23: 321 | H23: 466 | I23: 235 | J23: 404 | K23: =MAX(I23,J23) -> 404 | L23: 273 | M23: 441 | N23: 427
A24: mar./24 | B24: 45352 | C24: =MONTH(DATE(YEAR(B24),MONTH(B24),DAY(B24))) -> 3 | D24: 678 | E24: 860 | F24: 515 | G24: 359 | H24: 528 | I24: 529 | J24: 893 | K24: =MAX(I24,J24) -> 893 | L24: 300 | M24: 506 | N24: 398
D25: =_xlfn.FORECAST.ETS(DATE(2025,1,1),D$18:D$24,$B$18:$B$24,1,1)+_xlfn.FORECAST.ETS.CONFINT(DATE(2025,1,1),D$18:D$24,$B$18:$B$24,$A$1,1) -> 853.12111 | E25: =_xlfn.FORECAST.ETS(DATE(2025,1,1),E$18:E$24,$B$18:$B$24,1,1)+_xlfn.FORECAST.ETS.CONFINT(DATE(2025,1,1),E$18:E$24,$B$18:$B$24,$A$1,1) -> 948.44265 | F25: =_xlfn.FORECAST.ETS(DATE(2025,1,1),F$18:F$24,$B$18:$B$24,1,1)+_xlfn.FORECAST.ETS.CONFINT(DATE(2025,1,1),F$18:F$24,$B$18:$B$24,$A$1,1) -> 667.60521 | G25: =_xlfn.FORECAST.ETS(DATE(2025,1,1),G$18:G$24,$B$18:$B$24,1,1)+_xlfn.FORECAST.ETS.CONFINT(DATE(2025,1,1),G$18:G$24,$B$18:$B$24,$A$1,1) -> 436.88128 | H25: =_xlfn.FORECAST.ETS(DATE(2025,1,1),H$18:H$24,$B$18:$B$24,1,1)+_xlfn.FORECAST.ETS.CONFINT(DATE(2025,1,1),H$18:H$24,$B$18:$B$24,$A$1,1) -> 546.91268 | K25: =_xlfn.FORECAST.ETS(DATE(2025,1,1),K$18:K$24,$B$18:$B$24,1,1)+_xlfn.FORECAST.ETS.CONFINT(DATE(2025,1,1),K$18:K$24,$B$18:$B$24,$A$1,1) -> 1068.3314 | L25: =_xlfn.FORECAST.ETS(DATE(2025,1,1),L$18:L$24,$B$18:$B$24,1,1)+_xlfn.FORECAST.ETS.CONFINT(DATE(2025,1,1),L$18:L$24,$B$18:$B$24,$A$1,1) -> 302.00503 | M25: =_xlfn.FORECAST.ETS(DATE(2025,1,1),M$18:M$24,$B$18:$B$24,1,1)+_xlfn.FORECAST.ETS.CONFINT(DATE(2025,1,1),M$18:M$24,$B$18:$B$24,$A$1,1) -> 498.33393 | N25: =_xlfn.FORECAST.ETS(DATE(2025,1,1),N$18:N$24,$B$18:$B$24,1,1)+_xlfn.FORECAST.ETS.CONFINT(DATE(2025,1,1),N$18:N$24,$B$18:$B$24,$A$1,1) -> 732.65506
A26: abr./18 | B26: 43191 | C26: =MONTH(DATE(YEAR(B26),MONTH(B26),DAY(B26))) -> 4 | D26: 754 | E26: 926 | F26: 503 | G26: 340 | H26: 668 | K26: =MAX(I26,J26) -> 0 | L26: 326 | M26: 534 | N26: 562
A27: abr./19 | B27: 43556 | C27: =MONTH(DATE(YEAR(B27),MONTH(B27),DAY(B27))) -> 4 | D27: 686 | E27: 932 | F27: 525 | G27: 314 | H27: 596 | I27: 344 | K27: =MAX(I27,J27) -> 344 | L27: 322 | M27: 502
A28: abr./20 | B28: 43922 | C28: =MONTH(DATE(YEAR(B28),MONTH(B28),DAY(B28))) -> 4 | D28: 345 | E28: 790 | G28: 169 | H28: 594 | I28: 277 | K28: =MAX(I28,J28) -> 277 | L28: 270 | M28: 505 | N28: 154
A29: abr./21 | B29: 44287 | C29: =MONTH(DATE(YEAR(B29),MONTH(B29),DAY(B29))) -> 4 | D29: 357 | E29: 746 | G29: 217 | H29: 643 | I29: 212 | J29: 154 | K29: =MAX(I29,J29) -> 212 | L29: 288 | M29: 483 | N29: 453
A30: abr./22 | B30: 44652 | C30: =MONTH(DATE(YEAR(B30),MONTH(B30),DAY(B30))) -> 4 | D30: 578 | E30: 801 | F30: 410 | G30: 302 | H30: 575 | I30: 213 | J30: 307 | K30: =MAX(I30,J30) -> 307 | L30: 285 | M30: 460 | N30: 41
A31: abr./23 | B31: 45017 | C31: =MONTH(DATE(YEAR(B31),MONTH(B31),DAY(B31))) -> 4 | D31: 500 | E31: 728 | F31: 418 | G31: 308 | H31: 436 | I31: 0 | J31: 130 | K31: =MAX(I31,J31) -> 130 | L31: 276 | M31: 400 | N31: 413
A32: abr./24 | B32: 45383 | C32: =MONTH(DATE(YEAR(B32),MONTH(B32),DAY(B32))) -> 4 | D32: 605 | E32: 779 | F32: 472 | G32: 346 | H32: 480 | I32: 483 | J32: 764 | K32: =MAX(I32,J32) -> 764 | L32: 291 | M32: 447 | N32: 408
D33: =_xlfn.FORECAST.ETS(DATE(2025,1,1),D$26:D$32,$B$26:$B$32,1,1)+_xlfn.FORECAST.ETS.CONFINT(DATE(2025,1,1),D$26:D$32,$B$26:$B$32,$A$1,1) -> 851.66867 | E33: =_xlfn.FORECAST.ETS(DATE(2025,1,1),E$26:E$32,$B$26:$B$32,1,1)+_xlfn.FORECAST.ETS.CONFINT(DATE(2025,1,1),E$26:E$32,$B$26:$B$32,$A$1,1) -> 810.83527 | F33: =_xlfn.FORECAST.ETS(DATE(2025,1,1),F$26:F$32,$B$26:$B$32,1,1)+_xlfn.FORECAST.ETS.CONFINT(DATE(2025,1,1),F$26:F$32,$B$26:$B$32,$A$1,1) -> 460.22738 | G33: =_xlfn.FORECAST.ETS(DATE(2025,1,1),G$26:G$32,$B$26:$B$32,1,1)+_xlfn.FORECAST.ETS.CONFINT(DATE(2025,1,1),G$26:G$32,$B$26:$B$32,$A$1,1) -> 463.6344 | H33: =_xlfn.FORECAST.ETS(DATE(2025,1,1),H$26:H$32,$B$26:$B$32,1,1)+_xlfn.FORECAST.ETS.CONFINT(DATE(2025,1,1),H$26:H$32,$B$26:$B$32,$A$1,1) -> 524.02011 | K33: =_xlfn.FORECAST.ETS(DATE(2025,1,1),K$26:K$32,$B$26:$B$32,1,1)+_xlfn.FORECAST.ETS.CONFINT(DATE(2025,1,1),K$26:K$32,$B$26:$B$32,$A$1,1) -> 753.62097 | L33: =_xlfn.FORECAST.ETS(DATE(2025,1,1),L$26:L$32,$B$26:$B$32,1,1)+_xlfn.FORECAST.ETS.CONFINT(DATE(2025,1,1),L$26:L$32,$B$26:$B$32,$A$1,1) -> 303.45339 | M33: =_xlfn.FORECAST.ETS(DATE(2025,1,1),M$26:M$32,$B$26:$B$32,1,1)+_xlfn.FORECAST.ETS.CONFINT(DATE(2025,1,1),M$26:M$32,$B$26:$B$32,$A$1,1) -> 443.66798 | N33: =_xlfn.FORECAST.ETS(DATE(2025,1,1),N$26:N$32,$B$26:$B$32,1,1)+_xlfn.FORECAST.ETS.CONFINT(DATE(2025,1,1),N$26:N$32,$B$26:$B$32,$A$1,1) -> 660.29459
A34: mai./18 | B34: 43221 | C34: =MONTH(DATE(YEAR(B34),MONTH(B34),DAY(B34))) -> 5 | D34: 670 | E34: 915 | F34: 449 | G34: 324 | H34: 559 | K34: =MAX(I34,J34) -> 0 | L34: 318 | M34: 534 | N34: 552
A35: mai./19 | B35: 43586 | C35: =MONTH(DATE(YEAR(B35),MONTH(B35),DAY(B35))) -> 5 | D35: 648 | E35: 943 | F35: 488 | G35: 316 | H35: 571 | I35: 314 | K35: =MAX(I35,J35) -> 314 | L35: 323 | M35: 492
A36: mai./20 | B36: 43952 | C36: =MONTH(DATE(YEAR(B36),MONTH(B36),DAY(B36))) -> 5 | D36: 253 | E36: 603 | G36: 174 | H36: 542 | I36: 237 | K36: =MAX(I36,J36) -> 237 | L36: 270 | M36: 471 | N36: 151
A37: mai./21 | B37: 44317 | C37: =MONTH(DATE(YEAR(B37),MONTH(B37),DAY(B37))) -> 5 | D37: 405 | E37: 772 | F37: 279 | G37: 216 | H37: 574 | I37: 202 | J37: 142 | K37: =MAX(I37,J37) -> 202 | L37: 254 | M37: 387 | N37: 454
A38: mai./22 | B38: 44682 | C38: =MONTH(DATE(YEAR(B38),MONTH(B38),DAY(B38))) -> 5 | D38: 488 | E38: 739 | F38: 377 | G38: 298 | H38: 494 | I38: 217 | J38: 217 | K38: =MAX(I38,J38) -> 217 | L38: 282 | M38: 443 | N38: 136
