Workbook

Sheet Orçamento
D1: Obra | E1: Bancos | G1: B.D.I.
D2: CONSTRUÇÃO DE BUEIROS NA ZONA RURAL DO MUNICÍPIO DE SANTA ROSA DO PIAUÍ | E2: SINAPI - 02/2026 - Piauí SICRO3 - 10/2025 - Piauí | G2: 0.2467
A3: OrçamentoSintético
A4: Item | B4: Código | C4: Banco | D4: Descrição | E4: Und | F4: Quant. | G4: Valor Unit | H4: Valor Unit com BDI | I4: Total | J4: Peso (%)
A5: 1 | D5: SERVIÇOS PRELIMINARES | I5: =SUM(I6:I8) -> 36631.56 | J5: =I5/$H$24 -> 0.089168536 | K5: =IFERROR(ROUND(F5*G5,2),"") -> 0
A6: 1.1 | B6: 103689 | C6: SINAPI | D6: FORNECIMENTO E INSTALAÇÃO DE PLACA DE OBRA COM CHAPA GALVANIZADA E ESTRUTURA DE MADEIRA. AF_03/2022_PS | E6: m² | F6: =VLOOKUP(A6,memória!$A$3:$F$66,6,FALSE) -> 6 | G6: =VLOOKUP(A6,CPUs!A:L,11,FALSE) -> 467.2 | H6: =VLOOKUP(A6,CPUs!A:L,12,FALSE) -> 582.46 | I6: =ROUND(F6*H6,2) -> 3494.76 | J6: =I6/$H$24 -> 0.0085069441 | K6: =IFERROR(ROUND(F6*G6,2),"") -> 2803.2
A7: 1.2 | B7: COMP 01 | C7: Próprio | D7: ADMINISTRAÇÃO LOCAL DA OBRA | E7: Mês | F7: =VLOOKUP(A7,memória!$A$3:$F$66,6,FALSE) -> 4 | G7: =VLOOKUP(A7,CPUs!A:L,11,FALSE) -> 3643.4 | H7: =VLOOKUP(A7,CPUs!A:L,12,FALSE) -> 4542.23 | I7: =ROUND(F7*H7,2) -> 18168.92 | J7: =I7/$H$24 -> 0.044226782 | K7: =IFERROR(ROUND(F7*G7,2),"") -> 14573.6
A8: 1.3 | B8: COMP 02 | C8: Próprio | D8: ALUGUEL DE IMOVEL DE APOIO | E8: MÊS | F8: =VLOOKUP(A8,memória!$A$3:$F$66,6,FALSE) -> 4 | G8: =VLOOKUP(A8,CPUs!A:L,11,FALSE) -> 3001.5 | H8: =VLOOKUP(A8,CPUs!A:L,12,FALSE) -> 3741.97 | I8: =ROUND(F8*H8,2) -> 14967.88 | J8: =I8/$H$24 -> 0.036434811 | K8: =IFERROR(ROUND(F8*G8,2),"") -> 12006
A9: 2 | D9: IMPLANTAÇÃO DE BUEIRO | I9: =ROUND(I10+I16+I19,2) -> 374181.06 | J9: =I9/$H$24 -> 0.91083146 | K9: =IFERROR(ROUND(F9*G9,2),"") -> 0
A10: 2.1 | D10: BOCA E CORPO DE BUEIRO | I10: =SUM(I11:I15) -> 199812.73 | J10: =I10/$H$24 -> 0.48638411 | K10: =IFERROR(ROUND(F10*G10,2),"") -> 0
A11: 2.1.1 | B11: 5501910 | C11: SICRO3 | D11: Escavação, carga e transporte de material de 1ª categoria - DMT de 1.800 a 2.000 m - caminho de serviço em revestimento primário - com carregadeira e caminhão basculante de 14 m³ | E11: m³ | F11: =VLOOKUP(A11,memória!$A$3:$F$66,6,FALSE) -> 145 | G11: =VLOOKUP(A11,CPUs!A:L,11,FALSE) -> 13.27 | H11: =VLOOKUP(A11,CPUs!A:L,12,FALSE) -> 16.54 | I11: =ROUND(F11*H11,2) -> 2398.3 | J11: =I11/$H$24 -> 0.0058379414 | K11: =IFERROR(ROUND(F11*G11,2),"") -> 1924.15
A12: 2.1.2 | B12: 0804037 | C12: SICRO3 | D12: Corpo de BSTC D = 1,00 m PA1 - areia, brita e pedra de mão comerciais | E12: m | F12: =VLOOKUP(A12,memória!$A$3:$F$66,6,FALSE) -> 65 | G12: =VLOOKUP(A12,CPUs!A:L,11,FALSE) -> 919.81 | H12: =VLOOKUP(A12,CPUs!A:L,12,FALSE) -> 1146.73 | I12: =ROUND(F12*H12,2) -> 74537.45 | J12: =I12/$H$24 -> 0.18143905 | K12: =IFERROR(ROUND(F12*G12,2),"") -> 59787.65
A13: 2.1.3 | B13: 0804189 | C13: SICRO3 | D13: Corpo de BDTC D = 1,00 m PA1 - areia, brita e pedra de mão comerciais | E13: m | F13: =VLOOKUP(A13,memória!$A$3:$F$66,6,FALSE) -> 5 | G13: =VLOOKUP(A13,CPUs!A:L,11,FALSE) -> 1786.51 | H13: =VLOOKUP(A13,CPUs!A:L,12,FALSE) -> 2227.24 | I13: =ROUND(F13*H13,2) -> 11136.2 | J13: =I13/$H$24 -> 0.027107736 | K13: =IFERROR(ROUND(F13*G13,2),"") -> 8932.55
A14: 2.1.4 | B14: 0804393 | C14: SICRO3 | D14: Boca de BSTC D = 1,00 m - esconsidade 0° - areia e brita comerciais - alas esconsas | E14: un | F14: =VLOOKUP(A14,memória!$A$3:$F$66,6,FALSE) -> 26 | G14: =VLOOKUP(A14,CPUs!A:L,11,FALSE) -> 3112.72 | H14: =VLOOKUP(A14,CPUs!A:L,12,FALSE) -> 3880.63 | I14: =ROUND(F14*H14,2) -> 100896.38 | J14: =I14/$H$24 -> 0.24560195 | K14: =IFERROR(ROUND(F14*G14,2),"") -> 80930.72
A15: 2.1.5 | B15: 0804417 | C15: SICRO3 | D15: Boca de BDTC D = 1,00 m - esconsidade 0° - areia e brita comerciais - alas esconsas | E15: un | F15: =VLOOKUP(A15,memória!$A$3:$F$66,6,FALSE) -> 2 | G15: =VLOOKUP(A15,CPUs!A:L,11,FALSE) -> 4349.24 | H15: =VLOOKUP(A15,CPUs!A:L,12,FALSE) -> 5422.2 | I15: =ROUND(F15*H15,2) -> 10844.4 | J15: =I15/$H$24 -> 0.026397436 | K15: =IFERROR(ROUND(F15*G15,2),"") -> 8698.48
A16: 2.2 | D16: TERRAPLENAGEM | I16: =SUM(I17:I18) -> 132247.35 | J16: =I16/$H$24 -> 0.32191647 | K16: =IFERROR(ROUND(F16*G16,2),"") -> 0
A17: 2.2.1 | B17: 4915734 | C17: SICRO3 | D17: Recomposição mecanizada de aterro com material de jazida | E17: m³ | F17: =VLOOKUP(A17,memória!$A$3:$F$197,6,FALSE) -> 1437.94 | G17: =VLOOKUP(A17,CPUs!A:L,11,FALSE) -> 14.21 | H17: =VLOOKUP(A17,CPUs!A:L,12,FALSE) -> 17.72 | I17: =ROUND(F17*H17,2) -> 25480.3 | J17: =I17/$H$24 -> 0.062024141 | K17: =IFERROR(ROUND(F17*G17,2),"") -> 20433.13
A18: 2.2.2 | B18: 93598 | C18: SINAPI | D18: TRANSPORTE COM CAMINHÃO BASCULANTE DE 14 M³, EM VIA URBANA EM REVESTIMENTO PRIMÁRIO (UNIDADE: TXKM). AF_02/2026 | E18: tkm | F18: =VLOOKUP(A18,memória!$A$3:$F$197,6,FALSE) -> 53922.75 | G18: =VLOOKUP(A18,CPUs!A:L,11,FALSE) -> 1.59 | H18: =VLOOKUP(A18,CPUs!A:L,12,FALSE) -> 1.98 | I18: =ROUND(F18*H18,2) -> 106767.05 | J18: =I18/$H$24 -> 0.25989233 | K18: =IFERROR(ROUND(F18*G18,2),"") -> 85737.17
A19: 2.3 | D19: TRANSPORTE(CIMENTO, AREIA E BRITA) | I19: =SUM(I20) -> 42120.98 | J19: =I19/$H$24 -> 0.10253088 | K19: =IFERROR(ROUND(F19*G19,2),"") -> 0
A20: 2.3.1 | B20: 93598 | C20: SINAPI | D20: TRANSPORTE COM CAMINHÃO BASCULANTE DE 14 M³, EM VIA URBANA EM REVESTIMENTO PRIMÁRIO (UNIDADE: TXKM). AF_02/2026 | E20: tkm | F20: =TRANSP!K31 -> 21273.22 | G20: =G18 -> 1.59 | H20: =H18 -> 1.98 | I20: =ROUND(F20*H20,2) -> 42120.98 | J20: =I20/$H$24 -> 0.10253088 | K20: =IFERROR(ROUND(F20*G20,2),"") -> 33824.42
F22: Total sem BDI | H22: =K22 -> 329651.07 | K22: =ROUND(SUM(K6:K20),2) -> 329651.07
F23: Total do BDI | H23: =ROUND(H24-H22,2) -> 81161.55
F24: Total Geral | H24: =ROUND(I5+I9,2) -> 410812.62
J27: 410812.62

Sheet LISTA BUEIRO
A1: LEVANTAMENTO BUEIRO SANTA ROSA DO PIAUÍ
A2: BUEIRO | B2: POVOADO | C2: TIPO | D2: DIÂMETRO(M) | E2: COMP.(M) | F2: COORDENADA BUEIRO
A4: 1 | B4: POVOADO MANGABEIRA | C4: BSTC | D4: 1 | E4: 5 | F4: -6.77550721, -42.23468653
A5: =A4+1 -> 2 | B5: POVOADO MANGABEIRA | C5: BSTC | D5: 1 | E5: 5 | F5: -6.77423292, -42.23304454
A6: =A5+1 -> 3 | B6: POVOADO MANGABEIRA | C6: BSTC | D6: 1 | E6: 5 | F6: -6.77100573, -42.22988064
A7: =A6+1 -> 4 | B7: POVOADO MANGABEIRA | C7: BSTC | D7: 1 | E7: 5 | F7: -6.77079966, -42.22950575
A8: =A7+1 -> 5 | B8: POVOADO MANGABEIRA | C8: BSTC | D8: 1 | E8: 5 | F8: -6.76628063, -42.22621992
A9: =A8+1 -> 6 | B9: POVOADO MANGABEIRA | C9: BSTC | D9: 1 | E9: 5 | F9: -6.76406103, -42.22359197
A10: =A9+1 -> 7 | B10: POVOADO MANGABEIRA | C10: BSTC | D10: 1 | E10: 5 | F10: -6.76099074, -42.22312995
A11: =A10+1 -> 8 | B11: POVOADO MANGABEIRA | C11: BSTC | D11: 1 | E11: 5 | F11: -6.75949549, -42.22321976
A12: =A11+1 -> 9 | B12: POVOADO MANGABEIRA | C12: BSTC | D12: 1 | E12: 5 | F12: -6.75814370, -42.22243488 | H12: =Orçamento!H24 -> 410812.62
A13: =A12+1 -> 10 | B13: POVOADO ESCONDIDO | C13: BSTC | D13: 1 | E13: 5 | F13: -6.77465954, -42.31409656
A14: =A13+1 -> 11 | B14: POVOADO CORRENTE | C14: BSTC | D14: 1 | E14: 5 | F14: -6.86591669, -42.17113145
A15: =A14+1 -> 12 | B15: POVOADO CORRENTE | C15: BSTC | D15: 1 | E15: 5 | F15: -6.87682538, -42.17369925
A16: =A15+1 -> 13 | B16: POVOADO CORRENTE | C16: BSTC | D16: 1 | E16: 5 | F16: -6.87855116, -42.17656139
E17: =SUM(E4:E16) -> 65
A19: BUEIRO | B19: POVOADO | C19: TIPO | D19: DIÂMETRO(M) | E19: COMP.(M) | F19: LOCALIZAÇÃO
A20: 14 | B20: POVOADO ALTO FORMOSO | C20: BDTC | D20: 1 | E20: 5 | F20: -6.88811798, -42.22690922
E21: =SUM(E20:E20) -> 5

Sheet memória
A1: MEMÓRIA DE CALCULO
A2: Item | B2: Código | C2: Banco | D2: Descrição | E2: Und | F2: Quant.
A3: 1 | D3: SERVIÇOS PRELIMINARES
A4: 1.1 | B4: 103689 | C4: SINAPI | D4: FORNECIMENTO E INSTALAÇÃO DE PLACA DE OBRA COM CHAPA GALVANIZADA E ESTRUTURA DE MADEIRA. AF_03/2022_PS | E4: m² | F4: =E7 -> 6
D5: COMPRIMENTO(M) | E5: 3 | F5: m
D6: ALTURA(M) | E6: 2 | F6: m
D7: ÁREA | E7: =ROUND(E5*E6,2) -> 6 | F7: m²
A9: 1.2 | B9: COMP 01 | C9: Próprio | D9: ADMINISTRAÇÃO LOCAL DA OBRA | E9: MÊS | F9: =E10 -> 4
D10: MESES | E10: 4
A12: 1.3 | B12: COMP 02 | C12: Próprio | D12: ALUGUEL DE IMOVEL DE APOIO | E12: MÊS | F12: =E13 -> 4
D13: MESES | E13: 4
A15: 2 | D15: IMPLANTAÇÃO DE BUEIRO
A16: 2.1 | D16: BOCA E CORPO DE BUEIRO
A17: 2.1.1 | B17: 5501910 | C17: SICRO3 | D17: Escavação, carga e transporte de material de 1ª categoria - DMT de 1.800 a 2.000 m - caminho de serviço em revestimento primário - com carregadeira e caminhão basculante de 14 m³ | E17: m³ | F17: =ROUND(E24+E32,2) -> 145
D18: BSTC
D19: BASE MENOR | E19: 1.5 | F19: m
D20: BASE MAIOR | E20: 2.5 | F20: m
D21: ALTURA | E21: 1 | F21: m
D22: QUANTIDADE DE BUEIRO | E22: =COUNT('LISTA BUEIRO'!A4:A16) -> 13 | F22: und
D23: COMPRIMENTO BUEIRO | E23: =AVERAGE('LISTA BUEIRO'!E4:E16) -> 5 | F23: m | H23: =Orçamento!H24 -> 410812.62
D24: VOLUME | E24: =ROUND(((E19+E20)*E21/2)*E22*E23,2) -> 130 | F24: m³
J25: =H23/(E22+E30) -> 29343.759
D26: BDTC
D27: BASE MENOR | E27: 2.5 | F27: m
D28: BASE MAIOR | E28: 3.5 | F28: m
D29: ALTURA | E29: 1 | F29: m
D30: QUANTIDADE DE BUEIRO | E30: =COUNT('LISTA BUEIRO'!A20) -> 1 | F30: und
D31: COMPRIMENTO BUEIRO | E31: =AVERAGE('LISTA BUEIRO'!E20) -> 5 | F31: m
D32: VOLUME | E32: =ROUND(((E27+E28)*E29/2)*E30*E31,2) -> 15 | F32: m³
A34: 2.1.2 | B34: 0804037 | C34: SICRO3 | D34: Corpo de BSTC D = 1,00 m PA1 - areia, brita e pedra de mão comerciais | E34: m | F34: =E35 -> 65
D35: QUANTIDADE | E35: =ROUND(E22*E23,2) -> 65 | F35: und
A37: 2.1.3 | B37: 0804189 | C37: SICRO3 | D37: Corpo de BDTC D = 1,00 m PA1 - areia, brita e pedra de mão comerciais | E37: m | F37: =E38 -> 5
D38: QUANTIDADE | E38: =ROUND(E30*E31,2) -> 5 | F38: und
A40: 2.1.4 | B40: 0804393 | C40: SICRO3 | D40: Boca de BSTC D = 1,00 m - esconsidade 0° - areia e brita comerciais - alas esconsas | E40: un | F40: =E41 -> 26
D41: QUANTIDADE | E41: =ROUND(E22*2,2) -> 26 | F41: und
A43: 2.1.5 | B43: 0804417 | C43: SICRO3 | D43: Boca de BDTC D = 1,00 m - esconsidade 0° - areia e brita comerciais - alas esconsas | E43: un | F43: =E44 -> 2
E44: =ROUND(E30*2,2) -> 2 | F44: und
A46: 2.2 | D46: TERRAPLENAGEM
A47: 2.2.1 | B47: 4915734 | C47: SICRO3 | D47: Recomposição mecanizada de aterro com material de jazida | E47: m³ | F47: =ROUND(E53+E60,2) -> 1437.94
D48: BSTC
...

Sheet TRANSP
A2: QUADRO DE MOMENTOS DE TRANSPORTES - PARA BUEIROS
A4: 5915320 | B4: =Orçamento!D20 -> TRANSPORTE COM CAMINHÃO BASCULANTE DE 14 M³, EM VIA URBANA EM REVESTIMENTO PRIMÁRIO (UNIDADE: TXKM). AF_02/2026
A5: CÓDIGO AUXILIAR | B5: TAREFA OU SERVIÇO | C5: MATERIAL | D5: QUANT. | E5: UND. | F5: FATOR DE UTILIZAÇÃO | H5: PESO A TRANSPORTAR (t) | I5: DMT | J5: LOCAL | K5: MOMENTO DE TRANSPORTE (t.km)
B6: DISCRIMINAÇÃO | D6: TRABALHO | F6: FATOR | G6: UNIDADE | I6: (km) | J6: DMT
A8: =Orçamento!B12 -> 0804037 | B8: =Orçamento!D12 -> Corpo de BSTC D = 1,00 m PA1 - areia, brita e pedra de mão comerciais | C8: CIMENTO | D8: ='LISTA BUEIRO'!E17 -> 65 | E8: m | F8: 0.0829 | G8: t/m | H8: =D8*F8 -> 5.3885 | I8: 50 | J8: OEIRAS | K8: =ROUND(H8*I8,2) -> 269.43
C9: AREIA | D9: =$D$8 -> 65 | E9: m | F9: 0.299 | G9: t/m | H9: =D9*F9 -> 19.435 | I9: 50 | J9: OEIRAS | K9: =ROUND(H9*I9,2) -> 971.75
C10: BRITA | D10: =$D$8 -> 65 | E10: m | F10: 0.326 | G10: t/m | H10: =D10*F10 -> 21.19 | I10: 85 | J10: PAQUETÁ | K10: =ROUND(H10*I10,2) -> 1801.15
A13: =Orçamento!B13 -> 0804189 | B13: =Orçamento!D13 -> Corpo de BDTC D = 1,00 m PA1 - areia, brita e pedra de mão comerciais | C13: CIMENTO | D13: ='LISTA BUEIRO'!E21 -> 5 | E13: m | F13: =F8*2 -> 0.1658 | G13: t/m | H13: =D13*F13 -> 0.829 | I13: =I8 -> 50 | J13: OEIRAS | K13: =ROUND(H13*I13,2) -> 41.45
C14: AREIA | D14: 22 | E14: m | F14: =F9*2 -> 0.598 | G14: t/m | H14: =D14*F14 -> 13.156 | I14: =I9 -> 50 | J14: OEIRAS | K14: =ROUND(H14*I14,2) -> 657.8
C15: BRITA | D15: 22 | E15: m | F15: =F10*2 -> 0.652 | G15: t/m | H15: =D15*F15 -> 14.344 | I15: =I10 -> 85 | J15: PAQUETÁ | K15: =ROUND(H15*I15,2) -> 1219.24
A18: =Orçamento!B14 -> 0804393 | B18: =Orçamento!D14 -> Boca de BSTC D = 1,00 m - esconsidade 0° - areia e brita comerciais - alas esconsas | C18: CIMENTO | D18: =(COUNT('LISTA BUEIRO'!A4:A16)*2) -> 26 | E18: m | F18: 1.004 | G18: t/m | H18: =D18*F18 -> 26.104 | I18: =I13 -> 50 | J18: OEIRAS | K18: =ROUND(H18*I18,2) -> 1305.2
C19: AREIA | D19: =D18 -> 26 | E19: m | F19: 3.613 | G19: t/m | H19: =D19*F19 -> 93.938 | I19: =I14 -> 50 | J19: OEIRAS | K19: =ROUND(H19*I19,2) -> 4696.9
C20: BRITA | D20: =D19 -> 26 | E20: m | F20: 3.933 | G20: t/m | H20: =D20*F20 -> 102.258 | I20: =I15 -> 85 | J20: PAQUETÁ | K20: =ROUND(H20*I20,2) -> 8691.93
A23: =Orçamento!B15 -> 0804417 | B23: =Orçamento!D15 -> Boca de BDTC D = 1,00 m - esconsidade 0° - areia e brita comerciais - alas esconsas | C23: CIMENTO | D23: =(COUNT('LISTA BUEIRO'!A20)*2) -> 2 | E23: m | F23: 1.437 | G23: t/m | H23: =D23*F23 -> 2.874 | I23: =I18 -> 50 | J23: OEIRAS | K23: =ROUND(H23*I23,2) -> 143.7
C24: AREIA | D24: =D23 -> 2 | E24: m | F24: 5.174 | G24: t/m | H24: =D24*F24 -> 10.348 | I24: =I19 -> 50 | J24: OEIRAS | K24: =ROUND(H24*I24,2) -> 517.4
C25: BRITA | D25: =D24 -> 2 | E25: m | F25: 5.631 | G25: t/m | H25: =D25*F25 -> 11.262 | I25: =I20 -> 85 | J25: PAQUETÁ | K25: =ROUND(H25*I25,2) -> 957.27
I27: TOTAL DE RACHÃO: | K27: =K8+K13+K18+K23 -> 1759.78
I28: TOTAL DE AREIA: | K28: =K9+K14+K19+K24 -> 6843.85
I29: TOTAL DE BRITA: | K29: =K10+K15+K20+K25 -> 12669.59
I31: TOTAL | K31: =ROUND(SUM(K8:K26),2) -> 21273.22 | L31: =SUM(K27:K29) -> 21273.22

Sheet CPUs
C1: Composições Analíticas com Preço Unitário | E1: Bancos | G1: B.D.I.
C2: CONSTRUÇÃO DE BUEIROS NA ZONA RURAL DO MUNICÍPIO DE SANTA ROSA DO PIAUÍ | E2: =Orçamento!E2 -> SINAPI - 02/2026 - Piauí SICRO3 - 10/2025 - Piauí | G2: 0.2467
A3: Composições Analíticas com Preço Unitário
A4: Composições Principais
A5: 1.1 | B5: Código | C5: Banco | D5: Descrição | E5: Tipo | G5: Und | H5: Quant. | I5: Valor Unit | J5: Total | K5: =J6 -> 467.2 | L5: =J15 -> 582.46
A6: Composição | B6: 103689 | C6: SINAPI | D6: FORNECIMENTO E INSTALAÇÃO DE PLACA DE OBRA COM CHAPA GALVANIZADA E ESTRUTURA DE MADEIRA. AF_03/2022_PS | E6: Sinalização Vertical Viária | G6: m² | H6: 1 | I6: 467.2 | J6: 467.2
A7: Composição Auxiliar | B7: 102234 | C7: SINAPI | D7: PINTURA IMUNIZANTE PARA MADEIRA, 2 DEMÃOS. AF_01/2021 | E7: Pintura em Madeira | G7: m² | H7: 0.5 | I7: 26.37 | J7: 13.18
A8: Composição Auxiliar | B8: 88262 | C8: SINAPI | D8: CARPINTEIRO DE FORMAS COM ENCARGOS COMPLEMENTARES | E8: Livro SINAPI: Cálculos e Parâmetros | G8: H | H8: 0.3729 | I8: 28.78 | J8: 10.73
A9: Composição Auxiliar | B9: 88316 | C9: SINAPI | D9: SERVENTE COM ENCARGOS COMPLEMENTARES | E9: Livro SINAPI: Cálculos e Parâmetros | G9: H | H9: 1.1186 | I9: 23.66 | J9: 26.46
A10: Insumo | B10: 00004509 | C10: SINAPI | D10: SARRAFO *2,5 X 10* CM EM PINUS, MISTA OU EQUIVALENTE DA REGIAO - BRUTA | E10: Material | G10: M | H10: 3.2083 | I10: 5.03 | J10: 16.13
A11: Insumo | B11: 00004813 | C11: SINAPI | D11: PLACA DE OBRA (PARA CONSTRUCAO CIVIL) EM CHAPA GALVANIZADA *N. 22*, ADESIVADA, DE *2,4 X 1,2* M (SEM POSTES PARA FIXACAO) | E11: Material | G11: m² | H11: 1 | I11: 400 | J11: 400
A12: Insumo | B12: 00005065 | C12: SINAPI | D12: PREGO DE ACO POLIDO COM CABECA 10 X 10 (7/8 X 17) | E12: Material | G12: KG | H12: 0.0113 | I12: 38.7 | J12: 0.43
A13: Insumo | B13: 00005069 | C13: SINAPI | D13: PREGO DE ACO POLIDO COM CABECA 17 X 27 (2 1/2 X 11) | E13: Material | G13: KG | H13: 0.0132 | I13: 20.74 | J13: 0.27
E14: MO sem LS => | F14: 31.41 | G14: LS => | H14: 0 | I14: MO com LS => | J14: 31.41
E15: Valor do BDI => | F15: 115.25824 | H15: Valor com BDI => | J15: 582.46
A17: 1.2 | B17: Código | C17: Banco | D17: Descrição | E17: Tipo | G17: Und | H17: Quant. | I17: Valor Unit | J17: Total | K17: =J18 -> 3643.4 | L17: =J22 -> 4542.23 | N17: =Orçamento!I7 -> 18168.92 | O17: =Orçamento!H24 -> 410812.62
A18: Composição | B18: COMP 01 | C18: Próprio | D18: ADMINISTRAÇÃO LOCAL DA OBRA | E18: SEDI - SERVIÇOS DIVERSOS | G18: MÊS | H18: 1 | I18: =J18 -> 3643.4 | J18: =ROUND(J19+J20,2) -> 3643.4
A19: Composição Auxiliar | B19: 90777 | C19: SINAPI | D19: ENGENHEIRO CIVIL DE OBRA JUNIOR COM ENCARGOS COMPLEMENTARES | E19: Livro SINAPI: Cálculos e Parâmetros | G19: H | H19: 20 | I19: 141.05 | J19: =TRUNC(H19*I19,2) -> 2821
A20: Composição Auxiliar | B20: 90776 | C20: SINAPI | D20: ENCARREGADO GERAL COM ENCARGOS COMPLEMENTARES | E20: Livro SINAPI: Cálculos e Parâmetros | G20: H | H20: =H19 -> 20 | I20: 41.12 | J20: =TRUNC(H20*I20,2) -> 822.4
E21: MO sem LS => | F21: 4607.76 | G21: LS => | H21: 0 | I21: MO com LS => | J21: 4607.76
E22: Valor do BDI => | F22: =ROUND(J18*G2,2) -> 898.83 | H22: Valor com BDI => | J22: =ROUND(F22+J18,2) -> 4542.23
A24: 1.3 | B24: Código | C24: Banco | D24: Descrição | E24: Tipo | G24: Und | H24: Quant. | I24: Valor Unit | J24: Total | K24: =J25 -> 3001.5 | L24: =J29 -> 3741.97
A25: Composição | B25: COMP 02 | C25: Próprio | D25: ALUGUEL DE IMOVEL DE APOIO | E25: SEDI - SERVIÇOS DIVERSOS | G25: MÊS | H25: 1 | I25: =J25 -> 3001.5 | J25: =SUM(J26:J27) -> 3001.5
A26: Insumo | B26: Proprio 01 | C26: Próprio | D26: B8951 - Comercial (2,55% do CMCC - SINAPI) | E26: Aluguel | G26: m² x mês | H26: 30 | I26: 51.03 | J26: =ROUND(H26*I26,2) -> 1530.9
A27: Insumo | B27: B8952 | C27: Próprio | D27: Residencial (1,70% do CMCC - SINAPI) | E27: Aluguel | G27: m² x mês | H27: 30 | I27: 49.02 | J27: =ROUND(H27*I27,2) -> 1470.6
E28: MO sem LS => | F28: 0 | G28: LS => | H28: 0 | I28: MO com LS => | J28: 0
E29: Valor do BDI => | F29: =ROUND(J25*G2,2) -> 740.47 | H29: Valor com BDI => | J29: =ROUND(F29+J25,2) -> 3741.97
A31: 2.1.1 | B31: Código | C31: Banco | D31: Descrição | E31: Tipo | G31: Und | H31: Quant. | I31: Valor Unit | J31: Total | K31: =J32 -> 13.27 | L31: =J49 -> 16.54
A32: Composição | B32: 5501910 | C32: SICRO3 | D32: Escavação, carga e transporte de material de 1ª categoria - DMT de 1.800 a 2.000 m - caminho de serviço em revestimento primário - com carregadeira e caminhão basculante de 14 m³ | G32: m³ | H32: 1 | I32: 13.27 | J32: 13.27
A33: A | B33: Código | C33: Banco | D33: Equipamentos | E33: Quantidade | F33: Utilização | H33: Custo Operacional | J33: Custo Horário
F34: Operativa | G34: Improdutiva | H34: Operativa | I34: Improdutiva
A35: Insumo | B35: E9667 | C35: SICRO3 | D35: Caminhão basculante com capacidade de 14 m³ - 210 kW | E35: 5 | F35: 0.97 | G35: 0.03 | H35: 318.1366 | I35: 95.8318 | J35: 1557.3373
A36: Insumo | B36: E9511 | C36: SICRO3 | D36: Carregadeira de pneus com capacidade de 3,40 m³ - 195 kW | E36: 1 | F36: 1 | G36: 0 | H36: 523.0528 | I36: 257.4532 | J36: 523.0528
A37: Insumo | B37: E9541 | C37: SICRO3 | D37: Trator sobre esteiras com lâmina - 259 kW | E37: 1 | F37: 1 | G37: 0 | H37: 1032.1171 | I37: 417.6191 | J37: 1032.1171
F38: Custo Horário de Equipamentos => | J38: 3112.5072
A39: B | B39: Código | C39: Banco | D39: Mão de Obra | E39: Quantidade | F39: Salário Hora | J39: Custo Horário
A40: Insumo | B40: P9824 | C40: SICRO3 | D40: Servente | E40: 1 | I40: 22.1191 | J40: 22.1191
F41: Custo Horário da Mão de Obra => | J41: 22.1191
F42: Adc.M.O. - Ferramentas (0,0%) => | J42: 0
F43: Custo Horário de Execução => | J43: 3134.6263
...

Sheet CRON
B1: Obra | C1: Bancos | D1: B.D.I.
B2: CONSTRUÇÃO DE BUEIROS NA ZONA RURAL DO MUNICÍPIO DE SANTA ROSA DO PIAUÍ - PI | C2: SINAPI - 02/2026 - Piauí SICRO3 - 10/2025 - Piauí | D2: 0.2467
A3: Cronograma Físico e Financeiro
A4: Item | B4: Descrição | C4: Total Por Etapa | D4: 30 DIAS | E4: 60 DIAS | F4: 90 DIAS | G4: 120 DIAS
A5: 1 | B5: SERVIÇOS PRELIMINARES | C5: 1 | D5: 0.25 | E5: 0.25 | F5: 0.25 | G5: 0.25
C6: =Orçamento!I5 -> 36631.56 | D6: =D5*$C$6 -> 9157.89 | E6: =E5*$C$6 -> 9157.89 | F6: =F5*$C$6 -> 9157.89 | G6: =G5*$C$6 -> 9157.89
A7: 2 | B7: IMPLANTAÇÃO DE BUEIRO | C7: 1 | D7: 0.25 | E7: 0.25 | F7: 0.25 | G7: 0.25
C8: =Orçamento!I9 -> 374181.06 | D8: =D7*$C$8 -> 93545.265 | E8: =E7*$C$8 -> 93545.265 | F8: =F7*$C$8 -> 93545.265 | G8: =G7*$C$8 -> 93545.265
A9: Porcentagem | D9: =D10/($C$6+$C$8) -> 0.25 | E9: =E10/($C$6+$C$8) -> 0.25 | F9: =F10/($C$6+$C$8) -> 0.25 | G9: =G10/($C$6+$C$8) -> 0.25
A10: Custo | D10: =SUM(D6,D8) -> 102703.15 | E10: =SUM(E6,E8) -> 102703.15 | F10: =SUM(F6,F8) -> 102703.15 | G10: =SUM(G6,G8) -> 102703.15
A11: Porcentagem Acumulado | D11: =D9 -> 0.25 | E11: =D11+E9 -> 0.5 | F11: =E11+F9 -> 0.75 | G11: =F11+G9 -> 1
A12: Custo Acumulado | D12: =SUM(D6,D8) -> 102703.15 | E12: =D12+E10 -> 205406.31 | F12: =E12+F10 -> 308109.46 | G12: =F12+G10 -> 410812.62 | H12: =Orçamento!H24 -> 410812.62

Sheet BDI
A6: DETALHAMENTO DO BDI SEM DESONERAÇÃO - SERVIÇOS
B8: Item | C8: Descrição dos serviços | D8: Preço de Venda (%) | E8: Custo Direto (%)
B10: 1 | C10: Administração Central (A) | E10: 0.0401
B12: 2 | C12: Impostos e Taxas (I) | E12: =D13+D14+D15+D16 -> 0.0865
B13: 2.1 | C13: ISS | D13: 0.05
B14: 2.2 | C14: PIS | D14: 0.0065
B15: 2.3 | C15: Cofins | D15: 0.03
B16: 2.4 | C16: CPRB (INSS) | D16: 0
B18: 3 | C18: Risco, seguro e garantia (R) | E18: =D19+D20 -> 0.0096
B19: 3.1 | C19: Risco | D19: 0.0056
B20: 3.2 | C20: Seguro | D20: 0.004
B22: 4 | C22: Despesas Financeiras (DF) | E22: 0.0111
B24: 5 | C24: Lucro (L) | E24: 0.073
B26: BDI* (%): | E26: =ROUND((((1+(E10+E18))*(1+E22)*(1+E24)/(1-E12))-1)*100,2) -> 24.67
B28: Considerações: Acórdão nº 2622/2013 - TCU /Plenário
B29: (*) BDI (%) = (((1+(AC+S+R+G))*(1+DF)*(1+L)/(1-I))-1)*100
B30: * Considerando a Lei nº 12.844/2013 e Acórdão 2293/2013-TCU -Plenário (Desoneração da Folha de Pagamento)

Sheet ENCARGOS
