Workbook
Name _EST10: [1]Mem_calc!#REF!
Name _EST10: [1]Mem_calc!#REF!
Name _EST10: #REF!
Name _EST10: #REF!
Name _EST5: [1]Mem_calc!#REF!
Name _EST5: [1]Mem_calc!#REF!
Name _EST5: #REF!
Name _EST5: #REF!
Name AGETOP: [1]Orçamento!$A:$F
Name AGETOP: [1]Orçamento!$A:$F
Name AGETOP: #REF!
Name AMPL: [2]Orçamento!#REF!
Name AMPL: [2]Orçamento!#REF!
Name AMPL: #REF!
Name AMPL: #REF!
Name BARR: [1]Mem_calc!#REF!
Name BARR: [1]Mem_calc!#REF!
Name BARR: #REF!
Name BARR: #REF!
Name bBL: [1]Mem_calc!#REF!
Name bBL: [1]Mem_calc!#REF!
Name bBL: #REF!
Name bBL: #REF!
Name BLq: [1]Mem_calc!#REF!
Name BLq: [1]Mem_calc!#REF!
Name BLq: #REF!
Name BLq: #REF!
Name Bpil: [1]Mem_calc!#REF!
Name Bpil: [1]Mem_calc!#REF!
Name Bpil: #REF!
Name Bpil: #REF!
Name Bvb: [1]Mem_calc!#REF!
Name Bvb: [1]Mem_calc!#REF!
Name Bvb: #REF!
Name Bvc: [1]Mem_calc!#REF!
Name Bvc: [1]Mem_calc!#REF!
Name Bvc: #REF!
Name Dest: [1]Mem_calc!#REF!
Name Dest: [1]Mem_calc!#REF!
Name Dest: #REF!
Name duto: [2]Orçamento!#REF!
Name duto: [2]Orçamento!#REF!
Name duto: #REF!
Name duto: #REF!
Name encD: [3]dados!$L$48
Name encD: [3]dados!$L$48
Name encD: #REF!
Name Excel_BuiltIn__FilterDatabase_3: #REF!
Name Excel_BuiltIn_Print_Area_1_1: #REF!
Name Excel_BuiltIn_Print_Area_4: #REF!
Name Excel_BuiltIn_Print_Area_5_1: #REF!
Name FERest: [1]Mem_calc!#REF!
Name FERest: [1]Mem_calc!#REF!
Name FERest: #REF!
Name func: [1]Mem_calc!#REF!
Name func: [1]Mem_calc!#REF!
Name func: #REF!
Name FUND10: [1]Mem_calc!#REF!
Name FUND10: [1]Mem_calc!#REF!
Name FUND10: #REF!

Sheet BDI (2)
H3: ESTADO DE GOIÁS
H4: MUNICÍPIO DE BOM JESUS
C6: COMPOSIÇÃO DA PARCELA DE BDI
C7: PLANILHA ANALÍTICA DE BONIFICAÇÃO E DESPESAS INDIRETAS
C8: (COM DESONERAÇÃO DA MÃO DE OBRA)
C9: 1.0 | D9: DESPESAS INDIRETAS | P9: % sobre Preço de Venda
C10: 1.1 | D10: ADMINISTRAÇÃO DA OBRA | P10: =P11+P12+P13+P14 -> 5.36
C11: A | D11: Administração Central | P11: 3 | R11: =P11/100 -> 0.03
C12: B | D12: Despesas Financeiras | P12: 0.59 | R12: =P12/100 -> 0.0059
C13: C | D13: Risco | P13: 0.97 | R13: =P13/100 -> 0.0097
C14: D | D14: Seguros e Garantias | P14: 0.8 | R14: =P14/100 -> 0.008
C15: 1.2 | D15: TRIBUTO | P15: =P16+P17+P18+P19 -> 12.8 | R15: =R16+R17+R18+R19 -> 0.128
C16: E | D16: PIS | P16: 0.65 | R16: =P16/100 -> 0.0065
C17: F | D17: COFINS | P17: 3.65 | R17: =P17/100 -> 0.0365
C18: G | D18: ISS | P18: 4 | R18: =P18/100 -> 0.04
C19: H | D19: CPRB | P19: 4.5 | R19: =P19/100 -> 0.045
C20: 2.0 | D20: LUCRO | P20: =P21 -> 6.16
C21: I | D21: Lucro | P21: 6.16 | R21: =P21/100 -> 0.0616
D23: BDI = | F23: (1+AC+S+R+G)*(1+DF)*(1+L)
F24: ________________________ | K24: -1
H25: (1-l)
C26: SENDO:
D27: AC: | F27: taxa de administração central;
D28: S: | F28: taxa de seguros;
D29: R: | F29: taxa de riscos;
D30: G: | F30: taxa de garantias;
D31: DF: | F31: taxa de despesas financeiras;
D32: L: | F32: taxa de luco/remuneração;
D33: l: | F33: taxa de incidência de impostos (PIS, COFINS,ISS,CPRB).
D34: BDI: | E34: =(((1+R11+R13+R14)*(1+R12)*(1+R21))/(1-R15))-1 -> 0.28302813
H35: ___________________________
D36: TAXA ANALÍTICA DE BDI (%): | P36: =E34 -> 0.28302813
C37: Observações:
C38: I - | D38: Portaria n° 545, de 11 de junho de 2012, publicada no Diário Oficial de União de 12 de junho de 2012 e Lei n° 12.546/11, incluído pela Lei n° 12.844/13, publicada em Edição Extra do DOU de 19/07/2103;
C39: II - | D39: O percentual total apurado do BDI deverá incidir de forma direta sobre o somatório dos custos totais de cada item de serviço;
C40: III - | D40: Os tributos IRPJ e CSLL não deverão integrar o calculo do BDI, nem tampouco a planilha de custo direto, por se constituirem em tributos de natureza direta e personalística, que oneram pessoalmente o contratado, não devendo ser repassado à contratante, conforme Súmula/TCU n° 254/2010;
C41: IV - | D41: A inserção do item "I" decorre das alterações promovidas pela Lei n° 12.844/2103, conforme orientação do Acórdão TCU n° 2.293/2013-Plenário.
P42: BOM JESUS-GO, 22 DE MAIO DE 2025.
C46: ___________________________________________________
C47: ='[6]P.O.'!D124 -> YANNE DUARTE GONZAGA
...

Sheet GOINFRA
A1: Tabela de Preços: TABELA DE CUSTOS DE OBRAS CIVIS - T291 - FEVEREIRO/2025 - COM DESONERAÇÃO Data Base: 01/02/2025
A2: Código Auxiliar | B2: Serviço | C2: Unidade | D2: Material | E2: Mão-de- obra | F2: Total
A3: 164 | B3: SERVIÇOS PRELIMINARES
A4: 20000 | B4: SERVIÇOS PRELIMINARES | C4: S/U | D4: 0 | E4: 0 | F4: 0
A5: 20100 | B5: DEMOLIÇÃO MANUAL - COBERTURA TELHA METÁLICA COM TRANSPORTE ATÉ CAÇAMBA E CARGA | C5: m2 | D5: 0 | E5: 3.55 | F5: 3.55
A6: 20101 | B6: DEMOLIÇÃO MANUAL DE COBERTURA EM TELHA CERAMICA COM TRANSPORTE ATÉ CAÇAMBA E CARGA | C6: m2 | D6: 0 | E6: 5.68 | F6: 5.68
A7: 20102 | B7: DEMOLICAO MANUAL COBERTURA TELHA FIBROCIMENTO/FIBRA DE VIDRO/ SIMILARES C/ TRANSP. ATÉ CB. E CARGA | C7: m2 | D7: 0 | E7: 3.15 | F7: 3.15
A8: 20103 | B8: DEMOLIÇÃO MANUAL ESTRUTURA EM MADEIRA TELHADO COM TRANSPORTE ATÉ CAÇAMBA E CARGA | C8: m2 | D8: 0 | E8: 16.42 | F8: 16.42
A9: 20104 | B9: DEMOLIÇÃO MANUAL DE RIPA COM TRANSPORTE ATÉ CAÇAMBA E CARGA | C9: m2 | D9: 0 | E9: 1.36 | F9: 1.36
A10: 20105 | B10: DEMOLIÇÃO MANUAL FORRO PAULISTA COM TRANSPORTE ATÉ CAÇAMBA E CARGA | C10: m2 | D10: 0 | E10: 3.78 | F10: 3.78
A11: 20106 | B11: REMOÇÃO MANUAL DE JANELA OU PORTAL COM TRANSPORTE ATÉ CAÇAMBA E CARGA | C11: m2 | D11: 0 | E11: 6.31 | F11: 6.31
A12: 20107 | B12: CORTE, DESTOCAMENTO, RETIRADA E REATERRO (MANUAIS) DE ÁRVORE GRANDE PORTE (H = 8 A 10 M / DIÂMETRO TRONCO 60 A 70CM E COPA DE 10 A 13M ) C/ TRANSPORTE ATE CAÇAMBA E CARGA | C12: Un | D12: 0 | E12: 532.71 | F12: 532.71
A13: 20108 | B13: DEMOLIÇÃO MANUAL PISO/VIGA DE MADEIRA COM TRANSPORTE ATÉ CAÇAMBA E CARGA | C13: m2 | D13: 0 | E13: 14.21 | F13: 14.21
A14: 20109 | B14: DEMOLIÇÃO MANUAL DE PISO CIMENTICIO SOBRE LASTRO DE CONCRETO COM TRANSPORTE ATE CAÇAMBA E CARGA | C14: m2 | D14: 0 | E14: 14.36 | F14: 14.36
A15: 20110 | B15: DEMOLIÇÃO MANUAL DE PISO EM LADRILHO HIDRAULICO COM TRANSPORTE ATE CAÇAMBA E CARGA | C15: m2 | D15: 0 | E15: 8.84 | F15: 8.84
... A88: 21602 | B88: EPI/PGR/PCMSO/EXAMES/TREINAMENTOS/VISITAS - ÁREAS EDIFICADAS/COBERTAS/ FECHADAS | C88: m2 | D88: 48.22 | E88: 0 | F88: 48.22
A89: 165 | B89: TRANSPORTES
A90: 30000 | B90: TRANSPORTES | D90: 0 | E90: 0 | F90: 0
A91: 30101 | B91: TRANSPORTE DE ENTULHO EM CAMINHÃO INCLUSO A CARGA MANUAL | C91: m3 | D91: 40.12 | E91: 9.86 | F91: 49.98
A92: 30104 | B92: TRANSPORTE DE ENTULHO CAÇAMBA ESTACIONÁRIA SEM CARGA | C92: m3 | D92: 84.18 | E92: 0 | F92: 84.18
A93: 30105 | B93: TRANSPORTE DE ENTULHO EM CAÇAMBA ESTACIONÁRIA INCLUSO A CARGA MANUAL | C93: m3 | D93: 84.18 | E93: 8.9 | F93: 93.08
A94: 30106 | B94: TRANSPORTE DE ENTULHO EM CAMINHÃO SEM CARGA | C94: m3 | D94: 40.12 | E94: 0 | F94: 40.12
A95: 30110 | B95: TRANSPORTE DE MATERIAIS/EQUIPAMENTOS/OUTROS ( INCLUSIVE OS DA MOBILIZAÇÃO E DESMOBILIZAÇÃO ) - CAMINHÃO CARROCERIA MADEIRA 15 T ( INCLUSO NO VALOR O RETORNO ) | C95: tkm | D95: 0.69 | E95: 0 | F95: 0.69
A96: 30112 | B96: CARGA DOS MATERIAIS/EQUIPAMENTOS/OUTROS ( INCLUSO HORA IMPRODUTIVA DO CAMINHÃO) | C96: un | D96: 104.45 | E96: 84.13 | F96: 188.58
A97: 30113 | B97: DESCARGA DOS MATERIAIS/EQUIPAMENTOS/OUTROS ( INCLUSO HORA IMPRODUTIVA DO CAMINHÃO) | C97: un | D97: 104.45 | E97: 84.13 | F97: 188.58
A98: 30114 | B98: MOBILIZAÇÃO DO CANTEIRO DE OBRAS - INCLUSIVE CARGA E DESCARGA E A HORA IMPRODUTIVA DO CAMINHÃO - ( EXCLUSO O TRANSPORTE ) | C98: un | D98: 208.9 | E98: 168.27 | F98: 377.17
A99: 30116 | B99: DESMOBILIZAÇÃO DO CANTEIRO DE OBRAS - INCLUSIVE CARGA E DESCARGA E A HORA IMPRODUTIVA DO CAMINHÃO - ( EXCLUSO O TRANSPORTE ) | C99: un | D99: 208.9 | E99: 168.27 | F99: 377.17
A100: 30117 | B100: MOBILIZAÇÃO DE CONTAINER | C100: UNXKM | D100: 12.04 | E100: 0 | F100: 12.04
A101: 30118 | B101: DESMOBILIZAÇÃO DE CONTAINER | C101: UNXKM | D101: 12.04 | E101: 0 | F101: 12.04
A102: 30119 | B102: CARGA, MANOBRA E DESCARGA DE CONTAINER | C102: un | D102: 38.73 | E102: 3.49 | F102: 42.22
A103: 166 | B103: SERVIÇO EM TERRA
A104: 40000 | B104: SERVICO EM TERRA | D104: 0 | E104: 0 | F104: 0
A105: 40101 | B105: ESCAVACAO MANUAL DE VALAS < 1 MTS. (OBRAS CIVIS) | C105: m3 | D105: 0 | E105: 35.15 | F105: 35.15
A106: 40103 | B106: ESCAVAÇAO MANUAL DE VALAS PROF. 1 A 2 M | C106: m3 | D106: 0 | E106: 44.51 | F106: 44.51
A107: 40104 | B107: ESCAVAÇAO MANUAL DE VALAS PROF. 2 A 4 M | C107: m3 | D107: 0 | E107: 50 | F107: 50
A108: 40902 | B108: REATERRO COM APILOAMENTO | C108: m3 | D108: 0 | E108: 23.29 | F108: 23.29
A109: 40904 | B109: REATERRO COM APILOAMENTO MECÂNICO | C109: m3 | D109: 0.61 | E109: 3.32 | F109: 3.93
A110: 40905 | B110: APILOAMENTO MECÂNICO | C110: m2 | D110: 0.11 | E110: 0.33 | F110: 0.44
A111: 41001 | B111: ESCAVAÇÃO CAMPO ABERTO COM TRANSPORTE MANUAL DE TERRA | C111: m3 | D111: 0 | E111: 40.14 | F111: 40.14
A112: 41002 | B112: APILOAMENTO | C112: m2 | D112: 0 | E112: 5.48 | F112: 5.48
...

Sheet P.O.
G2: ESTADO DE GOIÁS
G3: MUNICÍPIO DE BOM JESUS
C4: OBRA: | D4: ='MEMÓRIA DE CÁLCULO'!C7 -> REFORMA DE PINTURA DO PARQUE DE EXPOSIÇÃO MUNICIPAL "ADELMO HENRIQUES DA SILVA"
C5: LOCAL: | D5: ='MEMÓRIA DE CÁLCULO'!C8 -> AV. BRASÍLIA, N° 687, BAIRRO PADRE NOSSO, BOM JESUS-GO
C6: REF.: | D6: ='MEMÓRIA DE CÁLCULO'!C9 -> TABELA 291 - CUSTOS DE OBRAS CIVIS - FEVEREIRO/2025 - COM DESONERAÇÃO
C7: DATA BASE: | D7: ='MEMÓRIA DE CÁLCULO'!C10 -> 45689
C8: BDI: | D8: ='BDI (2)'!P36 -> 0.28302813
C9: EXECUÇÃO: | D9: TERCEIRIZAÇÃO GLOBAL
B10: PLANILHA ORÇAMENTÁRIA REFERENCIAL DE CUSTO
B11: ITEM | C11: TABELA | D11: CÓDIGO | E11: SERVIÇO | F11: UNID. | G11: QUANT. | H11: C.SERV | I11: C.SERV C/BDI | J11: TOTAL (R$) | K11: PESO (%)
B12: 01 | C12: GOINFRA | D12: 187 | E12: =IF(C12="GOINFRA",VLOOKUP(D12,GOINFRA,2,),IF([7]P.O!C15="SINAPI",VLOOKUP([7]P.O!D15,SINAPI,2,),"-")) -> ADMINISTRAÇÃO - MENSALISTAS | I12: SUBTOTAL | J12: =J13 -> 3001 | K12: =J12/$J$18 -> 0.033008916
B13: 1.1 | C13: GOINFRA | D13: 250103 | E13: =IF(C13="GOINFRA",VLOOKUP(D13,GOINFRA,2,),IF([7]P.O!C16="SINAPI",VLOOKUP([7]P.O!D16,SINAPI,2,),"-")) -> ENCARREGADO - (OBRAS CIVIS) | F13: =IF(C13="GOINFRA",VLOOKUP(D13,GOINFRA,3,),IF([7]P.O!C16="SINAPI",VLOOKUP([7]P.O!D16,SINAPI,3,),"-")) -> H | G13: ='MEMÓRIA DE CÁLCULO'!I16 -> 100 | H13: =IF(C13="GOINFRA",VLOOKUP(D13,GOINFRA,6,),IF([7]P.O!C16="SINAPI",VLOOKUP([7]P.O!D16,SINAPI,4,),"-")) -> 23.39 | I13: =H13*(1+$D$8) -> 30.010028 | J13: =ROUND(G13*I13,2) -> 3001 | K13: =J13/$J$18 -> 0.033008916
B14: 02 | C14: GOINFRA | D14: 188 | E14: =IF(C14="GOINFRA",VLOOKUP(D14,GOINFRA,2,),IF([7]P.O!C17="SINAPI",VLOOKUP([7]P.O!D17,SINAPI,2,),"-")) -> PINTURA | I14: SUBTOTAL | J14: =SUM(J15:J17) -> 87913.83 | K14: =J14/$J$18 -> 0.96699108
B15: 2.1 | C15: GOINFRA | D15: 261000 | E15: =IF(C15="GOINFRA",VLOOKUP(D15,GOINFRA,2,),IF([7]P.O!C18="SINAPI",VLOOKUP([7]P.O!D18,SINAPI,2,),"-")) -> PINTURA LATEX ACRILICA 2 DEMAOS C/SELADOR | F15: =IF(C15="GOINFRA",VLOOKUP(D15,GOINFRA,3,),IF([7]P.O!C18="SINAPI",VLOOKUP([7]P.O!D18,SINAPI,3,),"-")) -> m2 | G15: ='MEMÓRIA DE CÁLCULO'!I19 -> 4242.7638 | H15: =IF(C15="GOINFRA",VLOOKUP(D15,GOINFRA,6,),IF([7]P.O!C18="SINAPI",VLOOKUP([7]P.O!D18,SINAPI,4,),"-")) -> 12.69 | I15: =H15*(1+$D$8) -> 16.281627 | J15: =ROUND(G15*I15,2) -> 69079.1 | K15: =J15/$J$18 -> 0.75982213
B16: 2.3 | C16: GOINFRA | D16: 261602 | E16: =IF(C16="GOINFRA",VLOOKUP(D16,GOINFRA,2,),IF([7]P.O!C22="SINAPI",VLOOKUP([7]P.O!D22,SINAPI,2,),"-")) -> PINTURA TINTA ESMALTE PARA ESQUADRIAS DE FERRO C FUNDO ANTICORROSIVO | F16: =IF(C16="GOINFRA",VLOOKUP(D16,GOINFRA,3,),IF([7]P.O!C21="SINAPI",VLOOKUP([7]P.O!D21,SINAPI,3,),"-")) -> m2 | G16: ='MEMÓRIA DE CÁLCULO'!I107 -> 213.52 | H16: =IF(C16="GOINFRA",VLOOKUP(D16,GOINFRA,6,),IF([7]P.O!C21="SINAPI",VLOOKUP([7]P.O!D21,SINAPI,4,),"-")) -> 25.87 | I16: =H16*(1+$D$8) -> 33.191938 | J16: =ROUND(G16*I16,2) -> 7087.14 | K16: =J16/$J$18 -> 0.077953619
B17: 2.4 | C17: GOINFRA | D17: 261703 | E17: =IF(C17="GOINFRA",VLOOKUP(D17,GOINFRA,2,),IF([7]P.O!C23="SINAPI",VLOOKUP([7]P.O!D23,SINAPI,2,),"-")) -> PINTURA TINTA POLIESPORTIVA - 2 DEMÃOS (PISOS E CIMENTADOS) | F17: =IF(C17="GOINFRA",VLOOKUP(D17,GOINFRA,3,),IF([7]P.O!C22="SINAPI",VLOOKUP([7]P.O!D22,SINAPI,3,),"-")) -> m2 | G17: ='MEMÓRIA DE CÁLCULO'!I129 -> 749.275 | H17: =IF(C17="GOINFRA",VLOOKUP(D17,GOINFRA,6,),IF([7]P.O!C22="SINAPI",VLOOKUP([7]P.O!D22,SINAPI,4,),"-")) -> 12.22 | I17: =H17*(1+$D$8) -> 15.678604 | J17: =ROUND(G17*I17,2) -> 11747.59 | K17: =J17/$J$18 -> 0.12921533
E18: TOTAL DOS SERVIÇOS : | J18: =SUMIF(I:I,"SUBTOTAL",J:J) -> 90914.83 | K18: =SUMIF(I:I,"SUBTOTAL",K:K) -> 1
K19: ='MEMÓRIA DE CÁLCULO'!I148 -> BOM JESUS-GO, 22 DE MAIO DE 2025.
C22: ='MEMÓRIA DE CÁLCULO'!B151 -> ________________________________________________________
C23: Yanne Duarte Gonzaga
C24: Eng.ª Civil - CREA 1022369989/D-GO

Sheet MEMÓRIA DE CÁLCULO
F2: ESTADO DE GOIÁS
F4: MUNICÍPIO DE BOM JESUS
B7: OBRA: | C7: REFORMA DE PINTURA DO PARQUE DE EXPOSIÇÃO MUNICIPAL "ADELMO HENRIQUES DA SILVA"
B8: LOCAL: | C8: AV. BRASÍLIA, N° 687, BAIRRO PADRE NOSSO, BOM JESUS-GO
B9: REF.: | C9: TABELA 291 - CUSTOS DE OBRAS CIVIS - FEVEREIRO/2025 - COM DESONERAÇÃO
B10: DATA BASE: | C10: 45689
B11: EXECUÇÃO: | C11: TERCEIRIZAÇÃO GLOBAL
B12: MEMÓRIA DE CÁLCULO DE SERVIÇOS
B13: ='P.O.'!B12 -> 01 | C13: SERVIÇO | D13: UNID. | E13: QUANT.
B14: ='P.O.'!B12 -> 01 | C14: ='P.O.'!E12 -> ADMINISTRAÇÃO - MENSALISTAS
B15: ='P.O.'!B13 -> 1.1 | C15: ='P.O.'!E13 -> ENCARREGADO - (OBRAS CIVIS)
C16: DURAÇÃO DE 30DIAS ACOMPANHAMENTO DE 5H/DIA | F16: 5 | G16: 5 | H16: 4 | I16: =H16*G16*F16 -> 100
B18: ='P.O.'!B14 -> 02 | C18: ='P.O.'!E14 -> PINTURA
B19: ='P.O.'!B15 -> 2.1 | C19: PINTURA LATEX ACRILICO 2 DEMAOS | I19: =SUM(I20:I106) -> 4242.7638
C20: Edificação abrigo de animais bovinos corte - unidades 10 e 12 | E20: 1 | F20: 33.75 | G20: 4 | H20: 2 | I20: =F20*G20*H20*E20 -> 270
C21: Pilar 15x30 | E21: 2 | F21: =2*0.15+2*0.3 -> 0.9 | G21: 14 | H21: 3.8 | I21: =F21*G21*H21*E21 -> 95.76
E22: 2 | F22: =2*0.3+2*0.3 -> 1.2 | G22: 2 | H22: 3.8 | I22: =F22*G22*H22*E22 -> 18.24
E23: 2 | F23: 1.7 | G23: 4 | H23: 1 | I23: =F23*G23*H23*E23 -> 13.6
E24: 2 | F24: 1 | G24: 4 | H24: 1 | I24: =F24*G24*H24*E24 -> 8
E25: 2 | F25: 4.6 | G25: 2 | H25: 3.5 | I25: =F25*G25*H25*E25 -> 64.4
C26: Desconto abertura 2,00x2,2 | E26: 2 | F26: 2 | G26: 2.2 | H26: -2 | I26: =F26*G26*H26*E26 -> -17.6
C27: Meio fio 15x30 | E27: 2 | F27: 0.32 | G27: =33.75+2*1.9 -> 37.55 | H27: 2 | I27: =F27*G27*H27*E27 -> 48.064
C28: Cocho/bebedouro 0,85x2,78 | E28: 2 | F28: 0.85 | G28: 0.45 | H28: =2*25 -> 50 | I28: =F28*G28*H28*E28 -> 38.25
E29: 2 | F29: 33.75 | G29: 0.45 | H29: =2*2 -> 4 | I29: =F29*G29*H29*E29 -> 121.5
C30: Stand Assitência Social - unidade 17 | E30: 1 | F30: 33.45 | G30: 2 | H30: 2 | I30: =F30*G30*H30*E30 -> 133.8
C31: PILARES | E31: 2 | F31: =0.15+2*0.3 -> 0.75 | G31: 3.8 | H31: 6 | I31: =F31*G31*H31*E31 -> 34.2
E32: 2 | F32: =0.3*2+0.3 -> 0.9 | G32: 3.8 | H32: 1 | I32: =F32*G32*H32*E32 -> 6.84
E33: 2 | F33: 1 | G33: 1 | H33: 4 | I33: =F33*G33*H33*E33 -> 8
E34: 2 | F34: 4.6 | G34: 3.5 | H34: 2 | I34: =F34*G34*H34*E34 -> 64.4
C35: Desconto porta 2,00x2,20 | E35: 2 | F35: 2 | G35: 2.2 | H35: -2 | I35: =F35*G35*H35*E35 -> -17.6
C36: Divisorias box | E36: 10 | F36: 0.5 | G36: 1.8 | H36: 1 | I36: =F36*G36*H36*E36 -> 9
E37: 10 | F37: 3.3 | G37: 1.8 | H37: 2 | I37: =F37*G37*H37*E37 -> 118.8
C38: Edificação abrigo de animais equinos - unidade 8 | E38: 4 | F38: 33.7 | G38: 2.5 | H38: 2 | I38: =F38*G38*H38*E38 -> 674
C39: BAIAS | E39: 2 | F39: 2.45 | G39: 2.5 | H39: 11 | I39: =F39*G39*H39*E39 -> 134.75
C40: Porta 1,00x2,00 | E40: 2 | F40: 1 | G40: 2 | H40: -22 | I40: =F40*G40*H40*E40 -> -88
C41: FRENTE/FUNDO | E41: 2 | F41: 1.7 | G41: 3.5 | H41: 2 | I41: =F41*G41*H41*E41 -> 23.8
C42: FRENTE/FUNDO | E42: 2 | F42: 1 | G42: 3.5 | H42: 2 | I42: =F42*G42*H42*E42 -> 14
C43: FRENTE/FUNDO | E43: 2 | F43: 4.6 | G43: 3.5 | H43: 2 | I43: =F43*G43*H43*E43 -> 64.4
C44: Abertura porta 2,00X2,20 | E44: 2 | F44: 2 | G44: 2.2 | H44: -2 | I44: =F44*G44*H44*E44 -> -17.6
C45: Desconto janela 1,50X1,00 | E45: 2 | F45: 1.5 | G45: 1 | H45: -22 | I45: =F45*G45*H45*E45 -> -66
...

Sheet CRONOGRAMA
E3: ESTADO DE GOIÁS
E4: MUNICÍPIO DE BOM JESUS
C6: OBRA: | D6: ='MEMÓRIA DE CÁLCULO'!C7 -> REFORMA DE PINTURA DO PARQUE DE EXPOSIÇÃO MUNICIPAL "ADELMO HENRIQUES DA SILVA"
C7: LOCAL: | D7: ='MEMÓRIA DE CÁLCULO'!C8 -> AV. BRASÍLIA, N° 687, BAIRRO PADRE NOSSO, BOM JESUS-GO
C8: REF.: | D8: ='MEMÓRIA DE CÁLCULO'!C9 -> TABELA 291 - CUSTOS DE OBRAS CIVIS - FEVEREIRO/2025 - COM DESONERAÇÃO
C9: DATA BASE: | D9: ='MEMÓRIA DE CÁLCULO'!C10 -> 45689
C10: BDI: | D10: ='P.O.'!D8 -> 0.28302813
C11: EXECUÇÃO: | D11: ='MEMÓRIA DE CÁLCULO'!C11 -> TERCEIRIZAÇÃO GLOBAL
C13: CRONOGRAMA FÍSICO - FINANCEIRO
C14: CÓDIGO | D14: SERVIÇOS | E14: VALOR | F14: % | G14: 45 DIAS
C16: ='P.O.'!B12 -> 01 | D16: ='P.O.'!E12 -> ADMINISTRAÇÃO - MENSALISTAS | E16: ='P.O.'!J12 -> 3001 | F16: =E16/$E$23 -> 0.033008916 | G16: =G18/$E$23 -> 0.033008916
G18: =E16*100% -> 3001
C19: ='P.O.'!B14 -> 02 | D19: ='P.O.'!E14 -> PINTURA | E19: ='P.O.'!J14 -> 87913.83 | F19: =E19/$E$23 -> 0.96699108 | G19: =G21/$E$23 -> 0.96699108
G21: =E19*100% -> 87913.83
D22: VALOR TOTAL MENSAL | G22: =G18+G21 -> 90914.83
D23: VALOR TOTAL ACUMULADO | E23: =SUM(E16:E21) -> 90914.83 | G23: =G22 -> 90914.83
D24: PERCENTUAL TOTAL MENSAL | G24: =G16+G19 -> 1
D25: PERCENTUAL TOTAL ACUMULADO | F25: =SUM(F16:F21) -> 1 | G25: =G24 -> 1
G26: ='MEMÓRIA DE CÁLCULO'!I148 -> BOM JESUS-GO, 22 DE MAIO DE 2025.
C28: ='MEMÓRIA DE CÁLCULO'!B151 -> ________________________________________________________
C29: ='P.O.'!C23 -> Yanne Duarte Gonzaga
C30: ='P.O.'!C24 -> Eng.ª Civil - CREA 1022369989/D-GO
