Workbook

Sheet SORTEIO
C2: ÁREA | D2: PATRIMÔNIO CULTURAL
C3: SEGMENTO | D3: D
C4: ÁREAS ESCPLHIDAS | D4: 2
C5: SERÃO SORTEADOS
C6: PARECERISTAS HABILITADOS
C7: JÁ SORTEADO | D7: SIM
C8: NO BANCO ATUALMENTE | D8: SIM
C9: SORTEIOS | D9: INCENTIVO FISCAL
C11: RESPONDEU O FORMULÁRIO | D11: SIM
C15: ="SORTEIO PARA " & D9 -> SORTEIO PARA INCENTIVO FISCAL
C16: ="Área: " & D2 & " Segmento: " & D3 -> Área: PATRIMÔNIO CULTURAL Segmento: D
C17: =IFERROR(INDEX('SEGMENTOS IMPRIMIR'!D:D,MATCH(SORTEIO!D2&"-"&SORTEIO!D3,'SEGMENTOS IMPRIMIR'!C:C,0)),"") -> d) intervenções de conservação, restauro de bens imóveis tombados ou protegidos por outras formas de acautelamento
C20: PARECERISTA | D20: ="SORTEIO - " &D9 -> SORTEIO - INCENTIVO FISCAL

Sheet RESULTADO
H2: INCENTIVO FISCAL | N2: INCENTIVO FISCAL | T2: INCENTIVO FISCAL | Z2: INCENTIVO FISCAL | AF2: INCENTIVO FISCAL | AL2: INCENTIVO FISCAL | AR2: INCENTIVO FISCAL | AX2: INCENTIVO FISCAL | BD2: INCENTIVO FISCAL | BJ2: INCENTIVO FISCAL | BP2: INCENTIVO FISCAL | BV2: INCENTIVO FISCAL | CB2: INCENTIVO FISCAL | CH2: INCENTIVO FISCAL | CN2: INCENTIVO FISCAL | CT2: FNC
H4: ARTES CÊNICAS | K4: ARTES CÊNICAS | N4: ARTES CÊNICAS | Q4: ARTES CÊNICAS | T4: ARTES VISUAIS | W4: AUDIOVISUAL | Z4: AUDIOVISUAL | AC4: AUDIOVISUAL | AF4: AUDIOVISUAL | AI4: HUMANIDADES | AL4: HUMANIDADES | AO4: HUMANIDADES | AR4: HUMANIDADES | AU4: MUSEU E MEMÓRIA | AX4: MUSEU E MEMÓRIA | BA4: MUSEU E MEMÓRIA | BD4: MUSEU E MEMÓRIA | BG4: MUSEU E MEMÓRIA | BJ4: MUSEU E MEMÓRIA | BM4: MUSEU E MEMÓRIA | BP4: MUSEU E MEMÓRIA | BS4: MUSEU E MEMÓRIA | BV4: MUSEU E MEMÓRIA | BY4: MÚSICA | CB4: MÚSICA | CE4: PATRIMÔNIO CULTURAL | CH4: PATRIMÔNIO CULTURAL | CK4: PATRIMÔNIO CULTURAL | CN4: CONSTRUÇÃO, REFORMA, ADEQUAÇÃO OU MANUTENÇÃO DE EQUIPAMENTOS CULTURAIS | CQ4: CONSTRUÇÃO, REFORMA, ADEQUAÇÃO OU MANUTENÇÃO DE EQUIPAMENTOS CULTURAIS | CT4: TODAS ÁREAS
H5: SEGMENTO A | K5: SEGMENTO B | N5: SEGMENTO C | Q5: SEGMENTO D | T5: SEGMENTO A,B,C,D,E | W5: SEGMENTO A | Z5: SEGMENTO B | AC5: SEGMENTO C | AF5: SEGMENTO D | AI5: SEGMENTO A | AL5: SEGMENTO B | AO5: SEGMENTO C | AR5: SEGMENTO D | AU5: SEGMENTO A | AX5: SEGMENTO B | BA5: SEGMENTO C | BD5: SEGMENTO D | BG5: SEGMENTO E | BJ5: SEGMENTO F | BM5: SEGMENTO G | BP5: SEGMENTO H | BS5: SEGMENTO I | BV5: SEGMENTO J | BY5: SEGMENTO A | CB5: SEGMENTO B | CE5: SEGMENTO A | CH5: SEGMENTO B | CK5: SEGMENTO D | CN5: SEGMENTO A | CQ5: SEGMENTO B | CT5: TODOS SEGMENTO
H6: =IFERROR(INDEX('SEGMENTOS IMPRIMIR'!D:D,MATCH("ARTES CÊNICAS-A",'SEGMENTOS IMPRIMIR'!C:C,0)),"") -> CIRCO | K6: =IFERROR(INDEX('SEGMENTOS IMPRIMIR'!D:D,MATCH("ARTES CÊNICAS-B",'SEGMENTOS IMPRIMIR'!C:C,0)),"") -> DANÇA | L6: =IFERROR(INDEX('SEGMENTOS IMPRIMIR'!D:D,MATCH("ARTES CÊNICAS-B",'SEGMENTOS IMPRIMIR'!C:C,0)),"") -> DANÇA | N6: =IFERROR(INDEX('SEGMENTOS IMPRIMIR'!D:D,MATCH("ARTES CÊNICAS-C",'SEGMENTOS IMPRIMIR'!C:C,0)),"") -> TEATRO | O6: =IFERROR(INDEX('SEGMENTOS IMPRIMIR'!D:D,MATCH("ARTES CÊNICAS-C",'SEGMENTOS IMPRIMIR'!C:C,0)),"") -> TEATRO | Q6: =IFERROR(INDEX('SEGMENTOS IMPRIMIR'!D:D,MATCH("ARTES CÊNICAS-D",'SEGMENTOS IMPRIMIR'!C:C,0)),"") -> MANIFESTAÇÕES POPULARES E/OU FESTIVIDADES REGIONAIS DE CARÁTER CÊNICO E MUSICAL | R6: =IFERROR(INDEX('SEGMENTOS IMPRIMIR'!D:D,MATCH("ARTES CÊNICAS-D",'SEGMENTOS IMPRIMIR'!C:C,0)),"") -> MANIFESTAÇÕES POPULARES E/OU FESTIVIDADES REGIONAIS DE CARÁTER CÊNICO E MUSICAL | T6: =IFERROR(INDEX('SEGMENTOS IMPRIMIR'!D:D,MATCH("ARTES VISUAIS-A",'SEGMENTOS IMPRIMIR'!C:C,0)),"") -> (a. Criação, curadoria, produção de obras e montagens de exposição em quaisquer suportes: pintura, desenho, gravura, fotografia, escultura, objeto, arquitetura, grafite, instalação, performances, moda, videoarte, artes digitais, arte eletrônica, arte cibernética, artes gráficas, design e artesanato; b. Feiras, mostras, circuitos artísticos no campo das artes visuais; c. Formação: desenvolvimento de projetos pedagógicos, cursos, seminários, oficinas e palestras, dentre outras ações educativas; d. Pesquisa e publicações da área; e. Curadoria ou gestão de galerias, ateliês, escolas de artes visuais, dentre outros espaços). | W6: =IFERROR(INDEX('SEGMENTOS IMPRIMIR'!D:D,MATCH("AUDIOVISUAL-A",'SEGMENTOS IMPRIMIR'!C:C,0)),"") -> a) Produção de conteúdo audiovisual de curta e média metragem, incluindo rádios e TVs educativas e culturais; Produção televisiva não seriada de caráter não comercial; Produção de web série; Produção radiofônica de caráter não comercial (inclusive ações de capacitação e treinamento de pessoal, e Ações Educ-Cult/Capacitação/Treinamento de pessoal). | Z6: =IFERROR(INDEX('SEGMENTOS IMPRIMIR'!D:D,MATCH("AUDIOVISUAL-B",'SEGMENTOS IMPRIMIR'!C:C,0)),"") -> b) Difusão de acervo e conteúdo audiovisual nos diversos meios e suportes (inclusive ações de capacitação e treinamento de pessoal, e empreendedorismo cultural). | AC6: =IFERROR(INDEX('SEGMENTOS IMPRIMIR'!D:D,MATCH("AUDIOVISUAL-C",'SEGMENTOS IMPRIMIR'!C:C,0)),"") -> c) Restauração e preservação de acervos audiovisuais; Aquisição de equipamentos para manutenção de acervos audiovisuais públicos e cinematecas; Doação de acervos audiovisuais para cinematecas (inclusive ações de capacitação e treinamento de pessoal, e empreendedorismo cultural). d) Jogos eletrônicos de caráter educativo e cultural; Projetos audiovisuais Trans midiáticos (inclusive ações de capacitação e treinamento de pessoal, e empreendedorismo cultural). | AF6: =IFERROR(INDEX('SEGMENTOS IMPRIMIR'!D:D,MATCH("AUDIOVISUAL-D",'SEGMENTOS IMPRIMIR'!C:C,0)),"") -> d) Jogos eletrônicos de caráter educativo e cultural; Projetos audiovisuais Trans midiáticos (inclusive ações de capacitação e treinamento de pessoal, e empreendedorismo cultural). | AI6: =IFERROR(INDEX('SEGMENTOS IMPRIMIR'!D:D,MATCH("HUMANIDADES-A",'SEGMENTOS IMPRIMIR'!C:C,0)),"") -> a) Livros, periódicos, publicações e obras de referência (impressos ou eletrônicos, de valor artístico, literário, humanístico ou de filologia). | AL6: =IFERROR(INDEX('SEGMENTOS IMPRIMIR'!D:D,MATCH("HUMANIDADES-B",'SEGMENTOS IMPRIMIR'!C:C,0)),"") -> b) Manutenção, preservação, restauração de acervos bibliográficos e arquivísticos (compreendidos por livros e outras tipologias documentais, impressos ou eletrônicos, de valor artístico, literário, humanístico ou de filologia). | AO6: =IFERROR(INDEX('SEGMENTOS IMPRIMIR'!D:D,MATCH("HUMANIDADES-C",'SEGMENTOS IMPRIMIR'!C:C,0)),"") -> c) Eventos e festivais literários, ações educativo-culturais, de formação e capacitação, voltados para o empreendedorismo cultural, a promoção do livro e da criação literária, e para o incentivo à leitura. | AR6: =IFERROR(INDEX('SEGMENTOS IMPRIMIR'!D:D,MATCH("HUMANIDADES-D",'SEGMENTOS IMPRIMIR'!C:C,0)),"") -> d) Empreendedorismo cultural e ações de capacitação, treinamento de pessoal, oficinas e aquisição de equipamentos, doação e aquisição de acervos que tenham como finalidade a manutenção de acervos de bibliotecas públicas, museus, arquivos públicos e cinematecas. | AU6: =IFERROR(INDEX('SEGMENTOS IMPRIMIR'!D:D,MATCH("MUSEU E MEMÓRIA-A",'SEGMENTOS IMPRIMIR'!C:C,0)),"") -> a) Doação ou aquisição de acervos para museus e instituições de preservação da memória. | AX6: =IFERROR(INDEX('SEGMENTOS IMPRIMIR'!D:D,MATCH("MUSEU E MEMÓRIA-B",'SEGMENTOS IMPRIMIR'!C:C,0)),"") -> b) Preservação, restauração, conservação, identificação, registro e promoção. | BA6: =IFERROR(INDEX('SEGMENTOS IMPRIMIR'!D:D,MATCH("MUSEU E MEMÓRIA-C",'SEGMENTOS IMPRIMIR'!C:C,0)),"") -> c) Documentação e digitalização de acervos; Sistemas de informações. | BD6: =IFERROR(INDEX('SEGMENTOS IMPRIMIR'!D:D,MATCH("MUSEU E MEMÓRIA-D",'SEGMENTOS IMPRIMIR'!C:C,0)),"") -> d) Ações de segurança para preservação de acervos. | BG6: =IFERROR(INDEX('SEGMENTOS IMPRIMIR'!D:D,MATCH("MUSEU E MEMÓRIA-E",'SEGMENTOS IMPRIMIR'!C:C,0)),"") -> e) Planos anuais de atividades e elaboração de planos museológicos. | BJ6: =IFERROR(INDEX('SEGMENTOS IMPRIMIR'!D:D,MATCH("MUSEU E MEMÓRIA-F",'SEGMENTOS IMPRIMIR'!C:C,0)),"") -> f) Exposições realizadas em museus, exposições organizadas com acervos de museus e museografia. | BM6: =IFERROR(INDEX('SEGMENTOS IMPRIMIR'!D:D,MATCH("MUSEU E MEMÓRIA-G",'SEGMENTOS IMPRIMIR'!C:C,0)),"") -> g) Pesquisa; Sistematização de informações. | BP6: =IFERROR(INDEX('SEGMENTOS IMPRIMIR'!D:D,MATCH("MUSEU E MEMÓRIA-H",'SEGMENTOS IMPRIMIR'!C:C,0)),"") -> h) Ação educativo-cultural, inclusive seminários, congressos e palestras. | BS6: =IFERROR(INDEX('SEGMENTOS IMPRIMIR'!D:D,MATCH("MUSEU E MEMÓRIA-I",'SEGMENTOS IMPRIMIR'!C:C,0)),"") -> i) Ações de capacitação e treinamento de pessoal. | BV6: =IFERROR(INDEX('SEGMENTOS IMPRIMIR'!D:D,MATCH("MUSEU E MEMÓRIA-J",'SEGMENTOS IMPRIMIR'!C:C,0)),"") -> j) Aquisição de equipamentos para a preservação e manutenção de acervos. | BY6: =IFERROR(INDEX('SEGMENTOS IMPRIMIR'!D:D,MATCH("MÚSICA-A",'SEGMENTOS IMPRIMIR'!C:C,0)),"") -> A) MÚSICA DE CONCERTO (a. Composição, arranjo e execução de obra musical para orquestra, bandas, grupos de câmara, dentre outras formações musicais; b. Produção, registro e difusão musical em diversos meios e suportes físicos e digitais; c. Pesquisa, memória e publicação na área; d. Formação: desenvolvimento de projetos pedagógicos, cursos, oficinas, residências, intercâmbios, dentre outras ações educativas. E. Difusão: mostras, festivais e circuitos de shows; f. Gestão e manutenção de bandas e grupos musicais; g. Gestão e manutenção de estúdios e demais espaços musicais). | CB6: =IFERROR(INDEX('SEGMENTOS IMPRIMIR'!D:D,MATCH("MÚSICA-B",'SEGMENTOS IMPRIMIR'!C:C,0)),"") -> B) MÚSICA POPULAR (a. Composição, arranjo e execução de obra musical para orquestras, bandas, grupos de câmara, dentre outras formações musicais; b. Produção, registro e difusão musical em diversos meios e suportes físicos e digitais; c. Pesquisa, memória e publicação na área; d. Formação: desenvolvimento de projetos pedagógicos, cursos, oficinas, residências, intercâmbios, dentre outras ações educativas. E. Difusão: mostras, festivais e circuitos de shows; f. Gestão e manutenção de bandas e grupos musicais; g. Gestão e manutenção de estúdios e demais espaços musicais; h. Música regional). | CE6: =IFERROR(INDEX('SEGMENTOS IMPRIMIR'!D:D,MATCH("PATRIMÔNIO CULTURAL-A",'SEGMENTOS IMPRIMIR'!C:C,0)),"") -> a) ações de educação patrimonial | CH6: =IFERROR(INDEX('SEGMENTOS IMPRIMIR'!D:D,MATCH("PATRIMÔNIO CULTURAL-B",'SEGMENTOS IMPRIMIR'!C:C,0)),"") -> b) elaboração de projetos executivos de conservação e restauro de bens imóveis tombados ou protegidos por outras formas de acautelamento | CK6: =IFERROR(INDEX('SEGMENTOS IMPRIMIR'!D:D,MATCH("PATRIMÔNIO CULTURAL-D",'SEGMENTOS IMPRIMIR'!C:C,0)),"") -> d) intervenções de conservação, restauro de bens imóveis tombados ou protegidos por outras formas de acautelamento | CN6: =IFERROR(INDEX('SEGMENTOS IMPRIMIR'!D:D,MATCH("CONSTRUÇÃO, REFORMA, ADEQUAÇÃO OU MANUTENÇÃO DE EQUIPAMENTOS CULTURAIS-A",'SEGMENTOS IMPRIMIR'!C:C,0)),"") -> a) elaboração de projetos executivos de construção, reforma ou adequação de equipamentos culturais de valor arquitetônico não tombados | CQ6: =IFERROR(INDEX('SEGMENTOS IMPRIMIR'!D:D,MATCH("CONSTRUÇÃO, REFORMA, ADEQUAÇÃO OU MANUTENÇÃO DE EQUIPAMENTOS CULTURAIS-B",'SEGMENTOS IMPRIMIR'!C:C,0)),"") -> b) construção, reforma, adequação ou manutenção de equipamentos culturais
H7: 1 | I7: {=_xlfn._xlws.FILTER('LISTAS DE PARTICIPANTES'!B2:B1501, 'LISTAS DE PARTICIPANTES'!U2:U1501 = "ARTES CÊNICAS-A","")} -> ALLAN MOSCON ZAMPERINI | K7: 1 | L7: {=_xlfn._xlws.FILTER('LISTAS DE PARTICIPANTES'!B2:B1501, 'LISTAS DE PARTICIPANTES'!U2:U1501 = "ARTES CÊNICAS-B","")} -> ANA CAROLINE DO ESPIRITO SANTO CHAVES | N7: 1 | O7: {=_xlfn._xlws.FILTER('LISTAS DE PARTICIPANTES'!B2:B1501, 'LISTAS DE PARTICIPANTES'!U2:U1501 = "ARTES CÊNICAS-C","")} -> ADRIANA DE SOUZA RODRIGUES | Q7: 1 | R7: {=_xlfn._xlws.FILTER('LISTAS DE PARTICIPANTES'!B2:B1501, 'LISTAS DE PARTICIPANTES'!U2:U1501 = "ARTES CÊNICAS-D","")} -> ANAMARIA MUHLENBERG DA SILVA | T7: 1 | U7: {=_xlfn._xlws.FILTER('LISTAS DE PARTICIPANTES'!B2:B1501, 'LISTAS DE PARTICIPANTES'!U2:U1501 = "ARTES VISUAIS-A","")} -> ADAUANY PIEVE ZIMOVSKI | W7: 1 | X7: {=_xlfn._xlws.FILTER('LISTAS DE PARTICIPANTES'!B2:B1501, 'LISTAS DE PARTICIPANTES'!U2:U1501 = "AUDIOVISUAL-A","")} -> ALANA TEIXEIRA MENK | Z7: 1 | AA7: {=_xlfn._xlws.FILTER('LISTAS DE PARTICIPANTES'!B2:B1501, 'LISTAS DE PARTICIPANTES'!U2:U1501 = "AUDIOVISUAL-B","")} -> ALEX SANTOS BARBOSA | AC7: 1 | AD7: {=_xlfn._xlws.FILTER('LISTAS DE PARTICIPANTES'!B2:B1501, 'LISTAS DE PARTICIPANTES'!U2:U1501 = "AUDIOVISUAL-C","")} -> ADRIANA CARNEIRO DE SOUZA | AF7: 1 | AG7: {=_xlfn._xlws.FILTER('LISTAS DE PARTICIPANTES'!B2:B1501, 'LISTAS DE PARTICIPANTES'!U2:U1501 = "AUDIOVISUAL-D","")} -> ARMANDO BULCÃO | AI7: 1 | AJ7: {=_xlfn._xlws.FILTER('LISTAS DE PARTICIPANTES'!B2:B1501, 'LISTAS DE PARTICIPANTES'!U2:U1501 = "HUMANIDADES-A","")} -> ALESSANDRA PIRRONCELLO BUCHOLDZ | AL7: 1 | AM7: {=_xlfn._xlws.FILTER('LISTAS DE PARTICIPANTES'!B2:B1501, 'LISTAS DE PARTICIPANTES'!U2:U1501 = "HUMANIDADES-B","")} -> ANA BEATRIS BATISTA DA SILVA | AO7: 1 | AP7: {=_xlfn._xlws.FILTER('LISTAS DE PARTICIPANTES'!B2:B1501, 'LISTAS DE PARTICIPANTES'!U2:U1501 = "HUMANIDADES-C","")} -> ALINNE ANDRADE DE ARAÚJO | AR7: 1 | AS7: {=_xlfn._xlws.FILTER('LISTAS DE PARTICIPANTES'!B2:B1501, 'LISTAS DE PARTICIPANTES'!U2:U1501 = "HUMANIDADES-D","")} -> ANA PAULA MACIEL SOUKEF MENDES | AU7: 1 | AV7: {=_xlfn._xlws.FILTER('LISTAS DE PARTICIPANTES'!B2:B1501, 'LISTAS DE PARTICIPANTES'!U2:U1501 = "MUSEU E MEMÓRIA-A","")} -> IDALINA SOUZA RIBEIRO DA SILVA | AX7: 1 | AY7: {=_xlfn._xlws.FILTER('LISTAS DE PARTICIPANTES'!B2:B1501, 'LISTAS DE PARTICIPANTES'!U2:U1501 = "MUSEU E MEMÓRIA-B","")} -> ANDRÉ ALEXANDRE MENDES FREITAS | BA7: 1 | BB7: {=_xlfn._xlws.FILTER('LISTAS DE PARTICIPANTES'!B2:B1501, 'LISTAS DE PARTICIPANTES'!U2:U1501 = "MUSEU E MEMÓRIA-C","")} -> MARIA EDUARDA VIEIRA WENDHAUSEN | BD7: 1 | BE7: {=_xlfn._xlws.FILTER('LISTAS DE PARTICIPANTES'!B2:B1501, 'LISTAS DE PARTICIPANTES'!U2:U1501 = "MUSEU E MEMÓRIA-D","")} -> ANA PAULA FERREIRA DE BRITO | BG7: 1 | BH7: {=_xlfn._xlws.FILTER('LISTAS DE PARTICIPANTES'!B2:B1501, 'LISTAS DE PARTICIPANTES'!U2:U1501 = "MUSEU E MEMÓRIA-E","")} -> BÁRBARA LUNA DE ARAÚJO | BJ7: 1 | BK7: {=_xlfn._xlws.FILTER('LISTAS DE PARTICIPANTES'!B2:B1501, 'LISTAS DE PARTICIPANTES'!U2:U1501 = "MUSEU E MEMÓRIA-F","")} -> MICHELE BETE PETRY | BM7: 1 | BN7: {=_xlfn._xlws.FILTER('LISTAS DE PARTICIPANTES'!B2:B1501, 'LISTAS DE PARTICIPANTES'!U2:U1501 = "MUSEU E MEMÓRIA-G","")} -> ANDERSON LUIZ DA SILVA DE OLIVEIRA | BP7: 1 | BQ7: {=_xlfn._xlws.FILTER('LISTAS DE PARTICIPANTES'!B2:B1501, 'LISTAS DE PARTICIPANTES'!U2:U1501 = "MUSEU E MEMÓRIA-H","")} -> AUANA LAMEIRAS DINIZ | BS7: 1 | BT7: {=_xlfn._xlws.FILTER('LISTAS DE PARTICIPANTES'!B2:B1501, 'LISTAS DE PARTICIPANTES'!U2:U1501 = "MUSEU E MEMÓRIA-I","")} -> FELÍNIO DE SOUSA FREITAS | BV7: 1 | BW7: {=_xlfn._xlws.FILTER('LISTAS DE PARTICIPANTES'!B2:B1501, 'LISTAS DE PARTICIPANTES'!U2:U1501 = "MUSEU E MEMÓRIA-J","")} -> EDUARDO FERREIRA MOURA | BY7: 1 | BZ7: {=_xlfn._xlws.FILTER('LISTAS DE PARTICIPANTES'!B2:B1501, 'LISTAS DE PARTICIPANTES'!U2:U1501 = "MÚSICA-A","")} -> BARBARA MANUELA SILVA DOS SANTOS | CB7: 1 | CC7: {=_xlfn._xlws.FILTER('LISTAS DE PARTICIPANTES'!B2:B1501, 'LISTAS DE PARTICIPANTES'!U2:U1501 = "MÚSICA-B","")} -> ALCIDÉIA MARGARETH ROCHA TRANCOSO | CE7: {=_xlfn.SEQUENCE(35)} -> 1 | CF7: {=_xlfn._xlws.FILTER('LISTAS DE PARTICIPANTES'!B2:B1501, 'LISTAS DE PARTICIPANTES'!U2:U1501 = "PATRIMÔNIO CULTURAL-A","")} -> ALEXANDRA JACKLINE VASCONCELOS SANTOS | CH7: {=_xlfn.SEQUENCE(35)} -> 1 | CI7: {=_xlfn._xlws.FILTER('LISTAS DE PARTICIPANTES'!B2:B1501, 'LISTAS DE PARTICIPANTES'!U2:U1501 = "PATRIMÔNIO CULTURAL-B","")} -> GUADALUPE DO NASCIMENTO CAMPOS | CK7: {=_xlfn.SEQUENCE(35)} -> 1 | CL7: {=_xlfn._xlws.FILTER('LISTAS DE PARTICIPANTES'!B2:B1501, 'LISTAS DE PARTICIPANTES'!U2:U1501 = "PATRIMÔNIO CULTURAL-D","")} -> ALINE FIGUEIREDO | CN7: {=_xlfn.SEQUENCE(35)} -> 1 | CO7: {=_xlfn._xlws.FILTER('LISTAS DE PARTICIPANTES'!B2:B1501, 'LISTAS DE PARTICIPANTES'!U2:U1501 = "CONSTRUÇÃO, REFORMA, ADEQUAÇÃO OU MANUTENÇÃO DE EQUIPAMENTOS CULTURAIS-A","")} -> MARCELINO EPAMINONDAS PORTO | CQ7: {=_xlfn.SEQUENCE(35)} -> 1 | CR7: {=_xlfn._xlws.FILTER('LISTAS DE PARTICIPANTES'!B2:B1501, 'LISTAS DE PARTICIPANTES'!U2:U1501 = "CONSTRUÇÃO, REFORMA, ADEQUAÇÃO OU MANUTENÇÃO DE EQUIPAMENTOS CULTURAIS-B","")} -> ADILON MARQUES DOS SANTOS | CT7: {=_xlfn.SEQUENCE(35)} -> 1 | CU7: {=_xlfn._xlws.FILTER('LISTAS DE PARTICIPANTES'!B2:B1501, 'LISTAS DE PARTICIPANTES'!U2:U1501 = "FNC","")} -> ADRIANA VELOSO MEIRELES
H8: 2 | I8: ANANDA STUCKER | K8: 2 | L8: ANDRÉIA OLIVEIRA ARAÚJO DA SILVA | N8: 2 | O8: AMILTON MONTEIRO DE OLIVEIRA FILHO | Q8: 2 | R8: CARLOS DE BARROS SUGAWARA | T8: 2 | U8: ARESSA EGLY RIOS DA SILVEIRA | W8: 2 | X8: CLARA ANTUNES DE FARIA | Z8: 2 | AA8: ANA PAULA GONÇALVES NOGUEIRA | AC8: 2 | AD8: ALDRIN VIANNA DE SANTANA | AF8: 2 | AG8: CARLOS EDUARDO TSUDA | AI8: 2 | AJ8: ANNA DE CARVALHO CAVALCANTI | AL8: 2 | AM8: DIOCELIO ADELINO DOS SANTOS | AO8: 2 | AP8: CATERINA GABRIELLA GALIOTTO PILOTO | AR8: 2 | AS8: EMERSON DE PAULA SILVA | AU8: 2 | AV8: SARA MORENO ROCHA | AX8: 2 | AY8: REBECA DEBORA FINGUERMANN | BA8: 2 | BB8: PATRÍCIA PAULA LIMA | BD8: 2 | BE8: NATÁLIA CRISTINA BATISTA | BG8: 2 | BH8: CRISTINA PEREIRA NUNES | BJ8: 2 | BK8: PATRÍCIA PIZZIGATTI KLEIN | BM8: 2 | BN8: RUBEN RYAN GOMES DE OLIVEIRA | BP8: 2 | BQ8: JACQUELINE CUSTÓDIO | BS8: 2 | BT8: MURILLO PEREIRA DE JESUS | BV8: 2 | BW8: LUCIANA JUSTINIANI HEES | BY8: 2 | BZ8: BRUNO ROSA DO NASCIMENTO | CB8: 2 | CC8: ALESSANDRA DA SILVA DOS SANTOS | CE8: 2 | CF8: LENNON MARTINS SOUSA | CH8: 2 | CI8: VIRGINIA GOMES DE LUCA | CK8: 2 | CL8: FABIULA DOMINGUES | CN8: 2 | CO8: TATIANA DE CARVALHO COSTA | CQ8: 2 | CR8: BRUNA PEREIRA MAGALHÃES | CT8: 2 | CU8: ANA LÚCIA VASCONCELLOS QUEIROZ
H9: 3 | I9: BERNARDO STUMPF RODRIGUES | K9: 3 | L9: CLAUDIO AUGUSTO LOBO DA SILVA | N9: 3 | O9: ANA CAROLINA STRAPAÇÃO GUEDES VIANNA | Q9: 3 | R9: CAROLINA DOS SANTOS BARBOSA | T9: 3 | U9: BRENO NASCIMENTO NUNES GONÇALVES | W9: 3 | X9: DANILO DAHER ALVARENGA | Z9: 3 | AA9: BRUNO EMILIANO CAMPOLINA DE ARAÚJO | AC9: 3 | AD9: EDSAMY DANTAS DA SILVA | AF9: 3 | AG9: CAROLINA MARQUES HENRIQUES FICHEIRA | AI9: 3 | AJ9: CLEILSON QUEIROZ LOPES | AL9: 3 | AM9: EBILLA DREID SANTOS DE CARVALHO | AO9: 3 | AP9: LEANDRO EUSTÁQUIO GOMES | AR9: 3 | AS9: JOSSIER SALES BOLEÃO | AU9: 3 | AX9: 3 | BA9: 3 | BD9: 3 | BG9: 3 | BH9: DÉBORA REGINA BRUNO | BJ9: 3 | BM9: 3 | BP9: 3 | BS9: 3 | BV9: 3 | BW9: VERA LÚCIA CARDIM DE CERQUEIRA | BY9: 3 | BZ9: CARLOS CÉSAR DA COSTA BELÉM | CB9: 3 | CC9: ÁLVARO SANTI | CE9: 3 | CF9: LUCINETE APARECIDA DE MORAIS | CH9: 3 | CK9: 3 | CL9: THIAGO SANTOS MATHIAS DA FONSECA | CN9: 3 | CO9: VITOR HALFEN MOREIRA | CQ9: 3 | CR9: DANIELA MONTEIRO LIMA VIANA DANTAS | CT9: 3 | CU9: AUGUSTO ZEISER
H10: 4 | I10: CARLOS RENATO DOS SANTOS | K10: 4 | L10: JUSSARA BELCHIOR SANTOS | N10: 4 | O10: ANDRÉ GRACINDO GOMES | Q10: 4 | R10: GRAZIELLE ALVES SILVA COUTINHO | T10: 4 | U10: BRUNO SAITER ZORZAL | W10: 4 | X10: DIEGO DA SILVA TAVARES | Z10: 4 | AA10: DANIEL PAIVA DE MACÊDO JÚNIOR | AC10: 4 | AD10: FABRICIO DE ALBUQUERQUE SORTICA | AF10: 4 | AG10: DULCE ELIANE RIBEIRO MALTEZ | AI10: 4 | AJ10: DARNES DA SILVA PORTO | AL10: 4 | AM10: ISABEL CRISTINA ALVES | AO10: 4 | AP10: LUCAS DINIZ DE MELO VIEIRA | AR10: 4 | AS10: JULIANA DE SOUSA MARTINS PEREIRA | AU10: 4 | AX10: 4 | BA10: 4 | BD10: 4 | BG10: 4 | BH10: DENISE ADRIANA ARGENTA | BJ10: 4 | BM10: 4 | BP10: 4 | BS10: 4 | BV10: 4 | BY10: 4 | BZ10: CLÁUDIA CAVALIERE DMUTTI | CB10: 4 | CC10: ANNA ROSINA POPP TORRES | CE10: 4 | CF10: MARCELA CRISTINA BETTEGA | CH10: 4 | CK10: 4 | CN10: 4 | CQ10: 4 | CR10: JOÃO PEDRO DE SOUSA CORDEIRO | CT10: 4 | CU10: CRISTINA GOMES
H11: 5 | I11: LUCIANA SCHWINDEN | K11: 5 | L11: LIDUÍNA MOREIRA LINS | N11: 5 | O11: ANDRÉA MARTINS DE CARVALHO | Q11: 5 | R11: LAURA INÊS SADA HADDAD | T11: 5 | U11: CRISTINEIDE LIMA GUIMARÃES | W11: 5 | X11: FRANK ANDREI GONÇALVES MORA | Z11: 5 | AA11: DENISE MARIA FREIRIA DA MATTA | AC11: 5 | AF11: 5 | AG11: VICTOR LUIZ CASAGRANDE MALEZON | AI11: 5 | AJ11: FABIOLA BASTOS NOTARI | AL11: 5 | AM11: LUANA TEIXEIRA | AO11: 5 | AP11: LUIZ GUSTAVO DALLA DÉA | AR11: 5 | AS11: KARLA DANIELLE SANTOS DE OLIVEIRA | AU11: 5 | AX11: 5 | BA11: 5 | BD11: 5 | BG11: 5 | BH11: HELENA TAVARES GONÇALVES | BJ11: 5 | BM11: 5 | BP11: 5 | BS11: 5 | BV11: 5 | BY11: 5 | BZ11: DANIEL BENDER LUDWIG | CB11: 5 | CC11: BEATRIZ DE SOUZA BESSA | CE11: 5 | CF11: MARIA BÁRBARA VIEIRA FALCÓN | CH11: 5 | CK11: 5 | CN11: 5 | CQ11: 5 | CR11: JOYCE DE ARAUJO MENDONÇA | CT11: 5 | CU11: DANIEL FERNANDO MASIÁ HERRERA
H12: 6 | I12: MARIANA CARAMORE FAVA | K12: 6 | L12: MAURO CESAR ALVES | N12: 6 | O12: ANDRESSA CHRISTINY DO CARMO BATISTA | Q12: 6 | R12: MARIA EMILIA FAGANELLO | T12: 6 | U12: DÉBORA LADISLAU DE MEDEIROS | W12: 6 | X12: GABRIELA ALBUQUERQUE SABOYA | Z12: 6 | AA12: LUÍS FELIPE DUARTE FLORES | AC12: 6 | AF12: 6 | AI12: 6 | AJ12: MARIA DAS GRAÇAS SILVA MONTEIRO | AL12: 6 | AM12: MARCELO DE TRÓI | AO12: 6 | AP12: MAYANE BATISTA LIMA | AR12: 6 | AS12: MARCELO JUCHEM | AU12: 6 | AX12: 6 | BA12: 6 | BD12: 6 | BG12: 6 | BJ12: 6 | BM12: 6 | BP12: 6 | BS12: 6 | BV12: 6 | BY12: 6 | BZ12: DIEGO LUIS DA SILVA MOZER | CB12: 6 | CC12: BIANCA BARROSO CALCAGNI | CE12: 6 | CF12: VÂNIA CRISTINA FEITOSA | CH12: 6 | CK12: 6 | CN12: 6 | CQ12: 6 | CR12: MARIA ENEIDA AMARAL | CT12: 6 | CU12: ERIK DUANE FONSECA HEWITT
H13: 7 | I13: THAYSE LUCAS GUEDES DE SOUZA | K13: 7 | L13: NATHÁLIA MASSA LOURENÇO ALVES | N13: 7 | O13: ANNA CAROLINA GONÇALVES MAGALHÃES | Q13: 7 | R13: MARINA VIEIRA DE SOUZA | T13: 7 | U13: ELAINE REGINA STANKIWICH | W13: 7 | X13: JOÃO DANIEL RAMOS | Z13: 7 | AA13: SIDNEI DE CARVALHO PEREIRA JUNIOR | AC13: 7 | AF13: 7 | AI13: 7 | AJ13: MARIA FERNANDA SILVA AZEVEDO | AL13: 7 | AM13: PAULA PFLUGER ZANARDI | AO13: 7 | AP13: VALSINEIRE BUENO DE CASTRO | AR13: 7 | AS13: REBECCA LÚCIA CRUZ DE MENEZES | AU13: 7 | AX13: 7 | BA13: 7 | BD13: 7 | BG13: 7 | BJ13: 7 | BM13: 7 | BP13: 7 | BS13: 7 | BV13: 7 | BY13: 7 | BZ13: EDUARDO CRUZ LEAL | CB13: 7 | CC13: CARLOS GOMES DE OLIVEIRA FILHO | CE13: 7 | CH13: 7 | CK13: 7 | CN13: 7 | CQ13: 7 | CR13: RICARDO BRAUDES COELHO | CT13: 7 | CU13: FABIANA NOGUEIRA GUZMAN
H14: 8 | I14: ZULEICA DE ALENCAR ARARIPE PINHEIRO ALVES | K14: 8 | L14: ROBERTO JERÔNIMO DA SILVA | N14: 8 | O14: CARLOS HENRIQUE PIMENTEL LUIZ | Q14: 8 | R14: RICARDO ANDRÉ SANTANA BESSA | T14: 8 | U14: ELINALDO JOSÉ RODRIGUES | W14: 8 | X14: LEANDRO AFONSO GUIMARÃES | Z14: 8 | AA14: TATIANA MARTINELLI LOUREIRO | AC14: 8 | AF14: 8 | AI14: 8 | AJ14: MORGANA MARIA PESSOA SOARES | AL14: 8 | AM14: RAVEL ANDRADE DE SOUSA | AO14: 8 | AR14: 8 | AS14: TÂNIA MARIA SEABRA ROCHA DA SILVEIRA | AU14: 8 | AX14: 8 | BA14: 8 | BD14: 8 | BG14: 8 | BJ14: 8 | BM14: 8 | BP14: 8 | BS14: 8 | BV14: 8 | BY14: 8 | BZ14: EMANUEL MAURÍCIO DE MENESES | CB14: 8 | CC14: FÁBIO MENDES DA SILVA | CE14: 8 | CH14: 8 | CK14: 8 | CN14: 8 | CQ14: 8 | CT14: 8 | CU14: JAIME ABRAM LERNER
H15: 9 | K15: 9 | L15: TATYANA ELIZABETTE DA SILVA VERISSIMO | N15: 9 | O15: CAROLINE DAIANE ARAÚJO DE OLIVEIRA DEVIDES | Q15: 9 | T15: 9 | U15: JAQUELINE FONTES BELTRAME | W15: 9 | X15: SANTIAGO MACHADO DELLAPE | Z15: 9 | AA15: THEO COSTA DUARTE | AC15: 9 | AF15: 9 | AI15: 9 | AL15: 9 | AO15: 9 | AR15: 9 | AU15: 9 | AX15: 9 | BA15: 9 | BD15: 9 | BG15: 9 | BJ15: 9 | BM15: 9 | BP15: 9 | BS15: 9 | BV15: 9 | BY15: 9 | BZ15: ERICKINSON BEZERRA DE LIMA | CB15: 9 | CC15: FABIO PEREIRA BARROS | CE15: 9 | CH15: 9 | CK15: 9 | CN15: 9 | CQ15: 9 | CT15: 9 | CU15: JOANA DOS SANTOS MARTINS
H16: 10 | K16: 10 | L16: VANIA CRISTINA RIBEIRO | N16: 10 | O16: CLAUDIO DE TOLEDO FONTANA | Q16: 10 | T16: 10 | U16: KARLA ROSSANA FRANCELINO RIBEIRO NORONHA | W16: 10 | X16: TATHIANNE CARLA ALMEIDA QUESADO | Z16: 10 | AC16: 10 | AF16: 10 | AI16: 10 | AL16: 10 | AO16: 10 | AR16: 10 | AU16: 10 | AX16: 10 | BA16: 10 | BD16: 10 | BG16: 10 | BJ16: 10 | BM16: 10 | BP16: 10 | BS16: 10 | BV16: 10 | BY16: 10 | BZ16: FABIO LUIZ CARNEIRO MOURILHE SILVA | CB16: 10 | CC16: FABÍULA KAREN PARREIRA DE SOUZA E SILVA | CE16: 10 | CH16: 10 | CK16: 10 | CN16: 10 | CQ16: 10 | CT16: 10 | CU16: JOSÉ CLÁUDIO MARCONCINE
H17: 11 | K17: 11 | N17: 11 | O17: DANIELLE MARTINS DE FARIAS | Q17: 11 | T17: 11 | U17: KELLY FERREIRA DE LIMA | W17: 11 | Z17: 11 | AC17: 11 | AF17: 11 | AI17: 11 | AL17: 11 | AO17: 11 | AR17: 11 | AU17: 11 | AX17: 11 | BA17: 11 | BD17: 11 | BG17: 11 | BJ17: 11 | BM17: 11 | BP17: 11 | BS17: 11 | BV17: 11 | BY17: 11 | BZ17: FELIPE VALLE DA CUNHA | CB17: 11 | CC17: FERNANDO ANTONIO DE ALBERGARIA LOMARDO | CE17: 11 | CH17: 11 | CK17: 11 | CN17: 11 | CQ17: 11 | CT17: 11 | CU17: JULIANA CUNHA PASSOS
H18: 12 | K18: 12 | N18: 12 | O18: DENISE IVONE MOREIRA | Q18: 12 | T18: 12 | U18: MARIA SÍLVIA BIGARELI DE MENEZES | W18: 12 | Z18: 12 | AC18: 12 | AF18: 12 | AI18: 12 | AL18: 12 | AO18: 12 | AR18: 12 | AU18: 12 | AX18: 12 | BA18: 12 | BD18: 12 | BG18: 12 | BJ18: 12 | BM18: 12 | BP18: 12 | BS18: 12 | BV18: 12 | BY18: 12 | BZ18: GABRIELA SOARES DE ARAUJO GÓES | CB18: 12 | CC18: FREDERICO AUGUSTO VIANNA DE ASSIS PESSOA | CE18: 12 | CH18: 12 | CK18: 12 | CN18: 12 | CQ18: 12 | CT18: 12 | CU18: JULIANA SOARES ROCHA
H19: 13 | K19: 13 | N19: 13 | O19: FERNANDA TEIXEIRA GAMA | Q19: 13 | T19: 13 | U19: RENATO VIEIRA DE LIMA | W19: 13 | Z19: 13 | AC19: 13 | AF19: 13 | AI19: 13 | AL19: 13 | AO19: 13 | AR19: 13 | AU19: 13 | AX19: 13 | BA19: 13 | BD19: 13 | BG19: 13 | BJ19: 13 | BM19: 13 | BP19: 13 | BS19: 13 | BV19: 13 | BY19: 13 | BZ19: GILBERTO LIMA DE PAIVA JUNIOR | CB19: 13 | CC19: GISELE ANDRÉIA DILLY DE SÁ MAGRISSO | CE19: 13 | CH19: 13 | CK19: 13 | CN19: 13 | CQ19: 13 | CT19: 13 | CU19: LÍGIA MARINA DE ALMEIDA
H20: 14 | K20: 14 | N20: 14 | O20: FERNANDO CÉSAR KINAS | Q20: 14 | T20: 14 | U20: RICARDO JOSÉ PERES | W20: 14 | Z20: 14 | AC20: 14 | AF20: 14 | AI20: 14 | AL20: 14 | AO20: 14 | AR20: 14 | AU20: 14 | AX20: 14 | BA20: 14 | BD20: 14 | BG20: 14 | BJ20: 14 | BM20: 14 | BP20: 14 | BS20: 14 | BV20: 14 | BY20: 14 | BZ20: GILBERTO RODRIGUES FIGUEIREDO | CB20: 14 | CC20: GUILHERME LAUREANO COELHO DE MOURA | CE20: 14 | CH20: 14 | CK20: 14 | CN20: 14 | CQ20: 14 | CT20: 14 | CU20: LÍVIA MARCELA DA SILVA UCHÔA
H21: 15 | K21: 15 | N21: 15 | O21: FRANCIELE MACHADO DE AGUIAR | Q21: 15 | T21: 15 | U21: RODRIGO LOURENÇO KAMINSKI | W21: 15 | Z21: 15 | AC21: 15 | AF21: 15 | AI21: 15 | AL21: 15 | AO21: 15 | AR21: 15 | AU21: 15 | AX21: 15 | BA21: 15 | BD21: 15 | BG21: 15 | BJ21: 15 | BM21: 15 | BP21: 15 | BS21: 15 | BV21: 15 | BY21: 15 | BZ21: GLACIMERE BRITTO DE OLIVEIRA PIMENTA | CB21: 15 | CC21: KARINA PEREIRA DE FIGUEIREDO SOUZA PETRACCA | CE21: 15 | CH21: 15 | CK21: 15 | CN21: 15 | CQ21: 15 | CT21: 15 | CU21: LUCAS MARTINS NÉIA
H22: 16 | K22: 16 | N22: 16 | O22: GIOVANNA MOMENTÉ ARAUJO QUEIROZ | Q22: 16 | T22: 16 | U22: TARSILA GUEDES RAPASSI | W22: 16 | Z22: 16 | AC22: 16 | AF22: 16 | AI22: 16 | AL22: 16 | AO22: 16 | AR22: 16 | AU22: 16 | AX22: 16 | BA22: 16 | BD22: 16 | BG22: 16 | BJ22: 16 | BM22: 16 | BP22: 16 | BS22: 16 | BV22: 16 | BY22: 16 | BZ22: GUILHERME AUGUSTO DE ÁVILA | CB22: 16 | CC22: KARINE LEGRAND | CE22: 16 | CH22: 16 | CK22: 16 | CN22: 16 | CQ22: 16 | CT22: 16 | CU22: MARTA ALARCON CHAMARELLI
H23: 17 | K23: 17 | N23: 17 | O23: GIZELA MASCARENHAS DE CARVALHO | Q23: 17 | T23: 17 | U23: THAÍS FERREIRA DE SALES | W23: 17 | Z23: 17 | AC23: 17 | AF23: 17 | AI23: 17 | AL23: 17 | AO23: 17 | AR23: 17 | AU23: 17 | AX23: 17 | BA23: 17 | BD23: 17 | BG23: 17 | BJ23: 17 | BM23: 17 | BP23: 17 | BS23: 17 | BV23: 17 | BY23: 17 | BZ23: JOÃO PEDRO DE QUEIROZ MORALES | CB23: 17 | CC23: KLEUBER DIVINO GARCEZ | CE23: 17 | CH23: 17 | CK23: 17 | CN23: 17 | CQ23: 17 | CT23: 17 | CU23: PAULA ALVES NETTO
H24: 18 | K24: 18 | N24: 18 | O24: JÉSSICA CRUZ FERREIRA | Q24: 18 | T24: 18 | W24: 18 | Z24: 18 | AC24: 18 | AF24: 18 | AI24: 18 | AL24: 18 | AO24: 18 | AR24: 18 | AU24: 18 | AX24: 18 | BA24: 18 | BD24: 18 | BG24: 18 | BJ24: 18 | BM24: 18 | BP24: 18 | BS24: 18 | BV24: 18 | BY24: 18 | BZ24: JULIO CHAGAS PITTHAN | CB24: 18 | CC24: PHILIPE DE CASTRO PASSOS | CE24: 18 | CH24: 18 | CK24: 18 | CN24: 18 | CQ24: 18 | CT24: 18 | CU24: PAULA BELCHIOR DE LIMA BISPO
B25: ARTES CÊNICAS | C25: =COUNTIF('LISTAS DE PARTICIPANTES'!U:U, RESULTADO!B25&"-A")+ COUNTIF('LISTAS DE PARTICIPANTES'!U:U, RESULTADO!B25&"-B")+ COUNTIF('LISTAS DE PARTICIPANTES'!U:U, RESULTADO!B25&"-C")+ COUNTIF('LISTAS DE PARTICIPANTES'!U:U, RESULTADO!B25&"-D")+ COUNTIF('LISTAS DE PARTICIPANTES'!U:U, RESULTADO!B25&"-E")+ COUNTIF('LISTAS DE PARTICIPANTES'!U:U, RESULTADO!B25&"-F")+ COUNTIF('LISTAS DE PARTICIPANTES'!U:U, RESULTADO!B25&"-G")+ COUNTIF('LISTAS DE PARTICIPANTES'!U:U, RESULTADO!B25&"-H")+ COUNTIF('LISTAS DE PARTICIPANTES'!U:U, RESULTADO!B25&"-I")+ COUNTIF('LISTAS DE PARTICIPANTES'!U:U, RESULTADO!B25&"-J")+ COUNTIF('LISTAS DE PARTICIPANTES'!U:U, RESULTADO!B25&"-K")+ COUNTIF('LISTAS DE PARTICIPANTES'!U:U, RESULTADO!B25&"-L") -> 58 | H25: 19 | K25: 19 | N25: 19 | O25: JORDAN MAIA DA SILVA PADILHA | Q25: 19 | T25: 19 | W25: 19 | Z25: 19 | AC25: 19 | AF25: 19 | AI25: 19 | AL25: 19 | AO25: 19 | AR25: 19 | AU25: 19 | AX25: 19 | BA25: 19 | BD25: 19 | BG25: 19 | BJ25: 19 | BM25: 19 | BP25: 19 | BS25: 19 | BV25: 19 | BY25: 19 | BZ25: LÍGIA VERÔNICA FERREIRA DA SILVA | CB25: 19 | CC25: RAMÓN BRITO LACERDA | CE25: 19 | CH25: 19 | CK25: 19 | CN25: 19 | CQ25: 19 | CT25: 19 | CU25: RODRIGO GOMES WANDERLEY
B26: ARTES VISUAIS | C26: =COUNTIF('LISTAS DE PARTICIPANTES'!U:U, RESULTADO!B26&"-A")+ COUNTIF('LISTAS DE PARTICIPANTES'!U:U, RESULTADO!B26&"-B")+ COUNTIF('LISTAS DE PARTICIPANTES'!U:U, RESULTADO!B26&"-C")+ COUNTIF('LISTAS DE PARTICIPANTES'!U:U, RESULTADO!B26&"-D")+ COUNTIF('LISTAS DE PARTICIPANTES'!U:U, RESULTADO!B26&"-E")+ COUNTIF('LISTAS DE PARTICIPANTES'!U:U, RESULTADO!B26&"-F")+ COUNTIF('LISTAS DE PARTICIPANTES'!U:U, RESULTADO!B26&"-G")+ COUNTIF('LISTAS DE PARTICIPANTES'!U:U, RESULTADO!B26&"-H")+ COUNTIF('LISTAS DE PARTICIPANTES'!U:U, RESULTADO!B26&"-I")+ COUNTIF('LISTAS DE PARTICIPANTES'!U:U, RESULTADO!B26&"-J")+ COUNTIF('LISTAS DE PARTICIPANTES'!U:U, RESULTADO!B26&"-K")+ COUNTIF('LISTAS DE PARTICIPANTES'!U:U, RESULTADO!B26&"-L") -> 17 | H26: 20 | K26: 20 | N26: 20 | O26: JOSÉ RICARDO GOULART | Q26: 20 | T26: 20 | W26: 20 | Z26: 20 | AC26: 20 | AF26: 20 | AI26: 20 | AL26: 20 | AO26: 20 | AR26: 20 | AU26: 20 | AX26: 20 | BA26: 20 | BD26: 20 | BG26: 20 | BJ26: 20 | BM26: 20 | BP26: 20 | BS26: 20 | BV26: 20 | BY26: 20 | BZ26: LUARA MARINHO MACIEL | CB26: 20 | CC26: RODRIGO NOLTE MARTINS | CE26: 20 | CH26: 20 | CK26: 20 | CN26: 20 | CQ26: 20 | CT26: 20 | CU26: SANDRA REGINA FABIANO DO ROSARIO VIEIRA
B27: AUDIOVISUAL | C27: =COUNTIF('LISTAS DE PARTICIPANTES'!U:U, RESULTADO!B27&"-A")+ COUNTIF('LISTAS DE PARTICIPANTES'!U:U, RESULTADO!B27&"-B")+ COUNTIF('LISTAS DE PARTICIPANTES'!U:U, RESULTADO!B27&"-C")+ COUNTIF('LISTAS DE PARTICIPANTES'!U:U, RESULTADO!B27&"-D")+ COUNTIF('LISTAS DE PARTICIPANTES'!U:U, RESULTADO!B27&"-E")+ COUNTIF('LISTAS DE PARTICIPANTES'!U:U, RESULTADO!B27&"-F")+ COUNTIF('LISTAS DE PARTICIPANTES'!U:U, RESULTADO!B27&"-G")+ COUNTIF('LISTAS DE PARTICIPANTES'!U:U, RESULTADO!B27&"-H")+ COUNTIF('LISTAS DE PARTICIPANTES'!U:U, RESULTADO!B27&"-I")+ COUNTIF('LISTAS DE PARTICIPANTES'!U:U, RESULTADO!B27&"-J")+ COUNTIF('LISTAS DE PARTICIPANTES'!U:U, RESULTADO!B27&"-K")+ COUNTIF('LISTAS DE PARTICIPANTES'!U:U, RESULTADO!B27&"-L") -> 28 | H27: 21 | K27: 21 | N27: 21 | O27: KARINA MAIA DICK | Q27: 21 | T27: 21 | W27: 21 | Z27: 21 | AC27: 21 | AF27: 21 | AI27: 21 | AL27: 21 | AO27: 21 | AR27: 21 | AU27: 21 | AX27: 21 | BA27: 21 | BD27: 21 | BG27: 21 | BJ27: 21 | BM27: 21 | BP27: 21 | BS27: 21 | BV27: 21 | BY27: 21 | BZ27: MAURO DI DOMENICO LEITE | CB27: 21 | CC27: RODRIGO VIELLAS RODRIGUES | CE27: 21 | CH27: 21 | CK27: 21 | CN27: 21 | CQ27: 21 | CT27: 21
B28: CONSTRUÇÃO, REFORMA, ADEQUAÇÃO OU MANUTENÇÃO DE EQUIPAMENTOS CULTURAIS | C28: =COUNTIF('LISTAS DE PARTICIPANTES'!U:U, RESULTADO!B28&"-A")+ COUNTIF('LISTAS DE PARTICIPANTES'!U:U, RESULTADO!B28&"-B")+ COUNTIF('LISTAS DE PARTICIPANTES'!U:U, RESULTADO!B28&"-C")+ COUNTIF('LISTAS DE PARTICIPANTES'!U:U, RESULTADO!B28&"-D")+ COUNTIF('LISTAS DE PARTICIPANTES'!U:U, RESULTADO!B28&"-E")+ COUNTIF('LISTAS DE PARTICIPANTES'!U:U, RESULTADO!B28&"-F")+ COUNTIF('LISTAS DE PARTICIPANTES'!U:U, RESULTADO!B28&"-G")+ COUNTIF('LISTAS DE PARTICIPANTES'!U:U, RESULTADO!B28&"-H")+ COUNTIF('LISTAS DE PARTICIPANTES'!U:U, RESULTADO!B28&"-I")+ COUNTIF('LISTAS DE PARTICIPANTES'!U:U, RESULTADO!B28&"-J")+ COUNTIF('LISTAS DE PARTICIPANTES'!U:U, RESULTADO!B28&"-K")+ COUNTIF('LISTAS DE PARTICIPANTES'!U:U, RESULTADO!B28&"-L") -> 10 | H28: 22 | K28: 22 | N28: 22 | O28: LAURA LOPES VICENTE | Q28: 22 | T28: 22 | W28: 22 | Z28: 22 | AC28: 22 | AF28: 22 | AI28: 22 | AL28: 22 | AO28: 22 | AR28: 22 | AU28: 22 | AX28: 22 | BA28: 22 | BD28: 22 | BG28: 22 | BJ28: 22 | BM28: 22 | BP28: 22 | BS28: 22 | BV28: 22 | BY28: 22 | BZ28: NILSON GONÇALVES DE OLIVEIRA | CB28: 22 | CC28: ROMÉRIO HUMBERTO ZEFERINO NASICIMENTO | CE28: 22 | CH28: 22 | CK28: 22 | CN28: 22 | CQ28: 22 | CT28: 22
B29: HUMANIDADES | C29: =COUNTIF('LISTAS DE PARTICIPANTES'!U:U, RESULTADO!B29&"-A")+ COUNTIF('LISTAS DE PARTICIPANTES'!U:U, RESULTADO!B29&"-B")+ COUNTIF('LISTAS DE PARTICIPANTES'!U:U, RESULTADO!B29&"-C")+ COUNTIF('LISTAS DE PARTICIPANTES'!U:U, RESULTADO!B29&"-D")+ COUNTIF('LISTAS DE PARTICIPANTES'!U:U, RESULTADO!B29&"-E")+ COUNTIF('LISTAS DE PARTICIPANTES'!U:U, RESULTADO!B29&"-F")+ COUNTIF('LISTAS DE PARTICIPANTES'!U:U, RESULTADO!B29&"-G")+ COUNTIF('LISTAS DE PARTICIPANTES'!U:U, RESULTADO!B29&"-H")+ COUNTIF('LISTAS DE PARTICIPANTES'!U:U, RESULTADO!B29&"-I")+ COUNTIF('LISTAS DE PARTICIPANTES'!U:U, RESULTADO!B29&"-J")+ COUNTIF('LISTAS DE PARTICIPANTES'!U:U, RESULTADO!B29&"-K")+ COUNTIF('LISTAS DE PARTICIPANTES'!U:U, RESULTADO!B29&"-L") -> 31 | H29: 23 | K29: 23 | N29: 23 | O29: MARCOS VINÍCIUS SIQUEIRA FERREIRA | Q29: 23 | T29: 23 | W29: 23 | Z29: 23 | AC29: 23 | AF29: 23 | AI29: 23 | AL29: 23 | AO29: 23 | AR29: 23 | AU29: 23 | AX29: 23 | BA29: 23 | BD29: 23 | BG29: 23 | BJ29: 23 | BM29: 23 | BP29: 23 | BS29: 23 | BV29: 23 | BY29: 23 | BZ29: RAFAEL CARLOS SANTOS BEZERRA | CB29: 23 | CC29: SANDRO JULIATI | CE29: 23 | CH29: 23 | CK29: 23 | CN29: 23 | CQ29: 23 | CT29: 23
B30: MUSEU E MEMÓRIA | C30: =COUNTIF('LISTAS DE PARTICIPANTES'!U:U, RESULTADO!B30&"-A")+ COUNTIF('LISTAS DE PARTICIPANTES'!U:U, RESULTADO!B30&"-B")+ COUNTIF('LISTAS DE PARTICIPANTES'!U:U, RESULTADO!B30&"-C")+ COUNTIF('LISTAS DE PARTICIPANTES'!U:U, RESULTADO!B30&"-D")+ COUNTIF('LISTAS DE PARTICIPANTES'!U:U, RESULTADO!B30&"-E")+ COUNTIF('LISTAS DE PARTICIPANTES'!U:U, RESULTADO!B30&"-F")+ COUNTIF('LISTAS DE PARTICIPANTES'!U:U, RESULTADO!B30&"-G")+ COUNTIF('LISTAS DE PARTICIPANTES'!U:U, RESULTADO!B30&"-H")+ COUNTIF('LISTAS DE PARTICIPANTES'!U:U, RESULTADO!B30&"-I")+ COUNTIF('LISTAS DE PARTICIPANTES'!U:U, RESULTADO!B30&"-J")+ COUNTIF('LISTAS DE PARTICIPANTES'!U:U, RESULTADO!B30&"-K")+ COUNTIF('LISTAS DE PARTICIPANTES'!U:U, RESULTADO!B30&"-L") -> 24 | H30: 24 | K30: 24 | N30: 24 | O30: MARIANE MILAN GUTIERREZ | Q30: 24 | T30: 24 | W30: 24 | Z30: 24 | AC30: 24 | AF30: 24 | AI30: 24 | AL30: 24 | AO30: 24 | AR30: 24 | AU30: 24 | AX30: 24 | BA30: 24 | BD30: 24 | BG30: 24 | BJ30: 24 | BM30: 24 | BP30: 24 | BS30: 24 | BV30: 24 | BY30: 24 | BZ30: RAMON DA SILVA MORAES | CB30: 24 | CC30: TACIANA ENES PEIXOTO GUIMARÃES | CE30: 24 | CH30: 24 | CK30: 24 | CN30: 24 | CQ30: 24 | CT30: 24
B31: MÚSICA | C31: =COUNTIF('LISTAS DE PARTICIPANTES'!U:U, RESULTADO!B31&"-A")+ COUNTIF('LISTAS DE PARTICIPANTES'!U:U, RESULTADO!B31&"-B")+ COUNTIF('LISTAS DE PARTICIPANTES'!U:U, RESULTADO!B31&"-C")+ COUNTIF('LISTAS DE PARTICIPANTES'!U:U, RESULTADO!B31&"-D")+ COUNTIF('LISTAS DE PARTICIPANTES'!U:U, RESULTADO!B31&"-E")+ COUNTIF('LISTAS DE PARTICIPANTES'!U:U, RESULTADO!B31&"-F")+ COUNTIF('LISTAS DE PARTICIPANTES'!U:U, RESULTADO!B31&"-G")+ COUNTIF('LISTAS DE PARTICIPANTES'!U:U, RESULTADO!B31&"-H")+ COUNTIF('LISTAS DE PARTICIPANTES'!U:U, RESULTADO!B31&"-I")+ COUNTIF('LISTAS DE PARTICIPANTES'!U:U, RESULTADO!B31&"-J")+ COUNTIF('LISTAS DE PARTICIPANTES'!U:U, RESULTADO!B31&"-K")+ COUNTIF('LISTAS DE PARTICIPANTES'!U:U, RESULTADO!B31&"-L") -> 50 | H31: 25 | K31: 25 | N31: 25 | O31: MATILDE WRUBLEVSKI PEREIRA | Q31: 25 | T31: 25 | W31: 25 | Z31: 25 | AC31: 25 | AF31: 25 | AI31: 25 | AL31: 25 | AO31: 25 | AR31: 25 | AU31: 25 | AX31: 25 | BA31: 25 | BD31: 25 | BG31: 25 | BJ31: 25 | BM31: 25 | BP31: 25 | BS31: 25 | BV31: 25 | BY31: 25 | BZ31: RENATA MARIA GONÇALVES MORA | CB31: 25 | CC31: VANESSA LONGONI | CE31: 25 | CH31: 25 | CK31: 25 | CN31: 25 | CQ31: 25 | CT31: 25
B32: PATRIMÔNIO CULTURAL | C32: =COUNTIF('LISTAS DE PARTICIPANTES'!U:U, RESULTADO!B32&"-A")+ COUNTIF('LISTAS DE PARTICIPANTES'!U:U, RESULTADO!B32&"-B")+ COUNTIF('LISTAS DE PARTICIPANTES'!U:U, RESULTADO!B32&"-C")+ COUNTIF('LISTAS DE PARTICIPANTES'!U:U, RESULTADO!B32&"-D")+ COUNTIF('LISTAS DE PARTICIPANTES'!U:U, RESULTADO!B32&"-E")+ COUNTIF('LISTAS DE PARTICIPANTES'!U:U, RESULTADO!B32&"-F")+ COUNTIF('LISTAS DE PARTICIPANTES'!U:U, RESULTADO!B32&"-G")+ COUNTIF('LISTAS DE PARTICIPANTES'!U:U, RESULTADO!B32&"-H")+ COUNTIF('LISTAS DE PARTICIPANTES'!U:U, RESULTADO!B32&"-I")+ COUNTIF('LISTAS DE PARTICIPANTES'!U:U, RESULTADO!B32&"-J")+ COUNTIF('LISTAS DE PARTICIPANTES'!U:U, RESULTADO!B32&"-K")+ COUNTIF('LISTAS DE PARTICIPANTES'!U:U, RESULTADO!B32&"-L") -> 11 | H32: 26 | K32: 26 | N32: 26 | O32: MAURO ARAUJO DOS SANTOS | Q32: 26 | T32: 26 | W32: 26 | Z32: 26 | AC32: 26 | AF32: 26 | AI32: 26 | AL32: 26 | AO32: 26 | AR32: 26 | AU32: 26 | AX32: 26 | BA32: 26 | BD32: 26 | BG32: 26 | BJ32: 26 | BM32: 26 | BP32: 26 | BS32: 26 | BV32: 26 | BY32: 26 | CB32: 26 | CE32: 26 | CH32: 26 | CK32: 26 | CN32: 26 | CQ32: 26 | CT32: 26
B33: FNC | C33: =COUNTIF('LISTAS DE PARTICIPANTES'!U:U, "FNC") -> 20 | H33: 27 | K33: 27 | N33: 27 | O33: MÔNICA CRISTINA MOREIRA BERNARDES | Q33: 27 | T33: 27 | W33: 27 | Z33: 27 | AC33: 27 | AF33: 27 | AI33: 27 | AL33: 27 | AO33: 27 | AR33: 27 | AU33: 27 | AX33: 27 | BA33: 27 | BD33: 27 | BG33: 27 | BJ33: 27 | BM33: 27 | BP33: 27 | BS33: 27 | BV33: 27 | BY33: 27 | CB33: 27 | CE33: 27 | CH33: 27 | CK33: 27 | CN33: 27 | CQ33: 27 | CT33: 27
B34: TOTAL | C34: =SUM(C25:C33) -> 249 | H34: 28 | K34: 28 | N34: 28 | O34: PAULA DE RENOR | Q34: 28 | T34: 28 | W34: 28 | Z34: 28 | AC34: 28 | AF34: 28 | AI34: 28 | AL34: 28 | AO34: 28 | AR34: 28 | AU34: 28 | AX34: 28 | BA34: 28 | BD34: 28 | BG34: 28 | BJ34: 28 | BM34: 28 | BP34: 28 | BS34: 28 | BV34: 28 | BY34: 28 | CB34: 28 | CE34: 28 | CH34: 28 | CK34: 28 | CN34: 28 | CQ34: 28 | CT34: 28
B35: Participantes | C35: {=COUNTA(_xlfn.UNIQUE(_xlfn._xlws.FILTER('LISTAS DE PARTICIPANTES'!B2:B1401,('LISTAS DE PARTICIPANTES'!B2:B1401<>"") * ('LISTAS DE PARTICIPANTES'!Z2:Z1401="SIM"))))} -> 675 | H35: 29 | K35: 29 | N35: 29 | O35: RAFAELE DA SILVA COSTA | Q35: 29 | T35: 29 | W35: 29 | Z35: 29 | AC35: 29 | AF35: 29 | AI35: 29 | AL35: 29 | AO35: 29 | AR35: 29 | AU35: 29 | AX35: 29 | BA35: 29 | BD35: 29 | BG35: 29 | BJ35: 29 | BM35: 29 | BP35: 29 | BS35: 29 | BV35: 29 | BY35: 29 | CB35: 29 | CE35: 29 | CH35: 29 | CK35: 29 | CN35: 29 | CQ35: 29 | CT35: 29
H36: 30 | K36: 30 | N36: 30 | O36: RONALDO UEDA KOIKE | Q36: 30 | T36: 30 | W36: 30 | Z36: 30 | AC36: 30 | AF36: 30 | AI36: 30 | AL36: 30 | AO36: 30 | AR36: 30 | AU36: 30 | AX36: 30 | BA36: 30 | BD36: 30 | BG36: 30 | BJ36: 30 | BM36: 30 | BP36: 30 | BS36: 30 | BV36: 30 | BY36: 30 | CB36: 30 | CE36: 30 | CH36: 30 | CK36: 30 | CN36: 30 | CQ36: 30 | CT36: 30
H37: 31 | K37: 31 | N37: 31 | O37: SANDRA HELENA GONZAGA PEDROSO | Q37: 31 | T37: 31 | W37: 31 | Z37: 31 | AC37: 31 | AF37: 31 | AI37: 31 | AL37: 31 | AO37: 31 | AR37: 31 | AU37: 31 | AX37: 31 | BA37: 31 | BD37: 31 | BG37: 31 | BJ37: 31 | BM37: 31 | BP37: 31 | BS37: 31 | BV37: 31 | BY37: 31 | CB37: 31 | CE37: 31 | CH37: 31 | CK37: 31 | CN37: 31 | CQ37: 31 | CT37: 31
H38: 32 | K38: 32 | N38: 32 | O38: VIVIANE SAMBINELLI MORI | Q38: 32 | T38: 32 | W38: 32 | Z38: 32 | AC38: 32 | AF38: 32 | AI38: 32 | AL38: 32 | AO38: 32 | AR38: 32 | AU38: 32 | AX38: 32 | BA38: 32 | BD38: 32 | BG38: 32 | BJ38: 32 | BM38: 32 | BP38: 32 | BS38: 32 | BV38: 32 | BY38: 32 | CB38: 32 | CE38: 32 | CH38: 32 | CK38: 32 | CN38: 32 | CQ38: 32 | CT38: 32
H39: 33 | K39: 33 | N39: 33 | Q39: 33 | T39: 33 | W39: 33 | Z39: 33 | AC39: 33 | AF39: 33 | AI39: 33 | AL39: 33 | AO39: 33 | AR39: 33 | AU39: 33 | AX39: 33 | BA39: 33 | BD39: 33 | BG39: 33 | BJ39: 33 | BM39: 33 | BP39: 33 | BS39: 33 | BV39: 33 | BY39: 33 | CB39: 33 | CE39: 33 | CH39: 33 | CK39: 33 | CN39: 33 | CQ39: 33 | CT39: 33
H40: 34 | K40: 34 | N40: 34 | Q40: 34 | T40: 34 | W40: 34 | Z40: 34 | AC40: 34 | AF40: 34 | AI40: 34 | AL40: 34 | AO40: 34 | AR40: 34 | AU40: 34 | AX40: 34 | BA40: 34 | BD40: 34 | BG40: 34 | BJ40: 34 | BM40: 34 | BP40: 34 | BS40: 34 | BV40: 34 | BY40: 34 | CB40: 34 | CE40: 34 | CH40: 34 | CK40: 34 | CN40: 34 | CQ40: 34 | CT40: 34
H41: 35 | K41: 35 | N41: 35 | Q41: 35 | T41: 35 | W41: 35 | Z41: 35 | AC41: 35 | AF41: 35 | AI41: 35 | AL41: 35 | AO41: 35 | AR41: 35 | AU41: 35 | AX41: 35 | BA41: 35 | BD41: 35 | BG41: 35 | BJ41: 35 | BM41: 35 | BP41: 35 | BS41: 35 | BV41: 35 | BY41: 35 | CB41: 35 | CE41: 35 | CH41: 35 | CK41: 35 | CN41: 35 | CQ41: 35 | CT41: 35

Sheet LISTAS DE PARTICIPANTES
A1: 1-ID | B1: 2-PARECERISTA | C1: 3-CPF | D1: 4-E-MAIL | E1: 5-Sorteio para INEX | F1: 6-PROCESSO | G1: 7-Área | H1: 8-A | I1: 9-B | J1: 10-C | K1: 11-D | L1: 12-E | M1: 13-F | N1: 14-G | O1: 15-H | P1: 16-I | Q1: 17-J | R1: 18-K | S1: 19-L | T1: 20-OBS | U1: 21-ÁREA E SEGMENTO SORTEADO | V1: 22-SORTEADOS | W1: 23 | X1: 24-ÁREAS | Y1: 25-ESCOLHAS | Z1: 26-PREENCEU O FORMULÁRIO | AA1: 27-NO BANCO ATUALMENTE | AB1: 28 - SORTEADOS ANTERIORMENTE
A2: 1 | B2: ADÃO DE SOUZA LANDIM | C2: 051.435.846-71 | D2: adaolandim@hotmail.com | E2: 1ª e 2ª | F2: 72031.017085/2021-41 | G2: 1 MÚSICA | H2: X | I2: X | X2: MÚSICA | Y2: 1 | Z2: =IF(ISNA(MATCH(C2,FORMULÁRIO!L:L, 0)),"NÃO","SIM") -> SIM | AA2: NÃO | AB2: SIM
A3: 2 | B3: ADAO DOS SANTOS ALVES SIQUEIRA | C3: 317.176.888-70 | D3: adao@metrocenografia.com.br | E3: Nenhuma | F3: 01400.005589/2024-78 | G3: 1 ARTES VISUAIS | H3: X | X3: ARTES VISUAIS | Y3: 1 | Z3: =IF(ISNA(MATCH(C3,FORMULÁRIO!L:L, 0)),"NÃO","SIM") -> SIM | AA3: NÃO | AB3: NÃO
A4: 2 | B4: ADAO DOS SANTOS ALVES SIQUEIRA | C4: 317.176.888-70 | D4: adao@metrocenografia.com.br | E4: Nenhuma | F4: 01400.005589/2024-78 | G4: 2 MUSEU E MEMÓRIA | M4: X | X4: MUSEU E MEMÓRIA | Y4: 2 | Z4: =IF(ISNA(MATCH(C4,FORMULÁRIO!L:L, 0)),"NÃO","SIM") -> SIM | AA4: NÃO | AB4: NÃO
A5: 2 | B5: ADAO DOS SANTOS ALVES SIQUEIRA | C5: 317.176.888-70 | D5: adao@metrocenografia.com.br | E5: Nenhuma | F5: 01400.005589/2024-78 | G5: 3 HUMANIDADES | J5: X | X5: HUMANIDADES | Y5: 3 | Z5: =IF(ISNA(MATCH(C5,FORMULÁRIO!L:L, 0)),"NÃO","SIM") -> SIM | AA5: NÃO | AB5: NÃO
A6: 3 | B6: ADAUANY PIEVE ZIMOVSKI | C6: 317.073.128-93 | D6: adauany@gmail.com | E6: Nenhuma | F6: 01400.005680/2024-93 | G6: 1 ARTES VISUAIS | H6: X | U6: ARTES VISUAIS-A | V6: SORTEADO | X6: ARTES VISUAIS | Y6: 1 | Z6: =IF(ISNA(MATCH(C6,FORMULÁRIO!L:L, 0)),"NÃO","SIM") -> SIM | AA6: NÃO | AB6: NÃO
A7: 4 | B7: ADEILTON LIMA DA SILVA | C7: 333.832.861-34 | D7: adeiltonator@hotmail.com | E7: Nenhuma | F7: 01400.006233/2024-51 | G7: 1 ARTES CÊNICAS | J7: X | K7: X | X7: ARTES CÊNICAS | Y7: 1 | Z7: =IF(ISNA(MATCH(C7,FORMULÁRIO!L:L, 0)),"NÃO","SIM") -> NÃO | AA7: NÃO | AB7: NÃO
A8: 4 | B8: ADEILTON LIMA DA SILVA | C8: 333.832.861-34 | D8: adeiltonator@hotmail.com | E8: Nenhuma | F8: 01400.006233/2024-51 | G8: 2 HUMANIDADES | H8: X | J8: X | K8: X | X8: HUMANIDADES | Y8: 2 | Z8: =IF(ISNA(MATCH(C8,FORMULÁRIO!L:L, 0)),"NÃO","SIM") -> NÃO | AA8: NÃO | AB8: NÃO
A9: 5 | B9: ADILON MARQUES DOS SANTOS | C9: 062.112.369-21 | D9: adilonmsantos@gmail.com | E9: 1ª e 2ª | F9: 72031.017086/2021-96 | G9: 1 CONSTRUÇÃO, REFORMA, ADEQUAÇÃO OU MANUTENÇÃO DE EQUIPAMENTOS CULTURAIS | H9: X | I9: X | U9: CONSTRUÇÃO, REFORMA, ADEQUAÇÃO OU MANUTENÇÃO DE EQUIPAMENTOS CULTURAIS-B | V9: SORTEADO | X9: CONSTRUÇÃO, REFORMA, ADEQUAÇÃO OU MANUTENÇÃO DE EQUIPAMENTOS CULTURAIS | Y9: 1 | Z9: =IF(ISNA(MATCH(C9,FORMULÁRIO!L:L, 0)),"NÃO","SIM") -> SIM | AA9: NÃO | AB9: SIM
A10: 5 | B10: ADILON MARQUES DOS SANTOS | C10: 062.112.369-21 | D10: adilonmsantos@gmail.com | E10: 1ª e 2ª | F10: 72031.017086/2021-96 | G10: 2 PATRIMÔNIO CULTURAL | I10: X | J10: X | K10: X | V10: SORTEADO | X10: PATRIMÔNIO CULTURAL | Y10: 2 | Z10: =IF(ISNA(MATCH(C10,FORMULÁRIO!L:L, 0)),"NÃO","SIM") -> SIM | AA10: NÃO | AB10: SIM
A11: 5 | B11: ADILON MARQUES DOS SANTOS | C11: 062.112.369-21 | D11: adilonmsantos@gmail.com | E11: 1ª e 2ª | F11: 72031.017086/2021-96 | G11: 3 MUSEU E MEMÓRIA | I11: X | L11: X | O11: X | V11: SORTEADO | X11: MUSEU E MEMÓRIA | Y11: 3 | Z11: =IF(ISNA(MATCH(C11,FORMULÁRIO!L:L, 0)),"NÃO","SIM") -> SIM | AA11: NÃO | AB11: SIM
A12: 6 | B12: ADRIANA CARNEIRO DE SOUZA | C12: 114.951.087-08 | D12: carneiro.drica@gmail.com | E12: Nenhuma | F12: 01400.005959/2024-77 | G12: 1 AUDIOVISUAL | H12: X | I12: X | J12: X | U12: AUDIOVISUAL-C | V12: SORTEADO | X12: AUDIOVISUAL | Y12: 1 | Z12: =IF(ISNA(MATCH(C12,FORMULÁRIO!L:L, 0)),"NÃO","SIM") -> SIM | AA12: NÃO | AB12: NÃO
A13: 7 | B13: ADRIANA DE SOUZA RODRIGUES | C13: 739.118.872-72 | D13: rodriguessouza300909@gmail.com | E13: Nenhuma | F13: 01400.005686/2024-61 | G13: 1 ARTES CÊNICAS | J13: X | U13: ARTES CÊNICAS-C | V13: SORTEADO | X13: ARTES CÊNICAS | Y13: 1 | Z13: =IF(ISNA(MATCH(C13,FORMULÁRIO!L:L, 0)),"NÃO","SIM") -> SIM | AA13: NÃO | AB13: NÃO
A14: 8 | B14: ADRIANA HIRSCH DE SANT ANNA | C14: 395.059.015-34 | D14: adriana.hirsch@hotmail.com | E14: Nenhuma | F14: 01400.000183/2024-07 | G14: 1 AUDIOVISUAL | X14: AUDIOVISUAL | Y14: 1 | Z14: =IF(ISNA(MATCH(C14,FORMULÁRIO!L:L, 0)),"NÃO","SIM") -> SIM | AA14: NÃO | AB14: NÃO
A15: 9 | B15: ADRIANA MARIA PISCIOTTANO ATHAIDE | C15: 092.919.948-04 | D15: carprim@uol.com.br | E15: 1ª e 2ª | F15: 72031.017089/2021-20 | G15: 1 ARTES VISUAIS | H15: X | X15: ARTES VISUAIS | Y15: 1 | Z15: =IF(ISNA(MATCH(C15,FORMULÁRIO!L:L, 0)),"NÃO","SIM") -> SIM | AA15: NÃO | AB15: SIM
A16: 9 | B16: ADRIANA MARIA PISCIOTTANO ATHAIDE | C16: 092.919.948-04 | D16: carprim@uol.com.br | E16: 1ª e 2ª | F16: 72031.017089/2021-20 | G16: 2 MUSEU E MEMÓRIA | I16: X | X16: MUSEU E MEMÓRIA | Y16: 2 | Z16: =IF(ISNA(MATCH(C16,FORMULÁRIO!L:L, 0)),"NÃO","SIM") -> SIM | AA16: NÃO | AB16: SIM
A17: 10 | B17: ADRIANA MARTINS DA SILVA | C17: 131.354.178-83 | D17: solmaiorproducaocultural@gmail.com | E17: 3ª | F17: 01400.005689/2024-02 | G17: 1 MÚSICA | H17: X | I17: X | X17: MÚSICA | Y17: 1 | Z17: =IF(ISNA(MATCH(C17,FORMULÁRIO!L:L, 0)),"NÃO","SIM") -> SIM | AA17: SIM | AB17: SIM
A18: 10 | B18: ADRIANA MARTINS DA SILVA | C18: 131.354.178-83 | D18: solmaiorproducaocultural@gmail.com | E18: 3ª | F18: 01400.005689/2024-02 | G18: 2 ARTES CÊNICAS | J18: X | X18: ARTES CÊNICAS | Y18: 2 | Z18: =IF(ISNA(MATCH(C18,FORMULÁRIO!L:L, 0)),"NÃO","SIM") -> SIM | AA18: SIM | AB18: SIM
A19: 11 | B19: ADRIANA PERRELLA MATOS | C19: 971.530.956-91 | D19: ur.clube@gmail.com; adrianaperrellam@gmail.com; | E19: 3ª | F19: 01400.005704/2024-12 | G19: 1 ARTES CÊNICAS | H19: X | I19: X | J19: X | K19: X | X19: ARTES CÊNICAS | Y19: 1 | Z19: =IF(ISNA(MATCH(C19,FORMULÁRIO!L:L, 0)),"NÃO","SIM") -> NÃO | AA19: SIM | AB19: SIM
A20: 11 | B20: ADRIANA PERRELLA MATOS | C20: 971.530.956-91 | D20: ur.clube@gmail.com; adrianaperrellam@gmail.com; | E20: 3ª | F20: 01400.005704/2024-12 | G20: 2 HUMANIDADES | H20: X | X20: HUMANIDADES | Y20: 2 | Z20: =IF(ISNA(MATCH(C20,FORMULÁRIO!L:L, 0)),"NÃO","SIM") -> NÃO | AA20: SIM | AB20: SIM
A21: 12 | B21: ADRIANA PINTO BARROS | C21: 219.367.888-02 | D21: estudiosubversiva@gmail.com | E21: 3ª | F21: 01400.005694/2024-15 | G21: 1 AUDIOVISUAL | H21: X | J21: X | K21: X | T21: PEDIU PARA SAIR DA INEX 3 | X21: AUDIOVISUAL | Y21: 1 | Z21: =IF(ISNA(MATCH(C21,FORMULÁRIO!L:L, 0)),"NÃO","SIM") -> NÃO | AA21: SIM | AB21: SIM
A22: 13 | B22: ADRIANA VELOSO MEIRELES | C22: 937.268.136-91 | D22: dricaveloso@gmail.com | E22: Nenhuma | F22: 01400.000179/2024-31 | G22: 1 ARTES VISUAIS | H22: X | U22: FNC | V22: SORTEADO | X22: ARTES VISUAIS | Y22: 1 | Z22: =IF(ISNA(MATCH(C22,FORMULÁRIO!L:L, 0)),"NÃO","SIM") -> SIM | AA22: NÃO | AB22: NÃO
A23: 14 | B23: ADRIANE FERREIRA CARVALHO COSTA | C23: 700.514.451-15 | D23: adrianecarvalhodf@gmail.com | E23: 3ª | F23: 01400.005709/2024-37 | G23: 1 ARTES VISUAIS | H23: X | X23: ARTES VISUAIS | Y23: 1 | Z23: =IF(ISNA(MATCH(C23,FORMULÁRIO!L:L, 0)),"NÃO","SIM") -> SIM | AA23: SIM | AB23: SIM
A24: 15 | B24: AFONSO BRAGA DA COSTA JUNIOR | C24: 363.710.888-74 | D24: ab.afonsobraga@gmail.com | E24: 2ª | F24: 72031.017091/2021-07 | G24: 1 ARTES CÊNICAS | J24: X | X24: ARTES CÊNICAS | Y24: 1 | Z24: =IF(ISNA(MATCH(C24,FORMULÁRIO!L:L, 0)),"NÃO","SIM") -> SIM | AA24: NÃO | AB24: SIM
A25: 16 | B25: AFONSO NILSON BARBOSA DE SOUZA | C25: 020.513.179-41 | D25: afonso.nilson@gmail.com | E25: 2ª | F25: 72031.017092/2021-43 | G25: 1 ARTES CÊNICAS | J25: X | X25: ARTES CÊNICAS | Y25: 1 | Z25: =IF(ISNA(MATCH(C25,FORMULÁRIO!L:L, 0)),"NÃO","SIM") -> SIM | AA25: NÃO | AB25: SIM
A26: 16 | B26: AFONSO NILSON BARBOSA DE SOUZA | C26: 020.513.179-41 | D26: afonso.nilson@gmail.com | E26: 2ª | F26: 72031.017092/2021-43 | G26: 2 HUMANIDADES | H26: X | J26: X | X26: HUMANIDADES | Y26: 2 | Z26: =IF(ISNA(MATCH(C26,FORMULÁRIO!L:L, 0)),"NÃO","SIM") -> SIM | AA26: NÃO | AB26: SIM
A27: 17 | B27: ALAN RIBEIRO DA SILVA | C27: 005.719.872-14 | D27: allanribbeiro12@gmail.com | E27: Nenhuma | F27: 01400.005735/2024-65 | G27: 1 ARTES VISUAIS | H27: X | X27: ARTES VISUAIS | Y27: 1 | Z27: =IF(ISNA(MATCH(C27,FORMULÁRIO!L:L, 0)),"NÃO","SIM") -> SIM | AA27: NÃO | AB27: NÃO
A28: 18 | B28: ALANA TEIXEIRA MENK | C28: 368.772.918-40 | D28: alanamenk@gmail.com | E28: Nenhuma | F28: 01400.005759/2024-14 | G28: 1 ARTES CÊNICAS | I28: X | V28: SORTEADO | X28: ARTES CÊNICAS | Y28: 1 | Z28: =IF(ISNA(MATCH(C28,FORMULÁRIO!L:L, 0)),"NÃO","SIM") -> SIM | AA28: NÃO | AB28: NÃO
A29: 18 | B29: ALANA TEIXEIRA MENK | C29: 368.772.918-40 | D29: alanamenk@gmail.com | E29: Nenhuma | F29: 01400.005759/2024-14 | G29: 2 AUDIOVISUAL | H29: X | U29: AUDIOVISUAL-A | V29: SORTEADO | X29: AUDIOVISUAL | Y29: 2 | Z29: =IF(ISNA(MATCH(C29,FORMULÁRIO!L:L, 0)),"NÃO","SIM") -> SIM | AA29: NÃO | AB29: NÃO
A30: 18 | B30: ALANA TEIXEIRA MENK | C30: 368.772.918-40 | D30: alanamenk@gmail.com | E30: Nenhuma | F30: 01400.005759/2024-14 | G30: 3 HUMANIDADES | H30: X | V30: SORTEADO | X30: HUMANIDADES | Y30: 3 | Z30: =IF(ISNA(MATCH(C30,FORMULÁRIO!L:L, 0)),"NÃO","SIM") -> SIM | AA30: NÃO | AB30: NÃO
A31: 19 | B31: ALBERTO CAPUCCI FILHO | C31: 739.911.048-49 | D31: acpcmei@gmail.com; albertocapucci@hotmail.com; | E31: 3ª | F31: elin | G31: 1 PATRIMÔNIO CULTURAL | H31: X | O31: X | X31: PATRIMÔNIO CULTURAL | Y31: 1 | Z31: =IF(ISNA(MATCH(C31,FORMULÁRIO!L:L, 0)),"NÃO","SIM") -> SIM | AA31: SIM | AB31: SIM
A32: 20 | B32: ALBERTO NAAR | C32: 124.464.017-40 | D32: albertonaar@gmail.com | E32: 2ª | F32: 72031.004929/2021-94 | G32: 1 ARTES CÊNICAS | J32: X | X32: ARTES CÊNICAS | Y32: 1 | Z32: =IF(ISNA(MATCH(C32,FORMULÁRIO!L:L, 0)),"NÃO","SIM") -> NÃO | AA32: NÃO | AB32: SIM
A33: 20 | B33: ALBERTO NAAR | C33: 124.464.017-40 | D33: albertonaar@gmail.com | E33: 2ª | F33: 72031.004929/2021-94 | G33: 2 AUDIOVISUAL | H33: X | X33: AUDIOVISUAL | Y33: 2 | Z33: =IF(ISNA(MATCH(C33,FORMULÁRIO!L:L, 0)),"NÃO","SIM") -> NÃO | AA33: NÃO | AB33: SIM
A34: 21 | B34: ALCIDÉIA MARGARETH ROCHA TRANCOSO | C34: 615.055.446-53 | D34: deatrancoso@gmail.com | E34: Nenhuma | F34: 01400.005782/2024-17 | G34: 1 MÚSICA | I34: X | U34: MÚSICA-B | V34: SORTEADO | X34: MÚSICA | Y34: 1 | Z34: =IF(ISNA(MATCH(C34,FORMULÁRIO!L:L, 0)),"NÃO","SIM") -> SIM | AA34: NÃO | AB34: NÃO
A35: 22 | B35: ALDRIN VIANNA DE SANTANA | C35: 831.167.964-91 | D35: aldrin@aldrin.com.br | E35: Nenhuma | F35: 01400.005784/2024-06 | G35: 1 ARTES VISUAIS | H35: X | V35: SORTEADO | X35: ARTES VISUAIS | Y35: 1 | Z35: =IF(ISNA(MATCH(C35,FORMULÁRIO!L:L, 0)),"NÃO","SIM") -> SIM | AA35: NÃO | AB35: NÃO
A36: 22 | B36: ALDRIN VIANNA DE SANTANA | C36: 831.167.964-91 | D36: aldrin@aldrin.com.br | E36: Nenhuma | F36: 01400.005784/2024-06 | G36: 2 AUDIOVISUAL | H36: X | I36: X | J36: X | K36: X | U36: AUDIOVISUAL-C | V36: SORTEADO | X36: AUDIOVISUAL | Y36: 2 | Z36: =IF(ISNA(MATCH(C36,FORMULÁRIO!L:L, 0)),"NÃO","SIM") -> SIM | AA36: NÃO | AB36: NÃO
A37: 23 | B37: ALESSANDRA DA SILVA DOS SANTOS | C37: 101.090.987-81 | D37: alessandrassantos84@gmail.com | E37: Nenhuma | F37: 01400.005788/2024-86 | G37: 1 ARTES CÊNICAS | J37: X | V37: SORTEADO | X37: ARTES CÊNICAS | Y37: 1 | Z37: =IF(ISNA(MATCH(C37,FORMULÁRIO!L:L, 0)),"NÃO","SIM") -> SIM | AA37: NÃO | AB37: NÃO
A38: 23 | B38: ALESSANDRA DA SILVA DOS SANTOS | C38: 101.090.987-81 | D38: alessandrassantos84@gmail.com | E38: Nenhuma | F38: 01400.005788/2024-86 | G38: 2 MÚSICA | I38: X | U38: MÚSICA-B | V38: SORTEADO | X38: MÚSICA | Y38: 2 | Z38: =IF(ISNA(MATCH(C38,FORMULÁRIO!L:L, 0)),"NÃO","SIM") -> SIM | AA38: NÃO | AB38: NÃO
A39: 23 | B39: ALESSANDRA DA SILVA DOS SANTOS | C39: 101.090.987-81 | D39: alessandrassantos84@gmail.com | E39: Nenhuma | F39: 01400.005788/2024-86 | G39: 3 HUMANIDADES | H39: X | V39: SORTEADO | X39: HUMANIDADES | Y39: 3 | Z39: =IF(ISNA(MATCH(C39,FORMULÁRIO!L:L, 0)),"NÃO","SIM") -> SIM | AA39: NÃO | AB39: NÃO
A40: 24 | B40: ALESSANDRA IORIO | C40: 299.409.248-44 | D40: lekaiorio@gmail.com | E40: Nenhuma | F40: 01400.005791/2024-08 | G40: 1 ARTES VISUAIS | H40: X | X40: ARTES VISUAIS | Y40: 1 | Z40: =IF(ISNA(MATCH(C40,FORMULÁRIO!L:L, 0)),"NÃO","SIM") -> NÃO | AA40: NÃO | AB40: NÃO
...

Sheet FORMULÁRIO
A1: Carimbo de data/hora | B1: Endereço de e-mail | C1: Pontuação | D1: Nome (mesmo do credenciamento) | E1: Informe seu CPF: | F1: E-mail (mesmo do credenciamento) | G1: Celular | H1: Você confirma disponibilidade para concorrer à contratação de pareceristas para atuação em 2025 e 2026? | I1: Caso negativo, justifique: | J1: 1 - Declaro estar ciente dos normativos que regem o Banco de Pareceristas da SEFIC/MinC e, em caso de ser contemplado no sorteio, comprometo-me a a analisar os produtos, projetos, propostas ou planos de ação a mim distribuídos, salvo aqueles em que: - i | K1: CPF | L1: CPF FORMATADO | M1: OBS
A2: 45743.731 | B2: britoanapaulaa@gmail.com | C2: 0 | D2: Ana Paula Ferreira de Brito | E2: 073.326.814-55 | F2: britoanapaulaa@gmail.com | G2: 11955553013 | H2: SIM | J2: SIM | K2: =IFERROR(INDEX('LISTAS DE PARTICIPANTES'!B:B,MATCH(FORMULÁRIO!L2,'LISTAS DE PARTICIPANTES'!C:C,0)),"NÃO ENCONTRADO") -> ANA PAULA FERREIRA DE BRITO | L2: 073.326.814-55
A3: 45743.732 | B3: quartoimaginario@gmail.com | C3: 0 | D3: Alex Santos Barbosa | E3: 002.340.165-66 | F3: quartoimaginario@gmail.com | G3: 73991547056 | H3: SIM | J3: SIM | K3: =IFERROR(INDEX('LISTAS DE PARTICIPANTES'!B:B,MATCH(FORMULÁRIO!L3,'LISTAS DE PARTICIPANTES'!C:C,0)),"NÃO ENCONTRADO") -> ALEX SANTOS BARBOSA | L3: 002.340.165-66
A4: 45743.735 | B4: frazaocomplex@gmail.com | C4: 0 | D4: Ana Paula de Andrade Frazão | E4: 029.550.719-51 | F4: anapaulafrazao@hotmail.com | G4: 41996877939 | H4: SIM | J4: SIM | K4: =IFERROR(INDEX('LISTAS DE PARTICIPANTES'!B:B,MATCH(FORMULÁRIO!L4,'LISTAS DE PARTICIPANTES'!C:C,0)),"NÃO ENCONTRADO") -> ANA PAULA DE ANDRADE FRAZÃO | L4: 029.550.719-51
A5: 45743.736 | B5: adrianecarvalhodf@gmail.com | C5: 0 | D5: Adriane Ferreira Carvalho Costa | E5: 700.514.451-15 | F5: adrianecarvalhodf@gmail.com | G5: 62981714074 | H5: SIM | J5: SIM | K5: =IFERROR(INDEX('LISTAS DE PARTICIPANTES'!B:B,MATCH(FORMULÁRIO!L5,'LISTAS DE PARTICIPANTES'!C:C,0)),"NÃO ENCONTRADO") -> ADRIANE FERREIRA CARVALHO COSTA | L5: 700.514.451-15
A6: 45743.737 | B6: solmaiorproducaocultural@gmail.com | C6: 0 | D6: Adriana Martins da Silva | E6: 131.354.178-83 | F6: solmaiorproducaocultural@gmail.com | G6: 21 965368660 | H6: SIM | J6: SIM | K6: =IFERROR(INDEX('LISTAS DE PARTICIPANTES'!B:B,MATCH(FORMULÁRIO!L6,'LISTAS DE PARTICIPANTES'!C:C,0)),"NÃO ENCONTRADO") -> ADRIANA MARTINS DA SILVA | L6: 131.354.178-83
A7: 45743.737 | B7: adrianapisciottano@gmail.com | C7: 0 | D7: Adriana Maria Pisciottano Athaide | E7: 092.919.948-04 | F7: carprim@uol.com.br | G7: 11 99941-5567 | H7: SIM | J7: SIM | K7: =IFERROR(INDEX('LISTAS DE PARTICIPANTES'!B:B,MATCH(FORMULÁRIO!L7,'LISTAS DE PARTICIPANTES'!C:C,0)),"NÃO ENCONTRADO") -> ADRIANA MARIA PISCIOTTANO ATHAIDE | L7: 092.919.948-04
A8: 45743.738 | B8: chfalcao@gmail.com | C8: 0 | D8: Christiane Rocha Ciovana Falcão | E8: 010.863.555-47 | F8: chfalcao@gmail.com | G8: (79) 996835321 | H8: SIM | J8: SIM | K8: =IFERROR(INDEX('LISTAS DE PARTICIPANTES'!B:B,MATCH(FORMULÁRIO!L8,'LISTAS DE PARTICIPANTES'!C:C,0)),"NÃO ENCONTRADO") -> CHRISTIANE ROCHA CIOVANA FALCÃO | L8: 010.863.555-47
A9: 45743.74 | B9: charlene.com.ch@gmail.com | C9: 0 | D9: Charlene Cabral Pinheiro | E9: 987.443.300-06 | F9: charlene.com.ch@gmail.com | G9: (11)940669699 | H9: SIM | J9: SIM | K9: =IFERROR(INDEX('LISTAS DE PARTICIPANTES'!B:B,MATCH(FORMULÁRIO!L9,'LISTAS DE PARTICIPANTES'!C:C,0)),"NÃO ENCONTRADO") -> CHARLENE CABRAL PINHEIRO | L9: 987.443.300-06
A10: 45743.74 | B10: pessoabrunalima@gmail.com | C10: 0 | D10: Bruna Pessoa Lima | E10: 048.213.483-65 | F10: pessoabrunalima@gmail.com | G10: (85)994386875 | H10: SIM | J10: SIM | K10: =IFERROR(INDEX('LISTAS DE PARTICIPANTES'!B:B,MATCH(FORMULÁRIO!L10,'LISTAS DE PARTICIPANTES'!C:C,0)),"NÃO ENCONTRADO") -> BRUNA PESSOA LIMA | L10: 048.213.483-65
A11: 45743.74 | B11: oliveirafilhocg@gmail.com | C11: 0 | D11: Carlos Gomes de Oliveira Filho | E11: 044.136.214-17 | F11: oliveirafilhocg@gmail.com | G11: 81 987188060 | H11: SIM | J11: SIM | K11: =IFERROR(INDEX('LISTAS DE PARTICIPANTES'!B:B,MATCH(FORMULÁRIO!L11,'LISTAS DE PARTICIPANTES'!C:C,0)),"NÃO ENCONTRADO") -> CARLOS GOMES DE OLIVEIRA FILHO | L11: 044.136.214-17
A12: 45743.74 | B12: aamandaramos@gmail.com | C12: 0 | D12: Amanda Ramos Alves dos Santos | E12: 067.557.624-58 | F12: aamandaramos@gmail.com | G12: (81) 99873-3576 | H12: SIM | J12: SIM | K12: =IFERROR(INDEX('LISTAS DE PARTICIPANTES'!B:B,MATCH(FORMULÁRIO!L12,'LISTAS DE PARTICIPANTES'!C:C,0)),"NÃO ENCONTRADO") -> AMANDA RAMOS ALVES DOS SANTOS | L12: 067.557.624-58
A13: 45743.741 | B13: wendellmlima@gmail.com | C13: 0 | D13: Carlos Wendell Moura de Lima | E13: 623.372.383-34 | F13: wendellmlima@gmail.com | G13: 85991565754 | H13: SIM | J13: SIM | K13: =IFERROR(INDEX('LISTAS DE PARTICIPANTES'!B:B,MATCH(FORMULÁRIO!L13,'LISTAS DE PARTICIPANTES'!C:C,0)),"NÃO ENCONTRADO") -> CARLOS WENDELL MOURA DE LIMA | L13: 623.372.383-34
A14: 45743.741 | B14: caro.alvim@gmail.com | C14: 0 | D14: Carolina de abreu Alvim tomazi | E14: 302.597.518-04 | F14: caro.alvim@gmail.com | G14: 41998375651 | H14: SIM | J14: SIM | K14: =IFERROR(INDEX('LISTAS DE PARTICIPANTES'!B:B,MATCH(FORMULÁRIO!L14,'LISTAS DE PARTICIPANTES'!C:C,0)),"NÃO ENCONTRADO") -> CAROLINA DE ABREU ALVIM TOMAZI | L14: 302.597.518-04
A15: 45743.741 | B15: claudiorafael.almeidadesouza@gmail.com | C15: 0 | D15: Claudio Rafael Almeida de Souza | E15: 025.207.595-18 | F15: claudiorafael.almeidadesouza@gmail.com | G15: 71984831073 | H15: SIM | J15: SIM | K15: =IFERROR(INDEX('LISTAS DE PARTICIPANTES'!B:B,MATCH(FORMULÁRIO!L15,'LISTAS DE PARTICIPANTES'!C:C,0)),"NÃO ENCONTRADO") -> CLAUDIO RAFAEL ALMEIDA DE SOUZA | L15: 025.207.595-18
A16: 45743.744 | B16: oliveiraanderson.pesquisa@gmail.com | C16: 0 | D16: Anderson Luiz da Silva de Oliveira | E16: 132.393.637-80 | F16: oliveiraanderson.pesquisa@gmail.com | G16: (21)996110576 | H16: SIM | J16: SIM | K16: =IFERROR(INDEX('LISTAS DE PARTICIPANTES'!B:B,MATCH(FORMULÁRIO!L16,'LISTAS DE PARTICIPANTES'!C:C,0)),"NÃO ENCONTRADO") -> ANDERSON LUIZ DA SILVA DE OLIVEIRA | L16: 132.393.637-80
