Workbook

Sheet SORTEIO
C2: ÁREA | D2: PATRIMÔNIO CULTURAL
C3: SEGMENTO | D3: D
C4: ÁREAS ESCPLHIDAS | D4: 2
C5: SERÃO SORTEADOS
C6: PARECERISTAS HABILITADOS
C7: JÁ SORTEADO | D7: SIM
C8: NO BANCO ATUALMENTE | D8: SIM
C9: SORTEIOS | D9: INCENTIVO FISCAL
C11: RESPONDEU O FORMULÁRIO | D11: SIM
C15: ="SORTEIO PARA " & D9 -> SORTEIO PARA INCENTIVO FISCAL
C16: ="Área: " & D2 & " Segmento: " & D3 -> Área: PATRIMÔNIO CULTURAL Segmento: D
C17: =IFERROR(INDEX('SEGMENTOS IMPRIMIR'!D:D,MATCH(SORTEIO!D2&"-"&SORTEIO!D3,'SEGMENTOS IMPRIMIR'!C:C,0)),"") -> d) intervenções de conservação, restauro de bens imóveis tombados ou protegidos por outras formas de acautelamento
C20: PARECERISTA | D20: ="SORTEIO - " &D9 -> SORTEIO - INCENTIVO FISCAL

Sheet RESULTADO
H2: INCENTIVO FISCAL | N2: INCENTIVO FISCAL | T2: INCENTIVO FISCAL | Z2: INCENTIVO FISCAL | AF2: INCENTIVO FISCAL | AL2: INCENTIVO FISCAL | AR2: INCENTIVO FISCAL | AX2: INCENTIVO FISCAL | BD2: INCENTIVO FISCAL | BJ2: INCENTIVO FISCAL | BP2: INCENTIVO FISCAL | BV2: INCENTIVO FISCAL | CB2: INCENTIVO FISCAL | CH2: INCENTIVO FISCAL | CN2: INCENTIVO FISCAL | CT2: FNC
H4: ARTES CÊNICAS | K4: ARTES CÊNICAS | N4: ARTES CÊNICAS | Q4: ARTES CÊNICAS | T4: ARTES VISUAIS | W4: AUDIOVISUAL | Z4: AUDIOVISUAL | AC4: AUDIOVISUAL | AF4: AUDIOVISUAL | AI4: HUMANIDADES | AL4: HUMANIDADES | AO4: HUMANIDADES | AR4: HUMANIDADES | AU4: MUSEU E MEMÓRIA | AX4: MUSEU E MEMÓRIA | BA4: MUSEU E MEMÓRIA | BD4: MUSEU E MEMÓRIA | BG4: MUSEU E MEMÓRIA | BJ4: MUSEU E MEMÓRIA | BM4: MUSEU E MEMÓRIA | BP4: MUSEU E MEMÓRIA | BS4: MUSEU E MEMÓRIA | BV4: MUSEU E MEMÓRIA | BY4: MÚSICA | CB4: MÚSICA | CE4: PATRIMÔNIO CULTURAL | CH4: PATRIMÔNIO CULTURAL | CK4: PATRIMÔNIO CULTURAL | CN4: CONSTRUÇÃO, REFORMA, ADEQUAÇÃO OU MANUTENÇÃO DE EQUIPAMENTOS CULTURAIS | CQ4: CONSTRUÇÃO, REFORMA, ADEQUAÇÃO OU MANUTENÇÃO DE EQUIPAMENTOS CULTURAIS | CT4: TODAS ÁREAS
H5: SEGMENTO A | K5: SEGMENTO B | N5: SEGMENTO C | Q5: SEGMENTO D | T5: SEGMENTO A,B,C,D,E | W5: SEGMENTO A | Z5: SEGMENTO B | AC5: SEGMENTO C | AF5: SEGMENTO D | AI5: SEGMENTO A | AL5: SEGMENTO B | AO5: SEGMENTO C | AR5: SEGMENTO D | AU5: SEGMENTO A | AX5: SEGMENTO B | BA5: SEGMENTO C | BD5: SEGMENTO D | BG5: SEGMENTO E | BJ5: SEGMENTO F | BM5: SEGMENTO G | BP5: SEGMENTO H | BS5: SEGMENTO I | BV5: SEGMENTO J | BY5: SEGMENTO A | CB5: SEGMENTO B | CE5: SEGMENTO A | CH5: SEGMENTO B | CK5: SEGMENTO D | CN5: SEGMENTO A | CQ5: SEGMENTO B | CT5: TODOS SEGMENTO
H6: =IFERROR(INDEX('SEGMENTOS IMPRIMIR'!D:D,MATCH("ARTES CÊNICAS-A",'SEGMENTOS IMPRIMIR'!C:C,0)),"") -> CIRCO | K6: =IFERROR(INDEX('SEGMENTOS IMPRIMIR'!D:D,MATCH("ARTES CÊNICAS-B",'SEGMENTOS IMPRIMIR'!C:C,0)),"") -> DANÇA | L6: =IFERROR(INDEX('SEGMENTOS IMPRIMIR'!D:D,MATCH("ARTES CÊNICAS-B",'SEGMENTOS IMPRIMIR'!C:C,0)),"") -> DANÇA | N6: =IFERROR(INDEX('SEGMENTOS IMPRIMIR'!D:D,MATCH("ARTES CÊNICAS-C",'SEGMENTOS IMPRIMIR'!C:C,0)),"") -> TEATRO | O6: =IFERROR(INDEX('SEGMENTOS IMPRIMIR'!D:D,MATCH("ARTES CÊNICAS-C",'SEGMENTOS IMPRIMIR'!C:C,0)),"") -> TEATRO | Q6: =IFERROR(INDEX('SEGMENTOS IMPRIMIR'!D:D,MATCH("ARTES CÊNICAS-D",'SEGMENTOS IMPRIMIR'!C:C,0)),"") -> MANIFESTAÇÕES POPULARES E/OU FESTIVIDADES REGIONAIS DE CARÁTER CÊNICO E MUSICAL | R6: =IFERROR(INDEX('SEGMENTOS IMPRIMIR'!D:D,MATCH("ARTES CÊNICAS-D",'SEGMENTOS IMPRIMIR'!C:C,0)),"") -> MANIFESTAÇÕES POPULARES E/OU FESTIVIDADES REGIONAIS DE CARÁTER CÊNICO E MUSICAL | T6: =IFERROR(INDEX('SEGMENTOS IMPRIMIR'!D:D,MATCH("ARTES VISUAIS-A",'SEGMENTOS IMPRIMIR'!C:C,0)),"") -> (a. Criação, curadoria, produção de obras e montagens de exposição em quaisquer suportes: pintura, desenho, gravura, fotografia, escultura, objeto, arquitetura, grafite, instalação, performances, moda, videoarte, artes digitais, arte eletrônica, arte cibernética, artes gráficas, design e artesanato; b. Feiras, mostras, circuitos artísticos no campo das artes visuais; c. Formação: desenvolvimento de projetos pedagógicos, cursos, seminários, oficinas e palestras, dentre outras ações educativas; d. Pesquisa e publicações da área; e. Curadoria ou gestão de galerias, ateliês, escolas de artes visuais, dentre outros espaços). | W6: =IFERROR(INDEX('SEGMENTOS IMPRIMIR'!D:D,MATCH("AUDIOVISUAL-A",'SEGMENTOS IMPRIMIR'!C:C,0)),"") -> a) Produção de conteúdo audiovisual de curta e média metragem, incluindo rádios e TVs educativas e culturais; Produção televisiva não seriada de caráter não comercial; Produção de web série; Produção radiofônica de caráter não comercial (inclusive ações de capacitação e treinamento de pessoal, e Ações Educ-Cult/Capacitação/Treinamento de pessoal). | Z6: =IFERROR(INDEX('SEGMENTOS IMPRIMIR'!D:D,MATCH("AUDIOVISUAL-B",'SEGMENTOS IMPRIMIR'!C:C,0)),"") -> b) Difusão de acervo e conteúdo audiovisual nos diversos meios e suportes (inclusive ações de capacitação e treinamento de pessoal, e empreendedorismo cultural). | AC6: =IFERROR(INDEX('SEGMENTOS IMPRIMIR'!D:D,MATCH("AUDIOVISUAL-C",'SEGMENTOS IMPRIMIR'!C:C,0)),"") -> c) Restauração e preservação de acervos audiovisuais; Aquisição de equipamentos para manutenção de acervos audiovisuais públicos e cinematecas; Doação de acervos audiovisuais para cinematecas (inclusive ações de capacitação e treinamento de pessoal, e empreendedorismo cultural). d) Jogos eletrônicos de caráter educativo e cultural; Projetos audiovisuais Trans midiáticos (inclusive ações de capacitação e treinamento de pessoal, e empreendedorismo cultural). | AF6: =IFERROR(INDEX('SEGMENTOS IMPRIMIR'!D:D,MATCH("AUDIOVISUAL-D",'SEGMENTOS IMPRIMIR'!C:C,0)),"") -> d) Jogos eletrônicos de caráter educativo e cultural; Projetos audiovisuais Trans midiáticos (inclusive ações de capacitação e treinamento de pessoal, e empreendedorismo cultural). | AI6: =IFERROR(INDEX('SEGMENTOS IMPRIMIR'!D:D,MATCH("HUMANIDADES-A",'SEGMENTOS IMPRIMIR'!C:C,0)),"") -> a) Livros, periódicos, publicações e obras de referência (impressos ou eletrônicos, de valor artístico, literário, humanístico ou de filologia). | AL6: =IFERROR(INDEX('SEGMENTOS IMPRIMIR'!D:D,MATCH("HUMANIDADES-B",'SEGMENTOS IMPRIMIR'!C:C,0)),"") -> b) Manutenção, preservação, restauração de acervos bibliográficos e arquivísticos (compreendidos por livros e outras tipologias documentais, impressos ou eletrônicos, de valor artístico, literário, humanístico ou de filologia). | AO6: =IFERROR(INDEX('SEGMENTOS IMPRIMIR'!D:D,MATCH("HUMANIDADES-C",'SEGMENTOS IMPRIMIR'!C:C,0)),"") -> c) Eventos e festivais literários, ações educativo-culturais, de formação e capacitação, voltados para o empreendedorismo cultural, a promoção do livro e da criação literária, e para o incentivo à leitura. | AR6: =IFERROR(INDEX('SEGMENTOS IMPRIMIR'!D:D,MATCH("HUMANIDADES-D",'SEGMENTOS IMPRIMIR'!C:C,0)),"") -> d) Empreendedorismo cultural e ações de capacitação, treinamento de pessoal, oficinas e aquisição de equipamentos, doação e aquisição de acervos que tenham como finalidade a manutenção de acervos de bibliotecas públicas, museus, arquivos públicos e cinematecas. | AU6: =IFERROR(INDEX('SEGMENTOS IMPRIMIR'!D:D,MATCH("MUSEU E MEMÓRIA-A",'SEGMENTOS IMPRIMIR'!C:C,0)),"") -> a) Doação ou aquisição de acervos para museus e instituições de preservação da memória. | AX6: =IFERROR(INDEX('SEGMENTOS IMPRIMIR'!D:D,MATCH("MUSEU E MEMÓRIA-B",'SEGMENTOS IMPRIMIR'!C:C,0)),"") -> b) Preservação, restauração, conservação, identificação, registro e promoção. | BA6: =IFERROR(INDEX('SEGMENTOS IMPRIMIR'!D:D,MATCH("MUSEU E MEMÓRIA-C",'SEGMENTOS IMPRIMIR'!C:C,0)),"") -> c) Documentação e digitalização de acervos; Sistemas de informações. | BD6: =IFERROR(INDEX('SEGMENTOS IMPRIMIR'!D:D,MATCH("MUSEU E MEMÓRIA-D",'SEGMENTOS IMPRIMIR'!C:C,0)),"") -> d) Ações de segurança para preservação de acervos. | BG6: =IFERROR(INDEX('SEGMENTOS IMPRIMIR'!D:D,MATCH("MUSEU E MEMÓRIA-E",'SEGMENTOS IMPRIMIR'!C:C,0)),"") -> e) Planos anuais de atividades e elaboração de planos museológicos. | BJ6: =IFERROR(INDEX('SEGMENTOS IMPRIMIR'!D:D,MATCH("MUSEU E MEMÓRIA-F",'SEGMENTOS IMPRIMIR'!C:C,0)),"") -> f) Exposições realizadas em museus, exposições organizadas com acervos de museus e museografia. | BM6: =IFERROR(INDEX('SEGMENTOS IMPRIMIR'!D:D,MATCH("MUSEU E MEMÓRIA-G",'SEGMENTOS IMPRIMIR'!C:C,0)),"") -> g) Pesquisa; Sistematização de informações. | BP6: =IFERROR(INDEX('SEGMENTOS IMPRIMIR'!D:D,MATCH("MUSEU E MEMÓRIA-H",'SEGMENTOS IMPRIMIR'!C:C,0)),"") -> h) Ação educativo-cultural, inclusive seminários, congressos e palestras. | BS6: =IFERROR(INDEX('SEGMENTOS IMPRIMIR'!D:D,MATCH("MUSEU E MEMÓRIA-I",'SEGMENTOS IMPRIMIR'!C:C,0)),"") -> i) Ações de capacitação e treinamento de pessoal. | BV6: =IFERROR(INDEX('SEGMENTOS IMPRIMIR'!D:D,MATCH("MUSEU E MEMÓRIA-J",'SEGMENTOS IMPRIMIR'!C:C,0)),"") -> j) Aquisição de equipamentos para a preservação e manutenção de acervos. | BY6: =IFERROR(INDEX('SEGMENTOS IMPRIMIR'!D:D,MATCH("MÚSICA-A",'SEGMENTOS IMPRIMIR'!C:C,0)),"") -> A) MÚSICA DE CONCERTO (a. Composição, arranjo e execução de obra musical para orquestra, bandas, grupos de câmara, dentre outras formações musicais; b. Produção, registro e difusão musical em diversos meios e suportes físicos e digitais; c. Pesquisa, memória e publicação na área; d. Formação: desenvolvimento de projetos pedagógicos, cursos, oficinas, residências, intercâmbios, dentre outras ações educativas. E. Difusão: mostras, festivais e circuitos de shows; f. Gestão e manutenção de bandas e grupos musicais; g. Gestão e manutenção de estúdios e demais espaços musicais). | CB6: =IFERROR(INDEX('SEGMENTOS IMPRIMIR'!D:D,MATCH("MÚSICA-B",'SEGMENTOS IMPRIMIR'!C:C,0)),"") -> B) MÚSICA POPULAR (a. Composição, arranjo e execução de obra musical para orquestras, bandas, grupos de câmara, dentre outras formações musicais; b. Produção, registro e difusão musical em diversos meios e suportes físicos e digitais; c. Pesquisa, memória e publicação na área; d. Formação: desenvolvimento de projetos pedagógicos, cursos, oficinas, residências, intercâmbios, dentre outras ações educativas. E. Difusão: mostras, festivais e circuitos de shows; f. Gestão e manutenção de bandas e grupos musicais; g. Gestão e manutenção de estúdios e demais espaços musicais; h. Música regional). | CE6: =IFERROR(INDEX('SEGMENTOS IMPRIMIR'!D:D,MATCH("PATRIMÔNIO CULTURAL-A",'SEGMENTOS IMPRIMIR'!C:C,0)),"") -> a) ações de educação patrimonial | CH6: =IFERROR(INDEX('SEGMENTOS IMPRIMIR'!D:D,MATCH("PATRIMÔNIO CULTURAL-B",'SEGMENTOS IMPRIMIR'!C:C,0)),"") -> b) elaboração de projetos executivos de conservação e restauro de bens imóveis tombados ou protegidos por outras formas de acautelamento | CK6: =IFERROR(INDEX('SEGMENTOS IMPRIMIR'!D:D,MATCH("PATRIMÔNIO CULTURAL-D",'SEGMENTOS IMPRIMIR'!C:C,0)),"") -> d) intervenções de conservação, restauro de bens imóveis tombados ou protegidos por outras formas de acautelamento | CN6: =IFERROR(INDEX('SEGMENTOS IMPRIMIR'!D:D,MATCH("CONSTRUÇÃO, REFORMA, ADEQUAÇÃO OU MANUTENÇÃO DE EQUIPAMENTOS CULTURAIS-A",'SEGMENTOS IMPRIMIR'!C:C,0)),"") -> a) elaboração de projetos executivos de construção, reforma ou adequação de equipamentos culturais de valor arquitetônico não tombados | CQ6: =IFERROR(INDEX('SEGMENTOS IMPRIMIR'!D:D,MATCH("CONSTRUÇÃO, REFORMA, ADEQUAÇÃO OU MANUTENÇÃO DE EQUIPAMENTOS CULTURAIS-B",'SEGMENTOS IMPRIMIR'!C:C,0)),"") -> b) construção, reforma, adequação ou manutenção de equipamentos culturais
H7: 1 | I7: {=_xlfn._xlws.FILTER('LISTAS DE PARTICIPANTES'!B2:B1501, 'LISTAS DE PARTICIPANTES'!U2:U1501 = "ARTES CÊNICAS-A","")} -> ALLAN MOSCON ZAMPERINI | K7: 1 | L7: {=_xlfn._xlws.FILTER('LISTAS DE PARTICIPANTES'!B2:B1501, 'LISTAS DE PARTICIPANTES'!U2:U1501 = "ARTES CÊNICAS-B","")} -> ANA CAROLINE DO ESPIRITO SANTO CHAVES | N7: 1 | O7: {=_xlfn._xlws.FILTER('LISTAS DE PARTICIPANTES'!B2:B1501, 'LISTAS DE PARTICIPANTES'!U2:U1501 = "ARTES CÊNICAS-C","")} -> ADRIANA DE SOUZA RODRIGUES | Q7: 1 | R7: {=_xlfn._xlws.FILTER('LISTAS DE PARTICIPANTES'!B2:B1501, 'LISTAS DE PARTICIPANTES'!U2:U1501 = "ARTES CÊNICAS-D","")} -> ANAMARIA MUHLENBERG DA SILVA | T7: 1 | U7: {=_xlfn._xlws.FILTER('LISTAS DE PARTICIPANTES'!B2:B1501, 'LISTAS DE PARTICIPANTES'!U2:U1501 = "ARTES VISUAIS-A","")} -> ADAUANY PIEVE ZIMOVSKI | W7: 1 | X7: {=_xlfn._xlws.FILTER('LISTAS DE PARTICIPANTES'!B2:B1501, 'LISTAS DE PARTICIPANTES'!U2:U1501 = "AUDIOVISUAL-A","")} -> ALANA TEIXEIRA MENK | Z7: 1 | AA7: {=_xlfn._xlws.FILTER('LISTAS DE PARTICIPANTES'!B2:B1501, 'LISTAS DE PARTICIPANTES'!U2:U1501 = "AUDIOVISUAL-B","")} -> ALEX SANTOS BARBOSA | AC7: 1 | AD7: {=_xlfn._xlws.FILTER('LISTAS DE PARTICIPANTES'!B2:B1501, 'LISTAS DE PARTICIPANTES'!U2:U1501 = "AUDIOVISUAL-C","")} -> ADRIANA CARNEIRO DE SOUZA | AF7: 1 | AG7: {=_xlfn._xlws.FILTER('LISTAS DE PARTICIPANTES'!B2:B1501, 'LISTAS DE PARTICIPANTES'!U2:U1501 = "AUDIOVISUAL-D","")} -> ARMANDO BULCÃO | AI7: 1 | AJ7: {=_xlfn._xlws.FILTER('LISTAS DE PARTICIPANTES'!B2:B1501, 'LISTAS DE PARTICIPANTES'!U2:U1501 = "HUMANIDADES-A","")} -> ALESSANDRA PIRRONCELLO BUCHOLDZ | AL7: 1 | AM7: {=_xlfn._xlws.FILTER('LISTAS DE PARTICIPANTES'!B2:B1501, 'LISTAS DE PARTICIPANTES'!U2:U1501 = "HUMANIDADES-B","")} -> ANA BEATRIS BATISTA DA SILVA | AO7: 1 | AP7: {=_xlfn._xlws.FILTER('LISTAS DE PARTICIPANTES'!B2:B1501, 'LISTAS DE PARTICIPANTES'!U2:U1501 = "HUMANIDADES-C","")} -> ALINNE ANDRADE DE ARAÚJO | AR7: 1 | AS7: {=_xlfn._xlws.FILTER('LISTAS DE PARTICIPANTES'!B2:B1501, 'LISTAS DE PARTICIPANTES'!U2:U1501 = "HUMANIDADES-D","")} -> ANA PAULA MACIEL SOUKEF MENDES | AU7: 1 | AV7: {=_xlfn._xlws.FILTER('LISTAS DE PARTICIPANTES'!B2:B1501, 'LISTAS DE PARTICIPANTES'!U2:U1501 = "MUSEU E MEMÓRIA-A","")} -> IDALINA SOUZA RIBEIRO DA SILVA | AX7: 1 | AY7: {=_xlfn._xlws.FILTER('LISTAS DE PARTICIPANTES'!B2:B1501, 'LISTAS DE PARTICIPANTES'!U2:U1501 = "MUSEU E MEMÓRIA-B","")} -> ANDRÉ ALEXANDRE MENDES FREITAS | BA7: 1 | BB7: {=_xlfn._xlws.FILTER('LISTAS DE PARTICIPANTES'!B2:B1501, 'LISTAS DE PARTICIPANTES'!U2:U1501 = "MUSEU E MEMÓRIA-C","")} -> MARIA EDUARDA VIEIRA WENDHAUSEN | BD7: 1 | BE7: {=_xlfn._xlws.FILTER('LISTAS DE PARTICIPANTES'!B2:B1501, 'LISTAS DE PARTICIPANTES'!U2:U1501 = "MUSEU E MEMÓRIA-D","")} -> ANA PAULA FERREIRA DE BRITO | BG7: 1 | BH7: {=_xlfn._xlws.FILTER('LISTAS DE PARTICIPANTES'!B2:B1501, 'LISTAS DE PARTICIPANTES'!U2:U1501 = "MUSEU E MEMÓRIA-E","")} -> BÁRBARA LUNA DE ARAÚJO | BJ7: 1 | BK7: {=_xlfn._xlws.FILTER('LISTAS DE PARTICIPANTES'!B2:B1501, 'LISTAS DE PARTICIPANTES'!U2:U1501 = "MUSEU E MEMÓRIA-F","")} -> MICHELE BETE PETRY | BM7: 1 | BN7: {=_xlfn._xlws.FILTER('LISTAS DE PARTICIPANTES'!B2:B1501, 'LISTAS DE PARTICIPANTES'!U2:U1501 = "MUSEU E MEMÓRIA-G","")} -> ANDERSON LUIZ DA SILVA DE OLIVEIRA | BP7: 1 | BQ7: {=_xlfn._xlws.FILTER('LISTAS DE PARTICIPANTES'!B2:B1501, 'LISTAS DE PARTICIPANTES'!U2:U1501 = "MUSEU E MEMÓRIA-H","")} -> AUANA LAMEIRAS DINIZ | BS7: 1 | BT7: {=_xlfn._xlws.FILTER('LISTAS DE PARTICIPANTES'!B2:B1501, 'LISTAS DE PARTICIPANTES'!U2:U1501 = "MUSEU E MEMÓRIA-I","")} -> FELÍNIO DE SOUSA FREITAS | BV7: 1 | BW7: {=_xlfn._xlws.FILTER('LISTAS DE PARTICIPANTES'!B2:B1501, 'LISTAS DE PARTICIPANTES'!U2:U1501 = "MUSEU E MEMÓRIA-J","")} -> EDUARDO FERREIRA MOURA | BY7: 1 | BZ7: {=_xlfn._xlws.FILTER('LISTAS DE PARTICIPANTES'!B2:B1501, 'LISTAS DE PARTICIPANTES'!U2:U1501 = "MÚSICA-A","")} -> BARBARA MANUELA SILVA DOS SANTOS | CB7: 1 | CC7: {=_xlfn._xlws.FILTER('LISTAS DE PARTICIPANTES'!B2:B1501, 'LISTAS DE PARTICIPANTES'!U2:U1501 = "MÚSICA-B","")} -> ALCIDÉIA MARGARETH ROCHA TRANCOSO | CE7: {=_xlfn.SEQUENCE(35)} -> 1 | CF7: {=_xlfn._xlws.FILTER('LISTAS DE PARTICIPANTES'!B2:B1501, 'LISTAS DE PARTICIPANTES'!U2:U1501 = "PATRIMÔNIO CULTURAL-A","")} -> ALEXANDRA JACKLINE VASCONCELOS SANTOS | CH7: {=_xlfn.SEQUENCE(35)} -> 1 | CI7: {=_xlfn._xlws.FILTER('LISTAS DE PARTICIPANTES'!B2:B1501, 'LISTAS DE PARTICIPANTES'!U2:U1501 = "PATRIMÔNIO CULTURAL-B","")} -> GUADALUPE DO NASCIMENTO CAMPOS | CK7: {=_xlfn.SEQUENCE(35)} -> 1 | CL7: {=_xlfn._xlws.FILTER('LISTAS DE PARTICIPANTES'!B2:B1501, 'LISTAS DE PARTICIPANTES'!U2:U1501 = "PATRIMÔNIO CULTURAL-D","")} -> ALINE FIGUEIREDO | CN7: {=_xlfn.SEQUENCE(35)} -> 1 | CO7: {=_xlfn._xlws.FILTER('LISTAS DE PARTICIPANTES'!B2:B1501, 'LISTAS DE PARTICIPANTES'!U2:U1501 = "CONSTRUÇÃO, REFORMA, ADEQUAÇÃO OU MANUTENÇÃO DE EQUIPAMENTOS CULTURAIS-A","")} -> MARCELINO EPAMINONDAS PORTO | CQ7: {=_xlfn.SEQUENCE(35)} -> 1 | CR7: {=_xlfn._xlws.FILTER('LISTAS DE PARTICIPANTES'!B2:B1501, 'LISTAS DE PARTICIPANTES'!U2:U1501 = "CONSTRUÇÃO, REFORMA, ADEQUAÇÃO OU MANUTENÇÃO DE EQUIPAMENTOS CULTURAIS-B","")} -> ADILON MARQUES DOS SANTOS | CT7: {=_xlfn.SEQUENCE(35)} -> 1 | CU7: {=_xlfn._xlws.FILTER('LISTAS DE PARTICIPANTES'!B2:B1501, 'LISTAS DE PARTICIPANTES'!U2:U1501 = "FNC","")} -> ADRIANA VELOSO MEIRELES
H8: 2 | I8: ANANDA STUCKER | K8: 2 | L8: ANDRÉIA OLIVEIRA ARAÚJO DA SILVA | N8: 2 | O8: AMILTON MONTEIRO DE OLIVEIRA FILHO | Q8: 2 | R8: CARLOS DE BARROS SUGAWARA | T8: 2 | U8: ARESSA EGLY RIOS DA SILVEIRA | W8: 2 | X8: CLARA ANTUNES DE FARIA | Z8: 2 | AA8: ANA PAULA GONÇALVES NOGUEIRA | AC8: 2 | AD8: ALDRIN VIANNA DE SANTANA | AF8: 2 | AG8: CARLOS EDUARDO TSUDA | AI8: 2 | AJ8: ANNA DE CARVALHO CAVALCANTI | AL8: 2 | AM8: DIOCELIO ADELINO DOS SANTOS | AO8: 2 | AP8: CATERINA GABRIELLA GALIOTTO PILOTO | AR8: 2 | AS8: EMERSON DE PAULA SILVA | AU8: 2 | AV8: SARA MORENO ROCHA | AX8: 2 | AY8: REBECA DEBORA FINGUERMANN | BA8: 2 | BB8: PATRÍCIA PAULA LIMA | BD8: 2 | BE8: NATÁLIA CRISTINA BATISTA | BG8: 2 | BH8: CRISTINA PEREIRA NUNES | BJ8: 2 | BK8: PATRÍCIA PIZZIGATTI KLEIN | BM8: 2 | BN8: RUBEN RYAN GOMES DE OLIVEIRA | BP8: 2 | BQ8: JACQUELINE CUSTÓDIO | BS8: 2 | BT8: MURILLO PEREIRA DE JESUS | BV8: 2 | BW8: LUCIANA JUSTINIANI HEES | BY8: 2 | BZ8: BRUNO ROSA DO NASCIMENTO | CB8: 2 | CC8: ALESSANDRA DA SILVA DOS SANTOS | CE8: 2 | CF8: LENNON MARTINS SOUSA | CH8: 2 | CI8: VIRGINIA GOMES DE LUCA | CK8: 2 | CL8: FABIULA DOMINGUES | CN8: 2 | CO8: TATIANA DE CARVALHO COSTA | CQ8: 2 | CR8: BRUNA PEREIRA MAGALHÃES | CT8: 2 | CU8: ANA LÚCIA VASCONCELLOS QUEIROZ
H9: 3 | I9: BERNARDO STUMPF RODRIGUES | K9: 3 | L9: CLAUDIO AUGUSTO LOBO DA SILVA | N9: 3 | O9: ANA CAROLINA STRAPAÇÃO GUEDES VIANNA | Q9: 3 | R9: CAROLINA DOS SANTOS BARBOSA | T9: 3 | U9: BRENO NASCIMENTO NUNES GONÇALVES | W9: 3 | X9: DANILO DAHER ALVARENGA | Z9: 3 | AA9: BRUNO EMILIANO CAMPOLINA DE ARAÚJO | AC9: 3 | AD9: EDSAMY DANTAS DA SILVA | AF9: 3 | AG9: CAROLINA MARQUES HENRIQUES FICHEIRA | AI9: 3 | AJ9: CLEILSON QUEIROZ LOPES | AL9: 3 | AM9: EBILLA DREID SANTOS DE CARVALHO | AO9: 3 | AP9: LEANDRO EUSTÁQUIO GOMES | AR9: 3 | AS9: JOSSIER SALES BOLEÃO | AU9: 3 | AX9: 3 | BA9: 3 | BD9: 3 | BG9: 3 | BH9: DÉBORA REGINA BRUNO | BJ9: 3 | BM9: 3 | BP9: 3 | BS9: 3 | BV9: 3 | BW9: VERA LÚCIA CARDIM DE CERQUEIRA | BY9: 3 | BZ9: CARLOS CÉSAR DA COSTA BELÉM | CB9: 3 | CC9: ÁLVARO SANTI | CE9: 3 | CF9: LUCINETE APARECIDA DE MORAIS | CH9: 3 | CK9: 3 | CL9: THIAGO SANTOS MATHIAS DA FONSECA | CN9: 3 | CO9: VITOR HALFEN MOREIRA | CQ9: 3 | CR9: DANIELA MONTEIRO LIMA VIANA DANTAS | CT9: 3 | CU9: AUGUSTO ZEISER
H10: 4 | I10: CARLOS RENATO DOS SANTOS | K10: 4 | L10: JUSSARA BELCHIOR SANTOS | N10: 4 | O10: ANDRÉ GRACINDO GOMES | Q10: 4 | R10: GRAZIELLE ALVES SILVA COUTINHO | T10: 4 | U10: BRUNO SAITER ZORZAL | W10: 4 | X10: DIEGO DA SILVA TAVARES | Z10: 4 | AA10: DANIEL PAIVA DE MACÊDO JÚNIOR | AC10: 4 | AD10: FABRICIO DE ALBUQUERQUE SORTICA | AF10: 4 | AG10: DULCE ELIANE RIBEIRO MALTEZ | AI10: 4 | AJ10: DARNES DA SILVA PORTO | AL10: 4 | AM10: ISABEL CRISTINA ALVES | AO10: 4 | AP10: LUCAS DINIZ DE MELO VIEIRA | AR10: 4 | AS10: JULIANA DE SOUSA MARTINS PEREIRA | AU10: 4 | AX10: 4 | BA10: 4 | BD10: 4 | BG10: 4 | BH10: DENISE ADRIANA ARGENTA | BJ10: 4 | BM10: 4 | BP10: 4 | BS10: 4 | BV10: 4 | BY10: 4 | BZ10: CLÁUDIA CAVALIERE DMUTTI | CB10: 4 | CC10: ANNA ROSINA POPP TORRES | CE10: 4 | CF10: MARCELA CRISTINA BETTEGA | CH10: 4 | CK10: 4 | CN10: 4 | CQ10: 4 | CR10: JOÃO PEDRO DE SOUSA CORDEIRO | CT10: 4 | CU10: CRISTINA GOMES
H11: 5 | I11: LUCIANA SCHWINDEN | K11: 5 | L11: LIDUÍNA MOREIRA LINS | N11: 5 | O11: ANDRÉA MARTINS DE CARVALHO | Q11: 5 | R11: LAURA INÊS SADA HADDAD | T11: 5 | U11: CRISTINEIDE LIMA GUIMARÃES | W11: 5 | X11: FRANK ANDREI GONÇALVES MORA | Z11: 5 | AA11: DENISE MARIA FREIRIA DA MATTA | AC11: 5 | AF11: 5 | AG11: VICTOR LUIZ CASAGRANDE MALEZON | AI11: 5 | AJ11: FABIOLA BASTOS NOTARI | AL11: 5 | AM11: LUANA TEIXEIRA | AO11: 5 | AP11: LUIZ GUSTAVO DALLA DÉA | AR11: 5 | AS11: KARLA DANIELLE SANTOS DE OLIVEIRA | AU11: 5 | AX11: 5 | BA11: 5 | BD11: 5 | BG11: 5 | BH11: HELENA TAVARES GONÇALVES | BJ11: 5 | BM11: 5 | BP11: 5 | BS11: 5 | BV11: 5 | BY11: 5 | BZ11: DANIEL BENDER LUDWIG | CB11: 5 | CC11: BEATRIZ DE SOUZA BESSA | CE11: 5 | CF11: MARIA BÁRBARA VIEIRA FALCÓN | CH11: 5 | CK11: 5 | CN11: 5 | CQ11: 5 | CR11: JOYCE DE ARAUJO MENDONÇA | CT11: 5 | CU11: DANIEL FERNANDO MASIÁ HERRERA
H12: 6 | I12: MARIANA CARAMORE FAVA | K12: 6 | L12: MAURO CESAR ALVES | N12: 6 | O12: ANDRESSA CHRISTINY DO CARMO BATISTA | Q12: 6 | R12: MARIA EMILIA FAGANELLO | T12: 6 | U12: DÉBORA LADISLAU DE MEDEIROS | W12: 6 | X12: GABRIELA ALBUQUERQUE SABOYA | Z12: 6 | AA12: LUÍS FELIPE DUARTE FLORES | AC12: 6 | AF12: 6 | AI12: 6 | AJ12: MARIA DAS GRAÇAS SILVA MONTEIRO | AL12: 6 | AM12: MARCELO DE TRÓI | AO12: 6 | AP12: MAYANE BATISTA LIMA | AR12: 6 | AS12: MARCELO JUCHEM | AU12: 6 | AX12: 6 | BA12: 6 | BD12: 6 | BG12: 6 | BJ12: 6 | BM12: 6 | BP12: 6 | BS12: 6 | BV12: 6 | BY12: 6 | BZ12: DIEGO LUIS DA SILVA MOZER | CB12: 6 | CC12: BIANCA BARROSO CALCAGNI | CE12: 6 | CF12: VÂNIA CRISTINA FEITOSA | CH12: 6 | CK12: 6 | CN12: 6 | CQ12: 6 | CR12: MARIA ENEIDA AMARAL | CT12: 6 | CU12: ERIK DUANE FONSECA HEWITT
H13: 7 | I13: THAYSE LUCAS GUEDES DE SOUZA | K13: 7 | L13: NATHÁLIA MASSA LOURENÇO ALVES | N13: 7 | O13: ANNA CAROLINA GONÇALVES MAGALHÃES | Q13: 7 | R13: MARINA VIEIRA DE SOUZA | T13: 7 | U13: ELAINE REGINA STANKIWICH | W13: 7 | X13: JOÃO DANIEL RAMOS | Z13: 7 | AA13: SIDNEI DE CARVALHO PEREIRA JUNIOR | AC13: 7 | AF13: 7 | AI13: 7 | AJ13: MARIA FERNANDA SILVA AZEVEDO | AL13: 7 | AM13: PAULA PFLUGER ZANARDI | AO13: 7 | AP13: VALSINEIRE BUENO DE CASTRO | AR13: 7 | AS13: REBECCA LÚCIA CRUZ DE MENEZES | AU13: 7 | AX13: 7 | BA13: 7 | BD13: 7 | BG13: 7 | BJ13: 7 | BM13: 7 | BP13: 7 | BS13: 7 | BV13: 7 | BY13: 7 | BZ13: EDUARDO CRUZ LEAL | CB13: 7 | CC13: CARLOS GOMES DE OLIVEIRA FILHO | CE13: 7 | CH13: 7 | CK13: 7 | CN13: 7 | CQ13: 7 | CR13: RICARDO BRAUDES COELHO | CT13: 7 | CU13: FABIANA NOGUEIRA GUZMAN
H14: 8 | I14: ZULEICA DE ALENCAR ARARIPE PINHEIRO ALVES | K14: 8 | L14: ROBERTO JERÔNIMO DA SILVA | N14: 8 | O14: CARLOS HENRIQUE PIMENTEL LUIZ | Q14: 8 | R14: RICARDO ANDRÉ SANTANA BESSA | T14: 8 | U14: ELINALDO JOSÉ RODRIGUES | W14: 8 | X14: LEANDRO AFONSO GUIMARÃES | Z14: 8 | AA14: TATIANA MARTINELLI LOUREIRO | AC14: 8 | AF14: 8 | AI14: 8 | AJ14: MORGANA MARIA PESSOA SOARES | AL14: 8 | AM14: RAVEL ANDRADE DE SOUSA | AO14: 8 | AR14: 8 | AS14: TÂNIA MARIA SEABRA ROCHA DA SILVEIRA | AU14: 8 | AX14: 8 | BA14: 8 | BD14: 8 | BG14: 8 | BJ14: 8 | BM14: 8 | BP14: 8 | BS14: 8 | BV14: 8 | BY14: 8 | BZ14: EMANUEL MAURÍCIO DE MENESES | CB14: 8 | CC14: FÁBIO MENDES DA SILVA | CE14: 8 | CH14: 8 | CK14: 8 | CN14: 8 | CQ14: 8 | CT14: 8 | CU14: JAIME ABRAM LERNER
H15: 9 | K15: 9 | L15: TATYANA ELIZABETTE DA SILVA VERISSIMO | N15: 9 | O15: CAROLINE DAIANE ARAÚJO DE OLIVEIRA DEVIDES | Q15: 9 | T15: 9 | U15: JAQUELINE FONTES BELTRAME | W15: 9 | X15: SANTIAGO MACHADO DELLAPE | Z15: 9 | AA15: THEO COSTA DUARTE | AC15: 9 | AF15: 9 | AI15: 9 | AL15: 9 | AO15: 9 | AR15: 9 | AU15: 9 | AX15: 9 | BA15: 9 | BD15: 9 | BG15: 9 | BJ15: 9 | BM15: 9 | BP15: 9 | BS15: 9 | BV15: 9 | BY15: 9 | BZ15: ERICKINSON BEZERRA DE LIMA | CB15: 9 | CC15: FABIO PEREIRA BARROS | CE15: 9 | CH15: 9 | CK15: 9 | CN15: 9 | CQ15: 9 | CT15: 9 | CU15: JOANA DOS SANTOS MARTINS
H16: 10 | K16: 10 | L16: VANIA CRISTINA RIBEIRO | N16: 10 | O16: CLAUDIO DE TOLEDO FONTANA | Q16: 10 | T16: 10 | U16: KARLA ROSSANA FRANCELINO RIBEIRO NORONHA | W16: 10 | X16: TATHIANNE CARLA ALMEIDA QUESADO | Z16: 10 | AC16: 10 | AF16: 10 | AI16: 10 | AL16: 10 | AO16: 10 | AR16: 10 | AU16: 10 | AX16: 10 | BA16: 10 | BD16: 10 | BG16: 10 | BJ16: 10 | BM16: 10 | BP16: 10 | BS16: 10 | BV16: 10 | BY16: 10 | BZ16: FABIO LUIZ CARNEIRO MOURILHE SILVA | CB16: 10 | CC16: FABÍULA KAREN PARREIRA DE SOUZA E SILVA | CE16: 10 | CH16: 10 | CK16: 10 | CN16: 10 | CQ16: 10 | CT16: 10 | CU16: JOSÉ CLÁUDIO MARCONCINE
H17: 11 | K17: 11 | N17: 11 | O17: DANIELLE MARTINS DE FARIAS | Q17: 11 | T17: 11 | U17: KELLY FERREIRA DE LIMA | W17: 11 | Z17: 11 | AC17: 11 | AF17: 11 | AI17: 11 | AL17: 11 | AO17: 11 | AR17: 11 | AU17: 11 | AX17: 11 | BA17: 11 | BD17: 11 | BG17: 11 | BJ17: 11 | BM17: 11 | BP17: 11 | BS17: 11 | BV17: 11 | BY17: 11 | BZ17: FELIPE VALLE DA CUNHA | CB17: 11 | CC17: FERNANDO ANTONIO DE ALBERGARIA LOMARDO | CE17: 11 | CH17: 11 | CK17: 11 | CN17: 11 | CQ17: 11 | CT17: 11 | CU17: JULIANA CUNHA PASSOS
H18: 12 | K18: 12 | N18: 12 | O18: DENISE IVONE MOREIRA | Q18: 12 | T18: 12 | U18: MARIA SÍLVIA BIGARELI DE MENEZES | W18: 12 | Z18: 12 | AC18: 12 | AF18: 12 | AI18: 12 | AL18: 12 | AO18: 12 | AR18: 12 | AU18: 12 | AX18: 12 | BA18: 12 | BD18: 12 | BG18: 12 | BJ18: 12 | BM18: 12 | BP18: 12 | BS18: 12 | BV18: 12 | BY18: 12 | BZ18: GABRIELA SOARES DE ARAUJO GÓES | CB18: 12 | CC18: FREDERICO AUGUSTO VIANNA DE ASSIS PESSOA | CE18: 12 | CH18: 12 | CK18: 12 | CN18: 12 | CQ18: 12 | CT18: 12 | CU18: JULIANA SOARES ROCHA
H19: 13 | K19: 13 | N19: 13 | O19: FERNANDA TEIXEIRA GAMA | Q19: 13 | T19: 13 | U19: RENATO VIEIRA DE LIMA | W19: 13 | Z19: 13 | AC19: 13 | AF19: 13 | AI19: 13 | AL19: 13 | AO19: 13 | AR19: 13 | AU19: 13 | AX19: 13 | BA19: 13 | BD19: 13 | BG19: 13 | BJ19: 13 | BM19: 13 | BP19: 13 | BS19: 13 | BV19: 13 | BY19: 13 | BZ19: GILBERTO LIMA DE PAIVA JUNIOR | CB19: 13 | CC19: GISELE ANDRÉIA DILLY DE SÁ MAGRISSO | CE19: 13 | CH19: 13 | CK19: 13 | CN19: 13 | CQ19: 13 | CT19: 13 | CU19: LÍGIA MARINA DE ALMEIDA
H20: 14 | K20: 14 | N20: 14 | O20: FERNANDO CÉSAR KINAS | Q20: 14 | T20: 14 | U20: RICARDO JOSÉ PERES | W20: 14 | Z20: 14 | AC20: 14 | AF20: 14 | AI20: 14 | AL20: 14 | AO20: 14 | AR20: 14 | AU20: 14 | AX20: 14 | BA20: 14 | BD20: 14 | BG20: 14 | BJ20: 14 | BM20: 14 | BP20: 14 | BS20: 14 | BV20: 14 | BY20: 14 | BZ20: GILBERTO RODRIGUES FIGUEIREDO | CB20: 14 | CC20: GUILHERME LAUREANO COELHO DE MOURA | CE20: 14 | CH20: 14 | CK20: 14 | CN20: 14 | CQ20: 14 | CT20: 14 | CU20: LÍVIA MARCELA DA SILVA UCHÔA
H21: 15 | K21: 15 | N21: 15 | O21: FRANCIELE MACHADO DE AGUIAR | Q21: 15 | T21: 15 | U21: RODRIGO LOURENÇO KAMINSKI | W21: 15 | Z21: 15 | AC21: 15 | AF21: 15 | AI21: 15 | AL21: 15 | AO21: 15 | AR21: 15 | AU21: 15 | AX21: 15 | BA21: 15 | BD21: 15 | BG21: 15 | BJ21: 15 | BM21: 15 | BP21: 15 | BS21: 15 | BV21: 15 | BY21: 15 | BZ21: GLACIMERE BRITTO DE OLIVEIRA PIMENTA | CB21: 15 | CC21: KARINA PEREIRA DE FIGUEIREDO SOUZA PETRACCA | CE21: 15 | CH21: 15 | CK21: 15 | CN21: 15 | CQ21: 15 | CT21: 15 | CU21: LUCAS MARTINS NÉIA
H22: 16 | K22: 16 | N22: 16 | O22: GIOVANNA MOMENTÉ ARAUJO QUEIROZ | Q22: 16 | T22: 16 | U22: TARSILA GUEDES RAPASSI | W22: 16 | Z22: 16 | AC22: 16 | AF22: 16 | AI22: 16 | AL22: 16 | AO22: 16 | AR22: 16 | AU22: 16 | AX22: 16 | BA22: 16 | BD22: 16 | BG22: 16 | BJ22: 16 | BM22: 16 | BP22: 16 | BS22: 16 | BV22: 16 | BY22: 16 | BZ22: GUILHERME AUGUSTO DE ÁVILA | CB22: 16 | CC22: KARINE LEGRAND | CE22: 16 | CH22: 16 | CK22: 16 | CN22: 16 | CQ22: 16 | CT22: 16 | CU22: MARTA ALARCON CHAMARELLI
H23: 17 | K23: 17 | N23: 17 | O23: GIZELA MASCARENHAS DE CARVALHO | Q23: 17 | T23: 17 | U23: THAÍS FERREIRA DE SALES | W23: 17 | Z23: 17 | AC23: 17 | AF23: 17 | AI23: 17 | AL23: 17 | AO23: 17 | AR23: 17 | AU23: 17 | AX23: 17 | BA23: 17 | BD23: 17 | BG23: 17 | BJ23: 17 | BM23: 17 | BP23: 17 | BS23: 17 | BV23: 17 | BY23: 17 | BZ23: JOÃO PEDRO DE QUEIROZ MORALES | CB23: 17 | CC23: KLEUBER DIVINO GARCEZ | CE23: 17 | CH23: 17 | CK23: 17 | CN23: 17 | CQ23: 17 | CT23: 17 | CU23: PAULA ALVES NETTO
H24: 18 | K24: 18 | N24: 18 | O24: JÉSSICA CRUZ FERREIRA | Q24: 18 | T24: 18 | W24: 18 | Z24: 18 | AC24: 18 | AF24: 18 | AI24: 18 | AL24: 18 | AO24: 18 | AR24: 18 | AU24: 18 | AX24: 18 | BA24: 18 | BD24: 18 | BG24: 18 | BJ24: 18 | BM24: 18 | BP24: 18 | BS24: 18 | BV24: 18 | BY24: 18 | BZ24: JULIO CHAGAS PITTHAN | CB24: 18 | CC24: PHILIPE DE CASTRO PASSOS | CE24: 18 | CH24: 18 | CK24: 18 | CN24: 18 | CQ24: 18 | CT24: 18 | CU24: PAULA BELCHIOR DE LIMA BISPO
B25: ARTES CÊNICAS | C25: =COUNTIF('LISTAS DE PARTICIPANTES'!U:U, RESULTADO!B25&"-A")+ COUNTIF('LISTAS DE PARTICIPANTES'!U:U, RESULTADO!B25&"-B")+ COUNTIF('LISTAS DE PARTICIPANTES'!U:U, RESULTADO!B25&"-C")+ COUNTIF('LISTAS DE PARTICIPANTES'!U:U, RESULTADO!B25&"-D")+ COUNTIF('LISTAS DE PARTICIPANTES'!U:U, RESULTADO!B25&"-E")+ COUNTIF('LISTAS DE PARTICIPANTES'!U:U, RESULTADO!B25&"-F")+ COUNTIF('LISTAS DE PARTICIPANTES'!U:U, RESULTADO!B25&"-G")+ COUNTIF('LISTAS DE PARTICIPANTES'!U:U, RESULTADO!B25&"-H")+ COUNTIF('LISTAS DE PARTICIPANTES'!U:U, RESULTADO!B25&"-I")+ COUNTIF('LISTAS DE PARTICIPANTES'!U:U, RESULTADO!B25&"-J")+ COUNTIF('LISTAS DE PARTICIPANTES'!U:U, RESULTADO!B25&"-K")+ COUNTIF('LISTAS DE PARTICIPANTES'!U:U, RESULTADO!B25&"-L") -> 58 | H25: 19 | K25: 19 | N25: 19 | O25: JORDAN MAIA DA SILVA PADILHA | Q25: 19 | T25: 19 | W25: 19 | Z25: 19 | AC25: 19 | AF25: 19 | AI25: 19 | AL25: 19 | AO25: 19 | AR25: 19 | AU25: 19 | AX25: 19 | BA25: 19 | BD25: 19 | BG25: 19 | BJ25: 19 | BM25: 19 | BP25: 19 | BS25: 19 | BV25: 19 | BY25: 19 | BZ25: LÍGIA VERÔNICA FERREIRA DA SILVA | CB25: 19 | CC25: RAMÓN BRITO LACERDA | CE25: 19 | CH25: 19 | CK25: 19 | CN25: 19 | CQ25: 19 | CT25: 19 | CU25: RODRIGO GOMES WANDERLEY
B26: ARTES VISUAIS | C26: =COUNTIF('LISTAS DE PARTICIPANTES'!U:U, RESULTADO!B26&"-A")+ COUNTIF('LISTAS DE PARTICIPANTES'!U:U, RESULTADO!B26&"-B")+ COUNTIF('LISTAS DE PARTICIPANTES'!U:U, RESULTADO!B26&"-C")+ COUNTIF('LISTAS DE PARTICIPANTES'!U:U, RESULTADO!B26&"-D")+ COUNTIF('LISTAS DE PARTICIPANTES'!U:U, RESULTADO!B26&"-E")+ COUNTIF('LISTAS DE PARTICIPANTES'!U:U, RESULTADO!B26&"-F")+ COUNTIF('LISTAS DE PARTICIPANTES'!U:U, RESULTADO!B26&"-G")+ COUNTIF('LISTAS DE PARTICIPANTES'!U:U, RESULTADO!B26&"-H")+ COUNTIF('LISTAS DE PARTICIPANTES'!U:U, RESULTADO!B26&"-I")+ COUNTIF('LISTAS DE PARTICIPANTES'!U:U, RESULTADO!B26&"-J")+ COUNTIF('LISTAS DE PARTICIPANTES'!U:U, RESULTADO!B26&"-K")+ COUNTIF('LISTAS DE PARTICIPANTES'!U:U, RESULTADO!B26&"-L") -> 17 | H26: 20 | K26: 20 | N26: 20 | O26: JOSÉ RICARDO GOULART | Q26: 20 | T26: 20 | W26: 20 | Z26: 20 | AC26: 20 | AF26: 20 | AI26: 20 | AL26: 20 | AO26: 20 | AR26: 20 | AU26: 20 | AX26: 20 | BA26: 20 | BD26: 20 | BG26: 20 | BJ26: 20 | BM26: 20 | BP26: 20 | BS26: 20 | BV26: 20 | BY26: 20 | BZ26: LUARA MARINHO MACIEL | CB26: 20 | CC26: RODRIGO NOLTE MARTINS | CE26: 20 | CH26: 20 | CK26: 20 | CN26: 20 | CQ26: 20 | CT26: 20 | CU26: SANDRA REGINA FABIANO DO ROSARIO VIEIRA
B27: AUDIOVISUAL | C27: =COUNTIF('LISTAS DE PARTICIPANTES'!U:U, RESULTADO!B27&"-A")+ COUNTIF('LISTAS DE PARTICIPANTES'!U:U, RESULTADO!B27&"-B")+ COUNTIF('LISTAS DE PARTICIPANTES'!U:U, RESULTADO!B27&"-C")+ COUNTIF('LISTAS DE PARTICIPANTES'!U:U, RESULTADO!B27&"-D")+ COUNTIF('LISTAS DE PARTICIPANTES'!U:U, RESULTADO!B27&"-E")+ COUNTIF('LISTAS DE PARTICIPANTES'!U:U, RESULTADO!B27&"-F")+ COUNTIF('LISTAS DE PARTICIPANTES'!U:U, RESULTADO!B27&"-G")+ COUNTIF('LISTAS DE PARTICIPANTES'!U:U, RESULTADO!B27&"-H")+ COUNTIF('LISTAS DE PARTICIPANTES'!U:U, RESULTADO!B27&"-I")+ COUNTIF('LISTAS DE PARTICIPANTES'!U:U, RESULTADO!B27&"-J")+ COUNTIF('LISTAS DE PARTICIPANTES'!U:U, RESULTADO!B27&"-K")+ COUNTIF('LISTAS DE PARTICIPANTES'!U:U, RESULTADO!B27&"-L") -> 28 | H27: 21 | K27: 21 | N27: 21 | O27: KARINA MAIA DICK | Q27: 21 | T27: 21 | W27: 21 | Z27: 21 | AC27: 21 | AF27: 21 | AI27: 21 | AL27: 21 | AO27: 21 | AR27: 21 | AU27: 21 | AX27: 21 | BA27: 21 | BD27: 21 | BG27: 21 | BJ27: 21 | BM27: 21 | BP27: 21 | BS27: 21 | BV27: 21 | BY27: 21 | BZ27: MAURO DI DOMENICO LEITE | CB27: 21 | CC27: RODRIGO VIELLAS RODRIGUES | CE27: 21 | CH27: 21 | CK27: 21 | CN27: 21 | CQ27: 21 | CT27: 21
B28: CONSTRUÇÃO, REFORMA, ADEQUAÇÃO OU MANUTENÇÃO DE EQUIPAMENTOS CULTURAIS | C28: =COUNTIF('LISTAS DE PARTICIPANTES'!U:U, RESULTADO!B28&"-A")+ COUNTIF('LISTAS DE PARTICIPANTES'!U:U, RESULTADO!B28&"-B")+ COUNTIF('LISTAS DE PARTICIPANTES'!U:U, RESULTADO!B28&"-C")+ COUNTIF('LISTAS DE PARTICIPANTES'!U:U, RESULTADO!B28&"-D")+ COUNTIF('LISTAS DE PARTICIPANTES'!U:U, RESULTADO!B28&"-E")+ COUNTIF('LISTAS DE PARTICIPANTES'!U:U, RESULTADO!B28&"-F")+ COUNTIF('LISTAS DE PARTICIPANTES'!U:U, RESULTADO!B28&"-G")+ COUNTIF('LISTAS DE PARTICIPANTES'!U:U, RESULTADO!B28&"-H")+ COUNTIF('LISTAS DE PARTICIPANTES'!U:U, RESULTADO!B28&"-I")+ COUNTIF('LISTAS DE PARTICIPANTES'!U:U, RESULTADO!B28&"-J")+ COUNTIF('LISTAS DE PARTICIPANTES'!U:U, RESULTADO!B28&"-K")+ COUNTIF('LISTAS DE PARTICIPANTES'!U:U, RESULTADO!B28&"-L") -> 10 | H28: 22 | K28: 22 | N28: 22 | O28: LAURA LOPES VICENTE | Q28: 22 | T28: 22 | W28: 22 | Z28: 22 | AC28: 22 | AF28: 22 | AI28: 22 | AL28: 22 | AO28: 22 | AR28: 22 | AU28: 22 | AX28: 22 | BA28: 22 | BD28: 22 | BG28: 22 | BJ28: 22 | BM28: 22 | BP28: 22 | BS28: 22 | BV28: 22 | BY28: 22 | BZ28: NILSON GONÇALVES DE OLIVEIRA | CB28: 22 | CC28: ROMÉRIO HUMBERTO ZEFERINO NASICIMENTO | CE28: 22 | CH28: 22 | CK28: 22 | CN28: 22 | CQ28: 22 | CT28: 22
B29: HUMANIDADES | C29: =COUNTIF('LISTAS DE PARTICIPANTES'!U:U, RESULTADO!B29&"-A")+ COUNTIF('LISTAS DE PARTICIPANTES'!U:U, RESULTADO!B29&"-B")+ COUNTIF('LISTAS DE PARTICIPANTES'!U:U, RESULTADO!B29&"-C")+ COUNTIF('LISTAS DE PARTICIPANTES'!U:U, RESULTADO!B29&"-D")+ COUNTIF('LISTAS DE PARTICIPANTES'!U:U, RESULTADO!B29&"-E")+ COUNTIF('LISTAS DE PARTICIPANTES'!U:U, RESULTADO!B29&"-F")+ COUNTIF('LISTAS DE PARTICIPANTES'!U:U, RESULTADO!B29&"-G")+ COUNTIF('LISTAS DE PARTICIPANTES'!U:U, RESULTADO!B29&"-H")+ COUNTIF('LISTAS DE PARTICIPANTES'!U:U, RESULTADO!B29&"-I")+ COUNTIF('LISTAS DE PARTICIPANTES'!U:U, RESULTADO!B29&"-J")+ COUNTIF('LISTAS DE PARTICIPANTES'!U:U, RESULTADO!B29&"-K")+ COUNTIF('LISTAS DE PARTICIPANTES'!U:U, RESULTADO!B29&"-L") -> 31 | H29: 23 | K29: 23 | N29: 23 | O29: MARCOS VINÍCIUS SIQUEIRA FERREIRA | Q29: 23 | T29: 23 | W29: 23 | Z29: 23 | AC29: 23 | AF29: 23 | AI29: 23 | AL29: 23 | AO29: 23 | AR29: 23 | AU29: 23 | AX29: 23 | BA29: 23 | BD29: 23 | BG29: 23 | BJ29: 23 | BM29: 23 | BP29: 23 | BS29: 23 | BV29: 23 | BY29: 23 | BZ29: RAFAEL CARLOS SANTOS BEZERRA | CB29: 23 | CC29: SANDRO JULIATI | CE29: 23 | CH29: 23 | CK29: 23 | CN29: 23 | CQ29: 23 | CT29: 23
B30: MUSEU E MEMÓRIA | C30: =COUNTIF('LISTAS DE PARTICIPANTES'!U:U, RESULTADO!B30&"-A")+ COUNTIF('LISTAS DE PARTICIPANTES'!U:U, RESULTADO!B30&"-B")+ COUNTIF('LISTAS DE PARTICIPANTES'!U:U, RESULTADO!B30&"-C")+ COUNTIF('LISTAS DE PARTICIPANTES'!U:U, RESULTADO!B30&"-D")+ COUNTIF('LISTAS DE PARTICIPANTES'!U:U, RESULTADO!B30&"-E")+ COUNTIF('LISTAS DE PARTICIPANTES'!U:U, RESULTADO!B30&"-F")+ COUNTIF('LISTAS DE PARTICIPANTES'!U:U, RESULTADO!B30&"-G")+ COUNTIF('LISTAS DE PARTICIPANTES'!U:U, RESULTADO!B30&"-H")+ COUNTIF('LISTAS DE PARTICIPANTES'!U:U, RESULTADO!B30&"-I")+ COUNTIF('LISTAS DE PARTICIPANTES'!U:U, RESULTADO!B30&"-J")+ COUNTIF('LISTAS DE PARTICIPANTES'!U:U, RESULTADO!B30&"-K")+ COUNTIF('LISTAS DE PARTICIPANTES'!U:U, RESULTADO!B30&"-L") -> 24 | H30: 24 | K30: 24 | N30: 24 | O30: MARIANE MILAN GUTIERREZ | Q30: 24 | T30: 24 | W30: 24 | Z30: 24 | AC30: 24 | AF30: 24 | AI30: 24 | AL30: 24 | AO30: 24 | AR30: 24 | AU30: 24 | AX30: 24 | BA30: 24 | BD30: 24 | BG30: 24 | BJ30: 24 | BM30: 24 | BP30: 24 | BS30: 24 | BV30: 24 | BY30: 24 | BZ30: RAMON DA SILVA MORAES | CB30: 24 | CC30: TACIANA ENES PEIXOTO GUIMARÃES | CE30: 24 | CH30: 24 | CK30: 24 | CN30: 24 | CQ30: 24 | CT30: 24
B31: MÚSICA | C31: =COUNTIF('LISTAS DE PARTICIPANTES'!U:U, RESULTADO!B31&"-A")+ COUNTIF('LISTAS DE PARTICIPANTES'!U:U, RESULTADO!B31&"-B")+ COUNTIF('LISTAS DE PARTICIPANTES'!U:U, RESULTADO!B31&"-C")+ COUNTIF('LISTAS DE PARTICIPANTES'!U:U, RESULTADO!B31&"-D")+ COUNTIF('LISTAS DE PARTICIPANTES'!U:U, RESULTADO!B31&"-E")+ COUNTIF('LISTAS DE PARTICIPANTES'!U:U, RESULTADO!B31&"-F")+ COUNTIF('LISTAS DE PARTICIPANTES'!U:U, RESULTADO!B31&"-G")+ COUNTIF('LISTAS DE PARTICIPANTES'!U:U, RESULTADO!B31&"-H")+ COUNTIF('LISTAS DE PARTICIPANTES'!U:U, RESULTADO!B31&"-I")+ COUNTIF('LISTAS DE PARTICIPANTES'!U:U, RESULTADO!B31&"-J")+ COUNTIF('LISTAS DE PARTICIPANTES'!U:U, RESULTADO!B31&"-K")+ COUNTIF('LISTAS DE PARTICIPANTES'!U:U, RESULTADO!B31&"-L") -> 50 | H31: 25 | K31: 25 | N31: 25 | O31: MATILDE WRUBLEVSKI PEREIRA | Q31: 25 | T31: 25 | W31: 25 | Z31: 25 | AC31: 25 | AF31: 25 | AI31: 25 | AL31: 25 | AO31: 25 | AR31: 25 | AU31: 25 | AX31: 25 | BA31: 25 | BD31: 25 | BG31: 25 | BJ31: 25 | BM31: 25 | BP31: 25 | BS31: 25 | BV31: 25 | BY31: 25 | BZ31: RENATA MARIA GONÇALVES MORA | CB31: 25 | CC31: VANESSA LONGONI | CE31: 25 | CH31: 25 | CK31: 25 | CN31: 25 | CQ31: 25 | CT31: 25
B32: PATRIMÔNIO CULTURAL | C32: =COUNTIF('LISTAS DE PARTICIPANTES'!U:U, RESULTADO!B32&"-A")+ COUNTIF('LISTAS DE PARTICIPANTES'!U:U, RESULTADO!B32&"-B")+ COUNTIF('LISTAS DE PARTICIPANTES'!U:U, RESULTADO!B32&"-C")+ COUNTIF('LISTAS DE PARTICIPANTES'!U:U, RESULTADO!B32&"-D")+ COUNTIF('LISTAS DE PARTICIPANTES'!U:U, RESULTADO!B32&"-E")+ COUNTIF('LISTAS DE PARTICIPANTES'!U:U, RESULTADO!B32&"-F")+ COUNTIF('LISTAS DE PARTICIPANTES'!U:U, RESULTADO!B32&"-G")+ COUNTIF('LISTAS DE PARTICIPANTES'!U:U, RESULTADO!B32&"-H")+ COUNTIF('LISTAS DE PARTICIPANTES'!U:U, RESULTADO!B32&"-I")+ COUNTIF('LISTAS DE PARTICIPANTES'!U:U, RESULTADO!B32&"-J")+ COUNTIF('LISTAS DE PARTICIPANTES'!U:U, RESULTADO!B32&"-K")+ COUNTIF('LISTAS DE PARTICIPANTES'!U:U, RESULTADO!B32&"-L") -> 11 | H32: 26 | K32: 26 | N32: 26 | O32: MAURO ARAUJO DOS SANTOS | Q32: 26 | T32: 26 | W32: 26 | Z32: 26 | AC32: 26 | AF32: 26 | AI32: 26 | AL32: 26 | AO32: 26 | AR32: 26 | AU32: 26 | AX32: 26 | BA32: 26 | BD32: 26 | BG32: 26 | BJ32: 26 | BM32: 26 | BP32: 26 | BS32: 26 | BV32: 26 | BY32: 26 | CB32: 26 | CE32: 26 | CH32: 26 | CK32: 26 | CN32: 26 | CQ32: 26 | CT32: 26
B33: FNC | C33: =COUNTIF('LISTAS DE PARTICIPANTES'!U:U, "FNC") -> 20 | H33: 27 | K33: 27 | N33: 27 | O33: MÔNICA CRISTINA MOREIRA BERNARDES | Q33: 27 | T33: 27 | W33: 27 | Z33: 27 | AC33: 27 | AF33: 27 | AI33: 27 | AL33: 27 | AO33: 27 | AR33: 27 | AU33: 27 | AX33: 27 | BA33: 27 | BD33: 27 | BG33: 27 | BJ33: 27 | BM33: 27 | BP33: 27 | BS33: 27 | BV33: 27 | BY33: 27 | CB33: 27 | CE33: 27 | CH33: 27 | CK33: 27 | CN33: 27 | CQ33: 27 | CT33: 27
B34: TOTAL | C34: =SUM(C25:C33) -> 249 | H34: 28 | K34: 28 | N34: 28 | O34: PAULA DE RENOR | Q34: 28 | T34: 28 | W34: 28 | Z34: 28 | AC34: 28 | AF34: 28 | AI34: 28 | AL34: 28 | AO34: 28 | AR34: 28 | AU34: 28 | AX34: 28 | BA34: 28 | BD34: 28 | BG34: 28 | BJ34: 28 | BM34: 28 | BP34: 28 | BS34: 28 | BV34: 28 | BY34: 28 | CB34: 28 | CE34: 28 | CH34: 28 | CK34: 28 | CN34: 28 | CQ34: 28 | CT34: 28
B35: Participantes | C35: {=COUNTA(_xlfn.UNIQUE(_xlfn._xlws.FILTER('LISTAS DE PARTICIPANTES'!B2:B1401,('LISTAS DE PARTICIPANTES'!B2:B1401<>"") * ('LISTAS DE PARTICIPANTES'!Z2:Z1401="SIM"))))} -> 675 | H35: 29 | K35: 29 | N35: 29 | O35: RAFAELE DA SILVA COSTA | Q35: 29 | T35: 29 | W35: 29 | Z35: 29 | AC35: 29 | AF35: 29 | AI35: 29 | AL35: 29 | AO35: 29 | AR35: 29 | AU35: 29 | AX35: 29 | BA35: 29 | BD35: 29 | BG35: 29 | BJ35: 29 | BM35: 29 | BP35: 29 | BS35: 29 | BV35: 29 | BY35: 29 | CB35: 29 | CE35: 29 | CH35: 29 | CK35: 29 | CN35: 29 | CQ35: 29 | CT35: 29
H36: 30 | K36: 30 | N36: 30 | O36: RONALDO UEDA KOIKE | Q36: 30 | T36: 30 | W36: 30 | Z36: 30 | AC36: 30 | AF36: 30 | AI36: 30 | AL36: 30 | AO36: 30 | AR36: 30 | AU36: 30 | AX36: 30 | BA36: 30 | BD36: 30 | BG36: 30 | BJ36: 30 | BM36: 30 | BP36: 30 | BS36: 30 | BV36: 30 | BY36: 30 | CB36: 30 | CE36: 30 | CH36: 30 | CK36: 30 | CN36: 30 | CQ36: 30 | CT36: 30
H37: 31 | K37: 31 | N37: 31 | O37: SANDRA HELENA GONZAGA PEDROSO | Q37: 31 | T37: 31 | W37: 31 | Z37: 31 | AC37: 31 | AF37: 31 | AI37: 31 | AL37: 31 | AO37: 31 | AR37: 31 | AU37: 31 | AX37: 31 | BA37: 31 | BD37: 31 | BG37: 31 | BJ37: 31 | BM37: 31 | BP37: 31 | BS37: 31 | BV37: 31 | BY37: 31 | CB37: 31 | CE37: 31 | CH37: 31 | CK37: 31 | CN37: 31 | CQ37: 31 | CT37: 31
H38: 32 | K38: 32 | N38: 32 | O38: VIVIANE SAMBINELLI MORI | Q38: 32 | T38: 32 | W38: 32 | Z38: 32 | AC38: 32 | AF38: 32 | AI38: 32 | AL38: 32 | AO38: 32 | AR38: 32 | AU38: 32 | AX38: 32 | BA38: 32 | BD38: 32 | BG38: 32 | BJ38: 32 | BM38: 32 | BP38: 32 | BS38: 32 | BV38: 32 | BY38: 32 | CB38: 32 | CE38: 32 | CH38: 32 | CK38: 32 | CN38: 32 | CQ38: 32 | CT38: 32
H39: 33 | K39: 33 | N39: 33 | Q39: 33 | T39: 33 | W39: 33 | Z39: 33 | AC39: 33 | AF39: 33 | AI39: 33 | AL39: 33 | AO39: 33 | AR39: 33 | AU39: 33 | AX39: 33 | BA39: 33 | BD39: 33 | BG39: 33 | BJ39: 33 | BM39: 33 | BP39: 33 | BS39: 33 | BV39: 33 | BY39: 33 | CB39: 33 | CE39: 33 | CH39: 33 | CK39: 33 | CN39: 33 | CQ39: 33 | CT39: 33
H40: 34 | K40: 34 | N40: 34 | Q40: 34 | T40: 34 | W40: 34 | Z40: 34 | AC40: 34 | AF40: 34 | AI40: 34 | AL40: 34 | AO40: 34 | AR40: 34 | AU40: 34 | AX40: 34 | BA40: 34 | BD40: 34 | BG40: 34 | BJ40: 34 | BM40: 34 | BP40: 34 | BS40: 34 | BV40: 34 | BY40: 34 | CB40: 34 | CE40: 34 | CH40: 34 | CK40: 34 | CN40: 34 | CQ40: 34 | CT40: 34
H41: 35 | K41: 35 | N41: 35 | Q41: 35 | T41: 35 | W41: 35 | Z41: 35 | AC41: 35 | AF41: 35 | AI41: 35 | AL41: 35 | AO41: 35 | AR41: 35 | AU41: 35 | AX41: 35 | BA41: 35 | BD41: 35 | BG41: 35 | BJ41: 35 | BM41: 35 | BP41: 35 | BS41: 35 | BV41: 35 | BY41: 35 | CB41: 35 | CE41: 35 | CH41: 35 | CK41: 35 | CN41: 35 | CQ41: 35 | CT41: 35

Sheet LISTAS DE PARTICIPANTES
A1: 1-ID | B1: 2-PARECERISTA | C1: 3-CPF | D1: 4-E-MAIL | E1: 5-Sorteio para INEX | F1: 6-PROCESSO | G1: 7-Área | H1: 8-A | I1: 9-B | J1: 10-C | K1: 11-D | L1: 12-E | M1: 13-F | N1: 14-G | O1: 15-H | P1: 16-I | Q1: 17-J | R1: 18-K | S1: 19-L | T1: 20-OBS | U1: 21-ÁREA E SEGMENTO SORTEADO | V1: 22-SORTEADOS | W1: 23 | X1: 24-ÁREAS | Y1: 25-ESCOLHAS | Z1: 26-PREENCEU O FORMULÁRIO | AA1: 27-NO BANCO ATUALMENTE | AB1: 28 - SORTEADOS ANTERIORMENTE
A2: 1 | B2: ADÃO DE SOUZA LANDIM | C2: 051.435.846-71 | D2: adaolandim@hotmail.com | E2: 1ª e 2ª | F2: 72031.017085/2021-41 | G2: 1 MÚSICA | H2: X | I2: X | X2: MÚSICA | Y2: 1 | Z2: =IF(ISNA(MATCH(C2,FORMULÁRIO!L:L, 0)),"NÃO","SIM") -> SIM | AA2: NÃO | AB2: SIM
A3: 2 | B3: ADAO DOS SANTOS ALVES SIQUEIRA | C3: 317.176.888-70 | D3: adao@metrocenografia.com.br | E3: Nenhuma | F3: 01400.005589/2024-78 | G3: 1 ARTES VISUAIS | H3: X | X3: ARTES VISUAIS | Y3: 1 | Z3: =IF(ISNA(MATCH(C3,FORMULÁRIO!L:L, 0)),"NÃO","SIM") -> SIM | AA3: NÃO | AB3: NÃO
A4: 2 | B4: ADAO DOS SANTOS ALVES SIQUEIRA | C4: 317.176.888-70 | D4: adao@metrocenografia.com.br | E4: Nenhuma | F4: 01400.005589/2024-78 | G4: 2 MUSEU E MEMÓRIA | M4: X | X4: MUSEU E MEMÓRIA | Y4: 2 | Z4: =IF(ISNA(MATCH(C4,FORMULÁRIO!L:L, 0)),"NÃO","SIM") -> SIM | AA4: NÃO | AB4: NÃO
A5: 2 | B5: ADAO DOS SANTOS ALVES SIQUEIRA | C5: 317.176.888-70 | D5: adao@metrocenografia.com.br | E5: Nenhuma | F5: 01400.005589/2024-78 | G5: 3 HUMANIDADES | J5: X | X5: HUMANIDADES | Y5: 3 | Z5: =IF(ISNA(MATCH(C5,FORMULÁRIO!L:L, 0)),"NÃO","SIM") -> SIM | AA5: NÃO | AB5: NÃO
A6: 3 | B6: ADAUANY PIEVE ZIMOVSKI | C6: 317.073.128-93 | D6: adauany@gmail.com | E6: Nenhuma | F6: 01400.005680/2024-93 | G6: 1 ARTES VISUAIS | H6: X | U6: ARTES VISUAIS-A | V6: SORTEADO | X6: ARTES VISUAIS | Y6: 1 | Z6: =IF(ISNA(MATCH(C6,FORMULÁRIO!L:L, 0)),"NÃO","SIM") -> SIM | AA6: NÃO | AB6: NÃO
A7: 4 | B7: ADEILTON LIMA DA SILVA | C7: 333.832.861-34 | D7: adeiltonator@hotmail.com | E7: Nenhuma | F7: 01400.006233/2024-51 | G7: 1 ARTES CÊNICAS | J7: X | K7: X | X7: ARTES CÊNICAS | Y7: 1 | Z7: =IF(ISNA(MATCH(C7,FORMULÁRIO!L:L, 0)),"NÃO","SIM") -> NÃO | AA7: NÃO | AB7: NÃO
A8: 4 | B8: ADEILTON LIMA DA SILVA | C8: 333.832.861-34 | D8: adeiltonator@hotmail.com | E8: Nenhuma | F8: 01400.006233/2024-51 | G8: 2 HUMANIDADES | H8: X | J8: X | K8: X | X8: HUMANIDADES | Y8: 2 | Z8: =IF(ISNA(MATCH(C8,FORMULÁRIO!L:L, 0)),"NÃO","SIM") -> NÃO | AA8: NÃO | AB8: NÃO
A9: 5 | B9: ADILON MARQUES DOS SANTOS | C9: 062.112.369-21 | D9: adilonmsantos@gmail.com | E9: 1ª e 2ª | F9: 72031.017086/2021-96 | G9: 1 CONSTRUÇÃO, REFORMA, ADEQUAÇÃO OU MANUTENÇÃO DE EQUIPAMENTOS CULTURAIS | H9: X | I9: X | U9: CONSTRUÇÃO, REFORMA, ADEQUAÇÃO OU MANUTENÇÃO DE EQUIPAMENTOS CULTURAIS-B | V9: SORTEADO | X9: CONSTRUÇÃO, REFORMA, ADEQUAÇÃO OU MANUTENÇÃO DE EQUIPAMENTOS CULTURAIS | Y9: 1 | Z9: =IF(ISNA(MATCH(C9,FORMULÁRIO!L:L, 0)),"NÃO","SIM") -> SIM | AA9: NÃO | AB9: SIM
A10: 5 | B10: ADILON MARQUES DOS SANTOS | C10: 062.112.369-21 | D10: adilonmsantos@gmail.com | E10: 1ª e 2ª | F10: 72031.017086/2021-96 | G10: 2 PATRIMÔNIO CULTURAL | I10: X | J10: X | K10: X | V10: SORTEADO | X10: PATRIMÔNIO CULTURAL | Y10: 2 | Z10: =IF(ISNA(MATCH(C10,FORMULÁRIO!L:L, 0)),"NÃO","SIM") -> SIM | AA10: NÃO | AB10: SIM
A11: 5 | B11: ADILON MARQUES DOS SANTOS | C11: 062.112.369-21 | D11: adilonmsantos@gmail.com | E11: 1ª e 2ª | F11: 72031.017086/2021-96 | G11: 3 MUSEU E MEMÓRIA | I11: X | L11: X | O11: X | V11: SORTEADO | X11: MUSEU E MEMÓRIA | Y11: 3 | Z11: =IF(ISNA(MATCH(C11,FORMULÁRIO!L:L, 0)),"NÃO","SIM") -> SIM | AA11: NÃO | AB11: SIM
A12: 6 | B12: ADRIANA CARNEIRO DE SOUZA | C12: 114.951.087-08 | D12: carneiro.drica@gmail.com | E12: Nenhuma | F12: 01400.005959/2024-77 | G12: 1 AUDIOVISUAL | H12: X | I12: X | J12: X | U12: AUDIOVISUAL-C | V12: SORTEADO | X12: AUDIOVISUAL | Y12: 1 | Z12: =IF(ISNA(MATCH(C12,FORMULÁRIO!L:L, 0)),"NÃO","SIM") -> SIM | AA12: NÃO | AB12: NÃO
A13: 7 | B13: ADRIANA DE SOUZA RODRIGUES | C13: 739.118.872-72 | D13: rodriguessouza300909@gmail.com | E13: Nenhuma | F13: 01400.005686/2024-61 | G13: 1 ARTES CÊNICAS | J13: X | U13: ARTES CÊNICAS-C | V13: SORTEADO | X13: ARTES CÊNICAS | Y13: 1 | Z13: =IF(ISNA(MATCH(C13,FORMULÁRIO!L:L, 0)),"NÃO","SIM") -> SIM | AA13: NÃO | AB13: NÃO
A14: 8 | B14: ADRIANA HIRSCH DE SANT ANNA | C14: 395.059.015-34 | D14: adriana.hirsch@hotmail.com | E14: Nenhuma | F14: 01400.000183/2024-07 | G14: 1 AUDIOVISUAL | X14: AUDIOVISUAL | Y14: 1 | Z14: =IF(ISNA(MATCH(C14,FORMULÁRIO!L:L, 0)),"NÃO","SIM") -> SIM | AA14: NÃO | AB14: NÃO
A15: 9 | B15: ADRIANA MARIA PISCIOTTANO ATHAIDE | C15: 092.919.948-04 | D15: carprim@uol.com.br | E15: 1ª e 2ª | F15: 72031.017089/2021-20 | G15: 1 ARTES VISUAIS | H15: X | X15: ARTES VISUAIS | Y15: 1 | Z15: =IF(ISNA(MATCH(C15,FORMULÁRIO!L:L, 0)),"NÃO","SIM") -> SIM | AA15: NÃO | AB15: SIM
A16: 9 | B16: ADRIANA MARIA PISCIOTTANO ATHAIDE | C16: 092.919.948-04 | D16: carprim@uol.com.br | E16: 1ª e 2ª | F16: 72031.017089/2021-20 | G16: 2 MUSEU E MEMÓRIA | I16: X | X16: MUSEU E MEMÓRIA | Y16: 2 | Z16: =IF(ISNA(MATCH(C16,FORMULÁRIO!L:L, 0)),"NÃO","SIM") -> SIM | AA16: NÃO | AB16: SIM
A17: 10 | B17: ADRIANA MARTINS DA SILVA | C17: 131.354.178-83 | D17: solmaiorproducaocultural@gmail.com | E17: 3ª | F17: 01400.005689/2024-02 | G17: 1 MÚSICA | H17: X | I17: X | X17: MÚSICA | Y17: 1 | Z17: =IF(ISNA(MATCH(C17,FORMULÁRIO!L:L, 0)),"NÃO","SIM") -> SIM | AA17: SIM | AB17: SIM
A18: 10 | B18: ADRIANA MARTINS DA SILVA | C18: 131.354.178-83 | D18: solmaiorproducaocultural@gmail.com | E18: 3ª | F18: 01400.005689/2024-02 | G18: 2 ARTES CÊNICAS | J18: X | X18: ARTES CÊNICAS | Y18: 2 | Z18: =IF(ISNA(MATCH(C18,FORMULÁRIO!L:L, 0)),"NÃO","SIM") -> SIM | AA18: SIM | AB18: SIM
A19: 11 | B19: ADRIANA PERRELLA MATOS | C19: 971.530.956-91 | D19: ur.clube@gmail.com; adrianaperrellam@gmail.com; | E19: 3ª | F19: 01400.005704/2024-12 | G19: 1 ARTES CÊNICAS | H19: X | I19: X | J19: X | K19: X | X19: ARTES CÊNICAS | Y19: 1 | Z19: =IF(ISNA(MATCH(C19,FORMULÁRIO!L:L, 0)),"NÃO","SIM") -> NÃO | AA19: SIM | AB19: SIM
A20: 11 | B20: ADRIANA PERRELLA MATOS | C20: 971.530.956-91 | D20: ur.clube@gmail.com; adrianaperrellam@gmail.com; | E20: 3ª | F20: 01400.005704/2024-12 | G20: 2 HUMANIDADES | H20: X | X20: HUMANIDADES | Y20: 2 | Z20: =IF(ISNA(MATCH(C20,FORMULÁRIO!L:L, 0)),"NÃO","SIM") -> NÃO | AA20: SIM | AB20: SIM
A21: 12 | B21: ADRIANA PINTO BARROS | C21: 219.367.888-02 | D21: estudiosubversiva@gmail.com | E21: 3ª | F21: 01400.005694/2024-15 | G21: 1 AUDIOVISUAL | H21: X | J21: X | K21: X | T21: PEDIU PARA SAIR DA INEX 3 | X21: AUDIOVISUAL | Y21: 1 | Z21: =IF(ISNA(MATCH(C21,FORMULÁRIO!L:L, 0)),"NÃO","SIM") -> NÃO | AA21: SIM | AB21: SIM
A22: 13 | B22: ADRIANA VELOSO MEIRELES | C22: 937.268.136-91 | D22: dricaveloso@gmail.com | E22: Nenhuma | F22: 01400.000179/2024-31 | G22: 1 ARTES VISUAIS | H22: X | U22: FNC | V22: SORTEADO | X22: ARTES VISUAIS | Y22: 1 | Z22: =IF(ISNA(MATCH(C22,FORMULÁRIO!L:L, 0)),"NÃO","SIM") -> SIM | AA22: NÃO | AB22: NÃO
A23: 14 | B23: ADRIANE FERREIRA CARVALHO COSTA | C23: 700.514.451-15 | D23: adrianecarvalhodf@gmail.com | E23: 3ª | F23: 01400.005709/2024-37 | G23: 1 ARTES VISUAIS | H23: X | X23: ARTES VISUAIS | Y23: 1 | Z23: =IF(ISNA(MATCH(C23,FORMULÁRIO!L:L, 0)),"NÃO","SIM") -> SIM | AA23: SIM | AB23: SIM
A24: 15 | B24: AFONSO BRAGA DA COSTA JUNIOR | C24: 363.710.888-74 | D24: ab.afonsobraga@gmail.com | E24: 2ª | F24: 72031.017091/2021-07 | G24: 1 ARTES CÊNICAS | J24: X | X24: ARTES CÊNICAS | Y24: 1 | Z24: =IF(ISNA(MATCH(C24,FORMULÁRIO!L:L, 0)),"NÃO","SIM") -> SIM | AA24: NÃO | AB24: SIM
A25: 16 | B25: AFONSO NILSON BARBOSA DE SOUZA | C25: 020.513.179-41 | D25: afonso.nilson@gmail.com | E25: 2ª | F25: 72031.017092/2021-43 | G25: 1 ARTES CÊNICAS | J25: X | X25: ARTES CÊNICAS | Y25: 1 | Z25: =IF(ISNA(MATCH(C25,FORMULÁRIO!L:L, 0)),"NÃO","SIM") -> SIM | AA25: NÃO | AB25: SIM
A26: 16 | B26: AFONSO NILSON BARBOSA DE SOUZA | C26: 020.513.179-41 | D26: afonso.nilson@gmail.com | E26: 2ª | F26: 72031.017092/2021-43 | G26: 2 HUMANIDADES | H26: X | J26: X | X26: HUMANIDADES | Y26: 2 | Z26: =IF(ISNA(MATCH(C26,FORMULÁRIO!L:L, 0)),"NÃO","SIM") -> SIM | AA26: NÃO | AB26: SIM
A27: 17 | B27: ALAN RIBEIRO DA SILVA | C27: 005.719.872-14 | D27: allanribbeiro12@gmail.com | E27: Nenhuma | F27: 01400.005735/2024-65 | G27: 1 ARTES VISUAIS | H27: X | X27: ARTES VISUAIS | Y27: 1 | Z27: =IF(ISNA(MATCH(C27,FORMULÁRIO!L:L, 0)),"NÃO","SIM") -> SIM | AA27: NÃO | AB27: NÃO
A28: 18 | B28: ALANA TEIXEIRA MENK | C28: 368.772.918-40 | D28: alanamenk@gmail.com | E28: Nenhuma | F28: 01400.005759/2024-14 | G28: 1 ARTES CÊNICAS | I28: X | V28: SORTEADO | X28: ARTES CÊNICAS | Y28: 1 | Z28: =IF(ISNA(MATCH(C28,FORMULÁRIO!L:L, 0)),"NÃO","SIM") -> SIM | AA28: NÃO | AB28: NÃO
A29: 18 | B29: ALANA TEIXEIRA MENK | C29: 368.772.918-40 | D29: alanamenk@gmail.com | E29: Nenhuma | F29: 01400.005759/2024-14 | G29: 2 AUDIOVISUAL | H29: X | U29: AUDIOVISUAL-A | V29: SORTEADO | X29: AUDIOVISUAL | Y29: 2 | Z29: =IF(ISNA(MATCH(C29,FORMULÁRIO!L:L, 0)),"NÃO","SIM") -> SIM | AA29: NÃO | AB29: NÃO
A30: 18 | B30: ALANA TEIXEIRA MENK | C30: 368.772.918-40 | D30: alanamenk@gmail.com | E30: Nenhuma | F30: 01400.005759/2024-14 | G30: 3 HUMANIDADES | H30: X | V30: SORTEADO | X30: HUMANIDADES | Y30: 3 | Z30: =IF(ISNA(MATCH(C30,FORMULÁRIO!L:L, 0)),"NÃO","SIM") -> SIM | AA30: NÃO | AB30: NÃO
A31: 19 | B31: ALBERTO CAPUCCI FILHO | C31: 739.911.048-49 | D31: acpcmei@gmail.com; albertocapucci@hotmail.com; | E31: 3ª | F31: elin | G31: 1 PATRIMÔNIO CULTURAL | H31: X | O31: X | X31: PATRIMÔNIO CULTURAL | Y31: 1 | Z31: =IF(ISNA(MATCH(C31,FORMULÁRIO!L:L, 0)),"NÃO","SIM") -> SIM | AA31: SIM | AB31: SIM
A32: 20 | B32: ALBERTO NAAR | C32: 124.464.017-40 | D32: albertonaar@gmail.com | E32: 2ª | F32: 72031.004929/2021-94 | G32: 1 ARTES CÊNICAS | J32: X | X32: ARTES CÊNICAS | Y32: 1 | Z32: =IF(ISNA(MATCH(C32,FORMULÁRIO!L:L, 0)),"NÃO","SIM") -> NÃO | AA32: NÃO | AB32: SIM
A33: 20 | B33: ALBERTO NAAR | C33: 124.464.017-40 | D33: albertonaar@gmail.com | E33: 2ª | F33: 72031.004929/2021-94 | G33: 2 AUDIOVISUAL | H33: X | X33: AUDIOVISUAL | Y33: 2 | Z33: =IF(ISNA(MATCH(C33,FORMULÁRIO!L:L, 0)),"NÃO","SIM") -> NÃO | AA33: NÃO | AB33: SIM
A34: 21 | B34: ALCIDÉIA MARGARETH ROCHA TRANCOSO | C34: 615.055.446-53 | D34: deatrancoso@gmail.com | E34: Nenhuma | F34: 01400.005782/2024-17 | G34: 1 MÚSICA | I34: X | U34: MÚSICA-B | V34: SORTEADO | X34: MÚSICA | Y34: 1 | Z34: =IF(ISNA(MATCH(C34,FORMULÁRIO!L:L, 0)),"NÃO","SIM") -> SIM | AA34: NÃO | AB34: NÃO
A35: 22 | B35: ALDRIN VIANNA DE SANTANA | C35: 831.167.964-91 | D35: aldrin@aldrin.com.br | E35: Nenhuma | F35: 01400.005784/2024-06 | G35: 1 ARTES VISUAIS | H35: X | V35: SORTEADO | X35: ARTES VISUAIS | Y35: 1 | Z35: =IF(ISNA(MATCH(C35,FORMULÁRIO!L:L, 0)),"NÃO","SIM") -> SIM | AA35: NÃO | AB35: NÃO
A36: 22 | B36: ALDRIN VIANNA DE SANTANA | C36: 831.167.964-91 | D36: aldrin@aldrin.com.br | E36: Nenhuma | F36: 01400.005784/2024-06 | G36: 2 AUDIOVISUAL | H36: X | I36: X | J36: X | K36: X | U36: AUDIOVISUAL-C | V36: SORTEADO | X36: AUDIOVISUAL | Y36: 2 | Z36: =IF(ISNA(MATCH(C36,FORMULÁRIO!L:L, 0)),"NÃO","SIM") -> SIM | AA36: NÃO | AB36: NÃO
A37: 23 | B37: ALESSANDRA DA SILVA DOS SANTOS | C37: 101.090.987-81 | D37: alessandrassantos84@gmail.com | E37: Nenhuma | F37: 01400.005788/2024-86 | G37: 1 ARTES CÊNICAS | J37: X | V37: SORTEADO | X37: ARTES CÊNICAS | Y37: 1 | Z37: =IF(ISNA(MATCH(C37,FORMULÁRIO!L:L, 0)),"NÃO","SIM") -> SIM | AA37: NÃO | AB37: NÃO
A38: 23 | B38: ALESSANDRA DA SILVA DOS SANTOS | C38: 101.090.987-81 | D38: alessandrassantos84@gmail.com | E38: Nenhuma | F38: 01400.005788/2024-86 | G38: 2 MÚSICA | I38: X | U38: MÚSICA-B | V38: SORTEADO | X38: MÚSICA | Y38: 2 | Z38: =IF(ISNA(MATCH(C38,FORMULÁRIO!L:L, 0)),"NÃO","SIM") -> SIM | AA38: NÃO | AB38: NÃO
A39: 23 | B39: ALESSANDRA DA SILVA DOS SANTOS | C39: 101.090.987-81 | D39: alessandrassantos84@gmail.com | E39: Nenhuma | F39: 01400.005788/2024-86 | G39: 3 HUMANIDADES | H39: X | V39: SORTEADO | X39: HUMANIDADES | Y39: 3 | Z39: =IF(ISNA(MATCH(C39,FORMULÁRIO!L:L, 0)),"NÃO","SIM") -> SIM | AA39: NÃO | AB39: NÃO
A40: 24 | B40: ALESSANDRA IORIO | C40: 299.409.248-44 | D40: lekaiorio@gmail.com | E40: Nenhuma | F40: 01400.005791/2024-08 | G40: 1 ARTES VISUAIS | H40: X | X40: ARTES VISUAIS | Y40: 1 | Z40: =IF(ISNA(MATCH(C40,FORMULÁRIO!L:L, 0)),"NÃO","SIM") -> NÃO | AA40: NÃO | AB40: NÃO
A41: 25 | B41: ALESSANDRA MARTINS GIROTTO MENDES | C41: 222.765.858-46 | D41: ale.socioambiental@gmail.com | E41: 1ª e 2ª | F41: 01400.016184/2023-84 | G41: 1 HUMANIDADES | I41: X | K41: X | X41: HUMANIDADES | Y41: 1 | Z41: =IF(ISNA(MATCH(C41,FORMULÁRIO!L:L, 0)),"NÃO","SIM") -> SIM | AA41: NÃO | AB41: SIM
A42: 26 | B42: ALESSANDRA PIRRONCELLO BUCHOLDZ | C42: 014.556.399-58 | D42: alessandra@abcprojetos.com.br | E42: Nenhuma | F42: 01400.006074/2024-95 | G42: 1 HUMANIDADES | H42: X | U42: HUMANIDADES-A | V42: SORTEADO | X42: HUMANIDADES | Y42: 1 | Z42: =IF(ISNA(MATCH(C42,FORMULÁRIO!L:L, 0)),"NÃO","SIM") -> SIM | AA42: NÃO | AB42: NÃO
A43: 27 | B43: ALEX SANTOS BARBOSA | C43: 002.340.165-66 | D43: quartoimaginario@gmail.com | E43: Nenhuma | F43: 01400.005801/2024-05 | G43: 1 AUDIOVISUAL | H43: X | I43: X | U43: AUDIOVISUAL-B | V43: SORTEADO | X43: AUDIOVISUAL | Y43: 1 | Z43: =IF(ISNA(MATCH(C43,FORMULÁRIO!L:L, 0)),"NÃO","SIM") -> SIM | AA43: NÃO | AB43: NÃO
A44: 28 | B44: ALEXANDER IVAN DE ALMEIDA OLIVEIRA | C44: 847.924.856-49 | D44: alexanderivan2708@gmail.com | E44: Nenhuma | F44: 01400.005812/2024-87 | G44: 1 PATRIMÔNIO CULTURAL | H44: X | O44: X | X44: PATRIMÔNIO CULTURAL | Y44: 1 | Z44: =IF(ISNA(MATCH(C44,FORMULÁRIO!L:L, 0)),"NÃO","SIM") -> SIM | AA44: NÃO | AB44: NÃO
A45: 28 | B45: ALEXANDER IVAN DE ALMEIDA OLIVEIRA | C45: 847.924.856-49 | D45: alexanderivan2708@gmail.com | E45: Nenhuma | F45: 01400.005812/2024-87 | G45: 2 HUMANIDADES | H45: X | X45: HUMANIDADES | Y45: 2 | Z45: =IF(ISNA(MATCH(C45,FORMULÁRIO!L:L, 0)),"NÃO","SIM") -> SIM | AA45: NÃO | AB45: NÃO
A46: 29 | B46: ALEXANDRA JACKLINE VASCONCELOS SANTOS | C46: 604.983.746-53 | D46: alexandrafelina@gmail.com | E46: Nenhuma | F46: 01400.005815/2024-11 | G46: 1 PATRIMÔNIO CULTURAL | H46: X | U46: PATRIMÔNIO CULTURAL-A | V46: SORTEADO | X46: PATRIMÔNIO CULTURAL | Y46: 1 | Z46: =IF(ISNA(MATCH(C46,FORMULÁRIO!L:L, 0)),"NÃO","SIM") -> SIM | AA46: NÃO | AB46: NÃO
A47: 30 | B47: ALEXANDRE BARRETO | C47: 741.523.860-53 | D47: alebarreto@gmail.com | E47: 3ª | F47: 01400.005871/2024-55 | G47: 1 MÚSICA | I47: X | X47: MÚSICA | Y47: 1 | Z47: =IF(ISNA(MATCH(C47,FORMULÁRIO!L:L, 0)),"NÃO","SIM") -> SIM | AA47: SIM | AB47: SIM
A48: 30 | B48: ALEXANDRE BARRETO | C48: 741.523.860-53 | D48: alebarreto@gmail.com | E48: 3ª | F48: 01400.005871/2024-55 | G48: 2 ARTES CÊNICAS | J48: X | X48: ARTES CÊNICAS | Y48: 2 | Z48: =IF(ISNA(MATCH(C48,FORMULÁRIO!L:L, 0)),"NÃO","SIM") -> SIM | AA48: SIM | AB48: SIM
A49: 31 | B49: ALEXANDRE FERNANDES GUIMARÃES | C49: 058.271.526-17 | D49: aleregente@hotmail.com | E49: 1ª e 2ª | F49: 72031.002699/2022-18 | G49: 1 MÚSICA | H49: X | I49: X | X49: MÚSICA | Y49: 1 | Z49: =IF(ISNA(MATCH(C49,FORMULÁRIO!L:L, 0)),"NÃO","SIM") -> SIM | AA49: NÃO | AB49: SIM
A50: 32 | B50: ALFREDO FARIA ZAINE | C50: 325.535.808-60 | D50: alfredozaine@gmail.com | E50: 1ª e 2ª | F50: 72031.017097/2021-76 | G50: 1 MÚSICA | H50: X | I50: X | X50: MÚSICA | Y50: 1 | Z50: =IF(ISNA(MATCH(C50,FORMULÁRIO!L:L, 0)),"NÃO","SIM") -> NÃO | AA50: NÃO | AB50: SIM
A51: 33 | B51: ALICE FERREIRA TAVARES | C51: 116.446.147-82 | D51: alice_tavares@id.uff.br | E51: 3ª | F51: 01400.007015/2024-34 | G51: 1 PATRIMÔNIO CULTURAL | H51: X | X51: PATRIMÔNIO CULTURAL | Y51: 1 | Z51: =IF(ISNA(MATCH(C51,FORMULÁRIO!L:L, 0)),"NÃO","SIM") -> NÃO | AA51: SIM | AB51: SIM
A52: 33 | B52: ALICE FERREIRA TAVARES | C52: 116.446.147-82 | D52: alice_tavares@id.uff.br | E52: 3ª | F52: 01400.007015/2024-34 | G52: 2 MUSEU E MEMÓRIA | M52: X | N52: X | O52: X | P52: X | X52: MUSEU E MEMÓRIA | Y52: 2 | Z52: =IF(ISNA(MATCH(C52,FORMULÁRIO!L:L, 0)),"NÃO","SIM") -> NÃO | AA52: SIM | AB52: SIM
A53: 33 | B53: ALICE FERREIRA TAVARES | C53: 116.446.147-82 | D53: alice_tavares@id.uff.br | E53: 3ª | F53: 01400.007015/2024-34 | G53: 3 HUMANIDADES | I53: X | J53: X | K53: X | X53: HUMANIDADES | Y53: 3 | Z53: =IF(ISNA(MATCH(C53,FORMULÁRIO!L:L, 0)),"NÃO","SIM") -> NÃO | AA53: SIM | AB53: SIM
A54: 34 | B54: ALINE COSTA VILELA | C54: 103.559.776-48 | D54: aline.costavilela@gmail.com | E54: 1ª | F54: 72031.011591/2021-27 | G54: 1 ARTES CÊNICAS | I54: X | X54: ARTES CÊNICAS | Y54: 1 | Z54: =IF(ISNA(MATCH(C54,FORMULÁRIO!L:L, 0)),"NÃO","SIM") -> SIM | AA54: NÃO | AB54: SIM
A55: 35 | B55: ALINE FERNANDA DOS SANTOS PEREIRA | C55: 012.667.656-97 | D55: alinefspereira@gmail.com | E55: 3ª | F55: 01400.005891/2024-26 | G55: 1 ARTES CÊNICAS | J55: X | K55: X | X55: ARTES CÊNICAS | Y55: 1 | Z55: =IF(ISNA(MATCH(C55,FORMULÁRIO!L:L, 0)),"NÃO","SIM") -> NÃO | AA55: SIM | AB55: SIM
A56: 36 | B56: ALINE FIGUEIREDO | C56: 052.156.009-88 | D56: figueiredo.aline@gmail.com | E56: 3ª | F56: 01400.005897/2024-01 | G56: 1 PATRIMÔNIO CULTURAL | I56: X | K56: X | U56: PATRIMÔNIO CULTURAL-D | V56: SORTEADO | X56: PATRIMÔNIO CULTURAL | Y56: 1 | Z56: SIM | AA56: SIM | AB56: SIM
A57: 36 | B57: ALINE FIGUEIREDO | C57: 052.156.009-88 | D57: figueiredo.aline@gmail.com | E57: 3ª | F57: 01400.005897/2024-01 | G57: 2 CONSTRUÇÃO, REFORMA, ADEQUAÇÃO OU MANUTENÇÃO DE EQUIPAMENTOS CULTURAIS | H57: X | I57: X | V57: SORTEADO | X57: CONSTRUÇÃO, REFORMA, ADEQUAÇÃO OU MANUTENÇÃO DE EQUIPAMENTOS CULTURAIS | Y57: 2 | Z57: SIM | AA57: SIM | AB57: SIM
A58: 36 | B58: ALINE FIGUEIREDO | C58: 052.156.009-88 | D58: figueiredo.aline@gmail.com | E58: 3ª | F58: 01400.005897/2024-01 | G58: 3 MUSEU E MEMÓRIA | I58: X | V58: SORTEADO | X58: MUSEU E MEMÓRIA | Y58: 3 | Z58: SIM | AA58: SIM | AB58: SIM
A59: 37 | B59: ALINE QUIROGA NEVES | C59: 006.719.970-41 | D59: alina_kaos@hotmail.com | E59: 3ª | F59: 01400.005934/2024-73 | G59: 1 PATRIMÔNIO CULTURAL | H59: X | P59: X | X59: PATRIMÔNIO CULTURAL | Y59: 1 | Z59: =IF(ISNA(MATCH(C59,FORMULÁRIO!L:L, 0)),"NÃO","SIM") -> SIM | AA59: SIM | AB59: SIM
A60: 37 | B60: ALINE QUIROGA NEVES | C60: 006.719.970-41 | D60: alina_kaos@hotmail.com | E60: 3ª | F60: 01400.005934/2024-73 | G60: 2 MUSEU E MEMÓRIA | H60: X | I60: X | J60: X | K60: X | L60: X | M60: X | N60: X | O60: X | P60: X | Q60: X | X60: MUSEU E MEMÓRIA | Y60: 2 | Z60: =IF(ISNA(MATCH(C60,FORMULÁRIO!L:L, 0)),"NÃO","SIM") -> SIM | AA60: SIM | AB60: SIM
A61: 38 | B61: ALINNE ANDRADE DE ARAÚJO | C61: 888.228.854-49 | D61: alinneandradeufpe@gmail.com | E61: Nenhuma | F61: 01400.005946/2024-06 | G61: 1 ARTES VISUAIS | H61: X | V61: SORTEADO | X61: ARTES VISUAIS | Y61: 1 | Z61: =IF(ISNA(MATCH(C61,FORMULÁRIO!L:L, 0)),"NÃO","SIM") -> SIM | AA61: NÃO | AB61: NÃO
A62: 38 | B62: ALINNE ANDRADE DE ARAÚJO | C62: 888.228.854-49 | D62: alinneandradeufpe@gmail.com | E62: Nenhuma | F62: 01400.005946/2024-06 | G62: 2 HUMANIDADES | J62: X | K62: X | U62: HUMANIDADES-C | V62: SORTEADO | X62: HUMANIDADES | Y62: 2 | Z62: =IF(ISNA(MATCH(C62,FORMULÁRIO!L:L, 0)),"NÃO","SIM") -> SIM | AA62: NÃO | AB62: NÃO
A63: 38 | B63: ALINNE ANDRADE DE ARAÚJO | C63: 888.228.854-49 | D63: alinneandradeufpe@gmail.com | E63: Nenhuma | F63: 01400.005946/2024-06 | G63: 3 PATRIMÔNIO CULTURAL | H63: X | P63: X | V63: SORTEADO | X63: PATRIMÔNIO CULTURAL | Y63: 3 | Z63: =IF(ISNA(MATCH(C63,FORMULÁRIO!L:L, 0)),"NÃO","SIM") -> SIM | AA63: NÃO | AB63: NÃO
A64: 39 | B64: ALLAN ANDRÉ LOURENÇO | C64: 407.915.798-32 | D64: allan.al@outlook.com.br | E64: Nenhuma | F64: 01400.005954/2024-44 | G64: 1 ARTES VISUAIS | H64: X | X64: ARTES VISUAIS | Y64: 1 | Z64: =IF(ISNA(MATCH(C64,FORMULÁRIO!L:L, 0)),"NÃO","SIM") -> SIM | AA64: NÃO | AB64: NÃO
A65: 40 | B65: ALLAN MOSCON ZAMPERINI | C65: 129.685.927-42 | D65: allanzamperini@gmail.com | E65: Nenhuma | F65: 01400.005955/2024-99 | G65: 1 ARTES CÊNICAS | H65: X | I65: X | J65: X | K65: X | U65: ARTES CÊNICAS-A | V65: SORTEADO | X65: ARTES CÊNICAS | Y65: 1 | Z65: =IF(ISNA(MATCH(C65,FORMULÁRIO!L:L, 0)),"NÃO","SIM") -> SIM | AA65: NÃO | AB65: NÃO
A66: 40 | B66: ALLAN MOSCON ZAMPERINI | C66: 129.685.927-42 | D66: allanzamperini@gmail.com | E66: Nenhuma | F66: 01400.005955/2024-99 | G66: 2 AUDIOVISUAL | H66: X | I66: X | V66: SORTEADO | X66: AUDIOVISUAL | Y66: 2 | Z66: =IF(ISNA(MATCH(C66,FORMULÁRIO!L:L, 0)),"NÃO","SIM") -> SIM | AA66: NÃO | AB66: NÃO
A67: 41 | B67: ÁLVARO SANTI | C67: 412.954.630-91 | D67: itnasoravla@gmail.com | E67: Nenhuma | F67: 01400.005869/2024-86 | G67: 1 HUMANIDADES | H67: X | V67: SORTEADO | X67: HUMANIDADES | Y67: 1 | Z67: =IF(ISNA(MATCH(C67,FORMULÁRIO!L:L, 0)),"NÃO","SIM") -> SIM | AA67: NÃO | AB67: NÃO
A68: 41 | B68: ÁLVARO SANTI | C68: 412.954.630-91 | D68: itnasoravla@gmail.com | E68: Nenhuma | F68: 01400.005869/2024-86 | G68: 2 MÚSICA | I68: X | U68: MÚSICA-B | V68: SORTEADO | X68: MÚSICA | Y68: 2 | Z68: =IF(ISNA(MATCH(C68,FORMULÁRIO!L:L, 0)),"NÃO","SIM") -> SIM | AA68: NÃO | AB68: NÃO
A69: 42 | B69: AMANA SALLES | C69: 223.924.588-39 | D69: amana.salles@gmail.com | E69: 2ª | F69: 72031.017101/2021-04 | G69: 1 ARTES VISUAIS | H69: X | X69: ARTES VISUAIS | Y69: 1 | Z69: =IF(ISNA(MATCH(C69,FORMULÁRIO!L:L, 0)),"NÃO","SIM") -> SIM | AA69: NÃO | AB69: SIM
A70: 43 | B70: AMANDA CRISTINA SAMPAIO SATHLER | C70: 084.848.337-55 | D70: sampaio_amanda@yahoo.com.br | E70: 1ª | F70: 72031.004932/2021-16 | G70: 1 ARTES CÊNICAS | J70: X | X70: ARTES CÊNICAS | Y70: 1 | Z70: =IF(ISNA(MATCH(C70,FORMULÁRIO!L:L, 0)),"NÃO","SIM") -> SIM | AA70: NÃO | AB70: SIM
A71: 43 | B71: AMANDA CRISTINA SAMPAIO SATHLER | C71: 084.848.337-55 | D71: sampaio_amanda@yahoo.com.br | E71: 1ª | F71: 72031.004932/2021-16 | G71: 2 HUMANIDADES | H71: X | J71: X | X71: HUMANIDADES | Y71: 2 | Z71: =IF(ISNA(MATCH(C71,FORMULÁRIO!L:L, 0)),"NÃO","SIM") -> SIM | AA71: NÃO | AB71: SIM
A72: 44 | B72: AMANDA LEAL DE OLIVEIRA | C72: 288.695.098-00 | D72: amanleal@gmail.com | E72: 3ª | F72: 01400.006252/2024-88 | G72: 1 HUMANIDADES | H72: X | J72: X | K72: X | X72: HUMANIDADES | Y72: 1 | Z72: =IF(ISNA(MATCH(C72,FORMULÁRIO!L:L, 0)),"NÃO","SIM") -> SIM | AA72: SIM | AB72: SIM
A73: 44 | B73: AMANDA LEAL DE OLIVEIRA | C73: 288.695.098-00 | D73: amanleal@gmail.com | E73: 3ª | F73: 01400.006252/2024-88 | G73: 2 MUSEU E MEMÓRIA | H73: X | O73: X | X73: MUSEU E MEMÓRIA | Y73: 2 | Z73: =IF(ISNA(MATCH(C73,FORMULÁRIO!L:L, 0)),"NÃO","SIM") -> SIM | AA73: SIM | AB73: SIM
A74: 45 | B74: AMANDA RAMOS ALVES DOS SANTOS | C74: 067.557.624-58 | D74: aamandaramos@gmail.com | E74: Nenhuma | F74: 01400.005973/2024-71 | G74: 1 AUDIOVISUAL | I74: X | X74: AUDIOVISUAL | Y74: 1 | Z74: =IF(ISNA(MATCH(C74,FORMULÁRIO!L:L, 0)),"NÃO","SIM") -> SIM | AA74: NÃO | AB74: NÃO
A75: 46 | B75: AMANDINE DENISE JOSÉMI GOISBAULT | C75: 016.356.564-35 | D75: amandine.goisbault@gmail.com | E75: 2ª | F75: 72031.002940/2021-10 | G75: 1 AUDIOVISUAL | H75: X | I75: X | X75: AUDIOVISUAL | Y75: 1 | Z75: =IF(ISNA(MATCH(C75,FORMULÁRIO!L:L, 0)),"NÃO","SIM") -> SIM | AA75: NÃO | AB75: SIM
A76: 47 | B76: AMILTON MONTEIRO DE OLIVEIRA FILHO | C76: 383.502.778-66 | D76: deazevedo.amilton@gmail.com | E76: Nenhuma | F76: 01400.005979/2024-48 | G76: 1 ARTES CÊNICAS | J76: X | U76: ARTES CÊNICAS-C | V76: SORTEADO | X76: ARTES CÊNICAS | Y76: 1 | Z76: =IF(ISNA(MATCH(C76,FORMULÁRIO!L:L, 0)),"NÃO","SIM") -> SIM | AA76: NÃO | AB76: NÃO
A77: 48 | B77: ANA BÁRBARA RAMOS DA SILVA | C77: 921.998.524-15 | D77: anabarbara.semente@gmail.com | E77: 3ª | F77: 01400.005985/2024-03 | G77: 1 AUDIOVISUAL | H77: X | I77: X | X77: AUDIOVISUAL | Y77: 1 | Z77: =IF(ISNA(MATCH(C77,FORMULÁRIO!L:L, 0)),"NÃO","SIM") -> NÃO | AA77: SIM | AB77: SIM
A78: 49 | B78: ANA BEATRIS BATISTA DA SILVA | C78: 687.216.096-91 | D78: anabeatriss@terra.com.br | E78: Nenhuma | F78: 01400.006029/2024-31 | G78: 1 HUMANIDADES | I78: X | J78: X | K78: X | U78: HUMANIDADES-B | V78: SORTEADO | X78: HUMANIDADES | Y78: 1 | Z78: =IF(ISNA(MATCH(C78,FORMULÁRIO!L:L, 0)),"NÃO","SIM") -> SIM | AA78: NÃO | AB78: NÃO
A79: 50 | B79: ANA BEATRIZ BORREGO | C79: 201.882.498-85 | D79: beatrizborrego@gmail.com | E79: 3ª | F79: 01400.006030/2024-65 | G79: 1 AUDIOVISUAL | H79: X | I79: X | J79: X | X79: AUDIOVISUAL | Y79: 1 | Z79: =IF(ISNA(MATCH(C79,FORMULÁRIO!L:L, 0)),"NÃO","SIM") -> NÃO | AA79: SIM | AB79: SIM
A80: 51 | B80: ANA BEATRIZ MAGALHÃES MATTAR | C80: 086.234.688-64 | D80: biatap@gmail.com | E80: Nenhuma | F80: 01400.006031/2024-18 | G80: 1 ARTES CÊNICAS | I80: X | K80: X | X80: ARTES CÊNICAS | Y80: 1 | Z80: =IF(ISNA(MATCH(C80,FORMULÁRIO!L:L, 0)),"NÃO","SIM") -> SIM | AA80: NÃO | AB80: NÃO
A81: 52 | B81: ANA CAROLINA ALVES DA SILVA | C81: 081.932.519-89 | D81: ana_13_carol@hotmail.com | E81: 3ª | F81: 01400.006032/2024-54 | G81: 1 ARTES CÊNICAS | J81: X | K81: X | X81: ARTES CÊNICAS | Y81: 1 | Z81: =IF(ISNA(MATCH(C81,FORMULÁRIO!L:L, 0)),"NÃO","SIM") -> SIM | AA81: SIM | AB81: SIM
A82: 53 | B82: ANA CAROLINA ANTUNES SANTOS | C82: 012.875.786-83 | D82: ana.anacarolina@gmail.com | E82: Nenhuma | F82: 01400.006035/2024-98 | G82: 1 AUDIOVISUAL | I82: X | X82: AUDIOVISUAL | Y82: 1 | Z82: =IF(ISNA(MATCH(C82,FORMULÁRIO!L:L, 0)),"NÃO","SIM") -> NÃO | AA82: NÃO | AB82: NÃO
A83: 53 | B83: ANA CAROLINA ANTUNES SANTOS | C83: 012.875.786-83 | D83: ana.anacarolina@gmail.com | E83: Nenhuma | F83: 01400.006035/2024-98 | G83: 2 MÚSICA | I83: X | X83: MÚSICA | Y83: 2 | Z83: =IF(ISNA(MATCH(C83,FORMULÁRIO!L:L, 0)),"NÃO","SIM") -> NÃO | AA83: NÃO | AB83: NÃO
A84: 54 | B84: ANA CAROLINA FABRI | C84: 281.770.428-23 | D84: anacarolinafabri@gmail.com | E84: 1ª | F84: 72031.017102/2021-41 | G84: 1 ARTES CÊNICAS | I84: X | J84: X | X84: ARTES CÊNICAS | Y84: 1 | Z84: =IF(ISNA(MATCH(C84,FORMULÁRIO!L:L, 0)),"NÃO","SIM") -> NÃO | AA84: NÃO | AB84: SIM
A85: 54 | B85: ANA CAROLINA FABRI | C85: 281.770.428-23 | D85: anacarolinafabri@gmail.com | E85: 1ª | F85: 72031.017102/2021-41 | G85: 2 ARTES VISUAIS | H85: X | X85: ARTES VISUAIS | Y85: 2 | Z85: =IF(ISNA(MATCH(C85,FORMULÁRIO!L:L, 0)),"NÃO","SIM") -> NÃO | AA85: NÃO | AB85: SIM
A86: 55 | B86: ANA CAROLINA STRAPAÇÃO GUEDES VIANNA | C86: 063.099.104-93 | D86: anacarolinasguedes@gmail.com | E86: Nenhuma | F86: 01400.006037/2024-87 | G86: 1 ARTES CÊNICAS | J86: X | U86: ARTES CÊNICAS-C | V86: SORTEADO | X86: ARTES CÊNICAS | Y86: 1 | Z86: =IF(ISNA(MATCH(C86,FORMULÁRIO!L:L, 0)),"NÃO","SIM") -> SIM | AA86: NÃO | AB86: NÃO
A87: 56 | B87: ANA CAROLINE DO ESPIRITO SANTO CHAVES | C87: 767.995.572-72 | D87: anakesc@yahoo.com.br | E87: Nenhuma | F87: 01400.006039/2024-76 | G87: 1 ARTES CÊNICAS | I87: X | U87: ARTES CÊNICAS-B | V87: SORTEADO | X87: ARTES CÊNICAS | Y87: 1 | Z87: =IF(ISNA(MATCH(C87,FORMULÁRIO!L:L, 0)),"NÃO","SIM") -> SIM | AA87: NÃO | AB87: NÃO
A88: 56 | B88: ANA CAROLINE DO ESPIRITO SANTO CHAVES | C88: 767.995.572-72 | D88: anakesc@yahoo.com.br | E88: Nenhuma | F88: 01400.006039/2024-76 | G88: 2 AUDIOVISUAL | H88: X | V88: SORTEADO | X88: AUDIOVISUAL | Y88: 2 | Z88: =IF(ISNA(MATCH(C88,FORMULÁRIO!L:L, 0)),"NÃO","SIM") -> SIM | AA88: NÃO | AB88: NÃO
A89: 56 | B89: ANA CAROLINE DO ESPIRITO SANTO CHAVES | C89: 767.995.572-72 | D89: anakesc@yahoo.com.br | E89: Nenhuma | F89: 01400.006039/2024-76 | G89: 3 HUMANIDADES | H89: X | V89: SORTEADO | X89: HUMANIDADES | Y89: 3 | Z89: =IF(ISNA(MATCH(C89,FORMULÁRIO!L:L, 0)),"NÃO","SIM") -> SIM | AA89: NÃO | AB89: NÃO
A90: 57 | B90: ANA CARTAXO BANDEIRA DE MELO | C90: 099.084.711-04 | D90: cartaxobandeirademelo@gmail.com | E90: 2ª | F90: 72031.011592/2021-71 | G90: 1 ARTES CÊNICAS | H90: X | I90: X | X90: ARTES CÊNICAS | Y90: 1 | Z90: =IF(ISNA(MATCH(C90,FORMULÁRIO!L:L, 0)),"NÃO","SIM") -> SIM | AA90: NÃO | AB90: SIM
A91: 58 | B91: ANA CECÍLIA REIS DE AZEVEDO | C91: 117.110.117-11 | D91: anaceciliateatro@gmail.com | E91: 3ª | F91: 01400.006041/2024-45 | G91: 1 ARTES CÊNICAS | I91: X | J91: X | X91: ARTES CÊNICAS | Y91: 1 | Z91: =IF(ISNA(MATCH(C91,FORMULÁRIO!L:L, 0)),"NÃO","SIM") -> SIM | AA91: SIM | AB91: SIM
A92: 59 | B92: ANA CLAUDIA CARVALHO DE OLIVEIRA | C92: 065.713.168-70 | D92: case@casecultural.com.br | E92: 1ª | F92: 72031.002936/2021-51 | G92: 1 AUDIOVISUAL | H92: X | X92: AUDIOVISUAL | Y92: 1 | Z92: =IF(ISNA(MATCH(C92,FORMULÁRIO!L:L, 0)),"NÃO","SIM") -> SIM | AA92: NÃO | AB92: SIM
A93: 60 | B93: ANA DANIELA DE SOUZA GILLONE | C93: 122.222.628-60 | D93: danielagillone@gmail.com | E93: 1ª | F93: 72031.002873/2021-33 | G93: 1 AUDIOVISUAL | H93: X | I93: X | X93: AUDIOVISUAL | Y93: 1 | Z93: =IF(ISNA(MATCH(C93,FORMULÁRIO!L:L, 0)),"NÃO","SIM") -> SIM | AA93: NÃO | AB93: SIM
A94: 61 | B94: ANA LUCIA RODRIGUES DE OLIVEIRA | C94: 024.215.527-88 | D94: alrostern@gmail.com | E94: Nenhuma | F94: 01400.006044/2024-89 | G94: 1 PATRIMÔNIO CULTURAL | H94: X | I94: X | X94: PATRIMÔNIO CULTURAL | Y94: 1 | Z94: =IF(ISNA(MATCH(C94,FORMULÁRIO!L:L, 0)),"NÃO","SIM") -> NÃO | AA94: NÃO | AB94: NÃO
A95: 61 | B95: ANA LUCIA RODRIGUES DE OLIVEIRA | C95: 024.215.527-88 | D95: alrostern@gmail.com | E95: Nenhuma | F95: 01400.006044/2024-89 | G95: 2 MUSEU E MEMÓRIA | I95: X | X95: MUSEU E MEMÓRIA | Y95: 2 | Z95: =IF(ISNA(MATCH(C95,FORMULÁRIO!L:L, 0)),"NÃO","SIM") -> NÃO | AA95: NÃO | AB95: NÃO
A96: 61 | B96: ANA LUCIA RODRIGUES DE OLIVEIRA | C96: 024.215.527-88 | D96: alrostern@gmail.com | E96: Nenhuma | F96: 01400.006044/2024-89 | G96: 3 CONSTRUÇÃO, REFORMA, ADEQUAÇÃO OU MANUTENÇÃO DE EQUIPAMENTOS CULTURAIS | H96: X | I96: X | X96: CONSTRUÇÃO, REFORMA, ADEQUAÇÃO OU MANUTENÇÃO DE EQUIPAMENTOS CULTURAIS | Y96: 3 | Z96: =IF(ISNA(MATCH(C96,FORMULÁRIO!L:L, 0)),"NÃO","SIM") -> NÃO | AA96: NÃO | AB96: NÃO
A97: 62 | B97: ANA LÚCIA VACCHIANO | C97: 839.734.357-15 | D97: lu-annalu@hotmail.com | E97: 1ª | F97: 72031.017108/2021-18 | G97: 1 ARTES VISUAIS | H97: X | X97: ARTES VISUAIS | Y97: 1 | Z97: =IF(ISNA(MATCH(C97,FORMULÁRIO!L:L, 0)),"NÃO","SIM") -> SIM | AA97: NÃO | AB97: SIM
A98: 62 | B98: ANA LÚCIA VACCHIANO | C98: 839.734.357-15 | D98: lu-annalu@hotmail.com | E98: 1ª | F98: 72031.017108/2021-18 | G98: 2 HUMANIDADES | H98: X | X98: HUMANIDADES | Y98: 2 | Z98: =IF(ISNA(MATCH(C98,FORMULÁRIO!L:L, 0)),"NÃO","SIM") -> SIM | AA98: NÃO | AB98: SIM
A99: 62 | B99: ANA LÚCIA VACCHIANO | C99: 839.734.357-15 | D99: lu-annalu@hotmail.com | E99: 1ª | F99: 72031.017108/2021-18 | G99: 3 MUSEU E MEMÓRIA | I99: X | M99: X | X99: MUSEU E MEMÓRIA | Y99: 3 | Z99: =IF(ISNA(MATCH(C99,FORMULÁRIO!L:L, 0)),"NÃO","SIM") -> SIM | AA99: NÃO | AB99: SIM
A100: 63 | B100: ANA LÚCIA VASCONCELLOS QUEIROZ | C100: 022.248.668-60 | D100: anavqueiroz@gmail.com | E100: Nenhuma | F100: 01400.005879/2024-11 | G100: 1 HUMANIDADES | H100: X | U100: FNC | V100: SORTEADO | X100: HUMANIDADES | Y100: 1 | Z100: =IF(ISNA(MATCH(C100,FORMULÁRIO!L:L, 0)),"NÃO","SIM") -> SIM | AA100: NÃO | AB100: NÃO
...

Sheet FORMULÁRIO
A1: Carimbo de data/hora | B1: Endereço de e-mail | C1: Pontuação | D1: Nome (mesmo do credenciamento) | E1: Informe seu CPF: | F1: E-mail (mesmo do credenciamento) | G1: Celular | H1: Você confirma disponibilidade para concorrer à contratação de pareceristas para atuação em 2025 e 2026? | I1: Caso negativo, justifique: | J1: 1 - Declaro estar ciente dos normativos que regem o Banco de Pareceristas da SEFIC/MinC e, em caso de ser contemplado no sorteio, comprometo-me a a analisar os produtos, projetos, propostas ou planos de ação a mim distribuídos, salvo aqueles em que: - i | K1: CPF | L1: CPF FORMATADO | M1: OBS
A2: 45743.731 | B2: britoanapaulaa@gmail.com | C2: 0 | D2: Ana Paula Ferreira de Brito | E2: 073.326.814-55 | F2: britoanapaulaa@gmail.com | G2: 11955553013 | H2: SIM | J2: SIM | K2: =IFERROR(INDEX('LISTAS DE PARTICIPANTES'!B:B,MATCH(FORMULÁRIO!L2,'LISTAS DE PARTICIPANTES'!C:C,0)),"NÃO ENCONTRADO") -> ANA PAULA FERREIRA DE BRITO | L2: 073.326.814-55
A3: 45743.732 | B3: quartoimaginario@gmail.com | C3: 0 | D3: Alex Santos Barbosa | E3: 002.340.165-66 | F3: quartoimaginario@gmail.com | G3: 73991547056 | H3: SIM | J3: SIM | K3: =IFERROR(INDEX('LISTAS DE PARTICIPANTES'!B:B,MATCH(FORMULÁRIO!L3,'LISTAS DE PARTICIPANTES'!C:C,0)),"NÃO ENCONTRADO") -> ALEX SANTOS BARBOSA | L3: 002.340.165-66
A4: 45743.735 | B4: frazaocomplex@gmail.com | C4: 0 | D4: Ana Paula de Andrade Frazão | E4: 029.550.719-51 | F4: anapaulafrazao@hotmail.com | G4: 41996877939 | H4: SIM | J4: SIM | K4: =IFERROR(INDEX('LISTAS DE PARTICIPANTES'!B:B,MATCH(FORMULÁRIO!L4,'LISTAS DE PARTICIPANTES'!C:C,0)),"NÃO ENCONTRADO") -> ANA PAULA DE ANDRADE FRAZÃO | L4: 029.550.719-51
A5: 45743.736 | B5: adrianecarvalhodf@gmail.com | C5: 0 | D5: Adriane Ferreira Carvalho Costa | E5: 700.514.451-15 | F5: adrianecarvalhodf@gmail.com | G5: 62981714074 | H5: SIM | J5: SIM | K5: =IFERROR(INDEX('LISTAS DE PARTICIPANTES'!B:B,MATCH(FORMULÁRIO!L5,'LISTAS DE PARTICIPANTES'!C:C,0)),"NÃO ENCONTRADO") -> ADRIANE FERREIRA CARVALHO COSTA | L5: 700.514.451-15
A6: 45743.737 | B6: solmaiorproducaocultural@gmail.com | C6: 0 | D6: Adriana Martins da Silva | E6: 131.354.178-83 | F6: solmaiorproducaocultural@gmail.com | G6: 21 965368660 | H6: SIM | J6: SIM | K6: =IFERROR(INDEX('LISTAS DE PARTICIPANTES'!B:B,MATCH(FORMULÁRIO!L6,'LISTAS DE PARTICIPANTES'!C:C,0)),"NÃO ENCONTRADO") -> ADRIANA MARTINS DA SILVA | L6: 131.354.178-83
A7: 45743.737 | B7: adrianapisciottano@gmail.com | C7: 0 | D7: Adriana Maria Pisciottano Athaide | E7: 092.919.948-04 | F7: carprim@uol.com.br | G7: 11 99941-5567 | H7: SIM | J7: SIM | K7: =IFERROR(INDEX('LISTAS DE PARTICIPANTES'!B:B,MATCH(FORMULÁRIO!L7,'LISTAS DE PARTICIPANTES'!C:C,0)),"NÃO ENCONTRADO") -> ADRIANA MARIA PISCIOTTANO ATHAIDE | L7: 092.919.948-04
A8: 45743.738 | B8: chfalcao@gmail.com | C8: 0 | D8: Christiane Rocha Ciovana Falcão | E8: 010.863.555-47 | F8: chfalcao@gmail.com | G8: (79) 996835321 | H8: SIM | J8: SIM | K8: =IFERROR(INDEX('LISTAS DE PARTICIPANTES'!B:B,MATCH(FORMULÁRIO!L8,'LISTAS DE PARTICIPANTES'!C:C,0)),"NÃO ENCONTRADO") -> CHRISTIANE ROCHA CIOVANA FALCÃO | L8: 010.863.555-47
A9: 45743.74 | B9: charlene.com.ch@gmail.com | C9: 0 | D9: Charlene Cabral Pinheiro | E9: 987.443.300-06 | F9: charlene.com.ch@gmail.com | G9: (11)940669699 | H9: SIM | J9: SIM | K9: =IFERROR(INDEX('LISTAS DE PARTICIPANTES'!B:B,MATCH(FORMULÁRIO!L9,'LISTAS DE PARTICIPANTES'!C:C,0)),"NÃO ENCONTRADO") -> CHARLENE CABRAL PINHEIRO | L9: 987.443.300-06
A10: 45743.74 | B10: pessoabrunalima@gmail.com | C10: 0 | D10: Bruna Pessoa Lima | E10: 048.213.483-65 | F10: pessoabrunalima@gmail.com | G10: (85)994386875 | H10: SIM | J10: SIM | K10: =IFERROR(INDEX('LISTAS DE PARTICIPANTES'!B:B,MATCH(FORMULÁRIO!L10,'LISTAS DE PARTICIPANTES'!C:C,0)),"NÃO ENCONTRADO") -> BRUNA PESSOA LIMA | L10: 048.213.483-65
A11: 45743.74 | B11: oliveirafilhocg@gmail.com | C11: 0 | D11: Carlos Gomes de Oliveira Filho | E11: 044.136.214-17 | F11: oliveirafilhocg@gmail.com | G11: 81 987188060 | H11: SIM | J11: SIM | K11: =IFERROR(INDEX('LISTAS DE PARTICIPANTES'!B:B,MATCH(FORMULÁRIO!L11,'LISTAS DE PARTICIPANTES'!C:C,0)),"NÃO ENCONTRADO") -> CARLOS GOMES DE OLIVEIRA FILHO | L11: 044.136.214-17
A12: 45743.74 | B12: aamandaramos@gmail.com | C12: 0 | D12: Amanda Ramos Alves dos Santos | E12: 067.557.624-58 | F12: aamandaramos@gmail.com | G12: (81) 99873-3576 | H12: SIM | J12: SIM | K12: =IFERROR(INDEX('LISTAS DE PARTICIPANTES'!B:B,MATCH(FORMULÁRIO!L12,'LISTAS DE PARTICIPANTES'!C:C,0)),"NÃO ENCONTRADO") -> AMANDA RAMOS ALVES DOS SANTOS | L12: 067.557.624-58
A13: 45743.741 | B13: wendellmlima@gmail.com | C13: 0 | D13: Carlos Wendell Moura de Lima | E13: 623.372.383-34 | F13: wendellmlima@gmail.com | G13: 85991565754 | H13: SIM | J13: SIM | K13: =IFERROR(INDEX('LISTAS DE PARTICIPANTES'!B:B,MATCH(FORMULÁRIO!L13,'LISTAS DE PARTICIPANTES'!C:C,0)),"NÃO ENCONTRADO") -> CARLOS WENDELL MOURA DE LIMA | L13: 623.372.383-34
A14: 45743.741 | B14: caro.alvim@gmail.com | C14: 0 | D14: Carolina de abreu Alvim tomazi | E14: 302.597.518-04 | F14: caro.alvim@gmail.com | G14: 41998375651 | H14: SIM | J14: SIM | K14: =IFERROR(INDEX('LISTAS DE PARTICIPANTES'!B:B,MATCH(FORMULÁRIO!L14,'LISTAS DE PARTICIPANTES'!C:C,0)),"NÃO ENCONTRADO") -> CAROLINA DE ABREU ALVIM TOMAZI | L14: 302.597.518-04
A15: 45743.741 | B15: claudiorafael.almeidadesouza@gmail.com | C15: 0 | D15: Claudio Rafael Almeida de Souza | E15: 025.207.595-18 | F15: claudiorafael.almeidadesouza@gmail.com | G15: 71984831073 | H15: SIM | J15: SIM | K15: =IFERROR(INDEX('LISTAS DE PARTICIPANTES'!B:B,MATCH(FORMULÁRIO!L15,'LISTAS DE PARTICIPANTES'!C:C,0)),"NÃO ENCONTRADO") -> CLAUDIO RAFAEL ALMEIDA DE SOUZA | L15: 025.207.595-18
A16: 45743.744 | B16: oliveiraanderson.pesquisa@gmail.com | C16: 0 | D16: Anderson Luiz da Silva de Oliveira | E16: 132.393.637-80 | F16: oliveiraanderson.pesquisa@gmail.com | G16: (21)996110576 | H16: SIM | J16: SIM | K16: =IFERROR(INDEX('LISTAS DE PARTICIPANTES'!B:B,MATCH(FORMULÁRIO!L16,'LISTAS DE PARTICIPANTES'!C:C,0)),"NÃO ENCONTRADO") -> ANDERSON LUIZ DA SILVA DE OLIVEIRA | L16: 132.393.637-80
A17: 45743.744 | B17: estefanycouto0@gmail.com | C17: 0 | D17: Estefany Miléo de Couto | E17: 886.711.432-87 | F17: estefanycouto@hotmail.com | G17: 93-991663072 | H17: SIM | J17: SIM | K17: =IFERROR(INDEX('LISTAS DE PARTICIPANTES'!B:B,MATCH(FORMULÁRIO!L17,'LISTAS DE PARTICIPANTES'!C:C,0)),"NÃO ENCONTRADO") -> ESTEFANY MILÉO DE COUTO | L17: 886.711.432-87
A18: 45743.744 | B18: brucampolina@gmail.com | C18: 0 | D18: Bruno Emiliano Campolina de Araújo | E18: 045.177.906-14 | F18: brucampolina@gmail.com | G18: (31)985285844 | H18: SIM | J18: SIM | K18: =IFERROR(INDEX('LISTAS DE PARTICIPANTES'!B:B,MATCH(FORMULÁRIO!L18,'LISTAS DE PARTICIPANTES'!C:C,0)),"NÃO ENCONTRADO") -> BRUNO EMILIANO CAMPOLINA DE ARAÚJO | L18: 045.177.906-14
A19: 45743.745 | B19: andressabatista89@gmail.com | C19: 0 | D19: Andressa Christiny do Carmo Batista | E19: 001.497.952-70 | F19: andressabatista89@gmail.com | G19: 69992508279 | H19: SIM | J19: SIM | K19: =IFERROR(INDEX('LISTAS DE PARTICIPANTES'!B:B,MATCH(FORMULÁRIO!L19,'LISTAS DE PARTICIPANTES'!C:C,0)),"NÃO ENCONTRADO") -> ANDRESSA CHRISTINY DO CARMO BATISTA | L19: 001.497.952-70
A20: 45743.745 | B20: andre.ufrrj@gmail.com | C20: 0 | D20: André Marcos da Cruz | E20: 12706143711 | F20: andre_marcos@live.com | G20: 24 999692243 | H20: SIM | J20: SIM | K20: =IFERROR(INDEX('LISTAS DE PARTICIPANTES'!B:B,MATCH(FORMULÁRIO!L20,'LISTAS DE PARTICIPANTES'!C:C,0)),"NÃO ENCONTRADO") -> ANDRÉ MARCOS DA CRUZ | L20: 127.061.437-11
A21: 45743.746 | B21: anhaia222@gmail.com | C21: 0 | D21: Andrea de Azevedo Anhaia | E21: 02174881454 | F21: anhaia222@gmail.com | G21: 31 987340388 | H21: SIM | J21: SIM | K21: =IFERROR(INDEX('LISTAS DE PARTICIPANTES'!B:B,MATCH(FORMULÁRIO!L21,'LISTAS DE PARTICIPANTES'!C:C,0)),"NÃO ENCONTRADO") -> ANDREA DE AZEVEDO ANHAIA | L21: 021.748.814-54
A22: 45743.746 | B22: deniscrb@gmail.com | C22: 0 | D22: DENIS CARLOS RODRIGUES BOGÉA | E22: 66241030353 | F22: DENISCRB@GMAIL.COM | G22: 98 9 9609 2470 | H22: SIM | J22: SIM | K22: =IFERROR(INDEX('LISTAS DE PARTICIPANTES'!B:B,MATCH(FORMULÁRIO!L22,'LISTAS DE PARTICIPANTES'!C:C,0)),"NÃO ENCONTRADO") -> DENIS CARLOS RODRIGUES BOGÉA | L22: 662.410.303-53
A23: 45743.747 | B23: teatrokaosescola@gmail.com | C23: 0 | D23: Edward Charles Rodrigues Fão | E23: 74631136987 | F23: edwardfao@hotmail.com | G23: 43996327585 | H23: SIM | I23: Não se aplica | J23: SIM | K23: =IFERROR(INDEX('LISTAS DE PARTICIPANTES'!B:B,MATCH(FORMULÁRIO!L23,'LISTAS DE PARTICIPANTES'!C:C,0)),"NÃO ENCONTRADO") -> EDWARD CHARLES RODRIGUES FÃO | L23: 746.311.369-87
A24: 45743.747 | B24: benderludwig@gmail.com | C24: 0 | D24: Daniel Bender Ludwig | E24: 38298309049 | F24: benderludwig@gmail.com | G24: 51999712675 | H24: SIM | J24: SIM | K24: =IFERROR(INDEX('LISTAS DE PARTICIPANTES'!B:B,MATCH(FORMULÁRIO!L24,'LISTAS DE PARTICIPANTES'!C:C,0)),"NÃO ENCONTRADO") -> DANIEL BENDER LUDWIG | L24: 382.983.090-49
A25: 45743.747 | B25: clariceperso22@gmail.com | C25: 0 | D25: CLARICE MAGALHÃES | E25: 73289434753 | F25: clariceperso22@gmail.com | G25: 21991610952 | H25: SIM | J25: SIM | K25: =IFERROR(INDEX('LISTAS DE PARTICIPANTES'!B:B,MATCH(FORMULÁRIO!L25,'LISTAS DE PARTICIPANTES'!C:C,0)),"NÃO ENCONTRADO") -> CLARICE MAGALHÃES | L25: 732.894.347-53
A26: 45743.748 | B26: manuelabarbarasilva@gmail.com | C26: 0 | D26: Bárbara Manuela Silva dos Santos | E26: 076.405.035-40 | F26: manuelabarbarasilva@gmail.com | G26: 71983017411 | H26: SIM | J26: SIM | K26: =IFERROR(INDEX('LISTAS DE PARTICIPANTES'!B:B,MATCH(FORMULÁRIO!L26,'LISTAS DE PARTICIPANTES'!C:C,0)),"NÃO ENCONTRADO") -> BARBARA MANUELA SILVA DOS SANTOS | L26: 076.405.035-40
A27: 45743.748 | B27: fecvianna@gmail.com | C27: 0 | D27: Felipe Vianna Cintra | E27: 36865482832 | F27: fecvianna@gmail.com | G27: 11972520019 | H27: SIM | J27: SIM | K27: =IFERROR(INDEX('LISTAS DE PARTICIPANTES'!B:B,MATCH(FORMULÁRIO!L27,'LISTAS DE PARTICIPANTES'!C:C,0)),"NÃO ENCONTRADO") -> FELIPE VIANNA CINTRA | L27: 368.654.828-32
A28: 45743.748 | B28: seligman.flavia@gmail.com | C28: 0 | D28: Flávia Seligman | E28: 50984217053 | F28: seligman.flavia@gmail.com | G28: 51996202168 | H28: SIM | J28: SIM | K28: =IFERROR(INDEX('LISTAS DE PARTICIPANTES'!B:B,MATCH(FORMULÁRIO!L28,'LISTAS DE PARTICIPANTES'!C:C,0)),"NÃO ENCONTRADO") -> FLÁVIA SELIGMAN | L28: 509.842.170-53
A29: 45743.748 | B29: natal.carolina@gmail.com | C29: 0 | D29: Carolina Natal Duarte | E29: 283.73.738-18 | F29: natal.carolina@gmail.com | G29: 21 98368-6062 | H29: SIM | J29: SIM | K29: =IFERROR(INDEX('LISTAS DE PARTICIPANTES'!B:B,MATCH(FORMULÁRIO!L29,'LISTAS DE PARTICIPANTES'!C:C,0)),"NÃO ENCONTRADO") -> CAROLINA NATAL DUARTE | L29: 283.753.738-18
A30: 45743.749 | B30: eduraele@gmail.com | C30: 0 | D30: Eduardo Toni Raele | E30: 22777461856 | F30: eduraele@gmail.com | G30: 11992716265 | H30: SIM | J30: SIM | K30: =IFERROR(INDEX('LISTAS DE PARTICIPANTES'!B:B,MATCH(FORMULÁRIO!L30,'LISTAS DE PARTICIPANTES'!C:C,0)),"NÃO ENCONTRADO") -> EDUARDO TONI RAELE | L30: 227.774.618-56
A31: 45743.749 | B31: colllorado171@gmail.com | C31: 0 | D31: Guilherme Augusto de Ávila | E31: 80700667091 | F31: guilherme_violao@hotmail.com | G31: (98) 9855522447 | H31: SIM | J31: SIM | K31: =IFERROR(INDEX('LISTAS DE PARTICIPANTES'!B:B,MATCH(FORMULÁRIO!L31,'LISTAS DE PARTICIPANTES'!C:C,0)),"NÃO ENCONTRADO") -> GUILHERME AUGUSTO DE ÁVILA | L31: 807.006.670-91
A32: 45743.749 | B32: carmenldjorge@gmail.com | C32: 0 | D32: carmen lucia doretto jorge | E32: 125.691.248-42 | F32: carmenldjorge@gmail.com | G32: 41 991425529 | H32: SIM | J32: SIM | K32: =IFERROR(INDEX('LISTAS DE PARTICIPANTES'!B:B,MATCH(FORMULÁRIO!L32,'LISTAS DE PARTICIPANTES'!C:C,0)),"NÃO ENCONTRADO") -> CARMEN LUCIA DORETTO JORGE | L32: 125.691.248-42
A33: 45743.749 | B33: 2021deniseim@gmail.com | C33: 0 | D33: DENISE IVONE MOREIRA | E33: 62455311791 | F33: 2021deniseim@gmail.com | G33: 21971872880 | H33: SIM | J33: SIM | K33: =IFERROR(INDEX('LISTAS DE PARTICIPANTES'!B:B,MATCH(FORMULÁRIO!L33,'LISTAS DE PARTICIPANTES'!C:C,0)),"NÃO ENCONTRADO") -> DENISE IVONE MOREIRA | L33: 624.553.117-91
A34: 45743.749 | B34: maisculturahubcriativo@gmail.com | C34: 0 | D34: Flávia Tebaldi Henriques de Queiroz | E34: 08135995717 | F34: maisculturahubcriativo@gmail.com | G34: 21988313236 | H34: SIM | J34: SIM | K34: =IFERROR(INDEX('LISTAS DE PARTICIPANTES'!B:B,MATCH(FORMULÁRIO!L34,'LISTAS DE PARTICIPANTES'!C:C,0)),"NÃO ENCONTRADO") -> FLÁVIA TEBALDI HENRIQUES DE QUEIROZ | L34: 081.359.957-17
A35: 45743.75 | B35: musicaparabrincar.eventos@gmail.com | C35: 0 | D35: Beatriz de Souza Bessa | E35: 082.176.037-82 | F35: musicaparabrincar.eventos@gmail.com | G35: 21 99258-0606 | H35: SIM | J35: SIM | K35: =IFERROR(INDEX('LISTAS DE PARTICIPANTES'!B:B,MATCH(FORMULÁRIO!L35,'LISTAS DE PARTICIPANTES'!C:C,0)),"NÃO ENCONTRADO") -> BEATRIZ DE SOUZA BESSA | L35: 082.176.037-82
A36: 45743.75 | B36: joanna.savaglia@gmail.com | C36: 0 | D36: Joanna Savaglia | E36: 58843213172 | F36: joannasavaglia@gmail.com | G36: 11976404400 | H36: SIM | J36: SIM | K36: =IFERROR(INDEX('LISTAS DE PARTICIPANTES'!B:B,MATCH(FORMULÁRIO!L36,'LISTAS DE PARTICIPANTES'!C:C,0)),"NÃO ENCONTRADO") -> JOANNA SAVAGLIA | L36: 588.432.131-72
A37: 45743.75 | B37: daniel.lemos@ufma.br | C37: 0 | D37: Daniel Lemos Cerqueira | E37: 06167694664 | F37: dal_lemos@yahoo.com.br | G37: (98) 992068138 | H37: SIM | J37: SIM | K37: =IFERROR(INDEX('LISTAS DE PARTICIPANTES'!B:B,MATCH(FORMULÁRIO!L37,'LISTAS DE PARTICIPANTES'!C:C,0)),"NÃO ENCONTRADO") -> DANIEL LEMOS CERQUEIRA | L37: 061.676.946-64
A38: 45743.751 | B38: biatap@gmail.com | C38: 0 | D38: Ana Beatriz Magalhães Mattar | E38: 08623468864 | F38: biatap@gmail.com | G38: 47992626543 | H38: SIM | J38: SIM | K38: =IFERROR(INDEX('LISTAS DE PARTICIPANTES'!B:B,MATCH(FORMULÁRIO!L38,'LISTAS DE PARTICIPANTES'!C:C,0)),"NÃO ENCONTRADO") -> ANA BEATRIZ MAGALHÃES MATTAR | L38: 086.234.688-64
A39: 45743.751 | B39: consonante.cultura@gmail.com | C39: 0 | D39: Fabricio de Albuquerque Sortica | E39: 90050207091 | F39: consonante.cultura@gmail.com | G39: 51985311131 | H39: SIM | J39: SIM | K39: =IFERROR(INDEX('LISTAS DE PARTICIPANTES'!B:B,MATCH(FORMULÁRIO!L39,'LISTAS DE PARTICIPANTES'!C:C,0)),"NÃO ENCONTRADO") -> FABRICIO DE ALBUQUERQUE SORTICA | L39: 900.502.070-91
A40: 45743.751 | B40: jossierboleao@gmail.com | C40: 0 | D40: Jossier Sales Boleão | E40: 72060484200 | F40: jossierboleao@gmail.com | G40: 62981080270 | H40: SIM | J40: SIM | K40: =IFERROR(INDEX('LISTAS DE PARTICIPANTES'!B:B,MATCH(FORMULÁRIO!L40,'LISTAS DE PARTICIPANTES'!C:C,0)),"NÃO ENCONTRADO") -> JOSSIER SALES BOLEÃO | L40: 720.604.842-00
A41: 45743.752 | B41: julianamachadoba@gmail.com | C41: 0 | D41: Juliana Machado Oliveira | E41: 04026975614 | F41: julianamachadoba@hotmail.com | G41: 73999001382 | H41: SIM | J41: SIM | K41: =IFERROR(INDEX('LISTAS DE PARTICIPANTES'!B:B,MATCH(FORMULÁRIO!L41,'LISTAS DE PARTICIPANTES'!C:C,0)),"NÃO ENCONTRADO") -> JULIANA MACHADO OLIVEIRA | L41: 040.269.756-14
A42: 45743.752 | B42: jefferson.dantass@gmail.com | C42: 0 | D42: Jefferson Dantas Santos | E42: 03351589514 | F42: jefferson.dantass@gmail.com | G42: 85998185586 | H42: SIM | J42: SIM | K42: =IFERROR(INDEX('LISTAS DE PARTICIPANTES'!B:B,MATCH(FORMULÁRIO!L42,'LISTAS DE PARTICIPANTES'!C:C,0)),"NÃO ENCONTRADO") -> JEFFERSON DANTAS SANTOS | L42: 033.515.895-14
A43: 45743.752 | B43: contatokarenparreira@gmail.com | C43: 0 | D43: Fabíula Karen Parreira de Souza e Silva | E43: 71309314187 | F43: contatokarenparreira@gmail.com | G43: 61996111297 | H43: SIM | J43: SIM | K43: =IFERROR(INDEX('LISTAS DE PARTICIPANTES'!B:B,MATCH(FORMULÁRIO!L43,'LISTAS DE PARTICIPANTES'!C:C,0)),"NÃO ENCONTRADO") -> FABÍULA KAREN PARREIRA DE SOUZA E SILVA | L43: 713.093.141-87
A44: 45743.752 | B44: contatojoaodaniel@gmail.com | C44: 0 | D44: João Daniel Ramos | E44: 05237766919 | F44: contatojoaodaniel@gmail.com | G44: 48988660121 | H44: SIM | J44: SIM | K44: =IFERROR(INDEX('LISTAS DE PARTICIPANTES'!B:B,MATCH(FORMULÁRIO!L44,'LISTAS DE PARTICIPANTES'!C:C,0)),"NÃO ENCONTRADO") -> JOÃO DANIEL RAMOS | L44: 052.377.669-19
A45: 45743.752 | B45: luisfdf@gmail.com | C45: 0 | D45: Luís Felipe Duarte Flores | E45: 08821389600 | F45: luisfdf@gmail.com | G45: 31984875413 | H45: SIM | J45: SIM | K45: =IFERROR(INDEX('LISTAS DE PARTICIPANTES'!B:B,MATCH(FORMULÁRIO!L45,'LISTAS DE PARTICIPANTES'!C:C,0)),"NÃO ENCONTRADO") -> LUÍS FELIPE DUARTE FLORES | L45: 088.213.896-00
A46: 45743.752 | B46: luuccianna@gmail.com | C46: 0 | D46: Luciana Thomaz da Silva Machado | E46: 20541439871 | F46: luuccianna@gmail.com | G46: 12981301321 | H46: SIM | J46: SIM | K46: =IFERROR(INDEX('LISTAS DE PARTICIPANTES'!B:B,MATCH(FORMULÁRIO!L46,'LISTAS DE PARTICIPANTES'!C:C,0)),"NÃO ENCONTRADO") -> LUCIANA THOMAZ DA SILVA MACHADO | L46: 205.414.398-71
A47: 45743.752 | B47: dioadelino1@gmail.com | C47: 0 | D47: Diocelio Adelino dos Santos | E47: 03273747994 | F47: dioadelino1@gmail.com | G47: 48988324530 | H47: SIM | J47: SIM | K47: =IFERROR(INDEX('LISTAS DE PARTICIPANTES'!B:B,MATCH(FORMULÁRIO!L47,'LISTAS DE PARTICIPANTES'!C:C,0)),"NÃO ENCONTRADO") -> DIOCELIO ADELINO DOS SANTOS | L47: 032.737.479-94
A48: 45743.753 | B48: thiago.svtavares@gmail.com | C48: 0 | D48: Thiago da Silva Tavares | E48: 11690789743 | F48: thiago.svtavares@gmail.com | G48: 21993056001 | H48: SIM | J48: SIM | K48: =IFERROR(INDEX('LISTAS DE PARTICIPANTES'!B:B,MATCH(FORMULÁRIO!L48,'LISTAS DE PARTICIPANTES'!C:C,0)),"NÃO ENCONTRADO") -> THIAGO DA SILVA TAVARES | L48: 116.907.897-43
A49: 45743.753 | B49: marcelorangelaju@gmail.com | C49: 0 | D49: Marcelo Rangel Lima | E49: 667.516.837-15 | F49: marcelorangelaju@gmail.com | G49: (79) 98821-7804 | H49: SIM | J49: SIM | K49: =IFERROR(INDEX('LISTAS DE PARTICIPANTES'!B:B,MATCH(FORMULÁRIO!L49,'LISTAS DE PARTICIPANTES'!C:C,0)),"NÃO ENCONTRADO") -> MARCELO RANGEL LIMA | L49: 667.516.837-15
A50: 45743.753 | B50: leandroegomes@gmail.com | C50: 0 | D50: Leandro Eustáquio Gomes | E50: 04146785677 | F50: leandroegomes@gmail.com | G50: 31982082108 | H50: SIM | J50: SIM | K50: =IFERROR(INDEX('LISTAS DE PARTICIPANTES'!B:B,MATCH(FORMULÁRIO!L50,'LISTAS DE PARTICIPANTES'!C:C,0)),"NÃO ENCONTRADO") -> LEANDRO EUSTÁQUIO GOMES | L50: 041.467.856-77
A51: 45743.753 | B51: ramonlacerdab@gmail.com | C51: 0 | D51: Ramón Brito Lacerda (Ramón Raquelly) | E51: 06005222538 | F51: ramonlacerdab@gmail.com | G51: 21999719416 | H51: SIM | J51: SIM | K51: =IFERROR(INDEX('LISTAS DE PARTICIPANTES'!B:B,MATCH(FORMULÁRIO!L51,'LISTAS DE PARTICIPANTES'!C:C,0)),"NÃO ENCONTRADO") -> RAMÓN BRITO LACERDA | L51: 060.052.225-38
A52: 45743.754 | B52: bacha.marcella@gmail.com | C52: 0 | D52: Marcella Faustino Fernandes Bacha | E52: 13493888740 | F52: bacha.marcella@gmail.com | G52: 21 995331817 | H52: SIM | J52: SIM | K52: =IFERROR(INDEX('LISTAS DE PARTICIPANTES'!B:B,MATCH(FORMULÁRIO!L52,'LISTAS DE PARTICIPANTES'!C:C,0)),"NÃO ENCONTRADO") -> MARCELLA FAUSTINO FERNANDES BACHA | L52: 134.938.887-40
A53: 45743.754 | B53: virginiaganter@gmail.com | C53: 0 | D53: virginia ganter moraes | E53: 54513685972 | F53: virginiaganter@gmail.com | G53: 11978044445 | H53: SIM | J53: SIM | K53: =IFERROR(INDEX('LISTAS DE PARTICIPANTES'!B:B,MATCH(FORMULÁRIO!L53,'LISTAS DE PARTICIPANTES'!C:C,0)),"NÃO ENCONTRADO") -> VIRGÍNIA GANTER MORAES | L53: 545.136.859-72
A54: 45743.755 | B54: daniel.3macedo@gmail.com | C54: 0 | D54: Daniel Paiva de Macêdo Júnior | E54: 05802211300 | F54: daniel.3macedo@gmail.com | G54: 85997453270 | H54: SIM | J54: SIM | K54: =IFERROR(INDEX('LISTAS DE PARTICIPANTES'!B:B,MATCH(FORMULÁRIO!L54,'LISTAS DE PARTICIPANTES'!C:C,0)),"NÃO ENCONTRADO") -> DANIEL PAIVA DE MACÊDO JÚNIOR | L54: 058.022.113-00
A55: 45743.755 | B55: trilhasul@gmail.com | C55: 0 | D55: Rafael Alessi Martins Bonilha | E55: 03776237929 | F55: trilhasul@gmail.com | G55: 41999289302 | H55: SIM | J55: SIM | K55: =IFERROR(INDEX('LISTAS DE PARTICIPANTES'!B:B,MATCH(FORMULÁRIO!L55,'LISTAS DE PARTICIPANTES'!C:C,0)),"NÃO ENCONTRADO") -> RAFAEL ALESSI MARTINS BONILHA | L55: 037.762.379-29
A56: 45743.755 | B56: dalapa@gmail.com | C56: 0 | D56: Santiago Machado Dellape | E56: 00045312133 | F56: dalapa@gmail.com | G56: 61986364096 | H56: SIM | J56: SIM | K56: =IFERROR(INDEX('LISTAS DE PARTICIPANTES'!B:B,MATCH(FORMULÁRIO!L56,'LISTAS DE PARTICIPANTES'!C:C,0)),"NÃO ENCONTRADO") -> SANTIAGO MACHADO DELLAPE | L56: 000.453.121-33
A57: 45743.755 | B57: valeskaconti.rs@gmail.com | C57: 0 | D57: Valeska Conti | E57: 32874413020 | F57: valeskaconti.rs@gmail.com | G57: 51 998036715 | H57: SIM | J57: SIM | K57: =IFERROR(INDEX('LISTAS DE PARTICIPANTES'!B:B,MATCH(FORMULÁRIO!L57,'LISTAS DE PARTICIPANTES'!C:C,0)),"NÃO ENCONTRADO") -> VALESKA CONTI | L57: 328.744.130-20
A58: 45743.755 | B58: morettiflavia@gmail.com | C58: 0 | D58: Flávia Pinto Moretti | E58: 09960889700 | F58: morettiflavia@gmail.com | G58: 21 995357093 | H58: SIM | J58: SIM | K58: =IFERROR(INDEX('LISTAS DE PARTICIPANTES'!B:B,MATCH(FORMULÁRIO!L58,'LISTAS DE PARTICIPANTES'!C:C,0)),"NÃO ENCONTRADO") -> FLÁVIA PINTO MORETTI | L58: 099.608.897-00
A59: 45743.755 | B59: michaelvalim@gmail.com | C59: 0 | D59: Michael Alessandro Figueira Valim | E59: 81498721168 | F59: michaelvalim@gmail.com | G59: 62981163818 | H59: SIM | J59: SIM | K59: =IFERROR(INDEX('LISTAS DE PARTICIPANTES'!B:B,MATCH(FORMULÁRIO!L59,'LISTAS DE PARTICIPANTES'!C:C,0)),"NÃO ENCONTRADO") -> MICHAEL ALESSANDRO FIGUEIRA VALIM | L59: 814.987.211-68
A60: 45743.755 | B60: mariosilva@ufam.edu.br | C60: 0 | D60: José Mario Silva de Oliveira | E60: 592.837.342-20 | F60: mariosilva@ufam.edu.br | G60: (92) 99367 8825 | H60: SIM | J60: SIM | K60: =IFERROR(INDEX('LISTAS DE PARTICIPANTES'!B:B,MATCH(FORMULÁRIO!L60,'LISTAS DE PARTICIPANTES'!C:C,0)),"NÃO ENCONTRADO") -> JOSÉ MARIO SILVA DE OLIVEIRA | L60: 592.837.342-20
A61: 45743.755 | B61: raqueleducarte@gmail.com | C61: 0 | D61: Raquel Ribeiro dos Santos | E61: 07348442803 | F61: raqueleducarte@gmail.com | G61: 11981146474 | H61: SIM | J61: SIM | K61: =IFERROR(INDEX('LISTAS DE PARTICIPANTES'!B:B,MATCH(FORMULÁRIO!L61,'LISTAS DE PARTICIPANTES'!C:C,0)),"NÃO ENCONTRADO") -> RAQUEL RIBEIRO DOS SANTOS | L61: 073.484.428-03
A62: 45743.756 | B62: fariaturci@gmail.com | C62: 0 | D62: Angelo Márcio Faria Turci | E62: 81392664934 | F62: fariaturci@gmail.com | G62: 21973092514 | H62: SIM | J62: SIM | K62: =IFERROR(INDEX('LISTAS DE PARTICIPANTES'!B:B,MATCH(FORMULÁRIO!L62,'LISTAS DE PARTICIPANTES'!C:C,0)),"NÃO ENCONTRADO") -> ANGELO MÁRCIO FARIA TURCI | L62: 813.926.649-34
A63: 45743.756 | B63: jaquebeltrame@gmail.com | C63: 0 | D63: Jaqueline Fontes Beltrame | E63: 91040566049 | F63: jaquebeltrame@gmail.com | G63: 51999490221 | H63: SIM | J63: SIM | K63: =IFERROR(INDEX('LISTAS DE PARTICIPANTES'!B:B,MATCH(FORMULÁRIO!L63,'LISTAS DE PARTICIPANTES'!C:C,0)),"NÃO ENCONTRADO") -> JAQUELINE FONTES BELTRAME | L63: 910.405.660-49
A64: 45743.756 | B64: monicazafita@gmail.com | C64: 0 | D64: Monica Christine Hubert Zafita | E64: 083.439.728-56 | F64: mzafita@yahoo.com.br | G64: (11) 98231-1212 | H64: SIM | J64: SIM | K64: =IFERROR(INDEX('LISTAS DE PARTICIPANTES'!B:B,MATCH(FORMULÁRIO!L64,'LISTAS DE PARTICIPANTES'!C:C,0)),"NÃO ENCONTRADO") -> MONICA CHRISTINE HUBERT ZAFITA | L64: 083.439.728-56
A65: 45743.756 | B65: arqmarcosrabelo@gmail.com | C65: 0 | D65: Marcos Prado Rabelo | E65: 845.235.657-91 | F65: arqmarcosrabelo@gmail.com | G65: 27996222224 | H65: SIM | I65: Não aplicável | J65: SIM | K65: =IFERROR(INDEX('LISTAS DE PARTICIPANTES'!B:B,MATCH(FORMULÁRIO!L65,'LISTAS DE PARTICIPANTES'!C:C,0)),"NÃO ENCONTRADO") -> MARCOS PRADO RABELO | L65: 845.235.657-91
A66: 45743.756 | B66: ricardoandrebessa@gmail.com | C66: 0 | D66: Ricardo André Santana Bessa | E66: 42583098349 | F66: ricardoandrebessa@gmail.com | G66: 85997061760 | H66: SIM | J66: SIM | K66: =IFERROR(INDEX('LISTAS DE PARTICIPANTES'!B:B,MATCH(FORMULÁRIO!L66,'LISTAS DE PARTICIPANTES'!C:C,0)),"NÃO ENCONTRADO") -> RICARDO ANDRÉ SANTANA BESSA | L66: 425.830.983-49
A67: 45743.756 | B67: tiago.campany@gmail.com | C67: 0 | D67: Tiago Campany Ferraz | E67: 08677351710 | F67: tiago.campany@gmail.com | G67: 21998948169 | H67: SIM | J67: SIM | K67: =IFERROR(INDEX('LISTAS DE PARTICIPANTES'!B:B,MATCH(FORMULÁRIO!L67,'LISTAS DE PARTICIPANTES'!C:C,0)),"NÃO ENCONTRADO") -> TIAGO CAMPANY FERRAZ | L67: 086.773.517-10
A68: 45743.756 | B68: mharcosc@gmail.com | C68: 0 | D68: Marcos Vinicius Caye Lara | E68: 01913437060 | F68: marcoscaye@hotmail.com | G68: 55 999865791 | H68: SIM | J68: SIM | K68: =IFERROR(INDEX('LISTAS DE PARTICIPANTES'!B:B,MATCH(FORMULÁRIO!L68,'LISTAS DE PARTICIPANTES'!C:C,0)),"NÃO ENCONTRADO") -> MARCOS VINICIUS CAYE LARA | L68: 019.134.370-60
A69: 45743.757 | B69: chagaspitthan@gmail.com | C69: 0 | D69: Julio Chagas Pitthan | E69: 011.170.700-50 | F69: chagaspitthan@gmail.com | G69: 54999676001 | H69: SIM | J69: SIM | K69: =IFERROR(INDEX('LISTAS DE PARTICIPANTES'!B:B,MATCH(FORMULÁRIO!L69,'LISTAS DE PARTICIPANTES'!C:C,0)),"NÃO ENCONTRADO") -> JULIO CHAGAS PITTHAN | L69: 011.170.700-50
A70: 45743.757 | B70: ubiratanjuriti@gmail.com | C70: 0 | D70: Lígia Marina de Almeida | E70: 33093902843 | F70: ubiratanjuriti@gmail.com | G70: 81999277264 | H70: SIM | J70: SIM | K70: =IFERROR(INDEX('LISTAS DE PARTICIPANTES'!B:B,MATCH(FORMULÁRIO!L70,'LISTAS DE PARTICIPANTES'!C:C,0)),"NÃO ENCONTRADO") -> LÍGIA MARINA DE ALMEIDA | L70: 330.939.028-43
A71: 45743.757 | B71: taianagarciam@gmail.com | C71: 0 | D71: Taiana Garcia Mendes | E71: 33672193801 | F71: taianagarciam@gmail.com | G71: 11974874078 | H71: SIM | J71: SIM | K71: =IFERROR(INDEX('LISTAS DE PARTICIPANTES'!B:B,MATCH(FORMULÁRIO!L71,'LISTAS DE PARTICIPANTES'!C:C,0)),"NÃO ENCONTRADO") -> TAIANA GARCIA MENDES | L71: 336.721.938-01
A72: 45743.757 | B72: donnedias1@gmail.com | C72: 0 | D72: Wellington Dias de Jesus | E72: 81845545168 | F72: donnedias1@gmail.com | G72: 62992136814 | H72: SIM | J72: SIM | K72: =IFERROR(INDEX('LISTAS DE PARTICIPANTES'!B:B,MATCH(FORMULÁRIO!L72,'LISTAS DE PARTICIPANTES'!C:C,0)),"NÃO ENCONTRADO") -> WELLINGTON DIAS DE JESUS | L72: 818.455.451-68
A73: 45743.757 | B73: aniceecsbittencourt@gmail.com | C73: 0 | D73: Anicee do Carmo e Silva | E73: 68093322272 | F73: aniceecsbittencourt@gmail.com | G73: 91988216480 | H73: SIM | J73: SIM | K73: =IFERROR(INDEX('LISTAS DE PARTICIPANTES'!B:B,MATCH(FORMULÁRIO!L73,'LISTAS DE PARTICIPANTES'!C:C,0)),"NÃO ENCONTRADO") -> ANICÉE DO CARMO E SILVA | L73: 680.933.222-72
A74: 45743.757 | B74: ritaboechat@gmail.com | C74: 0 | D74: Rita Boechat e Oliveira | E74: 071.305.326-70 | F74: ritaboechat@gmail.com | G74: 31 985179575 | H74: SIM | J74: SIM | K74: =IFERROR(INDEX('LISTAS DE PARTICIPANTES'!B:B,MATCH(FORMULÁRIO!L74,'LISTAS DE PARTICIPANTES'!C:C,0)),"NÃO ENCONTRADO") -> RITA BOECHAT E OLIVEIRA | L74: 071.305.326-70
A75: 45743.758 | B75: carolinaficheira@gmail.com | C75: 0 | D75: Carolina Marques Henriques Ficheira | E75: 09500872706 | F75: carolinaficheira@gmail.com | G75: 21988769128 | H75: SIM | J75: SIM | K75: =IFERROR(INDEX('LISTAS DE PARTICIPANTES'!B:B,MATCH(FORMULÁRIO!L75,'LISTAS DE PARTICIPANTES'!C:C,0)),"NÃO ENCONTRADO") -> CAROLINA MARQUES HENRIQUES FICHEIRA | L75: 095.008.727-06
A76: 45743.758 | B76: mariane.cultura@gmail.com | C76: 0 | D76: Mariane Feil | E76: 000.152.899-82 | F76: mariane.cultura@gmail.com | G76: 11 977249717 | H76: SIM | J76: SIM | K76: =IFERROR(INDEX('LISTAS DE PARTICIPANTES'!B:B,MATCH(FORMULÁRIO!L76,'LISTAS DE PARTICIPANTES'!C:C,0)),"NÃO ENCONTRADO") -> MARIANE FEIL | L76: 000.152.899-82
A77: 45743.758 | B77: vernercultural@gmail.com | C77: 0 | D77: Lígia Verônica Ferreira da Silva | E77: 74243101434 | F77: vernercultural@gmail.com | G77: 81 996429493 | H77: SIM | J77: SIM | K77: =IFERROR(INDEX('LISTAS DE PARTICIPANTES'!B:B,MATCH(FORMULÁRIO!L77,'LISTAS DE PARTICIPANTES'!C:C,0)),"NÃO ENCONTRADO") -> LÍGIA VERÔNICA FERREIRA DA SILVA | L77: 742.431.014-34
A78: 45743.758 | B78: lele2703@gmail.com | C78: 0 | D78: Letícia Martins Dias | E78: 01390123707 | F78: lele2703@gmail.com | G78: 21987975768 | H78: SIM | J78: SIM | K78: =IFERROR(INDEX('LISTAS DE PARTICIPANTES'!B:B,MATCH(FORMULÁRIO!L78,'LISTAS DE PARTICIPANTES'!C:C,0)),"NÃO ENCONTRADO") -> LETÍCIA MARTINS DIAS | L78: 013.901.237-07
A79: 45743.758 | B79: marcelabrid@gmail.com | C79: 0 | D79: Marcela Mota Moreira Lopes | E79: 854.970.963-87 | F79: marcelabrid@gmail.com | G79: 61998022296 | H79: SIM | J79: SIM | K79: =IFERROR(INDEX('LISTAS DE PARTICIPANTES'!B:B,MATCH(FORMULÁRIO!L79,'LISTAS DE PARTICIPANTES'!C:C,0)),"NÃO ENCONTRADO") -> MARCELA MOTA MOREIRA LOPES | L79: 854.970.963-87
A80: 45743.758 | B80: lbreduardo@gmail.com | C80: 0 | D80: Eduardo Ferreira Moura | E80: 13152859759 | F80: lbreduardo@gmail.com | G80: 31982211039 | H80: SIM | J80: SIM | K80: =IFERROR(INDEX('LISTAS DE PARTICIPANTES'!B:B,MATCH(FORMULÁRIO!L80,'LISTAS DE PARTICIPANTES'!C:C,0)),"NÃO ENCONTRADO") -> EDUARDO FERREIRA MOURA | L80: 131.528.597-59
A81: 45743.758 | B81: maurojpjunior@hotmail.com | C81: 0 | D81: Mauro José dos Prazeres Júnior | E81: 341.528.058-62 | F81: maurojpjunior@hotmail.com | G81: 11 96081-4367 | H81: SIM | J81: SIM | K81: =IFERROR(INDEX('LISTAS DE PARTICIPANTES'!B:B,MATCH(FORMULÁRIO!L81,'LISTAS DE PARTICIPANTES'!C:C,0)),"NÃO ENCONTRADO") -> MAURO JOSÉ DOS PRAZERES JÚNIOR | L81: 341.528.058-62
A82: 45743.759 | B82: nilsondeoliveira86@gmail.com | C82: 0 | D82: Nilson Gonçalves de Oliveira | E82: 080.348.756-86 | F82: nilsondeoliveira86@gmail.com | G82: (31) 98632 4998 | H82: SIM | J82: SIM | K82: =IFERROR(INDEX('LISTAS DE PARTICIPANTES'!B:B,MATCH(FORMULÁRIO!L82,'LISTAS DE PARTICIPANTES'!C:C,0)),"NÃO ENCONTRADO") -> NILSON GONÇALVES DE OLIVEIRA | L82: 080.348.756-86
A83: 45743.759 | B83: marinavieira.cultura01@gmail.com | C83: 0 | D83: Marina Vieira | E83: 80464556791 | F83: marinavieira.cultura01@gmail.com | G83: 21999986545 | H83: SIM | J83: SIM | K83: =IFERROR(INDEX('LISTAS DE PARTICIPANTES'!B:B,MATCH(FORMULÁRIO!L83,'LISTAS DE PARTICIPANTES'!C:C,0)),"NÃO ENCONTRADO") -> MARINA VIEIRA DE SOUZA | L83: 804.645.567-91
A84: 45743.759 | B84: celiabarros@homensdesaia.net | C84: 0 | D84: Célia da Conceição Barros | E84: 23346765865 | F84: celiabarros@homensdesaia.net | G84: 12981361486 | H84: SIM | J84: SIM | K84: =IFERROR(INDEX('LISTAS DE PARTICIPANTES'!B:B,MATCH(FORMULÁRIO!L84,'LISTAS DE PARTICIPANTES'!C:C,0)),"NÃO ENCONTRADO") -> CÉLIA DA CONCEIÇÃO BARROS | L84: 233.467.658-65
A85: 45743.76 | B85: allanandry0@gmail.com | C85: 0 | D85: Allan André Lourenço | E85: 40791579832 | F85: allan.al@outlook.com.br | G85: 19983373201 | H85: SIM | J85: SIM | K85: =IFERROR(INDEX('LISTAS DE PARTICIPANTES'!B:B,MATCH(FORMULÁRIO!L85,'LISTAS DE PARTICIPANTES'!C:C,0)),"NÃO ENCONTRADO") -> ALLAN ANDRÉ LOURENÇO | L85: 407.915.798-32
A86: 45743.76 | B86: alessandrabucholdz@gmail.com | C86: 0 | D86: Alessandra Pirroncello Bucholdz | E86: 014.556.399-58 | F86: alessandra@abcprojetos.com.br | G86: 42991189007 | H86: SIM | J86: SIM | K86: =IFERROR(INDEX('LISTAS DE PARTICIPANTES'!B:B,MATCH(FORMULÁRIO!L86,'LISTAS DE PARTICIPANTES'!C:C,0)),"NÃO ENCONTRADO") -> ALESSANDRA PIRRONCELLO BUCHOLDZ | L86: 014.556.399-58
A87: 45743.76 | B87: flaviorrocha1979@gmail.com | C87: 0 | D87: Flavio Rogerio Rocha | E87: 02184640964 | F87: flaviorrocha1979@gmail.com | G87: 419989179092 / 41998997992 (whatsapp) | H87: SIM | J87: SIM | K87: =IFERROR(INDEX('LISTAS DE PARTICIPANTES'!B:B,MATCH(FORMULÁRIO!L87,'LISTAS DE PARTICIPANTES'!C:C,0)),"NÃO ENCONTRADO") -> FLAVIO ROGERIO ROCHA | L87: 021.846.409-64
A88: 45743.76 | B88: tatiandra100@gmail.com | C88: 0 | D88: Tatiana de Carvalho Costa | E88: 78558212520 | F88: taticosta_arq@hotmail.com | G88: (21) 99784-8131 | H88: SIM | J88: SIM | K88: =IFERROR(INDEX('LISTAS DE PARTICIPANTES'!B:B,MATCH(FORMULÁRIO!L88,'LISTAS DE PARTICIPANTES'!C:C,0)),"NÃO ENCONTRADO") -> TATIANA DE CARVALHO COSTA | L88: 785.582.125-20
A89: 45743.762 | B89: roman.lopes.v@gmail.com | C89: 0 | D89: Vagner Lopes Roman Junior | E89: 078.032.688-11 | F89: roman.lopes.v@gmail.com | G89: (11)96317-5959 | H89: SIM | J89: SIM | K89: =IFERROR(INDEX('LISTAS DE PARTICIPANTES'!B:B,MATCH(FORMULÁRIO!L89,'LISTAS DE PARTICIPANTES'!C:C,0)),"NÃO ENCONTRADO") -> VAGNER LOPES ROMAN JUNIOR | L89: 078.032.688-11
A90: 45743.762 | B90: diasnatacha@gmail.com | C90: 0 | D90: Natacha Dias | E90: 302.473.248-92 | F90: natydias@yahoo.com.br | G90: 11-99669-2356 | H90: SIM | J90: SIM | K90: =IFERROR(INDEX('LISTAS DE PARTICIPANTES'!B:B,MATCH(FORMULÁRIO!L90,'LISTAS DE PARTICIPANTES'!C:C,0)),"NÃO ENCONTRADO") -> NATACHA DIAS | L90: 302.473.248-92
A91: 45743.762 | B91: cleytong.gestorcultural@gmail.com | C91: 0 | D91: Cleyton Souza Gonçalves | E91: 31461550874 | F91: clwytong.gcultural@gmail.com | G91: 11976480818 | H91: SIM | J91: SIM | K91: =IFERROR(INDEX('LISTAS DE PARTICIPANTES'!B:B,MATCH(FORMULÁRIO!L91,'LISTAS DE PARTICIPANTES'!C:C,0)),"NÃO ENCONTRADO") -> CLEYTON SOUZA GONÇALVES | L91: 314.615.508-74
A92: 45743.762 | B92: saliharachid@gmail.com | C92: 0 | D92: Saliha Araújo Rachid Alves | E92: 81528043553 | F92: saliharachid@gmail.com | G92: 71 99130-4244 | H92: SIM | J92: SIM | K92: =IFERROR(INDEX('LISTAS DE PARTICIPANTES'!B:B,MATCH(FORMULÁRIO!L92,'LISTAS DE PARTICIPANTES'!C:C,0)),"NÃO ENCONTRADO") -> SALIHA ARAÚJO RACHID ALVES | L92: 815.280.435-53
A93: 45743.763 | B93: marizefigueira@gmail.com | C93: 0 | D93: Marize Figueira de Souza | E93: 10168626799 | F93: marizefigueira@gmail.com | G93: 21993556280 | H93: SIM | J93: SIM | K93: =IFERROR(INDEX('LISTAS DE PARTICIPANTES'!B:B,MATCH(FORMULÁRIO!L93,'LISTAS DE PARTICIPANTES'!C:C,0)),"NÃO ENCONTRADO") -> MARIZE FIGUEIRA DE SOUZA | L93: 101.686.267-99
A94: 45743.764 | B94: carvalho.isabelap@gmail.com | C94: 0 | D94: ISABELA PEREIRA CARVALHO | E94: 38153176811 | F94: carvalho.isabelap@gmail.com | G94: 21971565033 | H94: SIM | J94: SIM | K94: =IFERROR(INDEX('LISTAS DE PARTICIPANTES'!B:B,MATCH(FORMULÁRIO!L94,'LISTAS DE PARTICIPANTES'!C:C,0)),"NÃO ENCONTRADO") -> ISABELA PEREIRA CARVALHO | L94: 381.531.768-11
A95: 45743.764 | B95: anarrodriguess@gmail.com | C95: 0 | D95: Ana Ramos Rodrigues Castro | E95: 988.990.230-34 | F95: anarrodriguess@gmail.com | G95: 51983203720 | H95: SIM | J95: SIM | K95: =IFERROR(INDEX('LISTAS DE PARTICIPANTES'!B:B,MATCH(FORMULÁRIO!L95,'LISTAS DE PARTICIPANTES'!C:C,0)),"NÃO ENCONTRADO") -> ANA RAMOS RODRIGUES CASTRO | L95: 988.990.230-34
A96: 45743.764 | B96: paula@paulabelchior.com | C96: 0 | D96: Paula Belchior de Lima Bispo | E96: 27795382878 | F96: paula@paulabelchior.com | G96: 11971499979 | H96: SIM | J96: SIM | K96: =IFERROR(INDEX('LISTAS DE PARTICIPANTES'!B:B,MATCH(FORMULÁRIO!L96,'LISTAS DE PARTICIPANTES'!C:C,0)),"NÃO ENCONTRADO") -> PAULA BELCHIOR DE LIMA BISPO | L96: 277.953.828-78
A97: 45743.764 | B97: vickcanali@gmail.com | C97: 0 | D97: Maria Victória Neves Canali | E97: 36290944819 | F97: vickcanali@gmail.com | G97: 19992967009 | H97: SIM | J97: SIM | K97: =IFERROR(INDEX('LISTAS DE PARTICIPANTES'!B:B,MATCH(FORMULÁRIO!L97,'LISTAS DE PARTICIPANTES'!C:C,0)),"NÃO ENCONTRADO") -> MARIA VICTÓRIA NEVES CANALI | L97: 362.909.448-19
A98: 45743.764 | B98: mfsa4908@gmail.com | C98: 0 | D98: Maria Fernanda Silva Azevedo | E98: 79395953500 | F98: mfsa4908@gmail.com | G98: 71981952491 | H98: SIM | J98: SIM | K98: =IFERROR(INDEX('LISTAS DE PARTICIPANTES'!B:B,MATCH(FORMULÁRIO!L98,'LISTAS DE PARTICIPANTES'!C:C,0)),"NÃO ENCONTRADO") -> MARIA FERNANDA SILVA AZEVEDO | L98: 793.959.535-00
A99: 45743.765 | B99: samarachedid@gmail.com | C99: 0 | D99: Samara Chedid | E99: 36804664809 | F99: samarachedid@gmail.com | G99: 11 99808 1299 | H99: SIM | J99: SIM | K99: =IFERROR(INDEX('LISTAS DE PARTICIPANTES'!B:B,MATCH(FORMULÁRIO!L99,'LISTAS DE PARTICIPANTES'!C:C,0)),"NÃO ENCONTRADO") -> SAMARA CHEDID | L99: 368.046.648-09
A100: 45743.765 | B100: elisamfalcocer@gmail.com | C100: 0 | D100: Elisa Marcondes Ferraz Alcocer | E100: 23482334870 | F100: zizilazuli@gmail.com | G100: 11 940734555 | H100: SIM | J100: SIM | K100: =IFERROR(INDEX('LISTAS DE PARTICIPANTES'!B:B,MATCH(FORMULÁRIO!L100,'LISTAS DE PARTICIPANTES'!C:C,0)),"NÃO ENCONTRADO") -> NÃO ENCONTRADO | L100: 234.823.348-70-2 | M100: Preencheu o formulário duas vezes
...

Sheet PARA APRESENTAÇÃO
B1: ORDEM DO SORTEIO - segmentos com menos pareceristas
A2: Nº | B2: ÁREA | C2: SEGMENTO | D2: ADESÃO AO SORTEIO | E2: QTDE VINCULADA | F2: DEFINIÇÃO | G2: VALOR UN. | H2: VALOR TOTAL | I2: TOTAL POR ÁREA | J2: PERCENTUAL | K2: PERCENTUAL
A3: 17 | B3: Artes cênicas | C3: A | D3: 59 | E3: 10 | F3: 8 | G3: 17000 | H3: =F3*G3 -> 136000 | I3: 58 | J3: =I3/I33*100 -> 290 | K3: 24.7
A4: 22 | B4: Artes cênicas | C4: D | D4: 95 | E4: 10 | F4: 8 | G4: 17000 | H4: =F4*G4 -> 136000
A5: 23 | B5: Artes cênicas | C5: B | D5: 101 | E5: 16 | F5: 10 | G5: 17000 | H5: =F5*G5 -> 170000
A6: 30 | B6: Artes cênicas | C6: C | D6: 190 | E6: 26 | F6: 32 | G6: 17000 | H6: =F6*G6 -> 544000
A7: 27 | B7: Artes visuais | C7: A | D7: 130 | E7: 20 | F7: 17 | G7: 17000 | H7: =F7*G7 -> 289000 | I7: 17 | J7: =I7/I33*100 -> 85 | K7: 7.2
A8: 5 | B8: Audiovisual | C8: C | D8: 16 | E8: 3 | F8: 4 | G8: 17000 | H8: =F8*G8 -> 68000 | I8: 28 | J8: =I8/I33*100 -> 140 | K8: 12
A9: 8 | B9: Audiovisual | C9: D | D9: 20 | E9: 3 | F9: 5 | G9: 17000 | H9: =F9*G9 -> 85000
A10: 21 | B10: Audiovisual | C10: B | D10: 86 | E10: 15 | F10: 9 | G10: 17000 | H10: =F10*G10 -> 153000
A11: 28 | B11: Audiovisual | C11: A | D11: 150 | E11: 15 | F11: 10 | G11: 17000 | H11: =F11*G11 -> 170000
A12: 1 | B12: Construção | C12: B | D12: 7 | F12: 7 | G12: 21000 | H12: =F12*G12 -> 147000 | I12: 9 | J12: =I12/I33*100 -> 45 | K12: 3.8
A13: 2 | B13: Construção | C13: A | D13: 8 | F13: 3 | G13: 21000 | H13: =F13*G13 -> 63000
A14: 15 | B14: Humanidades | C14: B | D14: 44 | E14: 20 | F14: 8 | G14: 17000 | H14: =F14*G14 -> 136000 | I14: 31 | J14: =I14/I33*100 -> 155 | K14: 13.1
A15: 24 | B15: Humanidades | C15: D | D15: 108 | E15: 20 | F15: 8 | G15: 17000 | H15: =F15*G15 -> 136000
A16: 25 | B16: Humanidades | C16: A | D16: 119 | E16: 20 | F16: 8 | G16: 17000 | H16: =F16*G16 -> 136000
A17: 29 | B17: Humanidades | C17: C | D17: 158 | E17: 18 | F17: 7 | G17: 17000 | H17: =F17*G17 -> 119000
A18: 6 | B18: Museu e memória | C18: J | D18: 16 | E18: 1 | F18: 3 | G18: 17000 | H18: =F18*G18 -> 51000 | I18: 24 | J18: =I18/I33*100 -> 120 | K18: 10.2
A19: 7 | B19: Museu e memória | C19: D | D19: 18 | E19: 2 | F19: 2 | G19: 17000 | H19: =F19*G19 -> 34000
A20: 9 | B20: Museu e memória | C20: C | D20: 20 | E20: 2 | F20: 2 | G20: 17000 | H20: =F20*G20 -> 34000
A21: 10 | B21: Museu e memória | C21: A | D21: 22 | E21: 3 | F21: 2 | G21: 17000 | H21: =F21*G21 -> 34000
A22: 11 | B22: Museu e memória | C22: B | D22: 26 | E22: 3 | F22: 2 | G22: 17000 | H22: =F22*G22 -> 34000
A23: 12 | B23: Museu e memória | C23: E | D23: 31 | E23: 6 | F23: 5 | G23: 17000 | H23: =F23*G23 -> 85000
A24: 13 | B24: Museu e memória | C24: I | D24: 38 | E24: 1 | F24: 2 | G24: 17000 | H24: =F24*G24 -> 34000
A25: 14 | B25: Museu e memória | C25: G | D25: 39 | E25: 2 | F25: 2 | G25: 17000 | H25: =F25*G25 -> 34000
A26: 16 | B26: Museu e memória | C26: F | D26: 50 | E26: 3 | F26: 2 | G26: 17000 | H26: =F26*G26 -> 34000
A27: 18 | B27: Museu e memória | C27: H | D27: 66 | E27: 1 | F27: 2 | G27: 17000 | H27: =F27*G27 -> 34000
A28: 20 | B28: Música | C28: A | D28: 75 | E28: 28 | F28: 25 | G28: 17000 | H28: =F28*G28 -> 425000 | I28: 50 | J28: =I28/I33*100 -> 250 | K28: 21.3
A29: 26 | B29: Música | C29: B | D29: 124 | E29: 25 | F29: 25 | G29: 17000 | H29: =F29*G29 -> 425000
A30: 3 | B30: Patrimônio | C30: B | D30: 11 | E30: 15 | F30: 2 | G30: 21000 | H30: =F30*G30 -> 42000 | I30: 18 | J30: =I30/I33*100 -> 90 | K30: 7.7
A31: 4 | B31: Patrimônio | C31: D | D31: 12 | E31: 14 | F31: 0 | G31: 21000 | H31: =F31*G31 -> 0
A32: 19 | B32: Patrimônio | C32: A | D32: 69 | E32: 6 | F32: 6 | G32: 17000 | H32: =F32*G32 -> 102000
A33: 31 | B33: Z - FNC | F33: 20 | G33: 16000 | I33: 20
F34: =SUM(F3:F33) -> 246 | I34: 255 | K34: 100% (IF)

Sheet ORDEM DE SORTEIO
A1: ORDEM DO SORTEIO - segmentos com menos pareceristas
A2: ÁREA | B2: SEGMENTO | C2: ADESÃO AO SORTEIO | D2: QTDE VINCULADA | E2: QTDE DEFINIDA | F2: VALOR UN. | G2: VALOR TOTAL | H2: TOTAL POR ÁREA | I2: PERCENTUAL | J2: PERCENTUAL
A3: Artes cênicas | B3: A | C3: 59 | D3: 10 | E3: 8 | F3: 18000 | G3: =E3*F3 -> 144000 | H3: 58 | I3: =H3/H33*100 -> 24.680851 | J3: 24.7
A4: Artes cênicas | B4: D | C4: 95 | D4: 10 | E4: 8 | F4: 18000 | G4: =E4*F4 -> 144000
A5: Artes cênicas | B5: B | C5: 101 | D5: 16 | E5: 10 | F5: 18000 | G5: =E5*F5 -> 180000
A6: Artes cênicas | B6: C | C6: 190 | D6: 26 | E6: 32 | F6: 18000 | G6: =E6*F6 -> 576000
A7: Artes visuais | B7: A | C7: 130 | D7: 20 | E7: 17 | F7: 18000 | G7: =E7*F7 -> 306000 | H7: 17 | I7: =H7/H33*100 -> 7.2340426 | J7: 7.2
A8: Audiovisual | B8: C | C8: 16 | D8: 3 | E8: 4 | F8: 18000 | G8: =E8*F8 -> 72000 | H8: 28 | I8: =H8/H33*100 -> 11.914894 | J8: 12
A9: Audiovisual | B9: D | C9: 20 | D9: 3 | E9: 5 | F9: 18000 | G9: =E9*F9 -> 90000
A10: Audiovisual | B10: B | C10: 86 | D10: 15 | E10: 9 | F10: 18000 | G10: =E10*F10 -> 162000
A11: Audiovisual | B11: A | C11: 150 | D11: 15 | E11: 10 | F11: 18000 | G11: =E11*F11 -> 180000
A12: Construção | B12: B | C12: 7 | E12: 7 | F12: 20000 | G12: =E12*F12 -> 140000 | H12: 9 | I12: =H12/H33*100 -> 3.8297872 | J12: 3.8
A13: Construção | B13: A | C13: 8 | E13: 2 | F13: 20000 | G13: =E13*F13 -> 40000
A14: Humanidades | B14: B | C14: 44 | D14: 20 | E14: 8 | F14: 18000 | G14: =E14*F14 -> 144000 | H14: 31 | I14: =H14/H33*100 -> 13.191489 | J14: 13.1
A15: Humanidades | B15: D | C15: 108 | D15: 20 | E15: 8 | F15: 18000 | G15: =E15*F15 -> 144000
A16: Humanidades | B16: A | C16: 119 | D16: 20 | E16: 8 | F16: 18000 | G16: =E16*F16 -> 144000
A17: Humanidades | B17: C | C17: 158 | D17: 18 | E17: 7 | F17: 18000 | G17: =E17*F17 -> 126000
A18: Museu e memória | B18: J | C18: 16 | D18: 1 | E18: 3 | F18: 18000 | G18: =E18*F18 -> 54000 | H18: 24 | I18: =H18/H33*100 -> 10.212766 | J18: 10.2
A19: Museu e memória | B19: D | C19: 18 | D19: 2 | E19: 2 | F19: 18000 | G19: =E19*F19 -> 36000
A20: Museu e memória | B20: C | C20: 20 | D20: 2 | E20: 2 | F20: 18000 | G20: =E20*F20 -> 36000
A21: Museu e memória | B21: A | C21: 22 | D21: 3 | E21: 2 | F21: 18000 | G21: =E21*F21 -> 36000
A22: Museu e memória | B22: B | C22: 26 | D22: 3 | E22: 2 | F22: 18000 | G22: =E22*F22 -> 36000
A23: Museu e memória | B23: E | C23: 31 | D23: 6 | E23: 5 | F23: 18000 | G23: =E23*F23 -> 90000
A24: Museu e memória | B24: I | C24: 38 | D24: 1 | E24: 2 | F24: 18000 | G24: =E24*F24 -> 36000
A25: Museu e memória | B25: G | C25: 39 | D25: 2 | E25: 2 | F25: 18000 | G25: =E25*F25 -> 36000
A26: Museu e memória | B26: F | C26: 50 | D26: 3 | E26: 2 | F26: 18000 | G26: =E26*F26 -> 36000
A27: Museu e memória | B27: H | C27: 66 | D27: 1 | E27: 2 | F27: 18000 | G27: =E27*F27 -> 36000
A28: Música | B28: A | C28: 75 | D28: 28 | E28: 25 | F28: 18000 | G28: =E28*F28 -> 450000 | H28: 50 | I28: =H28/H33*100 -> 21.276596 | J28: 21.3
A29: Música | B29: B | C29: 124 | D29: 25 | E29: 25 | F29: 18000 | G29: =E29*F29 -> 450000
A30: Patrimônio | B30: B | C30: 11 | D30: 15 | E30: 8 | F30: 20000 | G30: =E30*F30 -> 160000 | H30: 18 | I30: =H30/H33*100 -> 7.6595745 | J30: 7.7
A31: Patrimônio | B31: D | C31: 12 | D31: 14 | E31: 4 | F31: 20000 | G31: =E31*F31 -> 80000
A32: Patrimônio | B32: A | C32: 69 | D32: 6 | E32: 6 | F32: 18000 | G32: =E32*F32 -> 108000
A33: qualquer área | E33: 20 | F33: 16000 | H33: =SUM(H3:H32) -> 235 | J33: =SUM(J3:J32) -> 100
A34: total sorteados 4ª INEX Edital 2023 | E34: =SUM(E3:E33) -> 255

Sheet CONFIGURAÇÃO
A1: VERIFICAÇÃO | B1: ÁREAS | C1: SEGMENTOS
B2: ARTES CÊNICAS | C2: A
A3: SORTEADO | B3: ARTES VISUAIS | C3: B
B4: AUDIOVISUAL | C4: C
B5: CONSTRUÇÃO, REFORMA, ADEQUAÇÃO OU MANUTENÇÃO DE EQUIPAMENTOS CULTURAIS | C5: D
B6: HUMANIDADES | C6: E
B7: MUSEU E MEMÓRIA | C7: F
B8: MÚSICA | C8: G
B9: PATRIMÔNIO CULTURAL | C9: H
B10: TODAS | C10: I
C11: J
C12: K
C13: L

Sheet SEGMENTOS
A1: ÁREA PRINCIPAL | B1: LETRA | C1: SEGMENTO | D1: CORRESPONDÊNCIA SALIC | E1: QTD PERITOS | F1: QTD NÃO SORTEADOS | G1: QTD SORTEADA (Areas 1, 2, e 3) EM 2024 | H1: QTDE SORTEADA SALIC - ÁREA 1 2024 | I1: QTD SOLICITADA POR VINCULADA 2025 | J1: QTD SOLCITADA DDEC | K1: QTD SOLICITADA DFD | L1: QTD ATENDIDA PELO MinC SALIC
A2: ARTES CÊNICAS | B2: A | C2: CIRCO | D2: • Performance de Circo, Clown, Ilusionismo; e • Empreend Ações Educ-Cult/Capacitação/ Treinamento. | E2: 74 | F2: 40 | G2: 36 | H2: 4 | I2: 10 | J2: 2 | L2: 7
A3: ARTES CÊNICAS | B3: B | C3: DANÇA | D3: • Apresentação ou Performance de Dança; • Apresentação ou Performance de Dança: capoeira; e • Empreend Ações Educ-Cult/Capacitação/ Treinamento. | E3: 123 | F3: 55 | G3: 69 | H3: 10 | I3: 16 | J3: 2 | L3: 11
A4: ARTES CÊNICAS | B4: C | C4: TEATRO | D4: • Apresentação ou Performance de Teatro; • Ópera; • Mímica; • Teatro Musical (c/ dramaturgia, danças e canções); • Teatro de Formas Animadas Mamulengo Bonecos e Cong; e • Empreend Ações Educ-Cult/Capacitação/ Treinamento. | E4: 240 | F4: 118 | G4: 124 | H4: 36 | I4: 26 | J4: 2 | L4: 28
A5: ARTES CÊNICAS | B5: D | C5: MANIFESTAÇÕES POPULARES E/OU FESTIVIDADES REGIONAIS DE CARÁTER CÊNICO E MUSICAL | D5: • Desfile de escolas de samba; • Desfiles festivos de caráter musical e cênico;e • Empreend Ações Educ-Cult/Capacitação/ Treinamento Patrimônio Cultural • Gastronomia de valor cultural Art 26 | E5: 116 | F5: 58 | G5: 60 | H5: 4 | I5: 10 | L5: 9
A6: ARTES VISUAIS | B6: A | C6: (a. Criação, curadoria, produção de obras e montagens de exposição em quaisquer suportes: pintura, desenho, gravura, fotografia, escultura, objeto, arquitetura, grafite, instalação, performances, moda, videoarte, artes digitais, arte eletrônica, arte cibernética, artes gráficas, design e artesanato; b. Feiras, mostras, circuitos artísticos no campo das artes visuais; c. Formação: desenvolvimento de projetos pedagógicos, cursos, seminários, oficinas e palestras, dentre outras ações educativas; d. Pesquisa e publicações da área; e. Curadoria ou gestão de galerias, ateliês, escolas de artes visuais, dentre outros espaços). | D6: • Exposição Cultural/Artística; e • Empreend Ações Educ-Cult/Capacitação/ Treinamento | E6: 160 | F6: 93 | G6: 72 | H6: 13 | I6: 20 | J6: 8 | L6: 15
A7: ARTES VISUAIS | B7: B | C7: (a. Criação, curadoria, produção de obras e montagens de exposição em quaisquer suportes: pintura, desenho, gravura, fotografia, escultura, objeto, arquitetura, grafite, instalação, performances, moda, videoarte, artes digitais, arte eletrônica, arte cibernética, artes gráficas, design e artesanato; b. Feiras, mostras, circuitos artísticos no campo das artes visuais; c. Formação: desenvolvimento de projetos pedagógicos, cursos, seminários, oficinas e palestras, dentre outras ações educativas; d. Pesquisa e publicações da área; e. Curadoria ou gestão de galerias, ateliês, escolas de artes visuais, dentre outros espaços). | D7: • Exposição Cultural/Artística; e • Empreend Ações Educ-Cult/Capacitação/ Treinamento
A8: ARTES VISUAIS | B8: C | C8: (a. Criação, curadoria, produção de obras e montagens de exposição em quaisquer suportes: pintura, desenho, gravura, fotografia, escultura, objeto, arquitetura, grafite, instalação, performances, moda, videoarte, artes digitais, arte eletrônica, arte cibernética, artes gráficas, design e artesanato; b. Feiras, mostras, circuitos artísticos no campo das artes visuais; c. Formação: desenvolvimento de projetos pedagógicos, cursos, seminários, oficinas e palestras, dentre outras ações educativas; d. Pesquisa e publicações da área; e. Curadoria ou gestão de galerias, ateliês, escolas de artes visuais, dentre outros espaços). | D8: • Exposição Cultural/Artística; e • Empreend Ações Educ-Cult/Capacitação/ Treinamento
A9: ARTES VISUAIS | B9: D | C9: (a. Criação, curadoria, produção de obras e montagens de exposição em quaisquer suportes: pintura, desenho, gravura, fotografia, escultura, objeto, arquitetura, grafite, instalação, performances, moda, videoarte, artes digitais, arte eletrônica, arte cibernética, artes gráficas, design e artesanato; b. Feiras, mostras, circuitos artísticos no campo das artes visuais; c. Formação: desenvolvimento de projetos pedagógicos, cursos, seminários, oficinas e palestras, dentre outras ações educativas; d. Pesquisa e publicações da área; e. Curadoria ou gestão de galerias, ateliês, escolas de artes visuais, dentre outros espaços). | D9: • Exposição Cultural/Artística; e • Empreend Ações Educ-Cult/Capacitação/ Treinamento
A10: ARTES VISUAIS | B10: E | C10: (a. Criação, curadoria, produção de obras e montagens de exposição em quaisquer suportes: pintura, desenho, gravura, fotografia, escultura, objeto, arquitetura, grafite, instalação, performances, moda, videoarte, artes digitais, arte eletrônica, arte cibernética, artes gráficas, design e artesanato; b. Feiras, mostras, circuitos artísticos no campo das artes visuais; c. Formação: desenvolvimento de projetos pedagógicos, cursos, seminários, oficinas e palestras, dentre outras ações educativas; d. Pesquisa e publicações da área; e. Curadoria ou gestão de galerias, ateliês, escolas de artes visuais, dentre outros espaços). | D10: • Exposição Cultural/Artística; e • Empreend Ações Educ-Cult/Capacitação/ Treinamento
A11: AUDIOVISUAL | B11: A | C11: a) Produção de conteúdo audiovisual de curta e média metragem, incluindo rádios e TVs educativas e culturais; Produção televisiva não seriada de caráter não comercial; Produção de web série; Produção radiofônica de caráter não comercial (inclusive ações de capacitação e treinamento de pessoal, e Ações Educ-Cult/Capacitação/Treinamento de pessoal). | D11: • Prod. AV curta/média mtragem/Tv Edu Cult • Produção de websérie • Prod Av Radio/Podcast • Infra-estrutura Técnica Audiovisual • Ações de capacitação e treinamento de pessoa Prod Av Games | E11: 180 | F11: 119 | G11: 64 | H11: 8 | I11: 15 | L11: 10
A12: AUDIOVISUAL | B12: B | C12: b) Difusão de acervo e conteúdo audiovisual nos diversos meios e suportes (inclusive ações de capacitação e treinamento de pessoal, e empreendedorismo cultural). | D12: • Difusão de acerv e conteúdo AV diver meios/suporte • Infra-estrutura Técnica Audiovisual • Ações de capacitação e treinamento de pessoa • Plataformas VODs Independentes | E12: 106 | F12: 66 | G12: 40 | H12: 8 | I12: 15 | J12: 2 | L12: 10
A13: AUDIOVISUAL | B13: C | C13: c) Restauração e preservação de acervos audiovisuais; Aquisição de equipamentos para manutenção de acervos audiovisuais públicos e cinematecas; Doação de acervos audiovisuais para cinematecas (inclusive ações de capacitação e treinamento de pessoal, e empreendedorismo cultural). d) Jogos eletrônicos de caráter educativo e cultural; Projetos audiovisuais Trans midiáticos (inclusive ações de capacitação e treinamento de pessoal, e empreendedorismo cultural). | D13: • Infra-estrutura Técnica Audiovisual • Ações de capacitação e treinamento de pessoa • Doação de acervos audiovisuais • Preservação de acervos audiovisuais • Restauração de acervos audiovisuais • Restauração/Preservação de acervos audiovisuais • Aquisição de equip p/ manut de acer AV pub/cinemat • Construção de salas de cinema (< 100 mil hab) • Cons/Man de salas cine func c.cult com. < 100.000h • Constr. centro comunitário c/sala cinema(<100 mil Manut. centro comunitário c/sala cinema(<100 mil) | E13: 20 | F13: 6 | G13: 14 | H13: 4 | I13: 3 | L13: 3
A14: AUDIOVISUAL | B14: D | C14: d) Jogos eletrônicos de caráter educativo e cultural; Projetos audiovisuais Trans midiáticos (inclusive ações de capacitação e treinamento de pessoal, e empreendedorismo cultural). | D14: • Projetos Audiovisuais Transmidiáticos • Plataformas VODs Independentes • Infra-estrutura Técnica Audiovisual • Ações de capacitação e treinamento de pessoa • Prod. Av Games • Jogos eletrônicos de caráter educativo e cultural Projetos audiovisuais transmidiáticos | E14: 22 | F14: 12 | G14: 12 | H14: 4 | I14: 3 | J14: 4 | L14: 3
A15: HUMANIDADES | B15: A | C15: a) Livros, periódicos, publicações e obras de referência (impressos ou eletrônicos, de valor artístico, literário, humanístico ou de filologia). | D15: • Livro/Obra Refer impres/eletrõni valor Art/Lit/Hum; e • Outras publicações ou Periódicos (Art. 26); | E15: 151 | F15: 78 | G15: 71 | H15: 9 | I15: 20 | L15: 8
A16: HUMANIDADES | B16: B | C16: b) Manutenção, preservação, restauração de acervos bibliográficos e arquivísticos (compreendidos por livros e outras tipologias documentais, impressos ou eletrônicos, de valor artístico, literário, humanístico ou de filologia). | D16: • AçCapTrein.pess/Equipagem p/ManuAcerv BiblArqPúblic; • Doação ou Aquis Acervos p/ Bibli e Arquiv públicos • ManRestTratamOrgDigitali Acerv Bibliogr Arquivísti | E16: 53 | F16: 18 | G16: 18 | H16: 5 | I16: 20 | L16: 5
A17: HUMANIDADES | B17: C | C17: c) Eventos e festivais literários, ações educativo-culturais, de formação e capacitação, voltados para o empreendedorismo cultural, a promoção do livro e da criação literária, e para o incentivo à leitura. | D17: • Event Literá/Ações Edu-Cult Incen Leitu/SlamSarau; • Ações Educ-Cult em Humanidades em geral (Art. 26); e • Empreendedorismo Cultural. | E17: 185 | F17: 96 | G17: 87 | H17: 9 | I17: 18 | J17: 2 | L17: 7
A18: HUMANIDADES | B18: D | C18: d) Empreendedorismo cultural e ações de capacitação, treinamento de pessoal, oficinas e aquisição de equipamentos, doação e aquisição de acervos que tenham como finalidade a manutenção de acervos de bibliotecas públicas, museus, arquivos públicos e cinematecas. | D18: • AçCapTrein.pess/Equipagem p/ManuAcerv BiblArqPúblic; • Doação ou Aquis Acervos p/ Bibli e Arquiv públicos; • ManRestTratamOrgDigitali Acerv Bibliogr Arquivísti ; e • Empreendedorismo Cultural. | E18: 124 | F18: 67 | G18: 56 | H18: 8 | I18: 20 | J18: 2 | L18: 8
A19: MUSEU E MEMÓRIA | B19: A | C19: a) Doação ou aquisição de acervos para museus e instituições de preservação da memória. | D19: • Doação/Aquis Acervos p/ Museus e Inst. Pres Memória | E19: 28 | F19: 9 | G19: 18 | H19: 3 | I19: 3 | L19: 2
A20: MUSEU E MEMÓRIA | B20: B | C20: b) Preservação, restauração, conservação, identificação, registro e promoção. | D20: • Preserv Restaur Conserv Identifc Registr Promoção | E20: 31 | F20: 9 | G20: 23 | H20: 3 | I20: 3 | J20: 2 | L20: 2
A21: MUSEU E MEMÓRIA | B21: C | C21: c) Documentação e digitalização de acervos; Sistemas de informações. | D21: • DocumentDigitaliz d Acervo;Pequis;Sis d Informaç; | E21: 23 | F21: 4 | G21: 18 | H21: 2 | I21: 2 | L21: 2
A22: MUSEU E MEMÓRIA | B22: D | C22: d) Ações de segurança para preservação de acervos. | D22: • Ações de Seguran ou Aquisi equips p/ Preserv Acervos. | E22: 22 | F22: 4 | G22: 18 | H22: 2 | I22: 2 | L22: 2
A23: MUSEU E MEMÓRIA | B23: E | C23: e) Planos anuais de atividades e elaboração de planos museológicos. | D23: • Planos Anuais de Ativid e Elabor d Planos Museológ | E23: 40 | F23: 10 | G23: 30 | H23: 6 | I23: 6 | L23: 5
A24: MUSEU E MEMÓRIA | B24: F | C24: f) Exposições realizadas em museus, exposições organizadas com acervos de museus e museografia. | D24: • Exposições realiz em Museus ou c/ Acervos d Museu + Museogra | E24: 62 | F24: 18 | G24: 44 | H24: 3 | I24: 3 | L24: 2
A25: MUSEU E MEMÓRIA | B25: G | C25: g) Pesquisa; Sistematização de informações. | D25: • DocumentDigitaliz d Acervo;Pequis;Sis d Informaç; | E25: 51 | F25: 22 | G25: 30 | H25: 2 | I25: 2 | L25: 2
A26: MUSEU E MEMÓRIA | B26: H | C26: h) Ação educativo-cultural, inclusive seminários, congressos e palestras. | D26: • Ações Educ-Cult/Capacitação/Treinamento de pessoal | E26: 81 | F26: 30 | G26: 51 | H26: 1 | I26: 1 | L26: 1
A27: MUSEU E MEMÓRIA | B27: I | C27: i) Ações de capacitação e treinamento de pessoal. | D27: • Ações Educ-Cult/Capacitação,/Treinamento de pessoal | E27: 49 | F27: 18 | G27: 33 | H27: 1 | I27: 1 | L27: 1
A28: MUSEU E MEMÓRIA | B28: J | C28: j) Aquisição de equipamentos para a preservação e manutenção de acervos. | D28: • Ações de Seguran ou Aquisi equips p/ Preserv Acervos. | E28: 20 | F28: 3 | G28: 18 | H28: 1 | I28: 1 | L28: 1
A29: MÚSICA | B29: A | C29: A) MÚSICA DE CONCERTO (a. Composição, arranjo e execução de obra musical para orquestra, bandas, grupos de câmara, dentre outras formações musicais; b. Produção, registro e difusão musical em diversos meios e suportes físicos e digitais; c. Pesquisa, memória e publicação na área; d. Formação: desenvolvimento de projetos pedagógicos, cursos, oficinas, residências, intercâmbios, dentre outras ações educativas. E. Difusão: mostras, festivais e circuitos de shows; f. Gestão e manutenção de bandas e grupos musicais; g. Gestão e manutenção de estúdios e demais espaços musicais). | D29: • Apresentação/Gravação de Canto Coral; • Apresentação/Gravação de Música Erudita; • Apresentação/Gravação de Música Instrumental; e • Empreend Ações Educ-Cult/Capacitação/ Treinamento | E29: 94 | F29: 35 | G29: 60 | H29: 28 | I29: 28 | L29: 25
A30: MÚSICA | B30: B | C30: B) MÚSICA POPULAR (a. Composição, arranjo e execução de obra musical para orquestras, bandas, grupos de câmara, dentre outras formações musicais; b. Produção, registro e difusão musical em diversos meios e suportes físicos e digitais; c. Pesquisa, memória e publicação na área; d. Formação: desenvolvimento de projetos pedagógicos, cursos, oficinas, residências, intercâmbios, dentre outras ações educativas. E. Difusão: mostras, festivais e circuitos de shows; f. Gestão e manutenção de bandas e grupos musicais; g. Gestão e manutenção de estúdios e demais espaços musicais; h. Música regional). | D30: • Apresentação/Gravação Música Regional; • Apresentação/Gravação Música Popular Cantada Art26; e • Empreend Ações Educ-Cult/Capacitação/ Treinamento. | E30: 155 | F30: 78 | G30: 79 | H30: 19 | I30: 25 | J30: 6 | L30: 25
A31: PATRIMÔNIO CULTURAL | B31: A | C31: a) ações de educação patrimonial | D31: • Ações de Educação Patrimonial. | E31: 87 | F31: 38 | G31: 51 | H31: 4 | I31: 6 | L31: 6
A32: PATRIMÔNIO CULTURAL | B32: B | C32: b) elaboração de projetos executivos de conservação e restauro de bens imóveis tombados ou protegidos por outras formas de acautelamento | D32: • Projetos executivos para bens imóveis. | E32: 20 | F32: 4 | G32: 17 | H32: 6 | I32: 15 | L32: 10
A33: PATRIMÔNIO CULTURAL | B33: C | C33: c) elaboração de projetos executivos de conservação, restauro de bens móveis e integrados, tombados ou protegidos por outras formas de acautelamento | D33: • Projetos executivos para bens móveis e integrados. | E33: 10 | F33: 2 | G33: 8
A34: PATRIMÔNIO CULTURAL | B34: D | C34: d) intervenções de conservação, restauro de bens imóveis tombados ou protegidos por outras formas de acautelamento | D34: • Intervenções de bens imóveis tombados; e • Identificação de bens culturais materiais. | E34: 17 | F34: 1 | G34: 17 | H34: 5 | I34: 14 | L34: 10
A35: PATRIMÔNIO CULTURAL | B35: E | C35: e) intervenções de conservação, restauro de bens móveis e integrados tombados ou protegidos por outras formas de acautelamento | D35: • Intervenções de bens móveis e integrados tombados; e • Identificação de bens culturais materiais. | E35: 7 | F35: 2 | G35: 5
A36: PATRIMÔNIO CULTURAL | B36: F | C36: f) organização, tratamento e digitalização de acervos arquivísticos culturais | D36: • Acervos arquivísticos culturais. | E36: 15 | F36: 2 | G36: 13
A37: PATRIMÔNIO CULTURAL | B37: G | C37: g) ações de preservação do patrimônio arqueológico | D37: • Preservação do patrimônio arqueológico. | E37: 15 | F37: 4 | G37: 11
A38: PATRIMÔNIO CULTURAL | B38: H | C38: h) ações de salvaguarda do patrimônio cultural imaterial | D38: • Salvaguarda do patrimônio cultural imaterial | E38: 58 | F38: 30 | G38: 28
A39: PATRIMÔNIO CULTURAL | B39: I | C39: i) artesanato de valor cultural e origem tradicional | D39: • Artesanato tradicional. | E39: 56 | F39: 36 | G39: 18
A40: CONSTRUÇÃO, REFORMA, ADEQUAÇÃO OU MANUTENÇÃO DE EQUIPAMENTOS CULTURAIS | B40: A | C40: a) elaboração de projetos executivos de construção, reforma ou adequação de equipamentos culturais de valor arquitetônico não tombados | D40: • Projetos executivos para bens imóveis; e • Projetos executivos para bens móveis e integrados. | E40: 18 | F40: 4 | G40: 16 | H40: 5 | I40: 15 | L40: 10
A41: CONSTRUÇÃO, REFORMA, ADEQUAÇÃO OU MANUTENÇÃO DE EQUIPAMENTOS CULTURAIS | B41: B | C41: b) construção, reforma, adequação ou manutenção de equipamentos culturais | D41: Artes Cênicas • Const/Manut sl teatro c/ centro cultural<100.000 h. Audiovisual (a conferir com a SAV) • Cons/Man de salas cine func c. cult com. < 100.000h; • Constr. Centro comunitário c/ sala cinema(<100 mil); • Construção de salas de cinema (< 100 mil hab); e • Manut. Centro comunitário c/ sala cinema (<100 mil). Humanidades • Const Bibli sl teatr/film ativ culturais < 100.000h. Museu e Memória • Criação Implantaç (Proj Construç Restaur Reforma);e • Preserv Restaur Conserv Identific Registr Promoção. Patrimônio Cultural • Intervenções em bens imóveis tombados; • Intervenões de bens móveis e integrados tombados; e • Construção de equipamentos culturais em geral Art 26. | E41: 15 | F41: 4 | G41: 13 | H41: 4 | I41: 15 | L41: 10
B42: TOTAL 22 área 2 e 2 | E42: 34 | G42: 9/15 -peritos distintos 3 inex | L42: =SUM(L40:L41) -> 20
K43: TOTAL SORTEADOS SALIC | L43: =#REF!+#REF!+#REF!+#REF!+#REF!+#REF!+#REF!+L42 -> #REF!

Sheet SEGMENTOS IMPRIMIR
A1: INCENTIVO FISCAL
A2: ÁREA PRINCIPAL | B2: LETRA | C2: ÁREA/SEGMENTO | D2: SEGMENTO | E2: CORRESPONDÊNCIA SALIC | F2: QNT | G2: OBS
A3: ARTES CÊNICAS | B3: A | C3: ARTES CÊNICAS-A | D3: CIRCO | E3: • Performance de Circo, Clown, Ilusionismo; e • Empreend Ações Educ-Cult/Capacitação/ Treinamento. | F3: 10
A4: ARTES CÊNICAS | B4: B | C4: ARTES CÊNICAS-B | D4: DANÇA | E4: • Apresentação ou Performance de Dança; • Apresentação ou Performance de Dança: capoeira; e • Empreend Ações Educ-Cult/Capacitação/ Treinamento. | F4: 16
A5: ARTES CÊNICAS | B5: C | C5: ARTES CÊNICAS-C | D5: TEATRO | E5: • Apresentação ou Performance de Teatro; • Ópera; • Mímica; • Teatro Musical (c/ dramaturgia, danças e canções); • Teatro de Formas Animadas Mamulengo Bonecos e Cong; e • Empreend Ações Educ-Cult/Capacitação/ Treinamento. | F5: 26
A6: ARTES CÊNICAS | B6: D | C6: ARTES CÊNICAS-D | D6: MANIFESTAÇÕES POPULARES E/OU FESTIVIDADES REGIONAIS DE CARÁTER CÊNICO E MUSICAL | E6: • Desfile de escolas de samba; • Desfiles festivos de caráter musical e cênico;e • Empreend Ações Educ-Cult/Capacitação/ Treinamento Patrimônio Cultural • Gastronomia de valor cultural Art 26 | F6: 10
A7: ARTES VISUAIS | B7: A | C7: ARTES VISUAIS-A | D7: (a. Criação, curadoria, produção de obras e montagens de exposição em quaisquer suportes: pintura, desenho, gravura, fotografia, escultura, objeto, arquitetura, grafite, instalação, performances, moda, videoarte, artes digitais, arte eletrônica, arte cibernética, artes gráficas, design e artesanato; b. Feiras, mostras, circuitos artísticos no campo das artes visuais; c. Formação: desenvolvimento de projetos pedagógicos, cursos, seminários, oficinas e palestras, dentre outras ações educativas; d. Pesquisa e publicações da área; e. Curadoria ou gestão de galerias, ateliês, escolas de artes visuais, dentre outros espaços). | E7: • Exposição Cultural/Artística; e • Empreend Ações Educ-Cult/Capacitação/ Treinamento | F7: 20
A8: ARTES VISUAIS | B8: B | C8: ARTES VISUAIS-B | D8: (a. Criação, curadoria, produção de obras e montagens de exposição em quaisquer suportes: pintura, desenho, gravura, fotografia, escultura, objeto, arquitetura, grafite, instalação, performances, moda, videoarte, artes digitais, arte eletrônica, arte cibernética, artes gráficas, design e artesanato; b. Feiras, mostras, circuitos artísticos no campo das artes visuais; c. Formação: desenvolvimento de projetos pedagógicos, cursos, seminários, oficinas e palestras, dentre outras ações educativas; d. Pesquisa e publicações da área; e. Curadoria ou gestão de galerias, ateliês, escolas de artes visuais, dentre outros espaços). | E8: • Exposição Cultural/Artística; e • Empreend Ações Educ-Cult/Capacitação/ Treinamento
A9: ARTES VISUAIS | B9: C | C9: ARTES VISUAIS-C | D9: (a. Criação, curadoria, produção de obras e montagens de exposição em quaisquer suportes: pintura, desenho, gravura, fotografia, escultura, objeto, arquitetura, grafite, instalação, performances, moda, videoarte, artes digitais, arte eletrônica, arte cibernética, artes gráficas, design e artesanato; b. Feiras, mostras, circuitos artísticos no campo das artes visuais; c. Formação: desenvolvimento de projetos pedagógicos, cursos, seminários, oficinas e palestras, dentre outras ações educativas; d. Pesquisa e publicações da área; e. Curadoria ou gestão de galerias, ateliês, escolas de artes visuais, dentre outros espaços). | E9: • Exposição Cultural/Artística; e • Empreend Ações Educ-Cult/Capacitação/ Treinamento
A10: ARTES VISUAIS | B10: D | C10: ARTES VISUAIS-D | D10: (a. Criação, curadoria, produção de obras e montagens de exposição em quaisquer suportes: pintura, desenho, gravura, fotografia, escultura, objeto, arquitetura, grafite, instalação, performances, moda, videoarte, artes digitais, arte eletrônica, arte cibernética, artes gráficas, design e artesanato; b. Feiras, mostras, circuitos artísticos no campo das artes visuais; c. Formação: desenvolvimento de projetos pedagógicos, cursos, seminários, oficinas e palestras, dentre outras ações educativas; d. Pesquisa e publicações da área; e. Curadoria ou gestão de galerias, ateliês, escolas de artes visuais, dentre outros espaços). | E10: • Exposição Cultural/Artística; e • Empreend Ações Educ-Cult/Capacitação/ Treinamento
A11: ARTES VISUAIS | B11: E | C11: ARTES VISUAIS-E | D11: (a. Criação, curadoria, produção de obras e montagens de exposição em quaisquer suportes: pintura, desenho, gravura, fotografia, escultura, objeto, arquitetura, grafite, instalação, performances, moda, videoarte, artes digitais, arte eletrônica, arte cibernética, artes gráficas, design e artesanato; b. Feiras, mostras, circuitos artísticos no campo das artes visuais; c. Formação: desenvolvimento de projetos pedagógicos, cursos, seminários, oficinas e palestras, dentre outras ações educativas; d. Pesquisa e publicações da área; e. Curadoria ou gestão de galerias, ateliês, escolas de artes visuais, dentre outros espaços). | E11: • Exposição Cultural/Artística; e • Empreend Ações Educ-Cult/Capacitação/ Treinamento
A12: AUDIOVISUAL | B12: A | C12: AUDIOVISUAL-A | D12: a) Produção de conteúdo audiovisual de curta e média metragem, incluindo rádios e TVs educativas e culturais; Produção televisiva não seriada de caráter não comercial; Produção de web série; Produção radiofônica de caráter não comercial (inclusive ações de capacitação e treinamento de pessoal, e Ações Educ-Cult/Capacitação/Treinamento de pessoal). | E12: • Prod. AV curta/média mtragem/Tv Edu Cult • Produção de websérie • Prod Av Radio/Podcast • Infra-estrutura Técnica Audiovisual • Ações de capacitação e treinamento de pessoa Prod Av Games | F12: 15
A13: AUDIOVISUAL | B13: B | C13: AUDIOVISUAL-B | D13: b) Difusão de acervo e conteúdo audiovisual nos diversos meios e suportes (inclusive ações de capacitação e treinamento de pessoal, e empreendedorismo cultural). | E13: • Difusão de acerv e conteúdo AV diver meios/suporte • Infra-estrutura Técnica Audiovisual • Ações de capacitação e treinamento de pessoa • Plataformas VODs Independentes | F13: 15
A14: AUDIOVISUAL | B14: C | C14: AUDIOVISUAL-C | D14: c) Restauração e preservação de acervos audiovisuais; Aquisição de equipamentos para manutenção de acervos audiovisuais públicos e cinematecas; Doação de acervos audiovisuais para cinematecas (inclusive ações de capacitação e treinamento de pessoal, e empreendedorismo cultural). d) Jogos eletrônicos de caráter educativo e cultural; Projetos audiovisuais Trans midiáticos (inclusive ações de capacitação e treinamento de pessoal, e empreendedorismo cultural). | E14: • Infra-estrutura Técnica Audiovisual • Ações de capacitação e treinamento de pessoa • Doação de acervos audiovisuais • Preservação de acervos audiovisuais • Restauração de acervos audiovisuais • Restauração/Preservação de acervos audiovisuais • Aquisição de equip p/ manut de acer AV pub/cinemat • Construção de salas de cinema (< 100 mil hab) • Cons/Man de salas cine func c.cult com. < 100.000h • Constr. centro comunitário c/sala cinema(<100 mil Manut. centro comunitário c/sala cinema(<100 mil) | F14: 3
A15: AUDIOVISUAL | B15: D | C15: AUDIOVISUAL-D | D15: d) Jogos eletrônicos de caráter educativo e cultural; Projetos audiovisuais Trans midiáticos (inclusive ações de capacitação e treinamento de pessoal, e empreendedorismo cultural). | E15: • Projetos Audiovisuais Transmidiáticos • Plataformas VODs Independentes • Infra-estrutura Técnica Audiovisual • Ações de capacitação e treinamento de pessoa • Prod. Av Games • Jogos eletrônicos de caráter educativo e cultural Projetos audiovisuais transmidiáticos | F15: 3
A16: HUMANIDADES | B16: A | C16: HUMANIDADES-A | D16: a) Livros, periódicos, publicações e obras de referência (impressos ou eletrônicos, de valor artístico, literário, humanístico ou de filologia). | E16: • Livro/Obra Refer impres/eletrõni valor Art/Lit/Hum; e • Outras publicações ou Periódicos (Art. 26); | F16: 20
A17: HUMANIDADES | B17: B | C17: HUMANIDADES-B | D17: b) Manutenção, preservação, restauração de acervos bibliográficos e arquivísticos (compreendidos por livros e outras tipologias documentais, impressos ou eletrônicos, de valor artístico, literário, humanístico ou de filologia). | E17: • AçCapTrein.pess/Equipagem p/ManuAcerv BiblArqPúblic; • Doação ou Aquis Acervos p/ Bibli e Arquiv públicos • ManRestTratamOrgDigitali Acerv Bibliogr Arquivísti | F17: 20
A18: HUMANIDADES | B18: C | C18: HUMANIDADES-C | D18: c) Eventos e festivais literários, ações educativo-culturais, de formação e capacitação, voltados para o empreendedorismo cultural, a promoção do livro e da criação literária, e para o incentivo à leitura. | E18: • Event Literá/Ações Edu-Cult Incen Leitu/SlamSarau; • Ações Educ-Cult em Humanidades em geral (Art. 26); e • Empreendedorismo Cultural. | F18: 18
A19: HUMANIDADES | B19: D | C19: HUMANIDADES-D | D19: d) Empreendedorismo cultural e ações de capacitação, treinamento de pessoal, oficinas e aquisição de equipamentos, doação e aquisição de acervos que tenham como finalidade a manutenção de acervos de bibliotecas públicas, museus, arquivos públicos e cinematecas. | E19: • AçCapTrein.pess/Equipagem p/ManuAcerv BiblArqPúblic; • Doação ou Aquis Acervos p/ Bibli e Arquiv públicos; • ManRestTratamOrgDigitali Acerv Bibliogr Arquivísti ; e • Empreendedorismo Cultural. | F19: 20
A20: MUSEU E MEMÓRIA | B20: A | C20: MUSEU E MEMÓRIA-A | D20: a) Doação ou aquisição de acervos para museus e instituições de preservação da memória. | E20: • Doação/Aquis Acervos p/ Museus e Inst. Pres Memória | F20: 3
A21: MUSEU E MEMÓRIA | B21: B | C21: MUSEU E MEMÓRIA-B | D21: b) Preservação, restauração, conservação, identificação, registro e promoção. | E21: • Preserv Restaur Conserv Identifc Registr Promoção | F21: 3
A22: MUSEU E MEMÓRIA | B22: C | C22: MUSEU E MEMÓRIA-C | D22: c) Documentação e digitalização de acervos; Sistemas de informações. | E22: • DocumentDigitaliz d Acervo;Pequis;Sis d Informaç; | F22: 2
A23: MUSEU E MEMÓRIA | B23: D | C23: MUSEU E MEMÓRIA-D | D23: d) Ações de segurança para preservação de acervos. | E23: • Ações de Seguran ou Aquisi equips p/ Preserv Acervos. | F23: 2
... A33: PATRIMÔNIO CULTURAL | B33: B | C33: PATRIMÔNIO CULTURAL-B | D33: b) elaboração de projetos executivos de conservação e restauro de bens imóveis tombados ou protegidos por outras formas de acautelamento | E33: • Projetos executivos para bens imóveis. | F33: 15
B34: C | C34: -C | D34: c) elaboração de projetos executivos de conservação, restauro de bens móveis e integrados, tombados ou protegidos por outras formas de acautelamento | E34: • Projetos executivos para bens móveis e integrados.
A35: PATRIMÔNIO CULTURAL | B35: D | C35: PATRIMÔNIO CULTURAL-D | D35: d) intervenções de conservação, restauro de bens imóveis tombados ou protegidos por outras formas de acautelamento | E35: • Intervenções de bens imóveis tombados; e • Identificação de bens culturais materiais. | F35: 14
A36: PATRIMÔNIO CULTURAL | B36: E | C36: PATRIMÔNIO CULTURAL-E | D36: e) intervenções de conservação, restauro de bens móveis e integrados tombados ou protegidos por outras formas de acautelamento | E36: • Intervenções de bens móveis e integrados tombados; e • Identificação de bens culturais materiais.
A37: PATRIMÔNIO CULTURAL | B37: F | C37: PATRIMÔNIO CULTURAL-F | D37: f) organização, tratamento e digitalização de acervos arquivísticos culturais | E37: • Acervos arquivísticos culturais.
A38: PATRIMÔNIO CULTURAL | B38: G | C38: PATRIMÔNIO CULTURAL-G | D38: g) ações de preservação do patrimônio arqueológico | E38: • Preservação do patrimônio arqueológico.
A39: PATRIMÔNIO CULTURAL | B39: H | C39: PATRIMÔNIO CULTURAL-H | D39: h) ações de salvaguarda do patrimônio cultural imaterial | E39: • Salvaguarda do patrimônio cultural imaterial
A40: PATRIMÔNIO CULTURAL | B40: I | C40: PATRIMÔNIO CULTURAL-I | D40: i) artesanato de valor cultural e origem tradicional | E40: • Artesanato tradicional.
A41: CONSTRUÇÃO, REFORMA, ADEQUAÇÃO OU MANUTENÇÃO DE EQUIPAMENTOS CULTURAIS | B41: A | C41: CONSTRUÇÃO, REFORMA, ADEQUAÇÃO OU MANUTENÇÃO DE EQUIPAMENTOS CULTURAIS-A | D41: a) elaboração de projetos executivos de construção, reforma ou adequação de equipamentos culturais de valor arquitetônico não tombados | E41: • Projetos executivos para bens imóveis; e • Projetos executivos para bens móveis e integrados. | F41: 15
A42: CONSTRUÇÃO, REFORMA, ADEQUAÇÃO OU MANUTENÇÃO DE EQUIPAMENTOS CULTURAIS | B42: B | C42: CONSTRUÇÃO, REFORMA, ADEQUAÇÃO OU MANUTENÇÃO DE EQUIPAMENTOS CULTURAIS-B | D42: b) construção, reforma, adequação ou manutenção de equipamentos culturais | E42: Artes Cênicas • Const/Manut sl teatro c/ centro cultural<100.000 h. Audiovisual (a conferir com a SAV) • Cons/Man de salas cine func c. cult com. < 100.000h; • Constr. Centro comunitário c/ sala cinema(<100 mil); • Construção de salas de cinema (< 100 mil hab); e • Manut. Centro comunitário c/ sala cinema (<100 mil). Humanidades • Const Bibli sl teatr/film ativ culturais < 100.000h. Museu e Memória • Criação Implantaç (Proj Construç Restaur Reforma);e • Preserv Restaur Conserv Identific Registr Promoção. Patrimônio Cultural • Intervenções em bens imóveis tombados; • Intervenões de bens móveis e integrados tombados; e • Construção de equipamentos culturais em geral Art 26. | F42: 15

Sheet SEGMENTOS CULTURAIS
A1: ÁREA PRINCIPAL
A2: ARTES CÊNICAS
A3: LETRA | B3: SEGMENTO | C3: CORRESPONDÊNCIA SALIC | D3: QTD PERITOS | E3: QTD NÃO SORTEADOS | F3: QTD SORTEADA (Areas 1, 2, e 3) EM 2024 | G3: QTDE SORTEADA SALIC - ÁREA 1 2024 | H3: QTD SOLICITADA POR VINCULADA 2025 | I3: QTD SOLCITADA DDEC | J3: QTD SOLICITADA DFD | K3: QTD ATENDIDA PELO MinC SALIC
A4: A | B4: CIRCO | C4: • Performance de Circo, Clown, Ilusionismo; e • Empreend Ações Educ-Cult/Capacitação/ Treinamento. | D4: 74 | E4: 40 | F4: 36 | G4: 4 | H4: 10 | I4: 2 | K4: 7
A5: B | B5: DANÇA | C5: • Apresentação ou Performance de Dança; • Apresentação ou Performance de Dança: capoeira; e • Empreend Ações Educ-Cult/Capacitação/ Treinamento. | D5: 123 | E5: 55 | F5: 69 | G5: 10 | H5: 16 | I5: 2 | K5: 11
A6: C | B6: TEATRO | C6: • Apresentação ou Performance de Teatro; • Ópera; • Mímica; • Teatro Musical (c/ dramaturgia, danças e canções); • Teatro de Formas Animadas Mamulengo Bonecos e Cong; e • Empreend Ações Educ-Cult/Capacitação/ Treinamento. | D6: 240 | E6: 118 | F6: 124 | G6: 36 | H6: 26 | I6: 2 | K6: 28
A7: D | B7: MANIFESTAÇÕES POPULARES E/OU FESTIVIDADES REGIONAIS DE CARÁTER CÊNICO E MUSICAL | C7: • Desfile de escolas de samba; • Desfiles festivos de caráter musical e cênico;e • Empreend Ações Educ-Cult/Capacitação/ Treinamento Patrimônio Cultural • Gastronomia de valor cultural Art 26 | D7: 116 | E7: 58 | F7: 60 | G7: 4 | H7: 10 | K7: 9
A8: TOTAL 303 nas áreas 1 , 2 e 3 | D8: =SUM(D4:D7) -> 553 | E8: =SUM(E4:E7) -> 271 | F8: =SUM(F4:F7) -> 289 | G8: =SUM(G4:G7) -> 54 | H8: =SUM(H4:H7) -> 62 | I8: =SUM(I4:I7) -> 6 | J8: =SUM(J4:J7) -> 0
A9: ARTES VISUAIS
A10: LETRA | B10: SEGMENTO | C10: CORRESPONDÊNCIA SALIC | D10: QTD PERITOS | E10: QTD NÃO SORTEADOS | F10: QTD SORTEADA EM 2024 | G10: QTDE SORTEADA SALIC - ÁREA 1 2024 | H10: QTD SOCLTIADA POR VINCUALDA 2025 | I10: QTD SOLCITADA DDEC | J10: QTD SOLCITADA DFD | K10: QTD ATENDIDA PELO MinC
A11: A | B11: ARTES VISUAIS (a. Criação, curadoria, produção de obras e montagens de exposição em quaisquer suportes: pintura, desenho, gravura, fotografia, escultura, objeto, arquitetura, grafite, instalação, performances, moda, videoarte, artes digitais, arte eletrônica, arte cibernética, artes gráficas, design e artesanato; b. Feiras, mostras, circuitos artísticos no campo das artes visuais; c. Formação: desenvolvimento de projetos pedagógicos, cursos, seminários, oficinas e palestras, dentre outras ações educativas; d. Pesquisa e publicações da área; e. Curadoria ou gestão de galerias, ateliês, escolas de artes visuais, dentre outros espaços). | C11: • Exposição Cultural/Artística; e • Empreend Ações Educ-Cult/Capacitação/ Treinamento | D11: 160 | E11: 93 | F11: 72 | G11: 13 | H11: 20 | I11: 8 | K11: 15
A12: B | C12: • Exposição Cultural/Artística; e • Empreend Ações Educ-Cult/Capacitação/ Treinamento
A13: C | C13: • Exposição Cultural/Artística; e • Empreend Ações Educ-Cult/Capacitação/ Treinamento
A14: D | C14: • Exposição Cultural/Artística; e • Empreend Ações Educ-Cult/Capacitação/ Treinamento
A15: E | C15: • Exposição Cultural/Artística; e • Empreend Ações Educ-Cult/Capacitação/ Treinamento
A16: TOTAL 165 nas áreas1, 2 e 3 | D16: 165 | K16: 15
A17: AUDIOVISUAL
A18: LETRA | B18: SEGMENTO | C18: CORRESPONDÊNCIA SALIC | D18: QTD PERITOS | E18: QTD NÃO SORTEADOS | F18: QTD SORTEADA EM 2024 | G18: QTDE SORTEADA SALIC - ÁREA 1 2024 | H18: QTD SOCLTIADA POR VINCUALDA 2025 | I18: QTD SOLCITADA DDEC | J18: QTD SOLCITADA DFD | K18: QTD ATENDIDA PELO MinC
A19: A | B19: a) Produção de conteúdo audiovisual de curta e média metragem, incluindo rádios e TVs educativas e culturais; Produção televisiva não seriada de caráter não comercial; Produção de web série; Produção radiofônica de caráter não comercial (inclusive ações de capacitação e treinamento de pessoal, e Ações Educ-Cult/Capacitação/Treinamento de pessoal). | C19: • Prod. AV curta/média mtragem/Tv Edu Cult • Produção de websérie • Prod Av Radio/Podcast • Infra-estrutura Técnica Audiovisual • Ações de capacitação e treinamento de pessoa Prod Av Games | D19: 180 | E19: 119 | F19: 64 | G19: 8 | H19: 15 | K19: 10
A20: B | B20: b) Difusão de acervo e conteúdo audiovisual nos diversos meios e suportes (inclusive ações de capacitação e treinamento de pessoal, e empreendedorismo cultural). | C20: • Difusão de acerv e conteúdo AV diver meios/suporte • Infra-estrutura Técnica Audiovisual • Ações de capacitação e treinamento de pessoa • Plataformas VODs Independentes | D20: 106 | E20: 66 | F20: 40 | G20: 8 | H20: 15 | I20: 2 | K20: 10
A21: C | B21: c) Restauração e preservação de acervos audiovisuais; Aquisição de equipamentos para manutenção de acervos audiovisuais públicos e cinematecas; Doação de acervos audiovisuais para cinematecas (inclusive ações de capacitação e treinamento de pessoal, e empreendedorismo cultural). d) Jogos eletrônicos de caráter educativo e cultural; Projetos audiovisuais Trans midiáticos (inclusive ações de capacitação e treinamento de pessoal, e empreendedorismo cultural). | C21: • Infra-estrutura Técnica Audiovisual • Ações de capacitação e treinamento de pessoa • Doação de acervos audiovisuais • Preservação de acervos audiovisuais • Restauração de acervos audiovisuais • Restauração/Preservação de acervos audiovisuais • Aquisição de equip p/ manut de acer AV pub/cinemat • Construção de salas de cinema (< 100 mil hab) • Cons/Man de salas cine func c.cult com. < 100.000h • Constr. centro comunitário c/sala cinema(<100 mil Manut. centro comunitário c/sala cinema(<100 mil) | D21: 20 | E21: 6 | F21: 14 | G21: 4 | H21: 3 | K21: 3
A22: D | B22: d) Jogos eletrônicos de caráter educativo e cultural; Projetos audiovisuais Trans midiáticos (inclusive ações de capacitação e treinamento de pessoal, e empreendedorismo cultural). | C22: • Projetos Audiovisuais Transmidiáticos • Plataformas VODs Independentes • Infra-estrutura Técnica Audiovisual • Ações de capacitação e treinamento de pessoa • Prod. Av Games • Jogos eletrônicos de caráter educativo e cultural Projetos audiovisuais transmidiáticos | D22: 22 | E22: 12 | F22: 12 | G22: 4 | H22: 3 | I22: 4 | K22: 3
A23: TOTAL 219 nas áreas 1, 2 e 3 | D23: =SUM(D19:D22) -> 328 | E23: =SUM(E19:E22) -> 203 | F23: =SUM(F19:F22) -> 130 | G23: =SUM(G19:G22) -> 24 | H23: =SUM(H19:H22) -> 36 | I23: =SUM(I19:I22) -> 6 | K23: =SUM(K19:K22) -> 26
A24: HUMANIDADES
A25: LETRA | B25: SEGMENTO | C25: CORRESPONDÊNCIA SALIC | D25: QTD PERITOS | E25: QTD NÃO SORTEADOS | F25: QTD SORTEADA EM 2024 | G25: QTDE SORTEADA SALIC - ÁREA 1 2024 | H25: QTD SOLICITADA POR VINCULADA 2025 | I25: QTD SOLICITADA DDEC | J25: QTD SOLICITADA DFD | K25: QTD ATENDIDA PELO MinC (último sorteio)
A26: A | B26: a) Livros, periódicos, publicações e obras de referência (impressos ou eletrônicos, de valor artístico, literário, humanístico ou de filologia). | C26: • Livro/Obra Refer impres/eletrõni valor Art/Lit/Hum; e • Outras publicações ou Periódicos (Art. 26); | D26: 151 | E26: 78 | F26: 71 | G26: 9 | H26: 20 | K26: 8
A27: B | B27: b) Manutenção, preservação, restauração de acervos bibliográficos e arquivísticos (compreendidos por livros e outras tipologias documentais, impressos ou eletrônicos, de valor artístico, literário, humanístico ou de filologia). | C27: • AçCapTrein.pess/Equipagem p/ManuAcerv BiblArqPúblic; • Doação ou Aquis Acervos p/ Bibli e Arquiv públicos • ManRestTratamOrgDigitali Acerv Bibliogr Arquivísti | D27: 53 | E27: 18 | F27: 18 | G27: 5 | H27: 20 | K27: 5
A28: C | B28: c) Eventos e festivais literários, ações educativo-culturais, de formação e capacitação, voltados para o empreendedorismo cultural, a promoção do livro e da criação literária, e para o incentivo à leitura. | C28: • Event Literá/Ações Edu-Cult Incen Leitu/SlamSarau; • Ações Educ-Cult em Humanidades em geral (Art. 26); e • Empreendedorismo Cultural. | D28: 185 | E28: 96 | F28: 87 | G28: 9 | H28: 18 | I28: 2 | K28: 7
A29: D | B29: d) Empreendedorismo cultural e ações de capacitação, treinamento de pessoal, oficinas e aquisição de equipamentos, doação e aquisição de acervos que tenham como finalidade a manutenção de acervos de bibliotecas públicas, museus, arquivos públicos e cinematecas. | C29: • AçCapTrein.pess/Equipagem p/ManuAcerv BiblArqPúblic; • Doação ou Aquis Acervos p/ Bibli e Arquiv públicos; • ManRestTratamOrgDigitali Acerv Bibliogr Arquivísti ; e • Empreendedorismo Cultural. | D29: 124 | E29: 67 | F29: 56 | G29: 8 | H29: 20 | I29: 2 | K29: 8
A30: TOTAL 255 nas áreas 1, 2 e 3 | D30: =SUM(D26:D29) -> 513 | E30: =SUM(E26:E29) -> 259 | F30: =SUM(F26:F29) -> 232 | G30: =SUM(G26:G29) -> 31 | H30: =SUM(H26:H29) -> 78 | I30: =SUM(I26:I29) -> 4 | K30: =SUM(K26:K29) -> 28
A31: MUSEU E MEMÓRIA
A32: LETRA | B32: SEGMENTO | C32: CORRESPONDÊNCIA SALIC | D32: QTD PERITOS | E32: QTD NÃO SORTEADOS | F32: QTD SORTEADA EM 2024 | G32: QTDE SORTEADA SALIC - ÁREA 1 2024 | H32: QTD SOCLTIADA POR VINCUALDA 2025 | I32: QTD SOLCITADA DDEC | J32: QTD SOLCITADA DFD | K32: QTD ATENDIDA PELO MinC
A33: A | B33: a) Doação ou aquisição de acervos para museus e instituições de preservação da memória. | C33: • Doação/Aquis Acervos p/ Museus e Inst. Pres Memória | D33: 28 | E33: 9 | F33: 18 | G33: 3 | H33: 3 | K33: 2
A34: B | B34: b) Preservação, restauração, conservação, identificação, registro e promoção. | C34: • Preserv Restaur Conserv Identifc Registr Promoção | D34: 31 | E34: 9 | F34: 23 | G34: 3 | H34: 3 | I34: 2 | K34: 2
A35: C | B35: c) Documentação e digitalização de acervos; Sistemas de informações. | C35: • DocumentDigitaliz d Acervo;Pequis;Sis d Informaç; | D35: 23 | E35: 4 | F35: 18 | G35: 2 | H35: 2 | K35: 2
A36: D | B36: d) Ações de segurança para preservação de acervos. | C36: • Ações de Seguran ou Aquisi equips p/ Preserv Acervos. | D36: 22 | E36: 4 | F36: 18 | G36: 2 | H36: 2 | K36: 2
A37: E | B37: e) Planos anuais de atividades e elaboração de planos museológicos. | C37: • Planos Anuais de Ativid e Elabor d Planos Museológ | D37: 40 | E37: 10 | F37: 30 | G37: 6 | H37: 6 | K37: 5
A38: F | B38: f) Exposições realizadas em museus, exposições organizadas com acervos de museus e museografia. | C38: • Exposições realiz em Museus ou c/ Acervos d Museu + Museogra | D38: 62 | E38: 18 | F38: 44 | G38: 3 | H38: 3 | K38: 2
A39: G | B39: g) Pesquisa; Sistematização de informações. | C39: • DocumentDigitaliz d Acervo;Pequis;Sis d Informaç; | D39: 51 | E39: 22 | F39: 30 | G39: 2 | H39: 2 | K39: 2
A40: H | B40: h) Ação educativo-cultural, inclusive seminários, congressos e palestras. | C40: • Ações Educ-Cult/Capacitação/Treinamento de pessoal | D40: 81 | E40: 30 | F40: 51 | G40: 1 | H40: 1 | K40: 1
A41: I | B41: i) Ações de capacitação e treinamento de pessoal. | C41: • Ações Educ-Cult/Capacitação,/Treinamento de pessoal | D41: 49 | E41: 18 | F41: 33 | G41: 1 | H41: 1 | K41: 1
A42: J | B42: j) Aquisição de equipamentos para a preservação e manutenção de acervos. | C42: • Ações de Seguran ou Aquisi equips p/ Preserv Acervos. | D42: 20 | E42: 3 | F42: 18 | G42: 1 | H42: 1 | K42: 1
A43: TOTAL (111 na area 1, 2 e 3) | D43: =SUM(D33:D42) -> 407 | E43: =SUM(E33:E42) -> 127 | F43: =SUM(F33:F42) -> 283 | G43: =SUM(G33:G42) -> 24 | H43: =SUM(H33:H42) -> 24 | I43: =SUM(I33:I42) -> 2 | K43: =SUM(K33:K42) -> 20
A44: MÚSICA
A45: LETRA | B45: SEGMENTO | C45: CORRESPONDÊNCIA SALIC | D45: QTD PERITOS | E45: QTD NÃO SORTEADOS | F45: QTD SORTEADA EM 2024 | G45: QTDE SORTEADA SALIC - ÁREA 1 2024 | H45: QTD SOCLTIADA POR VINCUALDA 2025 | I45: QTD SOLCITADA DDEC | J45: QTD SOLCITADA DFD | K45: QTD ATENDIDA PELO MinC
A46: A | B46: A) MÚSICA DE CONCERTO (a. Composição, arranjo e execução de obra musical para orquestra, bandas, grupos de câmara, dentre outras formações musicais; b. Produção, registro e difusão musical em diversos meios e suportes físicos e digitais; c. Pesquisa, memória e publicação na área; d. Formação: desenvolvimento de projetos pedagógicos, cursos, oficinas, residências, intercâmbios, dentre outras ações educativas. E. Difusão: mostras, festivais e circuitos de shows; f. Gestão e manutenção de bandas e grupos musicais; g. Gestão e manutenção de estúdios e demais espaços musicais). | C46: • Apresentação/Gravação de Canto Coral; • Apresentação/Gravação de Música Erudita; • Apresentação/Gravação de Música Instrumental; e • Empreend Ações Educ-Cult/Capacitação/ Treinamento | D46: 94 | E46: 35 | F46: 60 | G46: 28 | H46: 28 | K46: 25
A47: B | B47: B) MÚSICA POPULAR (a. Composição, arranjo e execução de obra musical para orquestras, bandas, grupos de câmara, dentre outras formações musicais; b. Produção, registro e difusão musical em diversos meios e suportes físicos e digitais; c. Pesquisa, memória e publicação na área; d. Formação: desenvolvimento de projetos pedagógicos, cursos, oficinas, residências, intercâmbios, dentre outras ações educativas. E. Difusão: mostras, festivais e circuitos de shows; f. Gestão e manutenção de bandas e grupos musicais; g. Gestão e manutenção de estúdios e demais espaços musicais; h. Música regional). | C47: • Apresentação/Gravação Música Regional; • Apresentação/Gravação Música Popular Cantada Art26; e • Empreend Ações Educ-Cult/Capacitação/ Treinamento. | D47: 155 | E47: 78 | F47: 79 | G47: 19 | H47: 25 | I47: 6 | K47: 25
A48: TOTAL 173 a´reas 1, 2 e 3 | D48: =SUM(D46:D47) -> 249 | E48: =SUM(E46:E47) -> 113 | F48: =SUM(F46:F47) -> 139 | G48: =SUM(G46:G47) -> 47 | H48: =SUM(H46:H47) -> 53 | I48: =SUM(I46:I47) -> 6 | K48: =SUM(K46:K47) -> 50
A49: PATRIMÔNIO CULTURAL
A50: LETRA | B50: SEGMENTO | C50: CORRESPONDÊNCIA SALIC | D50: QTD PERITOS (1, 2 e 3) | E50: QTD NÃO SORTEADOS | F50: QTD SORTEADA EM 2024 ( 1, 2 e 3) | G50: QTDE SORTEADA SALIC - ÁREA 1 2024 | H50: QTD SOCLTIADA POR VINCUALDA 2025 | I50: QTD SOLCITADA DDEC | J50: QTD SOLCITADA DFD | K50: QTD ATENDIDA PELO MinC
A51: A | B51: a) ações de educação patrimonial | C51: • Ações de Educação Patrimonial. | D51: 87 | E51: 38 | F51: 51 | G51: 4 | H51: 6 | K51: 6
A52: B | B52: b) elaboração de projetos executivos de conservação e restauro de bens imóveis tombados ou protegidos por outras formas de acautelamento | C52: • Projetos executivos para bens imóveis. | D52: 20 | E52: 4 | F52: 17 | G52: 6 | H52: 15 | K52: 10
A53: C | B53: c) elaboração de projetos executivos de conservação, restauro de bens móveis e integrados, tombados ou protegidos por outras formas de acautelamento | C53: • Projetos executivos para bens móveis e integrados. | D53: 10 | E53: 2 | F53: 8
A54: D | B54: d) intervenções de conservação, restauro de bens imóveis tombados ou protegidos por outras formas de acautelamento | C54: • Intervenções de bens imóveis tombados; e • Identificação de bens culturais materiais. | D54: 17 | E54: 1 | F54: 17 | G54: 5 | H54: 14 | K54: 10
A55: E | B55: e) intervenções de conservação, restauro de bens móveis e integrados tombados ou protegidos por outras formas de acautelamento | C55: • Intervenções de bens móveis e integrados tombados; e • Identificação de bens culturais materiais. | D55: 7 | E55: 2 | F55: 5
A56: F | B56: f) organização, tratamento e digitalização de acervos arquivísticos culturais | C56: • Acervos arquivísticos culturais. | D56: 15 | E56: 2 | F56: 13
A57: G | B57: g) ações de preservação do patrimônio arqueológico | C57: • Preservação do patrimônio arqueológico. | D57: 15 | E57: 4 | F57: 11
A58: H | B58: h) ações de salvaguarda do patrimônio cultural imaterial | C58: • Salvaguarda do patrimônio cultural imaterial | D58: 58 | E58: 30 | F58: 28
A59: I | B59: i) artesanato de valor cultural e origem tradicional | C59: • Artesanato tradicional. | D59: 56 | E59: 36 | F59: 18
A60: TOTAL 130 áreas 1, 2 e 3 | D60: 291 | E60: =SUM(E51:E59) -> 119 | G60: =SUM(G51:G59) -> 15 | H60: =SUM(H51:H59) -> 35 | K60: =SUM(K51:K59) -> 26
A61: CONSTRUÇÃO, REFORMA, ADEQUAÇÃO OU MANUTENÇÃO DE EQUIPAMENTOS CULTURAIS
A62: LETRA | B62: SEGMENTO | C62: CORRESPONDÊNCIA SALIC | D62: QTD PERITOS | E62: QTD NÃO SORTEADOS | F62: QTD SORTEADA EM 2024 | G62: QTDE SORTEADA SALIC - ÁREA 1 2024 | H62: QTD SOCLTIADA POR VINCUALDA 2025 | I62: QTD SOLCITADA DDEC | J62: QTD SOLCITADA DFD | K62: QTD ATENDIDA PELO MinC
A63: A | B63: a) elaboração de projetos executivos de construção, reforma ou adequação de equipamentos culturais de valor arquitetônico não tombados | C63: • Projetos executivos para bens imóveis; e • Projetos executivos para bens móveis e integrados. | D63: 18 | E63: 4 | F63: 16 | G63: 5 | H63: 15 | K63: 10
A64: B | B64: b) construção, reforma, adequação ou manutenção de equipamentos culturais | C64: Artes Cênicas • Const/Manut sl teatro c/ centro cultural<100.000 h. Audiovisual (a conferir com a SAV) • Cons/Man de salas cine func c. cult com. < 100.000h; • Constr. Centro comunitário c/ sala cinema(<100 mil); • Construção de salas de cinema (< 100 mil hab); e • Manut. Centro comunitário c/ sala cinema (<100 mil). Humanidades • Const Bibli sl teatr/film ativ culturais < 100.000h. Museu e Memória • Criação Implantaç (Proj Construç Restaur Reforma);e • Preserv Restaur Conserv Identific Registr Promoção. Patrimônio Cultural • Intervenções em bens imóveis tombados; • Intervenões de bens móveis e integrados tombados; e • Construção de equipamentos culturais em geral Art 26. | D64: 15 | E64: 4 | F64: 13 | G64: 4 | H64: 15 | K64: 10
A65: TOTAL 22 área 2 e 2 | D65: 34 | F65: 9/15 -peritos distintos 3 inex | K65: =SUM(K63:K64) -> 20
J66: TOTAL SORTEADOS SALIC | K66: =K8+K16+K23+K30+K43+K48+K60+K65 -> 185

Sheet RESPOSTAS DAS VINCULADAS
A1: RESPOSTAS DAS VINCULADAS
A2: VINCULADA / SAV | B2: ÁREA PRINCIPAL | C2: SEGMENTO
A3: FBN | B3: HUMANIDADES | C3: A - 12
A4: FBN | B4: HUMANIDADES | C4: B - 06
A5: FBN | B5: HUMANIDADES | C5: C - 12
A6: FBN | B6: HUMANIDADES | C6: D - 10
A7: IBRAM | B7: MUSEU E MEMÓRIA | C7: A - 05
A8: IBRAM | B8: MUSEU E MEMÓRIA | C8: B - 10
A9: IBRAM | B9: MUSEU E MEMÓRIA | C9: C - 10
A10: IBRAM | B10: MUSEU E MEMÓRIA | C10: D - 05
A11: IBRAM | B11: MUSEU E MEMÓRIA | C11: E - 10
A12: IBRAM | B12: MUSEU E MEMÓRIA | C12: F - 10
A13: IBRAM | B13: MUSEU E MEMÓRIA | C13: G- 10
... A23: SAV | B23: AUDIOVISUAL | C23: D - 22
A33: AUDIOVISUAL | B33: SAV
A34: HUMANIDADES | B34: FBN
A35: MÚSEU E MEMÓRIA | B35: IBRAM
A36: PATRIMONIO CULTURAL | B36: IPHAN
