Workbook
Name Área_impressão_IM: #REF!
Name Aut_original: [1]PROJETO!#REF!
Name Aut_resumo: [2]RESUMO_AUT1!#REF!
Name BANCODADOS1: '[3]CUSTO EQUIP'!$A$3:$T$56
Name Excel_BuiltIn_Print_Area: 'CRONO_FÍSICO - FINAN_LOTE 02'!$A$5:$AG$26
Name Excel_BuiltIn_Print_Titles_1: #REF!
Name Excel_BuiltIn_Print_Titles_2: #REF!
Name LOTE: [3]Croqui!$I$6
Name Print: [4]QuQuant!#REF!
Name Print_Area_MI: #REF!
Name SRROO: [3]Croqui!$I$4
Name XXXX: [2]RESUMO_AUT1!#REF!
Name XXXXX: #REF!

Sheet CRONO_FÍSICO - FINAN_LOTE 02
B1: GOINFRA - Agência Goiana de Infraestrutura e Transportes | K1: CONTRATAÇÃO DE SERVIÇOS DE MICROREVESTIMENTO LOTE 02 EXTENSÃO 429,58 Km
A5: CRONOGRAMA FÍSICO-FINANCEIRO
A6: ITEM | B6: SERVIÇOS | C6: PREÇO TOTAL R$ | D6: MESES
D7: 1° Mês | F7: 2° Mês | H7: 3° Mês | J7: 4° Mês | L7: 5° Mês | N7: 6° Mês | P7: 7° Mês
A8: 1 | B8: =Planilha1!D19 -> MICRORREVESTIMENTO À FRIO - 0,8cm S/ COMPACTAÇÃO (BC) | C8: =Planilha6!Z19 -> 19408583 | D8: 0.14285711 | F8: 0.1428571 | H8: 0.14285718 | J8: 0.14285719 | L8: 0.14285719 | N8: 0.14285712 | P8: 0.14285711
D9: =D8*$C8 -> 2772654.1 | F9: =F8*$C8 -> 2772653.9 | H9: =H8*$C8 -> 2772655.4 | J9: =J8*$C8 -> 2772655.6 | L9: =L8*$C8 -> 2772655.6 | N9: =N8*$C8 -> 2772654.3 | P9: =P8*$C8 -> 2772654.1
A10: 2 | B10: =Planilha1!D20 -> TRANSPORTE COMERCIAL DE CIMENTO / CAL / FILLER | C10: =Planilha6!Z20 -> 327724.43 | D10: 0.14285711 | F10: 0.1428571 | H10: 0.14285718 | J10: 0.14285719 | L10: 0.14285719 | N10: 0.14285712 | P10: 0.14285711
D11: =D10*$C10 -> 46817.765 | F11: =F10*$C10 -> 46817.762 | H11: =H10*$C10 -> 46817.788 | J11: =J10*$C10 -> 46817.791 | L11: =L10*$C10 -> 46817.791 | N11: =N10*$C10 -> 46817.768 | P11: =P10*$C10 -> 46817.765
A12: 3 | B12: =Planilha1!D21 -> TRANSPORTE COMERCIAL DE AGREGADOS | C12: =Planilha6!Z21 -> 5108997.9 | D12: =D10 -> 0.14285711 | F12: =F10 -> 0.1428571 | H12: =H10 -> 0.14285718 | J12: =J10 -> 0.14285719 | L12: =L10 -> 0.14285719 | N12: =N10 -> 0.14285712 | P12: =P10 -> 0.14285711
D13: =D12*$C12 -> 729856.67 | F13: =F12*$C12 -> 729856.62 | H13: =H12*$C12 -> 729857.03 | J13: =J12*$C12 -> 729857.08 | L13: =L12*$C12 -> 729857.08 | N13: =N12*$C12 -> 729856.72 | P13: =P12*$C12 -> 729856.67
A14: 4 | B14: =Planilha1!D22 -> FORNECIMENTO DE EMULSÃO RC-1C COM POLÍMERO | C14: =Planilha6!Z22 -> 49727584 | D14: =D12 -> 0.14285711 | F14: =F12 -> 0.1428571 | H14: =H12 -> 0.14285718 | J14: =J12 -> 0.14285719 | L14: =L12 -> 0.14285719 | N14: =N12 -> 0.14285712 | P14: =P12 -> 0.14285711 | AK14: 1 | AL14: 2 | AM14: 3 | AN14: 4 | AO14: 5 | AP14: 6 | AQ14: 7
D15: =D14*$C14 -> 7103938.9 | F15: =F14*$C14 -> 7103938.4 | H15: =H14*$C14 -> 7103942.4 | J15: =J14*$C14 -> 7103942.9 | L15: =L14*$C14 -> 7103942.9 | N15: =N14*$C14 -> 7103939.4 | P15: =P14*$C14 -> 7103938.9 | AK15: 0.14285711 | AL15: 0.1428571 | AM15: 0.14285718 | AN15: 0.14285719 | AO15: 0.14285719 | AP15: 0.14285712 | AQ15: 0.14285711
A16: 5 | B16: =Planilha1!D23 -> TRANSPORTE COMERCIAL DE MATERIAL BETUMINOSO | C16: =Planilha6!Z23 -> 6582948.7 | D16: =D14 -> 0.14285711 | F16: =F14 -> 0.1428571 | H16: =H14 -> 0.14285718 | J16: =J14 -> 0.14285719 | L16: =L14 -> 0.14285719 | N16: =N14 -> 0.14285712 | P16: =P14 -> 0.14285711
D17: =D16*$C16 -> 940421.03 | F17: =F16*$C16 -> 940420.96 | H17: =H16*$C16 -> 940421.49 | J17: =J16*$C16 -> 940421.55 | L17: =L16*$C16 -> 940421.55 | N17: =N16*$C16 -> 940421.09 | P17: =P16*$C16 -> 940421.03
A18: 6 | B18: =Planilha1!D24 -> ADMINISTRAÇÃO LOCAL/INSTALAÇÕES PROVISÓRIAS | C18: =Planilha6!Z24 -> 709006.74 | D18: =AK15 -> 0.14285711 | F18: =AL15 -> 0.1428571 | H18: =AM15 -> 0.14285718 | J18: =AN15 -> 0.14285719 | L18: =AO15 -> 0.14285719 | N18: =AP15 -> 0.14285712 | P18: =AQ15 -> 0.14285711
D19: =D18*$C18 -> 101286.65 | F19: =F18*$C18 -> 101286.65 | H19: =H18*$C18 -> 101286.7 | J19: =J18*$C18 -> 101286.71 | L19: =L18*$C18 -> 101286.71 | N19: =N18*$C18 -> 101286.66 | P19: =P18*$C18 -> 101286.65
A20: 7 | B20: =Planilha1!D25 -> MOBILIZAÇÃO / DESMOBILIZAÇÃO - CONFORME DEMONSTRATIVO | C20: =Planilha6!Z25 -> 279467.22 | D20: 0.25 | F20: 0.25 | H20: 0 | L20: 0 | N20: 0.25 | P20: 0.25
D21: =D20*$C20 -> 69866.805 | F21: =F20*$C20 -> 69866.805 | H21: =H20*$C20 -> 0 | L21: =L20*$C20 -> 0 | N21: =N20*$C20 -> 69866.805 | P21: =P20*$C20 -> 69866.805
A22: PERCENTUAL GLOBAL SIMPLES | C22: - | D22: =D23/$C$25 -> 0.14322163 | F22: =F23/$C$25 -> 0.14322162 | H22: =H23/$C$25 -> 0.14237116 | J22: =J23/$C$25 -> 0.14237117 | L22: =L23/$C$25 -> 0.14237117 | N22: =N23/$C$25 -> 0.14322164 | P22: =P23/$C$25 -> 0.14322163
A23: VALOR SIMPLES | C23: - | D23: =D9+D11+D13+D17+D19+D15+D21 -> 11764842 | F23: =F9+F11+F13+F17+F19+F15+F21 -> 11764841 | H23: =H9+H11+H13+H17+H19+H15+H21 -> 11694981 | J23: =J9+J11+J13+J17+J19+J15+J20 -> 11694982 | L23: =L9+L11+L13+L17+L19+L15+L20 -> 11694982 | N23: =N9+N11+N13+N17+N19+N15+N21 -> 11764843 | P23: =P9+P11+P13+P17+P19+P15+P21 -> 11764842
A24: PERCENTUAL GLOBAL ACUM. | C24: =SUM(C8:C21)/C25 -> 1 | D24: =D22 -> 0.14322163 | F24: =F22+D24 -> 0.28644324 | H24: =H22+F24 -> 0.4288144 | J24: =J22+H24 -> 0.57118557 | L24: =L22+J24 -> 0.71355674 | N24: =N22+L24 -> 0.85677837 | P24: =P22+N24 -> 1
A25: VALOR ACUMULADO | C25: =SUM(C8:C21) -> 82144312 | D25: =D23 -> 11764842 | F25: =F23+D25 -> 23529683 | H25: =H23+F25 -> 35224664 | J25: =J23+H25 -> 46919645 | L25: =L23+J25 -> 58614627 | N25: =N23+L25 -> 70379470 | P25: =P23+N25 -> 82144312

Sheet Planilha6
D1: GOINFRA - Agência Goiana de Infraestrutura e Transportes | S1: 16/01/2024 - 09:37
D3: Orçamento Sintético
A5: Setor | C5: : PL-GECOB - GERENCIA DE CUSTOS E ORÇAMENTOS DE OBRAS RODOVIARIAS
A6: Orçamento | C6: : 103540-7/2024 | U6: Data Orçamento : 10/01/2024
A7: Descrição | C7: : CONTRATAÇÃO DE SERVIÇOS DE MICRORREVESTIMENTO À FRIO
A8: Versão | C8: : ORÇAMENTO REALIZADO NA TABELA 230 - SEM DESONERAÇÃO - OUT/23 - LOTE 2
A9: Trecho | C9: : DIVERSOS
A10: Nat. Serviço | C10: : Obra Rodoviária
A11: Subtrecho | C11: :
A12: Extensão | C12: : 429,58 Km
A17: Cód. Auxiliar | D17: Serviço | K17: Bdi | M17: Unid. | P17: Quantidade | V17: Preço Unitário | Z17: Total
D18: PAVIMENTAÇÃO
A19: 40611 | D19: MICRORREVESTIMENTO À FRIO - 0,8cm S/ COMPACTAÇÃO (BC) | K19: 20.31 | M19: m2 | P19: 7732503.2 | V19: 2.51 | Z19: 19408583
A20: 40450 | D20: TRANSPORTE COMERCIAL DE CIMENTO / CAL / FILLER | K20: 20.31 | M20: TKM | P20: 414841.06 | V20: 0.79 | Z20: 327724.43
A21: 40455 | D21: TRANSPORTE COMERCIAL DE AGREGADOS | K21: 20.31 | M21: m3km | P21: 3572725.8 | V21: 1.43 | Z21: 5108997.9
A22: 40511 | D22: FORNECIMENTO DE EMULSÃO RC-1C COM POLÍMERO | K22: 20.31 | M22: t | P22: 10825.5 | V22: 4593.56 | Z22: 49727584
A23: 40530 | D23: TRANSPORTE COMERCIAL DE MATERIAL BETUMINOSO | K23: 20.31 | M23: tkm | P23: 3446570 | V23: 1.91 | Z23: 6582948.7
A24: 1 | D24: ADMINISTRAÇÃO LOCAL/INSTALAÇÕES PROVISÓRIAS | K24: 20.31 | M24: un | P24: 1 | V24: 709006.74 | Z24: 709006.74
A25: 42301 | D25: MOBILIZAÇÃO / DESMOBILIZAÇÃO - CONFORME DEMONSTRATIVO | K25: 20.31 | M25: un | P25: 1 | V25: 279467.22 | Z25: 279467.22
A27: Total do Grupo : | Y27: 82144312
A29: Total do Orçamento : | Y29: 82144312
A30: SCO - Sistema de Custos e Orçamentos

Sheet Planilha1
D1: GOINFRA - Agência Goiana de Infraestrutura e Transportes | S1: 16/01/2024 - 09:26
D3: Orçamento Sintético
A5: Setor | C5: : PL-GECOB - GERENCIA DE CUSTOS E ORÇAMENTOS DE OBRAS RODOVIARIAS
A6: Orçamento | C6: : 103540-6/2024 | U6: Data Orçamento : 10/01/2024
A7: Descrição | C7: : CONTRATAÇÃO DE SERVIÇOS DE MICRORREVESTIMENTO À FRIO
A8: Versão | C8: : ORÇAMENTO REALIZADO NA TABELA 230 - SEM DESONERAÇÃO - OUT/23 - LOTE 1
A9: Trecho | C9: : DIVERSOS
A10: Nat. Serviço | C10: : Obra Rodoviária
A11: Subtrecho | C11: :
A12: Extensão | C12: : 432,16 Km
A17: Cód. Auxiliar | D17: Serviço | K17: Bdi | M17: Unid. | P17: Quantidade | V17: Preço Unitário | Z17: Total
D18: PAVIMENTAÇÃO
A19: 40611 | D19: MICRORREVESTIMENTO À FRIO - 0,8cm S/ COMPACTAÇÃO (BC) | K19: 20.31 | M19: m2 | P19: 7778960.1 | V19: 2.51 | Z19: 19525190
A20: 40450 | D20: TRANSPORTE COMERCIAL DE CIMENTO / CAL / FILLER | K20: 20.31 | M20: TKM | P20: 222442.73 | V20: 0.79 | Z20: 175729.75
A21: 40455 | D21: TRANSPORTE COMERCIAL DE AGREGADOS | K21: 20.31 | M21: m3km | P21: 12183113 | V21: 1.43 | Z21: 17421851
A22: 40511 | D22: FORNECIMENTO DE EMULSÃO RC-1C COM POLÍMERO | K22: 20.31 | M22: t | P22: 10890.54 | V22: 4593.56 | Z22: 50026349
A23: 40530 | D23: TRANSPORTE COMERCIAL DE MATERIAL BETUMINOSO | K23: 20.31 | M23: tkm | P23: 2841696.2 | V23: 1.91 | Z23: 5427639.7
A24: 1 | D24: ADMINISTRAÇÃO LOCAL/INSTALAÇÕES PROVISÓRIAS | K24: 20.31 | M24: un | P24: 1 | V24: 747784.19 | Z24: 747784.19
A25: 42301 | D25: MOBILIZAÇÃO / DESMOBILIZAÇÃO - CONFORME DEMONSTRATIVO | K25: 20.31 | M25: un | P25: 1 | V25: 241508.96 | Z25: 241508.96
A27: Total do Grupo : | Y27: 93566053
A29: Total do Orçamento : | Y29: 93566053
A30: SCO - Sistema de Custos e Orçamentos
