Workbook

Sheet MOB E SENIORIDADE
B1: MOBILIZAÇÃO | G1: SENIORIDADE
B3: Produto 05 - MA-GEMRU | G3: =B3 -> Produto 05 - MA-GEMRU
B4: Ação 1 - Coordenação e Assessoramento Técnico Setorial MA GEMRU | G4: =B4 -> Ação 1 - Coordenação e Assessoramento Técnico Setorial MA GEMRU
B5: ID Produto | C5: Função | D5: Nome Contratado | E5: E-mail | G5: ID Produto | H5: Senioridade Exigida | I5: Senioridade Apresentada | J5: Nome | K5: Base Exigida | L5: Base Apresentada | M5: % Senioridade
E6: =IFERROR(INDEX(#REF!,MATCH(D6,#REF!,0)),"") | G6: =B6 -> 0 | H6: =C6 -> 0 | I6: =IFERROR(INDEX(#REF!,MATCH(J6,#REF!,0)),"") | J6: =IF(D6="","",D6) | K6: =IFERROR(INDEX('TC_OUT-2022'!E:E,MATCH(H6,'TC_OUT-2022'!C:C,0)),"") | L6: =IFERROR(INDEX('TC_OUT-2022'!E:E,MATCH(I6,'TC_OUT-2022'!C:C,0)),"") | M6: =IF(IFERROR(L6/K6,0)>1,1,IFERROR(L6/K6,0)) -> 0
E7: =IFERROR(INDEX(#REF!,MATCH(D7,#REF!,0)),"") | G7: =B7 -> 0 | H7: =C7 -> 0 | I7: =IFERROR(INDEX(#REF!,MATCH(J7,#REF!,0)),"") | J7: =IF(D7="","",D7) | K7: =IFERROR(INDEX('TC_OUT-2022'!E:E,MATCH(H7,'TC_OUT-2022'!C:C,0)),"") | L7: =IFERROR(INDEX('TC_OUT-2022'!E:E,MATCH(I7,'TC_OUT-2022'!C:C,0)),"") | M7: =IF(IFERROR(L7/K7,0)>1,1,IFERROR(L7/K7,0)) -> 0
E8: =IFERROR(INDEX(#REF!,MATCH(D8,#REF!,0)),"") | G8: =B8 -> 0 | H8: =C8 -> 0 | I8: =IFERROR(INDEX(#REF!,MATCH(J8,#REF!,0)),"") | J8: =IF(D8="","",D8) | K8: =IFERROR(INDEX('TC_OUT-2022'!E:E,MATCH(H8,'TC_OUT-2022'!C:C,0)),"") | L8: =IFERROR(INDEX('TC_OUT-2022'!E:E,MATCH(I8,'TC_OUT-2022'!C:C,0)),"") | M8: =IF(IFERROR(L8/K8,0)>1,1,IFERROR(L8/K8,0)) -> 0
E9: =IFERROR(INDEX(#REF!,MATCH(D9,#REF!,0)),"") | G9: =B9 -> 0 | H9: =C9 -> 0 | I9: =IFERROR(INDEX(#REF!,MATCH(J9,#REF!,0)),"") | J9: =IF(D9="","",D9) | K9: =IFERROR(INDEX('TC_OUT-2022'!E:E,MATCH(H9,'TC_OUT-2022'!C:C,0)),"") | L9: =IFERROR(INDEX('TC_OUT-2022'!E:E,MATCH(I9,'TC_OUT-2022'!C:C,0)),"") | M9: =IF(IFERROR(L9/K9,0)>1,1,IFERROR(L9/K9,0)) -> 0
E10: =IFERROR(INDEX(#REF!,MATCH(D10,#REF!,0)),"") | G10: =B10 -> 0 | H10: =C10 -> 0 | I10: =IFERROR(INDEX(#REF!,MATCH(J10,#REF!,0)),"") | J10: =IF(D10="","",D10) | K10: =IFERROR(INDEX('TC_OUT-2022'!E:E,MATCH(H10,'TC_OUT-2022'!C:C,0)),"") | L10: =IFERROR(INDEX('TC_OUT-2022'!E:E,MATCH(I10,'TC_OUT-2022'!C:C,0)),"") | M10: =IF(IFERROR(L10/K10,0)>1,1,IFERROR(L10/K10,0)) -> 0
E11: =IFERROR(INDEX(#REF!,MATCH(D11,#REF!,0)),"") | G11: =B11 -> 0 | H11: =C11 -> 0 | I11: =IFERROR(INDEX(#REF!,MATCH(J11,#REF!,0)),"") | J11: =IF(D11="","",D11) | K11: =IFERROR(INDEX('TC_OUT-2022'!E:E,MATCH(H11,'TC_OUT-2022'!C:C,0)),"") | L11: =IFERROR(INDEX('TC_OUT-2022'!E:E,MATCH(I11,'TC_OUT-2022'!C:C,0)),"") | M11: =IF(IFERROR(L11/K11,0)>1,1,IFERROR(L11/K11,0)) -> 0
E12: =IFERROR(INDEX(#REF!,MATCH(D12,#REF!,0)),"") | G12: =B12 -> 0 | H12: =C12 -> 0 | I12: =IFERROR(INDEX(#REF!,MATCH(J12,#REF!,0)),"") | J12: =IF(D12="","",D12) | K12: =IFERROR(INDEX('TC_OUT-2022'!E:E,MATCH(H12,'TC_OUT-2022'!C:C,0)),"") | L12: =IFERROR(INDEX('TC_OUT-2022'!E:E,MATCH(I12,'TC_OUT-2022'!C:C,0)),"") | M12: =IF(IFERROR(L12/K12,0)>1,1,IFERROR(L12/K12,0)) -> 0
E13: =IFERROR(INDEX(#REF!,MATCH(D13,#REF!,0)),"") | G13: =B13 -> 0 | H13: =C13 -> 0 | I13: =IFERROR(INDEX(#REF!,MATCH(J13,#REF!,0)),"") | J13: =IF(D13="","",D13) | K13: =IFERROR(INDEX('TC_OUT-2022'!E:E,MATCH(H13,'TC_OUT-2022'!C:C,0)),"") | L13: =IFERROR(INDEX('TC_OUT-2022'!E:E,MATCH(I13,'TC_OUT-2022'!C:C,0)),"") | M13: =IF(IFERROR(L13/K13,0)>1,1,IFERROR(L13/K13,0)) -> 0
K14: =SUM(K6:K13) -> 0 | L14: =SUM(L6:L13) -> 0 | M14: =IF(IFERROR(L14/K14,0)>1,1,IFERROR(L14/K14,0)) -> 0
L16: FPS | M16: =IF(SUM(L6:L13)/SUM(K6:K13)>1,1,SUM(L6:L13)/SUM(K6:K13)) -> #DIV/0!

Sheet DESEMPENHO
B2: Produto | C2: Atividade | D2: Sub-Atividade | E2: Data da abertura | F2: Data da entrega | G2: Data de Vencimento | H2: Objeto nome | I2: Critério de Desempenho | L2: Critério de Ponderação | N2: Nota Parcial - N.P. (B*(C+D+E)/n) | O2: Avaliado
I3: (C) Prazo | J3: (D) Forma | K3: (E) Argumento | L3: (A) Criticidade | M3: (B) Peso
K35: Soma Peso = ∑(S.P.) | M35: =SUM(M4:M33) -> 0
K36: Soma Nota Parcial = ∑(N.P.) | M36: =SUM(N4:N33) -> 0
K38: NOTA FINAL DA AÇÃO: | M38: =M36/M35 -> #DIV/0!
K39: Nota final NF = ∑(N.P.) / ∑(S.P.)
K41: FPD | L41: =IF(M41=1,"ALTO",IF(M41=0.8,"MÉDIO",IF(M41=0.3,"BAIXO",""))) -> #DIV/0! | M41: =IF(M38>0.7,1,IF(M38>0.5,0.8,0.3)) -> #DIV/0!

Sheet MEDIÇÃO
B1: MEDIÇÃO
B3: ='MOB E SENIORIDADE'!G3 -> Produto 05 - MA-GEMRU
B4: ='MOB E SENIORIDADE'!G4 -> Ação 1 - Coordenação e Assessoramento Técnico Setorial MA GEMRU
B5: ID Produto | C5: Vo | D5: FPD | E5: FPA | F5: FPS | G5: VFM = FPD x FPA x FPS x Vo
D6: =IFERROR(DESEMPENHO!M41,0) -> 0 | E6: =1 -> 1 | F6: =IFERROR('MOB E SENIORIDADE'!M16,0) -> 0 | G6: =F6*E6*D6*C6 -> 0

Sheet CRONOGRAMA
B1: Cronograma Financeiro DSV
B3: Código | C3: Serviço | D3: Valor Etapa | F3: 44927 | G3: 44958 | H3: 44986 | I3: 45017 | J3: 45047 | K3: 45078 | L3: 45108 | M3: 45139 | N3: 45170 | O3: 45200 | P3: 45231 | Q3: 45261 | R3: 45292 | S3: 45323 | T3: 45352 | U3: 45383 | V3: 45413 | W3: 45444 | X3: 45474 | Y3: 45505 | Z3: 45536 | AA3: 45566 | AB3: 45597 | AC3: 45627 | AD3: 45658 | AE3: 45689 | AF3: 45717 | AG3: 45748 | AH3: 45778 | AI3: 45809 | AJ3: 45839 | AK3: 45870 | AL3: 45901 | AM3: 45931 | AN3: 45962 | AO3: 45992 | AP3: 46023 | AQ3: 46054 | AR3: 46082 | AS3: 46113 | AT3: 46143 | AU3: 46174 | AV3: 46204 | AW3: 46235 | AX3: 46266 | AY3: 46296 | AZ3: 46327 | BA3: 46357
B4: PRODUTO 1 - DVS
B5: 1.1 | C5: AÇÃO 1 - Coordenação Geral e Assessoramento Técnico Setorial DSV | D5: 5967180.5 | E5: Previsto | F5: =($D$5/48)/$D$5 -> 0.020833333 | G5: =($D$5/48)/$D$5 -> 0.020833333 | H5: =($D$5/48)/$D$5 -> 0.020833333 | I5: =($D$5/48)/$D$5 -> 0.020833333 | J5: =($D$5/48)/$D$5 -> 0.020833333 | K5: =($D$5/48)/$D$5 -> 0.020833333 | L5: =($D$5/48)/$D$5 -> 0.020833333 | M5: =($D$5/48)/$D$5 -> 0.020833333 | ... BA5: =($D$5/48)/$D$5 -> 0.020833333
F6: =ROUND($D$5*F5,2) -> 124316.26 | G6: =ROUND($D$5*G5,2) -> 124316.26 | H6: =ROUND($D$5*H5,2) -> 124316.26 | I6: =ROUND($D$5*I5,2) -> 124316.26 | J6: =ROUND($D$5*J5,2) -> 124316.26 | K6: =ROUND($D$5*K5,2) -> 124316.26 | L6: =ROUND($D$5*L5,2) -> 124316.26 | M6: =ROUND($D$5*M5,2) -> 124316.26 | ... BA6: =ROUND($D$5*BA5,2) -> 124316.26
E7: Realizado | F7: =IFERROR(F8/$D$5,0) -> 0 | G7: =IFERROR(G8/$D$5,0) -> 0 | H7: =IFERROR(H8/$D$5,0) -> 0 | I7: =IFERROR(I8/$D$5,0) -> 0 | J7: =IFERROR(J8/$D$5,0) -> 0 | K7: =IFERROR(K8/$D$5,0) -> 0 | L7: =IFERROR(L8/$D$5,0) -> 0 | M7: =IFERROR(M8/$D$5,0) -> 0 | ... BA7: =IFERROR(BA8/$D$5,0) -> 0
B9: 1.2 | C9: AÇÃO 2 - Assessoria de Controle Externo | D9: 3357647 | E9: Previsto | F9: =($D$9/48)/$D$9 -> 0.020833333 | G9: =($D$9/48)/$D$9 -> 0.020833333 | H9: =($D$9/48)/$D$9 -> 0.020833333 | I9: =($D$9/48)/$D$9 -> 0.020833333 | J9: =($D$9/48)/$D$9 -> 0.020833333 | K9: =($D$9/48)/$D$9 -> 0.020833333 | L9: =($D$9/48)/$D$9 -> 0.020833333 | M9: =($D$9/48)/$D$9 -> 0.020833333 | ... BA9: =($D$9/48)/$D$9 -> 0.020833333
F10: =ROUND($D$9*F9,2) -> 69950.98 | G10: =ROUND($D$9*G9,2) -> 69950.98 | H10: =ROUND($D$9*H9,2) -> 69950.98 | I10: =ROUND($D$9*I9,2) -> 69950.98 | J10: =ROUND($D$9*J9,2) -> 69950.98 | K10: =ROUND($D$9*K9,2) -> 69950.98 | L10: =ROUND($D$9*L9,2) -> 69950.98 | M10: =ROUND($D$9*M9,2) -> 69950.98 | ... BA10: =ROUND($D$9*BA9,2) -> 69950.98
E11: Realizado | F11: =F12/$D$9 -> 0 | G11: =G12/$D$9 -> 0 | H11: =H12/$D$9 -> 0 | I11: =I12/$D$9 -> 0 | J11: =J12/$D$9 -> 0 | K11: =K12/$D$9 -> 0 | L11: =L12/$D$9 -> 0 | M11: =M12/$D$9 -> 0 | ... BA11: =BA12/$D$9 -> 0
B13: 1.3 | C13: AÇÃO 3 - Segurança viária em trechos ferroviários | D13: 3163559 | E13: Previsto | F13: =($D$13/48)/$D$13 -> 0.020833333 | G13: =($D$13/48)/$D$13 -> 0.020833333 | H13: =($D$13/48)/$D$13 -> 0.020833333 | I13: =($D$13/48)/$D$13 -> 0.020833333 | J13: =($D$13/48)/$D$13 -> 0.020833333 | K13: =($D$13/48)/$D$13 -> 0.020833333 | L13: =($D$13/48)/$D$13 -> 0.020833333 | M13: =($D$13/48)/$D$13 -> 0.020833333 | ... BA13: =($D$13/48)/$D$13 -> 0.020833333
F14: =ROUND($D$13*F13,2) -> 65907.48 | G14: =ROUND($D$13*G13,2) -> 65907.48 | H14: =ROUND($D$13*H13,2) -> 65907.48 | I14: =ROUND($D$13*I13,2) -> 65907.48 | J14: =ROUND($D$13*J13,2) -> 65907.48 | K14: =ROUND($D$13*K13,2) -> 65907.48 | L14: =ROUND($D$13*L13,2) -> 65907.48 | M14: =ROUND($D$13*M13,2) -> 65907.48 | ... BA14: =ROUND($D$13*BA13,2) -> 65907.48
E15: Realizado | F15: =F16/$D$13 -> 0 | G15: =G16/$D$13 -> 0 | H15: =H16/$D$13 -> 0 | I15: =I16/$D$13 -> 0 | J15: =J16/$D$13 -> 0 | K15: =K16/$D$13 -> 0 | L15: =L16/$D$13 -> 0 | M15: =M16/$D$13 -> 0 | ... BA15: =BA16/$D$13 -> 0
B17: 1.4 | C17: AÇÃO 4 - Assessoria Técnica para Segurança do Trabalho | D17: 1054519.7 | E17: Previsto | F17: =($D$17/48)/$D$17 -> 0.020833333 | G17: =($D$17/48)/$D$17 -> 0.020833333 | H17: =($D$17/48)/$D$17 -> 0.020833333 | I17: =($D$17/48)/$D$17 -> 0.020833333 | J17: =($D$17/48)/$D$17 -> 0.020833333 | K17: =($D$17/48)/$D$17 -> 0.020833333 | L17: =($D$17/48)/$D$17 -> 0.020833333 | M17: =($D$17/48)/$D$17 -> 0.020833333 | ... BA17: =($D$17/48)/$D$17 -> 0.020833333
F18: =ROUND($D$17*F17,2) -> 21969.16 | G18: =ROUND($D$17*G17,2) -> 21969.16 | H18: =ROUND($D$17*H17,2) -> 21969.16 | I18: =ROUND($D$17*I17,2) -> 21969.16 | J18: =ROUND($D$17*J17,2) -> 21969.16 | K18: =ROUND($D$17*K17,2) -> 21969.16 | L18: =ROUND($D$17*L17,2) -> 21969.16 | M18: =ROUND($D$17*M17,2) -> 21969.16 | ... BA18: =ROUND($D$17*BA17,2) -> 21969.16
E19: Realizado | F19: =F20/$D$17 -> 0 | G19: =G20/$D$17 -> 0 | H19: =H20/$D$17 -> 0 | I19: =I20/$D$17 -> 0 | J19: =J20/$D$17 -> 0 | K19: =K20/$D$17 -> 0 | L19: =L20/$D$17 -> 0 | M19: =M20/$D$17 -> 0 | ... BA19: =BA20/$D$17 -> 0
B21: PRODUTO 2 - GESIN
B22: 2.1 | C22: AÇÃO 1 - Coordenação e Assessoramento Técnico Setorial DESIN | D22: 5665148.2 | E22: Previsto | F22: =($D$22/48)/$D$22 -> 0.020833333 | G22: =($D$22/48)/$D$22 -> 0.020833333 | H22: =($D$22/48)/$D$22 -> 0.020833333 | I22: =($D$22/48)/$D$22 -> 0.020833333 | J22: =($D$22/48)/$D$22 -> 0.020833333 | K22: =($D$22/48)/$D$22 -> 0.020833333 | L22: =($D$22/48)/$D$22 -> 0.020833333 | M22: =($D$22/48)/$D$22 -> 0.020833333 | ... BA22: =($D$22/48)/$D$22 -> 0.020833333
F23: =ROUND($D$22*F22,2) -> 118023.92 | G23: =ROUND($D$22*G22,2) -> 118023.92 | H23: =ROUND($D$22*H22,2) -> 118023.92 | I23: =ROUND($D$22*I22,2) -> 118023.92 | J23: =ROUND($D$22*J22,2) -> 118023.92 | K23: =ROUND($D$22*K22,2) -> 118023.92 | L23: =ROUND($D$22*L22,2) -> 118023.92 | M23: =ROUND($D$22*M22,2) -> 118023.92 | ... BA23: =ROUND($D$22*BA22,2) -> 118023.92
E24: Realizado | F24: =F25/$D$22 -> 0 | G24: =G25/$D$22 -> 0 | H24: =H25/$D$22 -> 0 | I24: =I25/$D$22 -> 0 | J24: =J25/$D$22 -> 0 | K24: =K25/$D$22 -> 0 | L24: =L25/$D$22 -> 0 | M24: =M25/$D$22 -> 0 | ... BA24: =BA25/$D$22 -> 0
B26: 2.2 | C26: AÇÃO 2 - Sinalização Viária | D26: 3357647 | E26: Previsto | F26: =($D$26/48)/$D$26 -> 0.020833333 | G26: =($D$26/48)/$D$26 -> 0.020833333 | H26: =($D$26/48)/$D$26 -> 0.020833333 | I26: =($D$26/48)/$D$26 -> 0.020833333 | J26: =($D$26/48)/$D$26 -> 0.020833333 | K26: =($D$26/48)/$D$26 -> 0.020833333 | L26: =($D$26/48)/$D$26 -> 0.020833333 | M26: =($D$26/48)/$D$26 -> 0.020833333 | ... BA26: =($D$26/48)/$D$26 -> 0.020833333
F27: =ROUND($D$26*F26,2) -> 69950.98 | G27: =ROUND($D$26*G26,2) -> 69950.98 | H27: =ROUND($D$26*H26,2) -> 69950.98 | I27: =ROUND($D$26*I26,2) -> 69950.98 | J27: =ROUND($D$26*J26,2) -> 69950.98 | K27: =ROUND($D$26*K26,2) -> 69950.98 | L27: =ROUND($D$26*L26,2) -> 69950.98 | M27: =ROUND($D$26*M26,2) -> 69950.98 | ... BA27: =ROUND($D$26*BA26,2) -> 69950.98
E28: Realizado | F28: =F29/$D$26 -> 0 | G28: =G29/$D$26 -> 0 | H28: =H29/$D$26 -> 0 | I28: =I29/$D$26 -> 0 | J28: =J29/$D$26 -> 0 | K28: =K29/$D$26 -> 0 | L28: =L29/$D$26 -> 0 | M28: =M29/$D$26 -> 0 | ... BA28: =BA29/$D$26 -> 0
B30: 2.3 | C30: AÇÃO 3 - Engenharia de Tráfego | D30: 4218078.7 | E30: Previsto | F30: =($D$30/48)/$D$30 -> 0.020833333 | G30: =($D$30/48)/$D$30 -> 0.020833333 | H30: =($D$30/48)/$D$30 -> 0.020833333 | I30: =($D$30/48)/$D$30 -> 0.020833333 | J30: =($D$30/48)/$D$30 -> 0.020833333 | K30: =($D$30/48)/$D$30 -> 0.020833333 | L30: =($D$30/48)/$D$30 -> 0.020833333 | M30: =($D$30/48)/$D$30 -> 0.020833333 | ... BA30: =($D$30/48)/$D$30 -> 0.020833333
F31: =ROUND($D$30*F30,2) -> 87876.64 | G31: =ROUND($D$30*G30,2) -> 87876.64 | H31: =ROUND($D$30*H30,2) -> 87876.64 | I31: =ROUND($D$30*I30,2) -> 87876.64 | J31: =ROUND($D$30*J30,2) -> 87876.64 | K31: =ROUND($D$30*K30,2) -> 87876.64 | L31: =ROUND($D$30*L30,2) -> 87876.64 | M31: =ROUND($D$30*M30,2) -> 87876.64 | ... BA31: =ROUND($D$30*BA30,2) -> 87876.64
E32: Realizado | F32: =F33/$D$30 -> 0 | G32: =G33/$D$30 -> 0 | H32: =H33/$D$30 -> 0 | I32: =I33/$D$30 -> 0 | J32: =J33/$D$30 -> 0 | K32: =K33/$D$30 -> 0 | L32: =L33/$D$30 -> 0 | M32: =M33/$D$30 -> 0 | ... BA32: =BA33/$D$30 -> 0
B34: PRODUTO 3 - GEROP
B35: 3.1 | C35: AÇÃO 1 - Coordenação e Assessoramento Técnico Setorial GEROP | D35: 11410143 | E35: Previsto | F35: =($D$35/48)/$D$35 -> 0.020833333 | G35: =($D$35/48)/$D$35 -> 0.020833333 | H35: =($D$35/48)/$D$35 -> 0.020833333 | I35: =($D$35/48)/$D$35 -> 0.020833333 | J35: =($D$35/48)/$D$35 -> 0.020833333 | K35: =($D$35/48)/$D$35 -> 0.020833333 | L35: =($D$35/48)/$D$35 -> 0.020833333 | M35: =($D$35/48)/$D$35 -> 0.020833333 | ... BA35: =($D$35/48)/$D$35 -> 0.020833333
F36: =ROUND($D$35*F35,2) -> 237711.31 | G36: =ROUND($D$35*G35,2) -> 237711.31 | H36: =ROUND($D$35*H35,2) -> 237711.31 | I36: =ROUND($D$35*I35,2) -> 237711.31 | J36: =ROUND($D$35*J35,2) -> 237711.31 | K36: =ROUND($D$35*K35,2) -> 237711.31 | L36: =ROUND($D$35*L35,2) -> 237711.31 | M36: =ROUND($D$35*M35,2) -> 237711.31 | ... BA36: =ROUND($D$35*BA35,2) -> 237711.31
E37: Realizado | F37: =F38/$D$35 -> 0 | G37: =G38/$D$35 -> 0 | H37: =H38/$D$35 -> 0 | I37: =I38/$D$35 -> 0 | J37: =J38/$D$35 -> 0 | K37: =K38/$D$35 -> 0 | L37: =L38/$D$35 -> 0 | M37: =M38/$D$35 -> 0 | ... BA37: =BA38/$D$35 -> 0
B39: 3.2 | C39: AÇÃO 2 - Assessoramento ao Monitoramento de Velocidade/Tráfego | D39: 1054519.7 | E39: Previsto | F39: =($D$39/48)/$D$39 -> 0.020833333 | G39: =($D$39/48)/$D$39 -> 0.020833333 | H39: =($D$39/48)/$D$39 -> 0.020833333 | I39: =($D$39/48)/$D$39 -> 0.020833333 | J39: =($D$39/48)/$D$39 -> 0.020833333 | K39: =($D$39/48)/$D$39 -> 0.020833333 | L39: =($D$39/48)/$D$39 -> 0.020833333 | M39: =($D$39/48)/$D$39 -> 0.020833333 | ... BA39: =($D$39/48)/$D$39 -> 0.020833333
F40: =ROUND($D$39*F39,2) -> 21969.16 | G40: =ROUND($D$39*G39,2) -> 21969.16 | H40: =ROUND($D$39*H39,2) -> 21969.16 | I40: =ROUND($D$39*I39,2) -> 21969.16 | J40: =ROUND($D$39*J39,2) -> 21969.16 | K40: =ROUND($D$39*K39,2) -> 21969.16 | L40: =ROUND($D$39*L39,2) -> 21969.16 | M40: =ROUND($D$39*M39,2) -> 21969.16 | ... BA40: =ROUND($D$39*BA39,2) -> 21969.16
E41: Realizado | F41: =F42/$D$39 -> 0 | G41: =G42/$D$39 -> 0 | H41: =H42/$D$39 -> 0 | I41: =I42/$D$39 -> 0 | J41: =J42/$D$39 -> 0 | K41: =K42/$D$39 -> 0 | L41: =L42/$D$39 -> 0 | M41: =M42/$D$39 -> 0 | ... BA41: =BA42/$D$39 -> 0
B43: 3.3 | C43: AÇÃO 3 - Assessoramento ao Programa de Controle de Cargas | D43: 1054519.7 | E43: Previsto | F43: =($D$43/48)/$D$43 -> 0.020833333 | G43: =($D$43/48)/$D$43 -> 0.020833333 | H43: =($D$43/48)/$D$43 -> 0.020833333 | I43: =($D$43/48)/$D$43 -> 0.020833333 | J43: =($D$43/48)/$D$43 -> 0.020833333 | K43: =($D$43/48)/$D$43 -> 0.020833333 | L43: =($D$43/48)/$D$43 -> 0.020833333 | M43: =($D$43/48)/$D$43 -> 0.020833333 | ... BA43: =($D$43/48)/$D$43 -> 0.020833333
F44: =ROUND($D$43*F43,2) -> 21969.16 | G44: =ROUND($D$43*G43,2) -> 21969.16 | H44: =ROUND($D$43*H43,2) -> 21969.16 | I44: =ROUND($D$43*I43,2) -> 21969.16 | J44: =ROUND($D$43*J43,2) -> 21969.16 | K44: =ROUND($D$43*K43,2) -> 21969.16 | L44: =ROUND($D$43*L43,2) -> 21969.16 | M44: =ROUND($D$43*M43,2) -> 21969.16 | ... BA44: =ROUND($D$43*BA43,2) -> 21969.16
E45: Realizado | F45: =F46/$D$43 -> 0 | G45: =G46/$D$43 -> 0 | H45: =H46/$D$43 -> 0 | I45: =I46/$D$43 -> 0 | J45: =J46/$D$43 -> 0 | K45: =K46/$D$43 -> 0 | L45: =L46/$D$43 -> 0 | M45: =M46/$D$43 -> 0 | ... BA45: =BA46/$D$43 -> 0
B47: 3.4 | C47: AÇÃO 4 - Assessoramento aos Processos de Autorizações Especiais de Trânsito | D47: 1054519.7 | E47: Previsto | F47: =($D$47/48)/$D$47 -> 0.020833333 | G47: =($D$47/48)/$D$47 -> 0.020833333 | H47: =($D$47/48)/$D$47 -> 0.020833333 | I47: =($D$47/48)/$D$47 -> 0.020833333 | J47: =($D$47/48)/$D$47 -> 0.020833333 | K47: =($D$47/48)/$D$47 -> 0.020833333 | L47: =($D$47/48)/$D$47 -> 0.020833333 | M47: =($D$47/48)/$D$47 -> 0.020833333 | ... BA47: =($D$47/48)/$D$47 -> 0.020833333
F48: =ROUND($D$47*F47,2) -> 21969.16 | G48: =ROUND($D$47*G47,2) -> 21969.16 | H48: =ROUND($D$47*H47,2) -> 21969.16 | I48: =ROUND($D$47*I47,2) -> 21969.16 | J48: =ROUND($D$47*J47,2) -> 21969.16 | K48: =ROUND($D$47*K47,2) -> 21969.16 | L48: =ROUND($D$47*L47,2) -> 21969.16 | M48: =ROUND($D$47*M47,2) -> 21969.16 | ... BA48: =ROUND($D$47*BA47,2) -> 21969.16
E49: Realizado | F49: =F50/$D$47 -> 0 | G49: =G50/$D$47 -> 0 | H49: =H50/$D$47 -> 0 | I49: =I50/$D$47 -> 0 | J49: =J50/$D$47 -> 0 | K49: =K50/$D$47 -> 0 | L49: =L50/$D$47 -> 0 | M49: =M50/$D$47 -> 0 | ... BA49: =BA50/$D$47 -> 0
B51: 3.5 | C51: AÇÃO 5 - Assessoramento aos Processos de Medições de Contratos | D51: 1054519.7 | E51: Previsto | F51: =($D$51/48)/$D$51 -> 0.020833333 | G51: =($D$51/48)/$D$51 -> 0.020833333 | H51: =($D$51/48)/$D$51 -> 0.020833333 | I51: =($D$51/48)/$D$51 -> 0.020833333 | J51: =($D$51/48)/$D$51 -> 0.020833333 | K51: =($D$51/48)/$D$51 -> 0.020833333 | L51: =($D$51/48)/$D$51 -> 0.020833333 | M51: =($D$51/48)/$D$51 -> 0.020833333 | ... BA51: =($D$51/48)/$D$51 -> 0.020833333
F52: =ROUND($D$51*F51,2) -> 21969.16 | G52: =ROUND($D$51*G51,2) -> 21969.16 | H52: =ROUND($D$51*H51,2) -> 21969.16 | I52: =ROUND($D$51*I51,2) -> 21969.16 | J52: =ROUND($D$51*J51,2) -> 21969.16 | K52: =ROUND($D$51*K51,2) -> 21969.16 | L52: =ROUND($D$51*L51,2) -> 21969.16 | M52: =ROUND($D$51*M51,2) -> 21969.16 | ... BA52: =ROUND($D$51*BA51,2) -> 21969.16
...

Sheet TC_OUT-2022
B1: TABELA DE CONSULTORIA - DNIT - OUT/2022 - REF. EDITAL
B2: Código | C2: Categoria | D2: Unid. | E2: Salário | F2: Encargos Sociais | H2: Encargos Complementares | R2: Encargos Adicionais | X2: Encargos Totais | Z2: Valor Total
H3: Alimentação | J3: EPI | L3: Ferramenta | N3: Transporte | P3: Exame Ocupacional | R3: Cesta Básica | T3: Assistência Médica | V3: Seguro de Vida
E4: R$ | F4: % | G4: R$ | H4: % | I4: R$ | J4: % | K4: R$ | L4: % | M4: R$ | N4: % | O4: R$ | P4: % | Q4: R$ | R4: % | S4: R$ | T4: % | U4: R$ | V4: % | W4: R$ | X4: % | Y4: R$ | Z4: R$
B5: P8001 | C5: Advogado júnior | D5: mês | E5: 4254.47 | F5: 0.798 | G5: 3395.06 | H5: 0.136 | I5: 578.44 | J5: 0.009 | K5: 38.38 | L5: 0 | M5: 0 | N5: 0 | O5: 0 | P5: 0.0008 | Q5: 3.2 | R5: 0 | S5: 0 | T5: 0.0714 | U5: 303.64 | V5: 0.0023 | W5: 9.98 | X5: 1.0175 | Y5: 4328.71 | Z5: 8583.18
B6: P8002 | C6: Advogado pleno | D6: mês | E6: 5672.62 | F6: 0.798 | G6: 4526.75 | H6: 0.102 | I6: 578.44 | J6: 0.0068 | K6: 38.38 | L6: 0 | M6: 0 | N6: 0 | O6: 0 | P6: 0.0006 | Q6: 3.2 | R6: 0 | S6: 0 | T6: 0.0535 | U6: 303.64 | V6: 0.0018 | W6: 9.98 | X6: 0.9626 | Y6: 5460.4 | Z6: 11133.02
B7: P8003 | C7: Advogado sênior | D7: mês | E7: 9701.72 | F7: 0.798 | G7: 7741.97 | H7: 0.0596 | I7: 578.44 | J7: 0.004 | K7: 38.38 | L7: 0 | M7: 0 | N7: 0 | O7: 0 | P7: 0.0003 | Q7: 3.2 | R7: 0 | S7: 0 | T7: 0.0313 | U7: 303.64 | V7: 0.001 | W7: 9.98 | X7: 0.8942 | Y7: 8675.62 | Z7: 18377.34
C8: Profissional Pleno | D8: mês | E8: =AVERAGE(E48,E31,E27,E6) -> 6907.4525 | Z8: =AVERAGE(Z6,Z27,Z31,Z48) -> 13326.385
B9: P8007 | C9: Analista de desenvolvimento de sistemas júnior | D9: mês | E9: 3519.26 | F9: 0.7965 | G9: 2803.09 | H9: 0.1644 | I9: 578.44 | J9: 0 | K9: 0 | L9: 0 | M9: 0 | N9: 0.0022 | O9: 7.88 | P9: 0.001 | Q9: 3.35 | R9: 0 | S9: 0 | T9: 0.0863 | U9: 303.64 | V9: 0.0028 | W9: 9.98 | X9: 1.0532 | Y9: 3706.38 | Z9: 7225.64
B10: P8008 | C10: Analista de desenvolvimento de sistemas pleno | D10: mês | E10: 4692.35 | F10: 0.7965 | G10: 3737.45 | H10: 0.1233 | I10: 578.44 | J10: 0 | K10: 0 | L10: 0 | M10: 0 | N10: 0 | O10: 0 | P10: 0.0007 | Q10: 3.35 | R10: 0 | S10: 0 | T10: 0.0647 | U10: 303.64 | V10: 0.0021 | W10: 9.98 | X10: 0.9873 | Y10: 4632.86 | Z10: 9325.21
B11: P8009 | C11: Analista de desenvolvimento de sistemas sênior | D11: mês | E11: 8422 | F11: 0.7965 | G11: 6708.12 | H11: 0.0687 | I11: 578.44 | J11: 0 | K11: 0 | L11: 0 | M11: 0 | N11: 0 | O11: 0 | P11: 0.0004 | Q11: 3.35 | R11: 0 | S11: 0 | T11: 0.0361 | U11: 303.64 | V11: 0.0012 | W11: 9.98 | X11: 0.9028 | Y11: 7603.53 | Z11: 16025.53
B12: P8013 | C12: Arquiteto júnior | D12: mês | E12: 10302 | F12: 0.7949 | G12: 8189.06 | H12: 0.0561 | I12: 578.44 | J12: 0.0037 | K12: 38.38 | L12: 0 | M12: 0 | N12: 0 | O12: 0 | P12: 0.0003 | Q12: 2.61 | R12: 0 | S12: 0 | T12: 0.0295 | U12: 303.64 | V12: 0.001 | W12: 9.98 | X12: 0.8855 | Y12: 9122.11 | Z12: 19424.11
B13: P8014 | C13: Arquiteto pleno | D13: mês | E13: 11132.43 | F13: 0.7949 | G13: 8849.17 | H13: 0.052 | I13: 578.44 | J13: 0.0034 | K13: 38.38 | L13: 0 | M13: 0 | N13: 0 | O13: 0 | P13: 0.0002 | Q13: 2.61 | R13: 0 | S13: 0 | T13: 0.0273 | U13: 303.64 | V13: 0.0009 | W13: 9.98 | X13: 0.8787 | Y13: 9782.22 | Z13: 20914.65
B14: P8015 | C14: Arquiteto sênior | D14: mês | E14: 13602.02 | F14: 0.7949 | G14: 10812.25 | H14: 0.0425 | I14: 578.44 | J14: 0.0028 | K14: 38.38 | L14: 0 | M14: 0 | N14: 0 | O14: 0 | P14: 0.0002 | Q14: 2.61 | R14: 0 | S14: 0 | T14: 0.0223 | U14: 303.64 | V14: 0.0007 | W14: 9.98 | X14: 0.8635 | Y14: 11745.3 | Z14: 25347.32
B15: P8019 | C15: Assistente social júnior | D15: mês | E15: 2439.23 | F15: 0.804 | G15: 1961.14 | H15: 0.2371 | I15: 578.44 | J15: 0.0157 | K15: 38.38 | L15: 0 | M15: 0 | N15: 0.0298 | O15: 72.68 | P15: 0.0019 | Q15: 4.59 | R15: 0 | S15: 0 | T15: 0.1245 | U15: 303.64 | V15: 0.0041 | W15: 9.98 | X15: 1.2171 | Y15: 2968.86 | Z15: 5408.09
B16: P8020 | C16: Assistente social pleno | D16: mês | E16: 3252.31 | F16: 0.804 | G16: 2614.86 | H16: 0.1779 | I16: 578.44 | J16: 0.0118 | K16: 38.38 | L16: 0 | M16: 0 | N16: 0.0073 | O16: 23.89 | P16: 0.0014 | Q16: 4.59 | R16: 0 | S16: 0 | T16: 0.0934 | U16: 303.64 | V16: 0.0031 | W16: 9.98 | X16: 1.0988 | Y16: 3573.79 | Z16: 6826.09
B17: P8021 | C17: Assistente social sênior | D17: mês | E17: 5653.49 | F17: 0.804 | G17: 4545.4 | H17: 0.1023 | I17: 578.44 | J17: 0.0068 | K17: 38.38 | L17: 0 | M17: 0 | N17: 0 | O17: 0 | P17: 0.0008 | Q17: 4.59 | R17: 0 | S17: 0 | T17: 0.0537 | U17: 303.64 | V17: 0.0018 | W17: 9.98 | X17: 0.9694 | Y17: 5480.44 | Z17: 11133.93
B18: P8025 | C18: Auxiliar | D18: mês | E18: 1369.28 | F18: 0.807 | G18: 1105.01 | H18: 0.4224 | I18: 578.44 | J18: 0 | K18: 0 | L18: 0.0018 | M18: 2.48 | N18: 0.1 | O18: 136.88 | P18: 0.0025 | Q18: 3.41 | R18: 0 | S18: 0 | T18: 0.2218 | U18: 303.64 | V18: 0.0073 | W18: 9.98 | X18: 1.5627 | Y18: 2139.84 | Z18: 3509.12
B19: P8026 | C19: Auxiliar administrativo | D19: mês | E19: 1642.53 | F19: 0.8037 | G19: 1320.1 | H19: 0.3522 | I19: 578.44 | J19: 0 | K19: 0 | L19: 0 | M19: 0 | N19: 0.0734 | O19: 120.48 | P19: 0.0026 | Q19: 4.32 | R19: 0 | S19: 0 | T19: 0.1849 | U19: 303.64 | V19: 0.0061 | W19: 9.98 | X19: 1.4228 | Y19: 2336.96 | Z19: 3979.49
B20: P8027 | C20: Auxiliar de laboratório | D20: mês | E20: 1537.49 | F20: 0.8018 | G20: 1232.76 | H20: 0.3762 | I20: 578.44 | J20: 0 | K20: 0 | L20: 0.0033 | M20: 5.06 | N20: 0.0825 | O20: 126.78 | P20: 0.0024 | Q20: 3.64 | R20: 0 | S20: 0 | T20: 0.1975 | U20: 303.64 | V20: 0.0065 | W20: 9.98 | X20: 1.4701 | Y20: 2260.31 | Z20: 3797.79
... B91: P8175 | C91: Administrador sênior | D91: mês | E91: 6826.85 | F91: 0.7976 | G91: 5445.1 | H91: 0.0847 | I91: 578.44 | J91: 0.0064 | K91: 43.59 | L91: 0 | M91: 0 | N91: 0 | O91: 0 | P91: 0.0005 | Q91: 3.27 | R91: 0 | S91: 0 | T91: 0.0445 | U91: 303.64 | V91: 0.0015 | W91: 9.98 | X91: 0.9351 | Y91: 6384.02 | Z91: 13210.87
