Workbook

Sheet Pesquisa de Preços
A1: PLANILHA DE PESQUISA DE PREÇOS - COEFICIENTE DE VARIAÇÃO
A3: Metodologia utilizada para obtenção do preço de referência: VALOR MÉDIO.
B4: 1. Pesquisa de Mercado
A5: ITENS DE DESPESA DO PROJETO | H5: Preços Pesquisados e utilizados como Parâmetro | R5: METODOLOGIA | S5: Justificativa para ausência de parâmetro I ou II (Instrução Normativa) | T5: Arquivo complementar (Inserido no SEI)
H6: Valor Unitário | I6: Valor Total | J6: Valor Unitário | K6: Valor Total | L6: Valor Unitário | M6: Valor Total | N6: Valor Unitário | O6: Valor Total | P6: Valor Unitário | Q6: Valor Total
A7: Tipo Despesa | B7: Descrição | C7: Un. | D7: Qtd | E7: Valor Médio Unitário | F7: Valor Total | G7: Desvio Padrão | H7: Prefeitura Municipal de Domingos Martins - Pregão Eletrônico - 000015/2024 INCISO 01 - FONTE: https://www.portaldecompraspublicas.com.br/ | J7: Município de Pires do Rio Pregão Eletrônico nº 04/2024 INCISO II - FONTE: https://bnccompras.com/Process/ProcessSearchPublic?param1=1 | L7: BRASILL Informatica e Produtos LTDA - CNPJ: 03.618.435/0001-92 | N7: Di Bento Comercio e Serviços LTDA - CNPJ: 14.238.297/0001-32 | P7: C&B Produções, Mark., Com, Serv. E Incorporadora EIRELI - CNPJ: 08.240.649/0001-91 | R7: Coeficiente de Variação
A8: BEM | B8: AR CONDIONADO 18.000 BTUS | C8: Un. | D8: 20 | E8: =SUM((L8+N8+P8)/3+H8+J8)/3 -> 3612.2156 | F8: 72244.33 | G8: =ROUND(_xlfn.STDEV.P(H8,J8,L8,N8,P8),2) -> 566.97 | H8: 3150 | I8: =H8*D8 -> 63000 | J8: 3334 | K8: =J8*D8 -> 66680 | L8: 4621 | M8: =L8*D8 -> 92420 | N8: 4186 | O8: =N8*D8 -> 83720 | P8: 4250.94 | Q8: =P8*D8 -> 85018.8 | R8: =G8/E8 -> 0.15695907 | S8: Possui parâmetros prioritários
A9: Tipo Despesa | B9: Descrição | C9: Un. | D9: Qtd | E9: Valor Médio Unitário | F9: Valor Total | G9: Desvio Padrão | H9: Diretoria de Ensino da Marinha - Identificação da compra 90001/2024 - INCISO 01 - FONTE: https://paineldeprecos.planejamento.gov.br/analise-materiais | J9: Ministério Público do Estado de Rondônia - Licitação: 9007/2024 - INCISO II - FONTE: www.comprasnet.gov.br | L9: BRASILL Informatica e Produtos LTDA - CNPJ: 03.618.435/0001-92 | N9: Di Bento Comercio e Serviços LTDA - CNPJ: 14.238.297/0001-32 | P9: C&B Produções, Mark., Com, Serv. E Incorporadora EIRELI - CNPJ: 08.240.649/0001-91 | R9: Coeficiente de Variação | S9: Justificativa para ausência de parâmetro I ou II (Instrução Normativa) | T9: Arquivo complementar (Inserido no SEI)
A10: BEM | B10: AR CONDICIONADO 22.000 BTUS | C10: Un. | D10: 6 | E10: =SUM((L10+N10+P10)/3+H10+J10)/3 -> 6037.3422 | F10: 36224.06 | G10: =ROUND(_xlfn.STDEV.P(H10,J10,L10,N10,P10),2) -> 856.83 | H10: 5430 | I10: =H10*D10 -> 32580 | J10: 6351.57 | K10: =J10*D10 -> 38109.42 | L10: 7693 | M10: =L10*D10 -> 46158 | N10: 5310.5 | O10: =N10*D10 -> 31863 | P10: 5987.87 | Q10: =P10*D10 -> 35927.22 | R10: =G10/E10 -> 0.14192172 | S10: Possui parâmetros prioritários
B11: Descrição | C11: Un. | D11: Qtd | E11: Valor Médio Unitário | F11: Valor Total | G11: Desvio Padrão | H11: Centro Intendência da Marinha em São Pedro da Aldeia - Pregão Eletrônico 00037/2023 - Inciso I - https://paineldeprecos.planejamento.gov.br/analise-materiais | J11: Município de Pires do Rio Pregão Eletrônico nº 04/2024 INCISO II - FONTE: https://bnccompras.com/Process/ProcessSearchPublic?param1=1 | L11: MÓVEIS CARVALHO LTDA.EPP - CNPJ: 33.243.924/0001-78 | N11: Solução Refrigeração e climatização - CNPJ: 52.599.384/0001-04 | R11: Coeficiente de Variação | S11: Justificativa para ausência de parâmetro I ou II (Instrução Normativa) | T11: Arquivo complementar (Inserido no SEI)
B12: AR CONDICIONADO 9.000 BTUS | C12: Un. | D12: 30 | E12: =SUM((L12+N12)/2+H12+J12)/3 -> 2340 | F12: 70200 | G12: =ROUND(_xlfn.STDEV.P(H12,J12,L12,N12,P12),2) -> 187.75 | H12: 2298 | I12: =H12*D12 -> 68940 | J12: 2232 | K12: =J12*D12 -> 66960 | L12: 2700 | M12: =L12*D12 -> 81000 | N12: 2280 | O12: =N12*D12 -> 68400 | Q12: =P12*D12 -> 0 | R12: =G12/E12 -> 0.080235043 | S12: Possui parâmetros prioritários
A13: Tipo Despesa | B13: Descrição | C13: Un. | D13: Qtd | E13: Valor Médio Unitário | F13: Valor Total | G13: Desvio Padrão | H13: Companhia de Habitação do Estado do Pará - Ata de Realização do Pregão Eletrônico Nº 00004/2023 - INCISO I - FONTE: https://paineldeprecos.planejamento.gov.br/graficos/detalhe?idSeq=130785&painel=MATERIAIS | J13: Prefeitura Municipal de Rio Largo - Ata de Realização do Pregão Eletrônico Nº 00061/2023 (SRP) - INCISO II - FONTE: https://www.gov.br/compras/pt-br/ | L13: BRASILL Informatica e Produtos LTDA - CNPJ: 03.618.435/0001-92 | N13: Di Bento Comercio e Serviços LTDA - CNPJ: 14238297/0001-32 | P13: C&B Produções, Mark., Com, Serv. E Incorporadora EIRELI - CNPJ: 08.240.649/0001-91 | R13: Coeficiente de Variação | S13: Justificativa para ausência de parâmetro I ou II (Instrução Normativa) | T13: Arquivo complementar (Inserido no SEI)
A14: BEM | B14: TABLET | C14: Un. | D14: 35 | E14: =SUM((L14+N14+P14)/3+H14+J14)/3 -> 1666.9444 | F14: 58343.02 | G14: =ROUND(_xlfn.STDEV.P(H14,J14,L14,N14,P14),2) -> 402.65 | H14: 2000 | I14: =H14*D14 -> 70000 | J14: 1000 | K14: =J14*D14 -> 35000 | L14: 2076 | M14: =L14*D14 -> 72660 | N14: 1939 | O14: =N14*D14 -> 67865 | P14: 1987.5 | Q14: =P14*D14 -> 69562.5 | R14: =G14/E14 -> 0.24154974 | S14: Possui parâmetros prioritários
A15: Tipo Despesa | B15: Descrição | C15: Un. | D15: Qtd | E15: Valor Médio Unitário | F15: Valor Total | G15: Desvio Padrão | H15: Camara Municipal de Caçador – SC - Pregão Eletrônico 02/2024 - INCISO I - FONTE: https://paineldeprecos.planejamento.gov.br/analise-materiais | J15: Município de São Francisco - SP - Pregão eletrônico nº 32/2024 - INCISO II - FONTE: https://bllcompras.com/Process/ProcessSearchPublic?param1=1 | L15: Di Bento Comercio e Serviços LTDA - CNPJ: 14238297/0001-32 | N15: C&B Produções, Mark., Com, Serv. E Incorporadora EIRELI - CNPJ: 08.240.649/0001-91 | R15: Coeficiente de Variação | S15: Justificativa para ausência de parâmetro I ou II (Instrução Normativa) | T15: Arquivo complementar (Inserido no SEI)
A16: BEM | B16: NOTEBOOK | C16: Un. | D16: 6 | E16: =SUM((L16+N16)/2+H16+J16)/3 -> 3685.1967 | F16: 22111.18 | G16: =ROUND(_xlfn.STDEV.P(H16,J16,L16,N16,P16),2) -> 658.39 | H16: 3112.24 | I16: =H16*D16 -> 18673.44 | J16: 3400 | K16: =J16*D16 -> 20400 | L16: 4410 | M16: =L16*D16 -> 26460 | N16: 4676.7 | O16: =N16*D16 -> 28060.2 | Q16: =P16*D16 -> 0 | R16: =G16/E16 -> 0.17865804 | S16: Possui parâmetros prioritários
A17: Tipo Despesa | B17: Descrição | C17: Un. | D17: Qtd | E17: Valor Médio Unitário | F17: Valor Total | G17: Desvio Padrão | H17: Conselho Reg. de Engenharia e Agronomia do Amazonas - Pregão eletrônico 90003/2024 - Inciso I - FONTE: https://paineldeprecos.planejamento.gov.br/analise-materiais | J17: Municipio de Itatim - BA - Pregão Eletrônico nº 009-2024PE - Inciso II - FONTE: https://bllcompras.com/Process/ProcessSearchPublic?param1=1 | L17: BRASILL Informatica e Produtos LTDA - CNPJ: 03.618.435/0001-92 | N17: SS2 Serviços Engenharia e Comercio LTDA - CNPJ: 26.817.275/000106 | R17: Coeficiente de Variação | S17: Justificativa para ausência de parâmetro I ou II (Instrução Normativa) | T17: Arquivo complementar (Inserido no SEI)
A18: BEM | B18: COMPUTADOR | C18: Un. | D18: 72 | E18: =SUM((L18+N18)/2+H18+J18)/3 -> 5062.6667 | F18: 364512 | G18: =ROUND(_xlfn.STDEV.P(H18,J18,L18,N18,P18),2) -> 1274.16 | H18: 4800 | I18: =H18*D18 -> 345600 | J18: 4163 | K18: =J18*D18 -> 299736 | L18: 4950 | M18: =L18*D18 -> 356400 | N18: 7500 | O18: =N18*D18 -> 540000 | Q18: =P18*D18 -> 0 | R18: =G18/E18 -> 0.25167764 | S18: Possui parâmetros prioritários
B19: Descrição | C19: Un. | D19: Qtd | E19: Valor Médio Unitário | F19: Valor Total | G19: Desvio Padrão | H19: Secretaria de Estado Indústria, Ciência e Tecnologia-AC - Identificação da Compra: 00416/2023 - Inciso I - Fonte: https://paineldeprecos.planejamento.gov.br/analise-materiais | J19: Secretaria da Segurança Publica - Esp-Deleg.Secc.Policia de Itanhaem - Contratação direta 90013/2024 - Inciso II - FONTE: https://www.gov.br/pncp/pt-br | L19: C&B Produções, Mark., Com, Serv. E Incorporadora EIRELI - CNPJ: 08.240.649/0001-91 | N19: SS2 Serviços Engenharia e Comercio LTDA - CNPJ: 26.817.275/000106 | R19: Coeficiente de Variação | S19: Justificativa para ausência de parâmetro I ou II (Instrução Normativa) | T19: Arquivo complementar (Inserido no SEI)
B20: SWITCH | C20: Un. | D20: 1 | E20: =SUM((L20+N20)/2+H20+J20)/3 -> 1906.4167 | F20: 1906.42 | G20: =ROUND(_xlfn.STDEV.P(H20,J20,L20,N20,P20),2) -> 510.38 | H20: 1643 | I20: =H20*D20 -> 1643 | J20: 1714 | K20: =J20*D20 -> 1714 | L20: 2897 | M20: =L20*D20 -> 2897 | N20: 1827.5 | O20: =N20*D20 -> 1827.5 | Q20: =P20*D20 -> 0 | R20: =G20/E20 -> 0.26771692 | S20: Possui parâmetros prioritários
B21: Descrição | C21: Un. | D21: Qtd | E21: Valor Médio Unitário | F21: Valor Total | G21: Desvio Padrão | H21: Defensoria Pública do Estado do Maranhão - Pregão Eletrônico 36/2023 - Inciso I - FONTE: https://paineldeprecos.planejamento.gov.br/analise-materiais | J21: Câmara Municipal de Itabaianinha/SE Câmara Municipal de Itabaianinha/SE - Identificação: 80292 3/2023 1 3 25 pregão eletronico 03/2023 - Inciso II - FONTE: https://licitanet.com.br/ | L21: C&B Produções, Mark., Com, Serv. E Incorporadora EIRELI - CNPJ: 08.240.649/0001-91 | N21: Primax Sistribuidora LTDA - CNPJ: 18.534.798/0001-17 | R21: Coeficiente de Variação | S21: Justificativa para ausência de parâmetro I ou II (Instrução Normativa) | T21: Arquivo complementar (Inserido no SEI)
B22: CÂMERA | C22: Un. | D22: 2 | E22: =SUM((L22+N22)/2+H22+J22)/3 -> 5848.0833 | F22: 11696.17 | G22: =ROUND(_xlfn.STDEV.P(H22,J22,L22,N22,P22),2) -> 1044.48 | H22: 4950 | I22: =H22*D22 -> 9900 | J22: 5400 | K22: =J22*D22 -> 10800 | L22: 6890 | M22: =L22*D22 -> 13780 | N22: 7498.5 | O22: =N22*D22 -> 14997 | Q22: =P22*D22 -> 0 | R22: =G22/E22 -> 0.17860211 | S22: Possui parâmetros prioritários
A23: Tipo Despesa | B23: CÂMERA | C23: Un. | D23: Qtd | E23: Valor Médio Unitário | F23: Valor Total | G23: Desvio Padrão | H23: Prefeitura Municipal de Santa Terezinha – PE - Pregão Eletrônico nº 30004/2023 - Inciso I - FONTE: https://paineldeprecos.planejamento.gov.br/analise-materiais | J23: Universidade Federal do Cariri - CE - Pregão eletronico 90010/2024 - Inciso II - FONTE: https://cnetmobile.estaleiro.serpro.gov.br/comprasnet-web/public/compras | L23: BRASILL Informatica e Produtos LTDA - CNPJ: 03.618.435/0001-92 | N23: C&B Produções, Mark., Com, Serv. E Incorporadora EIRELI - CNPJ: 08.240.649/0001-91 | R23: Coeficiente de Variação | S23: Justificativa para ausência de parâmetro I ou II (Instrução Normativa) | T23: Arquivo complementar (Inserido no SEI)
A24: BEM | B24: REFRIGERADOR 450L | C24: Un. | D24: 2 | E24: =SUM((L24+N24)/2+H24+J24)/3 -> 4144 | F24: 8288 | G24: =ROUND(_xlfn.STDEV.P(H24,J24,L24,N24,P24),2) -> 600.89 | H24: 3869 | I24: =H24*D24 -> 7738 | J24: 3793 | K24: =J24*D24 -> 7586 | L24: 4241 | M24: =L24*D24 -> 8482 | N24: 5299 | O24: =N24*D24 -> 10598 | Q24: =P24*D24 -> 0 | R24: =G24/E24 -> 0.14500241 | S24: Possui parâmetros prioritários
B25: Descrição | C25: Un. | D25: Qtd | E25: Valor Médio Unitário | F25: Valor Total | G25: Desvio Padrão | H25: Batalhão de Infantaria Selva – Comando do Exercito - Pregão eletrônico 90009/2024 -Inciso I - FONTE: https://paineldeprecos.planejamento.gov.br/analise-materiais | J25: Fundo Municipal de Saúde de Cachoeira Alta/GO - pregão eletrônico nº 14/2024 - Inciso II - FONTE: https://licitanet.com.br/ | L25: BRASILL Informatica e Produtos LTDA - CNPJ: 03.618.435/0001-92 | N25: Di Bento Comercio e Serviços LTDA - CNPJ: 14238297/0001-32 | P25: C&B Produções, Mark., Com, Serv. E Incorporadora EIRELI - CNPJ: 08.240.649/0001-91 | R25: Coeficiente de Variação | S25: Justificativa para ausência de parâmetro I ou II (Instrução Normativa) | T25: Arquivo complementar (Inserido no SEI)
B26: REFRIGERADOR TIPO FRIGOBAR | C26: Un. | D26: 6 | E26: =SUM((L26+N26+P26)/3+H26+J26)/3 -> 1126.7933 | F26: 6760.76 | G26: =ROUND(_xlfn.STDEV.P(H26,J26,L26,N26,P26),2) -> 75.14 | H26: 1164 | I26: =H26*D26 -> 6984 | J26: 1059 | K26: =J26*D26 -> 6354 | L26: 1237.5 | M26: =L26*D26 -> 7425 | N26: 1190 | O26: =N26*D26 -> 7140 | P26: 1044.64 | Q26: =P26*D26 -> 6267.84 | R26: =G26/E26 -> 0.066684811 | S26: Possui parâmetros prioritários
B27: Descrição | C27: Un. | D27: Qtd | E27: Valor Médio Unitário | F27: Valor Total | G27: Desvio Padrão | H27: Prefeitura Municipal de Jaguariúna – SP - Pregão eletrônico: 90160/2024 - Inciso I - FONTE: https://paineldeprecos.planejamento.gov.br/analise-materiais | J27: Prefeitura Municipal de Cruzeta - Prefeitura Municipal de Cruzeta/RN - Registro de Preços Eletrônico - 20/2024 - Inciso II - FONTE: https://www.portaldecompraspublicas.com.br/ | L27: BRASILL Informatica e Produtos LTDA - CNPJ: 03.618.435/0001-92 | N27: Jose Gaspar de Souza Junior - ME / FONTE DE SAUDE PURIFICADORES - CNPJ: 57.882.332/0001-64 | P27: C&B Produções, Mark., Com, Serv. E Incorporadora EIRELI - CNPJ: 08.240.649/0001-91 | R27: Coeficiente de Variação | S27: Justificativa para ausência de parâmetro I ou II (Instrução Normativa) | T27: Arquivo complementar (Inserido no SEI)
B28: BEBEDOURO | C28: Un. | D28: 5 | E28: =SUM((L28+N28+P28)/3+H28+J28)/3 -> 1797.5056 | F28: 8987.53 | G28: =ROUND(_xlfn.STDEV.P(H28,J28,L28,N28,P28),2) -> 122.77 | H28: 1882.95 | I28: =H28*D28 -> 9414.75 | J28: 1599.9 | K28: =J28*D28 -> 7999.5 | L28: 1939 | M28: =L28*D28 -> 9695 | N28: 1900 | O28: =N28*D28 -> 9500 | P28: 1890 | Q28: =P28*D28 -> 9450 | R28: =G28/E28 -> 0.068300206 | S28: Possui parâmetros prioritários
B29: Descrição | C29: Un. | D29: Qtd | E29: Valor Médio Unitário | F29: Valor Total | G29: Desvio Padrão | H29: Prefeitura Municipal de Joinville – SC - Pregão Eletrônico 00123/2024 - Inciso I - FONTE: https://paineldeprecos.planejamento.gov.br/analise-materiais | J29: Ministério Público do Estado de Tocantins - Pregão Eletrônico n. 90017/2024 ATA SRP - Inciso II - FONTE: www.compras.gov.br | L29: BRASILL Informatica e Produtos LTDA - CNPJ: 03.618.435/0001-92 | N29: Di Bento Comercio e Serviços LTDA - CNPJ: 14238297/0001-32 | P29: C&B Produções, Mark., Com, Serv. E Incorporadora EIRELI - CNPJ: 08.240.649/0001-91 | R29: Coeficiente de Variação | S29: Justificativa para ausência de parâmetro I ou II (Instrução Normativa) | T29: Arquivo complementar (Inserido no SEI)
B30: TELEVISOR DE 70" | C30: Un. | D30: 3 | E30: =SUM((L30+N30+P30)/3+H30+J30)/3 -> 4505.1111 | F30: 13515.33 | G30: =ROUND(_xlfn.STDEV.P(H30,J30,L30,N30,P30),2) -> 552.25 | H30: 4180 | I30: =H30*D30 -> 12540 | J30: 4140 | K30: =J30*D30 -> 12420 | L30: 5593.5 | M30: =L30*D30 -> 16780.5 | N30: 4995 | O30: =N30*D30 -> 14985 | P30: 4997.5 | Q30: =P30*D30 -> 14992.5 | R30: =G30/E30 -> 0.12258299 | S30: Possui parâmetros prioritários
B31: Descrição | C31: Un. | D31: Qtd | E31: Valor Médio Unitário | F31: Valor Total | G31: Desvio Padrão | H31: Inst. Capixaba Pesq. Assist. Téc. e Ext. Rural - ES - eletrônico 90008/2024 - Inciso I - FONTE: https://paineldeprecos.planejamento.gov.br/analise-materiais | J31: Procuradoria Geral de justiça do Maranhão - Pregão eletrônico 90008/2024 / ATA SRP - Inciso I - FONTE: www.compras.gov.br | L31: BRASILL Informatica e Produtos LTDA - CNPJ: 03.618.435/0001-92 | N31: Di Bento Comercio e Serviços LTDA - CNPJ: 14238297/0001-32 | P31: C&B Produções, Mark., Com, Serv. E Incorporadora EIRELI - CNPJ: 08.240.649/0001-91 | R31: Coeficiente de Variação | S31: Justificativa para ausência de parâmetro I ou II (Instrução Normativa) | T31: Arquivo complementar (Inserido no SEI)
B32: TELEVISOR DE 50" | C32: Un. | D32: 5 | E32: =SUM((L32+N32+P32)/3+H32+J32)/3 -> 2284.0333 | F32: 11420.17 | G32: =ROUND(_xlfn.STDEV.P(H32,J32,L32,N32,P32),2) -> 216.34 | H32: 2110 | I32: =H32*D32 -> 10550 | J32: 2179 | K32: =J32*D32 -> 10895 | L32: 2665.5 | M32: =L32*D32 -> 13327.5 | N32: 2565 | O32: =N32*D32 -> 12825 | P32: 2458.8 | Q32: =P32*D32 -> 12294 | R32: =G32/E32 -> 0.094718407 | S32: Possui parâmetros prioritários
B33: Descrição | C33: Un. | D33: Qtd | E33: Valor Médio Unitário | F33: Valor Total | G33: Desvio Padrão | H33: Universidade Federal da Bahia - Pregão Eletrônico 0004/2023 - Inciso I - FONTE: https://paineldeprecos.planejamento.gov.br/analise-materiais | J33: Assembleia do Estado de Minas Gerais - Processo de Compra: 1011014 000231/2024 - Inciso II - FONTE: https://compras.mg.gov.br/ | L33: C&B Produções, Mark., Com, Serv. E Incorporadora EIRELI - CNPJ: 08.240.649/0001-91 | N33: SS2 Serviços Engenharia e Comercio LTDA - CNPJ: 26.817.275/000106 | R33: Coeficiente de Variação | S33: Justificativa para ausência de parâmetro I ou II (Instrução Normativa) | T33: Arquivo complementar (Inserido no SEI)
B34: ARMÁRIO ALTO | C34: Un. | D34: 20 | E34: =SUM((L34+N34)/2+H34+J34)/3 -> 1433.045 | F34: 28660.93 | G34: =ROUND(_xlfn.STDEV.P(H34,J34,L34,N34,P34),2) -> 334.03 | H34: 1150 | I34: =H34*D34 -> 23000 | J34: 1300 | K34: =J34*D34 -> 26000 | L34: 1698.27 | M34: =L34*D34 -> 33965.4 | N34: 2000 | O34: =N34*D34 -> 40000 | Q34: =P34*D34 -> 0 | R34: =G34/E34 -> 0.23309108 | S34: Possui parâmetros prioritários
B35: Descrição | C35: Un. | D35: Qtd | E35: Valor Médio Unitário | F35: Valor Total | G35: Desvio Padrão | H35: Prefeitura Municipal de Caxias do Sul - RS - Pregão Eletrônico 90181/2024 - https://paineldeprecos.planejamento.gov.br/analise-materiais | J35: Universidade de Taubaté - SP - Pregão Eletrônico 057/2024 - Inciso II - FONTE: https://www.gov.br/pncp/pt-br | L35: C&B Produções, Mark., Com, Serv. E Incorporadora EIRELI - CNPJ: 08.240.649/0001-91 | N35: SS2 Serviços Engenharia e Comercio LTDA - CNPJ: 26.817.275/000106 | R35: Coeficiente de Variação | S35: Justificativa para ausência de parâmetro I ou II (Instrução Normativa) | T35: Arquivo complementar (Inserido no SEI)
B36: ARMÁRIO BAIXO | C36: Un. | D36: 25 | E36: =SUM((L36+N36)/2+H36+J36)/3 -> 1111.1633 | F36: 27779.08 | G36: =ROUND(_xlfn.STDEV.P(H36,J36,L36,N36,P36),2) -> 234.37 | H36: 1340 | I36: =H36*D36 -> 33500 | J36: 750 | K36: =J36*D36 -> 18750 | L36: 1299.48 | M36: =L36*D36 -> 32487 | N36: 1187.5 | O36: =N36*D36 -> 29687.5 | Q36: =P36*D36 -> 0 | R36: =G36/E36 -> 0.21092309 | S36: Possui parâmetros prioritários
B37: Descrição | C37: Un. | D37: Qtd | E37: Valor Médio Unitário | F37: Valor Total | G37: Desvio Padrão | H37: Superintendencia Reg. Pol. Rodv. Federal - MS - Superintendencia Reg. Pol. Rodv. Federal - MS - Inciso I - FONTE: https://paineldeprecos.planejamento.gov.br/analise-materiais | J37: Justiça Federal de Primeiro Grau – Seção Judiciária de Alagoas - Pregão Eletrônico SRP nº 90007/2024 - Inciso II - FONTE: www.compras.gov.br | L37: C&B Produções, Mark., Com, Serv. E Incorporadora EIRELI - CNPJ: 08.240.649/0001-91 | N37: SS2 Serviços Engenharia e Comercio LTDA - CNPJ: 26.817.275/000106 | R37: Coeficiente de Variação | S37: Justificativa para ausência de parâmetro I ou II (Instrução Normativa) | T37: Arquivo complementar (Inserido no SEI)
B38: GAVETEIRO | C38: Un. | D38: 15 | E38: =SUM((L38+N38)/2+H38+J38)/3 -> 627.08333 | F38: 9406.25 | G38: =ROUND(_xlfn.STDEV.P(H38,J38,L38,N38,P38),2) -> 141.38 | H38: 700 | I38: =H38*D38 -> 10500 | J38: 580 | K38: =J38*D38 -> 8700 | L38: 790 | M38: =L38*D38 -> 11850 | N38: 412.5 | O38: =N38*D38 -> 6187.5 | Q38: =P38*D38 -> 0 | R38: =G38/E38 -> 0.22545648 | S38: Possui parâmetros prioritários
B39: Descrição | C39: Un. | D39: Qtd | E39: Valor Médio Unitário | F39: Valor Total | G39: Desvio Padrão | H39: Tribunal de Justiça do Estado do Rio Janeiro - Pregão Eletrônico 90016/2024 - Inciso I - FONTE: https://paineldeprecos.planejamento.gov.br/analise-materiais | J39: Industria de Material Bélico do Brasil / FMCE - Pregão Eletrônico 90028/2024 - Inciso II - FONTE: https://cnetmobile.estaleiro.serpro.gov.br/comprasnet-web/public/compras | L39: C&B Produções, Mark., Com, Serv. E Incorporadora EIRELI - CNPJ: 08.240.649/0001-91 | N39: SS2 Serviços Engenharia e Comercio LTDA - CNPJ: 26.817.275/000106 | R39: Coeficiente de Variação | S39: Justificativa para ausência de parâmetro I ou II (Instrução Normativa) | T39: Arquivo complementar (Inserido no SEI)
B40: MESA EM L 1,40 X 1,40 | C40: Un. | D40: 21 | E40: =SUM((L40+N40)/2+H40+J40)/3 -> 1110.0733 | F40: 23311.54 | G40: =ROUND(_xlfn.STDEV.P(H40,J40,L40,N40,P40),2) -> 262.92 | H40: 1058 | I40: =H40*D40 -> 22218 | J40: 922.47 | K40: =J40*D40 -> 19371.87 | L40: 1087 | M40: =L40*D40 -> 22827 | N40: 1612.5 | O40: =N40*D40 -> 33862.5 | Q40: =P40*D40 -> 0 | R40: =G40/E40 -> 0.23684922 | S40: Possui parâmetros prioritários
B41: Descrição | C41: Un. | D41: Qtd | E41: Valor Médio Unitário | F41: Valor Total | G41: Desvio Padrão | H41: Prefeitura Municipal de Marechal Deodoro - Dispensa nº 41/2024 - Inciso II - https://pncp.gov.br/app/editais/12200275000158/2024/86 | J41: Tribunal Regional Eleitoral de Goiás - Pregão - Eletrônico 90009/2024 - Inciso I - FONTE: https://cnetmobile.estaleiro.serpro.gov.br/comprasnet-web/public/compras/acompanhamento-compra?compra=07002305900092024 | L41: C&B Produções, Mark., Com, Serv. E Incorporadora EIRELI - CNPJ: 08.240.649/0001-91 | N41: SS2 Serviços Engenharia e Comercio LTDA - CNPJ: 26.817.275/000106 | R41: Coeficiente de Variação | S41: Justificativa para ausência de parâmetro I ou II (Instrução Normativa) | T41: Arquivo complementar (Inserido no SEI)
...

Sheet Planilha1
A1: ORÇAMENTO 1 - Nome do Fornecedor (abreviado) - CNPJ nº XXXXX | B1: ORÇAMENTO 2 - Nome do Fornecedor (abreviado) - CNPJ nº XXXXX | C1: ORÇAMENTO 3 - Nome do Fornecedor (abreviado) - CNPJ nº XXXXX | D1: ORÇAMENTO 4 - Nome do Fornecedor (abreviado) - CNPJ nº XXXXX | E1: ORÇAMENTO 5 - Nome do Fornecedor (abreviado) - CNPJ nº XXXXX | J1: ORÇAMENTO 1 - Nome do Fornecedor (abreviado) - CNPJ nº XXXXX | K1: ORÇAMENTO 2 - Nome do Fornecedor (abreviado) - CNPJ nº XXXXX | L1: ORÇAMENTO 3 - Nome do Fornecedor (abreviado) - CNPJ nº XXXXX | M1: ORÇAMENTO 4 - Nome do Fornecedor (abreviado) - CNPJ nº XXXXX | N1: ORÇAMENTO 5 - Nome do Fornecedor (abreviado) - CNPJ nº XXXXX
A2: Valor Unitário | B2: Valor Unitário | C2: Valor Unitário | D2: Valor Unitário | E2: Valor Unitário | F2: Menor valor (unit) | G2: média (unit) | H2: DP | J2: Valor Total | K2: Valor Total | L2: Valor Total | M2: Valor Total | N2: Valor Total | O2: Menor valor (unit) | P2: média (unit) | Q2: DP | R2: MENOR ACEITÁVEL | S2: MAIOR ACEITÁVEL
A3: ='Pesquisa de Preços'!#REF! -> #REF! | B3: ='Pesquisa de Preços'!#REF! -> #REF! | C3: ='Pesquisa de Preços'!#REF! -> #REF! | D3: ='Pesquisa de Preços'!#REF! -> #REF! | E3: ='Pesquisa de Preços'!#REF! -> #REF! | F3: {=IFERROR(SMALL(IF(A3:E3<>0,A3:E3,""),1),"")} | G3: {=IFERROR(AVERAGE(IF(A3:E3<>0,A3:E3,"")),"")} | H3: {=IFERROR(STDEVP(IF(A3:E3<>0,A3:E3,"")),"")} | I3: x | J3: ='Pesquisa de Preços'!#REF! -> #REF! | K3: ='Pesquisa de Preços'!#REF! -> #REF! | L3: ='Pesquisa de Preços'!#REF! -> #REF! | M3: ='Pesquisa de Preços'!#REF! -> #REF! | N3: ='Pesquisa de Preços'!#REF! -> #REF! | O3: {=IFERROR(SMALL(IF(J3:N3<>0,J3:N3,""),1),"")} | P3: {=IFERROR(AVERAGE(IF(J3:N3<>0,J3:N3,"")),"")} | Q3: {=IFERROR(STDEVP(IF(J3:N3<>0,J3:N3,"")),"")} | R3: =IFERROR(P3-Q3,"") | S3: =IFERROR(P3+Q3,"")
A4: ='Pesquisa de Preços'!#REF! -> #REF! | B4: ='Pesquisa de Preços'!#REF! -> #REF! | C4: ='Pesquisa de Preços'!#REF! -> #REF! | D4: ='Pesquisa de Preços'!#REF! -> #REF! | E4: ='Pesquisa de Preços'!#REF! -> #REF! | F4: {=IFERROR(SMALL(IF(A4:E4<>0,A4:E4,""),1),"")} | G4: {=IFERROR(AVERAGE(IF(A4:E4<>0,A4:E4,"")),"")} | H4: {=IFERROR(STDEVP(IF(A4:E4<>0,A4:E4,"")),"")} | I4: x | J4: ='Pesquisa de Preços'!#REF! -> #REF! | K4: ='Pesquisa de Preços'!#REF! -> #REF! | L4: ='Pesquisa de Preços'!#REF! -> #REF! | M4: ='Pesquisa de Preços'!#REF! -> #REF! | N4: ='Pesquisa de Preços'!#REF! -> #REF! | O4: {=IFERROR(SMALL(IF(J4:N4<>0,J4:N4,""),1),"")} | P4: {=IFERROR(AVERAGE(IF(J4:N4<>0,J4:N4,"")),"")} | Q4: {=IFERROR(STDEVP(IF(J4:N4<>0,J4:N4,"")),"")} | R4: =IFERROR(P4-Q4,"") | S4: =IFERROR(P4+Q4,"")
A5: ='Pesquisa de Preços'!#REF! -> #REF! | B5: ='Pesquisa de Preços'!#REF! -> #REF! | C5: ='Pesquisa de Preços'!#REF! -> #REF! | D5: ='Pesquisa de Preços'!#REF! -> #REF! | E5: ='Pesquisa de Preços'!#REF! -> #REF! | F5: {=IFERROR(SMALL(IF(A5:E5<>0,A5:E5,""),1),"")} | G5: {=IFERROR(AVERAGE(IF(A5:E5<>0,A5:E5,"")),"")} | H5: {=IFERROR(STDEVP(IF(A5:E5<>0,A5:E5,"")),"")} | I5: x | J5: ='Pesquisa de Preços'!#REF! -> #REF! | K5: ='Pesquisa de Preços'!#REF! -> #REF! | L5: ='Pesquisa de Preços'!#REF! -> #REF! | M5: ='Pesquisa de Preços'!#REF! -> #REF! | N5: ='Pesquisa de Preços'!#REF! -> #REF! | O5: {=IFERROR(SMALL(IF(J5:N5<>0,J5:N5,""),1),"")} | P5: {=IFERROR(AVERAGE(IF(J5:N5<>0,J5:N5,"")),"")} | Q5: {=IFERROR(STDEVP(IF(J5:N5<>0,J5:N5,"")),"")} | R5: =IFERROR(P5-Q5,"") | S5: =IFERROR(P5+Q5,"")
A6: ='Pesquisa de Preços'!#REF! -> #REF! | B6: ='Pesquisa de Preços'!#REF! -> #REF! | C6: ='Pesquisa de Preços'!#REF! -> #REF! | D6: ='Pesquisa de Preços'!#REF! -> #REF! | E6: ='Pesquisa de Preços'!#REF! -> #REF! | F6: {=IFERROR(SMALL(IF(A6:E6<>0,A6:E6,""),1),"")} | G6: {=IFERROR(AVERAGE(IF(A6:E6<>0,A6:E6,"")),"")} | H6: {=IFERROR(STDEVP(IF(A6:E6<>0,A6:E6,"")),"")} | I6: x | J6: ='Pesquisa de Preços'!#REF! -> #REF! | K6: ='Pesquisa de Preços'!#REF! -> #REF! | L6: ='Pesquisa de Preços'!#REF! -> #REF! | M6: ='Pesquisa de Preços'!#REF! -> #REF! | N6: ='Pesquisa de Preços'!#REF! -> #REF! | O6: {=IFERROR(SMALL(IF(J6:N6<>0,J6:N6,""),1),"")} | P6: {=IFERROR(AVERAGE(IF(J6:N6<>0,J6:N6,"")),"")} | Q6: {=IFERROR(STDEVP(IF(J6:N6<>0,J6:N6,"")),"")} | R6: =IFERROR(P6-Q6,"") | S6: =IFERROR(P6+Q6,"")
A7: ='Pesquisa de Preços'!#REF! -> #REF! | B7: ='Pesquisa de Preços'!#REF! -> #REF! | C7: ='Pesquisa de Preços'!#REF! -> #REF! | D7: ='Pesquisa de Preços'!#REF! -> #REF! | E7: ='Pesquisa de Preços'!#REF! -> #REF! | F7: {=IFERROR(SMALL(IF(A7:E7<>0,A7:E7,""),1),"")} | G7: {=IFERROR(AVERAGE(IF(A7:E7<>0,A7:E7,"")),"")} | H7: {=IFERROR(STDEVP(IF(A7:E7<>0,A7:E7,"")),"")} | I7: x | J7: ='Pesquisa de Preços'!#REF! -> #REF! | K7: ='Pesquisa de Preços'!#REF! -> #REF! | L7: ='Pesquisa de Preços'!#REF! -> #REF! | M7: ='Pesquisa de Preços'!#REF! -> #REF! | N7: ='Pesquisa de Preços'!#REF! -> #REF! | O7: {=IFERROR(SMALL(IF(J7:N7<>0,J7:N7,""),1),"")} | P7: {=IFERROR(AVERAGE(IF(J7:N7<>0,J7:N7,"")),"")} | Q7: {=IFERROR(STDEVP(IF(J7:N7<>0,J7:N7,"")),"")} | R7: =IFERROR(P7-Q7,"") | S7: =IFERROR(P7+Q7,"")
A8: ='Pesquisa de Preços'!#REF! -> #REF! | B8: ='Pesquisa de Preços'!#REF! -> #REF! | C8: ='Pesquisa de Preços'!#REF! -> #REF! | D8: ='Pesquisa de Preços'!#REF! -> #REF! | E8: ='Pesquisa de Preços'!#REF! -> #REF! | F8: {=IFERROR(SMALL(IF(A8:E8<>0,A8:E8,""),1),"")} | G8: {=IFERROR(AVERAGE(IF(A8:E8<>0,A8:E8,"")),"")} | H8: {=IFERROR(STDEVP(IF(A8:E8<>0,A8:E8,"")),"")} | I8: x | J8: ='Pesquisa de Preços'!#REF! -> #REF! | K8: ='Pesquisa de Preços'!#REF! -> #REF! | L8: ='Pesquisa de Preços'!#REF! -> #REF! | M8: ='Pesquisa de Preços'!#REF! -> #REF! | N8: ='Pesquisa de Preços'!#REF! -> #REF! | O8: {=IFERROR(SMALL(IF(J8:N8<>0,J8:N8,""),1),"")} | P8: {=IFERROR(AVERAGE(IF(J8:N8<>0,J8:N8,"")),"")} | Q8: {=IFERROR(STDEVP(IF(J8:N8<>0,J8:N8,"")),"")} | R8: =IFERROR(P8-Q8,"") | S8: =IFERROR(P8+Q8,"")
A9: ='Pesquisa de Preços'!#REF! -> #REF! | B9: ='Pesquisa de Preços'!#REF! -> #REF! | C9: ='Pesquisa de Preços'!#REF! -> #REF! | D9: ='Pesquisa de Preços'!#REF! -> #REF! | E9: ='Pesquisa de Preços'!#REF! -> #REF! | F9: {=IFERROR(SMALL(IF(A9:E9<>0,A9:E9,""),1),"")} | G9: {=IFERROR(AVERAGE(IF(A9:E9<>0,A9:E9,"")),"")} | H9: {=IFERROR(STDEVP(IF(A9:E9<>0,A9:E9,"")),"")} | I9: x | J9: ='Pesquisa de Preços'!#REF! -> #REF! | K9: ='Pesquisa de Preços'!#REF! -> #REF! | L9: ='Pesquisa de Preços'!#REF! -> #REF! | M9: ='Pesquisa de Preços'!#REF! -> #REF! | N9: ='Pesquisa de Preços'!#REF! -> #REF! | O9: {=IFERROR(SMALL(IF(J9:N9<>0,J9:N9,""),1),"")} | P9: {=IFERROR(AVERAGE(IF(J9:N9<>0,J9:N9,"")),"")} | Q9: {=IFERROR(STDEVP(IF(J9:N9<>0,J9:N9,"")),"")} | R9: =IFERROR(P9-Q9,"") | S9: =IFERROR(P9+Q9,"")
A10: ='Pesquisa de Preços'!#REF! -> #REF! | B10: ='Pesquisa de Preços'!#REF! -> #REF! | C10: ='Pesquisa de Preços'!#REF! -> #REF! | D10: ='Pesquisa de Preços'!#REF! -> #REF! | E10: ='Pesquisa de Preços'!#REF! -> #REF! | F10: {=IFERROR(SMALL(IF(A10:E10<>0,A10:E10,""),1),"")} | G10: {=IFERROR(AVERAGE(IF(A10:E10<>0,A10:E10,"")),"")} | H10: {=IFERROR(STDEVP(IF(A10:E10<>0,A10:E10,"")),"")} | I10: x | J10: ='Pesquisa de Preços'!#REF! -> #REF! | K10: ='Pesquisa de Preços'!#REF! -> #REF! | L10: ='Pesquisa de Preços'!#REF! -> #REF! | M10: ='Pesquisa de Preços'!#REF! -> #REF! | N10: ='Pesquisa de Preços'!#REF! -> #REF! | O10: {=IFERROR(SMALL(IF(J10:N10<>0,J10:N10,""),1),"")} | P10: {=IFERROR(AVERAGE(IF(J10:N10<>0,J10:N10,"")),"")} | Q10: {=IFERROR(STDEVP(IF(J10:N10<>0,J10:N10,"")),"")} | R10: =IFERROR(P10-Q10,"") | S10: =IFERROR(P10+Q10,"")
A11: ='Pesquisa de Preços'!#REF! -> #REF! | B11: ='Pesquisa de Preços'!#REF! -> #REF! | C11: ='Pesquisa de Preços'!#REF! -> #REF! | D11: ='Pesquisa de Preços'!#REF! -> #REF! | E11: ='Pesquisa de Preços'!#REF! -> #REF! | F11: {=IFERROR(SMALL(IF(A11:E11<>0,A11:E11,""),1),"")} | G11: {=IFERROR(AVERAGE(IF(A11:E11<>0,A11:E11,"")),"")} | H11: {=IFERROR(STDEVP(IF(A11:E11<>0,A11:E11,"")),"")} | I11: x | J11: ='Pesquisa de Preços'!#REF! -> #REF! | K11: ='Pesquisa de Preços'!#REF! -> #REF! | L11: ='Pesquisa de Preços'!#REF! -> #REF! | M11: ='Pesquisa de Preços'!#REF! -> #REF! | N11: ='Pesquisa de Preços'!#REF! -> #REF! | O11: {=IFERROR(SMALL(IF(J11:N11<>0,J11:N11,""),1),"")} | P11: {=IFERROR(AVERAGE(IF(J11:N11<>0,J11:N11,"")),"")} | Q11: {=IFERROR(STDEVP(IF(J11:N11<>0,J11:N11,"")),"")} | R11: =IFERROR(P11-Q11,"") | S11: =IFERROR(P11+Q11,"")
A12: ='Pesquisa de Preços'!#REF! -> #REF! | B12: ='Pesquisa de Preços'!#REF! -> #REF! | C12: ='Pesquisa de Preços'!#REF! -> #REF! | D12: ='Pesquisa de Preços'!#REF! -> #REF! | E12: ='Pesquisa de Preços'!#REF! -> #REF! | F12: {=IFERROR(SMALL(IF(A12:E12<>0,A12:E12,""),1),"")} | G12: {=IFERROR(AVERAGE(IF(A12:E12<>0,A12:E12,"")),"")} | H12: {=IFERROR(STDEVP(IF(A12:E12<>0,A12:E12,"")),"")} | I12: x | J12: ='Pesquisa de Preços'!#REF! -> #REF! | K12: ='Pesquisa de Preços'!#REF! -> #REF! | L12: ='Pesquisa de Preços'!#REF! -> #REF! | M12: ='Pesquisa de Preços'!#REF! -> #REF! | N12: ='Pesquisa de Preços'!#REF! -> #REF! | O12: {=IFERROR(SMALL(IF(J12:N12<>0,J12:N12,""),1),"")} | P12: {=IFERROR(AVERAGE(IF(J12:N12<>0,J12:N12,"")),"")} | Q12: {=IFERROR(STDEVP(IF(J12:N12<>0,J12:N12,"")),"")} | R12: =IFERROR(P12-Q12,"") | S12: =IFERROR(P12+Q12,"")
A13: ='Pesquisa de Preços'!#REF! -> #REF! | B13: ='Pesquisa de Preços'!#REF! -> #REF! | C13: ='Pesquisa de Preços'!#REF! -> #REF! | D13: ='Pesquisa de Preços'!#REF! -> #REF! | E13: ='Pesquisa de Preços'!#REF! -> #REF! | F13: {=IFERROR(SMALL(IF(A13:E13<>0,A13:E13,""),1),"")} | G13: {=IFERROR(AVERAGE(IF(A13:E13<>0,A13:E13,"")),"")} | H13: {=IFERROR(STDEVP(IF(A13:E13<>0,A13:E13,"")),"")} | I13: x | J13: ='Pesquisa de Preços'!#REF! -> #REF! | K13: ='Pesquisa de Preços'!#REF! -> #REF! | L13: ='Pesquisa de Preços'!#REF! -> #REF! | M13: ='Pesquisa de Preços'!#REF! -> #REF! | N13: ='Pesquisa de Preços'!#REF! -> #REF! | O13: {=IFERROR(SMALL(IF(J13:N13<>0,J13:N13,""),1),"")} | P13: {=IFERROR(AVERAGE(IF(J13:N13<>0,J13:N13,"")),"")} | Q13: {=IFERROR(STDEVP(IF(J13:N13<>0,J13:N13,"")),"")} | R13: =IFERROR(P13-Q13,"") | S13: =IFERROR(P13+Q13,"")
A14: ='Pesquisa de Preços'!#REF! -> #REF! | B14: ='Pesquisa de Preços'!#REF! -> #REF! | C14: ='Pesquisa de Preços'!#REF! -> #REF! | D14: ='Pesquisa de Preços'!#REF! -> #REF! | E14: ='Pesquisa de Preços'!#REF! -> #REF! | F14: {=IFERROR(SMALL(IF(A14:E14<>0,A14:E14,""),1),"")} | G14: {=IFERROR(AVERAGE(IF(A14:E14<>0,A14:E14,"")),"")} | H14: {=IFERROR(STDEVP(IF(A14:E14<>0,A14:E14,"")),"")} | I14: x | J14: ='Pesquisa de Preços'!#REF! -> #REF! | K14: ='Pesquisa de Preços'!#REF! -> #REF! | L14: ='Pesquisa de Preços'!#REF! -> #REF! | M14: ='Pesquisa de Preços'!#REF! -> #REF! | N14: ='Pesquisa de Preços'!#REF! -> #REF! | O14: {=IFERROR(SMALL(IF(J14:N14<>0,J14:N14,""),1),"")} | P14: {=IFERROR(AVERAGE(IF(J14:N14<>0,J14:N14,"")),"")} | Q14: {=IFERROR(STDEVP(IF(J14:N14<>0,J14:N14,"")),"")} | R14: =IFERROR(P14-Q14,"") | S14: =IFERROR(P14+Q14,"")
... A1020: ='Pesquisa de Preços'!#REF! -> #REF! | B1020: ='Pesquisa de Preços'!#REF! -> #REF! | C1020: ='Pesquisa de Preços'!#REF! -> #REF! | D1020: ='Pesquisa de Preços'!#REF! -> #REF! | E1020: ='Pesquisa de Preços'!#REF! -> #REF! | F1020: {=IFERROR(SMALL(IF(A1020:E1020<>0,A1020:E1020,""),1),"")} | G1020: {=IFERROR(AVERAGE(IF(A1020:E1020<>0,A1020:E1020,"")),"")} | H1020: {=IFERROR(STDEVP(IF(A1020:E1020<>0,A1020:E1020,"")),"")} | I1020: x | J1020: ='Pesquisa de Preços'!#REF! -> #REF! | K1020: ='Pesquisa de Preços'!#REF! -> #REF! | L1020: ='Pesquisa de Preços'!#REF! -> #REF! | M1020: ='Pesquisa de Preços'!#REF! -> #REF! | N1020: ='Pesquisa de Preços'!#REF! -> #REF! | O1020: {=IFERROR(SMALL(IF(J1020:N1020<>0,J1020:N1020,""),1),"")} | P1020: {=IFERROR(AVERAGE(IF(J1020:N1020<>0,J1020:N1020,"")),"")} | Q1020: {=IFERROR(STDEVP(IF(J1020:N1020<>0,J1020:N1020,"")),"")} | R1020: =IFERROR(P1020-Q1020,"") | S1020: =IFERROR(P1020+Q1020,"")
A1021: ='Pesquisa de Preços'!H62 -> 0 | B1021: ='Pesquisa de Preços'!J62 -> 0 | C1021: ='Pesquisa de Preços'!#REF! -> #REF! | D1021: ='Pesquisa de Preços'!#REF! -> #REF! | E1021: ='Pesquisa de Preços'!#REF! -> #REF! | F1021: {=IFERROR(SMALL(IF(A1021:E1021<>0,A1021:E1021,""),1),"")} | G1021: {=IFERROR(AVERAGE(IF(A1021:E1021<>0,A1021:E1021,"")),"")} | H1021: {=IFERROR(STDEVP(IF(A1021:E1021<>0,A1021:E1021,"")),"")} | I1021: x | J1021: ='Pesquisa de Preços'!I62 -> 0 | K1021: ='Pesquisa de Preços'!K62 -> 0 | L1021: ='Pesquisa de Preços'!#REF! -> #REF! | M1021: ='Pesquisa de Preços'!#REF! -> #REF! | N1021: ='Pesquisa de Preços'!#REF! -> #REF! | O1021: {=IFERROR(SMALL(IF(J1021:N1021<>0,J1021:N1021,""),1),"")} | P1021: {=IFERROR(AVERAGE(IF(J1021:N1021<>0,J1021:N1021,"")),"")} | Q1021: {=IFERROR(STDEVP(IF(J1021:N1021<>0,J1021:N1021,"")),"")} | R1021: =IFERROR(P1021-Q1021,"") | S1021: =IFERROR(P1021+Q1021,"")
A1022: ='Pesquisa de Preços'!H63 -> 0 | B1022: ='Pesquisa de Preços'!J63 -> 0 | C1022: ='Pesquisa de Preços'!#REF! -> #REF! | D1022: ='Pesquisa de Preços'!#REF! -> #REF! | E1022: ='Pesquisa de Preços'!#REF! -> #REF! | F1022: {=IFERROR(SMALL(IF(A1022:E1022<>0,A1022:E1022,""),1),"")} | G1022: {=IFERROR(AVERAGE(IF(A1022:E1022<>0,A1022:E1022,"")),"")} | H1022: {=IFERROR(STDEVP(IF(A1022:E1022<>0,A1022:E1022,"")),"")} | I1022: x | J1022: ='Pesquisa de Preços'!I63 -> 0 | K1022: ='Pesquisa de Preços'!K63 -> 0 | L1022: ='Pesquisa de Preços'!#REF! -> #REF! | M1022: ='Pesquisa de Preços'!#REF! -> #REF! | N1022: ='Pesquisa de Preços'!#REF! -> #REF! | O1022: {=IFERROR(SMALL(IF(J1022:N1022<>0,J1022:N1022,""),1),"")} | P1022: {=IFERROR(AVERAGE(IF(J1022:N1022<>0,J1022:N1022,"")),"")} | Q1022: {=IFERROR(STDEVP(IF(J1022:N1022<>0,J1022:N1022,"")),"")} | R1022: =IFERROR(P1022-Q1022,"") | S1022: =IFERROR(P1022+Q1022,"")
A1023: ='Pesquisa de Preços'!H66 -> 0 | B1023: ='Pesquisa de Preços'!J66 -> 0 | C1023: ='Pesquisa de Preços'!#REF! -> #REF! | D1023: ='Pesquisa de Preços'!#REF! -> #REF! | E1023: ='Pesquisa de Preços'!#REF! -> #REF! | F1023: {=IFERROR(SMALL(IF(A1023:E1023<>0,A1023:E1023,""),1),"")} | G1023: {=IFERROR(AVERAGE(IF(A1023:E1023<>0,A1023:E1023,"")),"")} | H1023: {=IFERROR(STDEVP(IF(A1023:E1023<>0,A1023:E1023,"")),"")} | I1023: x | J1023: ='Pesquisa de Preços'!I66 -> 0 | K1023: ='Pesquisa de Preços'!K66 -> 0 | L1023: ='Pesquisa de Preços'!#REF! -> #REF! | M1023: ='Pesquisa de Preços'!#REF! -> #REF! | N1023: ='Pesquisa de Preços'!#REF! -> #REF! | O1023: {=IFERROR(SMALL(IF(J1023:N1023<>0,J1023:N1023,""),1),"")} | P1023: {=IFERROR(AVERAGE(IF(J1023:N1023<>0,J1023:N1023,"")),"")} | Q1023: {=IFERROR(STDEVP(IF(J1023:N1023<>0,J1023:N1023,"")),"")} | R1023: =IFERROR(P1023-Q1023,"") | S1023: =IFERROR(P1023+Q1023,"")
A1024: ='Pesquisa de Preços'!H67 -> 0 | B1024: ='Pesquisa de Preços'!J67 -> 0 | C1024: ='Pesquisa de Preços'!#REF! -> #REF! | D1024: ='Pesquisa de Preços'!#REF! -> #REF! | E1024: ='Pesquisa de Preços'!#REF! -> #REF! | F1024: {=IFERROR(SMALL(IF(A1024:E1024<>0,A1024:E1024,""),1),"")} | G1024: {=IFERROR(AVERAGE(IF(A1024:E1024<>0,A1024:E1024,"")),"")} | H1024: {=IFERROR(STDEVP(IF(A1024:E1024<>0,A1024:E1024,"")),"")} | I1024: x | J1024: ='Pesquisa de Preços'!I67 -> 0 | K1024: ='Pesquisa de Preços'!K67 -> 0 | L1024: ='Pesquisa de Preços'!#REF! -> #REF! | M1024: ='Pesquisa de Preços'!#REF! -> #REF! | N1024: ='Pesquisa de Preços'!#REF! -> #REF! | O1024: {=IFERROR(SMALL(IF(J1024:N1024<>0,J1024:N1024,""),1),"")} | P1024: {=IFERROR(AVERAGE(IF(J1024:N1024<>0,J1024:N1024,"")),"")} | Q1024: {=IFERROR(STDEVP(IF(J1024:N1024<>0,J1024:N1024,"")),"")} | R1024: =IFERROR(P1024-Q1024,"") | S1024: =IFERROR(P1024+Q1024,"")
A1025: ='Pesquisa de Preços'!#REF! -> #REF! | B1025: ='Pesquisa de Preços'!#REF! -> #REF! | C1025: ='Pesquisa de Preços'!#REF! -> #REF! | D1025: ='Pesquisa de Preços'!#REF! -> #REF! | E1025: ='Pesquisa de Preços'!#REF! -> #REF! | F1025: {=IFERROR(SMALL(IF(A1025:E1025<>0,A1025:E1025,""),1),"")} | G1025: {=IFERROR(AVERAGE(IF(A1025:E1025<>0,A1025:E1025,"")),"")} | H1025: {=IFERROR(STDEVP(IF(A1025:E1025<>0,A1025:E1025,"")),"")} | I1025: x | J1025: ='Pesquisa de Preços'!#REF! -> #REF! | K1025: ='Pesquisa de Preços'!#REF! -> #REF! | L1025: ='Pesquisa de Preços'!#REF! -> #REF! | M1025: ='Pesquisa de Preços'!#REF! -> #REF! | N1025: ='Pesquisa de Preços'!#REF! -> #REF! | O1025: {=IFERROR(SMALL(IF(J1025:N1025<>0,J1025:N1025,""),1),"")} | P1025: {=IFERROR(AVERAGE(IF(J1025:N1025<>0,J1025:N1025,"")),"")} | Q1025: {=IFERROR(STDEVP(IF(J1025:N1025<>0,J1025:N1025,"")),"")} | R1025: =IFERROR(P1025-Q1025,"") | S1025: =IFERROR(P1025+Q1025,"")
A1026: ='Pesquisa de Preços'!H69 -> 0 | B1026: ='Pesquisa de Preços'!J69 -> 0 | C1026: ='Pesquisa de Preços'!#REF! -> #REF! | D1026: ='Pesquisa de Preços'!#REF! -> #REF! | E1026: ='Pesquisa de Preços'!#REF! -> #REF! | F1026: {=IFERROR(SMALL(IF(A1026:E1026<>0,A1026:E1026,""),1),"")} | G1026: {=IFERROR(AVERAGE(IF(A1026:E1026<>0,A1026:E1026,"")),"")} | H1026: {=IFERROR(STDEVP(IF(A1026:E1026<>0,A1026:E1026,"")),"")} | I1026: x | J1026: ='Pesquisa de Preços'!I69 -> 0 | K1026: ='Pesquisa de Preços'!K69 -> 0 | L1026: ='Pesquisa de Preços'!#REF! -> #REF! | M1026: ='Pesquisa de Preços'!#REF! -> #REF! | N1026: ='Pesquisa de Preços'!#REF! -> #REF! | O1026: {=IFERROR(SMALL(IF(J1026:N1026<>0,J1026:N1026,""),1),"")} | P1026: {=IFERROR(AVERAGE(IF(J1026:N1026<>0,J1026:N1026,"")),"")} | Q1026: {=IFERROR(STDEVP(IF(J1026:N1026<>0,J1026:N1026,"")),"")} | R1026: =IFERROR(P1026-Q1026,"") | S1026: =IFERROR(P1026+Q1026,"")
A1027: ='Pesquisa de Preços'!H70 -> 0 | B1027: ='Pesquisa de Preços'!J70 -> 0 | C1027: ='Pesquisa de Preços'!#REF! -> #REF! | D1027: ='Pesquisa de Preços'!#REF! -> #REF! | E1027: ='Pesquisa de Preços'!#REF! -> #REF! | F1027: {=IFERROR(SMALL(IF(A1027:E1027<>0,A1027:E1027,""),1),"")} | G1027: {=IFERROR(AVERAGE(IF(A1027:E1027<>0,A1027:E1027,"")),"")} | H1027: {=IFERROR(STDEVP(IF(A1027:E1027<>0,A1027:E1027,"")),"")} | I1027: x | J1027: ='Pesquisa de Preços'!I70 -> 0 | K1027: ='Pesquisa de Preços'!K70 -> 0 | L1027: ='Pesquisa de Preços'!#REF! -> #REF! | M1027: ='Pesquisa de Preços'!#REF! -> #REF! | N1027: ='Pesquisa de Preços'!#REF! -> #REF! | O1027: {=IFERROR(SMALL(IF(J1027:N1027<>0,J1027:N1027,""),1),"")} | P1027: {=IFERROR(AVERAGE(IF(J1027:N1027<>0,J1027:N1027,"")),"")} | Q1027: {=IFERROR(STDEVP(IF(J1027:N1027<>0,J1027:N1027,"")),"")} | R1027: =IFERROR(P1027-Q1027,"") | S1027: =IFERROR(P1027+Q1027,"")
A1028: ='Pesquisa de Preços'!H71 -> 0 | B1028: ='Pesquisa de Preços'!J71 -> 0 | C1028: ='Pesquisa de Preços'!#REF! -> #REF! | D1028: ='Pesquisa de Preços'!#REF! -> #REF! | E1028: ='Pesquisa de Preços'!#REF! -> #REF! | F1028: {=IFERROR(SMALL(IF(A1028:E1028<>0,A1028:E1028,""),1),"")} | G1028: {=IFERROR(AVERAGE(IF(A1028:E1028<>0,A1028:E1028,"")),"")} | H1028: {=IFERROR(STDEVP(IF(A1028:E1028<>0,A1028:E1028,"")),"")} | I1028: x | J1028: ='Pesquisa de Preços'!I71 -> 0 | K1028: ='Pesquisa de Preços'!K71 -> 0 | L1028: ='Pesquisa de Preços'!#REF! -> #REF! | M1028: ='Pesquisa de Preços'!#REF! -> #REF! | N1028: ='Pesquisa de Preços'!#REF! -> #REF! | O1028: {=IFERROR(SMALL(IF(J1028:N1028<>0,J1028:N1028,""),1),"")} | P1028: {=IFERROR(AVERAGE(IF(J1028:N1028<>0,J1028:N1028,"")),"")} | Q1028: {=IFERROR(STDEVP(IF(J1028:N1028<>0,J1028:N1028,"")),"")} | R1028: =IFERROR(P1028-Q1028,"") | S1028: =IFERROR(P1028+Q1028,"")
A1029: ='Pesquisa de Preços'!H72 -> 0 | B1029: ='Pesquisa de Preços'!J72 -> 0 | C1029: ='Pesquisa de Preços'!#REF! -> #REF! | D1029: ='Pesquisa de Preços'!#REF! -> #REF! | E1029: ='Pesquisa de Preços'!#REF! -> #REF! | F1029: {=IFERROR(SMALL(IF(A1029:E1029<>0,A1029:E1029,""),1),"")} | G1029: {=IFERROR(AVERAGE(IF(A1029:E1029<>0,A1029:E1029,"")),"")} | H1029: {=IFERROR(STDEVP(IF(A1029:E1029<>0,A1029:E1029,"")),"")} | I1029: x | J1029: ='Pesquisa de Preços'!I72 -> 0 | K1029: ='Pesquisa de Preços'!K72 -> 0 | L1029: ='Pesquisa de Preços'!#REF! -> #REF! | M1029: ='Pesquisa de Preços'!#REF! -> #REF! | N1029: ='Pesquisa de Preços'!#REF! -> #REF! | O1029: {=IFERROR(SMALL(IF(J1029:N1029<>0,J1029:N1029,""),1),"")} | P1029: {=IFERROR(AVERAGE(IF(J1029:N1029<>0,J1029:N1029,"")),"")} | Q1029: {=IFERROR(STDEVP(IF(J1029:N1029<>0,J1029:N1029,"")),"")} | R1029: =IFERROR(P1029-Q1029,"") | S1029: =IFERROR(P1029+Q1029,"")
A1030: ='Pesquisa de Preços'!H73 -> 0 | B1030: ='Pesquisa de Preços'!J73 -> 0 | C1030: ='Pesquisa de Preços'!#REF! -> #REF! | D1030: ='Pesquisa de Preços'!#REF! -> #REF! | E1030: ='Pesquisa de Preços'!#REF! -> #REF! | F1030: {=IFERROR(SMALL(IF(A1030:E1030<>0,A1030:E1030,""),1),"")} | G1030: {=IFERROR(AVERAGE(IF(A1030:E1030<>0,A1030:E1030,"")),"")} | H1030: {=IFERROR(STDEVP(IF(A1030:E1030<>0,A1030:E1030,"")),"")} | I1030: x | J1030: ='Pesquisa de Preços'!I73 -> 0 | K1030: ='Pesquisa de Preços'!K73 -> 0 | L1030: ='Pesquisa de Preços'!#REF! -> #REF! | M1030: ='Pesquisa de Preços'!#REF! -> #REF! | N1030: ='Pesquisa de Preços'!#REF! -> #REF! | O1030: {=IFERROR(SMALL(IF(J1030:N1030<>0,J1030:N1030,""),1),"")} | P1030: {=IFERROR(AVERAGE(IF(J1030:N1030<>0,J1030:N1030,"")),"")} | Q1030: {=IFERROR(STDEVP(IF(J1030:N1030<>0,J1030:N1030,"")),"")} | R1030: =IFERROR(P1030-Q1030,"") | S1030: =IFERROR(P1030+Q1030,"")
A1031: ='Pesquisa de Preços'!H74 -> 0 | B1031: ='Pesquisa de Preços'!J74 -> 0 | C1031: ='Pesquisa de Preços'!#REF! -> #REF! | D1031: ='Pesquisa de Preços'!#REF! -> #REF! | E1031: ='Pesquisa de Preços'!#REF! -> #REF! | F1031: {=IFERROR(SMALL(IF(A1031:E1031<>0,A1031:E1031,""),1),"")} | G1031: {=IFERROR(AVERAGE(IF(A1031:E1031<>0,A1031:E1031,"")),"")} | H1031: {=IFERROR(STDEVP(IF(A1031:E1031<>0,A1031:E1031,"")),"")} | I1031: x | J1031: ='Pesquisa de Preços'!I74 -> 0 | K1031: ='Pesquisa de Preços'!K74 -> 0 | L1031: ='Pesquisa de Preços'!#REF! -> #REF! | M1031: ='Pesquisa de Preços'!#REF! -> #REF! | N1031: ='Pesquisa de Preços'!#REF! -> #REF! | O1031: {=IFERROR(SMALL(IF(J1031:N1031<>0,J1031:N1031,""),1),"")} | P1031: {=IFERROR(AVERAGE(IF(J1031:N1031<>0,J1031:N1031,"")),"")} | Q1031: {=IFERROR(STDEVP(IF(J1031:N1031<>0,J1031:N1031,"")),"")} | R1031: =IFERROR(P1031-Q1031,"") | S1031: =IFERROR(P1031+Q1031,"")
A1032: ='Pesquisa de Preços'!H75 -> 0 | B1032: ='Pesquisa de Preços'!J75 -> 0 | C1032: ='Pesquisa de Preços'!#REF! -> #REF! | D1032: ='Pesquisa de Preços'!#REF! -> #REF! | E1032: ='Pesquisa de Preços'!#REF! -> #REF! | F1032: {=IFERROR(SMALL(IF(A1032:E1032<>0,A1032:E1032,""),1),"")} | G1032: {=IFERROR(AVERAGE(IF(A1032:E1032<>0,A1032:E1032,"")),"")} | H1032: {=IFERROR(STDEVP(IF(A1032:E1032<>0,A1032:E1032,"")),"")} | I1032: x | J1032: ='Pesquisa de Preços'!I75 -> 0 | K1032: ='Pesquisa de Preços'!K75 -> 0 | L1032: ='Pesquisa de Preços'!#REF! -> #REF! | M1032: ='Pesquisa de Preços'!#REF! -> #REF! | N1032: ='Pesquisa de Preços'!#REF! -> #REF! | O1032: {=IFERROR(SMALL(IF(J1032:N1032<>0,J1032:N1032,""),1),"")} | P1032: {=IFERROR(AVERAGE(IF(J1032:N1032<>0,J1032:N1032,"")),"")} | Q1032: {=IFERROR(STDEVP(IF(J1032:N1032<>0,J1032:N1032,"")),"")} | R1032: =IFERROR(P1032-Q1032,"") | S1032: =IFERROR(P1032+Q1032,"")
A1033: ='Pesquisa de Preços'!H76 -> 0 | B1033: ='Pesquisa de Preços'!J76 -> 0 | C1033: ='Pesquisa de Preços'!#REF! -> #REF! | D1033: ='Pesquisa de Preços'!#REF! -> #REF! | E1033: ='Pesquisa de Preços'!#REF! -> #REF! | F1033: {=IFERROR(SMALL(IF(A1033:E1033<>0,A1033:E1033,""),1),"")} | G1033: {=IFERROR(AVERAGE(IF(A1033:E1033<>0,A1033:E1033,"")),"")} | H1033: {=IFERROR(STDEVP(IF(A1033:E1033<>0,A1033:E1033,"")),"")} | I1033: x | J1033: ='Pesquisa de Preços'!I76 -> 0 | K1033: ='Pesquisa de Preços'!K76 -> 0 | L1033: ='Pesquisa de Preços'!#REF! -> #REF! | M1033: ='Pesquisa de Preços'!#REF! -> #REF! | N1033: ='Pesquisa de Preços'!#REF! -> #REF! | O1033: {=IFERROR(SMALL(IF(J1033:N1033<>0,J1033:N1033,""),1),"")} | P1033: {=IFERROR(AVERAGE(IF(J1033:N1033<>0,J1033:N1033,"")),"")} | Q1033: {=IFERROR(STDEVP(IF(J1033:N1033<>0,J1033:N1033,"")),"")} | R1033: =IFERROR(P1033-Q1033,"") | S1033: =IFERROR(P1033+Q1033,"")
A1034: ='Pesquisa de Preços'!H77 -> 0 | B1034: ='Pesquisa de Preços'!J77 -> 0 | C1034: ='Pesquisa de Preços'!#REF! -> #REF! | D1034: ='Pesquisa de Preços'!#REF! -> #REF! | E1034: ='Pesquisa de Preços'!#REF! -> #REF! | F1034: {=IFERROR(SMALL(IF(A1034:E1034<>0,A1034:E1034,""),1),"")} | G1034: {=IFERROR(AVERAGE(IF(A1034:E1034<>0,A1034:E1034,"")),"")} | H1034: {=IFERROR(STDEVP(IF(A1034:E1034<>0,A1034:E1034,"")),"")} | I1034: x | J1034: ='Pesquisa de Preços'!I77 -> 0 | K1034: ='Pesquisa de Preços'!K77 -> 0 | L1034: ='Pesquisa de Preços'!#REF! -> #REF! | M1034: ='Pesquisa de Preços'!#REF! -> #REF! | N1034: ='Pesquisa de Preços'!#REF! -> #REF! | O1034: {=IFERROR(SMALL(IF(J1034:N1034<>0,J1034:N1034,""),1),"")} | P1034: {=IFERROR(AVERAGE(IF(J1034:N1034<>0,J1034:N1034,"")),"")} | Q1034: {=IFERROR(STDEVP(IF(J1034:N1034<>0,J1034:N1034,"")),"")} | R1034: =IFERROR(P1034-Q1034,"") | S1034: =IFERROR(P1034+Q1034,"")
A1035: ='Pesquisa de Preços'!H78 -> 0 | B1035: ='Pesquisa de Preços'!J78 -> 0 | C1035: ='Pesquisa de Preços'!#REF! -> #REF! | D1035: ='Pesquisa de Preços'!#REF! -> #REF! | E1035: ='Pesquisa de Preços'!#REF! -> #REF! | F1035: {=IFERROR(SMALL(IF(A1035:E1035<>0,A1035:E1035,""),1),"")} | G1035: {=IFERROR(AVERAGE(IF(A1035:E1035<>0,A1035:E1035,"")),"")} | H1035: {=IFERROR(STDEVP(IF(A1035:E1035<>0,A1035:E1035,"")),"")} | I1035: x | J1035: ='Pesquisa de Preços'!I78 -> 0 | K1035: ='Pesquisa de Preços'!K78 -> 0 | L1035: ='Pesquisa de Preços'!#REF! -> #REF! | M1035: ='Pesquisa de Preços'!#REF! -> #REF! | N1035: ='Pesquisa de Preços'!#REF! -> #REF! | O1035: {=IFERROR(SMALL(IF(J1035:N1035<>0,J1035:N1035,""),1),"")} | P1035: {=IFERROR(AVERAGE(IF(J1035:N1035<>0,J1035:N1035,"")),"")} | Q1035: {=IFERROR(STDEVP(IF(J1035:N1035<>0,J1035:N1035,"")),"")} | R1035: =IFERROR(P1035-Q1035,"") | S1035: =IFERROR(P1035+Q1035,"")
A1036: ='Pesquisa de Preços'!H79 -> 0 | B1036: ='Pesquisa de Preços'!J79 -> 0 | C1036: ='Pesquisa de Preços'!#REF! -> #REF! | D1036: ='Pesquisa de Preços'!#REF! -> #REF! | E1036: ='Pesquisa de Preços'!#REF! -> #REF! | F1036: {=IFERROR(SMALL(IF(A1036:E1036<>0,A1036:E1036,""),1),"")} | G1036: {=IFERROR(AVERAGE(IF(A1036:E1036<>0,A1036:E1036,"")),"")} | H1036: {=IFERROR(STDEVP(IF(A1036:E1036<>0,A1036:E1036,"")),"")} | I1036: x | J1036: ='Pesquisa de Preços'!I79 -> 0 | K1036: ='Pesquisa de Preços'!K79 -> 0 | L1036: ='Pesquisa de Preços'!#REF! -> #REF! | M1036: ='Pesquisa de Preços'!#REF! -> #REF! | N1036: ='Pesquisa de Preços'!#REF! -> #REF! | O1036: {=IFERROR(SMALL(IF(J1036:N1036<>0,J1036:N1036,""),1),"")} | P1036: {=IFERROR(AVERAGE(IF(J1036:N1036<>0,J1036:N1036,"")),"")} | Q1036: {=IFERROR(STDEVP(IF(J1036:N1036<>0,J1036:N1036,"")),"")} | R1036: =IFERROR(P1036-Q1036,"") | S1036: =IFERROR(P1036+Q1036,"")
A1037: ='Pesquisa de Preços'!H80 -> 0 | B1037: ='Pesquisa de Preços'!J80 -> 0 | C1037: ='Pesquisa de Preços'!#REF! -> #REF! | D1037: ='Pesquisa de Preços'!#REF! -> #REF! | E1037: ='Pesquisa de Preços'!#REF! -> #REF! | F1037: {=IFERROR(SMALL(IF(A1037:E1037<>0,A1037:E1037,""),1),"")} | G1037: {=IFERROR(AVERAGE(IF(A1037:E1037<>0,A1037:E1037,"")),"")} | H1037: {=IFERROR(STDEVP(IF(A1037:E1037<>0,A1037:E1037,"")),"")} | I1037: x | J1037: ='Pesquisa de Preços'!I80 -> 0 | K1037: ='Pesquisa de Preços'!K80 -> 0 | L1037: ='Pesquisa de Preços'!#REF! -> #REF! | M1037: ='Pesquisa de Preços'!#REF! -> #REF! | N1037: ='Pesquisa de Preços'!#REF! -> #REF! | O1037: {=IFERROR(SMALL(IF(J1037:N1037<>0,J1037:N1037,""),1),"")} | P1037: {=IFERROR(AVERAGE(IF(J1037:N1037<>0,J1037:N1037,"")),"")} | Q1037: {=IFERROR(STDEVP(IF(J1037:N1037<>0,J1037:N1037,"")),"")} | R1037: =IFERROR(P1037-Q1037,"") | S1037: =IFERROR(P1037+Q1037,"")
... A1275: ='Pesquisa de Preços'!H318 -> 0 | B1275: ='Pesquisa de Preços'!J318 -> 0 | C1275: ='Pesquisa de Preços'!#REF! -> #REF! | D1275: ='Pesquisa de Preços'!#REF! -> #REF! | E1275: ='Pesquisa de Preços'!#REF! -> #REF! | F1275: {=IFERROR(SMALL(IF(A1275:E1275<>0,A1275:E1275,""),1),"")} | G1275: {=IFERROR(AVERAGE(IF(A1275:E1275<>0,A1275:E1275,"")),"")} | H1275: {=IFERROR(STDEVP(IF(A1275:E1275<>0,A1275:E1275,"")),"")} | I1275: x | J1275: ='Pesquisa de Preços'!I318 -> 0 | K1275: ='Pesquisa de Preços'!K318 -> 0 | L1275: ='Pesquisa de Preços'!#REF! -> #REF! | M1275: ='Pesquisa de Preços'!#REF! -> #REF! | N1275: ='Pesquisa de Preços'!#REF! -> #REF! | O1275: {=IFERROR(SMALL(IF(J1275:N1275<>0,J1275:N1275,""),1),"")} | P1275: {=IFERROR(AVERAGE(IF(J1275:N1275<>0,J1275:N1275,"")),"")} | Q1275: {=IFERROR(STDEVP(IF(J1275:N1275<>0,J1275:N1275,"")),"")} | R1275: =IFERROR(P1275-Q1275,"") | S1275: =IFERROR(P1275+Q1275,"")
A1277: OBS:
A1278: 1 – Retirar as linhas excedentes
A1279: 2 - A assinatura deverá ser providenciada somente quando a proposta estiver em fase de aprovação, isto é, após a análise do Concedente que irá solicitar, por meio de diligência, a realização do ato;
A1280: 3 – O arquivo deverá ser acostado no SICONV em formato .zip, tendo em vista que o sistema não aceita extensões .doc ou xls/xlsx
