Workbook
Name INFORMAÇÕES: '[1]BASE I'!$B$16:$AB$36
Name Matriz: '[1]BASE I'!$B$16:$AB$52
Name REAJUSTE_MATERIAIS: [2]SALÁRIOS!$O$5
Name REAJUSTE_MATERIAIS_2: [3]SALÁRIOS!$O$5
Name Result: 'Equipamentos Porteiro'!#REF!,'Equipamentos Porteiro'!#REF!
Name Result: '[4]Equipamentos - Armdado'!#REF!,'[4]Equipamentos - Armdado'!#REF!
Name Result: '[4]Equipamentos - Armdado'!#REF!,'[4]Equipamentos - Armdado'!#REF!
Name Result: '[4]Equipamentos - Armdado'!#REF!,'[4]Equipamentos - Armdado'!#REF!
Name Result: '[4]Equipamentos - Armdado'!#REF!,'[4]Equipamentos - Armdado'!#REF!
Name Result: '[4]Equipamentos - Armdado'!#REF!,'[4]Equipamentos - Armdado'!#REF!
Name Result: '[4]Equipamentos - Armdado'!#REF!,'[4]Equipamentos - Armdado'!#REF!
Name Result: '[4]Equipamentos - Armdado'!#REF!,'[4]Equipamentos - Armdado'!#REF!
Name Result: '[4]Equipamentos - Armdado'!#REF!,'[4]Equipamentos - Armdado'!#REF!
Name Result: '[4]Equipamentos - Armdado'!#REF!,'[4]Equipamentos - Armdado'!#REF!
Name Result: '[4]Equipamentos - Armdado'!#REF!,'[4]Equipamentos - Armdado'!#REF!
Name Result: '[4]Equipamentos - Armdado'!#REF!,'[4]Equipamentos - Armdado'!#REF!
Name Result: '[4]Equipamentos - Armdado'!#REF!,'[4]Equipamentos - Armdado'!#REF!
Name Result: '[4]Equipamentos - Armdado'!#REF!,'[4]Equipamentos - Armdado'!#REF!
Name Result: '[4]Equipamentos - Armdado'!#REF!,'[4]Equipamentos - Armdado'!#REF!
Name Result: '[4]Equipamentos - Armdado'!#REF!,'[4]Equipamentos - Armdado'!#REF!
Name Result: '[4]Equipamentos - Armdado'!#REF!,'[4]Equipamentos - Armdado'!#REF!
Name Result: '[4]Equipamentos - Armdado'!#REF!,'[4]Equipamentos - Armdado'!#REF!
Name Serviços: '[5]Dados - Não mexer'!$A:$A
Name Tipo_de_Joranda_de_Trabalho: OFFSET([6]Apoio!$A$1,1,0,COUNTA([6]Apoio!$A:$A)-1,1)
Name UN: !#REF!
Name UN: !#REF!
Name UN: !#REF!
Name UN: !#REF!
Name UN: !#REF!
Name UN: !#REF!
Name UN: !#REF!
Name UN: !#REF!
Name UN: !#REF!
Name UN: !#REF!
Name UN: !#REF!
Name UN: !#REF!
Name UN: !#REF!
Name UN: !#REF!
Name UN: !#REF!
Name UN: !#REF!
Name UN: !#REF!
Name UN: !#REF!

Sheet PROPOSTA DE PRECOS - GLOBAL
A1: PROPOSTA DE PREÇOS - GLOBAL
A2: Órgão Contratante: | B2: SECRETARIA DE ESTADO DE ADMINISTRAÇÃO - SEAD
A3: Licitação: | B3: PREGÃO ELETRÔNICO Nº 348/2025
A4: Contratação: | B4: 117539
A5: Processo SEi: | B5: 202500005037987
A6: Serviço a ser contratado: | B6: Contratação de empresa especializada para a prestação integrada de serviços de facilities, visando atender ao novo Centro Administrativo, compreendendo a manutenção predial preventiva e corretiva, com fornecimento de materiais, peças e equipamentos; a implantação, operação e manutenção de sistemas de controle de acesso e videomonitoramento (CFTV); a execução de serviços de limpeza, higienização e desinfecção de reservatórios de água; bem como a realização de serviços contínuos com dedicação exclusiva de mão de obra, incluindo limpeza e conservação, jardinagem e paisagismo, brigada de incêndio, controle de pragas, copa, portaria e recepção, conforme especificações estabelecidas no Termo de Referência e seus anexos.
A7: Nº de meses execução: | B7: 36 meses
A8: Local de prestação dos serviços: | B8: Centro Administrativo
A9: Data de apresentação da proposta:
A10: PROPONENTE
A11: Razão Social | K11: CNPJ
A13: Endereço da Matriz (digite o endereço no formato Logradouro, nº, Complemento - Bairro):
A15: Município | E15: UF | F15: CEP | G15: DDD | H15: Telefone | I15: E-mail
A17: Dados para pagamento - Banco (nº e nome) | G17: Agência | I17: Conta corrente
A19: LOTE | B19: Item | H19: SISLOG | I19: Unidade de medida | J19: Valor mensal (A) | K19: Valor Anual (B)=(A)X12 | L19: Valor global (C)= (A)x36 (36 meses)
B20: 2 - Sistema de controle de acesso, composto por leitor facial, leitor biometrico, catraca e demais dispositivos para gerenciamento de controle de acesso. | H20: 5580 | I20: SERVIÇO | J20: ='PROPOSTA-ITEM2'!G5 -> 0 | K20: =J20*12 -> 0 | L20: =J20*36 -> 0
B21: 3 - Prestação de serviços, instalação e manutenção de sistema de videomonitoramento com fornecimento de materiais. | H21: 4999 | I21: SERVIÇO | J21: ='PROPOSTA-ITEM3'!F5 -> 0 | K21: =J21*12 -> 0 | L21: =J21*36 -> 0
B22: 4 - Terceirização de serviços de limpeza, asseio e conservação de ambientes. | H22: 5752 | I22: POSTO DE TRABALHO | J22: ='PROPOSTA-ITEM4'!I5 -> 0 | K22: =J22*12 -> 0 | L22: =J22*36 -> 0
B23: 5 - Prestação de serviços, jardinagem e paisagismo. | H23: 3550 | I23: POSTO DE TRABALHO | J23: ='PROPOSTA-ITEM5'!I5 -> 0 | K23: =J23*12 -> 0 | L23: =J23*36 -> 0
B24: 6 - Terceirização de mão de obra, brigadista - bombeiro civil, 12 x 36 horas semanais, diurno. | H24: 343 | I24: POSTO DE TRABALHO | J24: ='PROPOSTA-ITEM6'!I5 -> 0 | K24: =J24*12 -> 0 | L24: =J24*36 -> 0
B25: 7 - Serviço de manejo e controle de pragas, dedetização, desinsetização, desratização e descupinização. | H25: 149 | I25: M² | J25: ='PROPOSTA-ITEM7'!J5 -> 0 | K25: =J25*12 -> 0 | L25: ='PROPOSTA-ITEM7'!L5 -> 0
B26: 8 - Terceirização de mão de obra, copeira, diurno, 44 horas semanais. | H26: 343 | I26: POSTO DE TRABALHO | J26: ='PROPOSTA-ITEM8'!I5 -> 0 | K26: =J26*12 -> 0 | L26: =J26*36 -> 0
B27: 9 - Terceirização de mão de obra, porteiro, noturno, jornada 12 x 36 h. | H27: 343 | I27: POSTO DE TRABALHO | J27: ='PROPOSTA-ITEM9'!J5 -> 0 | K27: =J27*12 -> 0 | L27: =J27*36 -> 0
B28: 10 - Terceirização de mão de obra, porteiro, diurno, jornada 12 x 36 h. | H28: 343 | I28: POSTO DE TRABALHO | J28: ='PROPOSTA-ITEM10'!J5 -> 0 | K28: =J28*12 -> 0 | L28: =J28*36 -> 0
B29: 11 - Terceirização de mão de obra, recepcionista, nível médio, 44 horas semanais. | H29: 343 | I29: POSTO DE TRABALHO | J29: ='PROPOSTA-ITEM11'!I5 -> 0 | K29: =J29*12 -> 0 | L29: =J29*36 -> 0
B30: 12 - Serviços de manutenção e conservação predial, limpeza e desinfecção de caixas d'água. | H30: 171 | I30: M³ | J30: ='PROPOSTA-ITEM12'!J5 -> 0 | K30: =J30*12 -> 0 | L30: =J30*36 -> 0
B31: 13 - Terceirização de mão de obra, supervisor de equipe, diurno, 44 horas semanais. | H31: 343 | I31: POSTO DE TRABALHO | J31: ='PROPOSTA-ITEM13'!I5 -> 0 | K31: =J31*12 -> 0 | L31: =J31*36 -> 0
A32: TOTAL | J32: =SUM(J20:J31) -> 0 | K32: =SUM(K20:K31) -> 0 | L32: =SUM(L20:L31) -> 0
K36: _______________, ____ de __________de 20___
A38: ______________________________________________________
A39: (Nome do Representante legal / Assinatura)

Sheet PROPOSTA-ITEM2
B1: PROPOSTA DE PREÇOS - ITEM 2
B4: ITEM | C4: SERVIÇO | D4: DESCRIÇÃO | E4: UNIDADE DE MEDIDA | F4: QUANTIDADE | G4: VALOR MENSAL R$ (A) | H4: VALOR ANUAL R$ (B)= (A)x12 (12 meses) | I4: VALOR TOTAL R$ (B)= (A)x36 (36 meses)
B5: 2 | C5: Sistema de controle de acesso, composto por leitor facial, leitor biometrico, catraca e demais dispositivos para gerenciamento de controle de acesso. | D5: Contratação de solução integrada de controle de acesso, composta por catracas e dispositivos de identificação biométrica e facial, incluindo os equipamentos, softwares e demais componentes necessários para cadastro, autenticação, registro e gerenciamento de acessos de pessoas, com instalação, configuração, manutenção e suporte técnico. | E5: Serviço | F5: 1 | H5: =G5*12 -> 0 | I5: =G5*36 -> 0

Sheet PROPOSTA-ITEM3
A1: PROPOSTA DE PREÇOS - ITEM 3
A4: ITEM | B4: SERVIÇO | C4: DESCRIÇÃO | D4: UNIDADE DE MEDIDA | E4: QUANTIDADE | F4: VALOR MENSAL R$ (A) | G4: VALOR ANUAL R$ (B)= (A)x12 (12 meses) | H4: VALOR TOTAL R$ (B)= (A)x36 (36 meses)
A5: 3 | B5: Prestação de serviços, instalação e manutenção de sistema de videomonitoramento com fornecimento de materiais. | C5: Serviços de Monitoramento Eletrônico (Alarme eletrônico), circuito fechado de Televisão (monitoramento de CFTV) e serviços de monitoramento de sistema de alarme 24 horas, sete dias por semana, com instalação, manutenção e assistência técnica preventiva e corretiva dos equipamentos instalados em regime de comodato, identificadas através do alarme contra intrusão (violações noturnas e diurnas). | D5: Serviço | E5: 1 | G5: =F5*12 -> 0 | H5: =F5*36 -> 0

Sheet PROPOSTA-ITEM4
A1: PROPOSTA DE PREÇOS - ITEM 4
A4: ITEM | B4: SERVIÇO | C4: DESCRIÇÃO | D4: UNIDADE DE MEDIDA | E4: QUANTIDADE DE POSTOS (A) | F4: QUANTIDADE DE EMPREGADO POR POSTOS (B) | G4: QUANTIDADE TOTAL DE EMPREGADOS (C)= (A) x (B) | H4: VALOR MENSAL POR EMPREGADO R$ (D) | I4: VALOR MENSAL R$ (E)= A X D | J4: VALOR ANUAL R$ (F)= (E)x12 (12 meses) | K4: VALOR TOTAL R$ (G)= (E)x36 (36 meses)
A5: 4 | B5: Terceirização de serviços de limpeza, asseio e conservação de ambientes. | C5: Prestação contínua, por terceirização com dedicação exclusiva de mão de obra, de serviços de limpeza, asseio e conservação de ambientes internos e externos, incluindo organização, higienização, coleta e segregação de resíduos e reposição de insumos essenciais, fornecimento de materias, equipamentos e utensilios, conforme rotinas, níveis de serviço e padrões de qualidade definidos pela CONTRATANTE. | D5: POSTO DE TRABALHO | E5: 20 | F5: 1 | G5: =E5*F5 -> 20 | H5: ='PCFP ITEM4'!H147 -> 0 | I5: =G5*H5 -> 0 | J5: =I5*12 -> 0 | K5: =I5*36 -> 0

Sheet PCFP ITEM4
B2: PLANILHA DE CUSTOS E FORMAÇÃO DE PREÇOS
B4: Nº Processo: | D4: 202500005037987
B5: Contratação: | D5: 117539
B6: Orgão: | D6: SECRETARIA DE ESTADO DE ADMINISTRAÇÃO - SEAD
B7: Descrição do Serviço | D7: ='PROPOSTA-ITEM4'!C5 -> Prestação contínua, por terceirização com dedicação exclusiva de mão de obra, de serviços de limpeza, asseio e conservação de ambientes internos e externos, incluindo organização, higienização, coleta e segregação de resíduos e reposição de insumos essenciais, fornecimento de materias, equipamentos e utensilios, conforme rotinas, níveis de serviço e padrões de qualidade definidos pela CONTRATANTE.
B9: DISCRIMINAÇÃO DOS SERVIÇOS (DADOS REFERENTES À CONTRATAÇÃO)
B10: A | C10: Data da apresentação da proposta
B11: B | C11: Acordo, Convenção ou Sentença Normativa em dissídio Coletivo
B12: C | C12: Número de meses de execução contratual | G12: 36 meses
B14: IDENTIFICAÇÃO DO SERVIÇO
B15: Tipo de Serviço | G15: Cidade para Execução dos serviços
B16: ='PROPOSTA-ITEM4'!B5 -> Terceirização de serviços de limpeza, asseio e conservação de ambientes. | G16: Goiânia
B18: MÃO-DE-OBRA
B19: Dados Complementares para Composição dos Custos Referentes à Mão-de-obra
B20: 1 | C20: Categoria Profissional - Jornada | G20: Faxineiro - 44h
B21: 2 | C21: Salário Normativo da Categoria Profissional - Piso salarial
B22: 3 | C22: Classificação Brasileira de Ocupações (CBO) | G22: 5143-20
B23: 4 | C23: Data base da categoria (dia/mês/ano)
B25: MÓDULO 1 - COMPOSIÇÃO DA REMUNERAÇÃO
B26: Item | C26: Descrição | G26: % | H26: Valor (R$)
B27: A | C27: Salário Base | H27: =G21 -> 0
B28: B | C28: Adicional de Periculosidade | H28: =H27*G28 -> 0
B29: C | C29: Adicional de Insalubridade | H29: =1621*G29 -> 0
B30: D | C30: Adicional Noturno | H30: =(((H27+H28)/220*G30)*105) -> 0
B31: E | C31: Adicional de Hora Noturna Reduzida | H31: 0
B32: F | C32: Outros | H32: 0
B33: TOTAL MÓDULO 1 | H33: =SUM(H27:H32) -> 0
B35: MÓDULO 2 - ENCARGOS E BENEFÍCIOS ANUAIS, MENSAIS E DIÁRIOS
B36: Submódulo 2.1 - 13º Salário e Adicional de Férias
B37: Item | C37: Descrição | G37: % | H37: VALOR (R$)
B38: A | C38: 13º Salário | G38: 0.0833 | H38: =$H$33*G38 -> 0
B39: B | C39: Adicional de Férias | G39: 0.0278 | H39: =$H$33*G39 -> 0
B40: Total do Submódulo 2.1 | G40: =SUM(G38:G39) -> 0.1111 | H40: =SUM(H38:H39) -> 0
B41: Nota 1: Como a planilha de custos e formação de preços é calculada mensalmente, provisiona-se proporcionalmente 1/12 (um doze avos) dos valores referentes a gratificação natalina, férias e adicional de férias. (Redação dada pela Instrução Normativa nº 7, de 2018)
B42: Nota 2: O adicional de férias contido no Submódulo 2.1 corresponde a 1/3 (um terço) da remuneração que por sua vez é divido por 12 (doze) conforme Nota 1 acima.
B43: Nota 3: Levando em consideração a vigência contratual prevista no art. 57 da Lei nº 8.666, de 23 de junho de 1993, a rubrica férias tem como objetivo principal suprir a necessidade do pagamento das férias remuneradas ao final do contrato de 12 meses. Esta rubrica, quando da prorrogação contratual, torna-se custo não renovável.
B45: Submódulo 2.2 - Encargos Previdenciários, FGTS e Outras Contribuições
B46: Item | C46: Descrição | G46: BASE DE CALCULO % | H46: VALOR (R$)
B47: A | C47: INSS | G47: 0.2 | H47: =($H$33+$H$40)*G47 -> 0
B48: B | C48: Salário Educação | G48: 0.025 | H48: =($H$33+$H$40)*G48 -> 0
...

Sheet RESUMO - INSUMOS
A1: RESUMO MÓDULO 5 - INSUMOS DIVERSOS
A4: 5 | B4: INSUMOS DIVERSOS | D4: VALOR MENSAL (R$) | E4: VALOR MENSAL POR EMPREGADO (R$) | F4: VALOR TOTAL (36 meses) (R$)
A5: (A) | B5: Uniformes | D5: ='Uniformes Limpe.'!G12 -> 0 | E5: =D5 -> 0 | F5: =D5*36 -> 0
A6: (B) | B6: EPI | D6: ='Uniformes Limpe.'!G23 -> 0 | E6: =D6 -> 0 | F6: =D6*36 -> 0
A7: (C) | B7: Material de Limpeza | D7: ='INSU-Material de Limpeza '!G54 -> 0 | E7: =D7/'PROPOSTA-ITEM4'!E5 -> 0 | F7: =D7*36 -> 0
A8: (D) | B8: Utensilhos | D8: ='INSU-Utensilios'!H55 -> 0 | E8: =D8/'PROPOSTA-ITEM4'!E5 -> 0 | F8: =D8*36 -> 0
A9: (E) | B9: Equipamentos | D9: ='INSU-Equipamentos '!K11 -> 0 | E9: =D9/'PROPOSTA-ITEM4'!E5 -> 0 | F9: =D9*36 -> 0
A10: Total de Insumos diversos | D10: =SUM(D5:D9) -> 0 | E10: =SUM(E5:E9) -> 0 | F10: =SUM(F5:F9) -> 0

Sheet Uniformes Limpe.
A1: Planilha Auxiliar - Módulo 5 - Insumos Diversos - UNIFORMES
A4: ITEM | B4: PEÇA | C4: DESCRIÇÃO | D4: Unid. | E4: QTDE ANUAL (A) | F4: CUSTO UNITÁRIO (B) | G4: CUSTO MENSAL (C)=((B)x(A)/12) | H4: CUSTO TOTAL (D) = (C)x36
A5: 1 | B5: Calça | C5: Calça comprida de tecido resistente (ex.: gabardine, brim ou similar), com cós com elástico parcial ou ajuste, bolsos funcionais e costuras reforçadas, em cor padrão definida pela CONTRATADA. | D5: Unidade | E5: 4 | G5: =(E5*F5)/12 -> 0 | H5: =G5*36 -> 0
A6: 2 | B6: Calçado | C6: Calçado de uso profissional, fechado, na cor preta, com solado antiderrapante e resistência a escorregamento, preferencialmente impermeável ou de fácil higienização, com palmilha anatômica e antibacteriana. | D6: Par | E6: 2 | G6: =(E6*F6)/12 -> 0 | H6: =G6*36 -> 0
A7: 3 | B7: Camiseta | C7: Camiseta de malha (poliéster/algodão ou equivalente), manga curta, gola polo ou gola careca, tecido respirável e de secagem rápida, com identificação da CONTRATADA por bordado/serigrafia discreta. | D7: Unidade | E7: 4 | G7: =(E7*F7)/12 -> 0 | H7: =G7*36 -> 0
A8: 4 | B8: Jaqueta | C8: Jaqueta ou casaco de tecido resistente, apropriado para ambientes climatizados ou dias frios, com fechamento frontal (zíper ou botões), em cor compatível com o uniforme. | D8: Unidade | E8: 1 | G8: =(E8*F8)/12 -> 0 | H8: =G8*36 -> 0
A9: 5 | B9: Meia | C9: Meia de algodão ou mistura com fibras respiráveis, tipo soquete ou cano curto, adequada ao uso com calçado fechado. | D9: Unidade | E9: 6 | G9: =(E9*F9)/12 -> 0 | H9: =G9*36 -> 0
A10: 6 | B10: Crachá | C10: Crachá de identificação com fotografia | D10: Unidade | E10: 1 | G10: =(E10*F10)/12 -> 0 | H10: =G10*36 -> 0
A12: TOTAL | G12: =SUM(G5:G10) -> 0 | H12: =SUM(H5:H10) -> 0
A14: Planilha Auxiliar - Módulo 5 - Insumos Diversos
A17: ITEM | B17: PEÇA | C17: Descrição Básica | D17: unidade | E17: Quantidade ANUAL (A) | F17: CUSTO UNITÁRIO (R$) (B) | G17: CUSTO MENSAL (R$) (C)=((A)x(B)x12) | H17: CUSTO TOTAL (36 meses) (D) = (C)x36
A18: 1 | B18: Bota | C18: Bota ocupacional preta, cano médio tipo C, classificação II, impermeável, confeccionado em material polimérico (PVC), sem forração interna. | D18: par | E18: 1 | G18: =E18*F18/12 -> 0 | H18: =G18*36 -> 0
A19: 2 | B19: Máscara | C19: Máscara de proteção para pó e poeira descartável | D19: unidade | E19: 24 | G19: =E19*F19/12 -> 0 | H19: =G19*36 -> 0
A20: 3 | B20: Oculos | C20: Óculos de segurança contra impactos com lente incolor, armação nylon, com proteção UVA e UVB | D20: unidade | E20: 4 | G20: =E20*F20/12 -> 0 | H20: =G20*36 -> 0
A21: 4 | B21: Protetor | C21: Protetor auditivo tipo plug de inserção com cordão, atenuação superior a de 15 DB | D21: par | E21: 4 | G21: =E21*F21/12 -> 0 | H21: =G21*36 -> 0
A23: TOTAL | G23: =SUM(G18:G21) -> 0 | H23: =SUM(H18:H22) -> 0

Sheet INSU-Material de Limpeza 
A1: Planilha Auxiliar - Módulo 5 - Insumos Diversos
B4: ITEM | C4: ESPECIFICAÇÃO | D4: UNIDADE DE MEDIDA | E4: QTDE MENSAL (A) | F4: VALOR UNITÁRIO (B) | G4: VALOR TOTAL MENSAL (C)=(A) x (B) | H4: CUSTO TOTAL (36 meses)
A5: 1 | B5: Água sanitária | C5: Água sanitária, solução aquosa a base de hipoclorito de sódio (cloro ativo), com teor entre 2,0% a 2,5%, com registro nos órgãos competentes e com validade não inferior a 6 (meses) - Frasco de 5 litros. | D5: Uni. | E5: 35 | G5: =E5*F5 -> 0 | H5: =G5*36 -> 0
A6: 2 | B6: Álcool etílico líquido - 70° | C6: Álcool líquido 70° INPM, limpador de uso geral, composto por álcool etílico e água, com registro nos órgãos competentes e com validade não inferior a 6 (meses) . Frasco de 1 litro. | D6: Uni. | E6: 50 | G6: =E6*F6 -> 0 | H6: =G6*36 -> 0
A7: 3 | B7: Álcool etílico em gel - 4 a 5 kg | C7: Álcool etílico em gel a 70° INPM, antisséptico, incolor, inodoro e neutro, com componente hidratante, preferencialmente glicerina; para higienização geral. Frasco de 4,0 a 5,0 Kg. | D7: Uni. | E7: 10 | G7: =E7*F7 -> 0 | H7: =G7*36 -> 0
A8: 4 | B8: Álcool etílico em gel - 500 g | C8: Álcool etílico em gel a 70° INPM, antisséptico, incolor, inodoro e neutro, com componente hidratante, preferencialmente glicerina; para higienização geral. Frasco de 500 g, com tampa tipo válvula pump. | D8: Uni. | E8: 30 | G8: =E8*F8 -> 0 | H8: =G8*36 -> 0
A9: 5 | B9: Alvejante | C9: Alvejante à base de hipoclorito de sódio, com concentração de cloro ativo entre 10% e 12%, solução aquosa, com registro ou notificação na ANVISA, destinado à desinfecção e alvejamento de superfícies laváveis. Embalagem em galão de 5 litros, com identificação do fabricante, lote e prazo de validade não inferior a 6 (seis) meses no ato da entrega. | D9: Uni. | E9: 8 | G9: =E9*F9 -> 0 | H9: =G9*36 -> 0
A10: 6 | B10: Aromatizador spray | C10: Aromatizador/desodorizador/neutralizador de odores aerossol, em spray, diversas fragrâncias, validade mínima de 24 meses - 360 mL. | D10: Uni. | E10: 30 | G10: =E10*F10 -> 0 | H10: =G10*36 -> 0
A11: 7 | B11: Avental de Limpeza | C11: Avental descartável confeccionado em polietileno de baixa densidade (PEBD), impermeável, resistente a rasgos e produtos químicos leves, com amarração nas costas e ajuste no pescoço, pacote com 100 Uni.s. | D11: Uni. | E11: 1 | G11: =E11*F11 -> 0 | H11: =G11*36 -> 0
A12: 8 | B12: Brilha Inox | C12: Brilha inox 500 mL. | D12: Uni. | E12: 5 | G12: =E12*F12 -> 0 | H12: =G12*36 -> 0
A13: 9 | B13: Cera líquida | C13: Cera líquida para piso, incolor, biodegradável, antiderrapante, seladora, incolor, galão com 5 L. | D13: Uni. | E13: 5 | G13: =E13*F13 -> 0 | H13: =G13*36 -> 0
A14: 10 | B14: Desinfetante de uso geral - 5 L | C14: Desinfetante de uso geral, biodegradável, ação bactericida; com registro na ANVISA/ Ministério da Saúde; fragrância suave. Frasco com 5 litros. | D14: Uni. | E14: 45 | G14: =E14*F14 -> 0 | H14: =G14*36 -> 0
A15: 11 | B15: Desodorizador sanitário (pedra sanitária) | C15: Desodorizador Sanitário em tablete sólido, composto por paradicloro benzeno, essência e corante, em suporte plástico para vaso sanitário, com peso entre 25 e 35 g. | D15: Uni. | E15: 75 | G15: =E15*F15 -> 0 | H15: =G15*36 -> 0
A16: 12 | B16: Desengraxante | C16: Detergente liquido desincrustante multiúso (desengraxante) para limpeza pesada - galão 5 L. | D16: Uni. | E16: 4 | G16: =E16*F16 -> 0 | H16: =G16*36 -> 0
... A52: 48 | B52: Neutralizador de odores concentrado | C52: Neutralizador de odores concentrado, com ação química sobre moléculas causadoras de mau odor, indicado para ambientes sanitários e áreas de resíduos, com fragrância suave, embalagem de 5 litros. | D52: Unid. | E52: 5 | G52: =E52*F52 -> 0 | H52: =G52*36 -> 0
A54: TOTAL | G54: =SUM(G5:G52) -> 0 | H54: =SUM(H2:H49) -> 0

Sheet INSU-Utensilios
A1: Planilha Auxiliar - Módulo 5 - Insumos Diversos - UTENSÍLIOS
B4: ITEM | C4: ESPECIFICAÇÃO | D4: UNIDADE | E4: VIDA ÚTIL (MESES) (A) | F4: QTDE OPERACIONAL (B) | G4: CUSTO UNITÁRIO (C) | H4: CUSTO MENSAL (D) = ((B) x (C)/(A)) | I4: CUSTO TOTAL (E)=D*36
A5: 1 | B5: Balde | C5: Balde em plástico reforçado em polipropileno (PP) com alça de metal e capacidade para 15 litros. | D5: Unidade | E5: 12 | F5: 20 | H5: =(F5*G5)/E5 -> 0 | I5: =H5*36 -> 0
A6: 2 | B6: Borrifador | C6: Borrifador de plástico tipo spray, contendo bico borrifador, com capacidade para 500 mL. | D6: Unidade | E6: 6 | F6: 20 | H6: =(F6*G6)/E6 -> 0 | I6: =H6*36 -> 0
A7: 3 | B7: Coletor perfurocortante | C7: Coletor de material perfurocortante, descartável, de papelão, com alças rígidas e tampa, revestimento interno em polietileno de alta densidade, com identificação de resíduo infectante, com capacidade de 7 L. | D7: Unidade | E7: 3 | F7: 10 | H7: =(F7*G7)/E7 -> 0 | I7: =H7*36 -> 0
A8: 4 | B8: Conjunto Mop Pó | C8: Conjunto Mop Pó plano, tamanho 40 cm, armação dobrável, produzido em polipropileno e aço galvanizado, cabo de alumínio anodizado com aproximadamente 1,40m, luva composta por fios 100% acrílicos com boa retenção de partículas. | D8: Unidade | E8: 12 | F8: 10 | H8: =(F8*G8)/E8 -> 0 | I8: =H8*36 -> 0
A9: 5 | B9: Conjunto Mop Úmido | C9: Conjunto Mop Úmido tipo profissional, esfregão, carrinho confeccionado em polipropileno, possuir 2 (dois) baldes com capacidade aproximada de 20 litros cada, com rodízios, sistema espremedor, incluso cabo de alumínio com comprimento aproximado de 1,40m, destinado à limpeza úmida de pisos e possuir todos os itens necessários para a utilização. | D9: Unidade | E9: 12 | F9: 10 | H9: =(F9*G9)/E9 -> 0 | I9: =H9*36 -> 0
A10: 6 | B10: Desentupidor de Pia | C10: Desentupidor de pia com base de borracha e cabo de madeira reto lixado ou injetado de 15 a 20 cm. | D10: Unidade | E10: 6 | F10: 5 | H10: =(F10*G10)/E10 -> 0 | I10: =H10*36 -> 0
A11: 7 | B11: Desentupidor de Vaso | C11: Desentupidor de Vaso Sanitário com base de borracha e cabo de madeira reto lixado ou plastificado de 50 a 70 cm. | D11: Unidade | E11: 6 | F11: 5 | H11: =(F11*G11)/E11 -> 0 | I11: =H11*36 -> 0
A12: 8 | B12: Disco para Enceradeira | C12: Disco para enceradeira, em fibra sintética, com abrasivo, cor verde, medindo 350 mm. | D12: Unidade | E12: 3 | F12: 4 | H12: =(F12*G12)/E12 -> 0 | I12: =H12*36 -> 0
A13: 9 | B13: Disco para Enceradeira | C13: Disco para enceradeira, para polimento, branco, medindo 350 mm. | D13: Unidade | E13: 3 | F13: 4 | H13: =(F13*G13)/E13 -> 0 | I13: =H13*36 -> 0
A14: 10 | B14: Dispenser para Detergente | C14: Dispenser para detergente e reservatório para esponja, com pump/válvula dosadora, para uso na copa,feito em plástico resistente, com capacidade para 650 mL. | D14: Unidade | E14: 24 | F14: 22 | H14: =(F14*G14)/E14 -> 0 | I14: =H14*36 -> 0
A15: 11 | B15: Dispenser para Papel Higiênico | C15: Dispenser para papel higiênico rolão branco manual. Com chave de (des)travamento. Tamanho aproximado de 27 cm x 29 cm x 12,5 cm, com capacidade de 300/500 metros. | D15: Unidade | E15: 24 | F15: 150 | H15: =(F15*G15)/E15 -> 0 | I15: =H15*36 -> 0
A16: 12 | B16: Dispenser para Papel Toalha | C16: Dispenser para papel toalha bobinado branco com alavanca frontal . Com capacidade para bobinas de até 20 cm de diâmetro, com puxa folhas com 15 cm de comprimento a cada acionamento da alavanca. Com chave de destravamento. Tamanho aproximado de 26,5 cm x 35,5 com x 29,5 cm. | D16: Unidade | E16: 24 | F16: 57 | H16: =(F16*G16)/E16 -> 0 | I16: =H16*36 -> 0
... A53: 49 | B53: Cabo extensor | C53: Cabo extensor telescópico, em alumínio ou material leve e resistente, com comprimento ajustável, compatível com acessórios de limpeza em altura. | D53: Unidade | E53: 12 | F53: 3 | H53: =(F53*G53)/E53 -> 0 | I53: =H53*36 -> 0
A55: TOTAL | H55: =SUM(H5:H53) -> 0 | I55: =SUM(I5:I53) -> 0

Sheet INSU-Equipamentos 
A1: Planilha Auxiliar - Módulo 5 - Insumos Diversos - EQUIPAMENTOS PARA LIMPEZA
B4: ITEM | C4: ESPECIFICAÇÃO | D4: UNIDADE | E4: QTD (B) | F4: VALOR UNITÁRIO | G4: VALOR TOTAL | H4: TAXA DE DEPRECIAÇÃO ANUAL | I4: VALOR DA DEPRECIAÇÃO UNITÁRIO | J4: VALOR TOTAL COM DEPRECIAÇÃO | K4: VALOR MENSAL | L4: VALOR TOTAL (36 meses)
A5: 1 | B5: Aspirador de pó | C5: Aspirador de pó/água profissional, com acessórios necessários, Compacto, 30 Litros ou mais, com Filtro Lavável, 220V. | D5: Unidade | E5: 2 | G5: =F5*E5 -> 0 | H5: 0.2 | I5: =F5*H5 -> 0 | J5: =I5*E5 -> 0 | K5: =J5/12 -> 0 | L5: =K5*36 -> 0
A6: 2 | B6: Carro funcional de limpeza | C6: Carro multifuncional para limpeza com estrutura em polipropileno leve, medindo cerca de 112 cm x 47 cm x 93 cm, resistente e durável, com rodas, 3 prateleiras robustas e saco coletor em vinil com capacidade de 90 litros ou 50 kg. | D6: Unidade | E6: 10 | G6: =F6*E6 -> 0 | H6: 0.2 | I6: =F6*H6 -> 0 | J6: =I6*E6 -> 0 | K6: =J6/12 -> 0 | L6: =K6*36 -> 0
A7: 3 | B7: Enceradeira | C7: Enceradeira Industrial, potência de 550 W, 110/220V, 175 rpm, comprimento do fio de no mínimo 12 metros, altura de 110 cm, carcaça em alumínio fundido, suporte de disco com manta instalok, trava de segurança, escova de 350mm. | D7: Unidade | E7: 2 | G7: =F7*E7 -> 0 | H7: 0.2 | I7: =F7*H7 -> 0 | J7: =I7*E7 -> 0 | K7: =J7/12 -> 0 | L7: =K7*36 -> 0
A8: 4 | B8: Escada | C8: Escada articulada de alumínio multifuncional 4x4, 16 degraus, 4,70 metros de altura. | D8: Unidade | E8: 2 | G8: =F8*E8 -> 0 | H8: 0.2 | I8: =F8*H8 -> 0 | J8: =I8*E8 -> 0 | K8: =J8/12 -> 0 | L8: =K8*36 -> 0
A9: 5 | B9: Lavadora de alta pressão | C9: Lavadora de alta pressão bivolt (110/220V), pressão (bar/psi) de 103/1500 e frequência. | D9: Unidade | E9: 1 | G9: =F9*E9 -> 0 | H9: 0.2 | I9: =F9*H9 -> 0 | J9: =I9*E9 -> 0 | K9: =J9/12 -> 0 | L9: =K9*36 -> 0
A11: TOTAL | K11: =SUM(K5:K9) -> 0 | L11: =SUM(L5:L9) -> 0

Sheet PROPOSTA-ITEM5
A1: PROPOSTA DE PREÇOS - ITEM 5
A4: ITEM | B4: SERVIÇO | C4: DESCRIÇÃO | D4: UNIDADE DE MEDIDA | E4: QUANTIDADE DE POSTOS (A) | F4: QUANTIDADE DE EMPREGADO POR POSTOS (B) | G4: QUANTIDADE TOTAL DE EMPREGADOS (C)= (A) x (B) | H4: VALOR MENSAL POR EMPREGADO R$ (D) | I4: VALOR MENSAL R$ (E)= A X D | J4: VALOR ANUAL R$ (F)= (E)x12 (12 meses) | K4: VALOR TOTAL R$ (G)= (E)x36 (36 meses)
A5: 5 | B5: Prestação de serviços, jardinagem e paisagismo. | C5: Prestação contínua de serviços de jardinagem e paisagismo, com fornecimento de materiais, insumos, ferramentas e equipamentos necessários, abrangendo manutenção e conservação de jardins e áreas verdes (poda, roçagem/capina, corte de grama, adubação, replantio e limpeza), conforme rotinas, padrões de qualidade e orientações da CONTRATANTE. | D5: POSTO DE TRABALHO | E5: 2 | F5: 1 | G5: =E5*F5 -> 2 | H5: ='PCFP ITEM5'!H145 -> 0 | I5: =G5*H5 -> 0 | J5: =I5*12 -> 0 | K5: =I5*36 -> 0

Sheet PCFP ITEM5
B2: PLANILHA DE CUSTOS E FORMAÇÃO DE PREÇOS
B4: Nº Processo: | D4: 202500005037987
B5: Contratação: | D5: 117539
B6: Orgão: | D6: SECRETARIA DE ESTADO DE ADMINISTRAÇÃO - SEAD
B7: Descrição do Serviço | D7: Prestação contínua de serviços de jardinagem e paisagismo, com fornecimento de materiais, insumos, ferramentas e equipamentos necessários, abrangendo manutenção e conservação de jardins e áreas verdes (poda, roçagem/capina, corte de grama, adubação, replantio e limpeza), conforme rotinas, padrões de qualidade e orientações da CONTRATANTE.
B9: DISCRIMINAÇÃO DOS SERVIÇOS (DADOS REFERENTES À CONTRATAÇÃO)
B10: A | C10: Data da apresentação da proposta
B11: B | C11: Acordo, Convenção ou Sentença Normativa em dissídio Coletivo
B12: C | C12: Número de meses de execução contratual | G12: 36 meses
B14: IDENTIFICAÇÃO DO SERVIÇO
B15: Tipo de Serviço | G15: Cidade para Execução dos serviços
B16: ='PROPOSTA-ITEM5'!B5 -> Prestação de serviços, jardinagem e paisagismo. | G16: Goiânia
B18: MÃO-DE-OBRA
B19: Dados Complementares para Composição dos Custos Referentes à Mão-de-obra
B20: 1 | C20: Categoria Profissional - Jornada | G20: Jardineiro - 44h
B21: 2 | C21: Salário Normativo da Categoria Profissional - Piso salarial
B22: 3 | C22: Classificação Brasileira de Ocupações (CBO) | G22: 6220-10
B23: 4 | C23: Data base da categoria (dia/mês/ano)
B25: MÓDULO 1 - COMPOSIÇÃO DA REMUNERAÇÃO
B26: Item | C26: Descrição | G26: % | H26: Valor (R$)
B27: A | C27: Salário Base | H27: =G21 -> 0
B28: B | C28: Adicional de Periculosidade | H28: =H27*G28 -> 0
B29: C | C29: Adicional de Insalubridade | H29: =H27*G29 -> 0
B30: D | C30: Adicional Noturno | H30: =(((H27+H28)/220*G30)*105) -> 0
B31: E | C31: Adicional de Hora Noturna Reduzida | H31: 0
B32: F | C32: Outros | H32: 0
B33: TOTAL MÓDULO 1 | H33: =SUM(H27:H32) -> 0
B35: MÓDULO 2 - ENCARGOS E BENEFÍCIOS ANUAIS, MENSAIS E DIÁRIOS
B36: Submódulo 2.1 - 13º Salário e Adicional de Férias
B37: item | C37: Descrição | G37: % | H37: VALOR (R$)
B38: A | C38: 13º Salário | G38: 0.0833 | H38: =$H$33*G38 -> 0
B39: B | C39: Adicional de Férias | G39: 0.0278 | H39: =$H$33*G39 -> 0
B40: Total do Submódulo 2.1 | H40: =SUM(H38:H39) -> 0
B41: Nota 1: Como a planilha de custos e formação de preços é calculada mensalmente, provisiona-se proporcionalmente 1/12 (um doze avos) dos valores referentes a gratificação natalina, férias e adicional de férias. (Redação dada pela Instrução Normativa nº 7, de 2018)
B42: Nota 2: O adicional de férias contido no Submódulo 2.1 corresponde a 1/3 (um terço) da remuneração que por sua vez é divido por 12 (doze) conforme Nota 1 acima.
B43: Nota 3: Levando em consideração a vigência contratual prevista no art. 57 da Lei nº 8.666, de 23 de junho de 1993, a rubrica férias tem como objetivo principal suprir a necessidade do pagamento das férias remuneradas ao final do contrato de 12 meses. Esta rubrica, quando da prorrogação contratual, torna-se custo não renovável.
B45: Submódulo 2.2 - Encargos Previdenciários, FGTS e Outras Contribuições
B46: Item | C46: Descrição | G46: BASE DE CALCULO % | H46: VALOR (R$)
B47: A | C47: INSS | G47: 0.2 | H47: =($H$33+$H$40)*G47 -> 0
B48: B | C48: Salário Educação | G48: 0.025 | H48: =($H$33+$H$40)*G48 -> 0
...

Sheet RESUMO - INSUMOS JARDI.
A1: RESUMO MÓDULO 5 - INSUMOS DIVERSOS
A4: 5 | B4: INSUMOS DIVERSOS | D4: VALOR MENSAL (R$) | E4: VALOR MENSAL POR EMPREGADO (R$) | F4: VALOR TOTAL (36 meses) (R$)
A5: (A) | B5: Uniformes | D5: ='Uniformes Jardim.'!G12 -> 0 | E5: =D5 -> 0 | F5: =D5*36 -> 0
A6: (B) | B6: EPI | D6: ='Uniformes Jardim.'!G26 -> 0 | E6: =D6 -> 0 | F6: =D6*36 -> 0
A7: (C) | B7: Insumos, Equipamentos e Utensílios | D7: =SUM('INSU-Equipa-Utensi'!G11+'INSU-Equipa-Utensi'!H24+'INSU-Equipa-Utensi'!K32) -> 0 | E7: =D7/'PROPOSTA-ITEM5'!E5 -> 0 | F7: =D7*36 -> 0
A8: Total de Insumos diversos | D8: =SUM(D5:D7) -> 0 | E8: =SUM(E5:E7) -> 0 | F8: =SUM(F5:F7) -> 0

Sheet Uniformes Jardim.
A1: Planilha Auxiliar - Módulo 5 - Insumos Diversos - UNIFORME - JARDINEIRO
A4: ITEM | B4: PEÇA | C4: DESCRIÇÃO | D4: Unid. | E4: QTDE ANUAL (A) | F4: CUSTO UNITÁRIO (B) | G4: CUSTO MENSAL (C)=((B)x(A)/12) | H4: CUSTO TOTAL (D) = (C)x36
A5: 1 | B5: Calça | C5: Calça em tecido resistente (brim ou equivalente), com bolsos laterais tipo cargo, costuras reforçadas e adequada para atividades externas. | D5: Unidade | E5: 4 | G5: =(E5*F5)/12 -> 0 | H5: =G5*36 -> 0
A6: 2 | B6: Camiseta | C6: Camiseta em malha fria tipo PV, manga longa com proteção contra radiação solar (preferencialmente com fator UV), gola V ou careca, com identificação da empresa. | D6: Unidade | E6: 4 | G6: =(E6*F6)/12 -> 0 | H6: =G6*36 -> 0
A7: 3 | B7: Boné | C7: Boné confeccionado em tecido de brim, com abas laterais, com logomarca da empresa. | D7: Unidade | E7: 4 | G7: =(E7*F7)/12 -> 0 | H7: =G7*36 -> 0
A8: 4 | B8: Meia | C8: Meia em algodão. | D8: Par | E8: 6 | G8: =(E8*F8)/12 -> 0 | H8: =G8*36 -> 0
A9: 5 | B9: Crachá | C9: Crachá de identificação com fotografia | D9: Unidade | E9: 1 | G9: =(E9*F9)/12 -> 0 | H9: =G9*36 -> 0
A10: 6 | B10: Botina de segurança | C10: Botina de segurança, com solado antiderrapante, biqueira de proteção (aço ou composite), resistente à umidade e adequada para atividades em áreas externas. | D10: Par | E10: 2 | G10: =(E10*F10)/12 -> 0 | H10: =G10*36 -> 0
A12: TOTAL | G12: =SUM(G5:G10) -> 0 | H12: =SUM(H5:H10) -> 0
A15: Planilha Auxiliar - Módulo 5 - Insumos Diversos - EPI
B18: Descrição | C18: Especificação mínima | D18: Unidade de Medida | E18: Quantidade ANUAL | F18: CUSTO UNITÁRIO (B) | G18: CUSTO MENSAL (C)=((B)x(A)/12) | H18: CUSTO TOTAL (D) = (C)x36
A19: 1 | B19: Óculos de proteção | C19: Lente incolor, proteção lateral contra partículas | D19: un. | E19: 6 | G19: =E19*F19/12 -> 0 | H19: =G19*36 -> 0
A20: 2 | B20: Protetor auricular | C20: Tipo plug ou concha, para uso com roçadeira/soprador | D20: un. | E20: 12 | G20: =E20*F20/12 -> 0 | H20: =G20*36 -> 0
A21: 3 | B21: Respirador PFF2 | C21: Para poeira/partículas (roçada, varrição, manuseio de resíduos) | D21: un. | E21: 36 | G21: =E21*F21/12 -> 0 | H21: =G21*36 -> 0
A22: 4 | B22: Perneira | C22: Material resistente (raspa ou similar) para roçada/capina | D22: par | E22: 1 | G22: =E22*F22/12 -> 0 | H22: =G22*36 -> 0
A23: 5 | B23: Luva de proteção | C23: Luva de segurança confeccionada em material resistente (raspa, vaqueta ou nitrílica reforçada), adequada para atividades de jardinagem e manuseio de ferramentas. | D23: par | E23: 6 | G23: =E23*F23/12 -> 0 | H23: =G23*36 -> 0
A24: 6 | B24: Chapéu tipo árabe | C24: Chapéu ou boné tipo árabe, com proteção para nuca, confeccionado em tecido leve e respirável. | D24: un. | E24: 2 | G24: =E24*F24/12 -> 0 | H24: =G24*36 -> 0
A26: Total | G26: =SUM(G19:G24) -> 0 | H26: =SUM(H19:H25) -> 0

Sheet INSU-Equipa-Utensi
A1: Planilha Auxiliar - Módulo 5 - Insumos Diversos - Equipamentos e Utensílios
A4: INSUMOS - FORMECIMENTO MENSAL
B6: ITEM | C6: ESPECIFICAÇÃO | D6: UNIDADE DE MEDIDA | E6: QTDE MENSAL (A) | F6: VALOR UNITÁRIO (B) | G6: VALOR TOTAL MENSAL (C)=(A) x (B) | H6: CUSTO TOTAL (36 meses)
A7: 1 | B7: Adubo orgânico | C7: Adubo orgânico, acondicionado em saco de 25 kg, indicado para manutenção de áreas verdes, com composição estável e livre de contaminantes. | D7: saco (25 kg) | E7: 1 | G7: =F7*E7 -> 0 | H7: =G7*36 -> 0
A8: 2 | B8: Combustível | C8: Combustível tipo gasolina comum, destinado ao abastecimento de cortadores de grama, roçadeiras e sopradores, devendo atender às especificações da ANP, sendo fornecido conforme demanda operacional. | D8: litro (L) | E8: 10 | G8: =F8*E8 -> 0 | H8: =G8*36 -> 0
A9: 3 | B9: Fertilizante | C9: Fertilizante mineral ou organomineral, com composição balanceada de macro e micronutrientes (NPK), indicado para manutenção de áreas verdes, acondicionado em embalagem de 25 kg, com identificação do fabricante e instruções de uso. | D9: embalagem (25 kg) | E9: 0.25 | G9: =F9*E9 -> 0 | H9: =G9*36 -> 0
A10: 4 | B10: Fio de nylon | C10: Fio de nylon para carretel de roçadeira, diâmetro 3 mm, aprox. 225 m | D10: rolo (225 m) | E10: 0.5 | G10: =F10*E10 -> 0 | H10: =G10*36 -> 0
A11: TOTAL | G11: =SUM(G7:G10) -> 0 | H11: =SUM(H7:H10) -> 0
A13: UTENSÍLIOS
B15: ITEM | C15: ESPECIFICAÇÃO | D15: UNIDADE DE MEDIDA | E15: VIDA ÚTIL (meses) (A) | F15: QTDE FÍSICA EM USO (B) | G15: VALOR UNITÁRIO (C) | H15: VALOR MENSAL (D) = (B)*(C)/(A) | I15: VALOR TOTAL (36 )
A16: 1 | B16: Enxada | C16: Enxada em aço, largura aprox. 25 cm, com cabo de aprox. 1,5 m. | D16: un. | E16: 12 | F16: 2 | H16: =(F16*G16)/E16 -> 0 | I16: =H16*36 -> 0
A17: 2 | B17: Enxadinha / Sacho | C17: Enxadinha tipo sacho (2 pontas), com cabo de aprox. 60 cm. | D17: un. | E17: 12 | F17: 2 | H17: =(F17*G17)/E17 -> 0 | I17: =H17*36 -> 0
A18: 3 | B18: Lima | C18: Lima chata em aço carbono, corte duplo cruzado, com cabo, aprox. 25 cm. (não ficou claro se é murça ou bastarda) | D18: un. | E18: 6 | F18: 2 | H18: =(F18*G18)/E18 -> 0 | I18: =H18*36 -> 0
A19: 4 | B19: Mangueira | C19: Mangueira para jardinagem em PVC reforçado, com no mínimo 3 camadas, diâmetro de 1/2", resistente à pressão e intempéries, com engates rápidos e esguicho regulável, comprimento mínimo de 50 metros. | D19: un. | E19: 12 | F19: 1 | H19: =(F19*G19)/E19 -> 0 | I19: =H19*36 -> 0
A20: 5 | B20: Pá para lixo | C20: Pá para coleta de resíduos, em metal reforçado, com cabo ≥ 60 cm. | D20: un. | E20: 6 | F20: 2 | H20: =(F20*G20)/E20 -> 0 | I20: =H20*36 -> 0
A21: 6 | B21: Rastelo | C21: Rastelo metálico (aprox. 22 dentes), com cabo, para ajuntamento de folhas/grama. | D21: un. | E21: 12 | F21: 2 | H21: =(F21*G21)/E21 -> 0 | I21: =H21*36 -> 0
A22: 7 | B22: Tesoura (poda) | C22: Tesoura de poda profissional, lâmina metálica, punho ergonômico. | D22: un. | E22: 12 | F22: 2 | H22: =(F22*G22)/E22 -> 0 | I22: =H22*36 -> 0
A23: 8 | B23: Vassoura gari | C23: Vassoura tipo gari (piaçava), aprox. 40 cm, para áreas externas. | D23: un. | E23: 3 | F23: 2 | H23: =(F23*G23)/E23 -> 0 | I23: =H23*36 -> 0
A24: TOTAL | H24: =SUM(H16:H23) -> 0 | I24: =SUM(I16:I23) -> 0
A26: EQUIPAMENTOS
B28: ITEM | C28: ESPECIFICAÇÃO | D28: UNIDADE DE MEDIDA | E28: QTD (B) | F28: VALOR UNITÁRIO | G28: VALOR TOTAL | H28: TAXA DE DEPRECIAÇÃO ANUAL | I28: VALOR DA DEPRECIAÇÃO UNITÁRIO | J28: VALOR TOTAL COM DEPRECIAÇÃO | K28: VALOR MENSAL | L28: VALOR TOTAL (36 meses)
A29: 1 | B29: Roçadeira de grama | C29: Roçadeira profissional, movida a gasolina ou elétrica, com potência compatível para uso contínuo, equipada com carretel para fio de nylon e lâmina metálica (mínimo 3 pontas), com sistema de segurança e acessórios necessários para operação. | D29: un. | E29: 1 | G29: =F29*E29 -> 0 | H29: 0.2 | I29: =H29*F29 -> 0 | J29: =I29*E29 -> 0 | K29: =J29/12 -> 0 | L29: =K29*36 -> 0
A30: 2 | B30: Soprador | C30: Soprador/aspirador/triturador de folhas, potência mínima de 2.000 W (elétrico) ou equivalente a combustão, com coletor e sistema de trituração. | D30: un. | E30: 2 | G30: =F30*E30 -> 0 | H30: 0.2 | I30: =H30*F30 -> 0 | J30: =I30*E30 -> 0 | K30: =J30/12 -> 0 | L30: =K30*36 -> 0
A32: TOTAL | K32: =SUM(K29:K30) -> 0 | L32: =SUM(L29:L30) -> 0

Sheet PROPOSTA-ITEM6
A1: PROPOSTA DE PREÇOS - ITEM 6
A4: ITEM | B4: SERVIÇO | C4: DESCRIÇÃO | D4: UNIDADE DE MEDIDA | E4: QUANTIDADE DE POSTOS (A) | F4: QUANTIDADE DE EMPREGADO POR POSTOS (B) | G4: QUANTIDADE TOTAL DE EMPREGADOS (C)= (A) x (B) | H4: VALOR MENSAL POR EMPREGADO R$ (D) | I4: VALOR MENSAL DO POSTO R$ (E)= A X D | J4: VALOR ANUAL R$ (F)= (E)x12 (12 meses) | K4: VALOR TOTAL R$ (G)= (E)x36 (36 meses)
A5: 6 | B5: Terceirização de mão de obra, brigadista - bombeiro civil, 12 x 36 horas semanais, diurno | C5: Prestação contínua de serviços de brigada de incêndio e bombeiro civil, com fornecimento de uniformes, Equipamentos de Proteção Individual (EPIs), ferramentas e materiais necessários, abrangendo prevenção e combate a princípios de incêndio, inspeção de equipamentos de segurança, planos de evacuação e abandono de área, pronto atendimento em primeiros socorros e controle de riscos ambientais, conforme rotinas, normas técnicas aplicáveis, padrões de qualidade e orientações da CONTRATANTE. | D5: POSTO DE TRABALHO | E5: 1 | F5: 2 | G5: =E5*F5 -> 2 | H5: ='PCFP ITEM6'!H145 -> 0 | I5: =G5*H5 -> 0 | J5: =I5*12 -> 0 | K5: =I5*36 -> 0

Sheet PCFP ITEM6
B2: PLANILHA DE CUSTOS E FORMAÇÃO DE PREÇOS
B4: Nº Processo: | D4: 202500005037987
B5: Contratação: | D5: 117539
B6: Orgão: | D6: SECRETARIA DE ESTADO DE ADMINISTRAÇÃO - SEAD
B7: Descrição do Serviço | D7: Prestação contínua de serviços de brigada de incêndio e bombeiro civil, com fornecimento de uniformes, Equipamentos de Proteção Individual (EPIs), ferramentas e materiais necessários, abrangendo prevenção e combate a princípios de incêndio, inspeção de equipamentos de segurança, planos de evacuação e abandono de área, pronto atendimento em primeiros socorros e controle de riscos ambientais, conforme rotinas, normas técnicas aplicáveis, padrões de qualidade e orientações da CONTRATANTE.
B9: DISCRIMINAÇÃO DOS SERVIÇOS (DADOS REFERENTES À CONTRATAÇÃO)
B10: A | C10: Data da apresentação da proposta
B11: B | C11: Acordo, Convenção ou Sentença Normativa em dissídio Coletivo
B12: C | C12: Número de meses de execução contratual | G12: 36 meses
B14: IDENTIFICAÇÃO DO SERVIÇO
B15: Tipo de Serviço | G15: Cidade para Execução dos serviços
B16: Terceirização de mão de obra, brigadista - bombeiro civil, 12 x 36 horas semanais, diurno. | G16: Goiânia
B18: MÃO-DE-OBRA
B19: Dados Complementares para Composição dos Custos Referentes à Mão-de-obra
B20: 1 | C20: Categoria Profissional - Jornada | G20: Bombeiro Civil - 12x36
B21: 2 | C21: Salário Normativo da Categoria Profissional - Piso salarial
B22: 3 | C22: Classificação Brasileira de Ocupações (CBO) | G22: 5171-10
B23: 4 | C23: Data base da categoria (dia/mês/ano)
B25: MÓDULO 1 - COMPOSIÇÃO DA REMUNERAÇÃO
B26: Item | C26: Descrição | G26: % | H26: Valor (R$)
B27: A | C27: Salário Base | H27: =G21 -> 0
B28: B | C28: Adicional de Periculosidade | H28: =H27*G28 -> 0
B29: C | C29: Adicional de Insalubridade | H29: =H27*G29 -> 0
B30: D | C30: Adicional Noturno | H30: =(((H27+H28)/220*G30)*105) -> 0
B31: E | C31: Adicional de Hora Noturna Reduzida | H31: 0
B32: F | C32: Outros | H32: 0
B33: TOTAL MÓDULO 1 | H33: =SUM(H27:H32) -> 0
B35: MÓDULO 2 - ENCARGOS E BENEFÍCIOS ANUAIS, MENSAIS E DIÁRIOS
B36: Submódulo 2.1 - 13º Salário e Adicional de Férias
B37: item | C37: Descrição | G37: % | H37: VALOR (R$)
B38: A | C38: 13º Salário | G38: 0.0833 | H38: =$H$33*G38 -> 0
B39: B | C39: Adicional de Férias | G39: 0.0278 | H39: =$H$33*G39 -> 0
B40: Total do Submódulo 2.1 | H40: =SUM(H38:H39) -> 0
B41: Nota 1: Como a planilha de custos e formação de preços é calculada mensalmente, provisiona-se proporcionalmente 1/12 (um doze avos) dos valores referentes a gratificação natalina, férias e adicional de férias. (Redação dada pela Instrução Normativa nº 7, de 2018).
B42: Nota 2: O adicional de férias contido no Submódulo 2.1 corresponde a 1/3 (um terço) da remuneração que por sua vez é divido por 12 (doze) conforme Nota 1 acima.
B43: Nota 3: Levando em consideração a vigência contratual prevista no art. 57 da Lei nº 8.666, de 23 de junho de 1993, a rubrica férias tem como objetivo principal suprir a necessidade do pagamento das férias remuneradas ao final do contrato de 12 meses. Esta rubrica, quando da prorrogação contratual, torna-se custo não renovável.
B45: Submódulo 2.2 - Encargos Previdenciários, FGTS e Outras Contribuições
B46: Item | C46: Descrição | G46: BASE DE CALCULO % | H46: VALOR (R$)
B47: A | C47: INSS | G47: 0.2 | H47: =($H$33+$H$40)*G47 -> 0
B48: B | C48: Salário Educação | G48: 0.025 | H48: =($H$33+$H$40)*G48 -> 0
...

Sheet RESUMO - INSUMOS Bombeiros
A1: RESUMO MÓDULO 5 - INSUMOS DIVERSOS
A4: 5 | B4: INSUMOS DIVERSOS | D4: VALOR MENSAL (R$) | E4: VALOR MENSAL POR EMPREGADO (R$) | F4: VALOR TOTAL (36 meses) (R$)
A5: (A) | B5: Uniformes e EPI | D5: ='Uniformes Bombeiro'!G18 -> 0 | E5: =D5 -> 0 | F5: =D5*36 -> 0
A6: (B) | B6: INSUMOS - FORMECIMENTO MENSAL | D6: ='INSU-Equipa-Utensi BC'!H14 -> 0 | E6: =D6/2 -> 0 | F6: =D6*36 -> 0
A7: (C) | B7: UTENSÍLIOS | D7: ='INSU-Equipa-Utensi BC'!H37 -> 0 | E7: =D7/2 -> 0 | F7: =D7*36 -> 0
A8: (D) | B8: EQUIPAMENTOS | D8: ='INSU-Equipa-Utensi BC'!H47 -> 0 | E8: =D8/2 -> 0 | F8: =D8*36 -> 0
A9: Total de Insumos diversos | D9: =SUM(D5:D8) -> 0 | E9: =SUM(E5:E8) -> 0 | F9: =SUM(F5:F8) -> 0

Sheet Uniformes Bombeiro
A1: Planilha Auxiliar - Módulo 5 - Insumos Diversos - UNIFORME/EPI
A4: ITEM | B4: PEÇA | C4: DESCRIÇÃO | D4: Unid. | E4: QTDE ANUAL (A) | F4: CUSTO UNITÁRIO (B) | G4: CUSTO MENSAL (C)=((B)x(A)/12) | H4: CUSTO TOTAL (D) = (C)x36
A5: 1 | B5: Gandola | C5: GANDOLA BRIGADISTA, EM TECIDO RIPSTOP, NO PADRÃO ESTIPULADO PELO CBMGO | D5: Unidade | E5: 4 | G5: =(E5*F5)/12 -> 0 | H5: =G5*36 -> 0
A6: 2 | B6: Calça | C6: CALÇA TÁTICA, EM TECIDO RIPSTOP, NO PADRÃO ESTIPULADO PELO CBMGO | D6: Unidade | E6: 4 | G6: =(E6*F6)/12 -> 0 | H6: =G6*36 -> 0
A7: 3 | B7: Cinto | C7: CINTO TÁTICO, CONFECCIONADO EM NYLON , COM FIVELA E PONTEIRA PRATA | D7: Unidade | E7: 2 | G7: =(E7*F7)/12 -> 0 | H7: =G7*36 -> 0
A8: 4 | B8: Camiseta | C8: CAMISETA MANGA CURTA COM BAINHA, 100% ALGODÃO, NO PADRÃO ESTIPULADO PELO CBMGO | D8: Unidade | E8: 4 | G8: =(E8*F8)/12 -> 0 | H8: =G8*36 -> 0
A9: 5 | B9: Coturno | C9: COTURNO CABEDAL EM COURO NOBUCK HIDROFUGADO, COM ISOLAMENTO TÉRMICO EM EVA; REFORÇO INTERNO DE MATERIAL TERMOPLÁSTICO LEVE E RESISTENTE, NO BICO E CALCANHAR, SOLADO DE BORRACHA MACIO, VULCANIZADO AO CABEDAL, RESISTENTE À CORRENTE ELÉTRICA; VEDAÇÃO RESISTENTE À ÁGUA OU 100% IMPERMEÁVEL | D9: Par | E9: 2 | G9: =(E9*F9)/12 -> 0 | H9: =G9*36 -> 0
A10: 6 | B10: Crachá | C10: Crachá de identificação com fotografia | D10: Unidade | E10: 1 | G10: =(E10*F10)/12 -> 0 | H10: =G10*36 -> 0
A11: 7 | B11: Meia | C11: MEIA CONFECCIONADA EM ALGODÃO E LYCRA | D11: Par | E11: 4 | G11: =(E11*F11)/12 -> 0 | H11: =G11*36 -> 0
A12: 8 | B12: Capacete | C12: CAPACETE DE BRIGADA DE INCÊNDIO, CLASSE B, NO PADRÃO ESTIPULADO PELA NBR 8221 | D12: Unidade | E12: 1 | G12: =(E12*F12)/12 -> 0 | H12: =G12*36 -> 0
A13: 9 | B13: Óculos | C13: ÓCULOS DE PROTEÇÃO INDIVIDUAL, COM LENTE EM POLICARBONATO INCOLOR, VEDAÇÃO CONTRA POEIRAS E PARTÍCULAS VOLANTES, TRATAMENTO ANTIEMBAÇANTE, COM CA VÁLIDO. | D13: Unidade | E13: 6 | G13: =(E13*F13)/12 -> 0 | H13: =G13*36 -> 0
A14: 10 | B14: Máscara | C14: MÁSCARA CIRÚRGICA DESCARTÁVEL, FORMATO RETANGULAR, COM ELÁSTICO, DE POLIPROPILENO, COR BRANCA, CAIXA COM 50 UNIDADES | D14: Pacote | E14: 3 | G14: =(E14*F14)/12 -> 0 | H14: =G14*36 -> 0
A15: 11 | B15: Capuz | C15: CAPUZ BALACLAVA ANTICHAMAS CONFECCIONADO EM TECIDO ARAMIDA OU SIMILAR COM PROPRIEDADES INTRINSECAMENTE RETARDANTES À CHAMA MODELO INTEGRAL QUE COBRE CABEÇA PESCOÇO E PARTE DO OMBRO COM COSTURAS REFORÇADAS CONFORME NORMA NBR 15292 E NR-6 | D15: Unidade | E15: 2 | G15: =(E15*F15)/12 -> 0 | H15: =G15*36 -> 0
A16: 12 | B16: Luva | C16: LUVA DE COURO ANTICHAMAS CONFECCIONADA EM COURO FLAME RETARDANTE COM FORRO INTERNO RESISTENTE AO CALOR E COSTURAS EM LINHA DE PARA-ARAMIDA COM PUNHO LONGO E ELÁSTICO DE AJUSTE CONFORME NBR 15291 E CERTIFICAÇÃO COMO EPI SEGUNDO NR-6 | D16: Unidade | E16: 0.5 | G16: =(E16*F16)/12 -> 0 | H16: =G16*36 -> 0
A18: TOTAL | G18: =SUM(G5:G16) -> 0 | H18: =SUM(H5:H16) -> 0

Sheet INSU-Equipa-Utensi BC
A1: Planilha Auxiliar - Módulo 5 - Insumos Diversos - Equipamentos e Utensílios
A4: INSUMOS - FORMECIMENTO TRIMESTRAL
B6: ITEM | C6: ESPECIFICAÇÃO | D6: UNIDADE DE MEDIDA | E6: QTDE TRIMESTRAL (A) | F6: VALOR UNITÁRIO (B) | G6: VALOR TOTAL TRIMESTRAL (C)=(A) x (B) | H6: VALOR MENSAL (D) = (C)/3 | I6: CUSTO TOTAL (36 meses)
A7: 1 | B7: Luva Nitrílica | C7: LUVA NITRÍLICA PARA PROCEDIMENTO NÃO CIRÚRGICO, DESCARTÁVEL, AMBIDESTRA, TAMANHO G, SEM PÓ, COM REGULARIZAÇÃO ANVISA E CA VÁLIDO | D7: Caixa (100 un.) | E7: 1 | G7: =F7*E7 -> 0 | H7: =G7/3 -> 0 | I7: =G7*36 -> 0
A8: 2 | B8: Solução Fisiológica | C8: SOLUÇÃO FISIOLÓGICA DE CLORETO DE SÓDIO 0,9% , COM REGISTRO ANVISA. FRASCO DE 250 ML. | D8: Frasco | E8: 2 | G8: =F8*E8 -> 0 | H8: =G8/3 -> 0 | I8: =G8*36 -> 0
A9: 3 | B9: Compressa de Gaze | C9: COMPRESSA COM GAZE ESTÉRIL (7,50 CM X 7,50 CM), 8 (OITO) CAMADAS, NO MÍNIMO 11 FIOS, COM REGISTRO ANVISA | D9: Pacote | E9: 10 | G9: =F9*E9 -> 0 | H9: =G9/3 -> 0 | I9: =G9*36 -> 0
A10: 4 | B10: Atadura de Crepe | C10: ATADURA DE CREPE (20 CM DE LARGURA), NO MÍNIMO 1,80M DE COMPRIMENTO, PACOTE COM 12 UNIDADES, COM REGISTRO ANVISA. | D10: Pacote (12 un.) | E10: 5 | G10: =F10*E10 -> 0 | H10: =G10/3 -> 0 | I10: =G10*36 -> 0
A11: 5 | B11: Fita Microporosa | C11: FITA MICROPOROSA ADESIVA PARA CURATIVOS, HIPOALÉRGICA 10CM X 4,5M, COM REGISTRO ANVISA. | D11: Rolo | E11: 2 | G11: =F11*E11 -> 0 | H11: =G11/3 -> 0 | I11: =G11*36 -> 0
A12: 6 | B12: Plástico Protetor | C12: PLÁSTICO PROTETOR ESTÉRIL PARA QUEIMADURAS E EVISCERAÇÕES, DESCARTÁVEL, TRANSPARENTE, DIMENSÕES MÍNIMAS DE 90 CM X 120 CM, EMBALADO INDIVIDUALMENTE, COM REGISTRO ANVISA. | D12: Unidade | E12: 1 | G12: =F12*E12 -> 0 | H12: =G12/3 -> 0 | I12: =G12*36 -> 0
A13: 7 | B13: Bandagem Triangular | C13: BANDAGEM TRIANGULAR PARA PRIMEIROS SOCORROS, EM TECIDO RESISTENTE OU TNT (142 CM X 100 CM X 100 CM) | D13: Unidade | E13: 2 | G13: =F13*E13 -> 0 | H13: =G13/3 -> 0 | I13: =G13*36 -> 0
A14: TOTAL | G14: =SUM(G7:G13) -> 0 | H14: =SUM(H7:H13) -> 0 | I14: =SUM(I7:I13) -> 0
A16: UTENSÍLIOS
B18: ITEM | C18: ESPECIFICAÇÃO | D18: UNIDADE DE MEDIDA | E18: VIDA ÚTIL (meses) (A) | F18: QTDE FÍSICA EM USO (B) | G18: VALOR UNITÁRIO (C) | H18: VALOR MENSAL (D) = (B)*(C)/(A) | I18: VALOR TOTAL (36 )
A19: 1 | B19: Desfibrilador (DEA) | C19: DESFIBRILADOR EXTERNO AUTOMÁTICO, DEA, PORTÁTIL, COM ANÁLISE AUTOMÁTICA DO RITMO CARDÍACO, ORIENTAÇÃO PARA APLICAÇÃO DE CHOQUE QUANDO INDICADO, COMANDOS VISUAIS E SONOROS EM PORTUGUÊS, AUTOTESTE AUTOMÁTICO... REGULARIZAÇÃO NA ANVISA E CERTIFICAÇÃO INMETRO. | D19: Unidade | E19: 60 | F19: 1 | H19: =(F19*G19)/E19 -> 0 | I19: =H19*36 -> 0
A20: 2 | B20: Aparelho de Pressão | C20: APARELHO DE PRESSÃO DIGITAL, AUTOMÁTICO, DE BRAÇO, COM TELA DE ALTA VISIBILIDADE, BRAÇADEIRA AJUSTÁVEL COM INFLAÇÃO AUTOMÁTICA E DETECÇÃO DE ARRITMIAS APROVADO PELA ANVISA E COM CERTIFICAÇÃO INMETRO | D20: Unidade | E20: 36 | F20: 1 | H20: =(F20*G20)/E20 -> 0 | I20: =H20*36 -> 0
A21: 3 | B21: Termômetro Digital | C21: TERMÔMETRO DIGITAL CORPORAL INFRAVERMELHO, SEM CONTATO, COM VISOR LCD, TEMPO DE RESPOSTA DE ATÉ 5 SEGUNDOS, PRECISÃO MÍNIMA DE ±0,3°C, COM REGULARIZAÇÃO ANVISA E CERTIFICAÇÃO INMETRO. | D21: Unidade | E21: 36 | F21: 1 | H21: =(F21*G21)/E21 -> 0 | I21: =H21*36 -> 0
A22: 4 | B22: Oxímetro Portátil | C22: OXÍMETRO DIGITAL DE DEDO, PORTÁTIL, COM MEDIÇÃO DE SATURAÇÃO DE OXIGÊNIO E FREQUÊNCIA CARDÍACA, TELA OLED OU LCD, INDICAÇÃO GRÁFICA DE PULSO, ACOMPANHADO DE ESTOJO, CAPA DE SILICONE E CORDÃO, COM REGULARIZAÇÃO NA ANVISA E CERTIFICAÇÃO INMETRO. | D22: Unidade | E22: 24 | F22: 1 | H22: =(F22*G22)/E22 -> 0 | I22: =H22*36 -> 0
A23: 5 | B23: Kit Glicemia | C23: KIT MONITOR DE GLICEMIA, COMPOSTO POR GLICOSÍMETRO DIGITAL, TIRAS REAGENTES COMPATÍVEIS, LANCETADOR, LANCETAS ESTÉREIS E ESTOJO, COM NO MÍNIMO 50 TIRAS... REGULARIZAÇÃO NA ANVISA. | D23: Kit | E23: 36 | F23: 1 | H23: =(F23*G23)/E23 -> 0 | I23: =H23*36 -> 0
A24: 6 | B24: Reanimador (Ambu) | C24: REANIMADOR PULMONAR ADULTO EM PVC (AMBU) | D24: Unidade | E24: 36 | F24: 1 | H24: =(F24*G24)/E24 -> 0 | I24: =H24*36 -> 0
A25: 7 | B25: Prancha Rígida | C25: PRANCHA RÍGIDA LONGA PARA RESGATE/APH, EM POLIETILENO OU PLÁSTICO DE ALTA RESISTÊNCIA, LAVÁVEL, COM ALÇAS LATERAIS E CINTOS DE FIXAÇÃO, CAPACIDADE MÍNIMA DE CARGA DE 150 KG (APROX. 190 CM X 45 CM) | D25: Unidade | E25: 60 | F25: 1 | H25: =(F25*G25)/E25 -> 0 | I25: =H25*36 -> 0
A26: 8 | B26: Kit Colar Cervical | C26: KIT DE COLAR CERVICAL CONVENCIONAL PARA RESGATE/APH, CONTENDO 4 TAMANHOS, PP, P, M E G, EM POLIETILENO, REVESTIDOS EM EVA, COM ABERTURAS FRONTAL E POSTERIOR E FECHAMENTO EM VELCRO. | D26: Kit | E26: 36 | F26: 1 | H26: =(F26*G26)/E26 -> 0 | I26: =H26*36 -> 0
A27: 9 | B27: Talas Aramadas - 30cm | C27: TALA ARAMADA EM EVA, MOLDÁVEIS PEQUENAS (30 CM X 8 CM X 2 CM) | D27: Unidade | E27: 24 | F27: 2 | H27: =(F27*G27)/E27 -> 0 | I27: =H27*36 -> 0
A28: 10 | B28: Talas Aramadas - 63cm | C28: TALA ARAMADA EM EVA, MOLDÁVEIS MÉDIAS (63 CM X 9 CM X 2 CM) | D28: Unidade | E28: 24 | F28: 2 | H28: =(F28*G28)/E28 -> 0 | I28: =H28*36 -> 0
A29: 11 | B29: Talas Aramadas - 86cm | C29: TALA ARAMADA EM EVA, MOLDÁVEIS GRANDES (86 CM X 10 CM X 2 CM) | D29: Unidade | E29: 24 | F29: 2 | H29: =(F29*G29)/E29 -> 0 | I29: =H29*36 -> 0
A30: 12 | B30: Maleta de Socorros | C30: MALETA DE PRIMEIROS SOCORROS/APH, EM MATERIAL RESISTENTE E LAVÁVEL, COM ALÇA DE TRANSPORTE, DIVISÓRIAS INTERNAS E IDENTIFICAÇÃO EXTERNA DE PRIMEIROS SOCORROS (GG) | D30: Unidade | E30: 30 | F30: 1 | H30: =(F30*G30)/E30 -> 0 | I30: =H30*36 -> 0
... A36: 18 | B36: Torniquete Tático | C36: TORNIQUETE TÁTICO PARA CONTROLE DE HEMORRAGIAS GRAVES EM MEMBROS, EM NYLON DE ALTA RESISTÊNCIA, AJUSTÁVEL, COM HASTE DE TORÇÃO E SISTEMA DE TRAVAMENTO... COM REGULARIZAÇÃO NA ANVISA. | D36: Unidade | E36: 60 | F36: 1 | H36: =(F36*G36)/E36 -> 0 | I36: =H36*36 -> 0
A37: TOTAL | H37: =SUM(H19:H36) -> 0 | I37: =SUM(I19:I36) -> 0
A39: EQUIPAMENTOS
B41: ITEM | C41: ESPECIFICAÇÃO | D41: UNIDADE DE MEDIDA | E41: VIDA ÚTIL (meses) (A) | F41: QTDE FÍSICA EM USO (B) | G41: VALOR UNITÁRIO (C) | H41: VALOR MENSAL (D) = (B)*(C)/(A) | I41: VALOR TOTAL (36 )
A42: 1 | B42: Rádio Comunicador | C42: RÁDIO COMUNICADOR PROFISSIONAL TIPO WALKIE-TALKIE- NOVO UHF HOMOLOGADO PELA ANATEL , DEVIDAMENTE CONFIGURADO, COM CAPACIDADE DE NO MINIMO 16 CANAIS PROGRAMÁVEIS ,POTÊNCIA AJUSTÁVEL, BATERIA RECARREGÁVEL... CLIPE DE CINTO. | D42: Unidade | E42: 24 | F42: 1 | H42: =(F42*G42)/E42 -> 0 | I42: =H42*36 -> 0
A43: 2 | B43: Fone PTT | C43: FONE DE OUVIDO INTRA-AURICULAR COM MICROFONE E BOTÃO PTT, PUSH-TO-TALK, DE LAPELA, PARA USO COM RÁDIO COMUNICADOR, COM SUPORTE AURICULAR EMBORRACHADO EM FORMATO “D”... | D43: Unidade | E43: 12 | F43: 2 | H43: =(F43*G43)/E43 -> 0 | I43: =H43*36 -> 0
A44: 3 | B44: Lanterna Tática | C44: LANTERNA TÁTICA DE MÃO, COM CAPACIDADE DE LUMINOSIDADE MÍNIMA DE 800 LUMENS, COM BATERIA SELADA, AUTONOMIA DE NO MÍNIMO 3 HORAS, RECARREGÁVEL, MATERIAL RESISTENTE. | D44: Unidade | E44: 24 | F44: 2 | H44: =(F44*G44)/E44 -> 0 | I44: =H44*36 -> 0
A45: 4 | B45: Livro Ocorrência | C45: LIVRO ATA/OCORRÊNCIA, CAPA DURA – APROX. 100 FOLHAS PAUTADAS | D45: Unidade | E45: 6 | F45: 1 | H45: =(F45*G45)/E45 -> 0 | I45: =H45*36 -> 0
A47: TOTAL | H47: =SUM(H42:H45) -> 0 | I47: =SUM(I42:I45) -> 0

Sheet PROPOSTA-ITEM7
A1: PROPOSTA DE PREÇOS - ITEM 7
A4: ITEM | B4: SERVIÇO | C4: DESCRIÇÃO | D4: UNIDADE DE MEDIDA | E4: QUANTIDADE DE M² | F4: QUANTIDADE DE APLICAÇÕES ANUAL | G4: QUANTIDADE DE APLICAÇÕES TOTAL (36 MESES) | H4: VALOR POR M² | I4: VALOR POR APLICAÇÃO | J4: VALOR MENSAL | K4: VALOR ANUAL R$ (12 meses) | L4: VALOR TOTAL R$ (36 meses)
A5: 7 | B5: Serviço de manejo e controle de pragas, dedetização, desinsetização, desratização e descupinização. | C5: Prestação de serviços especializados de manejo integrado e controle de pragas, compreendendo dedetização, desinsetização, desratização e descupinização, com aplicação de produtos adequados, medidas preventivas e corretivas, monitoramento e emissão de relatórios/certificados, conforme normas sanitárias e orientações da CONTRATANTE. | D5: M² | E5: 19370 | F5: 4 | G5: 12 | I5: =H5*E5 -> 0 | J5: =I5/3 -> 0 | K5: =J5*12 -> 0 | L5: =I5*G5 -> 0
A8: OBS.: O valor mensal do serviço foi calculado exclusivamente para fins de elaboração da proposta e cadastramento no sistema, permanecendo a quantidade estimada prevista no Termo de Referência. Ademais, cada aplicação será realizada de acordo com a frequência estabelecida no referido documento, sendo o pagamento efetuado somente após a efetiva execução dos serviços.

Sheet PROPOSTA-ITEM8
A1: PROPOSTA DE PREÇOS - ITEM 8
A4: ITEM | B4: SERVIÇO | C4: DESCRIÇÃO | D4: UNIDADE DE MEDIDA | E4: QUANTIDADE DE POSTOS (A) | F4: QUANTIDADE DE EMPREGADO POR POSTOS (B) | G4: QUANTIDADE TOTAL DE EMPREGADOS (C)= (A) x (B) | H4: VALOR MENSAL POR EMPREGADO R$ (D) | I4: VALOR MENSAL R$ (E)= A X D | J4: VALOR ANUAL R$ (F)= (E)x12 (12 meses) | K4: VALOR TOTAL R$ (G)= (E)x36 (36 meses)
A5: 8 | B5: Terceirização de mão de obra, copeira, diurno, 44 horas semanais. | C5: Prestação contínua, por terceirização com dedicação exclusiva de mão de obra, de serviços de copa (copeira) em jornada diurna de 44 (quarenta e quatro) horas semanais, abrangendo preparo e disponibilização de café, água e itens correlatos, higienização e organização de utensílios, equipamentos e áreas de copa, reposição de insumos e apoio às rotinas de atendimento interno, conforme padrões de higiene, rotinas e orientações da CONTRATANTE. | D5: POSTO DE TRABALHO | E5: 9 | F5: 1 | G5: =E5*F5 -> 9 | H5: ='PCFP ITEM8'!H143 -> 0 | I5: =H5*E5 -> 0 | J5: =I5*12 -> 0 | K5: =I5*36 -> 0

Sheet PCFP ITEM8
B2: PLANILHA DE CUSTOS E FORMAÇÃO DE PREÇOS
B4: Nº Processo: | D4: 202500005037987
B5: Contratação: | D5: 117539
B6: Orgão: | D6: SECRETARIA DE ESTADO DE ADMINISTRAÇÃO - SEAD
B7: Descrição do Serviço | D7: ='PROPOSTA-ITEM8'!C5 -> Prestação contínua, por terceirização com dedicação exclusiva de mão de obra, de serviços de copa (copeira) em jornada diurna de 44 (quarenta e quatro) horas semanais, abrangendo preparo e disponibilização de café, água e itens correlatos, higienização e organização de utensílios, equipamentos e áreas de copa, reposição de insumos e apoio às rotinas de atendimento interno, conforme padrões de higiene, rotinas e orientações da CONTRATANTE.
B9: DISCRIMINAÇÃO DOS SERVIÇOS (DADOS REFERENTES À CONTRATAÇÃO)
B10: A | C10: Data da apresentação da proposta
B11: B | C11: Acordo, Convenção ou Sentença Normativa em dissídio Coletivo
B12: C | C12: Número de meses de execução contratual | G12: 36 meses
B14: IDENTIFICAÇÃO DO SERVIÇO
B15: Tipo de Serviço | G15: Cidade para Execução dos serviços
B16: ='PROPOSTA-ITEM8'!B5 -> Terceirização de mão de obra, copeira, diurno, 44 horas semanais. | G16: Goiânia
B18: MÃO-DE-OBRA
B19: Dados Complementares para Composição dos Custos Referentes à Mão-de-obra
B20: 1 | C20: Categoria Profissional - Jornada | G20: Copeira - 44h
B21: 2 | C21: Salário Normativo da Categoria Profissional - Piso salarial
B22: 3 | C22: Classificação Brasileira de Ocupações (CBO) | G22: 5134-20
B23: 4 | C23: Data base da categoria (dia/mês/ano)
B25: MÓDULO 1 - COMPOSIÇÃO DA REMUNERAÇÃO
B26: Item | C26: Descrição | G26: % | H26: Valor (R$)
B27: A | C27: Salário Base | H27: =G21 -> 0
B28: B | C28: Adicional de Periculosidade | H28: =H27*G28 -> 0
B29: C | C29: Adicional de Insalubridade | H29: =1621*G29 -> 0
B30: D | C30: Adicional Noturno | H30: =(((H27+H28)/220*G30)*105) -> 0
B31: E | C31: Adicional de Hora Noturna Reduzida | H31: 0
B32: F | C32: Outros | H32: 0
B33: TOTAL MÓDULO 1 | H33: =SUM(H27:H32) -> 0
B35: MÓDULO 2 - ENCARGOS E BENEFÍCIOS ANUAIS, MENSAIS E DIÁRIOS
B36: Submódulo 2.1 - 13º Salário e Adicional de Férias
B37: item | C37: Descrição | G37: % | H37: VALOR (R$)
B38: A | C38: 13º Salário | G38: 0.0833 | H38: =$H$33*G38 -> 0
B39: B | C39: Adicional de Férias | G39: 0.0278 | H39: =$H$33*G39 -> 0
B40: Total do Submódulo 2.1 | G40: =SUM(G38:G39) -> 0.1111 | H40: =SUM(H38:H39) -> 0
B41: Nota 1: Como a planilha de custos e formação de preços é calculada mensalmente, provisiona-se proporcionalmente 1/12 (um doze avos) dos valores referentes a gratificação natalina, férias e adicional de férias. (Redação dada pela Instrução Normativa nº 7, de 2018)
B42: Nota 2: O adicional de férias contido no Submódulo 2.1 corresponde a 1/3 (um terço) da remuneração que por sua vez é divido por 12 (doze) conforme Nota 1 acima.
B43: Nota 3: Levando em consideração a vigência contratual prevista no art. 57 da Lei nº 8.666, de 23 de junho de 1993, a rubrica férias tem como objetivo principal suprir a necessidade do pagamento das férias remuneradas ao final do contrato de 12 meses. Esta rubrica, quando da prorrogação contratual, torna-se custo não renovável.
B45: Submódulo 2.2 - Encargos Previdenciários, FGTS e Outras Contribuições
B46: Item | C46: Descrição | G46: BASE DE CALCULO % | H46: VALOR (R$)
B47: A | C47: INSS | G47: 0.2 | H47: =($H$33+$H$40)*G47 -> 0
B48: B | C48: Salário Educação | G48: 0.025 | H48: =($H$33+$H$40)*G48 -> 0
...

Sheet Uniformes Copa
A1: Planilha Auxiliar - Módulo 5 - Insumos Diversos - UNIFORMES
A4: ITEM | B4: PEÇA | C4: DESCRIÇÃO | D4: Unid. | E4: QTDE ANUAL (A) | F4: CUSTO UNITÁRIO (B) | G4: CUSTO MENSAL (C)=((B)x(A)/12) | H4: CUSTO TOTAL (D) = (C)x36
A5: 1 | B5: Calça social com bolso | C5: Calça de alfaiataria/sarja social premium (com elastano), cor azul-marinho, modelagem confortável para trabalho em pé, com 2 bolsos frontais funcionais e 1 bolso traseiro; cós com passantes; costura reforçada. | D5: Unidade | E5: 4 | G5: =(E5*F5)/12 -> 0 | H5: =G5*36 -> 0
