Workbook

Sheet DADOS DA OBRA
B10: DADOS DO EMPREENDIMENTO
B12: OBJETO
B13: DEMOLIÇÃO DO RESERVATÓRIO EXISTENTE, EXECUÇÃO DE RESERVATÓRIO METÁLICO ELEVADO E REESTRUTURAÇÃO (COM AMPLIAÇÃO) DA REDE DE DISTRIBUIÇÃO DE ÁGUA TRATADA EXISTENTE NO MUNICÍPIO DE MATRINCHÃ
B15: ENDEREÇO
B16: RUAS DIVERSAS
B18: Bairro | J18: Cidade | P18: UF
B19: DIVERSOS | J19: MATRINCHÃ | P19: GO
B21: Área Total de Construção | F21: BDI | J21: ENCARGOS SOCIAIS HORISTAS | N21: Data do Orçamento
F22: =#REF!/100 -> #REF! | J22: ='ENCARGOS SOCIAIS'!D43 -> 0.8163 | N22: 04/11/2024
B24: Prazo | F24: BDI REDUZIDO | J24: ENCARGOS SOCIAIS MENSALISTAS | N24: Revisão
B25: 04 MESES | F25: =#REF!/100 -> #REF! | J25: ='ENCARGOS SOCIAIS'!E43 -> 0.4528 | N25: 00
B27: BASE
B28: GOINFRA CIVIL-06/2024, GOINFRA RODOVIÁRIA-06/2024, SINAPI-08/2024, ORSE-06/2024, SENFRA-CE-028, SCO-08/2024, CPOS-06/2024, EMBASA-05/2024, SIURB-01/2024

Sheet CAPA - ORÇAMENTO
C9: ORÇAMENTO
C15: OBJETO: | D15: Contratação de empresa, ou consórcio de empresas, com prática na execução de serviços técnicos especializados, de caráter subsidiário e temporário em assessoramento nas áreas de engenharia, arquitetura, jurídica e apoio na gestão de ações e projetos no âmbito da Secretaria de Estado da Infraestrutura – SEINFRA
C16: LOCAL: | D16: Rua 05, n. 833, Quadra C5, Lote 23, Setor Oeste, Goiânia - GO
C17: DATA: | D17: 10/12/2024
C18: RESPONSÁVEL: | D18: ENGENHEIRO CIVIL THIAGO ALVES SILVA
C19: CREA: | D19: 1004804750D-GO
C20: ART: | D20: 1020240357808

Sheet ORÇAMENTO RESUMO
B1: ORÇAMENTO RESUMO
B3: OBJETO: | C3: ='CAPA - ORÇAMENTO'!D15 -> Contratação de empresa, ou consórcio de empresas, com prática na execução de serviços técnicos especializados, de caráter subsidiário e temporário em assessoramento nas áreas de engenharia, arquitetura, jurídica e apoio na gestão de ações e projetos no âmbito da Secretaria de Estado da Infraestrutura – SEINFRA | J3: DATA: | K3: ='CAPA - ORÇAMENTO'!D17 -> 10/12/2024
B4: LOCAL: | C4: =+'CAPA - ORÇAMENTO'!D16 -> Rua 05, n. 833, Quadra C5, Lote 23, Setor Oeste, Goiânia - GO | J4: REVISÃO: | K4: ='DADOS DA OBRA'!$N$25 -> 00
B5: BASE: | C5: SINAPI - 10/2024 (GO) / SETOP - 07/2024 (MG) / SEINFRA - 028 (CE) / EMBASA - 05/2024 (BA) | H5: PRAZO: | I5: 24 MESES | J5: BDI: | K5: ='BDI NORMAL'!K25 -> 0.4458
B8: Item | E8: Descrição | K8: Total
B9: 1 | E9: ='ORÇAMENTO SINTÉTICO'!E9 -> PRODUTO 01 - ASSESSORAMENTO TÉCNICO À GESTÃO DE PLANEJAMENTO DE OBRAS PÚBLICAS | K9: ='ORÇAMENTO SINTÉTICO'!L9 -> 9380210.6
B10: 2 | E10: ='ORÇAMENTO SINTÉTICO'!E17 -> PRODUTO 02 - ASSESSORAMENTO TÉCNICO À GESTÃO DE EXECUÇÃO DE OBRAS PÚBLICAS | K10: ='ORÇAMENTO SINTÉTICO'!L17 -> 4566107.8
B11: 3 | E11: ='ORÇAMENTO SINTÉTICO'!E21 -> PRODUTO 03 - ASSESSORAMENTO TÉCNICO À ELABORAÇÃO DE PROJETOS E ORÇAMENTOS DE OBRAS | K11: ='ORÇAMENTO SINTÉTICO'!L21 -> 5217278.6
B12: 4 | E12: ='ORÇAMENTO SINTÉTICO'!E28 -> PRODUTO 04 - ASSESSORAMENTO TÉCNICO À GESTÃO DE PLANEJAMENTO HABITACIONAL | K12: ='ORÇAMENTO SINTÉTICO'!L28 -> 4311963.1
B13: 5 | E13: ='ORÇAMENTO SINTÉTICO'!E34 -> PRODUTO 05 - ASSESSORAMENTO TÉCNICO À GESTÃO DE PLANEJAMENTO DE SANEAMENTO | K13: ='ORÇAMENTO SINTÉTICO'!L34 -> 3456187.2
B14: 6 | E14: ='ORÇAMENTO SINTÉTICO'!E39 -> PRODUTO 06 - ASSESSORAMENTO TÉCNICO À GESTÃO DE CONTROLE INTERNO | K14: ='ORÇAMENTO SINTÉTICO'!L39 -> 3241608.5
I16: Total sem BDI | K16: ='ORÇAMENTO SINTÉTICO'!L46 -> 20869663
I17: Total do BDI | K17: ='ORÇAMENTO SINTÉTICO'!L47 -> 9303692.4
I18: Total Geral | K18: =SUM(K9:K14) -> 30173356

Sheet ORÇAMENTO SINTÉTICO
B1: ORÇAMENTO SINTÉTICO
B3: OBJETO: | C3: ='ORÇAMENTO RESUMO'!C3 -> Contratação de empresa, ou consórcio de empresas, com prática na execução de serviços técnicos especializados, de caráter subsidiário e temporário em assessoramento nas áreas de engenharia, arquitetura, jurídica e apoio na gestão de ações e projetos no âmbito da Secretaria de Estado da Infraestrutura – SEINFRA | K3: DATA: | L3: ='ORÇAMENTO RESUMO'!K3 -> 10/12/2024
B4: LOCAL: | C4: ='ORÇAMENTO RESUMO'!C4 -> Rua 05, n. 833, Quadra C5, Lote 23, Setor Oeste, Goiânia - GO | K4: REVISÃO: | L4: ='ORÇAMENTO RESUMO'!K4 -> 00
B5: BASE: | C5: ='ORÇAMENTO RESUMO'!C5 -> SINAPI - 10/2024 (GO) / SETOP - 07/2024 (MG) / SEINFRA - 028 (CE) / EMBASA - 05/2024 (BA) | I5: PRAZO : | J5: ='ORÇAMENTO RESUMO'!I5 -> 24 MESES | K5: BDI: | L5: ='ORÇAMENTO RESUMO'!K5 -> 0.4458
B8: Item | C8: Código | D8: Banco | E8: Descrição | F8: Und | G8: Qtd | H8: Valor Unit | I8: Valor Total sem BDI | J8: BDI | K8: Valor Unit com BDI | L8: Valor Total com BDI
B9: 1 | E9: PRODUTO 01 - ASSESSORAMENTO TÉCNICO À GESTÃO DE PLANEJAMENTO DE OBRAS PÚBLICAS | I9: =SUBTOTAL(9,I10:I16) -> 6487903.7 | L9: =SUBTOTAL(9,L10:L16) -> 9380210.6
B10: 1.1 | C10: 00001 | D10: Próprio | E10: Apoiar a elaboração, análise e revisão de normativas técnicas e administrativas; | F10: mês | G10: 24 | H10: 16448.89 | I10: =TRUNC(G10 * H10, 2) -> 394773.36 | J10: =+$L$5 -> 0.4458 | K10: =TRUNC(H10 * (1 + J10),2) -> 23781.8 | L10: =TRUNC((G10 * K10),2) -> 570763.2
B11: 1.2 | C11: 00002 | D11: Próprio | E11: Apoiar a elaboração, análise e revisão de Programas, Planos e Anteprojetos de infraestrutura | F11: mês | G11: 24 | H11: 16448.89 | I11: =TRUNC(G11 * H11, 2) -> 394773.36 | J11: =+$L$5 -> 0.4458 | K11: =TRUNC(H11 * (1 + J11),2) -> 23781.8 | L11: =TRUNC((G11 * K11),2) -> 570763.2
B12: 1.3 | C12: 00003 | D12: Próprio | E12: Apoiar a elaboração e análise de anteprojetos, projetos básicos e executivos de engenharia | F12: mês | G12: 24 | H12: 90452.45 | I12: =TRUNC(G12 * H12, 2) -> 2170858.8 | J12: =+$L$5 -> 0.4458 | K12: =TRUNC(H12 * (1 + J12),2) -> 130776.15 | L12: =TRUNC((G12 * K12),2) -> 3138627.6
B13: 1.4 | C13: 00004 | D13: Próprio | E13: Apoiar a elaboração, análise e revisão de documentação de planejamento de contratações de projetos e obras de infraestrutura | F13: mês | G13: 24 | H13: 69171.49 | I13: =TRUNC(G13 * H13, 2) -> 1660115.8 | J13: =+$L$5 -> 0.4458 | K13: =TRUNC(H13 * (1 + J13),2) -> 100008.14 | L13: =TRUNC((G13 * K13),2) -> 2400195.4
B14: 1.5 | C14: 00005 | D14: Próprio | E14: Apoiar a elaboração, análise e revisão de estudos e relatórios ambientais (EIA, RIMA, e afins) relacionados aos projetos e obras de infraestrutura | F14: mês | G14: 24 | H14: 18964.5 | I14: =TRUNC(G14 * H14, 2) -> 455148 | J14: =+$L$5 -> 0.4458 | K14: =TRUNC(H14 * (1 + J14),2) -> 27418.87 | L14: =TRUNC((G14 * K14),2) -> 658052.88
B15: 1.6 | C15: 00006 | D15: Próprio | E15: Apoiar a elaboração, análise e revisão de Relatórios de Vistoria de obras e projetos de interesse da SEINFRA | F15: mês | G15: 24 | H15: 41502.45 | I15: =TRUNC(G15 * H15, 2) -> 996058.8 | J15: =+$L$5 -> 0.4458 | K15: =TRUNC(H15 * (1 + J15),2) -> 60004.24 | L15: =TRUNC((G15 * K15),2) -> 1440101.8
B16: 1.7 | C16: 00007 | D16: Próprio | E16: Apoiar a gestão de documentos e informações dos processos internos afim de subsidiar a retroalimentação e melhoria dos procedimentos | F16: mês | G16: 24 | H16: 17340.65 | I16: =TRUNC(G16 * H16, 2) -> 416175.6 | J16: =+$L$5 -> 0.4458 | K16: =TRUNC(H16 * (1 + J16),2) -> 25071.11 | L16: =TRUNC((G16 * K16),2) -> 601706.64
B17: 2 | E17: PRODUTO 02 - ASSESSORAMENTO TÉCNICO À GESTÃO DE EXECUÇÃO DE OBRAS PÚBLICAS | I17: =SUBTOTAL(9,I18:I20) -> 3158188.1 | K17: =(H17 * (1 + J17)) -> 0 | L17: =SUBTOTAL(9,L18:L20) -> 4566107.8
B18: 2.1 | C18: 00008 | D18: Próprio | E18: Apoiar a elaboração, análise e revisão de relatórios diários de obras segundo as diretrizes da área técnica | F18: mês | G18: 24 | H18: 63180.09 | I18: =TRUNC(G18 * H18, 2) -> 1516322.2 | J18: =+$L$5 -> 0.4458 | K18: =TRUNC(H18 * (1 + J18),2) -> 91345.77 | L18: =TRUNC((G18 * K18),2) -> 2192298.5
B19: 2.2 | C19: 00009 | D19: Próprio | E19: Apoiar a elaboração, análise e revisão de relatórios de gestão de contratos de obras de infraestrutura | F19: mês | G19: 24 | H19: 40560.34 | I19: =TRUNC(G19 * H19, 2) -> 973448.16 | J19: =+$L$5 -> 0.4458 | K19: =TRUNC(H19 * (1 + J19),2) -> 58642.13 | L19: =TRUNC((G19 * K19),2) -> 1407411.1
B20: 2.3 | C20: 00010 | D20: Próprio | E20: Apoiar a elaboração e análise de medição de contratos de obras de engenharia | F20: mês | G20: 24 | H20: 27850.74 | I20: =TRUNC(G20 * H20, 2) -> 668417.76 | J20: =+$L$5 -> 0.4458 | K20: =TRUNC(H20 * (1 + J20),2) -> 40266.59 | L20: =TRUNC((G20 * K20),2) -> 966398.16
B21: 3 | E21: PRODUTO 03 - ASSESSORAMENTO TÉCNICO À ELABORAÇÃO DE PROJETOS E ORÇAMENTOS DE OBRAS | I21: =SUBTOTAL(9,I22:I27) -> 3608576.2 | K21: =(H21 * (1 + J21)) -> 0 | L21: =SUBTOTAL(9,L22:L27) -> 5217278.6
B22: 3.1 | C22: 00011 | D22: Próprio | E22: Apoiar a elaboração e análise de projetos de infraestrutura | F22: mês | G22: 24 | H22: 58448.27 | I22: =TRUNC(G22 * H22, 2) -> 1402758.5 | J22: =+$L$5 -> 0.4458 | K22: =TRUNC(H22 * (1 + J22),2) -> 84504.5 | L22: =TRUNC((G22 * K22),2) -> 2028108
B23: 3.2 | C23: 00012 | D23: Próprio | E23: Apoiar a elaboração, análise e revisão de relatórios de projetos de infraestrutura para subsidiar suas aprovações | F23: mês | G23: 24 | H23: 10375.61 | I23: =TRUNC(G23 * H23, 2) -> 249014.64 | J23: =+$L$5 -> 0.4458 | K23: =TRUNC(H23 * (1 + J23),2) -> 15001.05 | L23: =TRUNC((G23 * K23),2) -> 360025.2
B24: 3.3 | C24: 00013 | D24: Próprio | E24: Apoiar a elaboração, análise e revisão de documentação de planejamento de contratações de projetos de infraestrutura | F24: mês | G24: 24 | H24: 6225.36 | I24: =TRUNC(G24 * H24, 2) -> 149408.64 | J24: =+$L$5 -> 0.4458 | K24: =TRUNC(H24 * (1 + J24),2) -> 9000.62 | L24: =TRUNC((G24 * K24),2) -> 216014.88
B25: 3.4 | C25: 00014 | D25: Próprio | E25: Apoiar a elaboração e revisão de relatórios de análise e/ou fiscalização de projetos de infraestrutura | F25: mês | G25: 24 | H25: 55420.04 | I25: =TRUNC(G25 * H25, 2) -> 1330081 | J25: =+$L$5 -> 0.4458 | K25: =TRUNC(H25 * (1 + J25),2) -> 80126.29 | L25: =TRUNC((G25 * K25),2) -> 1923031
B26: 3.5 | C26: 00015 | D26: Próprio | E26: Apoiar a elaboração e análise de medição de contratos de projetos de engenharia | F26: mês | G26: 24 | H26: 5047.05 | I26: =TRUNC(G26 * H26, 2) -> 121129.2 | J26: =+$L$5 -> 0.4458 | K26: =TRUNC(H26 * (1 + J26),2) -> 7297.02 | L26: =TRUNC((G26 * K26),2) -> 175128.48
B27: 3.6 | C27: 00016 | D27: Próprio | E27: Apoiar a implementação da metodologia BIM (Building Information Modeling) nos projetos de infraestrutura, inclusive no apoio para elaboração de diretrizes legais que cercam o tema junto à Administração Pública | F27: mês | G27: 24 | H27: 14841.01 | I27: =TRUNC(G27 * H27, 2) -> 356184.24 | J27: =+$L$5 -> 0.4458 | K27: =TRUNC(H27 * (1 + J27),2) -> 21457.13 | L27: =TRUNC((G27 * K27),2) -> 514971.12
B28: 4 | E28: PRODUTO 04 - ASSESSORAMENTO TÉCNICO À GESTÃO DE PLANEJAMENTO HABITACIONAL | I28: =SUBTOTAL(9,I29:I33) -> 2982406.8 | K28: =(H28 * (1 + J28)) -> 0 | L28: =SUBTOTAL(9,L29:L33) -> 4311963.1
B29: 4.1 | C29: 00017 | D29: Próprio | E29: Apoiar a elaboração, análise e revisão de processos de Regularização Fundiária de Interesse Social dos imóveis urbanos de domínio do Estado de Goiás, avaliando a conveniência e oportunidade para decisão de instauração do procedimento de regularização | F29: mês | G29: 24 | H29: 16216 | I29: =TRUNC(G29 * H29, 2) -> 389184 | J29: =+$L$5 -> 0.4458 | K29: =TRUNC(H29 * (1 + J29),2) -> 23445.09 | L29: =TRUNC((G29 * K29),2) -> 562682.16
B30: 4.2 | C30: 00018 | D30: Próprio | E30: Apoiar a elaboração, análise e revisão de Programas, Planos e Relatórios de políticas públicas habitacionais de interesse social, para subsidiar decisões administrativas | F30: mês | G30: 24 | H30: 43649.86 | I30: =TRUNC(G30 * H30, 2) -> 1047596.6 | J30: =+$L$5 -> 0.4458 | K30: =TRUNC(H30 * (1 + J30),2) -> 63108.96 | L30: =TRUNC((G30 * K30),2) -> 1514615
B31: 4.3 | C31: 00019 | D31: Próprio | E31: Apoiar a elaboração, análise e revisão de documentação administrativa e técnica referente à tramitação de projetos de lei, decretos e outras normativas legais | F31: mês | G31: 24 | H31: 5047.05 | I31: =TRUNC(G31 * H31, 2) -> 121129.2 | J31: =+$L$5 -> 0.4458 | K31: =TRUNC(H31 * (1 + J31),2) -> 7297.02 | L31: =TRUNC((G31 * K31),2) -> 175128.48
B32: 4.4 | C32: 00020 | D32: Próprio | E32: Apoiar a elaboração, análise e revisão de despachos, ofícios, pareceres e demais expedientes no âmbito dos processos administrativos | F32: mês | G32: 24 | H32: 10375.61 | I32: =TRUNC(G32 * H32, 2) -> 249014.64 | J32: =+$L$5 -> 0.4458 | K32: =TRUNC(H32 * (1 + J32),2) -> 15001.05 | L32: =TRUNC((G32 * K32),2) -> 360025.2
B33: 4.5 | C33: 00021 | D33: Próprio | E33: Apoiar a elaboração, análise e revisão de estudos de viabilidade para implantação de loteamentos | F33: mês | G33: 24 | H33: 48978.43 | I33: =TRUNC(G33 * H33, 2) -> 1175482.3 | J33: =+$L$5 -> 0.4458 | K33: =TRUNC(H33 * (1 + J33),2) -> 70813.01 | L33: =TRUNC((G33 * K33),2) -> 1699512.2
B34: 5 | E34: PRODUTO 05 - ASSESSORAMENTO TÉCNICO À GESTÃO DE PLANEJAMENTO DE SANEAMENTO | I34: =SUBTOTAL(9,I35:I38) -> 2390501.8 | K34: =(H34 * (1 + J34)) -> 0 | L34: =SUBTOTAL(9,L35:L38) -> 3456187.2
B35: 5.1 | C35: 00022 | D35: Próprio | E35: Apoiar a elaboração, análise e revisão de Programas, Planos e Relatórios de políticas públicas de saneamento | F35: mês | G35: 24 | H35: 19572.5 | I35: =TRUNC(G35 * H35, 2) -> 469740 | J35: =+$L$5 -> 0.4458 | K35: =TRUNC(H35 * (1 + J35),2) -> 28297.92 | L35: =TRUNC((G35 * K35),2) -> 679150.08
B36: 5.2 | C36: 00023 | D36: Próprio | E36: Apoiar o levantamento de áreas/zonas indicadas pelo programa de saneamento, avaliando a conveniência e oportunidade para implantação do Programa de Saneamento Rural | F36: mês | G36: 24 | H36: 12221.5 | I36: =TRUNC(G36 * H36, 2) -> 293316 | J36: =+$L$5 -> 0.4458 | K36: =TRUNC(H36 * (1 + J36),2) -> 17669.84 | L36: =TRUNC((G36 * K36),2) -> 424076.16
B37: 5.3 | C37: 00024 | D37: Próprio | E37: Apoiar a elaboração e análise de estudos de prospecção e pós-prospecção de poços tubulares profundos (PTP) e poços artesianos para subsidiar a a aprovação dos estudos e a elaboração de projetos de engenharia de abastecimento de água e esgoto | F37: mês | G37: 24 | H37: 30229.62 | I37: =TRUNC(G37 * H37, 2) -> 725510.88 | J37: =+$L$5 -> 0.4458 | K37: =TRUNC(H37 * (1 + J37),2) -> 43705.98 | L37: =TRUNC((G37 * K37),2) -> 1048943.5
B38: 5.4 | C38: 00025 | D38: Próprio | E38: Apoiar a elaboração, análise e revisão de relatórios de projetos de infraestrutura de saneamento para subsidiar suas aprovações | F38: mês | G38: 24 | H38: 37580.62 | I38: =TRUNC(G38 * H38, 2) -> 901934.88 | J38: =+$L$5 -> 0.4458 | K38: =TRUNC(H38 * (1 + J38),2) -> 54334.06 | L38: =TRUNC((G38 * K38),2) -> 1304017.4
B39: 6 | E39: PRODUTO 06 - ASSESSORAMENTO TÉCNICO À GESTÃO DE CONTROLE INTERNO | G39: 1 | I39: =SUBTOTAL(9,I40:I44) -> 2242087 | K39: =(H39 * (1 + J39)) -> 0 | L39: =SUBTOTAL(9,L40:L44) -> 3241608.5
B40: 6.1 | C40: 00026 | D40: Próprio | E40: Apoiar a análise de contratos e procedimentos licitatórios, com base na legislação aplicável ao setor público | F40: mês | G40: 24 | H40: 17011.91 | I40: =TRUNC(G40 * H40, 2) -> 408285.84 | J40: =+$L$5 -> 0.4458 | K40: =TRUNC(H40 * (1 + J40),2) -> 24595.81 | L40: =TRUNC((G40 * K40),2) -> 590299.44
B41: 6.2 | C41: 00027 | D41: Próprio | E41: Apoiar a inspeção, inclusive in loco das obras contratadas | F41: mês | G41: 24 | H41: 27106.01 | I41: =TRUNC(G41 * H41, 2) -> 650544.24 | J41: =+$L$5 -> 0.4458 | K41: =TRUNC(H41 * (1 + J41),2) -> 39189.86 | L41: =TRUNC((G41 * K41),2) -> 940556.64
B42: 6.3 | C42: 00028 | D42: Próprio | E42: Apoiar a elaboração de notas técnicas, despachos e boletins com indicação de providências a serem tomadas e/ou recomendações de melhoria | F42: mês | G42: 24 | H42: 28413.76 | I42: =TRUNC(G42 * H42, 2) -> 681930.24 | J42: =+$L$5 -> 0.4458 | K42: =TRUNC(H42 * (1 + J42),2) -> 41080.61 | L42: =TRUNC((G42 * K42),2) -> 985934.64
B43: 6.4 | C43: 00029 | D43: Próprio | E43: Assessorar o escritório de compliance e apoiar a implantação da gestão de riscos e aprimoramento dos controles primários | F43: mês | G43: 24 | H43: 15704.17 | I43: =TRUNC(G43 * H43, 2) -> 376900.08 | J43: =+$L$5 -> 0.4458 | K43: =TRUNC(H43 * (1 + J43),2) -> 22705.08 | L43: =TRUNC((G43 * K43),2) -> 544921.92
...

Sheet COMPOSIÇÕES
A1: COMPOSIÇÃO DE PREÇOS UNITÁRIOS
A3: OBJETO: | B3: ='ORÇAMENTO SINTÉTICO'!C3 -> Contratação de empresa, ou consórcio de empresas, com prática na execução de serviços técnicos especializados, de caráter subsidiário e temporário em assessoramento nas áreas de engenharia, arquitetura, jurídica e apoio na gestão de ações e projetos no âmbito da Secretaria de Estado da Infraestrutura – SEINFRA | J3: DATA: | K3: ='ORÇAMENTO SINTÉTICO'!L3 -> 10/12/2024
A4: LOCAL: | B4: ='ORÇAMENTO SINTÉTICO'!C4 -> Rua 05, n. 833, Quadra C5, Lote 23, Setor Oeste, Goiânia - GO | J4: REVISÃO: | K4: ='ORÇAMENTO SINTÉTICO'!L4 -> 00
A5: BASE: | B5: ='ORÇAMENTO SINTÉTICO'!C5 -> SINAPI - 10/2024 (GO) / SETOP - 07/2024 (MG) / SEINFRA - 028 (CE) / EMBASA - 05/2024 (BA) | H5: PRAZO : | I5: ='ORÇAMENTO SINTÉTICO'!J5 -> 24 MESES | J5: BDI OBRA: | K5: ='ORÇAMENTO SINTÉTICO'!L5 -> 0.4458
A8: Composições Principais
A9: 1.1 | B9: Código | C9: Banco | D9: Descrição | E9: Tipo | G9: Und | H9: Quant. | I9: Porcent. | J9: Valor Unit | K9: Total
A10: Composição | B10: 00001 | C10: Próprio | D10: Apoiar a elaboração, análise e revisão de normativas técnicas e administrativas; | E10: SERT - SERVIÇOS TÉCNICOS | G10: mês | H10: 1 | J10: 16448.89 | K10: 16448.89
A11: Insumo | B11: S0029 | C11: Próprio | D11: ENGENHEIRO SENIOR (adaptado da tabela de insumos do SINAPI - 40814 para atendimento ao Decreto 9900/2021) | E11: Mão de Obra | G11: MES | H11: 0.25 | J11: 25419.19 | K11: 6354.79
A12: Insumo | B12: S0030 | C12: Próprio | D12: ENGENHEIRO JUNIOR (adaptado da tabela de insumos do SINAPI - 40811 para atendimento ao Decreto 9900/2021) | E12: Mão de Obra | G12: MES | H12: 0.5 | J12: 20188.2 | K12: 10094.1
E13: MO sem LS => | F13: 16448.89 | G13: LS => | H13: 0 | I13: MO com LS => | J13: 16448.89
A15: 1.2 | B15: Código | C15: Banco | D15: Descrição | E15: Tipo | G15: Und | H15: Quant. | I15: Porcent. | J15: Valor Unit | K15: Total
A16: Composição | B16: 00002 | C16: Próprio | D16: Apoiar a elaboração, análise e revisão de Programas, Planos e Anteprojetos de infraestrutura | E16: SERT - SERVIÇOS TÉCNICOS | G16: mês | H16: 1 | J16: 16448.89 | K16: 16448.89
A17: Insumo | B17: S0029 | C17: Próprio | D17: ENGENHEIRO SENIOR (adaptado da tabela de insumos do SINAPI - 40814 para atendimento ao Decreto 9900/2021) | E17: Mão de Obra | G17: MES | H17: 0.25 | I17: 0 | J17: 25419.19 | K17: 6354.79
A18: Insumo | B18: S0030 | C18: Próprio | D18: ENGENHEIRO JUNIOR (adaptado da tabela de insumos do SINAPI - 40811 para atendimento ao Decreto 9900/2021) | E18: Mão de Obra | G18: MES | H18: 0.5 | I18: 0 | J18: 20188.2 | K18: 10094.1
E19: MO sem LS => | F19: 16448.89 | G19: LS => | H19: 0 | I19: MO com LS => | J19: 16448.89
A21: 1.3 | B21: Código | C21: Banco | D21: Descrição | E21: Tipo | G21: Und | H21: Quant. | I21: Porcent. | J21: Valor Unit | K21: Total
A22: Composição | B22: 00003 | C22: Próprio | D22: Apoiar a elaboração e análise de anteprojetos, projetos básicos e executivos de engenharia | E22: SERT - SERVIÇOS TÉCNICOS | G22: mês | H22: 1 | J22: 90452.45 | K22: 90452.45
A23: Insumo | B23: S0030 | C23: Próprio | D23: ENGENHEIRO JUNIOR (adaptado da tabela de insumos do SINAPI - 40811 para atendimento ao Decreto 9900/2021) | E23: Mão de Obra | G23: MES | H23: 1 | I23: 0 | J23: 20188.2 | K23: 20188.2
A24: Insumo | B24: S0031 | C24: Próprio | D24: ENGENHEIRO PLENO (adaptado da tabela de insumos do SINAPI - 40813 para atendimento ao Decreto 9900/2021) | E24: Mão de Obra | G24: MES | H24: 3 | I24: 0 | J24: 21314.25 | K24: 63942.75
A25: Insumo | B25: S0032 | C25: Próprio | D25: ENGENHEIRO AMBIENTAL (NÍVEL: PLENO) (adaptado da tabela de insumos do SETOP-MG - MOCO-33009 para atendimento ao Decreto 9900/2021) | E25: Mão de Obra | G25: MES | H25: 0.25 | I25: 0 | J25: 25286 | K25: 6321.5
E26: MO sem LS => | F26: 90452.45 | G26: LS => | H26: 0 | I26: MO com LS => | J26: 90452.45
A28: 1.4 | B28: Código | C28: Banco | D28: Descrição | E28: Tipo | G28: Und | H28: Quant. | I28: Porcent. | J28: Valor Unit | K28: Total
A29: Composição | B29: 00004 | C29: Próprio | D29: Apoiar a elaboração, análise e revisão de documentação de planejamento de contratações de projetos e obras de infraestrutura | E29: SERT - SERVIÇOS TÉCNICOS | G29: mês | H29: 1 | J29: 69171.49 | K29: 69171.49
A30: Insumo | B30: S0030 | C30: Próprio | D30: ENGENHEIRO JUNIOR (adaptado da tabela de insumos do SINAPI - 40811 para atendimento ao Decreto 9900/2021) | E30: Mão de Obra | G30: MES | H30: 1 | I30: 0 | J30: 20188.2 | K30: 20188.2
A31: Insumo | B31: S0031 | C31: Próprio | D31: ENGENHEIRO PLENO (adaptado da tabela de insumos do SINAPI - 40813 para atendimento ao Decreto 9900/2021) | E31: Mão de Obra | G31: MES | H31: 2 | I31: 0 | J31: 21314.25 | K31: 42628.5
A32: Insumo | B32: S0029 | C32: Próprio | D32: ENGENHEIRO SENIOR (adaptado da tabela de insumos do SINAPI - 40814 para atendimento ao Decreto 9900/2021) | E32: Mão de Obra | G32: MES | H32: 0.25 | I32: 0 | J32: 25419.19 | K32: 6354.79
E33: MO sem LS => | F33: 69171.49 | G33: LS => | H33: 0 | I33: MO com LS => | J33: 69171.49
A35: 1.5 | B35: Código | C35: Banco | D35: Descrição | E35: Tipo | G35: Und | H35: Quant. | I35: Porcent. | J35: Valor Unit | K35: Total
A36: Composição | B36: 00005 | C36: Próprio | D36: Apoiar a elaboração, análise e revisão de estudos e relatórios ambientais (EIA, RIMA, e afins) relacionados aos projetos e obras de infraestrutura | E36: SERT - SERVIÇOS TÉCNICOS | G36: mês | H36: 1 | J36: 18964.5 | K36: 18964.5
A37: Insumo | B37: S0032 | C37: Próprio | D37: ENGENHEIRO AMBIENTAL (NÍVEL: PLENO) (adaptado da tabela de insumos do SETOP-MG - MOCO-33009 para atendimento ao Decreto 9900/2021) | E37: Mão de Obra | G37: MES | H37: 0.75 | I37: 0 | J37: 25286 | K37: 18964.5
E38: MO sem LS => | F38: 18964.5 | G38: LS => | H38: 0 | I38: MO com LS => | J38: 18964.5
A40: 1.6 | B40: Código | C40: Banco | D40: Descrição | E40: Tipo | G40: Und | H40: Quant. | I40: Porcent. | J40: Valor Unit | K40: Total
A41: Composição | B41: 00006 | C41: Próprio | D41: Apoiar a elaboração, análise e revisão de Relatórios de Vistoria de obras e projetos de interesse da SEINFRA | E41: SERT - SERVIÇOS TÉCNICOS | G41: mês | H41: 1 | J41: 41502.45 | K41: 41502.45
A42: Insumo | B42: S0030 | C42: Próprio | D42: ENGENHEIRO JUNIOR (adaptado da tabela de insumos do SINAPI - 40811 para atendimento ao Decreto 9900/2021) | E42: Mão de Obra | G42: MES | H42: 1 | I42: 0 | J42: 20188.2 | K42: 20188.2
A43: Insumo | B43: S0031 | C43: Próprio | D43: ENGENHEIRO PLENO (adaptado da tabela de insumos do SINAPI - 40813 para atendimento ao Decreto 9900/2021) | E43: Mão de Obra | G43: MES | H43: 1 | I43: 0 | J43: 21314.25 | K43: 21314.25
E44: MO sem LS => | F44: 41502.45 | G44: LS => | H44: 0 | I44: MO com LS => | J44: 41502.45
A46: 1.7 | B46: Código | C46: Banco | D46: Descrição | E46: Tipo | G46: Und | H46: Quant. | I46: Porcent. | J46: Valor Unit | K46: Total
A47: Composição | B47: 00007 | C47: Próprio | D47: Apoiar a gestão de documentos e informações dos processos internos afim de subsidiar a retroalimentação e melhoria dos procedimentos | E47: SERT - SERVIÇOS TÉCNICOS | G47: mês | H47: 1 | J47: 17340.65 | K47: 17340.65
A48: Insumo | B48: S0029 | C48: Próprio | D48: ENGENHEIRO SENIOR (adaptado da tabela de insumos do SINAPI - 40814 para atendimento ao Decreto 9900/2021) | E48: Mão de Obra | G48: MES | H48: 0.25 | I48: 0 | J48: 25419.19 | K48: 6354.79
A49: Insumo | B49: S0028 | C49: Próprio | D49: TECNÓLOGO | E49: Mão de Obra | G49: MES | H49: 1 | J49: 10985.86 | K49: 10985.86
...

Sheet CRONOGRAMA
B1: CRONOGRAMA FISICO-FINANCEIRO
B8: OBJETO: | C8: =COMPOSIÇÕES!B3 -> Contratação de empresa, ou consórcio de empresas, com prática na execução de serviços técnicos especializados, de caráter subsidiário e temporário em assessoramento nas áreas de engenharia, arquitetura, jurídica e apoio na gestão de ações e projetos no âmbito da Secretaria de Estado da Infraestrutura – SEINFRA | CS8: DATA: | CT8: =COMPOSIÇÕES!K3 -> 10/12/2024
B9: LOCAL: | C9: =COMPOSIÇÕES!B4 -> Rua 05, n. 833, Quadra C5, Lote 23, Setor Oeste, Goiânia - GO | CS9: REVISÃO: | CT9: =COMPOSIÇÕES!K4 -> 00
B11: ITEM | C11: SERVIÇO | D11: VALORES | E11: MESES
E12: MÊS 01 | I12: MÊS 02 | M12: MÊS 03 | Q12: MÊS 04 | U12: MÊS 05 | Y12: MÊS 06 | AC12: MÊS 07 | AG12: MÊS 08 | AK12: MÊS 09 | AO12: MÊS 10 | AS12: MÊS 11 | AW12: MÊS 12 | BA12: MÊS 13 | BE12: MÊS 14 | BI12: MÊS 15 | BM12: MÊS 16 | BQ12: MÊS 17 | BU12: MÊS 18 | BY12: MÊS 19 | CC12: MÊS 20 | CG12: MÊS 21 | CK12: MÊS 22 | CO12: MÊS 23 | CS12: MÊS 24
B14: ='ORÇAMENTO RESUMO'!B9 -> 1 | C14: ='ORÇAMENTO RESUMO'!E9 -> PRODUTO 01 - ASSESSORAMENTO TÉCNICO À GESTÃO DE PLANEJAMENTO DE OBRAS PÚBLICAS | D14: ='ORÇAMENTO RESUMO'!K9 -> 9380210.6 | E14: =E16*$D14 -> 390842.11 | I14: =I16*$D14 -> 390842.11 | M14: =M16*$D14 -> 390842.11 | Q14: =Q16*$D14 -> 390842.11 | U14: =U16*$D14 -> 390842.11 | Y14: =Y16*$D14 -> 390842.11 | AC14: =AC16*$D14 -> 390842.11 | AG14: =AG16*$D14 -> 390842.11 | AK14: =AK16*$D14 -> 390842.11 | AO14: =AO16*$D14 -> 390842.11 | AS14: =AS16*$D14 -> 390842.11 | AW14: =AW16*$D14 -> 390842.11 | BA14: =BA16*$D14 -> 390842.11 | BE14: =BE16*$D14 -> 390842.11 | BI14: =BI16*$D14 -> 390842.11 | BM14: =BM16*$D14 -> 390842.11 | BQ14: =BQ16*$D14 -> 390842.11 | BU14: =BU16*$D14 -> 390842.11 | BY14: =BY16*$D14 -> 390842.11 | CC14: =CC16*$D14 -> 390842.11 | CG14: =CG16*$D14 -> 390842.11 | CK14: =CK16*$D14 -> 390842.11 | CO14: =CO16*$D14 -> 390842.11 | CS14: =CS16*$D14 -> 390842.11
D16: =D14/$D$32 -> 0.31087727 | E16: 0.041666667 | I16: 0.041666667 | M16: 0.041666667 | Q16: 0.041666667 | U16: 0.041666667 | Y16: 0.041666667 | AC16: 0.041666667 | AG16: 0.041666667 | AK16: 0.041666667 | AO16: 0.041666667 | AS16: 0.041666667 | AW16: 0.041666667 | BA16: 0.041666667 | BE16: 0.041666667 | BI16: 0.041666667 | BM16: 0.041666667 | BQ16: 0.041666667 | BU16: 0.041666667 | BY16: 0.041666667 | CC16: 0.041666667 | CG16: 0.041666667 | CK16: 0.041666667 | CO16: 0.041666667 | CS16: 0.041666667
B17: ='ORÇAMENTO RESUMO'!B10 -> 2 | C17: ='ORÇAMENTO RESUMO'!E10 -> PRODUTO 02 - ASSESSORAMENTO TÉCNICO À GESTÃO DE EXECUÇÃO DE OBRAS PÚBLICAS | D17: ='ORÇAMENTO RESUMO'!K10 -> 4566107.8 | E17: =E19*$D17 -> 190254.49 | I17: =I19*$D17 -> 190254.49 | M17: =M19*$D17 -> 190254.49 | Q17: =Q19*$D17 -> 190254.49 | U17: =U19*$D17 -> 190254.49 | Y17: =Y19*$D17 -> 190254.49 | AC17: =AC19*$D17 -> 190254.49 | AG17: =AG19*$D17 -> 190254.49 | AK17: =AK19*$D17 -> 190254.49 | AO17: =AO19*$D17 -> 190254.49 | AS17: =AS19*$D17 -> 190254.49 | AW17: =AW19*$D17 -> 190254.49 | BA17: =BA19*$D17 -> 190254.49 | BE17: =BE19*$D17 -> 190254.49 | BI17: =BI19*$D17 -> 190254.49 | BM17: =BM19*$D17 -> 190254.49 | BQ17: =BQ19*$D17 -> 190254.49 | BU17: =BU19*$D17 -> 190254.49 | BY17: =BY19*$D17 -> 190254.49 | CC17: =CC19*$D17 -> 190254.49 | CG17: =CG19*$D17 -> 190254.49 | CK17: =CK19*$D17 -> 190254.49 | CO17: =CO19*$D17 -> 190254.49 | CS17: =CS19*$D17 -> 190254.49
D19: =D17/$D$32 -> 0.15132913 | E19: =E16 -> 0.041666667 | I19: =I16 -> 0.041666667 | M19: =M16 -> 0.041666667 | Q19: =Q16 -> 0.041666667 | U19: =U16 -> 0.041666667 | Y19: =Y16 -> 0.041666667 | AC19: =AC16 -> 0.041666667 | AG19: =AG16 -> 0.041666667 | AK19: =AK16 -> 0.041666667 | AO19: =AO16 -> 0.041666667 | AS19: =AS16 -> 0.041666667 | AW19: =AW16 -> 0.041666667 | BA19: =BA16 -> 0.041666667 | BE19: =BE16 -> 0.041666667 | BI19: =BI16 -> 0.041666667 | BM19: =BM16 -> 0.041666667 | BQ19: =BQ16 -> 0.041666667 | BU19: =BU16 -> 0.041666667 | BY19: =BY16 -> 0.041666667 | CC19: =CC16 -> 0.041666667 | CG19: =CG16 -> 0.041666667 | CK19: =CK16 -> 0.041666667 | CO19: =CO16 -> 0.041666667 | CS19: =CS16 -> 0.041666667
B20: ='ORÇAMENTO RESUMO'!B11 -> 3 | C20: ='ORÇAMENTO RESUMO'!E11 -> PRODUTO 03 - ASSESSORAMENTO TÉCNICO À ELABORAÇÃO DE PROJETOS E ORÇAMENTOS DE OBRAS | D20: ='ORÇAMENTO RESUMO'!K11 -> 5217278.6 | E20: =E22*$D20 -> 217386.61 | I20: =I22*$D20 -> 217386.61 | M20: =M22*$D20 -> 217386.61 | Q20: =Q22*$D20 -> 217386.61 | U20: =U22*$D20 -> 217386.61 | Y20: =Y22*$D20 -> 217386.61 | AC20: =AC22*$D20 -> 217386.61 | AG20: =AG22*$D20 -> 217386.61 | AK20: =AK22*$D20 -> 217386.61 | AO20: =AO22*$D20 -> 217386.61 | AS20: =AS22*$D20 -> 217386.61 | AW20: =AW22*$D20 -> 217386.61 | BA20: =BA22*$D20 -> 217386.61 | BE20: =BE22*$D20 -> 217386.61 | BI20: =BI22*$D20 -> 217386.61 | BM20: =BM22*$D20 -> 217386.61 | BQ20: =BQ22*$D20 -> 217386.61 | BU20: =BU22*$D20 -> 217386.61 | BY20: =BY22*$D20 -> 217386.61 | CC20: =CC22*$D20 -> 217386.61 | CG20: =CG22*$D20 -> 217386.61 | CK20: =CK22*$D20 -> 217386.61 | CO20: =CO22*$D20 -> 217386.61 | CS20: =CS22*$D20 -> 217386.61
D22: =D20/$D$32 -> 0.17291012 | E22: =E19 -> 0.041666667 | I22: =I19 -> 0.041666667 | M22: =M19 -> 0.041666667 | Q22: =Q19 -> 0.041666667 | U22: =U19 -> 0.041666667 | Y22: =Y19 -> 0.041666667 | AC22: =AC19 -> 0.041666667 | AG22: =AG19 -> 0.041666667 | AK22: =AK19 -> 0.041666667 | AO22: =AO19 -> 0.041666667 | AS22: =AS19 -> 0.041666667 | AW22: =AW19 -> 0.041666667 | BA22: =BA19 -> 0.041666667 | BE22: =BE19 -> 0.041666667 | BI22: =BI19 -> 0.041666667 | BM22: =BM19 -> 0.041666667 | BQ22: =BQ19 -> 0.041666667 | BU22: =BU19 -> 0.041666667 | BY22: =BY19 -> 0.041666667 | CC22: =CC19 -> 0.041666667 | CG22: =CG19 -> 0.041666667 | CK22: =CK19 -> 0.041666667 | CO22: =CO19 -> 0.041666667 | CS22: =CS19 -> 0.041666667
B23: ='ORÇAMENTO RESUMO'!B12 -> 4 | C23: ='ORÇAMENTO RESUMO'!E12 -> PRODUTO 04 - ASSESSORAMENTO TÉCNICO À GESTÃO DE PLANEJAMENTO HABITACIONAL | D23: ='ORÇAMENTO RESUMO'!K12 -> 4311963.1 | E23: =E25*$D23 -> 179665.13 | I23: =I25*$D23 -> 179665.13 | M23: =M25*$D23 -> 179665.13 | Q23: =Q25*$D23 -> 179665.13 | U23: =U25*$D23 -> 179665.13 | Y23: =Y25*$D23 -> 179665.13 | AC23: =AC25*$D23 -> 179665.13 | AG23: =AG25*$D23 -> 179665.13 | AK23: =AK25*$D23 -> 179665.13 | AO23: =AO25*$D23 -> 179665.13 | AS23: =AS25*$D23 -> 179665.13 | AW23: =AW25*$D23 -> 179665.13 | BA23: =BA25*$D23 -> 179665.13 | BE23: =BE25*$D23 -> 179665.13 | BI23: =BI25*$D23 -> 179665.13 | BM23: =BM25*$D23 -> 179665.13 | BQ23: =BQ25*$D23 -> 179665.13 | BU23: =BU25*$D23 -> 179665.13 | BY23: =BY25*$D23 -> 179665.13 | CC23: =CC25*$D23 -> 179665.13 | CG23: =CG25*$D23 -> 179665.13 | CK23: =CK25*$D23 -> 179665.13 | CO23: =CO25*$D23 -> 179665.13 | CS23: =CS25*$D23 -> 179665.13
D25: =D23/$D$32 -> 0.14290632 | E25: =E22 -> 0.041666667 | I25: =I22 -> 0.041666667 | M25: =M22 -> 0.041666667 | Q25: =Q22 -> 0.041666667 | U25: =U22 -> 0.041666667 | Y25: =Y22 -> 0.041666667 | AC25: =AC22 -> 0.041666667 | AG25: =AG22 -> 0.041666667 | AK25: =AK22 -> 0.041666667 | AO25: =AO22 -> 0.041666667 | AS25: =AS22 -> 0.041666667 | AW25: =AW22 -> 0.041666667 | BA25: =BA22 -> 0.041666667 | BE25: =BE22 -> 0.041666667 | BI25: =BI22 -> 0.041666667 | BM25: =BM22 -> 0.041666667 | BQ25: =BQ22 -> 0.041666667 | BU25: =BU22 -> 0.041666667 | BY25: =BY22 -> 0.041666667 | CC25: =CC22 -> 0.041666667 | CG25: =CG22 -> 0.041666667 | CK25: =CK22 -> 0.041666667 | CO25: =CO22 -> 0.041666667 | CS25: =CS22 -> 0.041666667
B26: ='ORÇAMENTO RESUMO'!B13 -> 5 | C26: ='ORÇAMENTO RESUMO'!E13 -> PRODUTO 05 - ASSESSORAMENTO TÉCNICO À GESTÃO DE PLANEJAMENTO DE SANEAMENTO | D26: ='ORÇAMENTO RESUMO'!K13 -> 3456187.2 | E26: =E28*$D26 -> 144007.8 | I26: =I28*$D26 -> 144007.8 | M26: =M28*$D26 -> 144007.8 | Q26: =Q28*$D26 -> 144007.8 | U26: =U28*$D26 -> 144007.8 | Y26: =Y28*$D26 -> 144007.8 | AC26: =AC28*$D26 -> 144007.8 | AG26: =AG28*$D26 -> 144007.8 | AK26: =AK28*$D26 -> 144007.8 | AO26: =AO28*$D26 -> 144007.8 | AS26: =AS28*$D26 -> 144007.8 | AW26: =AW28*$D26 -> 144007.8 | BA26: =BA28*$D26 -> 144007.8 | BE26: =BE28*$D26 -> 144007.8 | BI26: =BI28*$D26 -> 144007.8 | BM26: =BM28*$D26 -> 144007.8 | BQ26: =BQ28*$D26 -> 144007.8 | BU26: =BU28*$D26 -> 144007.8 | BY26: =BY28*$D26 -> 144007.8 | CC26: =CC28*$D26 -> 144007.8 | CG26: =CG28*$D26 -> 144007.8 | CK26: =CK28*$D26 -> 144007.8 | CO26: =CO28*$D26 -> 144007.8 | CS26: =CS28*$D26 -> 144007.8
D28: =D26/$D$32 -> 0.11454434 | E28: =E25 -> 0.041666667 | I28: =I25 -> 0.041666667 | M28: =M25 -> 0.041666667 | Q28: =Q25 -> 0.041666667 | U28: =U25 -> 0.041666667 | Y28: =Y25 -> 0.041666667 | AC28: =AC25 -> 0.041666667 | AG28: =AG25 -> 0.041666667 | AK28: =AK25 -> 0.041666667 | AO28: =AO25 -> 0.041666667 | AS28: =AS25 -> 0.041666667 | AW28: =AW25 -> 0.041666667 | BA28: =BA25 -> 0.041666667 | BE28: =BE25 -> 0.041666667 | BI28: =BI25 -> 0.041666667 | BM28: =BM25 -> 0.041666667 | BQ28: =BQ25 -> 0.041666667 | BU28: =BU25 -> 0.041666667 | BY28: =BY25 -> 0.041666667 | CC28: =CC25 -> 0.041666667 | CG28: =CG25 -> 0.041666667 | CK28: =CK25 -> 0.041666667 | CO28: =CO25 -> 0.041666667 | CS28: =CS25 -> 0.041666667
B29: ='ORÇAMENTO RESUMO'!B14 -> 6 | C29: ='ORÇAMENTO RESUMO'!E14 -> PRODUTO 06 - ASSESSORAMENTO TÉCNICO À GESTÃO DE CONTROLE INTERNO | D29: ='ORÇAMENTO RESUMO'!K14 -> 3241608.5 | E29: =E31*$D29 -> 135067.02 | I29: =I31*$D29 -> 135067.02 | M29: =M31*$D29 -> 135067.02 | Q29: =Q31*$D29 -> 135067.02 | U29: =U31*$D29 -> 135067.02 | Y29: =Y31*$D29 -> 135067.02 | AC29: =AC31*$D29 -> 135067.02 | AG29: =AG31*$D29 -> 135067.02 | AK29: =AK31*$D29 -> 135067.02 | AO29: =AO31*$D29 -> 135067.02 | AS29: =AS31*$D29 -> 135067.02 | AW29: =AW31*$D29 -> 135067.02 | BA29: =BA31*$D29 -> 135067.02 | BE29: =BE31*$D29 -> 135067.02 | BI29: =BI31*$D29 -> 135067.02 | BM29: =BM31*$D29 -> 135067.02 | BQ29: =BQ31*$D29 -> 135067.02 | BU29: =BU31*$D29 -> 135067.02 | BY29: =BY31*$D29 -> 135067.02 | CC29: =CC31*$D29 -> 135067.02 | CG29: =CG31*$D29 -> 135067.02 | CK29: =CK31*$D29 -> 135067.02 | CO29: =CO31*$D29 -> 135067.02 | CS29: =CS31*$D29 -> 135067.02
D31: =D29/$D$32 -> 0.10743281 | E31: =E28 -> 0.041666667 | I31: =I28 -> 0.041666667 | M31: =M28 -> 0.041666667 | Q31: =Q28 -> 0.041666667 | U31: =U28 -> 0.041666667 | Y31: =Y28 -> 0.041666667 | AC31: =AC28 -> 0.041666667 | AG31: =AG28 -> 0.041666667 | AK31: =AK28 -> 0.041666667 | AO31: =AO28 -> 0.041666667 | AS31: =AS28 -> 0.041666667 | AW31: =AW28 -> 0.041666667 | BA31: =BA28 -> 0.041666667 | BE31: =BE28 -> 0.041666667 | BI31: =BI28 -> 0.041666667 | BM31: =BM28 -> 0.041666667 | BQ31: =BQ28 -> 0.041666667 | BU31: =BU28 -> 0.041666667 | BY31: =BY28 -> 0.041666667 | CC31: =CC28 -> 0.041666667 | CG31: =CG28 -> 0.041666667 | CK31: =CK28 -> 0.041666667 | CO31: =CO28 -> 0.041666667 | CS31: =CS28 -> 0.041666667
C32: TOTAL SIMPLES COM BDI | D32: =SUM(D29,D26,D23,D20,D17,D14) -> 30173356 | E32: =SUM(E29,E26,E23,E20,E17,E14) -> 1257223.2 | F32: =SUM(#REF!,#REF!,#REF!,#REF!,#REF!,#REF!,#REF!,#REF!,#REF!,#REF!,#REF!,#REF!,#REF!,#REF!,#REF!,#REF!,#REF!,F29,F26,F23,F20,F17,F14) -> #REF! | G32: =SUM(#REF!,#REF!,#REF!,#REF!,#REF!,#REF!,#REF!,#REF!,#REF!,#REF!,#REF!,#REF!,#REF!,#REF!,#REF!,#REF!,#REF!,G29,G26,G23,G20,G17,G14) -> #REF! | H32: =SUM(#REF!,#REF!,#REF!,#REF!,#REF!,#REF!,#REF!,#REF!,#REF!,#REF!,#REF!,#REF!,#REF!,#REF!,#REF!,#REF!,#REF!,H29,H26,H23,H20,H17,H14) -> #REF! | I32: =SUM(I29,I26,I23,I20,I17,I14) -> 1257223.2 | J32: =SUM(#REF!,#REF!,#REF!,#REF!,#REF!,#REF!,#REF!,#REF!,#REF!,#REF!,#REF!,#REF!,#REF!,#REF!,#REF!,#REF!,#REF!,J29,J26,J23,J20,J17,J14) -> #REF! | K32: =SUM(#REF!,#REF!,#REF!,#REF!,#REF!,#REF!,#REF!,#REF!,#REF!,#REF!,#REF!,#REF!,#REF!,#REF!,#REF!,#REF!,#REF!,K29,K26,K23,K20,K17,K14) -> #REF! | L32: =SUM(#REF!,#REF!,#REF!,#REF!,#REF!,#REF!,#REF!,#REF!,#REF!,#REF!,#REF!,#REF!,#REF!,#REF!,#REF!,#REF!,#REF!,L29,L26,L23,L20,L17,L14) -> #REF! | M32: =SUM(M29,M26,M23,M20,M17,M14) -> 1257223.2 | N32: =SUM(#REF!,#REF!,#REF!,#REF!,#REF!,#REF!,#REF!,#REF!,#REF!,#REF!,#REF!,#REF!,#REF!,#REF!,#REF!,#REF!,#REF!,N29,N26,N23,N20,N17,N14) -> #REF! | O32: =SUM(#REF!,#REF!,#REF!,#REF!,#REF!,#REF!,#REF!,#REF!,#REF!,#REF!,#REF!,#REF!,#REF!,#REF!,#REF!,#REF!,#REF!,O29,O26,O23,O20,O17,O14) -> #REF! | P32: =SUM(#REF!,#REF!,#REF!,#REF!,#REF!,#REF!,#REF!,#REF!,#REF!,#REF!,#REF!,#REF!,#REF!,#REF!,#REF!,#REF!,#REF!,P29,P26,P23,P20,P17,P14) -> #REF! | Q32: =SUM(Q29,Q26,Q23,Q20,Q17,Q14) -> 1257223.2 | R32: =SUM(#REF!,#REF!,#REF!,#REF!,#REF!,#REF!,#REF!,#REF!,#REF!,#REF!,#REF!,#REF!,#REF!,#REF!,#REF!,#REF!,#REF!,R29,R26,R23,R20,R17,R14) -> #REF! | S32: =SUM(#REF!,#REF!,#REF!,#REF!,#REF!,#REF!,#REF!,#REF!,#REF!,#REF!,#REF!,#REF!,#REF!,#REF!,#REF!,#REF!,#REF!,S29,S26,S23,S20,S17,S14) -> #REF! | T32: =SUM(#REF!,#REF!,#REF!,#REF!,#REF!,#REF!,#REF!,#REF!,#REF!,#REF!,#REF!,#REF!,#REF!,#REF!,#REF!,#REF!,#REF!,T29,T26,T23,T20,T17,T14) -> #REF! | U32: =SUM(U29,U26,U23,U20,U17,U14) -> 1257223.2 | V32: =SUM(#REF!,#REF!,#REF!,#REF!,#REF!,#REF!,#REF!,#REF!,#REF!,#REF!,#REF!,#REF!,#REF!,#REF!,#REF!,#REF!,#REF!,V29,V26,V23,V20,V17,V14) -> #REF! | W32: =SUM(#REF!,#REF!,#REF!,#REF!,#REF!,#REF!,#REF!,#REF!,#REF!,#REF!,#REF!,#REF!,#REF!,#REF!,#REF!,#REF!,#REF!,W29,W26,W23,W20,W17,W14) -> #REF! | X32: =SUM(#REF!,#REF!,#REF!,#REF!,#REF!,#REF!,#REF!,#REF!,#REF!,#REF!,#REF!,#REF!,#REF!,#REF!,#REF!,#REF!,#REF!,X29,X26,X23,X20,X17,X14) -> #REF! | Y32: =SUM(Y29,Y26,Y23,Y20,Y17,Y14) -> 1257223.2 | Z32: =SUM(#REF!,#REF!,#REF!,#REF!,#REF!,#REF!,#REF!,#REF!,#REF!,#REF!,#REF!,#REF!,#REF!,#REF!,#REF!,#REF!,#REF!,Z29,Z26,Z23,Z20,Z17,Z14) -> #REF! | AA32: =SUM(#REF!,#REF!,#REF!,#REF!,#REF!,#REF!,#REF!,#REF!,#REF!,#REF!,#REF!,#REF!,#REF!,#REF!,#REF!,#REF!,#REF!,AA29,AA26,AA23,AA20,AA17,AA14) -> #REF! | AB32: =SUM(#REF!,#REF!,#REF!,#REF!,#REF!,#REF!,#REF!,#REF!,#REF!,#REF!,#REF!,#REF!,#REF!,#REF!,#REF!,#REF!,#REF!,AB29,AB26,AB23,AB20,AB17,AB14) -> #REF! | AC32: =SUM(AC29,AC26,AC23,AC20,AC17,AC14) -> 1257223.2 | AD32: =SUM(#REF!,#REF!,#REF!,#REF!,#REF!,#REF!,#REF!,#REF!,#REF!,#REF!,#REF!,#REF!,#REF!,#REF!,#REF!,#REF!,#REF!,AD29,AD26,AD23,AD20,AD17,AD14) -> #REF! | AE32: =SUM(#REF!,#REF!,#REF!,#REF!,#REF!,#REF!,#REF!,#REF!,#REF!,#REF!,#REF!,#REF!,#REF!,#REF!,#REF!,#REF!,#REF!,AE29,AE26,AE23,AE20,AE17,AE14) -> #REF! | AF32: =SUM(#REF!,#REF!,#REF!,#REF!,#REF!,#REF!,#REF!,#REF!,#REF!,#REF!,#REF!,#REF!,#REF!,#REF!,#REF!,#REF!,#REF!,AF29,AF26,AF23,AF20,AF17,AF14) -> #REF! | AG32: =SUM(AG29,AG26,AG23,AG20,AG17,AG14) -> 1257223.2 | AH32: =SUM(#REF!,#REF!,#REF!,#REF!,#REF!,#REF!,#REF!,#REF!,#REF!,#REF!,#REF!,#REF!,#REF!,#REF!,#REF!,#REF!,#REF!,AH29,AH26,AH23,AH20,AH17,AH14) -> #REF! | AI32: =SUM(#REF!,#REF!,#REF!,#REF!,#REF!,#REF!,#REF!,#REF!,#REF!,#REF!,#REF!,#REF!,#REF!,#REF!,#REF!,#REF!,#REF!,AI29,AI26,AI23,AI20,AI17,AI14) -> #REF! | AJ32: =SUM(#REF!,#REF!,#REF!,#REF!,#REF!,#REF!,#REF!,#REF!,#REF!,#REF!,#REF!,#REF!,#REF!,#REF!,#REF!,#REF!,#REF!,AJ29,AJ26,AJ23,AJ20,AJ17,AJ14) -> #REF! | AK32: =SUM(AK29,AK26,AK23,AK20,AK17,AK14) -> 1257223.2 | AL32: =SUM(#REF!,#REF!,#REF!,#REF!,#REF!,#REF!,#REF!,#REF!,#REF!,#REF!,#REF!,#REF!,#REF!,#REF!,#REF!,#REF!,#REF!,AL29,AL26,AL23,AL20,AL17,AL14) -> #REF! | AM32: =SUM(#REF!,#REF!,#REF!,#REF!,#REF!,#REF!,#REF!,#REF!,#REF!,#REF!,#REF!,#REF!,#REF!,#REF!,#REF!,#REF!,#REF!,AM29,AM26,AM23,AM20,AM17,AM14) -> #REF! | AN32: =SUM(#REF!,#REF!,#REF!,#REF!,#REF!,#REF!,#REF!,#REF!,#REF!,#REF!,#REF!,#REF!,#REF!,#REF!,#REF!,#REF!,#REF!,AN29,AN26,AN23,AN20,AN17,AN14) -> #REF! | AO32: =SUM(AO29,AO26,AO23,AO20,AO17,AO14) -> 1257223.2 | AP32: =SUM(#REF!,#REF!,#REF!,#REF!,#REF!,#REF!,#REF!,#REF!,#REF!,#REF!,#REF!,#REF!,#REF!,#REF!,#REF!,#REF!,#REF!,AP29,AP26,AP23,AP20,AP17,AP14) -> #REF! | AQ32: =SUM(#REF!,#REF!,#REF!,#REF!,#REF!,#REF!,#REF!,#REF!,#REF!,#REF!,#REF!,#REF!,#REF!,#REF!,#REF!,#REF!,#REF!,AQ29,AQ26,AQ23,AQ20,AQ17,AQ14) -> #REF! | AR32: =SUM(#REF!,#REF!,#REF!,#REF!,#REF!,#REF!,#REF!,#REF!,#REF!,#REF!,#REF!,#REF!,#REF!,#REF!,#REF!,#REF!,#REF!,AR29,AR26,AR23,AR20,AR17,AR14) -> #REF! | AS32: =SUM(AS29,AS26,AS23,AS20,AS17,AS14) -> 1257223.2 | AT32: =SUM(#REF!,#REF!,#REF!,#REF!,#REF!,#REF!,#REF!,#REF!,#REF!,#REF!,#REF!,#REF!,#REF!,#REF!,#REF!,#REF!,#REF!,AT29,AT26,AT23,AT20,AT17,AT14) -> #REF! | AU32: =SUM(#REF!,#REF!,#REF!,#REF!,#REF!,#REF!,#REF!,#REF!,#REF!,#REF!,#REF!,#REF!,#REF!,#REF!,#REF!,#REF!,#REF!,AU29,AU26,AU23,AU20,AU17,AU14) -> #REF! | AV32: =SUM(#REF!,#REF!,#REF!,#REF!,#REF!,#REF!,#REF!,#REF!,#REF!,#REF!,#REF!,#REF!,#REF!,#REF!,#REF!,#REF!,#REF!,AV29,AV26,AV23,AV20,AV17,AV14) -> #REF! | AW32: =SUM(AW29,AW26,AW23,AW20,AW17,AW14) -> 1257223.2 | AX32: =SUM(#REF!,#REF!,#REF!,#REF!,#REF!,#REF!,#REF!,#REF!,#REF!,#REF!,#REF!,#REF!,#REF!,#REF!,#REF!,#REF!,#REF!,AX29,AX26,AX23,AX20,AX17,AX14) -> #REF! | AY32: =SUM(#REF!,#REF!,#REF!,#REF!,#REF!,#REF!,#REF!,#REF!,#REF!,#REF!,#REF!,#REF!,#REF!,#REF!,#REF!,#REF!,#REF!,AY29,AY26,AY23,AY20,AY17,AY14) -> #REF! | AZ32: =SUM(#REF!,#REF!,#REF!,#REF!,#REF!,#REF!,#REF!,#REF!,#REF!,#REF!,#REF!,#REF!,#REF!,#REF!,#REF!,#REF!,#REF!,AZ29,AZ26,AZ23,AZ20,AZ17,AZ14) -> #REF! | BA32: =SUM(BA29,BA26,BA23,BA20,BA17,BA14) -> 1257223.2 | BB32: =SUM(#REF!,#REF!,#REF!,#REF!,#REF!,#REF!,#REF!,#REF!,#REF!,#REF!,#REF!,#REF!,#REF!,#REF!,#REF!,#REF!,#REF!,BB29,BB26,BB23,BB20,BB17,BB14) -> #REF! | BC32: =SUM(#REF!,#REF!,#REF!,#REF!,#REF!,#REF!,#REF!,#REF!,#REF!,#REF!,#REF!,#REF!,#REF!,#REF!,#REF!,#REF!,#REF!,BC29,BC26,BC23,BC20,BC17,BC14) -> #REF! | BD32: =SUM(#REF!,#REF!,#REF!,#REF!,#REF!,#REF!,#REF!,#REF!,#REF!,#REF!,#REF!,#REF!,#REF!,#REF!,#REF!,#REF!,#REF!,BD29,BD26,BD23,BD20,BD17,BD14) -> #REF! | BE32: =SUM(BE29,BE26,BE23,BE20,BE17,BE14) -> 1257223.2 | BF32: =SUM(#REF!,#REF!,#REF!,#REF!,#REF!,#REF!,#REF!,#REF!,#REF!,#REF!,#REF!,#REF!,#REF!,#REF!,#REF!,#REF!,#REF!,BF29,BF26,BF23,BF20,BF17,BF14) -> #REF! | BG32: =SUM(#REF!,#REF!,#REF!,#REF!,#REF!,#REF!,#REF!,#REF!,#REF!,#REF!,#REF!,#REF!,#REF!,#REF!,#REF!,#REF!,#REF!,BG29,BG26,BG23,BG20,BG17,BG14) -> #REF! | BH32: =SUM(#REF!,#REF!,#REF!,#REF!,#REF!,#REF!,#REF!,#REF!,#REF!,#REF!,#REF!,#REF!,#REF!,#REF!,#REF!,#REF!,#REF!,BH29,BH26,BH23,BH20,BH17,BH14) -> #REF! | BI32: =SUM(BI29,BI26,BI23,BI20,BI17,BI14) -> 1257223.2 | BJ32: =SUM(#REF!,#REF!,#REF!,#REF!,#REF!,#REF!,#REF!,#REF!,#REF!,#REF!,#REF!,#REF!,#REF!,#REF!,#REF!,#REF!,#REF!,BJ29,BJ26,BJ23,BJ20,BJ17,BJ14) -> #REF! | BK32: =SUM(#REF!,#REF!,#REF!,#REF!,#REF!,#REF!,#REF!,#REF!,#REF!,#REF!,#REF!,#REF!,#REF!,#REF!,#REF!,#REF!,#REF!,BK29,BK26,BK23,BK20,BK17,BK14) -> #REF! | BL32: =SUM(#REF!,#REF!,#REF!,#REF!,#REF!,#REF!,#REF!,#REF!,#REF!,#REF!,#REF!,#REF!,#REF!,#REF!,#REF!,#REF!,#REF!,BL29,BL26,BL23,BL20,BL17,BL14) -> #REF! | BM32: =SUM(BM29,BM26,BM23,BM20,BM17,BM14) -> 1257223.2 | BN32: =SUM(#REF!,#REF!,#REF!,#REF!,#REF!,#REF!,#REF!,#REF!,#REF!,#REF!,#REF!,#REF!,#REF!,#REF!,#REF!,#REF!,#REF!,BN29,BN26,BN23,BN20,BN17,BN14) -> #REF! | BO32: =SUM(#REF!,#REF!,#REF!,#REF!,#REF!,#REF!,#REF!,#REF!,#REF!,#REF!,#REF!,#REF!,#REF!,#REF!,#REF!,#REF!,#REF!,BO29,BO26,BO23,BO20,BO17,BO14) -> #REF! | BP32: =SUM(#REF!,#REF!,#REF!,#REF!,#REF!,#REF!,#REF!,#REF!,#REF!,#REF!,#REF!,#REF!,#REF!,#REF!,#REF!,#REF!,#REF!,BP29,BP26,BP23,BP20,BP17,BP14) -> #REF! | BQ32: =SUM(BQ29,BQ26,BQ23,BQ20,BQ17,BQ14) -> 1257223.2 | BR32: =SUM(#REF!,#REF!,#REF!,#REF!,#REF!,#REF!,#REF!,#REF!,#REF!,#REF!,#REF!,#REF!,#REF!,#REF!,#REF!,#REF!,#REF!,BR29,BR26,BR23,BR20,BR17,BR14) -> #REF! | BS32: =SUM(#REF!,#REF!,#REF!,#REF!,#REF!,#REF!,#REF!,#REF!,#REF!,#REF!,#REF!,#REF!,#REF!,#REF!,#REF!,#REF!,#REF!,BS29,BS26,BS23,BS20,BS17,BS14) -> #REF! | BT32: =SUM(#REF!,#REF!,#REF!,#REF!,#REF!,#REF!,#REF!,#REF!,#REF!,#REF!,#REF!,#REF!,#REF!,#REF!,#REF!,#REF!,#REF!,BT29,BT26,BT23,BT20,BT17,BT14) -> #REF! | BU32: =SUM(BU29,BU26,BU23,BU20,BU17,BU14) -> 1257223.2 | BV32: =SUM(#REF!,#REF!,#REF!,#REF!,#REF!,#REF!,#REF!,#REF!,#REF!,#REF!,#REF!,#REF!,#REF!,#REF!,#REF!,#REF!,#REF!,BV29,BV26,BV23,BV20,BV17,BV14) -> #REF! | BW32: =SUM(#REF!,#REF!,#REF!,#REF!,#REF!,#REF!,#REF!,#REF!,#REF!,#REF!,#REF!,#REF!,#REF!,#REF!,#REF!,#REF!,#REF!,BW29,BW26,BW23,BW20,BW17,BW14) -> #REF! | BX32: =SUM(#REF!,#REF!,#REF!,#REF!,#REF!,#REF!,#REF!,#REF!,#REF!,#REF!,#REF!,#REF!,#REF!,#REF!,#REF!,#REF!,#REF!,BX29,BX26,BX23,BX20,BX17,BX14) -> #REF! | BY32: =SUM(BY29,BY26,BY23,BY20,BY17,BY14) -> 1257223.2 | BZ32: =SUM(#REF!,#REF!,#REF!,#REF!,#REF!,#REF!,#REF!,#REF!,#REF!,#REF!,#REF!,#REF!,#REF!,#REF!,#REF!,#REF!,#REF!,BZ29,BZ26,BZ23,BZ20,BZ17,BZ14) -> #REF! | CA32: =SUM(#REF!,#REF!,#REF!,#REF!,#REF!,#REF!,#REF!,#REF!,#REF!,#REF!,#REF!,#REF!,#REF!,#REF!,#REF!,#REF!,#REF!,CA29,CA26,CA23,CA20,CA17,CA14) -> #REF! | CB32: =SUM(#REF!,#REF!,#REF!,#REF!,#REF!,#REF!,#REF!,#REF!,#REF!,#REF!,#REF!,#REF!,#REF!,#REF!,#REF!,#REF!,#REF!,CB29,CB26,CB23,CB20,CB17,CB14) -> #REF! | CC32: =SUM(CC29,CC26,CC23,CC20,CC17,CC14) -> 1257223.2 | CD32: =SUM(#REF!,#REF!,#REF!,#REF!,#REF!,#REF!,#REF!,#REF!,#REF!,#REF!,#REF!,#REF!,#REF!,#REF!,#REF!,#REF!,#REF!,CD29,CD26,CD23,CD20,CD17,CD14) -> #REF! | CE32: =SUM(#REF!,#REF!,#REF!,#REF!,#REF!,#REF!,#REF!,#REF!,#REF!,#REF!,#REF!,#REF!,#REF!,#REF!,#REF!,#REF!,#REF!,CE29,CE26,CE23,CE20,CE17,CE14) -> #REF! | CF32: =SUM(#REF!,#REF!,#REF!,#REF!,#REF!,#REF!,#REF!,#REF!,#REF!,#REF!,#REF!,#REF!,#REF!,#REF!,#REF!,#REF!,#REF!,CF29,CF26,CF23,CF20,CF17,CF14) -> #REF! | CG32: =SUM(CG29,CG26,CG23,CG20,CG17,CG14) -> 1257223.2 | CH32: =SUM(#REF!,#REF!,#REF!,#REF!,#REF!,#REF!,#REF!,#REF!,#REF!,#REF!,#REF!,#REF!,#REF!,#REF!,#REF!,#REF!,#REF!,CH29,CH26,CH23,CH20,CH17,CH14) -> #REF! | CI32: =SUM(#REF!,#REF!,#REF!,#REF!,#REF!,#REF!,#REF!,#REF!,#REF!,#REF!,#REF!,#REF!,#REF!,#REF!,#REF!,#REF!,#REF!,CI29,CI26,CI23,CI20,CI17,CI14) -> #REF! | CJ32: =SUM(#REF!,#REF!,#REF!,#REF!,#REF!,#REF!,#REF!,#REF!,#REF!,#REF!,#REF!,#REF!,#REF!,#REF!,#REF!,#REF!,#REF!,CJ29,CJ26,CJ23,CJ20,CJ17,CJ14) -> #REF! | CK32: =SUM(CK29,CK26,CK23,CK20,CK17,CK14) -> 1257223.2 | CL32: =SUM(#REF!,#REF!,#REF!,#REF!,#REF!,#REF!,#REF!,#REF!,#REF!,#REF!,#REF!,#REF!,#REF!,#REF!,#REF!,#REF!,#REF!,CL29,CL26,CL23,CL20,CL17,CL14) -> #REF! | CM32: =SUM(#REF!,#REF!,#REF!,#REF!,#REF!,#REF!,#REF!,#REF!,#REF!,#REF!,#REF!,#REF!,#REF!,#REF!,#REF!,#REF!,#REF!,CM29,CM26,CM23,CM20,CM17,CM14) -> #REF! | CN32: =SUM(#REF!,#REF!,#REF!,#REF!,#REF!,#REF!,#REF!,#REF!,#REF!,#REF!,#REF!,#REF!,#REF!,#REF!,#REF!,#REF!,#REF!,CN29,CN26,CN23,CN20,CN17,CN14) -> #REF! | CO32: =SUM(CO29,CO26,CO23,CO20,CO17,CO14) -> 1257223.2 | CP32: =SUM(#REF!,#REF!,#REF!,#REF!,#REF!,#REF!,#REF!,#REF!,#REF!,#REF!,#REF!,#REF!,#REF!,#REF!,#REF!,#REF!,#REF!,CP29,CP26,CP23,CP20,CP17,CP14) -> #REF! | CQ32: =SUM(#REF!,#REF!,#REF!,#REF!,#REF!,#REF!,#REF!,#REF!,#REF!,#REF!,#REF!,#REF!,#REF!,#REF!,#REF!,#REF!,#REF!,CQ29,CQ26,CQ23,CQ20,CQ17,CQ14) -> #REF! | CR32: =SUM(#REF!,#REF!,#REF!,#REF!,#REF!,#REF!,#REF!,#REF!,#REF!,#REF!,#REF!,#REF!,#REF!,#REF!,#REF!,#REF!,#REF!,CR29,CR26,CR23,CR20,CR17,CR14) -> #REF! | CS32: =SUM(CS29,CS26,CS23,CS20,CS17,CS14) -> 1257223.2 | CT32: =SUM(#REF!,#REF!,#REF!,#REF!,#REF!,#REF!,#REF!,#REF!,#REF!,#REF!,#REF!,#REF!,#REF!,#REF!,#REF!,#REF!,#REF!,CT29,CT26,CT23,CT20,CT17,CT14) -> #REF! | CU32: =SUM(#REF!,#REF!,#REF!,#REF!,#REF!,#REF!,#REF!,#REF!,#REF!,#REF!,#REF!,#REF!,#REF!,#REF!,#REF!,#REF!,#REF!,CU29,CU26,CU23,CU20,CU17,CU14) -> #REF! | CV32: =SUM(#REF!,#REF!,#REF!,#REF!,#REF!,#REF!,#REF!,#REF!,#REF!,#REF!,#REF!,#REF!,#REF!,#REF!,#REF!,#REF!,#REF!,CV29,CV26,CV23,CV20,CV17,CV14) -> #REF!
C33: PERCENTUAL SIMPLES | D33: =SUM(D31,D28,D25,D22,D19,D16) -> 1 | E33: =E32/$D$32 -> 0.041666667 | I33: =I32/$D$32 -> 0.041666667 | M33: =M32/$D$32 -> 0.041666667 | Q33: =Q32/$D$32 -> 0.041666667 | U33: =U32/$D$32 -> 0.041666667 | Y33: =Y32/$D$32 -> 0.041666667 | AC33: =AC32/$D$32 -> 0.041666667 | AG33: =AG32/$D$32 -> 0.041666667 | AK33: =AK32/$D$32 -> 0.041666667 | AO33: =AO32/$D$32 -> 0.041666667 | AS33: =AS32/$D$32 -> 0.041666667 | AW33: =AW32/$D$32 -> 0.041666667 | BA33: =BA32/$D$32 -> 0.041666667 | BE33: =BE32/$D$32 -> 0.041666667 | BI33: =BI32/$D$32 -> 0.041666667 | BM33: =BM32/$D$32 -> 0.041666667 | BQ33: =BQ32/$D$32 -> 0.041666667 | BU33: =BU32/$D$32 -> 0.041666667 | BY33: =BY32/$D$32 -> 0.041666667 | CC33: =CC32/$D$32 -> 0.041666667 | CG33: =CG32/$D$32 -> 0.041666667 | CK33: =CK32/$D$32 -> 0.041666667 | CO33: =CO32/$D$32 -> 0.041666667 | CS33: =CS32/$D$32 -> 0.041666667
C34: TOTAL ACUMULADO COM BDI | E34: =+E32 -> 1257223.2 | I34: =+I32+E34 -> 2514446.3 | M34: =+M32+I34 -> 3771669.5 | Q34: =+Q32+M34 -> 5028892.6 | U34: =+U32+Q34 -> 6286115.8 | Y34: =+Y32+U34 -> 7543339 | AC34: =+AC32+Y34 -> 8800562.1 | AG34: =+AG32+AC34 -> 10057785 | AK34: =+AK32+AG34 -> 11315008 | AO34: =+AO32+AK34 -> 12572232 | AS34: =+AS32+AO34 -> 13829455 | AW34: =+AW32+AS34 -> 15086678 | BA34: =+BA32+AW34 -> 16343901 | BE34: =+BE32+BA34 -> 17601124 | BI34: =+BI32+BE34 -> 18858347 | BM34: =+BM32+BI34 -> 20115571 | BQ34: =+BQ32+BM34 -> 21372794 | BU34: =+BU32+BQ34 -> 22630017 | BY34: =+BY32+BU34 -> 23887240 | CC34: =+CC32+BY34 -> 25144463 | CG34: =+CG32+CC34 -> 26401686 | CK34: =+CK32+CG34 -> 27658910 | CO34: =+CO32+CK34 -> 28916133 | CS34: =+CS32+CO34 -> 30173356
C35: PERCENTUAL ACUMULADO | E35: =E33 -> 0.041666667 | I35: =+I33+E35 -> 0.083333333 | M35: =+M33+I35 -> 0.125 | Q35: =+Q33+M35 -> 0.16666667 | U35: =+U33+Q35 -> 0.20833333 | Y35: =+Y33+U35 -> 0.25 | AC35: =+AC33+Y35 -> 0.29166667 | AG35: =+AG33+AC35 -> 0.33333333 | AK35: =+AK33+AG35 -> 0.375 | AO35: =+AO33+AK35 -> 0.41666667 | AS35: =+AS33+AO35 -> 0.45833333 | AW35: =+AW33+AS35 -> 0.5 | BA35: =+BA33+AW35 -> 0.54166667 | BE35: =+BE33+BA35 -> 0.58333333 | BI35: =+BI33+BE35 -> 0.625 | BM35: =+BM33+BI35 -> 0.66666667 | BQ35: =+BQ33+BM35 -> 0.70833333 | BU35: =+BU33+BQ35 -> 0.75 | BY35: =+BY33+BU35 -> 0.79166667 | CC35: =+CC33+BY35 -> 0.83333333 | CG35: =+CG33+CC35 -> 0.875 | CK35: =+CK33+CG35 -> 0.91666667 | CO35: =+CO33+CK35 -> 0.95833333 | CS35: =+CS33+CO35 -> 1

Sheet CURVA ABC DE SERVIÇOS
B1: CURVA ABC DE SERVIÇOS
B3: OBJETO: | C3: ='ORÇAMENTO SINTÉTICO'!C3 -> Contratação de empresa, ou consórcio de empresas, com prática na execução de serviços técnicos especializados, de caráter subsidiário e temporário em assessoramento nas áreas de engenharia, arquitetura, jurídica e apoio na gestão de ações e projetos no âmbito da Secretaria de Estado da Infraestrutura – SEINFRA | I3: DATA: | J3: =COMPOSIÇÕES!K3 -> 10/12/2024
B4: LOCAL: | C4: ='ORÇAMENTO SINTÉTICO'!C4 -> Rua 05, n. 833, Quadra C5, Lote 23, Setor Oeste, Goiânia - GO | I4: REVISÃO: | J4: =COMPOSIÇÕES!K4 -> 00
B5: BASE: | C5: ='ORÇAMENTO SINTÉTICO'!C5 -> SINAPI - 10/2024 (GO) / SETOP - 07/2024 (MG) / SEINFRA - 028 (CE) / EMBASA - 05/2024 (BA) | G5: PRAZO: | H5: =COMPOSIÇÕES!I5 -> 24 MESES | I5: BDI OBRA: | J5: =COMPOSIÇÕES!K5 -> 0.4458
B8: Banco | C8: Código | D8: Descrição | E8: Und | F8: Quant. | G8: Valor Unit | H8: Total | I8: Peso (%) | J8: Peso Acumulado (%)
B9: Próprio | C9: 00003 | D9: Apoiar a elaboração e análise de anteprojetos, projetos básicos e executivos de engenharia | E9: mês | F9: 24 | G9: 90452.45 | H9: =+TRUNC(F9*G9,2) -> 2170858.8 | I9: =+H9/$G$40 -> 0.10401983 | J9: =+I9 -> 0.10401983
B10: Próprio | C10: 00004 | D10: Apoiar a elaboração, análise e revisão de documentação de planejamento de contratações de projetos e obras de infraestrutura | E10: mês | F10: 24 | G10: 69171.49 | H10: =+TRUNC(F10*G10,2) -> 1660115.8 | I10: =+H10/$G$40 -> 0.079546839 | J10: =+J9+I10 -> 0.18356667
B11: Próprio | C11: 00008 | D11: Apoiar a elaboração, análise e revisão de relatórios diários de obras segundo as diretrizes da área técnica | E11: mês | F11: 24 | G11: 63180.09 | H11: =+TRUNC(F11*G11,2) -> 1516322.2 | I11: =+H11/$G$40 -> 0.072656762 | J11: =+J10+I11 -> 0.25622343
B12: Próprio | C12: 00011 | D12: Apoiar a elaboração e análise de projetos de infraestrutura | E12: mês | F12: 24 | G12: 58448.27 | H12: =+TRUNC(F12*G12,2) -> 1402758.5 | I12: =+H12/$G$40 -> 0.067215194 | J12: =+J11+I12 -> 0.32343862
B13: Próprio | C13: 00014 | D13: Apoiar a elaboração e revisão de relatórios de análise e/ou fiscalização de projetos de infraestrutura | E13: mês | F13: 24 | G13: 55420.04 | H13: =+TRUNC(F13*G13,2) -> 1330081 | I13: =+H13/$G$40 -> 0.063732746 | J13: =+J12+I13 -> 0.38717137
B14: Próprio | C14: 00021 | D14: Apoiar a elaboração, análise e revisão de estudos de viabilidade para implantação de loteamentos | E14: mês | F14: 24 | G14: 48978.43 | H14: =+TRUNC(F14*G14,2) -> 1175482.3 | I14: =+H14/$G$40 -> 0.056324929 | J14: =+J13+I14 -> 0.4434963
B15: Próprio | C15: 00018 | D15: Apoiar a elaboração, análise e revisão de Programas, Planos e Relatórios de políticas públicas habitacionais de interesse social, para subsidiar decisões administrativas | E15: mês | F15: 24 | G15: 43649.86 | H15: =+TRUNC(F15*G15,2) -> 1047596.6 | I15: =+H15/$G$40 -> 0.050197103 | J15: =+J14+I15 -> 0.4936934
B16: Próprio | C16: 00006 | D16: Apoiar a elaboração, análise e revisão de Relatórios de Vistoria de obras e projetos de interesse da SEINFRA | E16: mês | F16: 24 | G16: 41502.45 | H16: =+TRUNC(F16*G16,2) -> 996058.8 | I16: =+H16/$G$40 -> 0.047727593 | J16: =+J15+I16 -> 0.54142099
B17: Próprio | C17: 00009 | D17: Apoiar a elaboração, análise e revisão de relatórios de gestão de contratos de obras de infraestrutura | E17: mês | F17: 24 | G17: 40560.34 | H17: =+TRUNC(F17*G17,2) -> 973448.16 | I17: =+H17/$G$40 -> 0.046644171 | J17: =+J16+I17 -> 0.58806517
B18: Próprio | C18: 00025 | D18: Apoiar a elaboração, análise e revisão de relatórios de projetos de infraestrutura de saneamento para subsidiar suas aprovações | E18: mês | F18: 24 | G18: 37580.62 | H18: =+TRUNC(F18*G18,2) -> 901934.88 | I18: =+H18/$G$40 -> 0.04321751 | J18: =+J17+I18 -> 0.63128267
B19: Próprio | C19: 00024 | D19: Apoiar a elaboração e análise de estudos de prospecção e pós-prospecção de poços tubulares profundos (PTP) e poços artesianos para subsidiar a a aprovação dos estudos e a elaboração de projetos de engenharia de abastecimento de água e esgoto | E19: mês | F19: 24 | G19: 30229.62 | H19: =+TRUNC(F19*G19,2) -> 725510.88 | I19: =+H19/$G$40 -> 0.034763899 | J19: =+J18+I19 -> 0.66604657
B20: Próprio | C20: 00028 | D20: Apoiar a elaboração de notas técnicas, despachos e boletins com indicação de providências a serem tomadas e/ou recomendações de melhoria | E20: mês | F20: 24 | G20: 28413.76 | H20: =+TRUNC(F20*G20,2) -> 681930.24 | I20: =+H20/$G$40 -> 0.03267567 | J20: =+J19+I20 -> 0.69872224
B21: Próprio | C21: 00010 | D21: Apoiar a elaboração e análise de medição de contratos de obras de engenharia | E21: mês | F21: 24 | G21: 27850.74 | H21: =+TRUNC(F21*G21,2) -> 668417.76 | I21: =+H21/$G$40 -> 0.0320282 | J21: =+J20+I21 -> 0.73075044
... B38: Próprio | C38: 00019 | D38: Apoiar a elaboração, análise e revisão de documentação administrativa e técnica referente à tramitação de projetos de lei, decretos e outras normativas legais | E38: mês | F38: 24 | G38: 5047.05 | H38: =+TRUNC(F38*G38,2) -> 121129.2 | I38: =+H38/$G$40 -> 0.0058040802 | J38: =+J37+I38 -> 1
E40: Total sem BDI | G40: =SUM(H9:H38) -> 20869663
E41: Total do BDI | G41: =+'ORÇAMENTO RESUMO'!K17 -> 9303692.4
E42: Total Geral | G42: =SUM(G40:I41) -> 30173356

Sheet BDI NORMAL
B1: BONIFICAÇÃO DE DESPESAS INDIRETAS - BDI
B4: OBJETO: | C4: ='CURVA ABC DE SERVIÇOS'!C3 -> Contratação de empresa, ou consórcio de empresas, com prática na execução de serviços técnicos especializados, de caráter subsidiário e temporário em assessoramento nas áreas de engenharia, arquitetura, jurídica e apoio na gestão de ações e projetos no âmbito da Secretaria de Estado da Infraestrutura – SEINFRA | N4: DATA: | O4: ='CURVA ABC DE SERVIÇOS'!J3 -> 10/12/2024
B5: LOCAL: | C5: ='CURVA ABC DE SERVIÇOS'!C4 -> Rua 05, n. 833, Quadra C5, Lote 23, Setor Oeste, Goiânia - GO | N5: REVISÃO: | O5: ='CURVA ABC DE SERVIÇOS'!J4 -> 00
F7: Descrição | K7: % sobre CD
F9: Despesas Indiretas
F10: Administração Central | K10: 0.1
F11: Despesas Financeiras | K11: 0.0111
F12: Riscos | K12: 0.0072
F13: Seguros e Garantias Contratuais | K13: 0.0014
F14: Subtotal 1 | K14: =SUM(K10:K13) -> 0.1197
F16: Benefícios
F17: Lucro | K17: 0.12
F18: Subtotal 1 | K18: =SUM(K17) -> 0.12
F20: Tributos
F21: PIS | K21: 0.0239
F22: COFINS | K22: 0.1099
F23: ISSQN* | K23: 0.0723
F24: Subtotal 1 | K24: =SUM(K21:K23) -> 0.2061
F25: BDI | K25: =+K14+K18+K24 -> 0.4458
B27: (*) Limite máximo adotado de 5%, valor variável em função da legislação de cada município. As empresas licitantes deverão adotar as alíquotas pertinentes.
B28: Referência utilizada pela GOINFRA, extraída do Ofício Circular n° 2699/2024 (SEI DNIT n. 17818943), pbulicado em: https://www.gov.br/dnit/pt-br/assuntos/planejamento-e-pesquisa/custos-e-pagamentos/custos-e-pagamentos-dnit/engenharia-consultiva-2/bdi/copy_of_bdi-tabela-de-precos-de-consultoria

Sheet ENCARGOS SOCIAIS
B1: DEMONSTRATIVO DE ENCARGOS SOCIAIS
B3: OBJETO: | C3: ='BDI NORMAL'!C4 -> Contratação de empresa, ou consórcio de empresas, com prática na execução de serviços técnicos especializados, de caráter subsidiário e temporário em assessoramento nas áreas de engenharia, arquitetura, jurídica e apoio na gestão de ações e projetos no âmbito da Secretaria de Estado da Infraestrutura – SEINFRA | F3: DATA: | G3: ='BDI NORMAL'!O4 -> 10/12/2024
B4: LOCAL: | C4: ='BDI NORMAL'!C5 -> Rua 05, n. 833, Quadra C5, Lote 23, Setor Oeste, Goiânia - GO | F4: REVISÃO: | G4: ='BDI NORMAL'!O5 -> 00
B5: BASE: | C5: ='ORÇAMENTO SINTÉTICO'!C5 -> SINAPI - 10/2024 (GO) / SETOP - 07/2024 (MG) / SEINFRA - 028 (CE) / EMBASA - 05/2024 (BA)
B7: CÓDIGO | C7: DESCRIÇÃO | D7: COM DESONERAÇÃO | F7: SEM DESONERAÇÃO
D8: HORISTA % | E8: MENSALISTA % | F8: HORISTA % | G8: MENSALISTA %
B9: GRUPO A
B10: A1 | C10: INSS | D10: 0 | E10: 0 | F10: 0.2 | G10: 0.2
B11: A2 | C11: SESI | D11: 0.015 | E11: 0.015 | F11: 0.015 | G11: 0.015
B12: A3 | C12: SENAI | D12: 0.01 | E12: 0.01 | F12: 0.01 | G12: 0.01
B13: A4 | C13: INCRA | D13: 0.002 | E13: 0.002 | F13: 0.002 | G13: 0.002
B14: A5 | C14: SEBRAE | D14: 0.006 | E14: 0.006 | F14: 0.006 | G14: 0.006
B15: A6 | C15: Salário Educação | D15: 0.025 | E15: 0.025 | F15: 0.025 | G15: 0.025
B16: A7 | C16: Seguro Contra Acidentes de Trabalho | D16: 0.03 | E16: 0.03 | F16: 0.03 | G16: 0.03
B17: A8 | C17: FGTS | D17: 0.08 | E17: 0.08 | F17: 0.08 | G17: 0.08
B18: A9 | C18: SECONCI | D18: 0.01 | E18: 0.01 | F18: 0.01 | G18: 0.01
B19: A | C19: Total | D19: =SUM(D10:D18) -> 0.178 | E19: =SUM(E10:E18) -> 0.178 | F19: =SUM(F10:F18) -> 0.378 | G19: =SUM(G10:G18) -> 0.378
B20: GRUPO B
B21: B1 | C21: Repouso Semanal Remunerado | D21: 0.1781 | E21: Não incide | F21: 0.1781 | G21: Não incide
B22: B2 | C22: Feriados | D22: 0.037 | E22: Não incide | F22: 0.037 | G22: Não incide
B23: B3 | C23: Auxílio - Enfermidade | D23: 0.0086 | E23: 0.0064 | F23: 0.0086 | G23: 0.0064
B24: B4 | C24: 13º Salário | D24: 0.1118 | E24: 0.0833 | F24: 0.1118 | G24: 0.0833
B25: B5 | C25: Licença Paternidade | D25: 0.0006 | E25: 0.0004 | F25: 0.0006 | G25: 0.0004
B26: B6 | C26: Faltas Justificadas | D26: 0.0075 | E26: 0.0056 | F26: 0.0075 | G26: 0.0056
B27: B7 | C27: Dias de Chuvas | D27: 0.0136 | E27: Não incide | F27: 0.0136 | G27: Não incide
B28: B8 | C28: Auxílio Acidente de Trabalho | D28: 0.001 | E28: 0.0008 | F28: 0.001 | G28: 0.0008
B29: B9 | C29: Férias Gozadas | D29: 0 | E29: 0 | F29: 0 | G29: 0
B30: B10 | C30: Salário Maternidade | D30: 0.0004 | E30: 0.0003 | F30: 0.0004 | G30: 0.0003
B31: B | C31: Total | D31: =SUM(D21:D30) -> 0.3586 | E31: =SUM(E21:E30) -> 0.0968 | F31: =SUM(F21:F30) -> 0.3586 | G31: =SUM(G21:G30) -> 0.0968
B32: GRUPO C
B33: C1 | C33: Aviso Prévio Indenizado | D33: 0.0591 | E33: 0.044 | F33: 0.0591 | G33: 0.044
B34: C2 | C34: Aviso Prévio Trabalhado | D34: 0.0014 | E34: 0.001 | F34: 0.0014 | G34: 0.001
B35: C3 | C35: Férias Indenizadas | D35: 0.1202 | E35: 0.0896 | F35: 0.1202 | G35: 0.0896
B36: C4 | C36: Depósito Rescisão Sem Justa Causa | D36: 0.0252 | E36: 0.0188 | F36: 0.0252 | G36: 0.0188
B37: C5 | C37: Indenização Adicional | D37: 0.005 | E37: 0.0037 | F37: 0.005 | G37: 0.0037
B38: C | C38: Total | D38: =SUM(D33:D37) -> 0.2109 | E38: =SUM(E33:E37) -> 0.1571 | F38: =SUM(F33:F37) -> 0.2109 | G38: =SUM(G33:G37) -> 0.1571
B39: GRUPO D
B40: D1 | C40: Reincidência de Grupo A sobre Grupo B | D40: 0.0638 | E40: 0.0172 | F40: 0.1356 | G40: 0.0366
B41: D2 | C41: Reincidência de Grupo A sobre Aviso Prévio Trabalhado e Reincidência do FGTS sobre Aviso Prévio Indenizado | D41: 0.005 | E41: 0.0037 | F41: 0.0053 | G41: 0.0039
B42: D | C42: Total | D42: =SUM(D40:D41) -> 0.0688 | E42: =SUM(E40:E41) -> 0.0209 | F42: =SUM(F40:F41) -> 0.1409 | G42: =SUM(G40:G41) -> 0.0405
...

Sheet CAPA - MEMORIAL DE CÁLCULO
C9: MEMORIAL DE CÁLCULO

