Workbook
Name Result: '[1]11. Equipamentos'!#REF!,'[1]11. Equipamentos'!#REF!
Name Result: '[2]11. Equipamentos'!#REF!,'[2]11. Equipamentos'!#REF!
Name Result: '[1]11. Equipamentos'!#REF!,'[1]11. Equipamentos'!#REF!
Name UN: !#REF!
Name UN: !#REF!
Name UN: !#REF!

Sheet BASE PADRÃO
D2: PLANILHA DE CUSTOS E FORMAÇÃO DE PREÇOS
D4: Nº Processo: | E4: 202400005005765
D5: Licitação: | E5: 07/2024
D6: Descrição do Serviço | E6: SERVIÇOS GERAIS (VÁRIOS)
B8: DISCRIMINAÇÃO DOS SERVIÇOS (DADOS REFERENTES À CONTRATAÇÃO)
B9: A | C9: Data da apresentação da proposta:
B10: B | C10: Município/UF | G10: Goiânia
B11: C | C11: Ano - Acordo, Convenção ou Sentença Normativa em dissídio Coletivo
B12: D | C12: Número de meses de execução contratual | G12: 60
B14: IDENTIFICAÇÃO DO SERVIÇO
B15: Tipo de Serviço | E15: Unidade de Medida | G15: Quantidade total a contratar
B16: Copeira | E16: Posto de 44 Hs semanais
B18: MÃO-DE-OBRA
B19: Dados Complementares para Composição dos Custos Referentes à Mão-de-obra
B20: 1 | C20: Tipo de Serviço (mesmo serviço com características distintas)
B21: 2 | C21: Classificação Brasileira de Ocupações (CBO)
B22: 3 | C22: Salário Normativo da Categoria Profissional - Piso salarial | G22: =#REF! -> #REF!
B23: 4 | C23: Categoria Profissional (vinculada à execução contratual)
B24: 5 | C24: Data base da categoria (dia/mês/ano)
B26: MÓDULO 1 - COMPOSIÇÃO DA REMUNERAÇÃO
B27: item | C27: descrição | G27: % | H27: Valor (R$)
B28: A | C28: Salário Base | H28: =G22 -> #REF!
B29: B | C29: Adicional de Periculosidade | G29: 0 | H29: =G29*H28 -> #REF!
B30: C | C30: Adicional de Insalubridade | G30: 0 | H30: =G30*H28 -> #REF!
B31: D | C31: Adicional Noturno | G31: 0 | H31: =G31*H28 -> #REF!
B32: E | C32: Adicional de Hora Noturna Reduzida | G32: 0 | H32: =G32*H28 -> #REF!
B33: F | C33: Outros (especificar) | G33: 0 | H33: =G33*H28 -> #REF!
B34: TOTAL MÓDULO 1 | H34: =SUM(H28:H33) -> #REF!
B36: MÓDULO 2 - ENCARGOS E BENEFÍCIOS ANUAIS, MENSAIS E DIÁRIOS
B37: Submódulo 2.1 - 13º Salário, Férias e Adicional de Férias
B38: item | C38: descrição | G38: % | H38: VALOR (R$)
B39: A | C39: 13º Salário | G39: 0.08333 | H39: =G39*H34 -> #REF!
B40: B | C40: Adicional de Férias (seguno Anexo XII da IN 5 e no caderno para contas vinculadas) | G40: 0.0303 | H40: =G40*H34 -> #REF!
B41: C | C41: Férias | G41: 0.09091 | H41: =G41*H34 -> #REF!
B42: Total 2.1 | G42: =SUM(G39:G41) -> 0.20454 | H42: =SUM(H39:H41) -> #REF!
B44: Submódulo 2.2 - Encargos Previdenciários, FGTS e Outras Contribuições | G44: BASE DE CALCULO | H44: =H34+H42 -> #REF!
B45: item | C45: descrição | G45: % | H45: VALOR (R$)
B46: A | C46: INSS | G46: 0.2 | H46: =G46*$H$44 -> #REF!
B47: B | C47: Salário Educação | G47: 0.025 | H47: =G47*$H$44 -> #REF!
B48: C | C48: Risco Ambiental de Trabalho (SAT x FAP) | G48: 0.03 | H48: =G48*$H$44 -> #REF!
...

Sheet Resumo
E3: PLANILHA DE CUSTOS E FORMAÇÃO DE PREÇOS
E5: Nº Processo: | F5: 202600005000736
E6: Licitação: | F6: 118323
E7: Descrição do Serviço | F7: Prestação de Serviços de Motoristas
C9: PLANILHA COM VALOR MENSAL E ANUAL
C11: Postos de Trabalho
C12: Item | D12: Descrição | F12: Prazo de Vigência | G12: Valor do Posto | H12: Quantidade de Postos | I12: Custo Mensal | J12: Custo Anual
C13: 1 | D13: Motorista Executivo | F13: 12 | G13: ='1. Motoristas'!I137 -> 8002.05 | H13: 40 | I13: =G13*H13 -> 320082 | J13: =I13*12 -> 3840984
C14: TOTAL | J14: =SUM(J13:J13) -> 3840984
C16: Reembolso de Diárias e Horas Extras
C17: Item | D17: Descrição | G17: Quantitativo | H17: Prazo de Vigência | I17: Valor Unitário | J17: Custo Anual
C18: 1 | D18: Reembolso de diárias até 100km | G18: ='3. Reembolsos'!E5 -> 1227 | H18: 12 | I18: ='3. Reembolsos'!F5 -> 103 | J18: ='3. Reembolsos'!G5 -> 126381
C19: 2 | D19: Reembolso de diárias acima de 100 km | G19: ='3. Reembolsos'!E6 -> 1971 | H19: 12 | I19: ='3. Reembolsos'!F6 -> 309 | J19: ='3. Reembolsos'!G6 -> 609039
C20: 3 | D20: Reembolso de horas extras | G20: ='3. Reembolsos'!C13 -> 20640 | H20: 12 | I20: 28.63 | J20: ='3. Reembolsos'!G13 -> 590923.2
C21: 4 | D21: Reembolso de adicional noturno | G21: ='3. Reembolsos'!C19 -> 19200 | H21: 12 | I21: 3.82 | J21: ='3. Reembolsos'!G19 -> 73344
C22: TOTAL | J22: =SUM(J18:J21) -> 1399687.2
C25: Valor Total Estimado Anual - Serviços Contínuos | J25: =J14+J22 -> 5240671.2

Sheet 1. Motoristas
E3: PLANILHA DE CUSTOS E FORMAÇÃO DE PREÇOS
E5: Nº Processo: | F5: =Resumo!F5 -> 202600005000736
E6: Licitação: | F6: =Resumo!F6 -> 118323
E7: Descrição do Serviço | F7: =Resumo!F7 -> Prestação de Serviços de Motoristas
C9: DISCRIMINAÇÃO DOS SERVIÇOS (DADOS REFERENTES À CONTRATAÇÃO)
C10: A | D10: Data da apresentação da proposta:
C11: B | D11: Município/UF | H11: Goiânia
C12: C | D12: Ano - Acordo, Convenção ou Sentença Normativa em dissídio Coletivo | H12: 2026/2027
C13: D | D13: Número de meses de execução contratual | H13: =Resumo!F13 -> 12
C15: IDENTIFICAÇÃO DO SERVIÇO
C16: Tipo de Serviço | F16: Unidade de Medida | H16: Quantidade total a contratar
C17: =Resumo!F7 -> Prestação de Serviços de Motoristas | F17: Posto de 40 Hs semanais | H17: =Resumo!H13 -> 40
C19: MÃO-DE-OBRA
C20: Dados Complementares para Composição dos Custos Referentes à Mão-de-obra
C21: 1 | D21: Tipo de Serviço (mesmo serviço com características distintas) | H21: =Resumo!C11 -> Postos de Trabalho
C22: 2 | D22: Classificação Brasileira de Ocupações (CBO) | H22: 7823-05
C23: 3 | D23: Salário Normativo da Categoria Profissional - Piso salarial | H23: 2811.28
C24: 4 | D24: Categoria Profissional (vinculada à execução contratual)
C25: 5 | D25: Data base da categoria (dia/mês/ano) | H25: 01/06/2026 a 31/05/2027
C27: MÓDULO 1 - COMPOSIÇÃO DA REMUNERAÇÃO
C28: Item | D28: Descrição | H28: % | I28: Valor (R$)
C29: A | D29: Salário Base | I29: =H23 -> 2811.28
C30: B | D30: Adicional de Periculosidade | H30: 0 | I30: =H30*I29 -> 0
C31: C | D31: Adicional de Insalubridade | H31: 0 | I31: =H31*I29 -> 0
C32: D | D32: Adicional Noturno | H32: 0 | I32: =H32*I29 -> 0
C33: E | D33: Adicional de Hora Noturna Reduzida | H33: 0 | I33: =H33*I29 -> 0
C34: F | D34: Diárias | H34: 0 | I34: =H34*I29 -> 0
C35: TOTAL MÓDULO 1 | I35: =SUM(I29:I34) -> 2811.28
C37: MÓDULO 2 - ENCARGOS E BENEFÍCIOS ANUAIS, MENSAIS E DIÁRIOS
C38: Submódulo 2.1 - 13º Salário, Férias e Adicional de Férias
C39: Item | D39: Descrição | H39: % | I39: VALOR (R$)
C40: A | D40: 13º Salário | H40: 0.08333 | I40: =H40*I35 -> 234.26396
C41: B | D41: Adicional de Férias/ 1/3 Constitucional de Férias(segundo Anexo XII da IN 5 e no caderno para contas vinculadas) | H41: 0.027778 | I41: =H41*I35 -> 78.091736
C42: C | D42: Férias | H42: 0.09091 | I42: =H42*I35 -> 255.57346
C43: Total 2.1 | H43: =SUM(H40:H42) -> 0.202018 | I43: =SUM(I40:I42) -> 567.92916
C45: Submódulo 2.2 - Encargos Previdenciários, FGTS e Outras Contribuições | H45: BASE DE CALCULO | I45: =I35+I43 -> 3379.2092
C46: Item | D46: Descrição | H46: % | I46: VALOR (R$)
C47: A | D47: INSS | H47: 0.2 | I47: =H47*$I$45 -> 675.84183
C48: B | D48: Salário Educação | H48: 0.025 | I48: =H48*$I$45 -> 84.480229
C49: C | D49: Risco Ambiental de Trabalho (RAT x FAP) | H49: 0.02 | I49: =H49*$I$45 -> 67.584183
...

Sheet 2. Uniformes
B2: CESTA DE PREÇOS - MOTORISTAS
B3: ITEM | C3: ESPECIFICAÇÃO | D3: QUANT. | E3: Inciso I - Nota Fiscal Eletrônica | F3: Inciso II - Comprasnet | G3: Inciso III - Ferramenta de Pesquisa de Preços Públicos | H3: Inciso IV - Mídia Especializada | I3: Inciso V - Contratações Similares | J3: Inciso VI - Pesquisa com Fornecedores | K3: MÉDIA SANEADA | L3: TOTAL | M3: VALOR POR POSTO AO MÊS
B4: 1 | C4: Camisa social de manga curta ou longa, na cor preta, confeccionada em tecido de boa qualidade, resistente ao uso contínuo e ao suor, preferencialmente em mistura de algodão e poliéster, com acabamento compatível com vestuário profissional, contendo o brasão do Estado de Goiás aplicado na parte frontal e a inscrição “SECRETARIA DE ESTADO DA ECONOMIA” impressa ou bordada no bolso, em padrão legível, discreto e padronizado. | D4: 80 | G4: =E10 -> 62.76 | H4: =H14 -> 56.693333 | I4: =H18 -> 29.633333 | K4: =ROUND(AVERAGE(E4:J4),2) -> 49.7 | L4: =D4*K4 -> 3976 | M4: =L4/40/12 -> 8.2833333
B5: TOTAL UNIFORMES | K5: =SUM(K4:K4) -> 49.7 | L5: =SUM(L4:L4) -> 3976 | M5: =SUM(M4:M4) -> 8.2833333
B8: Inciso III - Ferramenta de Pesquisa de Preços Públicos
B9: ITEM | C9: ESPECIFICAÇÃO | D9: QUANT. | E9: Banco de Preços
B10: 1 | C10: Camisa social de manga curta ou longa. | D10: 80 | E10: 62.76
B12: Inciso IV - Mídia Especializada
B13: ITEM | C13: ESPECIFICAÇÃO | D13: QUANT. | E13: Mercado Livre | F13: Magazine Luiza | G13: Amazon | H13: MÉDIA SANEADA
B14: 1 | C14: Camisa social de manga curta ou longa. | D14: 80 | E14: 73.9 | F14: 60.19 | G14: 35.99 | H14: =AVERAGE(E14:G14) -> 56.693333
B16: Inciso V - Contratações Similares
B17: ITEM | C17: ESPECIFICAÇÃO | D17: QUANT. | E17: Centro de Avaliação do Exército/RJ | F17: Prefeitura Mun. De Campo Belo/MG | G17: Universidade Federal do Agreste/PE | H17: MÉDIA SANEADA
B18: 1 | C18: Camisa social de manga curta ou longa. | D18: 80 | E18: 21 | F18: 22 | G18: 45.9 | H18: =AVERAGE(E18:G18) -> 29.633333

Sheet 3. Reembolsos
C3: REEMBOLSO DE DIÁRIAS
C4: Tipo de diária | E4: Quantitativo estimado | F4: Valor unitário (ACT) | G4: Custo Anual Estimado
C5: Até 100 km | E5: 1227 | F5: 103 | G5: =E5*F5 -> 126381
C6: Acima de 100 km | E6: 1971 | F6: 309 | G6: =E6*F6 -> 609039
C7: Totais | E7: =SUM(E5:E6) -> 3198 | F7: — | G7: =ROUND(SUM(G5:G6),2) -> 735420
C11: REEMBOLSO DE HORAS EXTRAS
C12: Quantitativo anual | D12: Valor unitário (ACT) | E12: Total anual | F12: Reflexos dos encargos (submódulo 2.2.) | G12: Custo Anual Estimado
C13: 20640 | D13: 21.08 | E13: =ROUNDUP((D13*C13),2) -> 435091.2 | F13: 0.358 | G13: =C13*(ROUNDUP(D13*(1+F13),2)) -> 590923.2
C17: REEMBOLSO DE ADICIONAL NOTURNO
C18: Quantitativo anual | D18: Valor do adicional | E18: Total anual | F18: Reflexos dos encargos (submódulo 2.2.) | G18: Custo Anual Estimado
C19: 19200 | D19: 2.81 | E19: =D19*C19 -> 53952 | F19: 0.358 | G19: =C19*(ROUNDUP(D19*(1+F19),2)) -> 73344
