Workbook

Sheet RESUMO
A1: Órgão: | B1: SECRETARIA DE ESTADO DA SAÚDE DE GOIÁS | C1: DATA: | D1: =TODAY() -> 46056
A2: Unidade: | B2: SUPERINTENDÊNCIA DA ESCOLA DE SAÚDE DE GOIÁS - SESG | C2: REVISÃO: | D2: Emissão 02
A3: Obra: | B3: FORNECIMENTO E INSTALAÇÃO BRISES, RIPADO E CORRIMÃO | C3: REFERÊNCIA: | D3: GOINFRA 10/2025 (reajustada pelo INCC até 12/2025); SINAPI 12/2025; ORSE - Novembro/2025 (reajustada pelo INCC até Dezembro/2025)
A4: Endereço: | B4: RUA 26, 521, VILA LEGIONARIOS, CEP: 74853-070
A5: Município: | B5: GOIÂNIA
A6: RESUMO GERAL DO ORÇAMENTO - TABELA ONERADA
A8: Item | B8: DESCRIÇÃO DOS SERVIÇOS | C8: Valor Total sem BDI (R$) | D8: Valor Total com BDI e INCC (R$) | E8: % Total
B9: GERAL | C9: =SUM(C10:C23) -> 1656372.5 | D9: =SUM(D10:D23) -> 2027854.3 | E9: =SUM(E10:E23) -> 1
A10: 1 | B10: ='ORÇA onerado'!D8 -> SERVIÇOS PRELIMINARES | C10: ='ORÇA onerado'!J8 -> 78743.322 | D10: ='ORÇA onerado'!O8 -> 93646.66 | E10: =D10/$D$25 -> 0.046180173
A11: 2 | B11: ='ORÇA onerado'!D13 -> TRANSPORTES | C11: ='ORÇA onerado'!J13 -> 10625.137 | D11: ='ORÇA onerado'!O13 -> 13065.862 | E11: =D11/$D$25 -> 0.006443196
A12: 3 | B12: ='ORÇA onerado'!D17 -> PAISAGISMO | C12: ='ORÇA onerado'!J17 -> 1007.1522 | D12: ='ORÇA onerado'!O17 -> 1235.4655 | E12: =D12/$D$25 -> 0.0006092477
A13: 4 | B13: ='ORÇA onerado'!D20 -> INST. ELÉT./TELEFÔNICA/CABEAMENTO ESTRUTURADO | C13: ='ORÇA onerado'!J20 -> 7491.2923 | D13: ='ORÇA onerado'!O20 -> 9197.8692 | E13: =D13/$D$25 -> 0.0045357644
A14: 5 | B14: ='ORÇA onerado'!D41 -> INSTALAÇÕES PLUVIAIS | C14: ='ORÇA onerado'!J41 -> 12082.91 | D14: ='ORÇA onerado'!O41 -> 14797.427 | E14: =D14/$D$25 -> 0.0072970858
A15: 6 | B15: ='ORÇA onerado'!D51 -> ALVENARIAS E DIVISÓRIAS | C15: ='ORÇA onerado'!J51 -> 4316.9068 | D15: ='ORÇA onerado'!O51 -> 5300.2574 | E15: =D15/$D$25 -> 0.002613727
A16: 7 | B16: ='ORÇA onerado'!D56 -> ESTRUTURAS METÁLICAS | C16: ='ORÇA onerado'!J56 -> 43546.106 | D16: ='ORÇA onerado'!O56 -> 53549.184 | E16: =D16/$D$25 -> 0.026406821
A17: 8 | B17: ='ORÇA onerado'!D59 -> COBERTURAS | C17: ='ORÇA onerado'!J59 -> 53462.205 | D17: ='ORÇA onerado'!O59 -> 65521.477 | E17: =D17/$D$25 -> 0.032310743
A18: 9 | B18: ='ORÇA onerado'!D66 -> ESQUADRIAS MADEIRAS/ METÁLICAS | C18: ='ORÇA onerado'!J66 -> 880660.78 | D18: ='ORÇA onerado'!O66 -> 1077866.2 | E18: =D18/$D$25 -> 0.53153043
A19: 10 | B19: ='ORÇA onerado'!D74 -> REVESTIMENTO DE PAREDES | C19: ='ORÇA onerado'!J74 -> 32278.068 | D19: ='ORÇA onerado'!O74 -> 39505.127 | E19: =D19/$D$25 -> 0.019481246
A20: 11 | B20: ='ORÇA onerado'!D77 -> REVESTIMENTO DE PISO | C20: ='ORÇA onerado'!J77 -> 48282.005 | D20: ='ORÇA onerado'!O77 -> 59284.98 | E20: =D20/$D$25 -> 0.029235326
A21: 12 | B21: ='ORÇA onerado'!D90 -> PINTURA | C21: ='ORÇA onerado'!J90 -> 326245.59 | D21: ='ORÇA onerado'!O90 -> 401170.49 | E21: =D21/$D$25 -> 0.19783004
A22: 13 | B22: ='ORÇA onerado'!D97 -> DIVERSOS | C22: ='ORÇA onerado'!J97 -> 23018.322 | D22: ='ORÇA onerado'!O97 -> 28178.357 | E22: =D22/$D$25 -> 0.013895652
A23: 14 | B23: ='ORÇA onerado'!D101 -> ADMINISTRAÇÃO - MENSALISTAS | C23: ='ORÇA onerado'!J101 -> 134612.67 | D23: ='ORÇA onerado'!O101 -> 165534.86 | E23: =D23/$D$25 -> 0.081630551
A25: TOTAL GERAL DO ORÇAMENTO | C25: =SUM(C10:C23) -> 1656372.5 | D25: =SUM(D10:D23) -> 2027854.3 | E25: =SUM(E10:E23) -> 1

Sheet ORÇA onerado
A1: Órgão: | B1: SECRETARIA DE ESTADO DA SAÚDE DE GOIÁS | E1: Data Base ÚNICA: | F1: 45992
A2: Unidade: | B2: SUPERINTENDÊNCIA DA ESCOLA DE SAÚDE DE GOIÁS - SESG | E2: Referência: | F2: TABELA ONERADA
A3: Obra: | B3: FORNECIMENTO E INSTALAÇÃO BRISES, RIPADO E CORRIMÃO | F3: GOINFRA 10/2025 (reajustada pelo INCC até 12/2025); SINAPI 12/2025; ORSE - Novembro/2025 (reajustada pelo INCC até Dezembro/2025)
A4: Endereço: | B4: RUA 26, 521, VILA LEGIONARIOS, CEP: 74853-070 | F4: Data Base: | H4: =F1 -> 45992
A5: Município: | B5: GOIÂNIA | E5: BDI: | F5: =BDI!E22 -> 0.2239 | G5: BDI reduz.: | H5: =BDI!K22 -> 0.1827
A6: PLANILHA ORÇAMENTÁRIA DE REFERÊNCIA
A7: ITEM | B7: FONTE | C7: CÓDIGO | D7: DESCRIÇÃO | E7: UNIDADE | F7: QUANT. | G7: PREÇO UNITÁRIO MATERIAL SEM BDI(R$) | H7: PREÇO UNITÁRIO MÃO DE OBRA SEM BDI(R$) | I7: PREÇO UNITÁRIO TOTAL SEM BDI (R$) | J7: PREÇO TOTAL SEM BDI (R$) | K7: BDI | L7: PREÇO UNITÁRIO TOTAL COM BDI (R$) | M7: ÍNDICES DE CORREÇÃO | N7: PREÇO UNITÁRIO TOTAL COM BDI + CORREÇÃO (R$) | O7: PREÇO TOTAL COM BDI + CORREÇÃO (R$)
A8: 01. | D8: SERVIÇOS PRELIMINARES | G8: =SUM(G9:G12) -> 2876.9 | H8: =SUM(H9:H12) -> 10.06 | I8: =SUM(I9:I12) -> 2886.96 | J8: =SUM(J9:J12) -> 78743.322 | L8: =SUM(L9:L12) -> 3430.9197 | N8: =SUM(N9:N12) -> 3447.2133 | O8: =SUM(O9:O12) -> 93646.66
A9: 45658 | B9: GOINFRA | C9: 21301 | D9: PLACA DE OBRA PLOTADA EM CHAPA METÁLICA 26 , AFIXADA EM CAVALETES DE MADEIRA DE LEI (VIGOTAS 6X12CM) - PADRÃO GOINFRA | E9: m2 | F9: ='MEM. CÁLC'!D10 -> 4.5 | G9: 396.3 | H9: 4.48 | I9: =G9+H9 -> 400.78 | J9: =I9*F9 -> 1803.51 | K9: =$F$5 -> 0.2239 | L9: =(1+K9)*I9 -> 490.51464 | M9: =INCC!$C$26 -> 0.0047490257 | N9: =(1+M9)*L9 -> 492.84411 | O9: =N9*F9 -> 2217.7985
A10: 45689 | B10: GOINFRA | C10: 20230 | D10: LOCAÇÃO DE CONTAINER SEM REVESTIMENTO INTERNO PARA ALMOXARIFADO / DEPÓSITO 6,00 X 2,40 M, INCLUSIVE MOBILIÁRIO (EXCLUSO MOBILIZAÇÃO / DESMOBILIZAÇÃO)LOCAÇÃO DE CONTAINER SEM REVESTIMENTO INTERNO PARA ALMOXARIFADO / DEPÓSITO 6,00 X 2,40 M, INCLUSIVE MOBILIÁRIO (EXCLUSO MOBILIZAÇÃO / DESMOBILIZAÇÃO) | E10: mês | F10: ='MEM. CÁLC'!D11 -> 3 | G10: 1135.26 | H10: 0 | I10: =G10+H10 -> 1135.26 | J10: =I10*F10 -> 3405.78 | K10: =$H$5 -> 0.1827 | L10: =(1+K10)*I10 -> 1342.672 | M10: =INCC!$C$26 -> 0.0047490257 | N10: =(1+M10)*L10 -> 1349.0484 | O10: =N10*F10 -> 4047.1452
A11: 45717 | B11: GOINFRA | C11: 20232 | D11: LOCAÇÃO DE CONTAINER SANITÁRIO MISTO 6,00 X 2,40 M, COM 3 VASOS, 6 CHUVEIROS, LAVATÓRIO E MICTÓRIO (EXCLUSO MOBILIZAÇÃO / DESMOBILIZAÇÃO) | E11: mês | F11: ='MEM. CÁLC'!D12 -> 3 | G11: 1325.95 | H11: 0 | I11: =G11+H11 -> 1325.95 | J11: =I11*F11 -> 3977.85 | K11: =$H$5 -> 0.1827 | L11: =(1+K11)*I11 -> 1568.2011 | M11: =INCC!$C$26 -> 0.0047490257 | N11: =(1+M11)*L11 -> 1575.6485 | O11: =N11*F11 -> 4726.9455
A12: 45748 | B12: GOINFRA | C12: 60105 | D12: ANDAIME METALICO FACHADEIRO (ALUGUEL/MES) | E12: m2xmes | F12: ='MEM. CÁLC'!D14 -> 2785.59 | G12: 19.39 | H12: 5.58 | I12: =G12+H12 -> 24.97 | J12: =I12*F12 -> 69556.182 | K12: =$H$5 -> 0.1827 | L12: =(1+K12)*I12 -> 29.532019 | M12: =INCC!$C$26 -> 0.0047490257 | N12: =(1+M12)*L12 -> 29.672267 | O12: =N12*F12 -> 82654.771
A13: 02. | D13: TRANSPORTES | G13: =SUM(G14:G16) -> 570.24 | H13: =SUM(H14:H16) -> 512.63 | I13: =SUM(I14:I16) -> 1082.87 | J13: =SUM(J14:J16) -> 10625.137 | L13: =SUM(L14:L16) -> 1325.3246 | N13: =SUM(N14:N16) -> 1331.6186 | O13: =SUM(O14:O16) -> 13065.862
A14: 45659 | B14: GOINFRA | C14: 30105 | D14: TRANSPORTE DE ENTULHO EM CAÇAMBA ESTACIONÁRIA INCLUSO A CARGA MANUAL | E14: m3 | F14: ='MEM. CÁLC'!D19 -> 87.74 | G14: 96.8 | H14: 13.21 | I14: =G14+H14 -> 110.01 | J14: =I14*F14 -> 9652.2774 | K14: =$F$5 -> 0.2239 | L14: =(1+K14)*I14 -> 134.64124 | M14: =INCC!$C$26 -> 0.0047490257 | N14: =(1+M14)*L14 -> 135.28065 | O14: =N14*F14 -> 11869.525
A15: 45690 | B15: GOINFRA | C15: 30114 | D15: MOBILIZAÇÃO DO CANTEIRO DE OBRAS - INCLUSIVE CARGA E DESCARGA E A HORA IMPRODUTIVA DO CAMINHÃO - ( EXCLUSO O TRANSPORTE ) | E15: un | F15: ='MEM. CÁLC'!D20 -> 1 | G15: 236.72 | H15: 249.71 | I15: =G15+H15 -> 486.43 | J15: =I15*F15 -> 486.43 | K15: =$F$5 -> 0.2239 | L15: =(1+K15)*I15 -> 595.34168 | M15: =INCC!$C$26 -> 0.0047490257 | N15: =(1+M15)*L15 -> 598.16897 | O15: =N15*F15 -> 598.16897
A16: 45718 | B16: GOINFRA | C16: 30116 | D16: DESMOBILIZAÇÃO DO CANTEIRO DE OBRAS - INCLUSIVE CARGA E DESCARGA E A HORA IMPRODUTIVA DO CAMINHÃO - ( EXCLUSO O TRANSPORTE ) | E16: un | F16: ='MEM. CÁLC'!D21 -> 1 | G16: 236.72 | H16: 249.71 | I16: =G16+H16 -> 486.43 | J16: =I16*F16 -> 486.43 | K16: =$F$5 -> 0.2239 | L16: =(1+K16)*I16 -> 595.34168 | M16: =INCC!$C$26 -> 0.0047490257 | N16: =(1+M16)*L16 -> 598.16897 | O16: =N16*F16 -> 598.16897
A17: 03. | D17: PAISAGISMO | G17: =SUM(G18:G19) -> 38.2 | H17: =SUM(H18:H19) -> 24.05 | I17: =SUM(I18:I19) -> 62.25 | J17: =SUM(J18:J19) -> 1007.1522 | L17: =SUM(L18:L19) -> 76.187775 | N17: =SUM(N18:N19) -> 76.422844 | O17: =SUM(O18:O19) -> 1235.4655
A18: 46025 | B18: GOINFRA | C18: 270213 | D18: PREPARAÇÃO C/ ADUBAÇÃO DO TERRENO EM FORMA DE CANTEIRO E PLANTIO DE FORRAÇÃO AMBOS C/PROFUNDIDADE DE 30 CM - EXCLUSO O CUSTO DE AQUISIÇÃO DA MUDA | E18: m2 | F18: 3.4579 | G18: 2.7 | H18: 21 | I18: =G18+H18 -> 23.7 | J18: =I18*F18 -> 81.95223 | K18: =$F$5 -> 0.2239 | L18: =(1+K18)*I18 -> 29.00643 | M18: =INCC!$C$26 -> 0.0047490257 | N18: =(1+M18)*L18 -> 29.144182 | O18: =N18*F18 -> 100.77767
A19: 46056 | B19: ORSE | C19: 2397 | D19: Fornecimento e plantio de arbustos ornamentais | E19: un. | F19: 24 | G19: 35.5 | H19: =1.38+1.54+0.13 -> 3.05 | I19: =G19+H19 -> 38.55 | J19: =I19*F19 -> 925.2 | K19: =$F$5 -> 0.2239 | L19: =(1+K19)*I19 -> 47.181345 | M19: =INCC!$C$29 -> 0.0020626076 | N19: =(1+M19)*L19 -> 47.278662 | O19: =N19*F19 -> 1134.6879
A20: 04. | D20: INST. ELÉT./TELEFÔNICA/CABEAMENTO ESTRUTURADO | G20: =SUM(G21:G40) -> 1101.6126 | H20: =SUM(H21:H40) -> 178.24175 | I20: =SUM(I21:I40) -> 1279.8543 | J20: =SUM(J21:J40) -> 7491.2923 | L20: =SUM(L21:L40) -> 1566.4137 | N20: =SUM(N21:N40) -> 1569.1055 | O20: =SUM(O21:O40) -> 9197.8692
A21: 46026 | B21: GOINFRA | C21: 71231 | D21: ELETRODUTO METALICO FLEXIVEL COM REVESTIMENTO EM PVC PRETO DIAMETRO 3/4" | E21: m | F21: 3 | G21: 9.52 | H21: 8.78 | I21: =G21+H21 -> 18.3 | J21: =I21*F21 -> 54.9 | K21: =$F$5 -> 0.2239 | L21: =(1+K21)*I21 -> 22.39737 | M21: =INCC!$C$26 -> 0.0047490257 | N21: =(1+M21)*L21 -> 22.503736 | O21: =N21*F21 -> 67.511207
A22: 46057 | B22: GOINFRA | C22: 71193 | D22: ELETRODUTO PVC FLEXÍVEL - MANGUEIRA CORRUGADA LEVE - DIAM. 20MM | E22: m | F22: 12 | G22: 8.78 | H22: 2 | I22: =G22+H22 -> 10.78 | J22: =I22*F22 -> 129.36 | K22: =$F$5 -> 0.2239 | L22: =(1+K22)*I22 -> 13.193642 | M22: =INCC!$C$26 -> 0.0047490257 | N22: =(1+M22)*L22 -> 13.256299 | O22: =N22*F22 -> 159.07559
A23: 46085 | B23: GOINFRA | C23: 70371 | D23: ABRAÇADEIRA METALICA TIPO "D" DIAM. 3/4" | E23: un. | F23: 40 | G23: 0.51 | H23: 1.08 | I23: =G23+H23 -> 1.59 | J23: =I23*F23 -> 63.6 | K23: =$F$5 -> 0.2239 | L23: =(1+K23)*I23 -> 1.946001 | M23: =INCC!$C$26 -> 0.0047490257 | N23: =(1+M23)*L23 -> 1.9552426 | O23: =N23*F23 -> 78.209704
A24: 46116 | B24: GOINFRA | C24: 71211 | D24: ELETRODUTO EM AÇO GALVANIZADO A FOGO DIÂMETRO 3/4" - PESADO | E24: m | F24: 40 | G24: 15.5 | H24: 27.6 | I24: =G24+H24 -> 43.1 | J24: =I24*F24 -> 1724 | K24: =$F$5 -> 0.2239 | L24: =(1+K24)*I24 -> 52.75009 | M24: =INCC!$C$26 -> 0.0047490257 | N24: =(1+M24)*L24 -> 53.000602 | O24: =N24*F24 -> 2120.0241
A25: 46146 | B25: GOINFRA | C25: 70932 | D25: CONDULETE METÁLICO - TAMPÃO DE 3/4" | E25: un. | F25: 63 | G25: 1.54 | H25: 0.25 | I25: =G25+H25 -> 1.79 | J25: =I25*F25 -> 112.77 | K25: =$F$5 -> 0.2239 | L25: =(1+K25)*I25 -> 2.190781 | M25: =INCC!$C$26 -> 0.0047490257 | N25: =(1+M25)*L25 -> 2.2011851 | O25: =N25*F25 -> 138.67466
A26: 46177 | B26: GOINFRA | C26: 70929 | D26: CONDULETE METÁLICO - CAIXA COM 5 ENTRADAS | E26: un. | F26: 23 | G26: 17.57 | H26: 9.33 | I26: =G26+H26 -> 26.9 | J26: =I26*F26 -> 618.7 | K26: =$F$5 -> 0.2239 | L26: =(1+K26)*I26 -> 32.92291 | M26: =INCC!$C$26 -> 0.0047490257 | N26: =(1+M26)*L26 -> 33.079262 | O26: =N26*F26 -> 760.82302
A27: 46207 | B27: GOINFRA | C27: 70930 | D27: CONDULETE METÁLICO - ADAPTADOR DE SAÍDA 3/4" | E27: un. | F27: 42 | G27: 4.12 | H27: 2.68 | I27: =G27+H27 -> 6.8 | J27: =I27*F27 -> 285.6 | K27: =$F$5 -> 0.2239 | L27: =(1+K27)*I27 -> 8.32252 | M27: =INCC!$C$26 -> 0.0047490257 | N27: =(1+M27)*L27 -> 8.3620439 | O27: =N27*F27 -> 351.20584
A28: 46238 | B28: COMP. | C28: 11 | D28: CONECTOR WAGO 221-415 | E28: un. | F28: 17 | G28: ='COMP. onerado'!M72 -> 0.95195948 | H28: ='COMP. onerado'!N72 -> 4.1572496 | I28: =G28+H28 -> 5.109209 | J28: =I28*F28 -> 86.856554 | K28: =$F$5 -> 0.2239 | L28: =(1+K28)*I28 -> 6.253161 | N28: =(1+M28)*L28 -> 6.253161 | O28: =N28*F28 -> 106.30374
A29: 46269 | B29: COMP. | C29: 10 | D29: CAIXA DE PASSAGEM PVC, SOBREPOR 300X300X100mm | E29: un. | F29: 3 | G29: ='COMP. onerado'!M66 -> 120.43 | H29: ='COMP. onerado'!N66 -> 4.1572496 | I29: =G29+H29 -> 124.58725 | J29: =I29*F29 -> 373.76175 | K29: =$F$5 -> 0.2239 | L29: =(1+K29)*I29 -> 152.48233 | N29: =(1+M29)*L29 -> 152.48233 | O29: =N29*F29 -> 457.447
A30: 46299 | B30: ORSE | C30: 9039 | D30: Alçapão de alumínio, tipo escama, cor fosca | E30: un. | F30: =0.4*0.4*2 -> 0.32 | G30: 392.26 | H30: =20.1+22.39+1.72 -> 44.21 | I30: =G30+H30 -> 436.47 | J30: =I30*F30 -> 139.6704 | K30: =$F$5 -> 0.2239 | L30: =(1+K30)*I30 -> 534.19563 | M30: =INCC!$C$29 -> 0.0020626076 | N30: =(1+M30)*L30 -> 535.29747 | O30: =N30*F30 -> 171.29519
A31: 46330 | B31: GOINFRA | C31: 70563 | D31: CABO FLEXÍVEL, PVC (70° C), 450/750 V, 2,5 MM2 | E31: m | F31: 180 | G31: 2.84 | H31: 2.33 | I31: =G31+H31 -> 5.17 | J31: =I31*F31 -> 930.6 | K31: =$F$5 -> 0.2239 | L31: =(1+K31)*I31 -> 6.327563 | M31: =INCC!$C$26 -> 0.0047490257 | N31: =(1+M31)*L31 -> 6.3576128 | O31: =N31*F31 -> 1144.3703
A32: 46360 | B32: GOINFRA | C32: 70561 | D32: CABO ISOLADO PP 3 X 2,5 MM2 | E32: m | F32: 10 | G32: 7.03 | H32: 9.98 | I32: =G32+H32 -> 17.01 | J32: =I32*F32 -> 170.1 | K32: =$F$5 -> 0.2239 | L32: =(1+K32)*I32 -> 20.818539 | M32: =INCC!$C$26 -> 0.0047490257 | N32: =(1+M32)*L32 -> 20.917407 | O32: =N32*F32 -> 209.17407
A33: 4.13 | B33: GOINFRA | C33: 71431 | D33: INTERRUPTOR PARALELO SIMPLES (1 SECAO) | E33: un. | F33: 2 | G33: 12.02 | H33: 14.99 | I33: =G33+H33 -> 27.01 | J33: =I33*F33 -> 54.02 | K33: =$F$5 -> 0.2239 | L33: =(1+K33)*I33 -> 33.057539 | M33: =INCC!$C$26 -> 0.0047490257 | N33: =(1+M33)*L33 -> 33.21453 | O33: =N33*F33 -> 66.42906
A34: 4.14 | B34: GOINFRA | C34: 72475 | D34: TAMPA PARA CONDULETE METÁLICO PARA 1 INTERRUPTOR | E34: un. | F34: 2 | G34: 5.22 | H34: 1.54 | I34: =G34+H34 -> 6.76 | J34: =I34*F34 -> 13.52 | K34: =$F$5 -> 0.2239 | L34: =(1+K34)*I34 -> 8.273564 | M34: =INCC!$C$26 -> 0.0047490257 | N34: =(1+M34)*L34 -> 8.3128554 | O34: =N34*F34 -> 16.625711
A35: 4.15 | B35: GOINFRA | C35: 72395 | D35: TAMPA CEGA PARA CONDULETE METÁLICO | E35: un. | F35: 3 | G35: 4.28 | H35: 1.54 | I35: =G35+H35 -> 5.82 | J35: =I35*F35 -> 17.46 | K35: =$F$5 -> 0.2239 | L35: =(1+K35)*I35 -> 7.123098 | M35: =INCC!$C$26 -> 0.0047490257 | N35: =(1+M35)*L35 -> 7.1569258 | O35: =N35*F35 -> 21.470777
A36: 4.16 | B36: GOINFRA | C36: 72397 | D36: TAMPA CEGA PLÁSTICA 4"X2" COM FURO CENTRAL | E36: un. | F36: 18 | G36: 4.55 | H36: 1.54 | I36: =G36+H36 -> 6.09 | J36: =I36*F36 -> 109.62 | K36: =$F$5 -> 0.2239 | L36: =(1+K36)*I36 -> 7.453551 | M36: =INCC!$C$26 -> 0.0047490257 | N36: =(1+M36)*L36 -> 7.4889481 | O36: =N36*F36 -> 134.80107
A37: 4.17 | B37: GOINFRA | C37: 71171 | D37: DISJUNTOR MONOPOLAR DE 10 A 32-A | E37: un. | F37: 1 | G37: 11.26 | H37: 15.5 | I37: =G37+H37 -> 26.76 | J37: =I37*F37 -> 26.76 | K37: =$F$5 -> 0.2239 | L37: =(1+K37)*I37 -> 32.751564 | M37: =INCC!$C$26 -> 0.0047490257 | N37: =(1+M37)*L37 -> 32.907102 | O37: =N37*F37 -> 32.907102
A38: 4.18 | B38: ORSE | C38: 14072 | D38: Perfil em alumínio tipo slim de embutir para fita de LED, cores P/B/C, e=23mm | E38: m | F38: 30 | G38: 10.99 | H38: =8.28+9.23+0.69 -> 18.2 | I38: =G38+H38 -> 29.19 | J38: =I38*F38 -> 875.7 | K38: =$F$5 -> 0.2239 | L38: =(1+K38)*I38 -> 35.725641 | M38: =INCC!$C$29 -> 0.0020626076 | N38: =(1+M38)*L38 -> 35.799329 | O38: =N38*F38 -> 1073.9799
A39: 4.19 | B39: ORSE | C39: 13594 | D39: Fita de LED com fonte bivolt, 5m, e = 8mm, 2.700K (luz amarela), tipo cob, g-light ou similar | E39: un. | F39: 5 | G39: 127 | H39: =1.93+2.16+0.13 -> 4.22 | I39: =G39+H39 -> 131.22 | J39: =I39*F39 -> 656.1 | K39: =$F$5 -> 0.2239 | L39: =(1+K39)*I39 -> 160.60016 | M39: =INCC!$C$29 -> 0.0020626076 | N39: =(1+M39)*L39 -> 160.93141 | O39: =N39*F39 -> 804.65707
A40: 4.20 | B40: COMPOSIÇÃO | C40: 12 | D40: Fonte Colmeia, 200W, 12V/16.5A, Bivolt, Ref. Blumenau | E40: un. | F40: 3 | G40: ='COMP. onerado'!M78 -> 345.24063 | H40: ='COMP. onerado'!N78 -> 4.1572496 | I40: =G40+H40 -> 349.39788 | J40: =I40*F40 -> 1048.1936 | K40: =$F$5 -> 0.2239 | L40: =(1+K40)*I40 -> 427.62807 | N40: =(1+M40)*L40 -> 427.62807 | O40: =N40*F40 -> 1282.8842
...

Sheet ORÇA desonerado
A1: ='ORÇA onerado'!A1 -> Órgão: | B1: SECRETARIA DE ESTADO DA SAÚDE DE GOIÁS | E1: Data Base ÚNICA: | F1: ='ORÇA onerado'!F1 -> 45992
A2: Unidade: | B2: SUPERINTENDÊNCIA DA ESCOLA DE SAÚDE DE GOIÁS - SESG | E2: Referência: | F2: TABELA DESONERADA
A3: Obra: | B3: FORNECIMENTO E INSTALAÇÃO BRISES, RIPADO E CORRIMÃO | F3: GOINFRA 10/2025 (reajustada pelo INCC até 12/2025); SINAPI 12/2025; ORSE - Novembro/2025 (reajustada pelo INCC até Dezembro/2025)
A4: Endereço: | B4: RUA 26, 521, VILA LEGIONARIOS, CEP: 74853-070 | F4: Data base: | H4: =F1 -> 45992
A5: Município: | B5: GOIÂNIA | E5: BDI: | F5: =BDI!E22 -> 0.2239 | G5: BDI reduz.: | H5: =BDI!K22 -> 0.1827
A6: PLANILHA ORÇAMENTÁRIA DE REFERÊNCIA
A7: ITEM | B7: FONTE | C7: CÓDIGO | D7: DESCRIÇÃO | E7: UNIDADE | F7: QUANT. | G7: PREÇO UNITÁRIO MATERIAL SEM BDI(R$) | H7: PREÇO UNITÁRIO MÃO DE OBRA SEM BDI(R$) | I7: PREÇO UNITÁRIO TOTAL SEM BDI (R$) | J7: PREÇO TOTAL SEM BDI (R$) | K7: BDI | L7: PREÇO UNITÁRIO TOTAL COM BDI (R$) | M7: ÍNDICES DE CORREÇÃO | N7: PREÇO UNITÁRIO TOTAL COM BDI + CORREÇÃO (R$) | O7: PREÇO TOTAL COM BDI + CORREÇÃO (R$)
A8: 01. | D8: SERVIÇOS PRELIMINARES | G8: =SUM(G9:G12) -> 2876.9 | H8: =SUM(H9:H12) -> 9.62 | I8: =SUM(I9:I12) -> 2886.52 | J8: =SUM(J9:J12) -> 77517.663 | L8: =SUM(L9:L12) -> 3430.3993 | N8: =SUM(N9:N12) -> 3446.6904 | O8: =SUM(O9:O12) -> 92190.189
A9: ='ORÇA onerado'!A9 -> 45658 | B9: ='ORÇA onerado'!B9 -> GOINFRA | C9: ='ORÇA onerado'!C9 -> 21301 | D9: ='ORÇA onerado'!D9 -> PLACA DE OBRA PLOTADA EM CHAPA METÁLICA 26 , AFIXADA EM CAVALETES DE MADEIRA DE LEI (VIGOTAS 6X12CM) - PADRÃO GOINFRA | E9: ='ORÇA onerado'!E9 -> m2 | F9: ='ORÇA onerado'!F9 -> 4.5 | G9: 396.3 | H9: 4.48 | I9: =G9+H9 -> 400.78 | J9: =I9*F9 -> 1803.51 | K9: =$F$5 -> 0.2239 | L9: =(1+K9)*I9 -> 490.51464 | M9: =INCC!$C$26 -> 0.0047490257 | N9: =(1+M9)*L9 -> 492.84411 | O9: =N9*F9 -> 2217.7985
A10: ='ORÇA onerado'!A10 -> 45689 | B10: ='ORÇA onerado'!B10 -> GOINFRA | C10: ='ORÇA onerado'!C10 -> 20230 | D10: ='ORÇA onerado'!D10 -> LOCAÇÃO DE CONTAINER SEM REVESTIMENTO INTERNO PARA ALMOXARIFADO / DEPÓSITO 6,00 X 2,40 M, INCLUSIVE MOBILIÁRIO (EXCLUSO MOBILIZAÇÃO / DESMOBILIZAÇÃO)LOCAÇÃO DE CONTAINER SEM REVESTIMENTO INTERNO PARA ALMOXARIFADO / DEPÓSITO 6,00 X 2,40 M, INCLUSIVE MOBILIÁRIO (EXCLUSO MOBILIZAÇÃO / DESMOBILIZAÇÃO) | E10: ='ORÇA onerado'!E10 -> mês | F10: ='ORÇA onerado'!F10 -> 3 | G10: 1135.26 | H10: 0 | I10: =G10+H10 -> 1135.26 | J10: =I10*F10 -> 3405.78 | K10: =$H$5 -> 0.1827 | L10: =(1+K10)*I10 -> 1342.672 | M10: =INCC!$C$26 -> 0.0047490257 | N10: =(1+M10)*L10 -> 1349.0484 | O10: =N10*F10 -> 4047.1452
A11: ='ORÇA onerado'!A11 -> 45717 | B11: ='ORÇA onerado'!B11 -> GOINFRA | C11: ='ORÇA onerado'!C11 -> 20232 | D11: ='ORÇA onerado'!D11 -> LOCAÇÃO DE CONTAINER SANITÁRIO MISTO 6,00 X 2,40 M, COM 3 VASOS, 6 CHUVEIROS, LAVATÓRIO E MICTÓRIO (EXCLUSO MOBILIZAÇÃO / DESMOBILIZAÇÃO) | E11: ='ORÇA onerado'!E11 -> mês | F11: ='ORÇA onerado'!F11 -> 3 | G11: 1325.95 | H11: 0 | I11: =G11+H11 -> 1325.95 | J11: =I11*F11 -> 3977.85 | K11: =$H$5 -> 0.1827 | L11: =(1+K11)*I11 -> 1568.2011 | M11: =INCC!$C$26 -> 0.0047490257 | N11: =(1+M11)*L11 -> 1575.6485 | O11: =N11*F11 -> 4726.9455
A12: ='ORÇA onerado'!A12 -> 45748 | B12: ='ORÇA onerado'!B12 -> GOINFRA | C12: ='ORÇA onerado'!C12 -> 60105 | D12: ='ORÇA onerado'!D12 -> ANDAIME METALICO FACHADEIRO (ALUGUEL/MES) | E12: ='ORÇA onerado'!E12 -> m2xmes | F12: ='ORÇA onerado'!F12 -> 2785.59 | G12: 19.39 | H12: 5.14 | I12: =G12+H12 -> 24.53 | J12: =I12*F12 -> 68330.523 | K12: =$H$5 -> 0.1827 | L12: =(1+K12)*I12 -> 29.011631 | M12: =INCC!$C$26 -> 0.0047490257 | N12: =(1+M12)*L12 -> 29.149408 | O12: =N12*F12 -> 81198.299
A13: ='ORÇA onerado'!A13 -> 02. | B13: ='ORÇA onerado'!B13 | C13: ='ORÇA onerado'!C13 | D13: ='ORÇA onerado'!D13 -> TRANSPORTES | E13: ='ORÇA onerado'!E13 | F13: ='ORÇA onerado'!F13 | G13: =SUM(G14:G16) -> 555.56 | H13: =SUM(H14:H16) -> 474.3 | I13: =SUM(I14:I16) -> 1029.86 | J13: =SUM(J14:J16) -> 10486.255 | L13: =SUM(L14:L16) -> 1260.4457 | N13: =SUM(N14:N16) -> 1266.4315 | O13: =SUM(O14:O16) -> 12895.077
A14: ='ORÇA onerado'!A14 -> 45659 | B14: ='ORÇA onerado'!B14 -> GOINFRA | C14: ='ORÇA onerado'!C14 -> 30105 | D14: ='ORÇA onerado'!D14 -> TRANSPORTE DE ENTULHO EM CAÇAMBA ESTACIONÁRIA INCLUSO A CARGA MANUAL | E14: ='ORÇA onerado'!E14 -> m3 | F14: ='ORÇA onerado'!F14 -> 87.74 | G14: 96.8 | H14: 12.22 | I14: =G14+H14 -> 109.02 | J14: =I14*F14 -> 9565.4148 | K14: =$F$5 -> 0.2239 | L14: =(1+K14)*I14 -> 133.42958 | M14: =INCC!$C$26 -> 0.0047490257 | N14: =(1+M14)*L14 -> 134.06324 | O14: =N14*F14 -> 11762.709
A15: ='ORÇA onerado'!A15 -> 45690 | B15: ='ORÇA onerado'!B15 -> GOINFRA | C15: ='ORÇA onerado'!C15 -> 30114 | D15: ='ORÇA onerado'!D15 -> MOBILIZAÇÃO DO CANTEIRO DE OBRAS - INCLUSIVE CARGA E DESCARGA E A HORA IMPRODUTIVA DO CAMINHÃO - ( EXCLUSO O TRANSPORTE ) | E15: ='ORÇA onerado'!E15 -> un | F15: ='ORÇA onerado'!F15 -> 1 | G15: 229.38 | H15: 231.04 | I15: =G15+H15 -> 460.42 | J15: =I15*F15 -> 460.42 | K15: =$F$5 -> 0.2239 | L15: =(1+K15)*I15 -> 563.50804 | M15: =INCC!$C$26 -> 0.0047490257 | N15: =(1+M15)*L15 -> 566.18415 | O15: =N15*F15 -> 566.18415
A16: ='ORÇA onerado'!A16 -> 45718 | B16: ='ORÇA onerado'!B16 -> GOINFRA | C16: ='ORÇA onerado'!C16 -> 30116 | D16: ='ORÇA onerado'!D16 -> DESMOBILIZAÇÃO DO CANTEIRO DE OBRAS - INCLUSIVE CARGA E DESCARGA E A HORA IMPRODUTIVA DO CAMINHÃO - ( EXCLUSO O TRANSPORTE ) | E16: ='ORÇA onerado'!E16 -> un | F16: ='ORÇA onerado'!F16 -> 1 | G16: 229.38 | H16: 231.04 | I16: =G16+H16 -> 460.42 | J16: =I16*F16 -> 460.42 | K16: =$F$5 -> 0.2239 | L16: =(1+K16)*I16 -> 563.50804 | M16: =INCC!$C$26 -> 0.0047490257 | N16: =(1+M16)*L16 -> 566.18415 | O16: =N16*F16 -> 566.18415
A17: 03. | D17: PAISAGISMO | G17: =SUM(G18:G19) -> 38.2 | H17: =SUM(H18:H19) -> 22.48 | I17: =SUM(I18:I19) -> 60.68 | J17: =SUM(J18:J19) -> 1001.7233 | L17: =SUM(L18:L19) -> 74.266252 | N17: =SUM(N18:N19) -> 74.492196 | O17: =SUM(O18:O19) -> 1228.7896
A18: ='ORÇA onerado'!A18 -> 46025 | B18: ='ORÇA onerado'!B18 -> GOINFRA | C18: ='ORÇA onerado'!C18 -> 270213 | D18: ='ORÇA onerado'!D18 -> PREPARAÇÃO C/ ADUBAÇÃO DO TERRENO EM FORMA DE CANTEIRO E PLANTIO DE FORRAÇÃO AMBOS C/PROFUNDIDADE DE 30 CM - EXCLUSO O CUSTO DE AQUISIÇÃO DA MUDA | E18: ='ORÇA onerado'!E18 -> m2 | F18: ='ORÇA onerado'!F18 -> 3.4579 | G18: 2.7 | H18: 19.43 | I18: =G18+H18 -> 22.13 | J18: =I18*F18 -> 76.523327 | K18: =$F$5 -> 0.2239 | L18: =(1+K18)*I18 -> 27.084907 | M18: =INCC!$C$26 -> 0.0047490257 | N18: =(1+M18)*L18 -> 27.213534 | O18: =N18*F18 -> 94.101679
A19: ='ORÇA onerado'!A19 -> 46056 | B19: ='ORÇA onerado'!B19 -> ORSE | C19: ='ORÇA onerado'!C19 -> 2397 | D19: ='ORÇA onerado'!D19 -> Fornecimento e plantio de arbustos ornamentais | E19: ='ORÇA onerado'!E19 -> un. | F19: ='ORÇA onerado'!F19 -> 24 | G19: ='ORÇA onerado'!G19 -> 35.5 | H19: ='ORÇA onerado'!H19 -> 3.05 | I19: =G19+H19 -> 38.55 | J19: =I19*F19 -> 925.2 | K19: =$F$5 -> 0.2239 | L19: =(1+K19)*I19 -> 47.181345 | M19: =INCC!$C$29 -> 0.0020626076 | N19: =(1+M19)*L19 -> 47.278662 | O19: =N19*F19 -> 1134.6879
A20: 04. | D20: INST. ELÉT./TELEFÔNICA/CABEAMENTO ESTRUTURADO | G20: =SUM(G21:G40) -> 1098.9726 | H20: =SUM(H21:H40) -> 171.65137 | I20: =SUM(I21:I40) -> 1270.624 | J20: =SUM(J21:J40) -> 7312.1861 | L20: =SUM(L21:L40) -> 1555.1167 | N20: =SUM(N21:N40) -> 1557.7607 | O20: =SUM(O21:O40) -> 8977.6651
A21: ='ORÇA onerado'!A21 -> 46026 | B21: ='ORÇA onerado'!B21 -> GOINFRA | C21: ='ORÇA onerado'!C21 -> 71231 | D21: ='ORÇA onerado'!D21 -> ELETRODUTO METALICO FLEXIVEL COM REVESTIMENTO EM PVC PRETO DIAMETRO 3/4" | E21: ='ORÇA onerado'!E21 -> m | F21: ='ORÇA onerado'!F21 -> 3 | G21: 9.52 | H21: 8.07 | I21: =G21+H21 -> 17.59 | J21: =I21*F21 -> 52.77 | K21: =$F$5 -> 0.2239 | L21: =(1+K21)*I21 -> 21.528401 | M21: =INCC!$C$26 -> 0.0047490257 | N21: =(1+M21)*L21 -> 21.63064 | O21: =N21*F21 -> 64.89192
A22: ='ORÇA onerado'!A22 -> 46057 | B22: ='ORÇA onerado'!B22 -> GOINFRA | C22: ='ORÇA onerado'!C22 -> 71193 | D22: ='ORÇA onerado'!D22 -> ELETRODUTO PVC FLEXÍVEL - MANGUEIRA CORRUGADA LEVE - DIAM. 20MM | E22: ='ORÇA onerado'!E22 -> m | F22: ='ORÇA onerado'!F22 -> 12 | G22: 2 | H22: 8.07 | I22: =G22+H22 -> 10.07 | J22: =I22*F22 -> 120.84 | K22: =$F$5 -> 0.2239 | L22: =(1+K22)*I22 -> 12.324673 | M22: =INCC!$C$26 -> 0.0047490257 | N22: =(1+M22)*L22 -> 12.383203 | O22: =N22*F22 -> 148.59844
A23: ='ORÇA onerado'!A23 -> 46085 | B23: ='ORÇA onerado'!B23 -> GOINFRA | C23: ='ORÇA onerado'!C23 -> 70371 | D23: ='ORÇA onerado'!D23 -> ABRAÇADEIRA METALICA TIPO "D" DIAM. 3/4" | E23: ='ORÇA onerado'!E23 -> un. | F23: ='ORÇA onerado'!F23 -> 40 | G23: 1.08 | H23: 0.47 | I23: =G23+H23 -> 1.55 | J23: =I23*F23 -> 62 | K23: =$F$5 -> 0.2239 | L23: =(1+K23)*I23 -> 1.897045 | M23: =INCC!$C$26 -> 0.0047490257 | N23: =(1+M23)*L23 -> 1.9060541 | O23: =N23*F23 -> 76.242165
A24: ='ORÇA onerado'!A24 -> 46116 | B24: ='ORÇA onerado'!B24 -> GOINFRA | C24: ='ORÇA onerado'!C24 -> 71211 | D24: ='ORÇA onerado'!D24 -> ELETRODUTO EM AÇO GALVANIZADO A FOGO DIÂMETRO 3/4" - PESADO | E24: ='ORÇA onerado'!E24 -> m | F24: ='ORÇA onerado'!F24 -> 40 | G24: 27.6 | H24: 14.25 | I24: =G24+H24 -> 41.85 | J24: =I24*F24 -> 1674 | K24: =$F$5 -> 0.2239 | L24: =(1+K24)*I24 -> 51.220215 | M24: =INCC!$C$26 -> 0.0047490257 | N24: =(1+M24)*L24 -> 51.463461 | O24: =N24*F24 -> 2058.5384
A25: ='ORÇA onerado'!A25 -> 46146 | B25: ='ORÇA onerado'!B25 -> GOINFRA | C25: ='ORÇA onerado'!C25 -> 70932 | D25: ='ORÇA onerado'!D25 -> CONDULETE METÁLICO - TAMPÃO DE 3/4" | E25: ='ORÇA onerado'!E25 -> un. | F25: ='ORÇA onerado'!F25 -> 63 | G25: 0.25 | H25: 1.42 | I25: =G25+H25 -> 1.67 | J25: =I25*F25 -> 105.21 | K25: =$F$5 -> 0.2239 | L25: =(1+K25)*I25 -> 2.043913 | M25: =INCC!$C$26 -> 0.0047490257 | N25: =(1+M25)*L25 -> 2.0536196 | O25: =N25*F25 -> 129.37803
A26: ='ORÇA onerado'!A26 -> 46177 | B26: ='ORÇA onerado'!B26 -> GOINFRA | C26: ='ORÇA onerado'!C26 -> 70929 | D26: ='ORÇA onerado'!D26 -> CONDULETE METÁLICO - CAIXA COM 5 ENTRADAS | E26: ='ORÇA onerado'!E26 -> un. | F26: ='ORÇA onerado'!F26 -> 23 | G26: 9.33 | H26: 16.15 | I26: =G26+H26 -> 25.48 | J26: =I26*F26 -> 586.04 | K26: =$F$5 -> 0.2239 | L26: =(1+K26)*I26 -> 31.184972 | M26: =INCC!$C$26 -> 0.0047490257 | N26: =(1+M26)*L26 -> 31.33307 | O26: =N26*F26 -> 720.66062
A27: ='ORÇA onerado'!A27 -> 46207 | B27: ='ORÇA onerado'!B27 -> GOINFRA | C27: ='ORÇA onerado'!C27 -> 70930 | D27: ='ORÇA onerado'!D27 -> CONDULETE METÁLICO - ADAPTADOR DE SAÍDA 3/4" | E27: ='ORÇA onerado'!E27 -> un. | F27: ='ORÇA onerado'!F27 -> 42 | G27: 2.68 | H27: 3.8 | I27: =G27+H27 -> 6.48 | J27: =I27*F27 -> 272.16 | K27: =$F$5 -> 0.2239 | L27: =(1+K27)*I27 -> 7.930872 | M27: =INCC!$C$26 -> 0.0047490257 | N27: =(1+M27)*L27 -> 7.9685359 | O27: =N27*F27 -> 334.67851
A28: ='ORÇA onerado'!A28 -> 46238 | B28: ='ORÇA onerado'!B28 -> COMP. | C28: ='ORÇA onerado'!C28 -> 11 | D28: ='ORÇA onerado'!D28 -> CONECTOR WAGO 221-415 | E28: ='ORÇA onerado'!E28 -> un. | F28: ='ORÇA onerado'!F28 -> 17 | G28: ='COMP. desonerado'!M72 -> 0.95195948 | H28: ='COMP. desonerado'!N72 -> 3.8204577 | I28: =G28+H28 -> 4.7724172 | J28: =I28*F28 -> 81.131092 | K28: =$F$5 -> 0.2239 | L28: =(1+K28)*I28 -> 5.8409614 | N28: =(1+M28)*L28 -> 5.8409614 | O28: =N28*F28 -> 99.296343
A29: ='ORÇA onerado'!A29 -> 46269 | B29: ='ORÇA onerado'!B29 -> COMP. | C29: ='ORÇA onerado'!C29 -> 10 | D29: ='ORÇA onerado'!D29 -> CAIXA DE PASSAGEM PVC, SOBREPOR 300X300X100mm | E29: ='ORÇA onerado'!E29 -> un. | F29: ='ORÇA onerado'!F29 -> 3 | G29: ='COMP. desonerado'!M66 -> 120.43 | H29: ='COMP. desonerado'!N66 -> 3.8204577 | I29: =G29+H29 -> 124.25046 | J29: =I29*F29 -> 372.75137 | K29: =$F$5 -> 0.2239 | L29: =(1+K29)*I29 -> 152.07014 | N29: =(1+M29)*L29 -> 152.07014 | O29: =N29*F29 -> 456.21041
A30: ='ORÇA onerado'!A30 -> 46299 | B30: ='ORÇA onerado'!B30 -> ORSE | C30: ='ORÇA onerado'!C30 -> 9039 | D30: ='ORÇA onerado'!D30 -> Alçapão de alumínio, tipo escama, cor fosca | E30: ='ORÇA onerado'!E30 -> un. | F30: ='ORÇA onerado'!F30 -> 0.32 | G30: ='ORÇA onerado'!G30 -> 392.26 | H30: ='ORÇA onerado'!H30 -> 44.21 | I30: =G30+H30 -> 436.47 | J30: =I30*F30 -> 139.6704 | K30: =$F$5 -> 0.2239 | L30: =(1+K30)*I30 -> 534.19563 | M30: =INCC!$C$29 -> 0.0020626076 | N30: =(1+M30)*L30 -> 535.29747 | O30: =N30*F30 -> 171.29519
A31: ='ORÇA onerado'!A31 -> 46330 | B31: ='ORÇA onerado'!B31 -> GOINFRA | C31: ='ORÇA onerado'!C31 -> 70563 | D31: ='ORÇA onerado'!D31 -> CABO FLEXÍVEL, PVC (70° C), 450/750 V, 2,5 MM2 | E31: ='ORÇA onerado'!E31 -> m | F31: ='ORÇA onerado'!F31 -> 180 | G31: 2.33 | H31: 2.6 | I31: =G31+H31 -> 4.93 | J31: =I31*F31 -> 887.4 | K31: =$F$5 -> 0.2239 | L31: =(1+K31)*I31 -> 6.033827 | M31: =INCC!$C$26 -> 0.0047490257 | N31: =(1+M31)*L31 -> 6.0624818 | O31: =N31*F31 -> 1091.2467
A32: ='ORÇA onerado'!A32 -> 46360 | B32: ='ORÇA onerado'!B32 -> GOINFRA | C32: ='ORÇA onerado'!C32 -> 70561 | D32: ='ORÇA onerado'!D32 -> CABO ISOLADO PP 3 X 2,5 MM2 | E32: ='ORÇA onerado'!E32 -> m | F32: ='ORÇA onerado'!F32 -> 10 | G32: 9.98 | H32: 6.45 | I32: =G32+H32 -> 16.43 | J32: =I32*F32 -> 164.3 | K32: =$F$5 -> 0.2239 | L32: =(1+K32)*I32 -> 20.108677 | M32: =INCC!$C$26 -> 0.0047490257 | N32: =(1+M32)*L32 -> 20.204174 | O32: =N32*F32 -> 202.04174
A33: ='ORÇA onerado'!A33 -> 4.13 | B33: ='ORÇA onerado'!B33 -> GOINFRA | C33: ='ORÇA onerado'!C33 -> 71431 | D33: ='ORÇA onerado'!D33 -> INTERRUPTOR PARALELO SIMPLES (1 SECAO) | E33: ='ORÇA onerado'!E33 -> un. | F33: ='ORÇA onerado'!F33 -> 2 | G33: 12.02 | H33: 13.77 | I33: =G33+H33 -> 25.79 | J33: =I33*F33 -> 51.58 | K33: =$F$5 -> 0.2239 | L33: =(1+K33)*I33 -> 31.564381 | M33: =INCC!$C$26 -> 0.0047490257 | N33: =(1+M33)*L33 -> 31.714281 | O33: =N33*F33 -> 63.428562
A34: ='ORÇA onerado'!A34 -> 4.14 | B34: ='ORÇA onerado'!B34 -> GOINFRA | C34: ='ORÇA onerado'!C34 -> 72475 | D34: ='ORÇA onerado'!D34 -> TAMPA PARA CONDULETE METÁLICO PARA 1 INTERRUPTOR | E34: ='ORÇA onerado'!E34 -> un. | F34: ='ORÇA onerado'!F34 -> 2 | G34: 5.22 | H34: 1.42 | I34: =G34+H34 -> 6.64 | J34: =I34*F34 -> 13.28 | K34: =$F$5 -> 0.2239 | L34: =(1+K34)*I34 -> 8.126696 | M34: =INCC!$C$26 -> 0.0047490257 | N34: =(1+M34)*L34 -> 8.1652899 | O34: =N34*F34 -> 16.33058
A35: ='ORÇA onerado'!A35 -> 4.15 | B35: ='ORÇA onerado'!B35 -> GOINFRA | C35: ='ORÇA onerado'!C35 -> 72395 | D35: ='ORÇA onerado'!D35 -> TAMPA CEGA PARA CONDULETE METÁLICO | E35: ='ORÇA onerado'!E35 -> un. | F35: ='ORÇA onerado'!F35 -> 3 | G35: 4.28 | H35: 1.42 | I35: =G35+H35 -> 5.7 | J35: =I35*F35 -> 17.1 | K35: =$F$5 -> 0.2239 | L35: =(1+K35)*I35 -> 6.97623 | M35: =INCC!$C$26 -> 0.0047490257 | N35: =(1+M35)*L35 -> 7.0093603 | O35: =N35*F35 -> 21.028081
A36: ='ORÇA onerado'!A36 -> 4.16 | B36: ='ORÇA onerado'!B36 -> GOINFRA | C36: ='ORÇA onerado'!C36 -> 72397 | D36: ='ORÇA onerado'!D36 -> TAMPA CEGA PLÁSTICA 4"X2" COM FURO CENTRAL | E36: ='ORÇA onerado'!E36 -> un. | F36: ='ORÇA onerado'!F36 -> 18 | G36: 4.55 | H36: 1.42 | I36: =G36+H36 -> 5.97 | J36: =I36*F36 -> 107.46 | K36: =$F$5 -> 0.2239 | L36: =(1+K36)*I36 -> 7.306683 | M36: =INCC!$C$26 -> 0.0047490257 | N36: =(1+M36)*L36 -> 7.3413826 | O36: =N36*F36 -> 132.14489
A37: ='ORÇA onerado'!A37 -> 4.17 | B37: ='ORÇA onerado'!B37 -> GOINFRA | C37: ='ORÇA onerado'!C37 -> 71171 | D37: ='ORÇA onerado'!D37 -> DISJUNTOR MONOPOLAR DE 10 A 32-A | E37: ='ORÇA onerado'!E37 -> un. | F37: ='ORÇA onerado'!F37 -> 1 | G37: 11.26 | H37: 14.25 | I37: =G37+H37 -> 25.51 | J37: =I37*F37 -> 25.51 | K37: =$F$5 -> 0.2239 | L37: =(1+K37)*I37 -> 31.221689 | M37: =INCC!$C$26 -> 0.0047490257 | N37: =(1+M37)*L37 -> 31.369962 | O37: =N37*F37 -> 31.369962
A38: ='ORÇA onerado'!A38 -> 4.18 | B38: ='ORÇA onerado'!B38 -> ORSE | C38: ='ORÇA onerado'!C38 -> 14072 | D38: ='ORÇA onerado'!D38 -> Perfil em alumínio tipo slim de embutir para fita de LED, cores P/B/C, e=23mm | E38: ='ORÇA onerado'!E38 -> m | F38: ='ORÇA onerado'!F38 -> 30 | G38: ='ORÇA onerado'!G38 -> 10.99 | H38: ='ORÇA onerado'!H38 -> 18.2 | I38: =G38+H38 -> 29.19 | J38: =I38*F38 -> 875.7 | K38: =$F$5 -> 0.2239 | L38: =(1+K38)*I38 -> 35.725641 | M38: =INCC!$C$29 -> 0.0020626076 | N38: =(1+M38)*L38 -> 35.799329 | O38: =N38*F38 -> 1073.9799
A39: ='ORÇA onerado'!A39 -> 4.19 | B39: ='ORÇA onerado'!B39 -> ORSE | C39: ='ORÇA onerado'!C39 -> 13594 | D39: ='ORÇA onerado'!D39 -> Fita de LED com fonte bivolt, 5m, e = 8mm, 2.700K (luz amarela), tipo cob, g-light ou similar | E39: ='ORÇA onerado'!E39 -> un. | F39: ='ORÇA onerado'!F39 -> 5 | G39: ='ORÇA onerado'!G39 -> 127 | H39: ='ORÇA onerado'!H39 -> 4.22 | I39: =G39+H39 -> 131.22 | J39: =I39*F39 -> 656.1 | K39: =$F$5 -> 0.2239 | L39: =(1+K39)*I39 -> 160.60016 | M39: =INCC!$C$29 -> 0.0020626076 | N39: =(1+M39)*L39 -> 160.93141 | O39: =N39*F39 -> 804.65707
A40: ='ORÇA onerado'!A40 -> 4.20 | B40: ='ORÇA onerado'!B40 -> COMPOSIÇÃO | C40: ='ORÇA onerado'!C40 -> 12 | D40: ='ORÇA onerado'!D40 -> Fonte Colmeia, 200W, 12V/16.5A, Bivolt, Ref. Blumenau | E40: ='ORÇA onerado'!E40 -> un. | F40: ='ORÇA onerado'!F40 -> 3 | G40: ='COMP. desonerado'!M78 -> 345.24063 | H40: ='COMP. desonerado'!N78 -> 3.8204577 | I40: =G40+H40 -> 349.06109 | J40: =I40*F40 -> 1047.1833 | K40: =$F$5 -> 0.2239 | L40: =(1+K40)*I40 -> 427.21587 | N40: =(1+M40)*L40 -> 427.21587 | O40: =N40*F40 -> 1281.6476
...

Sheet MEM. CÁLC
A1: Órgão: | B1: SECRETARIA DE ESTADO DA SAÚDE DE GOIÁS | E1: DATA: | F1: =TODAY() -> 46056
A2: Unidade: | B2: SUPERINTENDÊNCIA DA ESCOLA DE SAÚDE DE GOIÁS - SESG | E2: REVISÃO: | F2: Emissão 02
A3: Obra: | B3: FORNECIMENTO E INSTALAÇÃO BRISES, RIPADO E CORRIMÃO | E3: REFERÊNCIA:
A4: Endereço: | B4: RUA 26, 521, VILA LEGIONARIOS, CEP: 74853-070
A5: Município: | B5: GOIÂNIA
A6: MEMORIAL DE CÁLCULO
A8: Item | B8: Descrição dos Serviços | C8: Un. | D8: Total | E8: Descrição conforme a necessidade de cada item
A9: ='ORÇA onerado'!A8 -> 01. | B9: SERVIÇOS PRELIMINARES
A10: ='ORÇA onerado'!A9 -> 45658 | B10: ='ORÇA onerado'!D9 -> PLACA DE OBRA PLOTADA EM CHAPA METÁLICA 26 , AFIXADA EM CAVALETES DE MADEIRA DE LEI (VIGOTAS 6X12CM) - PADRÃO GOINFRA | C10: ='ORÇA onerado'!E9 -> m2 | D10: 4.5 | E10: Medida determinada pela GOINFRA
A11: ='ORÇA onerado'!A10 -> 45689 | B11: ='ORÇA onerado'!D10 -> LOCAÇÃO DE CONTAINER SEM REVESTIMENTO INTERNO PARA ALMOXARIFADO / DEPÓSITO 6,00 X 2,40 M, INCLUSIVE MOBILIÁRIO (EXCLUSO MOBILIZAÇÃO / DESMOBILIZAÇÃO)LOCAÇÃO DE CONTAINER SEM REVESTIMENTO INTERNO PARA ALMOXARIFADO / DEPÓSITO 6,00 X 2,40 M, INCLUSIVE MOBILIÁRIO (EXCLUSO MOBILIZAÇÃO / DESMOBILIZAÇÃO) | C11: ='ORÇA onerado'!E10 -> mês | D11: 3 | E11: Tempo de execução da obra
A12: ='ORÇA onerado'!A11 -> 45717 | B12: ='ORÇA onerado'!D11 -> LOCAÇÃO DE CONTAINER SANITÁRIO MISTO 6,00 X 2,40 M, COM 3 VASOS, 6 CHUVEIROS, LAVATÓRIO E MICTÓRIO (EXCLUSO MOBILIZAÇÃO / DESMOBILIZAÇÃO) | C12: ='ORÇA onerado'!E11 -> mês | D12: 3 | E12: Tempo de execução da obra
A13: Item | B13: Descrição dos Serviços | C13: Un. | D13: Total | E13: Fachada 4 Bl A - Brise | F13: Fachada 1 Bl A - Brise | G13: Fachada 2 Bl D - Brise | H13: Fachada 3 Bl B - Brise | I13: Fachada 3 Bl D - Brise | J13: Fachada 1 Bl D - Ripado | K13: Fachada 1 Bl F - Ripado | L13: Fachada 1 Bl E - Brise | M13: Fachada 2 Bl E - Brise | N13: Fachada 2 Bl F - Brise | O13: Fachada Auditório 1 - Brise | P13: Fachada Auditório 2 - Brise | Q13: Fachada Auditório 3 - Brise | R13: Fachada 2 Bl D - Ripado | S13: Fachada 3 Bl D - Ripado | T13: Foi considerado um acréscimo de 5% sobre as medidas coletadas para instalação dos brises, a fim de cobrir eventuais imprevistos, perdas e ajustes necessários durante a execução.
A14: ='ORÇA onerado'!A12 -> 45748 | B14: ='ORÇA onerado'!D12 -> ANDAIME METALICO FACHADEIRO (ALUGUEL/MES) | C14: m2xmes | D14: =(E14+F14+G14+H14+I14+J14+K14+L14+M14+N14+O14+P14+Q14+R14+S14)*3 -> 2785.59 | E14: 43.04 | F14: 25.17 | G14: 122.48 | H14: 74.03 | I14: 67.91 | J14: 16.97 | K14: 26.76 | L14: 46.69 | M14: 132.55 | N14: 18.59 | O14: 159.7 | P14: 37.52 | Q14: 146.67 | R14: 4.94 | S14: 5.51
A17: 2 | B17: TRANSPORTES
A18: Item | B18: Descrição dos Serviços | C18: Un. | D18: Total | E18: LIMPEZA MANUAL
A19: ='ORÇA onerado'!A14 -> 45659 | B19: ='ORÇA onerado'!D14 -> TRANSPORTE DE ENTULHO EM CAÇAMBA ESTACIONÁRIA INCLUSO A CARGA MANUAL | C19: ='ORÇA onerado'!E14 -> m3 | D19: 87.74 | E19: 0 | F19: Para o entulho gerado durante a obra, foi estimado volume de 7% da área de construção
A20: ='ORÇA onerado'!A15 -> 45690 | B20: ='ORÇA onerado'!D15 -> MOBILIZAÇÃO DO CANTEIRO DE OBRAS - INCLUSIVE CARGA E DESCARGA E A HORA IMPRODUTIVA DO CAMINHÃO - ( EXCLUSO O TRANSPORTE ) | C20: ='ORÇA onerado'!E15 -> un | D20: 1
A21: ='ORÇA onerado'!A16 -> 45718 | B21: ='ORÇA onerado'!D16 -> DESMOBILIZAÇÃO DO CANTEIRO DE OBRAS - INCLUSIVE CARGA E DESCARGA E A HORA IMPRODUTIVA DO CAMINHÃO - ( EXCLUSO O TRANSPORTE ) | C21: ='ORÇA onerado'!E16 -> un | D21: 1
A24: 3 | B24: ='ORÇA onerado'!D17 -> PAISAGISMO
A25: ='ORÇA onerado'!A18 -> 46025 | B25: ='ORÇA onerado'!D18 -> PREPARAÇÃO C/ ADUBAÇÃO DO TERRENO EM FORMA DE CANTEIRO E PLANTIO DE FORRAÇÃO AMBOS C/PROFUNDIDADE DE 30 CM - EXCLUSO O CUSTO DE AQUISIÇÃO DA MUDA | C25: ='ORÇA onerado'!E18 -> m2 | D25: 3.4579 | E25: área da floreira
A26: ='ORÇA onerado'!A19 -> 46056 | B26: ='ORÇA onerado'!D19 -> Fornecimento e plantio de arbustos ornamentais | C26: ='ORÇA onerado'!E19 -> un. | D26: 24 | E26: qtde de projeto
A29: 4 | B29: INST. ELÉT./TELEFÔNICA/CABEAMENTO ESTRUTURADO
A30: ='ORÇA onerado'!A21 -> 46026 | B30: ='ORÇA onerado'!D21 -> ELETRODUTO METALICO FLEXIVEL COM REVESTIMENTO EM PVC PRETO DIAMETRO 3/4" | C30: ='ORÇA onerado'!E21 -> m | D30: ='ORÇA onerado'!F21 -> 3 | E30: qtde de projeto/ lista de materiais
A31: ='ORÇA onerado'!A22 -> 46057 | B31: ='ORÇA onerado'!D22 -> ELETRODUTO PVC FLEXÍVEL - MANGUEIRA CORRUGADA LEVE - DIAM. 20MM | C31: ='ORÇA onerado'!E22 -> m | D31: ='ORÇA onerado'!F22 -> 12 | E31: qtde de projeto/ lista de materiais
A32: ='ORÇA onerado'!A23 -> 46085 | B32: ='ORÇA onerado'!D23 -> ABRAÇADEIRA METALICA TIPO "D" DIAM. 3/4" | C32: ='ORÇA onerado'!E23 -> un. | D32: ='ORÇA onerado'!F23 -> 40 | E32: qtde de projeto/ lista de materiais
A33: ='ORÇA onerado'!A24 -> 46116 | B33: ='ORÇA onerado'!D24 -> ELETRODUTO EM AÇO GALVANIZADO A FOGO DIÂMETRO 3/4" - PESADO | C33: ='ORÇA onerado'!E24 -> m | D33: ='ORÇA onerado'!F24 -> 40 | E33: qtde de projeto/ lista de materiais
A34: ='ORÇA onerado'!A25 -> 46146 | B34: ='ORÇA onerado'!D25 -> CONDULETE METÁLICO - TAMPÃO DE 3/4" | C34: ='ORÇA onerado'!E25 -> un. | D34: ='ORÇA onerado'!F25 -> 63 | E34: qtde de projeto/ lista de materiais
A35: ='ORÇA onerado'!A26 -> 46177 | B35: ='ORÇA onerado'!D26 -> CONDULETE METÁLICO - CAIXA COM 5 ENTRADAS | C35: ='ORÇA onerado'!E26 -> un. | D35: ='ORÇA onerado'!F26 -> 23 | E35: qtde de projeto/ lista de materiais
A36: ='ORÇA onerado'!A27 -> 46207 | B36: ='ORÇA onerado'!D27 -> CONDULETE METÁLICO - ADAPTADOR DE SAÍDA 3/4" | C36: ='ORÇA onerado'!E27 -> un. | D36: ='ORÇA onerado'!F27 -> 42 | E36: qtde de projeto/ lista de materiais
A37: ='ORÇA onerado'!A28 -> 46238 | B37: ='ORÇA onerado'!D28 -> CONECTOR WAGO 221-415 | C37: ='ORÇA onerado'!E28 -> un. | D37: ='ORÇA onerado'!F28 -> 17 | E37: qtde de projeto/ lista de materiais
A38: ='ORÇA onerado'!A29 -> 46269 | B38: ='ORÇA onerado'!D29 -> CAIXA DE PASSAGEM PVC, SOBREPOR 300X300X100mm | C38: ='ORÇA onerado'!E29 -> un. | D38: ='ORÇA onerado'!F29 -> 3 | E38: qtde de projeto/ lista de materiais
A39: ='ORÇA onerado'!A30 -> 46299 | B39: ='ORÇA onerado'!D30 -> Alçapão de alumínio, tipo escama, cor fosca | C39: ='ORÇA onerado'!E30 -> un. | D39: ='ORÇA onerado'!F30 -> 0.32 | E39: qtde de projeto/ lista de materiais
A40: ='ORÇA onerado'!A31 -> 46330 | B40: ='ORÇA onerado'!D31 -> CABO FLEXÍVEL, PVC (70° C), 450/750 V, 2,5 MM2 | C40: ='ORÇA onerado'!E31 -> m | D40: ='ORÇA onerado'!F31 -> 180 | E40: qtde de projeto/ lista de materiais
A41: ='ORÇA onerado'!A32 -> 46360 | B41: ='ORÇA onerado'!D32 -> CABO ISOLADO PP 3 X 2,5 MM2 | C41: ='ORÇA onerado'!E32 -> m | D41: ='ORÇA onerado'!F32 -> 10 | E41: qtde de projeto/ lista de materiais
... A49: ='ORÇA onerado'!A40 -> 4.20 | B49: ='ORÇA onerado'!D40 -> Fonte Colmeia, 200W, 12V/16.5A, Bivolt, Ref. Blumenau | C49: ='ORÇA onerado'!E40 -> un. | D49: ='ORÇA onerado'!F40 -> 3 | E49: qtde de projeto/ lista de materiais
A51: 5 | B51: INSTALAÇÕES PLUVIAIS
A52: ='ORÇA onerado'!A42 -> 46027 | B52: ='ORÇA onerado'!D42 -> Grelha em aço inox para calha, dim 140 x 25 x 2.5 cm - inclusive quadro de cantoneira 1/8" x 1" | C52: ='ORÇA onerado'!E42 -> un | D52: 1 | E52: rampa perto das floreira | F52: grelha de 1.4*,25
A53: ='ORÇA onerado'!A43 -> 46058 | B53: ='ORÇA onerado'!D43 -> Corte em pavimento de asfalto/concreto, com máquina e disco diamantado - Rev 01 | C53: ='ORÇA onerado'!E43 -> m | D53: =191*0.25 -> 47.75 | E53: 191 un de 25*25cm | F53: Piso tátil
A54: ='ORÇA onerado'!A44 -> 46086 | B54: ='ORÇA onerado'!D44 -> TUBO SOLDAVEL PARA ESGOTO DIAMETRO 50 MM | C54: ='ORÇA onerado'!E44 -> m | D54: 7.1 | E54: tubo de 50, prof 1m, compr 7.10m | F54: Tubulação grelha
A55: ='ORÇA onerado'!A45 -> 46117 | B55: ='ORÇA onerado'!D45 -> DEMOLIÇÃO MANUAL DE PISO CIMENTICIO SOBRE LASTRO DE CONCRETO COM TRANSPORTE ATE CAÇAMBA E CARGA | C55: ='ORÇA onerado'!E45 -> m2 | D55: =1.6*0.35 -> 0.56 | E55: 10cm p cada lado da grelha. 1,6*0,35 | F55: Tubulação grelha
...

Sheet CRONO
A1: Órgão: | B1: SECRETARIA DE ESTADO DA SAÚDE DE GOIÁS | D1: TABELA | E1: ONERADA | H1: Data Base ÚNICA: | J1: ='ORÇA onerado'!F1 -> 45992
A2: Unidade: | B2: SUPERINTENDÊNCIA DA ESCOLA DE SAÚDE DE GOIÁS - SESG | D2: Referência: | E2: GOINFRA 10/2025 (reajustada pelo INCC até 12/2025); SINAPI 12/2025; ORSE - Novembro/2025 (reajustada pelo INCC até Dezembro/2025)
A3: Obra: | B3: FORNECIMENTO E INSTALAÇÃO BRISES, RIPADO E CORRIMÃO
A4: Endereço: | B4: RUA 26, 521, VILA LEGIONARIOS, CEP: 74853-070 | D4: BDI:
A5: Município: | B5: GOIÂNIA | D5: BDI reduz.:
A7: CRONOGRAMA FÍSICO-FINANCEIRO ONERADO
A9: ÍTEM | B9: SERVIÇOS | C9: R$ TOTAL | D9: % DO TOTAL | E9: PERÍODO - MÊS
C10: C/ BDI + INCC | E10: 1° | F10: 2° | G10: 3° | H10: 4° | I10: 5° | J10: 6°
A11: 01. | B11: =RESUMO!B10 -> SERVIÇOS PRELIMINARES | C11: =RESUMO!D10 -> 93646.66 | D11: =C11/$C$53 -> 0.046180173
E12: 0.33 | F12: 0.33 | G12: 0.34
E13: =$C$11*E12 -> 30903.398 | F13: =$C$11*F12 -> 30903.398 | G13: =$C$11*G12 -> 31839.864
A14: 02. | B14: =RESUMO!B11 -> TRANSPORTES | C14: =RESUMO!D11 -> 13065.862 | D14: =C14/$C$53 -> 0.006443196
E15: 0.33 | F15: 0.33 | G15: 0.34
E16: =E15*$C$14 -> 4311.7346 | F16: =F15*$C$14 -> 4311.7346 | G16: =G15*$C$14 -> 4442.3932
A17: 03. | B17: =RESUMO!B12 -> PAISAGISMO | C17: =RESUMO!D12 -> 1235.4655 | D17: =C17/$C$53 -> 0.0006092477
E18: 0 | F18: 0 | G18: 1
E19: =E18*$C$17 -> 0 | F19: =F18*$C$17 -> 0 | G19: =G18*$C$17 -> 1235.4655
A20: 04. | B20: =RESUMO!B13 -> INST. ELÉT./TELEFÔNICA/CABEAMENTO ESTRUTURADO | C20: =RESUMO!D13 -> 9197.8692 | D20: =C20/$C$53 -> 0.0045357644
E21: 0 | F21: 0.5 | G21: 0.5
E22: =E21*$C$20 -> 0 | F22: =F21*$C$20 -> 4598.9346 | G22: =G21*$C$20 -> 4598.9346
A23: 05. | B23: =RESUMO!B14 -> INSTALAÇÕES PLUVIAIS | C23: =RESUMO!D14 -> 14797.427 | D23: =C23/$C$53 -> 0.0072970858
E24: 1 | F24: 0 | G24: 0
E25: =E24*$C$23 -> 14797.427 | F25: =F24*$C$23 -> 0 | G25: =G24*$C$23 -> 0
A26: 06. | B26: =RESUMO!B15 -> ALVENARIAS E DIVISÓRIAS | C26: =RESUMO!D15 -> 5300.2574 | D26: =C26/$C$53 -> 0.002613727
E27: 1 | F27: 0 | G27: 0
E28: =E27*$C$26 -> 5300.2574 | F28: =F27*$C$26 -> 0 | G28: =G27*$C$26 -> 0
A29: 07. | B29: =RESUMO!B16 -> ESTRUTURAS METÁLICAS | C29: =RESUMO!D16 -> 53549.184 | D29: =C29/$C$53 -> 0.026406821
E30: 0.8 | F30: 0.2 | G30: 0
E31: =E30*$C$29 -> 42839.347 | F31: =F30*$C$29 -> 10709.837 | G31: =G30*$C$29 -> 0
A32: 08. | B32: =RESUMO!B17 -> COBERTURAS | C32: =RESUMO!D17 -> 65521.477 | D32: =C32/$C$53 -> 0.032310743
E33: 0.2 | F33: 0.8 | G33: 0
E34: =E33*$C$32 -> 13104.295 | F34: =F33*$C$32 -> 52417.182 | G34: =G33*$C$32 -> 0
A35: 09. | B35: =RESUMO!B18 -> ESQUADRIAS MADEIRAS/ METÁLICAS | C35: =RESUMO!D18 -> 1077866.2 | D35: =C35/$C$53 -> 0.53153043
E36: 0.2 | F36: 0.4 | G36: 0.4
E37: =E36*$C$35 -> 215573.25 | F37: =F36*$C$35 -> 431146.5 | G37: =G36*$C$35 -> 431146.5
A38: 10. | B38: =RESUMO!B19 -> REVESTIMENTO DE PAREDES | C38: =RESUMO!D19 -> 39505.127 | D38: =C38/$C$53 -> 0.019481246
E39: 0 | F39: 0.2 | G39: 0.8
E40: =E39*$C$38 -> 0 | F40: =F39*$C$38 -> 7901.0254 | G40: =G39*$C$38 -> 31604.102
A41: 11. | B41: =RESUMO!B20 -> REVESTIMENTO DE PISO | C41: =RESUMO!D20 -> 59284.98 | D41: =C41/$C$53 -> 0.029235326
E42: 0.2 | F42: 0.4 | G42: 0.4
...

Sheet INCC
A1: Órgão: | B1: SECRETARIA DE ESTADO DA SAÚDE DE GOIÁS | C1: DATA: | D1: =TODAY() -> 46056
A2: Unidade: | B2: SUPERINTENDÊNCIA DA ESCOLA DE SAÚDE DE GOIÁS - SESG | C2: REVISÃO: | D2: - Emissão inicial
A3: Obra: | B3: FORNECIMENTO E INSTALAÇÃO BRISES, RIPADO E CORRIMÃO | C3: REFERÊNCIA:
A4: Endereço: | B4: RUA 26, 521, VILA LEGIONARIOS, CEP: 74853-070
A5: Município: | B5: GOIÂNIA
A6: ENCARGOS SOCIAIS
A8: INCC ACUMULADO - (I-Io)/Io = I/Io - 1
A9: Mês | B9: 2023 | C9: 2024 | D9: 2025 | E9: 2026
A10: Janeiro | B10: 1056.418 | C10: 1091.25 | D10: 1169.116
A11: Fevereiro | B11: 1056.896 | C11: 1092.685 | D11: 1173.775
A12: Março | B12: 1060.116 | C12: 1095.738 | D12: 1178.386
A13: Abril | B13: 1061.635 | C13: 1101.389 | D13: 1184.462
A14: Maio | B14: 1067.919 | C14: 1110.887 | D14: 1191.327
A15: Junho | B15: 1075.54 | C15: 1118.827 | D15: 1199.509
A16: Julho | B16: 1076.626 | C16: 1126.916 | D16: 1210.471
A17: Agosto | B17: 1078.412 | C17: 1134.775 | D17: 1216.706
A18: Setembro | B18: 1082.104 | C18: 1141.398 | D18: 1218.747
A19: Outubro | B19: 1084.242 | C19: 1149.17 | D19: 1222.356
A20: Novembro | B20: 1084.986 | C20: 1153.725 | D20: 1225.633
A21: Dezembro | B21: 1088.312 | C21: 1159.536 | D21: 1228.161
A22: TABELA DE ÍNDICES DO INCC. FONTE: FGV
A25: REF.: | B25: DATA REF.: | C25: INCC - dezembro/2025
A26: GOINFRA | B26: 45931 | C26: =$D$21/D19-1 -> 0.0047490257
A27: SINAPI | B27: 45992 | C27: =D21/D21-1 -> 0
A28: SEINFRA - CE | B28: 45200 | C28: =$D$21/B19-1 -> 0.13273697
A29: ORSE - SE | B29: 45962 | C29: =$D$21/D20-1 -> 0.0020626076
A33: BASE: | B33: https://indiceseconomicos.secovi.com.br/indicadormensal.php?idindicador=59

Sheet BDI
A1: Órgão: | B1: SECRETARIA DE ESTADO DA SAÚDE DE GOIÁS | H1: Data Base ÚNICA: | I1: xxx
A2: Unidade: | B2: SUPERINTENDÊNCIA DA ESCOLA DE SAÚDE DE GOIÁS - SESG | H2: Referência: | I2: TABELA ONERADA
A3: Obra: | B3: FORNECIMENTO E INSTALAÇÃO BRISES, RIPADO E CORRIMÃO
A4: Endereço: | B4: RUA 26, 521, VILA LEGIONARIOS, CEP: 74853-070 | I4: TODAS PLANILHAS CORRIGIDAS POR INCC-FGV ATÉ: | K4: =I1 -> xxx
A5: Município: | B5: GOIÂNIA
A6: PLANILHA ORÇAMENTÁRIA DE REFERÊNCIA / COMPOSIÇÃO DO BDI
A8: COMPOSIÇÃO DO BDI SERVIÇOS | G8: COMPOSIÇÃO DO BDI EQUIPAMENTOS
A9: ITEM | B9: DESCRIÇÃO | C9: OBSERVAÇÃO | D9: % SOBRE O PV | E9: % SOBRE O CD | G9: ITEM | H9: DESCRIÇÃO | I9: OBSERVAÇÃO | J9: % SOBRE O PV | K9: % SOBRE O CD
A10: A | B10: DESPESAS INDIRETAS | E10: 0.0618 | G10: A | H10: DESPESAS INDIRETAS | K10: 0.0516
A11: 01 | B11: Administração Central | E11: 0.04 | G11: 01 | H11: Administração Central | K11: 0.0345
A12: 02 | B12: Despesas Financeiras | E12: 0.0123 | G12: 02 | H12: Despesas Financeiras | K12: 0.0123
A13: 03 | B13: Riscos | E13: 0.0097 | G13: 03 | H13: Riscos | K13: 0.0056
A14: 04 | B14: Seguros e Garantias Contratuais | E14: 0.0012 | G14: 04 | H14: Seguros e Garantias Contratuais | K14: 0.0006
A15: B | B15: RESULTADO | E15: 0.074 | G15: B | H15: RESULTADO | K15: 0.048
A16: 01 | B16: Lucro | E16: 0.074 | G16: 01 | H16: Lucro | K16: 0.048
A17: C | B17: TRIBUTOS | D17: =SUM(D18:D21) -> 0.0665 | G17: C | H17: TRIBUTOS | J17: =SUM(J18:J21) -> 0.0665
A18: 01 | B18: PIS | D18: 0.0065 | G18: 01 | H18: PIS | J18: 0.0065
A19: 02 | B19: COFINS | D19: 0.03 | G19: 02 | H19: COFINS | J19: 0.03
A20: 03 | B20: CPRB | D20: 0 | G20: 03 | H20: CPRB | J20: 0
A21: 04 | B21: ISS | D21: 0.03 | G21: 04 | H21: ISS | J21: 0.03
A22: BDI COM TRIBUTOS (A+B+C) | E22: =ROUND((((1+E11+E14+E13)*(1+E12)*(1+E16))/(1-D17))-1,4) -> 0.2239 | G22: BDI COM TRIBUTOS (A+B+C) | K22: =ROUND((((1+K11+K14+K13)*(1+K12)*(1+K16))/(1-J17))-1,4) -> 0.1827
A24: OBSERVAÇÕES | G24: OBSERVAÇÕES
A25: PV | B25: - Preço de Venda | G25: PV | H25: - Preço de Venda
A26: CD | B26: - Custo Direto | G26: CD | H26: - Custo Direto

Sheet ENC. SOC.
A1: Órgão: | B1: SECRETARIA DE ESTADO DA SAÚDE DE GOIÁS | C1: DATA: | D1: =TODAY() -> 46056
A2: Unidade: | B2: SUPERINTENDÊNCIA DA ESCOLA DE SAÚDE DE GOIÁS - SESG | C2: REVISÃO: | D2: - Emissão inicial
A3: Obra: | B3: FORNECIMENTO E INSTALAÇÃO BRISES, RIPADO E CORRIMÃO | C3: REFERÊNCIA:
A4: Endereço: | B4: RUA 26, 521, VILA LEGIONARIOS, CEP: 74853-070
A5: Município: | B5: GOIÂNIA
A6: ENCARGOS SOCIAIS
A8: CÓDIGO | B8: DESCRIÇÃO | C8: HORISTA | E8: MENSALISTA
C9: SEM DESONERAÇÃO | D9: COM DESONERAÇÃO | E9: SEM DESONERAÇÃO | F9: COM DESONERAÇÃO
A10: GRUPO A
A11: A1 | B11: INSS | C11: 0.2 | D11: 0.05 | E11: 0.2 | F11: 0.05
A12: A2 | B12: FGTS | C12: 0.08 | D12: 0.08 | E12: 0.08 | F12: 0.08
A13: A3 | B13: SESI | C13: 0.015 | D13: 0.015 | E13: 0.015 | F13: 0.015
A14: A4 | B14: SENAI | C14: 0.01 | D14: 0.01 | E14: 0.01 | F14: 0.01
A15: A5 | B15: INCRA | C15: 0.002 | D15: 0.002 | E15: 0.002 | F15: 0.002
A16: A6 | B16: Salário Educação | C16: 0.025 | D16: 0.025 | E16: 0.025 | F16: 0.025
A17: A7 | B17: Seguro Contra Acidentes de Trabalho | C17: 0.03 | D17: 0.03 | E17: 0.03 | F17: 0.03
A18: A8 | B18: SEBRAE | C18: 0.006 | D18: 0.006 | E18: 0.006 | F18: 0.006
A19: A9 | B19: SECONCI | C19: 0.01 | D19: 0.01 | E19: 0.01 | F19: 0.01
A20: A | B20: Total | C20: 0.378 | D20: 0.228 | E20: 0.378 | F20: 0.228
A21: GRUPO B
A22: B1 | B22: Repouso Semanal Remunerado | C22: 0.1816 | D22: 0.1816 | E22: 0 | F22: 0
A23: B2 | B23: Feriados | C23: 0.0417 | D23: 0.0417 | E23: 0 | F23: 0
A24: B3 | B24: Auxílio - Enfermidade | C24: 0.0094 | D24: 0.0094 | E24: 0.007 | F24: 0.007
A25: B4 | B25: Auxílio Acidente | C25: 0.0005 | D25: 0.0005 | E25: 0.0004 | F25: 0.0004
A26: B5 | B26: Licença Paternidade | C26: 0.0006 | D26: 0.0006 | E26: 0.0005 | F26: 0.0005
A27: B6 | B27: Faltas Justificadas | C27: 0.0075 | D27: 0.0075 | E27: 0.0056 | F27: 0.0056
A28: B7 | B28: Férias Gozadas | C28: 0.119 | D28: 0.119 | E28: 0.0888 | F28: 0.0888
A29: B8 | B29: Licença Maternidade | C29: 0.0001 | D29: 0.0001 | E29: 0.0001 | F29: 0.0001
A30: B9 | B30: 13° Salário | C30: 0.1117 | D30: 0.1117 | E30: 0.0833 | F30: 0.0833
A31: B | B31: Total | C31: 0.4721 | D31: 0.4721 | E31: 0.1857 | F31: 0.1857
A32: GRUPO C
A33: C1 | B33: Aviso Prévio Indenizado | C33: 0.0698 | D33: 0.0698 | E33: 0.052 | F33: 0.052
A34: C2 | B34: Aviso Prévio Trabalhado | C34: 0.0016 | D34: 0.0016 | E34: 0.0012 | F34: 0.0012
A35: C3 | B35: Férias Indenizadas + 1/3 | C35: 0.0235 | D35: 0.0235 | E35: 0.0174 | F35: 0.0174
A36: C4 | B36: Multa por Rescisão do Contrato de Trabalho sem Justa Causa | C36: 0.0381 | D36: 0.0381 | E36: 0.0283 | F36: 0.0283
A37: C5 | B37: Indenização Adicional | C37: 0.0059 | D37: 0.0059 | E37: 0.0044 | F37: 0.0044
A38: C | B38: Total | C38: 0.1389 | D38: 0.1389 | E38: 0.1033 | F38: 0.1033
A39: GRUPO D
A40: D1 | B40: Incidência do Grupo A sobre B | C40: 0.1785 | D40: 0.1021 | E40: 0.0702 | F40: 0.0382
A41: D2 | B41: Incidência do Grupo A sobre aviso prévio trabalhado | C41: 0.0006 | D41: 0.0004 | E41: 0.0005 | F41: 0.0003
...

Sheet COMP. onerado
A1: Órgão: | B1: SECRETARIA DE ESTADO DA SAÚDE DE GOIÁS | E1: DATA: | F1: =TODAY() -> 46056
A2: Unidade: | B2: SUPERINTENDÊNCIA DA ESCOLA DE SAÚDE DE GOIÁS - SESG | E2: REVISÃO: | F2: Emissão 02
A3: Obra: | B3: FORNECIMENTO E INSTALAÇÃO BRISES, RIPADO E CORRIMÃO | E3: GOINFRA 10/2025 (reajustada pelo INCC até 12/2025); SINAPI 12/2025; ORSE - Novembro/2025 (reajustada pelo INCC até Dezembro/2025)
A4: Endereço: | B4: RUA 26, 521, VILA LEGIONARIOS, CEP: 74853-070
A5: Município: | B5: GOIÂNIA
A6: COMPOSIÇÕES DE CUSTOS UNITÁRIOS
A8: CÓDIGO COMP. | B8: TABELA / COTAÇÃO | C8: Código | D8: DESCRIÇÃO DA COMPOSIÇÃO | E8: Un. | F8: Qtde | G8: Material unitário (R$) | H8: Mão de obra unitário (R$) | I8: Material Total (R$) | J8: Mão de obra Total (R$) | K8: Valor Total (R$) | L8: ÍNDICES DE CORREÇÃO | M8: PREÇO MATERIAL TOTAL + CORREÇÃO (R$) | N8: PREÇO M. OBRA TOTAL+ CORREÇÃO (R$) | O8: Valor Total (R$)+ CORREÇÃO
A9: 1 | D9: Painel ripado interno wpc 290x16cm ( incluso instalação) | E9: m | I9: =SUM(I10:I13) -> 139.02 | J9: =SUM(J10:J13) -> 7.869 | K9: =SUM(K10:K13) -> 146.889 | M9: =SUM(M10:M13) -> 139.02 | N9: =SUM(N10:N13) -> 7.8786548 | O9: =N9+M9 -> 146.89865
B10: COTAÇÃO | C10: 2 | D10: Painel ripado interno wpc 290x16cm | E10: Un. | F10: 1 | G10: ='COTAÇÕES'!I15 -> 127.69 | H10: 0 | I10: =G10*F10 -> 127.69 | J10: =F10*H10 -> 0 | K10: =I10+J10 -> 127.69 | L10: 0 | M10: =(1+L10)*I10 -> 127.69 | N10: =(1+L10)*J10 -> 0 | O10: =N10+M10 -> 127.69
B11: SINAPI | C11: 131 | D11: Adesivo estrutural a base de resina epoxi, bicomponente, pastoso (tixotropico) | E11: UN | F11: 0.25 | G11: 45.32 | H11: 0 | I11: =G11*F11 -> 11.33 | J11: =F11*H11 -> 0 | K11: =I11+J11 -> 11.33 | L11: =INCC!C27 -> 0 | M11: =(1+L11)*I11 -> 11.33 | N11: =(1+L11)*J11 -> 0 | O11: =N11+M11 -> 11.33
B12: GOINFRA | C12: 5 | D12: SERVENTE | E12: H | F12: 0.1 | G12: 0 | H12: 20.33 | I12: =G12*F12 -> 0 | J12: =F12*H12 -> 2.033 | K12: =I12+J12 -> 2.033 | L12: =INCC!$C$26 -> 0.0047490257 | M12: =(1+L12)*I12 -> 0 | N12: =(1+L12)*J12 -> 2.0426548 | O12: =N12+M12 -> 2.0426548
B13: GOINFRA | C13: 33 | D13: MONTADOR DE DIVISÓRIA/PAINEL | E13: H | F13: 0.2 | G13: 0 | H13: 29.18 | I13: =G13*F13 -> 0 | J13: =F13*H13 -> 5.836 | K13: =I13+J13 -> 5.836 | L13: =INCC!C27 -> 0 | M13: =(1+L13)*I13 -> 0 | N13: =(1+L13)*J13 -> 5.836 | O13: =N13+M13 -> 5.836
A15: CÓDIGO COMP. | B15: TABELA / COTAÇÃO | C15: Código | D15: DESCRIÇÃO DA COMPOSIÇÃO | E15: Un. | F15: Qtde | G15: Material unitário (R$) | H15: Mão de obra unitário (R$) | I15: Material Total (R$) | J15: Mão de obra Total (R$) | K15: Valor Total (R$) | L15: ÍNDICES DE CORREÇÃO | M15: PREÇO MATERIAL TOTAL + CORREÇÃO (R$) | N15: PREÇO M. OBRA TOTAL+ CORREÇÃO (R$) | O15: Valor Total (R$)+ CORREÇÃO
A16: 2 | D16: GUARDA-CORPO EM TUBO DE AÇO INOX ø=1 1/2", DUPLO, montantes e fechamento em tubo 2", h= 96cm, c/acabamento polido, p/fixação em piso | E16: pç | I16: =SUM(I17:I19) -> 652.4 | J16: =SUM(J17:J19) -> 209.8063 | K16: =SUM(K17:K19) -> 862.2063 | M16: =SUM(M17:M20) -> 653.74565 | N16: =SUM(N17:N20) -> 210.80268 | O16: =N16+M16 -> 864.54832
B17: ORSE | C17: 7309 | D17: Guarda-corpo em tubo de aço inox ø=1 1/2", duplo, montantes e fechamento em tubo 2", h= 96cm, c/acabamento polido, p/fixação em piso | E17: m | F17: 1 | G17: 652.4 | H17: 0 | I17: =G17*F17 -> 652.4 | J17: =F17*H17 -> 0 | K17: =I17+J17 -> 652.4 | L17: =INCC!$C$29 -> 0.0020626076 | M17: =(1+L17)*I17 -> 653.74565 | N17: =(1+L17)*J17 -> 0 | O17: =N17+M17 -> 653.74565
B18: GOINFRA | C18: 21 | D18: SERRALHEIRO | E18: H | F18: 4.51 | G18: 0 | H18: 29.17 | I18: =G18*F18 -> 0 | J18: =F18*H18 -> 131.5567 | K18: =I18+J18 -> 131.5567 | L18: =INCC!$C$26 -> 0.0047490257 | M18: =(1+L18)*I18 -> 0 | N18: =(1+L18)*J18 -> 132.18147 | O18: =N18+M18 -> 132.18147
B19: GOINFRA | C19: 8 | D19: AJUDANTE | E19: H | F19: 3.52 | G19: 0 | H19: 22.23 | I19: =G19*F19 -> 0 | J19: =F19*H19 -> 78.2496 | K19: =I19+J19 -> 78.2496 | L19: =INCC!$C$26 -> 0.0047490257 | M19: =(1+L19)*I19 -> 0 | N19: =(1+L19)*J19 -> 78.621209 | O19: =N19+M19 -> 78.621209
B20: Obs.: Tempo de serviço considerando instalação e montagem
A22: CÓDIGO COMP. | B22: TABELA / COTAÇÃO | C22: Código | D22: DESCRIÇÃO DA COMPOSIÇÃO | E22: Un. | F22: Qtde | G22: Material unitário (R$) | H22: Mão de obra unitário (R$) | I22: Material Total (R$) | J22: Mão de obra Total (R$) | K22: Valor Total (R$) | L22: ÍNDICES DE CORREÇÃO | M22: PREÇO MATERIAL TOTAL + CORREÇÃO (R$) | N22: PREÇO M. OBRA TOTAL+ CORREÇÃO (R$) | O22: Valor Total (R$)+ CORREÇÃO
A23: 3 | D23: Tampa circular para esgoto e drenagem, em ferro fundido, diâmetro 900 mm | E23: Un. | F23: 1 | I23: =SUM(I24:I27) -> 1786.6401 | J23: =SUM(J24:J27) -> 33.452892 | K23: =SUM(K24:K27) -> 1820.0929 | M23: =SUM(M24:M27) -> 1786.6401 | N23: =SUM(N24:N27) -> 33.611761 | O23: =N23+M23 -> 1820.2518
B24: SINAPI | C24: 11296 | D24: Tampao fofo simples com base / requadro, classe d400 carga max. 40 t, redondo, tampa 900 mm (com inscricao em relevo do tipo de rede) | E24: UN | F24: 1 | G24: 1771.81 | H24: 0 | I24: =G24*F24 -> 1771.81 | J24: =F24*H24 -> 0 | K24: =I24+J24 -> 1771.81 | L24: =INCC!$C$27 -> 0 | M24: =(1+L24)*I24 -> 1771.81 | N24: =(1+L24)*J24 -> 0 | O24: =N24+M24 -> 1771.81
B25: SINAPI | C25: 94970 | D25: Concreto fck = 20mpa, traço 1:2,7:3 (em massa seca de cimento/ areia média/ brita 1) - preparo mecânico com betoneira 600 l. af_05/2021 | E25: M3 | F25: 0.0281 | G25: 527.76 | H25: 0 | I25: =G25*F25 -> 14.830056 | J25: =F25*H25 -> 0 | K25: =I25+J25 -> 14.830056 | L25: =INCC!$C$27 -> 0 | M25: =(1+L25)*I25 -> 14.830056 | N25: =(1+L25)*J25 -> 0 | O25: =N25+M25 -> 14.830056
B26: GOINFRA | C26: 5 | D26: SERVENTE | E26: H | F26: 0.9023 | G26: 0 | H26: 20.33 | L26: =INCC!$C$26 -> 0.0047490257 | M26: =(1+L26)*I26 -> 0 | N26: =(1+L26)*J26 -> 0 | O26: =N26+M26 -> 0
B27: GOINFRA | C27: 4 | D27: PEDREIRO | E27: H | F27: 1.1484 | G27: 0 | H27: 29.13 | I27: =G27*F27 -> 0 | J27: =F27*H27 -> 33.452892 | K27: =I27+J27 -> 33.452892 | L27: =INCC!$C$26 -> 0.0047490257 | M27: =(1+L27)*I27 -> 0 | N27: =(1+L27)*J27 -> 33.611761 | O27: =N27+M27 -> 33.611761
A29: CÓDIGO COMP. | B29: TABELA / COTAÇÃO | C29: Código | D29: DESCRIÇÃO DA COMPOSIÇÃO | E29: Un. | F29: Qtde | G29: Material unitário (R$) | H29: Mão de obra unitário (R$) | I29: Material Total (R$) | J29: Mão de obra Total (R$) | K29: Valor Total (R$) | L29: ÍNDICES DE CORREÇÃO | M29: PREÇO MATERIAL TOTAL + CORREÇÃO (R$) | N29: PREÇO M. OBRA TOTAL+ CORREÇÃO (R$) | O29: Valor Total (R$)+ CORREÇÃO
A30: 4 | D30: Tubo retângular em aço galvanizado 70x30, branco ( Descidas água pluvial) | E30: m | F30: 1 | I30: =SUM(I31:I34) -> 176.85 | J30: =SUM(J31:J34) -> 37.1832 | K30: =SUM(K31:K34) -> 214.0332 | M30: =SUM(M31:M34) -> 177.23804 | N30: =SUM(N31:N34) -> 37.359784 | O30: =N30+M30 -> 214.59782
B31: ORSE | C31: 14618 | D31: Tubo retângular em aço galvanizado 70x30 e=1,25mm (1,84 KG/m) | E31: m | F31: 1 | G31: 168.19 | H31: 0 | I31: =G31*F31 -> 168.19 | J31: =F31*H31 -> 0 | K31: =I31+J31 -> 168.19 | L31: =INCC!$C$29 -> 0.0020626076 | M31: =(1+L31)*I31 -> 168.53691 | N31: =(1+L31)*J31 -> 0 | O31: =N31+M31 -> 168.53691
B32: GOINFRA | C32: 8 | D32: AJUDANTE | E32: H | F32: 0.62 | G32: 0 | H32: 22.23 | I32: =G32*F32 -> 0 | J32: =F32*H32 -> 13.7826 | K32: =I32+J32 -> 13.7826 | L32: =INCC!$C$26 -> 0.0047490257 | M32: =(1+L32)*I32 -> 0 | N32: =(1+L32)*J32 -> 13.848054 | O32: =N32+M32 -> 13.848054
B33: GOINFRA | C33: 4 | D33: PEDREIRO | E33: H | F33: 0.62 | G33: 0 | H33: 29.13 | I33: =G33*F33 -> 0 | J33: =F33*H33 -> 18.0606 | K33: =I33+J33 -> 18.0606 | L33: =INCC!$C$26 -> 0.0047490257 | M33: =(1+L33)*I33 -> 0 | N33: =(1+L33)*J33 -> 18.14637 | O33: =N33+M33 -> 18.14637
B34: GOINFRA | C34: 261609 | D34: PINTURA ESMALTE ALQUIDICO ESTRUTURA METALICA 2 DEMAOS | E34: m2 | F34: 1 | G34: 8.66 | H34: 5.34 | I34: =G34*F34 -> 8.66 | J34: =F34*H34 -> 5.34 | K34: =I34+J34 -> 14 | L34: =INCC!$C$26 -> 0.0047490257 | M34: =(1+L34)*I34 -> 8.7011266 | N34: =(1+L34)*J34 -> 5.3653598 | O34: =N34+M34 -> 14.066486
A36: CÓDIGO COMP. | B36: TABELA / COTAÇÃO | C36: Código | D36: DESCRIÇÃO DA COMPOSIÇÃO | E36: Un. | F36: Qtde | G36: Material unitário (R$) | H36: Mão de obra unitário (R$) | I36: Material Total (R$) | J36: Mão de obra Total (R$) | K36: Valor Total (R$) | L36: ÍNDICES DE CORREÇÃO | M36: PREÇO MATERIAL TOTAL + CORREÇÃO (R$) | N36: PREÇO M. OBRA TOTAL+ CORREÇÃO (R$) | O36: Valor Total (R$)+ CORREÇÃO
