Workbook

Sheet lançamento_CRISTALINA
A2: gfadgasgadg | C2: COD. SISLOG | D2: GENEROS ALIMENTICIOS | E2: UNIDADE | G2: QTDE | H2: COTA RESERVADA | I2: Preço médio | J2: MERCADO | M2: BANCO DE PREÇOS | N2: ATA | Q2: LOTE GERAL | R2: Valor | S2: LOTE ME/EPP | T2: Valor
J3: FORNECEDOR | K3: CNPJ | L3: VALOR | N3: ATA | O3: VALOR
A4: 2 | B4: =D4=#REF! -> #REF! | C4: 730 | D4: BISCOITO DE QUEIJO | E4: KG | F4: =G4-H4 -> 801 | G4: =LUZIÂNIA!Y3 -> 1068 | H4: =LUZIÂNIA!Z3 -> 267 | I4: 29.23 | J4: NK COMERCIO DE ALIMENTOS EIRELI | K4: =IF(J4=J$167,K$167,K$166) -> 32.575.287/0006-89 | L4: 32.99 | M4: 28.54 | N4: Ata SRP Contratação N.º 113497 | O4: 26.16 | Q4: =G4-H4 -> 801 | R4: =Q4*I4 -> 23413.23 | S4: =H4 -> 267 | T4: =S4*I4 -> 7804.41
A5: 3 | B5: =D5=#REF! -> #REF! | C5: 713 | D5: BOLO PRONTO VÁRIOS SABORES | E5: KG | F5: =G5-H5 -> 8685 | G5: =LUZIÂNIA!Y4 -> 11580 | H5: =LUZIÂNIA!Z4 -> 2895 | I5: 31.57 | J5: COMERCIAL DE ALIMENTOS PARQUE SANTA FÉ | K5: =IF(J5=J$167,K$167,K$166) -> 41.403.240/0001-14 | L5: 35.99 | M5: 33.3 | N5: Ata SRP Contratação N.º 113497 | O5: 25.43 | Q5: =G5-H5 -> 8685 | R5: =Q5*I5 -> 274185.45 | S5: =H5 -> 2895 | T5: =S5*I5 -> 91395.15
A6: 4 | B6: =D6=#REF! -> #REF! | C6: 730 | D6: BROA DE MILHO | E6: KG | F6: =G6-H6 -> 981 | G6: =LUZIÂNIA!Y5 -> 1308 | H6: =LUZIÂNIA!Z5 -> 327 | I6: 28.82 | J6: COMERCIAL DE ALIMENTOS PARQUE SANTA FÉ | K6: =IF(J6=J$167,K$167,K$166) -> 41.403.240/0001-14 | L6: 26.99 | M6: 34.46 | N6: Ata SRP Contratação N.º 113519 | O6: 25 | Q6: =G6-H6 -> 981 | R6: =Q6*I6 -> 28272.42 | S6: =H6 -> 327 | T6: =S6*I6 -> 9424.14
A7: 8 | B7: =D7=#REF! -> #REF! | C7: 100 | D7: PÃO (CAREQUINHA, MILHO E SOVADO) | E7: KG | F7: =G7-H7 -> 1818 | G7: =LUZIÂNIA!Y6 -> 2424 | H7: =LUZIÂNIA!Z6 -> 606 | I7: 25.95 | J7: COMERCIAL DE ALIMENTOS PARQUE SANTA FÉ | K7: =IF(J7=J$167,K$167,K$166) -> 41.403.240/0001-14 | L7: 27.99 | M7: 29.33 | N7: Ata SRP Contratação N.º 113497 | O7: 20.52 | Q7: =G7-H7 -> 1818 | R7: =Q7*I7 -> 47177.1 | S7: =H7 -> 606 | T7: =S7*I7 -> 15725.7
A8: 9 | B8: =D8=#REF! -> #REF! | C8: 100 | D8: PÃO CARECA | E8: KG | F8: =G8-H8 -> 4869 | G8: =LUZIÂNIA!Y7 -> 6492 | H8: =LUZIÂNIA!Z7 -> 1623 | I8: 26.34 | J8: COMERCIAL DE ALIMENTOS PARQUE SANTA FÉ | K8: =IF(J8=J$167,K$167,K$166) -> 41.403.240/0001-14 | L8: 27.99 | M8: 29.33 | N8: Ata SRP Contratação N.º 113497 | O8: 21.7 | Q8: =G8-H8 -> 4869 | R8: =Q8*I8 -> 128249.46 | S8: =H8 -> 1623 | T8: =S8*I8 -> 42749.82
A9: 11 | B9: =D9=#REF! -> #REF! | C9: 100 | D9: PÃO DE FORMA | E9: PCT | F9: =G9-H9 -> 1014 | G9: =LUZIÂNIA!Y8 -> 1352 | H9: =LUZIÂNIA!Z8 -> 338 | I9: 12.56 | J9: COMERCIAL DE ALIMENTOS PARQUE SANTA FÉ | K9: =IF(J9=J$167,K$167,K$166) -> 41.403.240/0001-14 | L9: 12.99 | M9: 13.16 | N9: Ata SRP Contratação N.º 113728 | O9: 11.53 | Q9: =G9-H9 -> 1014 | R9: =Q9*I9 -> 12735.84 | S9: =H9 -> 338 | T9: =S9*I9 -> 4245.28
A10: 12 | B10: =D10=#REF! -> #REF! | C10: 730 | D10: PÃO DE QUEIJO | E10: KG | F10: =G10-H10 -> 4101 | G10: =LUZIÂNIA!Y9 -> 5468 | H10: =LUZIÂNIA!Z9 -> 1367 | I10: 32.75 | J10: NK COMERCIO DE ALIMENTOS EIRELI | K10: =IF(J10=J$167,K$167,K$166) -> 32.575.287/0006-89 | L10: 24.99 | M10: 46.55 | N10: Ata SRP Contratação N.º 113497 | O10: 26.72 | Q10: =G10-H10 -> 4101 | R10: =Q10*I10 -> 134307.75 | S10: =H10 -> 1367 | T10: =S10*I10 -> 44769.25
A11: 13 | B11: =D11=#REF! -> #REF! | C11: 100 | D11: PÃO DOCE | E11: KG | F11: =G11-H11 -> 2544 | G11: =LUZIÂNIA!Y10 -> 3392 | H11: =LUZIÂNIA!Z10 -> 848 | I11: 25.5 | J11: COMERCIAL DE ALIMENTOS PARQUE SANTA FÉ | K11: =IF(J11=J$167,K$167,K$166) -> 41.403.240/0001-14 | L11: 24.99 | M11: 32.57 | N11: Ata SRP Contratação N.º 113497 | O11: 18.95 | Q11: =G11-H11 -> 2544 | R11: =Q11*I11 -> 64872 | S11: =H11 -> 848 | T11: =S11*I11 -> 21624
A12: 14 | B12: =D12=#REF! -> #REF! | C12: 100 | D12: PÃO FRANCÊS | E12: KG | F12: =G12-H12 -> 12552 | G12: =LUZIÂNIA!Y11 -> 16736 | H12: =LUZIÂNIA!Z11 -> 4184 | I12: 18.74 | J12: NK COMERCIO DE ALIMENTOS EIRELI | K12: =IF(J12=J$167,K$167,K$166) -> 32.575.287/0006-89 | L12: 15.99 | M12: 23.27 | N12: 0 | O12: 16.97 | Q12: =G12-H12 -> 12552 | R12: =Q12*I12 -> 235224.48 | S12: =H12 -> 4184 | T12: =S12*I12 -> 78408.16
A13: 15 | B13: =D13=#REF! -> #REF! | C13: 100 | D13: PÃO MANDI | E13: KG | F13: =G13-H13 -> 633 | G13: =LUZIÂNIA!Y12 -> 844 | H13: =LUZIÂNIA!Z12 -> 211 | I13: 24.75 | J13: NK COMERCIO DE ALIMENTOS EIRELI | K13: =IF(J13=J$167,K$167,K$166) -> 32.575.287/0006-89 | L13: 27.99 | M13: 24.92 | N13: Ata SRP Contratação N.º 113497 | O13: 21.33 | Q13: =G13-H13 -> 633 | R13: =Q13*I13 -> 15666.75 | S13: =H13 -> 211 | T13: =S13*I13 -> 5222.25
A14: 16 | B14: =D14=#REF! -> #REF! | C14: 711 | D14: ROSCA | E14: KG | F14: =G14-H14 -> 10599 | G14: =LUZIÂNIA!Y13 -> 14132 | H14: =LUZIÂNIA!Z13 -> 3533 | I14: 26.74 | J14: COMERCIAL DE ALIMENTOS PARQUE SANTA FÉ | K14: =IF(J14=J$167,K$167,K$166) -> 41.403.240/0001-14 | L14: 25.99 | M14: 32.6 | N14: Ata SRP Contratação N.º 113497 | O14: 21.62 | Q14: =G14-H14 -> 10599 | R14: =Q14*I14 -> 283417.26 | S14: =H14 -> 3533 | T14: =S14*I14 -> 94472.42
A15: 17 | B15: =D15=#REF! -> #REF! | C15: 100 | D15: TORRADA | E15: KG | F15: =G15-H15 -> 387 | G15: =LUZIÂNIA!Y14 -> 516 | H15: =LUZIÂNIA!Z14 -> 129 | I15: 25.14 | J15: NK COMERCIO DE ALIMENTOS EIRELI | K15: =IF(J15=J$167,K$167,K$166) -> 32.575.287/0006-89 | L15: 26.99 | M15: 28.22 | N15: Ata SRP Contratação N.º 113497 | O15: 20.21 | Q15: =G15-H15 -> 387 | R15: =Q15*I15 -> 9729.18 | S15: =H15 -> 129 | T15: =S15*I15 -> 3243.06
A16: 18 | B16: =D16=#REF! -> #REF! | D16: SONHO | E16: KG | F16: =G16-H16 -> 1170 | G16: =LUZIÂNIA!Y15 -> 1560 | H16: =LUZIÂNIA!Z15 -> 390 | I16: 24.55 | J16: EDVALDO DE MELO E CIA LTDA | K16: 01.158.819/0001-44 | L16: 33.9 | M16: 8.4 | N16: Ata SRP Contratação N.º 113728 | O16: 31.35 | Q16: =G16-H16 -> 1170 | R16: =Q16*I16 -> 28723.5 | S16: =H16 -> 390 | T16: =S16*I16 -> 9574.5
R17: =SUM(R4:R16) -> 1285974.4 | T17: =SUM(T4:T16) -> 428658.14
A18: ITEM | D18: GENEROS ALIMENTICIOS | E18: UNIDADE | I18: Preço médio | L18: COMERCIAL DE ALIMENTOS PARQUE SANTA FÉ | M18: BANCO DE PREÇOS | O18: ATA
A19: 1 | B19: 2.1 | D19: BACON | E19: KG | G19: =LUZIÂNIA!Y16 -> 3364 | H19: =LUZIÂNIA!Z16 -> 841 | I19: 40.76 | J19: NK COMERCIO DE ALIMENTOS EIRELI | K19: =IF(J19=J$167,K$167,K$166) -> 32.575.287/0006-89 | L19: 49.99 | M19: 33.46 | N19: Ata SRP Contratação N.º 113728 | O19: 38.82 | Q19: =G19-H19 -> 2523 | R19: =Q19*I19 -> 102837.48 | S19: =H19 -> 841 | T19: =S19*I19 -> 34279.16
A20: 3 | B20: 2.2 | D20: CARNE BOVINA DE 1ª PATINHO (MOÍDA, CUBOS OU ISCAS) | E20: KG | G20: =LUZIÂNIA!Y17 -> 2252 | H20: =LUZIÂNIA!Z17 -> 563 | I20: 38.13 | J20: NK COMERCIO DE ALIMENTOS EIRELI | K20: =IF(J20=J$167,K$167,K$166) -> 32.575.287/0006-89 | L20: 39.99 | M20: 39.22 | N20: Ata SRP Contratação N.º 113728 | O20: 35.17 | Q20: =G20-H20 -> 1689 | R20: =Q20*I20 -> 64401.57 | S20: =H20 -> 563 | T20: =S20*I20 -> 21467.19
A21: 4 | B21: 2.3 | D21: CARNE BOVINA DE 2ª ACÉM (MOÍDA, CUBOS OU ISCAS) | E21: KG | G21: =LUZIÂNIA!Y18 -> 23288 | H21: =LUZIÂNIA!Z18 -> 5822 | I21: 30.89 | J21: NK COMERCIO DE ALIMENTOS EIRELI | K21: =IF(J21=J$167,K$167,K$166) -> 32.575.287/0006-89 | L21: 30.99 | M21: 33.04 | N21: Ata SRP Contratação N.º 113728 | O21: 28.65 | Q21: =G21-H21 -> 17466 | R21: =Q21*I21 -> 539524.74 | S21: =H21 -> 5822 | T21: =S21*I21 -> 179841.58
A22: 5 | B22: 2.4 | D22: CARNE BOVINA DE 2ª PALETA (ISCAS OU CUBOS | E22: KG | G22: =LUZIÂNIA!Y19 -> 1696 | H22: =LUZIÂNIA!Z19 -> 424 | I22: 31.28 | J22: NK COMERCIO DE ALIMENTOS EIRELI | K22: =IF(J22=J$167,K$167,K$166) -> 32.575.287/0006-89 | L22: 34.99 | M22: 26.12 | N22: Ata SRP Contratação N.º 113728 | O22: 32.73 | Q22: =G22-H22 -> 1272 | R22: =Q22*I22 -> 39788.16 | S22: =H22 -> 424 | T22: =S22*I22 -> 13262.72
A23: 6 | B23: 2.5 | D23: CARNE BOVINA DE 2ª MÚSCULO (MOÍDA, CUBOS OU ISCAS) | E23: KG | G23: =LUZIÂNIA!Y20 -> 10008 | H23: =LUZIÂNIA!Z20 -> 2502 | I23: 31.64 | J23: NK COMERCIO DE ALIMENTOS EIRELI | K23: =IF(J23=J$167,K$167,K$166) -> 32.575.287/0006-89 | L23: 33.99 | M23: 32.31 | N23: Ata SRP Contratação N.º 113728 | O23: 28.63 | Q23: =G23-H23 -> 7506 | R23: =Q23*I23 -> 237489.84 | S23: =H23 -> 2502 | T23: =S23*I23 -> 79163.28
A24: 7 | B24: 2.6 | D24: CARNE BOVINA DE 2ª ACÉM, SECA (ISCAS OU MANTA) | E24: KG | G24: =LUZIÂNIA!Y21 -> 2816 | H24: =LUZIÂNIA!Z21 -> 704 | I24: 36.25 | J24: NK COMERCIO DE ALIMENTOS EIRELI | K24: =IF(J24=J$167,K$167,K$166) -> 32.575.287/0006-89 | L24: 31.99 | M24: 44.02 | N24: Ata SRP Contratação N.º 113728 | O24: 32.73 | Q24: =G24-H24 -> 2112 | R24: =Q24*I24 -> 76560 | S24: =H24 -> 704 | T24: =S24*I24 -> 25520
A25: 8 | B25: 2.7 | D25: CARNE BOVINA DE 2ª PALETA, SECA (ISCAS OU MANTA) | E25: KG | G25: =LUZIÂNIA!Y22 -> 2432 | H25: =LUZIÂNIA!Z22 -> 608 | I25: 36.58 | J25: NK COMERCIO DE ALIMENTOS EIRELI | K25: =IF(J25=J$167,K$167,K$166) -> 32.575.287/0006-89 | L25: 33.99 | M25: 43.37 | N25: Ata SRP Contratação N.º 113728 | O25: 32.37 | Q25: =G25-H25 -> 1824 | R25: =Q25*I25 -> 66721.92 | S25: =H25 -> 608 | T25: =S25*I25 -> 22240.64
A26: 9 | B26: 2.8 | D26: CARNE BOVINA DE 2ª MÚSCULO, SECA (ISCAS OU MANTA) | E26: KG | G26: =LUZIÂNIA!Y23 -> 752 | H26: =LUZIÂNIA!Z23 -> 188 | I26: 34.87 | J26: NK COMERCIO DE ALIMENTOS EIRELI | K26: =IF(J26=J$167,K$167,K$166) -> 32.575.287/0006-89 | L26: 34.99 | M26: 40.19 | N26: Ata SRP Contratação N.º 113728 | O26: 29.43 | Q26: =G26-H26 -> 564 | R26: =Q26*I26 -> 19666.68 | S26: =H26 -> 188 | T26: =S26*I26 -> 6555.56
A27: 10 | B27: 2.9 | D27: CARNE SUÍNA (LOMBO) | E27: KG | G27: =LUZIÂNIA!Y24 -> 1352 | H27: =LUZIÂNIA!Z24 -> 338 | I27: 27.21 | J27: NK COMERCIO DE ALIMENTOS EIRELI | K27: =IF(J27=J$167,K$167,K$166) -> 32.575.287/0006-89 | L27: 27.99 | M27: 27.42 | N27: Ata SRP Contratação N.º 113728 | O27: 26.22 | Q27: =G27-H27 -> 1014 | R27: =Q27*I27 -> 27590.94 | S27: =H27 -> 338 | T27: =S27*I27 -> 9196.98
A28: 11 | B28: 2.10 | D28: CARNE SUÍNA (PALETA) | E28: PCT | G28: =LUZIÂNIA!Y25 -> 3888 | H28: =LUZIÂNIA!Z25 -> 972 | I28: 19.12 | J28: NK COMERCIO DE ALIMENTOS EIRELI | K28: =IF(J28=J$167,K$167,K$166) -> 32.575.287/0006-89 | L28: 16.99 | M28: 20.07 | N28: Ata SRP Contratação N.º 113728 | O28: 20.29 | Q28: =G28-H28 -> 2916 | R28: =Q28*I28 -> 55753.92 | S28: =H28 -> 972 | T28: =S28*I28 -> 18584.64
A29: 12 | B29: 2.11 | D29: CARNE SUÍNA (PERNIL) | E29: KG | G29: =LUZIÂNIA!Y26 -> 8096 | H29: =LUZIÂNIA!Z26 -> 2024 | I29: 19.75 | J29: NK COMERCIO DE ALIMENTOS EIRELI | K29: =IF(J29=J$167,K$167,K$166) -> 32.575.287/0006-89 | L29: 19.99 | M29: 17.93 | N29: Ata SRP Contratação N.º 113728 | O29: 21.32 | Q29: =G29-H29 -> 6072 | R29: =Q29*I29 -> 119922 | S29: =H29 -> 2024 | T29: =S29*I29 -> 39974
A30: 13 | B30: 2.12 | D30: CHARQUE BOVINO (ISCAS OU MANTA) | E30: KG | G30: =LUZIÂNIA!Y27 -> 136 | H30: =LUZIÂNIA!Z27 -> 34 | I30: 43.7 | J30: NK COMERCIO DE ALIMENTOS EIRELI | K30: =IF(J30=J$167,K$167,K$166) -> 32.575.287/0006-89 | L30: 45.99 | M30: 46.07 | N30: Ata SRP Contratação N.º 113728 | O30: 39.03 | Q30: =G30-H30 -> 102 | R30: =Q30*I30 -> 4457.4 | S30: =H30 -> 34 | T30: =S30*I30 -> 1485.8
A31: 14 | B31: 2.13 | D31: COXA E SOBRE-COXA DE FRANGO | E31: KG | G31: =LUZIÂNIA!Y28 -> 8456 | H31: =LUZIÂNIA!Z28 -> 2114 | I31: 15.7 | J31: NK COMERCIO DE ALIMENTOS EIRELI | K31: =IF(J31=J$167,K$167,K$166) -> 32.575.287/0006-89 | L31: 20.99 | M31: 12.48 | N31: Ata SRP Contratação N.º 113728 | O31: 13.64 | Q31: =G31-H31 -> 6342 | R31: =Q31*I31 -> 99569.4 | S31: =H31 -> 2114 | T31: =S31*I31 -> 33189.8
B32: 2.14 | D32: FÍGADO BOVINO | E32: KG | G32: =LUZIÂNIA!Y29 -> 0 | H32: =LUZIÂNIA!Z29 -> 0 | I32: 17.21 | J32: COMERCIAL DE ALIMENTOS PARQUE SANTA FÉ | K32: =IF(J32=J$167,K$167,K$166) -> 41.403.240/0001-14 | L32: 21.99 | M32: 16.83 | N32: Ata SRP Contratação N.º 113299 | O32: 12.8 | Q32: =G32-H32 -> 0 | R32: =Q32*I32 -> 0 | S32: =H32 -> 0 | T32: =S32*I32 -> 0
A33: 16 | B33: 2.15 | D33: FILÉ DE PEITO DE FRANGO | E33: KG | G33: =LUZIÂNIA!Y30 -> 4620 | H33: =LUZIÂNIA!Z30 -> 1155 | I33: 22.28 | J33: NK COMERCIO DE ALIMENTOS EIRELI | K33: =IF(J33=J$167,K$167,K$166) -> 32.575.287/0006-89 | L33: 26.99 | M33: 18.22 | N33: Ata SRP Contratação N.º 113728 | O33: 21.64 | Q33: =G33-H33 -> 3465 | R33: =Q33*I33 -> 77200.2 | S33: =H33 -> 1155 | T33: =S33*I33 -> 25733.4
A34: 17 | B34: 2.16 | D34: FILÉZINHO DE FRANGO (SASSAMI) | E34: KG | G34: =LUZIÂNIA!Y31 -> 3068 | H34: =LUZIÂNIA!Z31 -> 767 | I34: 27.92 | J34: NK COMERCIO DE ALIMENTOS EIRELI | K34: =IF(J34=J$167,K$167,K$166) -> 32.575.287/0006-89 | L34: 32.99 | M34: 26.4 | N34: Ata SRP Contratação N.º 113728 | O34: 24.36 | Q34: =G34-H34 -> 2301 | R34: =Q34*I34 -> 64243.92 | S34: =H34 -> 767 | T34: =S34*I34 -> 21414.64
A35: 18 | B35: 2.17 | D35: FRANGO INTEIRO | E35: KG | G35: =LUZIÂNIA!Y32 -> 1052 | H35: =LUZIÂNIA!Z32 -> 263 | I35: 11.4 | J35: NK COMERCIO DE ALIMENTOS EIRELI | K35: =IF(J35=J$167,K$167,K$166) -> 32.575.287/0006-89 | L35: 9.98 | M35: 14.25 | N35: Ata SRP Contratação N.º 113728 | O35: 9.96 | Q35: =G35-H35 -> 789 | R35: =Q35*I35 -> 8994.6 | S35: =H35 -> 263 | T35: =S35*I35 -> 2998.2
B36: 2.18 | D36: LINGUIÇA CALABRESA | E36: KG | G36: =LUZIÂNIA!Y33 -> 4908 | H36: =LUZIÂNIA!Z33 -> 1227 | I36: 30.69 | J36: NK COMERCIO DE ALIMENTOS EIRELI | K36: =IF(J36=J$167,K$167,K$166) -> 32.575.287/0006-89 | L36: 34.99 | M36: 28.02 | N36: Ata SRP Contratação N.º 113728 | O36: 29.05 | Q36: =G36-H36 -> 3681 | R36: =Q36*I36 -> 112969.89 | S36: =H36 -> 1227 | T36: =S36*I36 -> 37656.63
A37: 19 | B37: 2.19 | D37: LINGUIÇA DE FRANGO | E37: KG | G37: =LUZIÂNIA!Y34 -> 1540 | H37: =LUZIÂNIA!Z34 -> 385 | I37: 21.83 | J37: NK COMERCIO DE ALIMENTOS EIRELI | K37: =IF(J37=J$167,K$167,K$166) -> 32.575.287/0006-89 | L37: 21.99 | M37: 23.46 | N37: Ata SRP Contratação N.º 113728 | O37: 20.05 | Q37: =G37-H37 -> 1155 | R37: =Q37*I37 -> 25213.65 | S37: =H37 -> 385 | T37: =S37*I37 -> 8404.55
A38: 20 | B38: 2.20 | D38: LINGUIÇA MISTA | E38: KG | G38: =LUZIÂNIA!Y35 -> 3572 | H38: =LUZIÂNIA!Z35 -> 893 | I38: 19.02 | J38: COMERCIAL DE ALIMENTOS PARQUE SANTA FÉ | K38: =IF(J38=J$167,K$167,K$166) -> 41.403.240/0001-14 | L38: 19.99 | M38: 17.74 | N38: Ata SRP Contratação N.º 113728 | O38: 19.34 | Q38: =G38-H38 -> 2679 | R38: =Q38*I38 -> 50954.58 | S38: =H38 -> 893 | T38: =S38*I38 -> 16984.86
A39: 21 | B39: 2.21 | D39: LINGUIÇA TOSCANA | E39: KG | G39: =LUZIÂNIA!Y36 -> 3660 | H39: =LUZIÂNIA!Z36 -> 915 | I39: 17.76 | J39: NK COMERCIO DE ALIMENTOS EIRELI | K39: =IF(J39=J$167,K$167,K$166) -> 32.575.287/0006-89 | L39: 14.98 | M39: 19.24 | N39: Ata SRP Contratação N.º 113728 | O39: 19.07 | Q39: =G39-H39 -> 2745 | R39: =Q39*I39 -> 48751.2 | S39: =H39 -> 915 | T39: =S39*I39 -> 16250.4
A40: 24 | B40: 2.22 | D40: PEITO DE FRANGO SEM PELE E SEM OSSO | E40: KG | G40: =LUZIÂNIA!Y37 -> 17388 | H40: =LUZIÂNIA!Z37 -> 4347 | I40: 18.46 | J40: NK COMERCIO DE ALIMENTOS EIRELI | K40: =IF(J40=J$167,K$167,K$166) -> 32.575.287/0006-89 | L40: 16.99 | M40: 17.29 | N40: Ata SRP Contratação N.º 113728 | O40: 21.09 | Q40: =G40-H40 -> 13041 | R40: =Q40*I40 -> 240736.86 | S40: =H40 -> 4347 | T40: =S40*I40 -> 80245.62
A41: 97 | B41: 2.23 | D41: SALSICHA | E41: KG | G41: =LUZIÂNIA!Y38 -> 4440 | H41: =LUZIÂNIA!Z38 -> 1110 | I41: 12.35 | J41: NK COMERCIO DE ALIMENTOS EIRELI | K41: =IF(J41=J$167,K$167,K$166) -> 32.575.287/0006-89 | L41: 3.49 | M41: 21.19 | N41: Ata SRP Contratação N.º 113728 | O41: 12.36 | Q41: =G41-H41 -> 3330 | R41: =Q41*I41 -> 41125.5 | S41: =H41 -> 1110 | T41: =S41*I41 -> 13708.5
A42: 26 | B42: 2.24 | D42: TOUCINHO | E42: KG | G42: =LUZIÂNIA!Y39 -> 3720 | H42: =LUZIÂNIA!Z39 -> 930 | I42: 19.83 | J42: NK COMERCIO DE ALIMENTOS EIRELI | K42: =IF(J42=J$167,K$167,K$166) -> 32.575.287/0006-89 | L42: 11.99 | M42: 27.62 | N42: Ata SRP Contratação N.º 113728 | O42: 19.89 | Q42: =G42-H42 -> 2790 | R42: =Q42*I42 -> 55325.7 | S42: =H42 -> 930 | T42: =S42*I42 -> 18441.9
R43: =SUM(R19:R42) -> 2179800.1 | T43: =SUM(T19:T42) -> 726600.05
A44: ITEM | D44: GENEROS ALIMENTICIOS | E44: UNIDADE | I44: Preço médio | L44: COMERCIAL DE ALIMENTOS PARQUE SANTA FÉ | M44: BANCO DE PREÇOS | N44: ATA
A45: 28 | B45: 3.1 | D45: FILE DE TILÁPIA | E45: KG | G45: =LUZIÂNIA!Y40 -> 556 | H45: =LUZIÂNIA!Z40 -> 139 | I45: 50.85 | J45: COMERCIAL DE ALIMENTOS PARQUE SANTA FÉ | K45: =IF(J45=J$167,K$167,K$166) -> 41.403.240/0001-14 | L45: 69.99 | M45: 40.89 | N45: Ata SRP Contratação N.º 113728 | O45: 41.66 | Q45: 556 | R45: =Q45*I45 -> 28272.6
A47: ITEM | C47: CÓD. SISLOG | D47: GENEROS ALIMENTICIOS | E47: UNIDADE | I47: Preço médio | L47: COMERCIAL DE ALIMENTOS PARQUE SANTA FÉ | M47: BANCO DE PREÇOS | N47: ATA
A48: 1 | B48: 4.1 | C48: 4120 | D48: AÇAFRÃO | E48: KG | G48: =LUZIÂNIA!Y41 -> 732 | H48: =LUZIÂNIA!Z41 -> 183 | I48: 26.1 | J48: COMERCIAL DE ALIMENTOS PARQUE SANTA FÉ | K48: =IF(J48=J$167,K$167,K$166) -> 41.403.240/0001-14 | L48: 39.98 | M48: 17.93 | N48: Ata SRP Contratação N.º 113728 | O48: 20.38 | Q48: =G48-H48 -> 549 | R48: =Q48*I48 -> 14328.9 | S48: =H48 -> 183 | T48: =S48*I48 -> 4776.3
A49: 2 | B49: 4.2 | C49: 13 | D49: AÇÚCAR CRISTAL 5kg | E49: PCT | G49: =LUZIÂNIA!Y42 -> 9816 | H49: =LUZIÂNIA!Z42 -> 2454 | I49: 21.26 | J49: COMERCIAL DE ALIMENTOS PARQUE SANTA FÉ | K49: =IF(J49=J$167,K$167,K$166) -> 41.403.240/0001-14 | L49: 26.99 | M49: 17 | N49: Ata SRP Contratação N.º 113728 | O49: 19.8 | Q49: =G49-H49 -> 7362 | R49: =Q49*I49 -> 156516.12 | S49: =H49 -> 2454 | T49: =S49*I49 -> 52172.04
A50: 4 | B50: 4.3 | C50: 498 | D50: AMIDO DE MILHO 500g | E50: PCT | G50: =LUZIÂNIA!Y43 -> 2364 | H50: =LUZIÂNIA!Z43 -> 591 | I50: 8.29 | J50: NK COMERCIO DE ALIMENTOS EIRELI | K50: =IF(J50=J$167,K$167,K$166) -> 32.575.287/0006-89 | L50: 4.99 | M50: 10.53 | N50: Ata SRP Contratação N.º 113728 | O50: 9.35 | Q50: =G50-H50 -> 1773 | R50: =Q50*I50 -> 14698.17 | S50: =H50 -> 591 | T50: =S50*I50 -> 4899.39
A51: 6 | B51: 4.4 | C51: 693 | D51: ARROZ TIPO 1 5kg | E51: PCT | G51: =LUZIÂNIA!Y44 -> 27924 | H51: =LUZIÂNIA!Z44 -> 6981 | I51: 25.08 | J51: NK COMERCIO DE ALIMENTOS EIRELI | K51: =IF(J51=J$167,K$167,K$166) -> 32.575.287/0006-89 | L51: 19.99 | M51: 26.8 | N51: Ata SRP Contratação N.º 113728 | O51: 28.45 | Q51: =G51-H51 -> 20943 | R51: =Q51*I51 -> 525250.44 | S51: =H51 -> 6981 | T51: =S51*I51 -> 175083.48
A52: 8 | B52: 4.5 | D52: AVEIA EM FLOCOS 500g | E52: PCT | G52: =LUZIÂNIA!Y45 -> 0 | H52: =LUZIÂNIA!Z45 -> 0 | I52: 13.75 | J52: NK COMERCIO DE ALIMENTOS EIRELI | K52: =IF(J52=J$167,K$167,K$166) -> 32.575.287/0006-89 | L52: 15.99 | M52: 12.97 | N52: Ata SRP Contratação N.º 113728 | O52: 12.29 | Q52: =G52-H52 -> 0 | R52: =Q52*I52 -> 0 | S52: =H52 -> 0 | T52: =S52*I52 -> 0
A53: 9 | B53: 4.6 | C53: 755 | D53: AZEITE DE OLIVA 500 ml | E53: LT | G53: =LUZIÂNIA!Y46 -> 332 | H53: =LUZIÂNIA!Z46 -> 83 | I53: 41.33 | J53: NK COMERCIO DE ALIMENTOS EIRELI | K53: =IF(J53=J$167,K$167,K$166) -> 32.575.287/0006-89 | L53: 44.99 | M53: 38.22 | N53: Ata SRP Contratação N.º 113728 | O53: 40.78 | Q53: =G53-H53 -> 249 | R53: =Q53*I53 -> 10291.17 | S53: =H53 -> 83 | T53: =S53*I53 -> 3430.39
A54: 10 | B54: 4.7 | C54: 749 | D54: AZEITONA VERDE 500g | E54: UNIDADE | G54: =LUZIÂNIA!Y47 -> 92 | H54: =LUZIÂNIA!Z47 -> 23 | I54: 19.08 | J54: COMERCIAL DE ALIMENTOS PARQUE SANTA FÉ | K54: =IF(J54=J$167,K$167,K$166) -> 41.403.240/0001-14 | L54: 22.99 | M54: 15.73 | N54: Ata SRP Contratação N.º 113299 | O54: 18.51 | Q54: =G54-H54 -> 69 | R54: =Q54*I54 -> 1316.52 | S54: =H54 -> 23 | T54: =S54*I54 -> 438.84
A55: 13 | B55: 4.8 | C55: 733 | D55: BATATA PALHA 800g | E55: PCT | G55: =LUZIÂNIA!Y48 -> 3360 | H55: =LUZIÂNIA!Z48 -> 840 | I55: 32.27 | J55: COMERCIAL DE ALIMENTOS PARQUE SANTA FÉ | K55: =IF(J55=J$167,K$167,K$166) -> 41.403.240/0001-14 | L55: 36.99 | M55: 32.72 | N55: Ata SRP Contratação N.º 113728 | O55: 27.09 | Q55: =G55-H55 -> 2520 | R55: =Q55*I55 -> 81320.4 | S55: =H55 -> 840 | T55: =S55*I55 -> 27106.8
A56: 17 | B56: 4.9 | D56: CACAU 100% EM PÓ 500g | E56: PCT | G56: =LUZIÂNIA!Y49 -> 2352 | H56: =LUZIÂNIA!Z49 -> 588 | I56: 33.28 | J56: NK COMERCIO DE ALIMENTOS EIRELI | K56: =IF(J56=J$167,K$167,K$166) -> 32.575.287/0006-89 | L56: 34.99 | M56: 39.27 | N56: Ata SRP Contratação N.º 113728 | O56: 25.57 | Q56: =G56-H56 -> 1764 | R56: =Q56*I56 -> 58705.92 | S56: =H56 -> 588 | T56: =S56*I56 -> 19568.64
A57: 21 | B57: 4.10 | D57: COCO RALADO 1kg | E57: PCT | G57: =LUZIÂNIA!Y50 -> 368 | H57: =LUZIÂNIA!Z50 -> 92 | I57: 27.41 | J57: COMERCIAL DE ALIMENTOS PARQUE SANTA FÉ | K57: =IF(J57=J$167,K$167,K$166) -> 41.403.240/0001-14 | L57: 29.99 | M57: 25.31 | N57: Ata SRP Contratação N.º 113728 | O57: 26.92 | Q57: =G57-H57 -> 276 | R57: =Q57*I57 -> 7565.16 | S57: =H57 -> 92 | T57: =S57*I57 -> 2521.72
A58: 22 | B58: 4.11 | D58: COLORAU 500g | E58: PCT | G58: =LUZIÂNIA!Y51 -> 768 | H58: =LUZIÂNIA!Z51 -> 192 | I58: 12.88 | J58: COMERCIAL DE ALIMENTOS PARQUE SANTA FÉ | K58: =IF(J58=J$167,K$167,K$166) -> 41.403.240/0001-14 | L58: 18.99 | M58: 6.31 | N58: Ata SRP Contratação N.º 113728 | O58: 13.33 | Q58: =G58-H58 -> 576 | R58: =Q58*I58 -> 7418.88 | S58: =H58 -> 192 | T58: =S58*I58 -> 2472.96
A59: 27 | B59: 4.12 | D59: CREME DE LEITE 1kg | E59: UNIDADE | G59: =LUZIÂNIA!Y52 -> 3604 | H59: =LUZIÂNIA!Z52 -> 901 | I59: 20.38 | J59: COMERCIAL DE ALIMENTOS PARQUE SANTA FÉ | K59: =IF(J59=J$167,K$167,K$166) -> 41.403.240/0001-14 | L59: 28.99 | M59: 16.44 | N59: Ata SRP Contratação N.º 113728 | O59: 15.7 | Q59: =G59-H59 -> 2703 | R59: =Q59*I59 -> 55087.14 | S59: =H59 -> 901 | T59: =S59*I59 -> 18362.38
A60: 28 | B60: 4.13 | D60: DOCE BANANINHA CREMOSA 30g | E60: UNIDADE | G60: =LUZIÂNIA!Y53 -> 900 | H60: =LUZIÂNIA!Z53 -> 225 | I60: 2.17 | J60: COMERCIAL DE ALIMENTOS PARQUE SANTA FÉ | K60: =IF(J60=J$167,K$167,K$166) -> 41.403.240/0001-14 | L60: 3.99 | M60: 0.51 | N60: Ata SRP Contratação N.º 113728 | O60: 2.02 | Q60: =G60-H60 -> 675 | R60: =Q60*I60 -> 1464.75 | S60: =H60 -> 225 | T60: =S60*I60 -> 488.25
A61: 28 | B61: 4.14 | D61: ERVILHA EM CONSERVA 170g | E61: UNIDADE | G61: =LUZIÂNIA!Y54 -> 516 | H61: =LUZIÂNIA!Z54 -> 129 | I61: 5.96 | J61: COMERCIAL DE ALIMENTOS PARQUE SANTA FÉ | K61: =IF(J61=J$167,K$167,K$166) -> 41.403.240/0001-14 | L61: 6.8 | M61: 4.08 | N61: Ata SRP 002/2025 - CRE Quirinópolis | O61: 6.99 | Q61: =G61-H61 -> 387 | R61: =Q61*I61 -> 2306.52 | S61: =H61 -> 129 | T61: =S61*I61 -> 768.84
A62: 30 | B62: 4.15 | D62: EXTRATO DE TOMATE 1kg | E62: UNIDADE | G62: =LUZIÂNIA!Y55 -> 6224 | H62: =LUZIÂNIA!Z55 -> 1556 | I62: 16.69 | J62: NK COMERCIO DE ALIMENTOS EIRELI | K62: =IF(J62=J$167,K$167,K$166) -> 32.575.287/0006-89 | L62: 19.99 | M62: 14.28 | N62: Ata SRP Contratação N.º 113728 | O62: 15.79 | Q62: =G62-H62 -> 4668 | R62: =Q62*I62 -> 77908.92 | S62: =H62 -> 1556 | T62: =S62*I62 -> 25969.64
A63: 32 | B63: 4.16 | D63: FARINHA DE AVEIA 500g | E63: PCT | G63: =LUZIÂNIA!Y56 -> 0 | H63: =LUZIÂNIA!Z56 -> 0 | I63: 10.07 | J63: COMERCIAL DE ALIMENTOS PARQUE SANTA FÉ | K63: =IF(J63=J$167,K$167,K$166) -> 41.403.240/0001-14 | L63: 12.9 | M63: 6.59 | N63: Ata SRP Contratação N.º 114651 | O63: 10.71 | Q63: =G63-H63 -> 0 | R63: =Q63*I63 -> 0 | S63: =H63 -> 0 | T63: =S63*I63 -> 0
A64: 33 | B64: 4.17 | D64: FARINHA DE MANDIOCA 1kg | E64: PCT | G64: =LUZIÂNIA!Y57 -> 3716 | H64: =LUZIÂNIA!Z57 -> 929 | I64: 9.12 | J64: NK COMERCIO DE ALIMENTOS EIRELI | K64: =IF(J64=J$167,K$167,K$166) -> 32.575.287/0006-89 | L64: 10.99 | M64: 6 | N64: Ata SRP Contratação N.º 113728 | O64: 10.38 | Q64: =G64-H64 -> 2787 | R64: =Q64*I64 -> 25417.44 | S64: =H64 -> 929 | T64: =S64*I64 -> 8472.48
A65: 39 | B65: 4.18 | D65: FARINHA DE MILHO 500g | E65: PCT | G65: =LUZIÂNIA!Y58 -> 332 | H65: =LUZIÂNIA!Z58 -> 83 | I65: 4.66 | J65: COMERCIAL DE ALIMENTOS PARQUE SANTA FÉ | K65: =IF(J65=J$167,K$167,K$166) -> 41.403.240/0001-14 | L65: 6.9 | M65: 4.88 | N65: Ata SRP 001/2025 - CRE Ceres | O65: 2.19 | Q65: =G65-H65 -> 249 | R65: =Q65*I65 -> 1160.34 | S65: =H65 -> 83 | T65: =S65*I65 -> 386.78
A66: 39 | B66: 4.19 | D66: FARINHA DE ROSCA 500g | E66: PCT | G66: =LUZIÂNIA!Y59 -> 132 | H66: =LUZIÂNIA!Z59 -> 33 | I66: 8.34 | J66: COMERCIAL DE ALIMENTOS PARQUE SANTA FÉ | K66: =IF(J66=J$167,K$167,K$166) -> 41.403.240/0001-14 | L66: 10.5 | M66: 10.95 | N66: Ata SRP 008/2025 - CRE Morrinhos | O66: 3.57 | Q66: =G66-H66 -> 99 | R66: =Q66*I66 -> 825.66 | S66: =H66 -> 33 | T66: =S66*I66 -> 275.22
A67: 39 | B67: 4.20 | D67: FARINHA DE TRIGO 1kg | E67: PCT | G67: =LUZIÂNIA!Y60 -> 1400 | H67: =LUZIÂNIA!Z60 -> 350 | I67: 5.76 | J67: NK COMERCIO DE ALIMENTOS EIRELI | K67: =IF(J67=J$167,K$167,K$166) -> 32.575.287/0006-89 | L67: 6.99 | M67: 5.22 | N67: Ata SRP Contratação N.º 113728 | O67: 5.08 | Q67: =G67-H67 -> 1050 | R67: =Q67*I67 -> 6048 | S67: =H67 -> 350 | T67: =S67*I67 -> 2016
... A89: 71 | B89: 4.43 | D89: MANDIOCA DESCASCADA CONGELADA | E89: PCT | G89: =LUZIÂNIA!Y82 -> 3496 | H89: =LUZIÂNIA!Z82 -> 874 | I89: 8.42 | J89: NK COMERCIO DE ALIMENTOS EIRELI | K89: =IF(J89=J$167,K$167,K$166) -> 32.575.287/0006-89 | L89: 7.98 | M89: 8.1 | N89: Ata SRP Contratação N.º 113728 | O89: 9.19 | Q89: =G89-H89 -> 2622 | R89: =Q89*I89 -> 22077.24 | S89: =H89 -> 874 | T89: =S89*I89 -> 7359.08
B90: 4.44 | D90: MANTEIGA 500g | E90: UNIDADE | G90: =LUZIÂNIA!Y83 -> 676 | H90: =LUZIÂNIA!Z83 -> 169 | I90: 32.36 | J90: COMERCIAL DE ALIMENTOS PARQUE SANTA FÉ | K90: =IF(J90=J$167,K$167,K$166) -> 41.403.240/0001-14 | L90: 44.9 | M90: 18.92 | N90: Ata SRP Contratação N.º 113728 | O90: 33.27 | Q90: =G90-H90 -> 507 | R90: =Q90*I90 -> 16406.52 | S90: =H90 -> 169 | T90: =S90*I90 -> 5468.84
A91: 75 | B91: 4.45 | D91: MARGARINA COM SAL 1kg | E91: UNIDADE | G91: =LUZIÂNIA!Y84 -> 3028 | H91: =LUZIÂNIA!Z84 -> 757 | I91: 17.16 | J91: COMERCIAL DE ALIMENTOS PARQUE SANTA FÉ | K91: =IF(J91=J$167,K$167,K$166) -> 41.403.240/0001-14 | L91: 22 | M91: 13.28 | N91: Ata SRP Contratação N.º 113728 | O91: 16.19 | Q91: =G91-H91 -> 2271 | R91: =Q91*I91 -> 38970.36 | S91: =H91 -> 757 | T91: =S91*I91 -> 12990.12
A92: 76 | B92: 4.46 | D92: MILHO PARA CANJICA BRANCO 500g | E92: PCT | G92: =LUZIÂNIA!Y85 -> 60 | H92: =LUZIÂNIA!Z85 -> 15 | I92: 5.62 | J92: NK COMERCIO DE ALIMENTOS EIRELI | K92: =IF(J92=J$167,K$167,K$166) -> 32.575.287/0006-89 | L92: 5.49 | M92: 4.48 | N92: Ata SRP Contratação N.º 113728 | O92: 6.88 | Q92: =G92-H92 -> 45 | R92: =Q92*I92 -> 252.9 | S92: =H92 -> 15 | T92: =S92*I92 -> 84.3
A93: 77 | B93: 4.47 | D93: MILHO PARA CANJICA AMARELO 500g | E93: PCT | G93: =LUZIÂNIA!Y86 -> 0 | H93: =LUZIÂNIA!Z86 -> 0 | I93: 3.66 | J93: NK COMERCIO DE ALIMENTOS EIRELI | K93: =IF(J93=J$167,K$167,K$166) -> 32.575.287/0006-89 | L93: 3.69 | M93: 3.59 | N93: Ata SRP Contratação N.º 113728 | O93: 3.7 | Q93: =G93-H93 -> 0 | R93: =Q93*I93 -> 0 | S93: =H93 -> 0 | T93: =S93*I93 -> 0
A94: 78 | B94: 4.48 | D94: MILHO PARA PIPOCA 500g | E94: PCT | G94: =LUZIÂNIA!Y87 -> 436 | H94: =LUZIÂNIA!Z87 -> 109 | I94: 5.13 | J94: COMERCIAL DE ALIMENTOS PARQUE SANTA FÉ | K94: =IF(J94=J$167,K$167,K$166) -> 41.403.240/0001-14 | L94: 6.2 | M94: 4.49 | N94: Ata SRP Contratação N.º 113728 | O94: 4.71 | Q94: =G94-H94 -> 327 | R94: =Q94*I94 -> 1677.51 | S94: =H94 -> 109 | T94: =S94*I94 -> 559.17
A95: 81 | B95: 4.49 | D95: MILHO VERDE EM CONSERVA 1,7kg | E95: UNIDADE | G95: =LUZIÂNIA!Y88 -> 2672 | H95: =LUZIÂNIA!Z88 -> 668 | I95: 25.61 | J95: NK COMERCIO DE ALIMENTOS EIRELI | K95: =IF(J95=J$167,K$167,K$166) -> 32.575.287/0006-89 | L95: 27.45 | M95: 22.33 | N95: Ata SRP Contratação N.º 113728 | O95: 27.05 | Q95: =G95-H95 -> 2004 | R95: =Q95*I95 -> 51322.44 | S95: =H95 -> 668 | T95: =S95*I95 -> 17107.48
A96: 82 | B96: 4.50 | D96: MOLHO DE TOMATE 1kg | E96: UNIDADE | G96: =LUZIÂNIA!Y89 -> 632 | H96: =LUZIÂNIA!Z89 -> 158 | I96: 15.49 | J96: COMERCIAL DE ALIMENTOS PARQUE SANTA FÉ | K96: =IF(J96=J$167,K$167,K$166) -> 41.403.240/0001-14 | L96: 19.99 | M96: 14.63 | N96: Ata SRP Contratação N.º 113728 | O96: 11.85 | Q96: =G96-H96 -> 474 | R96: =Q96*I96 -> 7342.26 | S96: =H96 -> 158 | T96: =S96*I96 -> 2447.42
A97: 83 | B97: 4.51 | D97: ÓLEO VEGETAL (SOJA) | E97: LITRO | G97: =LUZIÂNIA!Y90 -> 9872 | H97: =LUZIÂNIA!Z90 -> 2468 | I97: 8.68 | J97: NK COMERCIO DE ALIMENTOS EIRELI | K97: =IF(J97=J$167,K$167,K$166) -> 32.575.287/0006-89 | L97: 8.49 | M97: 9.78 | N97: Ata SRP Contratação N.º 113728 | O97: 7.76 | Q97: =G97-H97 -> 7404 | R97: =Q97*I97 -> 64266.72 | S97: =H97 -> 2468 | T97: =S97*I97 -> 21422.24
A98: 84 | B98: 4.52 | D98: OVOS DE GALINHA | E98: DUZIA | G98: =LUZIÂNIA!Y91 -> 7312 | H98: =LUZIÂNIA!Z91 -> 1828 | I98: 11.91 | J98: NK COMERCIO DE ALIMENTOS EIRELI | K98: =IF(J98=J$167,K$167,K$166) -> 32.575.287/0006-89 | L98: 12.99 | M98: 11.26 | N98: Ata SRP Contratação N.º 113728 | O98: 11.49 | Q98: =G98-H98 -> 5484 | R98: =Q98*I98 -> 65314.44 | S98: =H98 -> 1828 | T98: =S98*I98 -> 21771.48
A99: 88 | B99: 4.53 | D99: POLPA DE FRUTAS – VARIOS SABORES | E99: KG | G99: =LUZIÂNIA!Y92 -> 36136 | H99: =LUZIÂNIA!Z92 -> 9034 | I99: 23.5 | J99: COMERCIAL DE ALIMENTOS PARQUE SANTA FÉ | K99: =IF(J99=J$167,K$167,K$166) -> 41.403.240/0001-14 | L99: 25.99 | M99: 14.39 | N99: Ata SRP Contratação N.º 113728 | O99: 30.11 | Q99: =G99-H99 -> 27102 | R99: =Q99*I99 -> 636897 | S99: =H99 -> 9034 | T99: =S99*I99 -> 212299
B100: 4.54 | D100: POLPA DE FRUTAS - PEQUI | E100: UN 260g | G100: =LUZIÂNIA!Y93 -> 880 | H100: =LUZIÂNIA!Z93 -> 220 | I100: 22.46 | J100: COMERCIAL DE ALIMENTOS PARQUE SANTA FÉ | K100: =IF(J100=J$167,K$167,K$166) -> 41.403.240/0001-14 | L100: 31.99 | M100: 25.58 | N100: Registro de Preço Ruraltins TO | O100: 9.81 | Q100: =G100-H100 -> 660 | R100: =Q100*I100 -> 14823.6 | S100: =H100 -> 220 | T100: =S100*I100 -> 4941.2
A101: 89 | B101: 4.55 | D101: POLVILHO DOCE 500G | E101: PCT | G101: =LUZIÂNIA!Y94 -> 360 | H101: =LUZIÂNIA!Z94 -> 90 | I101: 9.16 | J101: COMERCIAL DE ALIMENTOS PARQUE SANTA FÉ | K101: =IF(J101=J$167,K$167,K$166) -> 41.403.240/0001-14 | L101: 10.99 | M101: 9.71 | N101: Ata SRP Contratação N.º 113728 | O101: 6.77 | Q101: =G101-H101 -> 270 | R101: =Q101*I101 -> 2473.2 | S101: =H101 -> 90 | T101: =S101*I101 -> 824.4
A102: 90 | B102: 4.56 | D102: PRESUNTO | E102: KG | G102: =LUZIÂNIA!Y95 -> 384 | H102: =LUZIÂNIA!Z95 -> 96 | I102: 37.39 | J102: COMERCIAL DE ALIMENTOS PARQUE SANTA FÉ | K102: =IF(J102=J$167,K$167,K$166) -> 41.403.240/0001-14 | L102: 38.99 | M102: 42.08 | N102: Ata SRP Contratação N.º 113728 | O102: 31.1 | Q102: =G102-H102 -> 288 | R102: =Q102*I102 -> 10768.32 | S102: =H102 -> 96 | T102: =S102*I102 -> 3589.44
A103: 91 | B103: 4.57 | D103: QUEIJO MUSSARELA | E103: KG | G103: =LUZIÂNIA!Y96 -> 1556 | H103: =LUZIÂNIA!Z96 -> 389 | I103: 49.7 | J103: COMERCIAL DE ALIMENTOS PARQUE SANTA FÉ | K103: =IF(J103=J$167,K$167,K$166) -> 41.403.240/0001-14 | L103: 55.99 | M103: 47.87 | N103: Ata SRP Contratação N.º 113728 | O103: 45.24 | Q103: =G103-H103 -> 1167 | R103: =Q103*I103 -> 57999.9 | S103: =H103 -> 389 | T103: =S103*I103 -> 19333.3
A104: 1 | B104: 4.58 | D104: QUEIJO MINAS CURADO RALADO | E104: KG | G104: =LUZIÂNIA!Y97 -> 5816 | H104: =LUZIÂNIA!Z97 -> 1454 | I104: 55.26 | J104: COMERCIAL DE ALIMENTOS PARQUE SANTA FÉ | K104: =IF(J104=J$167,K$167,K$166) -> 41.403.240/0001-14 | L104: 65 | M104: 62.7 | N104: Ata SRP Contratação N.º 113728 | O104: 38.07 | Q104: =G104-H104 -> 4362 | R104: =Q104*I104 -> 241044.12 | S104: =H104 -> 1454 | T104: =S104*I104 -> 80348.04
A105: 92 | B105: 4.59 | D105: RAPADURINHA 25g | E105: UNIDADE | G105: =LUZIÂNIA!Y98 -> 3300 | H105: =LUZIÂNIA!Z98 -> 825 | I105: 2.2 | J105: COMERCIAL DE ALIMENTOS PARQUE SANTA FÉ | K105: =IF(J105=J$167,K$167,K$166) -> 41.403.240/0001-14 | L105: 2.79 | M105: 1.31 | N105: Ata SRP 012/2025 - SEDUC | O105: 2.49 | Q105: =G105-H105 -> 2475 | R105: =Q105*I105 -> 5445 | S105: =H105 -> 825 | T105: =S105*I105 -> 1815
A106: 94 | B106: 4.60 | D106: REQUEIJÃO 400g | E106: UNIDADE | G106: =LUZIÂNIA!Y99 -> 888 | H106: =LUZIÂNIA!Z99 -> 222 | I106: 16.1 | J106: NK COMERCIO DE ALIMENTOS EIRELI | K106: =IF(J106=J$167,K$167,K$166) -> 32.575.287/0006-89 | L106: 11.99 | M106: 18.85 | N106: Ata SRP Contratação N.º 113728 | O106: 17.46 | Q106: =G106-H106 -> 666 | R106: =Q106*I106 -> 10722.6 | S106: =H106 -> 222 | T106: =S106*I106 -> 3574.2
A107: 96 | B107: 4.61 | D107: SAL | E107: PCT | G107: =LUZIÂNIA!Y100 -> 484 | H107: =LUZIÂNIA!Z100 -> 121 | I107: 3.11 | J107: NK COMERCIO DE ALIMENTOS EIRELI | K107: =IF(J107=J$167,K$167,K$166) -> 32.575.287/0006-89 | L107: 4.15 | M107: 2.77 | N107: Ata SRP Contratação N.º 113728 | O107: 2.4 | Q107: =G107-H107 -> 363 | R107: =Q107*I107 -> 1128.93 | S107: =H107 -> 121 | T107: =S107*I107 -> 376.31
A108: 24 | B108: 4.62 | D108: CONCENTRADO DE FRUTA (SUCO) VÁRIOS SABORES – 1000 ml | E108: UNIDADE | G108: =LUZIÂNIA!Y101 -> 32108 | H108: =LUZIÂNIA!Z101 -> 8027 | I108: 14.99 | J108: COMERCIAL DE ALIMENTOS PARQUE SANTA FÉ | K108: =IF(J108=J$167,K$167,K$166) -> 41.403.240/0001-14 | L108: 21 | M108: 11.11 | N108: Ata SRP Contratação N.º 113728 | O108: 12.86 | Q108: =G108-H108 -> 24081 | R108: =Q108*I108 -> 360974.19 | S108: =H108 -> 8027 | T108: =S108*I108 -> 120324.73
A109: 97 | B109: 4.63 | D109: SUCO VÁRIOS SABORES 200ml | E109: KG | G109: =LUZIÂNIA!Y102 -> 3300 | H109: =LUZIÂNIA!Z102 -> 825 | I109: 3.36 | J109: COMERCIAL DE ALIMENTOS PARQUE SANTA FÉ | K109: =IF(J109=J$167,K$167,K$166) -> 41.403.240/0001-14 | L109: 3.99 | M109: 1.8 | N109: Ata SRP 008/2025 - CRE Morrinhos | O109: 4.28 | Q109: =G109-H109 -> 2475 | R109: =Q109*I109 -> 8316 | S109: =H109 -> 825 | T109: =S109*I109 -> 2772
A110: 98 | B110: 4.64 | D110: TRIGO PARA QUIBE 500g | E110: PCT | G110: =LUZIÂNIA!Y103 -> 272 | H110: =LUZIÂNIA!Z103 -> 68 | I110: 8.06 | J110: NK COMERCIO DE ALIMENTOS EIRELI | K110: =IF(J110=J$167,K$167,K$166) -> 32.575.287/0006-89 | L110: 8.99 | M110: 7.11 | N110: Ata SRP Contratação N.º 113728 | O110: 8.08 | Q110: =G110-H110 -> 204 | R110: =Q110*I110 -> 1644.24 | S110: =H110 -> 68 | T110: =S110*I110 -> 548.08
A111: 99 | B111: 4.65 | D111: VINAGRE 750ml | E111: UNIDADE | G111: =LUZIÂNIA!Y104 -> 1180 | H111: =LUZIÂNIA!Z104 -> 295 | I111: 5.95 | J111: NK COMERCIO DE ALIMENTOS EIRELI | K111: =IF(J111=J$167,K$167,K$166) -> 32.575.287/0006-89 | L111: 6.99 | M111: 4.79 | N111: Ata SRP Contratação N.º 113728 | O111: 6.06 | Q111: =G111-H111 -> 885 | R111: =Q111*I111 -> 5265.75 | S111: =H111 -> 295 | T111: =S111*I111 -> 1755.25
R112: =SUM(R48:R111) -> 3171282 | T112: =SUM(T48:T111) -> 1057094
A113: ITEM | D113: GENEROS ALIMENTICIOS | E113: UNIDADE | I113: Preço médio | L113: COMERCIAL DE ALIMENTOS PARQUE SANTA FÉ | M113: BANCO DE PREÇOS | N113: ATA
A114: 1 | B114: 5.1 | D114: ABACATE | E114: KG | G114: =LUZIÂNIA!Y105 -> 900 | H114: =LUZIÂNIA!Z105 -> 225 | I114: 9.05 | J114: COMERCIAL DE ALIMENTOS PARQUE SANTA FÉ | K114: =IF(J114=J$167,K$167,K$166) -> 41.403.240/0001-14 | L114: 9.99 | M114: 6.9 | N114: Ata SRP Contratação N.º 113728 | O114: 10.27 | Q114: =G114-H114 -> 675 | R114: =Q114*I114 -> 6108.75 | S114: =H114 -> 225 | T114: =S114*I114 -> 2036.25
A115: 2 | B115: 5.2 | D115: ABACAXI | E115: UNIDADE MÉDIA | G115: =LUZIÂNIA!Y106 -> 1844 | H115: =LUZIÂNIA!Z106 -> 461 | I115: 9.28 | J115: COMERCIAL DE ALIMENTOS PARQUE SANTA FÉ | K115: =IF(J115=J$167,K$167,K$166) -> 41.403.240/0001-14 | L115: 9.99 | M115: 10.26 | N115: Ata SRP Contratação N.º 113728 | O115: 7.59 | Q115: =G115-H115 -> 1383 | R115: =Q115*I115 -> 12834.24 | S115: =H115 -> 461 | T115: =S115*I115 -> 4278.08
A116: 3 | B116: 5.3 | D116: ABOBORA CABUTIÁ | E116: KG | G116: =LUZIÂNIA!Y107 -> 1196 | H116: =LUZIÂNIA!Z107 -> 299 | I116: 5.77 | J116: NK COMERCIO DE ALIMENTOS EIRELI | K116: =IF(J116=J$167,K$167,K$166) -> 32.575.287/0006-89 | L116: 5.99 | M116: 5.21 | N116: Ata SRP Contratação N.º 113728 | O116: 6.1 | Q116: =G116-H116 -> 897 | R116: =Q116*I116 -> 5175.69 | S116: =H116 -> 299 | T116: =S116*I116 -> 1725.23
A117: 4 | B117: 5.5 | D117: ABOBRINHA VERDE | E117: KG | G117: =LUZIÂNIA!Y108 -> 188 | H117: =LUZIÂNIA!Z108 -> 47 | I117: 6.42 | J117: COMERCIAL DE ALIMENTOS PARQUE SANTA FÉ | K117: =IF(J117=J$167,K$167,K$166) -> 41.403.240/0001-14 | L117: 7.89 | M117: 6.2 | N117: Ata SRP Contratação N.º 113497 | O117: 5.18 | Q117: =G117-H117 -> 141 | R117: =Q117*I117 -> 905.22 | S117: =H117 -> 47 | T117: =S117*I117 -> 301.74
A118: 5 | B118: 5.6 | D118: ACELGA | E118: MAÇO | G118: =LUZIÂNIA!Y109 -> 648 | H118: =LUZIÂNIA!Z109 -> 162 | I118: 6.73 | J118: NK COMERCIO DE ALIMENTOS EIRELI | K118: =IF(J118=J$167,K$167,K$166) -> 32.575.287/0006-89 | L118: 5.99 | M118: 7.4 | N118: Ata SRP Contratação N.º 113728 | O118: 6.8 | Q118: =G118-H118 -> 486 | R118: =Q118*I118 -> 3270.78 | S118: =H118 -> 162 | T118: =S118*I118 -> 1090.26
B119: 5.7 | D119: ALFACE AMERICANA | E119: UNIDADE | G119: =LUZIÂNIA!Y110 -> 1684 | H119: =LUZIÂNIA!Z110 -> 421 | I119: 6.92 | J119: NK COMERCIO DE ALIMENTOS EIRELI | K119: =IF(J119=J$167,K$167,K$166) -> 32.575.287/0006-89 | L119: 5.99 | M119: 7.79 | N119: Ata SRP Contratação N.º 113299 | O119: 6.99 | Q119: =G119-H119 -> 1263 | R119: =Q119*I119 -> 8739.96 | S119: =H119 -> 421 | T119: =S119*I119 -> 2913.32
A120: 7 | B120: 5.8 | D120: ALFACE CRESPA | E120: UNIDADE | G120: =LUZIÂNIA!Y111 -> 1484 | H120: =LUZIÂNIA!Z111 -> 371 | I120: 6.33 | J120: NK COMERCIO DE ALIMENTOS EIRELI | K120: =IF(J120=J$167,K$167,K$166) -> 32.575.287/0006-89 | L120: 4.99 | M120: 7.53 | N120: Ata SRP Contratação N.º 113728 | O120: 6.47 | Q120: =G120-H120 -> 1113 | R120: =Q120*I120 -> 7045.29 | S120: =H120 -> 371 | T120: =S120*I120 -> 2348.43
B121: 5.9 | D121: ALFACE LISA | E121: UNIDADE | G121: =LUZIÂNIA!Y112 -> 888 | H121: =LUZIÂNIA!Z112 -> 222 | I121: 6.09 | J121: COMERCIAL DE ALIMENTOS PARQUE SANTA FÉ | K121: =IF(J121=J$167,K$167,K$166) -> 41.403.240/0001-14 | L121: 5.99 | M121: 6.51 | N121: Ata SRP Contratação N.º 114651 | O121: 5.77 | Q121: =G121-H121 -> 666 | R121: =Q121*I121 -> 4055.94 | S121: =H121 -> 222 | T121: =S121*I121 -> 1351.98
A122: 9 | B122: 5.10 | D122: ALHO COM CASCA | E122: KG | G122: =LUZIÂNIA!Y113 -> 252 | H122: =LUZIÂNIA!Z113 -> 63 | I122: 34.17 | J122: NK COMERCIO DE ALIMENTOS EIRELI | K122: =IF(J122=J$167,K$167,K$166) -> 32.575.287/0006-89 | L122: 39.99 | M122: 28.37 | N122: Ata SRP Contratação N.º 113728 | O122: 34.16 | Q122: =G122-H122 -> 189 | R122: =Q122*I122 -> 6458.13 | S122: =H122 -> 63 | T122: =S122*I122 -> 2152.71
A123: 9 | B123: 5.11 | D123: ALHO DESCASCADO | E123: KG | G123: =LUZIÂNIA!Y114 -> 956 | H123: =LUZIÂNIA!Z114 -> 239 | I123: 31.96 | J123: NK COMERCIO DE ALIMENTOS EIRELI | K123: =IF(J123=J$167,K$167,K$166) -> 32.575.287/0006-89 | L123: 40.99 | M123: 25.48 | N123: Ata SRP Contratação N.º 113604 | O123: 29.41 | Q123: =G123-H123 -> 717 | R123: =Q123*I123 -> 22915.32 | S123: =H123 -> 239 | T123: =S123*I123 -> 7638.44
...

Sheet Composição de Preço
C2: COD. SISLOG | D2: GENEROS ALIMENTICIOS | E2: UNIDADE | F2: Preço médio | G2: MERCADO | J2: BANCO DE PREÇOS | K2: ATA
G3: FORNECEDOR | H3: CNPJ | I3: VALOR | K3: ATA | L3: VALOR
B4: =D4=#REF! -> #REF! | C4: 730 | D4: BISCOITO DE QUEIJO | E4: KG | F4: =(SUM(I4,J4,L4)/3) -> 31.76 | G4: NK COMERCIO DE ALIMENTOS EIRELI | H4: =IF(G4=G$167,H$167,H$166) -> 32.575.287/0006-89 | I4: 32.99 | J4: 36.13 | K4: Ata SRP Contratação N.º 113497 | L4: 26.16
B5: =D5=#REF! -> #REF! | C5: 713 | D5: BOLO PRONTO VÁRIOS SABORES | E5: KG | F5: =(SUM(I5,J5,L5)/3) -> 28.976667 | G5: COMERCIAL DE ALIMENTOS PARQUE SANTA FÉ | H5: =IF(G5=G$167,H$167,H$166) -> 41.403.240/0001-14 | I5: 35.99 | J5: 25.51 | K5: Ata SRP Contratação N.º 113497 | L5: 25.43
B6: =D6=#REF! -> #REF! | C6: 730 | D6: BROA DE MILHO | E6: KG | F6: =(SUM(I6,J6,L6)/3) -> 22.976667 | G6: COMERCIAL DE ALIMENTOS PARQUE SANTA FÉ | H6: =IF(G6=G$167,H$167,H$166) -> 41.403.240/0001-14 | I6: 26.99 | J6: 16.94 | K6: Ata SRP Contratação N.º 113519 | L6: 25
B7: =D7=#REF! -> #REF! | C7: 100 | D7: PÃO (CAREQUINHA, MILHO E SOVADO) | E7: KG | F7: =(SUM(I7,J7,L7)/3) -> 20.593333 | G7: COMERCIAL DE ALIMENTOS PARQUE SANTA FÉ | H7: =IF(G7=G$167,H$167,H$166) -> 41.403.240/0001-14 | I7: 27.99 | J7: 13.27 | K7: Ata SRP Contratação N.º 113497 | L7: 20.52
B8: =D8=#REF! -> #REF! | C8: 100 | D8: PÃO CARECA | E8: KG | F8: =(SUM(I8,J8,L8)/3) -> 22.2 | G8: COMERCIAL DE ALIMENTOS PARQUE SANTA FÉ | H8: =IF(G8=G$167,H$167,H$166) -> 41.403.240/0001-14 | I8: 27.99 | J8: 16.91 | K8: Ata SRP Contratação N.º 113497 | L8: 21.7
B9: =D9=#REF! -> #REF! | C9: 100 | D9: PÃO DE FORMA | E9: PCT | F9: =(SUM(I9,J9,L9)/3) -> 10.67 | G9: COMERCIAL DE ALIMENTOS PARQUE SANTA FÉ | H9: =IF(G9=G$167,H$167,H$166) -> 41.403.240/0001-14 | I9: 12.99 | J9: 7.49 | K9: Ata SRP Contratação N.º 113728 | L9: 11.53
B10: =D10=#REF! -> #REF! | C10: 730 | D10: PÃO DE QUEIJO | E10: KG | F10: =(SUM(I10,J10,L10)/3) -> 26.806667 | G10: NK COMERCIO DE ALIMENTOS EIRELI | H10: =IF(G10=G$167,H$167,H$166) -> 32.575.287/0006-89 | I10: 24.99 | J10: 28.71 | K10: Ata SRP Contratação N.º 113497 | L10: 26.72
B11: =D11=#REF! -> #REF! | C11: 100 | D11: PÃO DOCE | E11: KG | F11: =(SUM(I11,J11,L11)/3) -> 25.503333 | G11: COMERCIAL DE ALIMENTOS PARQUE SANTA FÉ | H11: =IF(G11=G$167,H$167,H$166) -> 41.403.240/0001-14 | I11: 24.99 | J11: 32.57 | K11: Ata SRP Contratação N.º 113497 | L11: 18.95
B12: =D12=#REF! -> #REF! | C12: 100 | D12: PÃO FRANCÊS | E12: KG | F12: =(SUM(I12,J12,L12)/3) -> 14.99 | G12: NK COMERCIO DE ALIMENTOS EIRELI | H12: =IF(G12=G$167,H$167,H$166) -> 32.575.287/0006-89 | I12: 15.99 | J12: 12.01 | K12: Ata SRP Contratação N.º 113497 | L12: 16.97
B13: =D13=#REF! -> #REF! | C13: 100 | D13: PÃO MANDI | E13: KG | F13: =(SUM(I13,J13,L13)/3) -> 22.986667 | G13: NK COMERCIO DE ALIMENTOS EIRELI | H13: =IF(G13=G$167,H$167,H$166) -> 32.575.287/0006-89 | I13: 27.99 | J13: 19.64 | K13: Ata SRP Contratação N.º 113497 | L13: 21.33
B14: =D14=#REF! -> #REF! | C14: 711 | D14: ROSCA | E14: KG | F14: =(SUM(I14,J14,L14)/3) -> 26.736667 | G14: COMERCIAL DE ALIMENTOS PARQUE SANTA FÉ | H14: =IF(G14=G$167,H$167,H$166) -> 41.403.240/0001-14 | I14: 25.99 | J14: 32.6 | K14: Ata SRP Contratação N.º 113497 | L14: 21.62
B15: =D15=#REF! -> #REF! | C15: 100 | D15: TORRADA | E15: KG | F15: =(SUM(I15,J15,L15)/3) -> 25.14 | G15: NK COMERCIO DE ALIMENTOS EIRELI | H15: =IF(G15=G$167,H$167,H$166) -> 32.575.287/0006-89 | I15: 26.99 | J15: 28.22 | K15: Ata SRP Contratação N.º 113497 | L15: 20.21
B16: =D16=#REF! -> #REF! | D16: SONHO | E16: KG | F16: =(SUM(I16,J16,L16)/3) -> 24.55 | G16: EDVALDO DE MELO E CIA LTDA | H16: 01.158.819/0001-44 | I16: 33.9 | J16: 8.4 | K16: Ata SRP Contratação N.º 113728 | L16: 31.35
D18: GENEROS ALIMENTICIOS | E18: UNIDADE | F18: Preço médio | I18: COMERCIAL DE ALIMENTOS PARQUE SANTA FÉ | J18: BANCO DE PREÇOS | L18: ATA
B19: 2.1 | D19: BACON | E19: KG | F19: =(SUM(I19,J19,L19)/3) -> 40.756667 | G19: NK COMERCIO DE ALIMENTOS EIRELI | H19: =IF(G19=G$167,H$167,H$166) -> 32.575.287/0006-89 | I19: 49.99 | J19: 33.46 | K19: Ata SRP Contratação N.º 113728 | L19: 38.82
B20: 2.2 | D20: CARNE BOVINA DE 1ª PATINHO (MOÍDA, CUBOS OU ISCAS) | E20: KG | F20: =(SUM(I20,J20,L20)/3) -> 38.126667 | G20: NK COMERCIO DE ALIMENTOS EIRELI | H20: =IF(G20=G$167,H$167,H$166) -> 32.575.287/0006-89 | I20: 39.99 | J20: 39.22 | K20: Ata SRP Contratação N.º 113728 | L20: 35.17
B21: 2.3 | D21: CARNE BOVINA DE 2ª ACÉM (MOÍDA, CUBOS OU ISCAS) | E21: KG | F21: =(SUM(I21,J21,L21)/3) -> 30.893333 | G21: NK COMERCIO DE ALIMENTOS EIRELI | H21: =IF(G21=G$167,H$167,H$166) -> 32.575.287/0006-89 | I21: 30.99 | J21: 33.04 | K21: Ata SRP Contratação N.º 113728 | L21: 28.65
B22: 2.4 | D22: CARNE BOVINA DE 2ª PALETA (ISCAS OU CUBOS | E22: KG | F22: =(SUM(I22,J22,L22)/3) -> 31.28 | G22: NK COMERCIO DE ALIMENTOS EIRELI | H22: =IF(G22=G$167,H$167,H$166) -> 32.575.287/0006-89 | I22: 34.99 | J22: 26.12 | K22: Ata SRP Contratação N.º 113728 | L22: 32.73
B23: 2.5 | D23: CARNE BOVINA DE 2ª MÚSCULO (MOÍDA, CUBOS OU ISCAS) | E23: KG | F23: =(SUM(I23,J23,L23)/3) -> 31.643333 | G23: NK COMERCIO DE ALIMENTOS EIRELI | H23: =IF(G23=G$167,H$167,H$166) -> 32.575.287/0006-89 | I23: 33.99 | J23: 32.31 | K23: Ata SRP Contratação N.º 113728 | L23: 28.63
B24: 2.6 | D24: CARNE BOVINA DE 2ª ACÉM, SECA (ISCAS OU MANTA) | E24: KG | F24: =(SUM(I24,J24,L24)/3) -> 36.246667 | G24: NK COMERCIO DE ALIMENTOS EIRELI | H24: =IF(G24=G$167,H$167,H$166) -> 32.575.287/0006-89 | I24: 31.99 | J24: 44.02 | K24: Ata SRP Contratação N.º 113728 | L24: 32.73
B25: 2.7 | D25: CARNE BOVINA DE 2ª PALETA, SECA (ISCAS OU MANTA) | E25: KG | F25: =(SUM(I25,J25,L25)/3) -> 36.576667 | G25: NK COMERCIO DE ALIMENTOS EIRELI | H25: =IF(G25=G$167,H$167,H$166) -> 32.575.287/0006-89 | I25: 33.99 | J25: 43.37 | K25: Ata SRP Contratação N.º 113728 | L25: 32.37
B26: 2.8 | D26: CARNE BOVINA DE 2ª MÚSCULO, SECA (ISCAS OU MANTA) | E26: KG | F26: =(SUM(I26,J26,L26)/3) -> 34.87 | G26: NK COMERCIO DE ALIMENTOS EIRELI | H26: =IF(G26=G$167,H$167,H$166) -> 32.575.287/0006-89 | I26: 34.99 | J26: 40.19 | K26: Ata SRP Contratação N.º 113728 | L26: 29.43
B27: 2.9 | D27: CARNE SUÍNA (LOMBO) | E27: KG | F27: =(SUM(I27,J27,L27)/3) -> 27.21 | G27: NK COMERCIO DE ALIMENTOS EIRELI | H27: =IF(G27=G$167,H$167,H$166) -> 32.575.287/0006-89 | I27: 27.99 | J27: 27.42 | K27: Ata SRP Contratação N.º 113728 | L27: 26.22
B28: 2.10 | D28: CARNE SUÍNA (PALETA) | E28: PCT | F28: =(SUM(I28,J28,L28)/3) -> 19.116667 | G28: NK COMERCIO DE ALIMENTOS EIRELI | H28: =IF(G28=G$167,H$167,H$166) -> 32.575.287/0006-89 | I28: 16.99 | J28: 20.07 | K28: Ata SRP Contratação N.º 113728 | L28: 20.29
B29: 2.11 | D29: CARNE SUÍNA (PERNIL) | E29: KG | F29: =(SUM(I29,J29,L29)/3) -> 19.746667 | G29: NK COMERCIO DE ALIMENTOS EIRELI | H29: =IF(G29=G$167,H$167,H$166) -> 32.575.287/0006-89 | I29: 19.99 | J29: 17.93 | K29: Ata SRP Contratação N.º 113728 | L29: 21.32
B30: 2.12 | D30: CHARQUE BOVINO (ISCAS OU MANTA) | E30: KG | F30: =(SUM(I30,J30,L30)/3) -> 43.696667 | G30: NK COMERCIO DE ALIMENTOS EIRELI | H30: =IF(G30=G$167,H$167,H$166) -> 32.575.287/0006-89 | I30: 45.99 | J30: 46.07 | K30: Ata SRP Contratação N.º 113728 | L30: 39.03
... B42: 2.24 | D42: TOUCINHO | E42: KG | F42: =(SUM(I42,J42,L42)/3) -> 19.833333 | G42: NK COMERCIO DE ALIMENTOS EIRELI | H42: =IF(G42=G$167,H$167,H$166) -> 32.575.287/0006-89 | I42: 11.99 | J42: 27.62 | K42: Ata SRP Contratação N.º 113728 | L42: 19.89
D44: GENEROS ALIMENTICIOS | E44: UNIDADE | F44: Preço médio | I44: COMERCIAL DE ALIMENTOS PARQUE SANTA FÉ | J44: BANCO DE PREÇOS | K44: ATA
B45: 3.1 | D45: FILE DE TILÁPIA | E45: KG | F45: =(SUM(I45,J45,L45)/3) -> 50.846667 | G45: COMERCIAL DE ALIMENTOS PARQUE SANTA FÉ | H45: =IF(G45=G$167,H$167,H$166) -> 41.403.240/0001-14 | I45: 69.99 | J45: 40.89 | K45: Ata SRP Contratação N.º 113728 | L45: 41.66
C47: CÓD. SISLOG | D47: GENEROS ALIMENTICIOS | E47: UNIDADE | F47: Preço médio | I47: COMERCIAL DE ALIMENTOS PARQUE SANTA FÉ | J47: BANCO DE PREÇOS | K47: ATA
B48: 4.1 | C48: 4120 | D48: AÇAFRÃO | E48: KG | F48: =(SUM(I48,J48,L48)/3) -> 26.096667 | G48: COMERCIAL DE ALIMENTOS PARQUE SANTA FÉ | H48: =IF(G48=G$167,H$167,H$166) -> 41.403.240/0001-14 | I48: 39.98 | J48: 17.93 | K48: Ata SRP Contratação N.º 113728 | L48: 20.38
B49: 4.2 | C49: 13 | D49: AÇÚCAR CRISTAL 5kg | E49: PCT | F49: =(SUM(I49,J49,L49)/3) -> 21.263333 | G49: COMERCIAL DE ALIMENTOS PARQUE SANTA FÉ | H49: =IF(G49=G$167,H$167,H$166) -> 41.403.240/0001-14 | I49: 26.99 | J49: 17 | K49: Ata SRP Contratação N.º 113728 | L49: 19.8
B50: 4.3 | C50: 498 | D50: AMIDO DE MILHO 500g | E50: PCT | F50: =(SUM(I50,J50,L50)/3) -> 8.29 | G50: NK COMERCIO DE ALIMENTOS EIRELI | H50: =IF(G50=G$167,H$167,H$166) -> 32.575.287/0006-89 | I50: 4.99 | J50: 10.53 | K50: Ata SRP Contratação N.º 113728 | L50: 9.35
B51: 4.4 | C51: 693 | D51: ARROZ TIPO 1 5kg | E51: PCT | F51: =(SUM(I51,J51,L51)/3) -> 25.08 | G51: NK COMERCIO DE ALIMENTOS EIRELI | H51: =IF(G51=G$167,H$167,H$166) -> 32.575.287/0006-89 | I51: 19.99 | J51: 26.8 | K51: Ata SRP Contratação N.º 113728 | L51: 28.45
B52: 4.5 | D52: AVEIA EM FLOCOS 500g | E52: PCT | F52: =(SUM(I52,J52,L52)/3) -> 13.75 | G52: NK COMERCIO DE ALIMENTOS EIRELI | H52: =IF(G52=G$167,H$167,H$166) -> 32.575.287/0006-89 | I52: 15.99 | J52: 12.97 | K52: Ata SRP Contratação N.º 113728 | L52: 12.29
B53: 4.6 | C53: 755 | D53: AZEITE DE OLIVA 500 ml | E53: LT | F53: =(SUM(I53,J53,L53)/3) -> 41.33 | G53: NK COMERCIO DE ALIMENTOS EIRELI | H53: =IF(G53=G$167,H$167,H$166) -> 32.575.287/0006-89 | I53: 44.99 | J53: 38.22 | K53: Ata SRP Contratação N.º 113728 | L53: 40.78
B54: 4.7 | C54: 749 | D54: AZEITONA VERDE 500g | E54: UNIDADE | F54: =(SUM(I54,J54,L54)/3) -> 19.076667 | G54: COMERCIAL DE ALIMENTOS PARQUE SANTA FÉ | H54: =IF(G54=G$167,H$167,H$166) -> 41.403.240/0001-14 | I54: 22.99 | J54: 15.73 | K54: Ata SRP Contratação N.º 113299 | L54: 18.51
B55: 4.8 | C55: 733 | D55: BATATA PALHA 800g | E55: PCT | F55: =(SUM(I55,J55,L55)/3) -> 32.266667 | G55: COMERCIAL DE ALIMENTOS PARQUE SANTA FÉ | H55: =IF(G55=G$167,H$167,H$166) -> 41.403.240/0001-14 | I55: 36.99 | J55: 32.72 | K55: Ata SRP Contratação N.º 113728 | L55: 27.09
B56: 4.9 | D56: CACAU 100% EM PÓ 500g | E56: PCT | F56: =(SUM(I56,J56,L56)/3) -> 33.276667 | G56: NK COMERCIO DE ALIMENTOS EIRELI | H56: =IF(G56=G$167,H$167,H$166) -> 32.575.287/0006-89 | I56: 34.99 | J56: 39.27 | K56: Ata SRP Contratação N.º 113728 | L56: 25.57
B57: 4.10 | D57: COCO RALADO 1kg | E57: PCT | F57: =(SUM(I57,J57,L57)/3) -> 27.406667 | G57: COMERCIAL DE ALIMENTOS PARQUE SANTA FÉ | H57: =IF(G57=G$167,H$167,H$166) -> 41.403.240/0001-14 | I57: 29.99 | J57: 25.31 | K57: Ata SRP Contratação N.º 113728 | L57: 26.92
B58: 4.11 | D58: COLORAU 500g | E58: PCT | F58: =(SUM(I58,J58,L58)/3) -> 12.876667 | G58: COMERCIAL DE ALIMENTOS PARQUE SANTA FÉ | H58: =IF(G58=G$167,H$167,H$166) -> 41.403.240/0001-14 | I58: 18.99 | J58: 6.31 | K58: Ata SRP Contratação N.º 113728 | L58: 13.33
B59: 4.12 | D59: CREME DE LEITE 1kg | E59: UNIDADE | F59: =(SUM(I59,J59,L59)/3) -> 20.376667 | G59: COMERCIAL DE ALIMENTOS PARQUE SANTA FÉ | H59: =IF(G59=G$167,H$167,H$166) -> 41.403.240/0001-14 | I59: 28.99 | J59: 16.44 | K59: Ata SRP Contratação N.º 113728 | L59: 15.7
B60: 4.13 | D60: DOCE BANANINHA CREMOSA 30g | E60: UNIDADE | F60: =(SUM(I60,J60,L60)/3) -> 2.1733333 | G60: COMERCIAL DE ALIMENTOS PARQUE SANTA FÉ | H60: =IF(G60=G$167,H$167,H$166) -> 41.403.240/0001-14 | I60: 3.99 | J60: 0.51 | K60: Ata SRP Contratação N.º 113728 | L60: 2.02
B61: 4.14 | D61: ERVILHA EM CONSERVA 170g | E61: UNIDADE | F61: =(SUM(I61,J61,L61)/3) -> 5.9566667 | G61: COMERCIAL DE ALIMENTOS PARQUE SANTA FÉ | H61: =IF(G61=G$167,H$167,H$166) -> 41.403.240/0001-14 | I61: 6.8 | J61: 4.08 | K61: Ata SRP 002/2025 - CRE Quirinópolis | L61: 6.99
B62: 4.15 | D62: EXTRATO DE TOMATE 1kg | E62: UNIDADE | F62: =(SUM(I62,J62,L62)/3) -> 16.686667 | G62: NK COMERCIO DE ALIMENTOS EIRELI | H62: =IF(G62=G$167,H$167,H$166) -> 32.575.287/0006-89 | I62: 19.99 | J62: 14.28 | K62: Ata SRP Contratação N.º 113728 | L62: 15.79
B63: 4.16 | D63: FARINHA DE AVEIA 500g | E63: PCT | F63: =(SUM(I63,J63,L63)/3) -> 10.066667 | G63: COMERCIAL DE ALIMENTOS PARQUE SANTA FÉ | H63: =IF(G63=G$167,H$167,H$166) -> 41.403.240/0001-14 | I63: 12.9 | J63: 6.59 | K63: Ata SRP Contratação N.º 114651 | L63: 10.71
B64: 4.17 | D64: FARINHA DE MANDIOCA 1kg | E64: PCT | F64: =(SUM(I64,J64,L64)/3) -> 9.1233333 | G64: NK COMERCIO DE ALIMENTOS EIRELI | H64: =IF(G64=G$167,H$167,H$166) -> 32.575.287/0006-89 | I64: 10.99 | J64: 6 | K64: Ata SRP Contratação N.º 113728 | L64: 10.38
B65: 4.18 | D65: FARINHA DE MILHO 500g | E65: PCT | F65: =(SUM(I65,J65,L65)/3) -> 4.6566667 | G65: COMERCIAL DE ALIMENTOS PARQUE SANTA FÉ | H65: =IF(G65=G$167,H$167,H$166) -> 41.403.240/0001-14 | I65: 6.9 | J65: 4.88 | K65: Ata SRP 001/2025 - CRE Ceres | L65: 2.19
B66: 4.19 | D66: FARINHA DE ROSCA 500g | E66: PCT | F66: =(SUM(I66,J66,L66)/3) -> 8.34 | G66: COMERCIAL DE ALIMENTOS PARQUE SANTA FÉ | H66: =IF(G66=G$167,H$167,H$166) -> 41.403.240/0001-14 | I66: 10.5 | J66: 10.95 | K66: Ata SRP 008/2025 - CRE Morrinhos | L66: 3.57
B67: 4.20 | D67: FARINHA DE TRIGO 1kg | E67: PCT | F67: =(SUM(I67,J67,L67)/3) -> 5.7633333 | G67: NK COMERCIO DE ALIMENTOS EIRELI | H67: =IF(G67=G$167,H$167,H$166) -> 32.575.287/0006-89 | I67: 6.99 | J67: 5.22 | K67: Ata SRP Contratação N.º 113728 | L67: 5.08
... B111: 4.65 | D111: VINAGRE 750ml | E111: UNIDADE | F111: =(SUM(I111,J111,L111)/3) -> 5.9466667 | G111: NK COMERCIO DE ALIMENTOS EIRELI | H111: =IF(G111=G$167,H$167,H$166) -> 32.575.287/0006-89 | I111: 6.99 | J111: 4.79 | K111: Ata SRP Contratação N.º 113728 | L111: 6.06
D113: GENEROS ALIMENTICIOS | E113: UNIDADE | F113: Preço médio | I113: COMERCIAL DE ALIMENTOS PARQUE SANTA FÉ | J113: BANCO DE PREÇOS | K113: ATA
B114: 5.1 | D114: ABACATE | E114: KG | F114: =(SUM(I114,J114,L114)/3) -> 9.0533333 | G114: COMERCIAL DE ALIMENTOS PARQUE SANTA FÉ | H114: =IF(G114=G$167,H$167,H$166) -> 41.403.240/0001-14 | I114: 9.99 | J114: 6.9 | K114: Ata SRP Contratação N.º 113728 | L114: 10.27
B115: 5.2 | D115: ABACAXI | E115: UNIDADE MÉDIA | F115: =(SUM(I115,J115,L115)/3) -> 9.28 | G115: COMERCIAL DE ALIMENTOS PARQUE SANTA FÉ | H115: =IF(G115=G$167,H$167,H$166) -> 41.403.240/0001-14 | I115: 9.99 | J115: 10.26 | K115: Ata SRP Contratação N.º 113728 | L115: 7.59
B116: 5.3 | D116: ABOBORA CABUTIÁ | E116: KG | F116: =(SUM(I116,J116,L116)/3) -> 5.7666667 | G116: NK COMERCIO DE ALIMENTOS EIRELI | H116: =IF(G116=G$167,H$167,H$166) -> 32.575.287/0006-89 | I116: 5.99 | J116: 5.21 | K116: Ata SRP Contratação N.º 113728 | L116: 6.1
B117: 5.5 | D117: ABOBRINHA VERDE | E117: KG | F117: =(SUM(I117,J117,L117)/3) -> 6.4233333 | G117: COMERCIAL DE ALIMENTOS PARQUE SANTA FÉ | H117: =IF(G117=G$167,H$167,H$166) -> 41.403.240/0001-14 | I117: 7.89 | J117: 6.2 | K117: Ata SRP Contratação N.º 113497 | L117: 5.18
B118: 5.6 | D118: ACELGA | E118: MAÇO | F118: =(SUM(I118,J118,L118)/3) -> 6.73 | G118: NK COMERCIO DE ALIMENTOS EIRELI | H118: =IF(G118=G$167,H$167,H$166) -> 32.575.287/0006-89 | I118: 5.99 | J118: 7.4 | K118: Ata SRP Contratação N.º 113728 | L118: 6.8
B119: 5.7 | D119: ALFACE AMERICANA | E119: UNIDADE | F119: =(SUM(I119,J119,L119)/3) -> 6.9233333 | G119: NK COMERCIO DE ALIMENTOS EIRELI | H119: =IF(G119=G$167,H$167,H$166) -> 32.575.287/0006-89 | I119: 5.99 | J119: 7.79 | K119: Ata SRP Contratação N.º 113299 | L119: 6.99
B120: 5.8 | D120: ALFACE CRESPA | E120: UNIDADE | F120: =(SUM(I120,J120,L120)/3) -> 6.33 | G120: NK COMERCIO DE ALIMENTOS EIRELI | H120: =IF(G120=G$167,H$167,H$166) -> 32.575.287/0006-89 | I120: 4.99 | J120: 7.53 | K120: Ata SRP Contratação N.º 113728 | L120: 6.47
B121: 5.9 | D121: ALFACE LISA | E121: UNIDADE | F121: =(SUM(I121,J121,L121)/3) -> 6.09 | G121: COMERCIAL DE ALIMENTOS PARQUE SANTA FÉ | H121: =IF(G121=G$167,H$167,H$166) -> 41.403.240/0001-14 | I121: 5.99 | J121: 6.51 | K121: Ata SRP Contratação N.º 114651 | L121: 5.77
B122: 5.10 | D122: ALHO COM CASCA | E122: KG | F122: =(SUM(I122,J122,L122)/3) -> 34.173333 | G122: NK COMERCIO DE ALIMENTOS EIRELI | H122: =IF(G122=G$167,H$167,H$166) -> 32.575.287/0006-89 | I122: 39.99 | J122: 28.37 | K122: Ata SRP Contratação N.º 113728 | L122: 34.16
B123: 5.11 | D123: ALHO DESCASCADO | E123: KG | F123: =(SUM(I123,J123,L123)/3) -> 31.96 | G123: NK COMERCIO DE ALIMENTOS EIRELI | H123: =IF(G123=G$167,H$167,H$166) -> 32.575.287/0006-89 | I123: 40.99 | J123: 25.48 | K123: Ata SRP Contratação N.º 113604 | L123: 29.41
B124: 5.14 | D124: BANANA NANICA | E124: KG | F124: =(SUM(I124,J124,L124)/3) -> 6.8333333 | G124: NK COMERCIO DE ALIMENTOS EIRELI | H124: =IF(G124=G$167,H$167,H$166) -> 32.575.287/0006-89 | I124: 6.99 | J124: 8.82 | K124: Ata SRP Contratação N.º 113604 | L124: 4.69
B125: 5.15 | D125: BANANA PRATA | E125: KG | F125: =(SUM(I125,J125,L125)/3) -> 7.55 | G125: NK COMERCIO DE ALIMENTOS EIRELI | H125: =IF(G125=G$167,H$167,H$166) -> 32.575.287/0006-89 | I125: 7.99 | J125: 9.37 | K125: Ata SRP Contratação N.º 113728 | L125: 5.29
... B160: 5.51 | D160: VAGEM | E160: KG | F160: =(SUM(I160,J160,L160)/3) -> 15.686667 | G160: COMERCIAL DE ALIMENTOS PARQUE SANTA FÉ | H160: =IF(G160=G$167,H$167,H$166) -> 41.403.240/0001-14 | I160: 11.99 | J160: 25.01 | K160: Ata SRP Contratação N.º 113728 | L160: 10.06
D161: =COUNTA(D114:D160) -> 47
G166: NK COMERCIO DE ALIMENTOS EIRELI | H166: 32.575.287/0006-89
G167: COMERCIAL DE ALIMENTOS PARQUE SANTA FÉ | H167: 41.403.240/0001-14

Sheet Processos
A1: Bloco | B1: nº | C1: Mun. | D1: Código | E1: Unidade Escolar | F1: Processo Prévio SEI | G1: Processo SEI
A2: SRP 2025 Bloco 1 CRISTALINA | B2: 1 | C2: Cristalina | D2: 52045617 | E2: CE Adelvina Flores Ribeiro | F2: 202500006133864
B3: 2 | C3: Cristalina | D3: 52092143 | E3: CE Campos Lindos
B4: 3 | C4: Cristalina | D4: 52045641 | E4: CE José de Goiás Brasil
B5: 4 | C5: Cristalina | D5: 52045595 | E5: CE Olga Aguiar Mohn
B6: 5 | C6: Cristalina | D6: 52045633 | E6: CEPI Aurora Attiê
B7: 6 | C7: Cristalina | D7: 52082202 | E7: CEPI Zulca Peixoto de Paiva
A8: SRP 2025 Bloco 2 LUZIÂNIA | B8: 7 | C8: Luziânia | D8: 52047431 | E8: CE Alceu de Araújo Roriz | F8: 202500006133865
B9: 8 | C9: Luziânia | D9: 52047458 | E9: CE Cônego Ramiro
B10: 9 | C10: Luziânia | D10: 52092186 | E10: CE Dona Torinha
B11: 10 | C11: Luziânia | D11: 52047474 | E11: CE Epaminondas Roriz
B12: 11 | C12: Luziânia | D12: 52047210 | E12: CE Professor Antônio Valdir Roriz
B13: 12 | C13: Luziânia | D13: 52047520 | E13: CE Professor Josué Meireles
B14: 13 | C14: Luziânia | D14: 52116409 | E14: CEPI Maria Abadia Salomão
B15: 14 | C15: Luziânia | D15: 52076822 | E15: CEPI Francisco Machado de Araújo
B16: 15 | C16: Luziânia | D16: 52076849 | E16: CE Nair Tiecher
B17: 16 | C17: Luziânia | D17: 52103110 | E17: CEPI Osvaldo da Costa Meireles
B18: 17 | C18: Luziânia | D18: 52047547 | E18: CE Professora Lourdes de O. Sampaio
B19: 18 | C19: Luziânia | D19: 52047504 | E19: CE Padre Dario de Romedis
B20: 19 | C20: Luziânia | D20: 52047270 | E20: CE Professor Antônio Março de Araújo
... B24: 23 | C24: Luziânia | D24: 52047482 | E24: CE Ilídio de Souza Lemos
A25: SRP 2025 Bloco 3 JARDIM DO INGÁ | B25: 24 | C25: Luziânia | D25: 52076857 | E25: CE Osfaya | F25: 202500006133866
B26: 25 | C26: Luziânia | D26: 52103099 | E26: CE Delfino Oclécio Machado
B27: 26 | C27: Luziânia | D27: 52069095 | E27: CE Helena Luzia R. de Queiroz
B28: 27 | C28: Luziânia | D28: 52109321 | E28: CE Hélio Roriz
B29: 28 | C29: Luziânia | D29: 52048730 | E29: CE Mingone
B30: 29 | C30: Luziânia | D30: 52047512 | E30: CE Posto Ipê
B31: 30 | C31: Luziânia | D31: 52047539 | E31: CE Professor José Carneiro Filho
B32: 31 | C32: Luziânia | D32: 52047318 | E32: CE Professora Maria Pereira de Vasconcelos
B33: 32 | C33: Luziânia | D33: 52076830 | E33: CE Vasco dos Reis Gonçalves
B34: 33 | C34: Luziânia | D34: 52103102 | E34: CEPI Hélio Rodrigues de Queiroz
B35: 34 | C35: Luziânia | D35: 52088731 | E35: CEPMG Maria D'Abadia Gomes Meireles Shinohara

Sheet LUZIÂNIA
B2: GENEROS ALIMENTICIOS | C2: UNIDADE | D2: Preço médio | E2: ALCEU | F2: CONEGO | G2: DONA TORINHA | H2: EPAMINONDAS | I2: PE DARIO | J2: LOURDES DE OLIVERA - CEPLOS | K2: ANTONIO MARCO - CEPAMA | L2: ANTONIO VALDIR | M2: JOSUE MEIRELES | N2: ILIDIO | O2: NAIR TIEHCER | P2: VALDERI SANTOS | Q2: CEPI FRANCISCO MACHADO | R2: CEPI MARIA ABADIA SALOMAO | S2: CEPI OSVALDO | T2: CEPI ESTER | U2: CEPMG ELY | V2: SUBTOTAL | W2: MARGEM 50% | X2: TOTAL | Y2: ARRED | Z2: COTA RESERVADA
A3: 1.1 | B3: BISCOITO DE QUEIJO | C3: KG | D3: ='Composição de Preço'!F4 -> 31.76 | E3: 40 | F3: 0 | G3: 0 | H3: 0 | I3: 0 | J3: 0 | K3: 0 | L3: 0 | M3: 0 | N3: 0 | O3: 0 | P3: 70 | Q3: 0 | R3: 0 | S3: 600 | T3: 0 | U3: 0 | V3: =SUM(E3:U3) -> 710 | W3: =V3*0.5 -> 355 | X3: =SUM(V3:W3) -> 1065 | Y3: 1068 | Z3: =Y3/4 -> 267
A4: 1.2 | B4: BOLO PRONTO VÁRIOS SABORES | C4: KG | D4: ='Composição de Preço'!F5 -> 28.976667 | E4: 160 | F4: 300 | G4: 0 | H4: 500 | I4: 0 | J4: 960 | K4: 1250 | L4: 388 | M4: 320 | N4: 0 | O4: 0 | P4: 120 | Q4: 100 | R4: 720 | S4: 800 | T4: 1300 | U4: 800 | V4: =SUM(E4:U4) -> 7718 | W4: =V4*0.5 -> 3859 | X4: =SUM(V4:W4) -> 11577 | Y4: 11580 | Z4: =Y4/4 -> 2895
A5: 1.3 | B5: BROA DE MILHO | C5: KG | D5: ='Composição de Preço'!F6 -> 22.976667 | E5: 0 | F5: 0 | G5: 0 | H5: 0 | I5: 0 | J5: 0 | K5: 0 | L5: 0 | M5: 0 | N5: 0 | O5: 0 | P5: 0 | Q5: 70 | R5: 0 | S5: 800 | T5: 0 | U5: 0 | V5: =SUM(E5:U5) -> 870 | W5: =V5*0.5 -> 435 | X5: =SUM(V5:W5) -> 1305 | Y5: 1308 | Z5: =Y5/4 -> 327
A6: 1.4 | B6: PÃO (CAREQUINHA, MILHO E SOVADO) | C6: KG | D6: ='Composição de Preço'!F7 -> 20.593333 | E6: 0 | F6: 0 | G6: 0 | H6: 0 | I6: 0 | J6: 0 | K6: 0 | L6: 0 | M6: 0 | N6: 0 | O6: 0 | P6: 0 | Q6: 70 | R6: 196 | S6: 800 | T6: 550 | U6: 0 | V6: =SUM(E6:U6) -> 1616 | W6: =V6*0.5 -> 808 | X6: =SUM(V6:W6) -> 2424 | Y6: =X6 -> 2424 | Z6: =Y6/4 -> 606
A7: 1.5 | B7: PÃO CARECA | C7: KG | D7: ='Composição de Preço'!F8 -> 22.2 | E7: 320 | F7: 303 | G7: 0 | H7: 0 | I7: 0 | J7: 960 | K7: 600 | L7: 424 | M7: 320 | N7: 0 | O7: 0 | P7: 80 | Q7: 150 | R7: 420 | S7: 0 | T7: 750 | U7: 0 | V7: =SUM(E7:U7) -> 4327 | W7: =V7*0.5 -> 2163.5 | X7: =SUM(V7:W7) -> 6490.5 | Y7: 6492 | Z7: =Y7/4 -> 1623
A8: 1.6 | B8: PÃO DE FORMA | C8: PCT | D8: ='Composição de Preço'!F9 -> 10.67 | E8: 0 | F8: 0 | G8: 0 | H8: 0 | I8: 0 | J8: 0 | K8: 0 | L8: 0 | M8: 0 | N8: 0 | O8: 0 | P8: 0 | Q8: 100 | R8: 0 | S8: 800 | T8: 0 | U8: 0 | V8: =SUM(E8:U8) -> 900 | W8: =V8*0.5 -> 450 | X8: =SUM(V8:W8) -> 1350 | Y8: 1352 | Z8: =Y8/4 -> 338
A9: 1.7 | B9: PÃO DE QUEIJO | C9: KG | D9: ='Composição de Preço'!F10 -> 26.806667 | E9: 60 | F9: 0 | G9: 180 | H9: 0 | I9: 0 | J9: 140 | K9: 600 | L9: 0 | M9: 0 | N9: 0 | O9: 0 | P9: 0 | Q9: 200 | R9: 464 | S9: 1000 | T9: 1000 | U9: 0 | V9: =SUM(E9:U9) -> 3644 | W9: =V9*0.5 -> 1822 | X9: =SUM(V9:W9) -> 5466 | Y9: 5468 | Z9: =Y9/4 -> 1367
A10: 1.8 | B10: PÃO DOCE | C10: KG | D10: ='Composição de Preço'!F11 -> 25.503333 | E10: 0 | F10: 0 | G10: 0 | H10: 0 | I10: 0 | J10: 0 | K10: 0 | L10: 0 | M10: 0 | N10: 0 | O10: 0 | P10: 0 | Q10: 200 | R10: 60 | S10: 1000 | T10: 1000 | U10: 0 | V10: =SUM(E10:U10) -> 2260 | W10: =V10*0.5 -> 1130 | X10: =SUM(V10:W10) -> 3390 | Y10: 3392 | Z10: =Y10/4 -> 848
A11: 1.9 | B11: PÃO FRANCÊS | C11: KG | D11: ='Composição de Preço'!F12 -> 14.99 | E11: 600 | F11: 300 | G11: 240 | H11: 350 | I11: 880 | J11: 960 | K11: 1200 | L11: 834 | M11: 320 | N11: 167 | O11: 300 | P11: 150 | Q11: 250 | R11: 576 | S11: 1880 | T11: 1350 | U11: 800 | V11: =SUM(E11:U11) -> 11157 | W11: =V11*0.5 -> 5578.5 | X11: =SUM(V11:W11) -> 16735.5 | Y11: 16736 | Z11: =Y11/4 -> 4184
A12: 1.10 | B12: PÃO MANDI | C12: KG | D12: ='Composição de Preço'!F13 -> 22.986667 | E12: 0 | F12: 0 | G12: 0 | H12: 0 | I12: 0 | J12: 0 | K12: 0 | L12: 0 | M12: 0 | N12: 0 | O12: 0 | P12: 0 | Q12: 250 | R12: 312 | S12: 0 | T12: 0 | U12: 0 | V12: =SUM(E12:U12) -> 562 | W12: =V12*0.5 -> 281 | X12: =SUM(V12:W12) -> 843 | Y12: 844 | Z12: =Y12/4 -> 211
A13: 1.11 | B13: ROSCA | C13: KG | D13: ='Composição de Preço'!F14 -> 26.736667 | E13: 600 | F13: 300 | G13: 260 | H13: 500 | I13: 260 | J13: 960 | K13: 800 | L13: 1200 | M13: 320 | N13: 0 | O13: 300 | P13: 120 | Q13: 250 | R13: 650 | S13: 900 | T13: 1200 | U13: 800 | V13: =SUM(E13:U13) -> 9420 | W13: =V13*0.5 -> 4710 | X13: =SUM(V13:W13) -> 14130 | Y13: 14132 | Z13: =Y13/4 -> 3533
A14: 1.12 | B14: TORRADA | C14: KG | D14: ='Composição de Preço'!F15 -> 25.14 | E14: 20 | F14: 0 | G14: 0 | H14: 0 | I14: 0 | J14: 0 | K14: 0 | L14: 0 | M14: 0 | N14: 0 | O14: 0 | P14: 0 | Q14: 200 | R14: 123 | S14: 0 | T14: 0 | U14: 0 | V14: =SUM(E14:U14) -> 343 | W14: =V14*0.5 -> 171.5 | X14: =SUM(V14:W14) -> 514.5 | Y14: 516 | Z14: =Y14/4 -> 129
A15: 1.13 | B15: SONHO | C15: KG | D15: ='Composição de Preço'!F16 -> 24.55 | E15: 40 | F15: 0 | G15: 0 | H15: 0 | I15: 0 | J15: 0 | K15: 0 | L15: 0 | M15: 0 | N15: 0 | O15: 0 | P15: 100 | Q15: 150 | R15: 0 | S15: 400 | T15: 350 | U15: 0 | V15: =SUM(E15:U15) -> 1040 | W15: =V15*0.5 -> 520 | X15: =SUM(V15:W15) -> 1560 | Y15: =X15 -> 1560 | Z15: =Y15/4 -> 390
A16: 2.3 | B16: BACON | C16: KG | D16: ='Composição de Preço'!F19 -> 40.756667 | E16: 36 | F16: 100 | G16: 5 | H16: 60 | I16: 94 | J16: 144 | K16: 279 | L16: 300 | M16: 48 | N16: 0 | O16: 30 | P16: 15 | Q16: 100 | R16: 80 | S16: 300 | T16: 400 | U16: 250 | V16: =SUM(E16:U16) -> 2241 | W16: =V16*0.5 -> 1120.5 | X16: =SUM(V16:W16) -> 3361.5 | Y16: 3364 | Z16: =Y16/4 -> 841
A17: 2.4 | B17: CARNE BOVINA DE 1ª PATINHO (MOÍDA, CUBOS OU ISCAS) | C17: KG | D17: ='Composição de Preço'!F20 -> 38.126667 | E17: 0 | F17: 0 | G17: 0 | H17: 750 | I17: 0 | J17: 0 | K17: 0 | L17: 0 | M17: 0 | N17: 100 | O17: 0 | P17: 0 | Q17: 150 | R17: 0 | S17: 0 | T17: 500 | U17: 0 | V17: =SUM(E17:U17) -> 1500 | W17: =V17*0.5 -> 750 | X17: =SUM(V17:W17) -> 2250 | Y17: 2252 | Z17: =Y17/4 -> 563
A18: 2.5 | B18: CARNE BOVINA DE 2ª ACÉM (MOÍDA, CUBOS OU ISCAS) | C18: KG | D18: ='Composição de Preço'!F21 -> 30.893333 | E18: 760 | F18: 900 | G18: 890 | H18: 600 | I18: 965 | J18: 2900 | K18: 1100 | L18: 2480 | M18: 560 | N18: 260 | O18: 90 | P18: 0 | Q18: 200 | R18: 420 | S18: 1200 | T18: 1000 | U18: 1200 | V18: =SUM(E18:U18) -> 15525 | W18: =V18*0.5 -> 7762.5 | X18: =SUM(V18:W18) -> 23287.5 | Y18: 23288 | Z18: =Y18/4 -> 5822
A19: 2.6 | B19: CARNE BOVINA DE 2ª PALETA (ISCAS OU CUBOS | C19: KG | D19: ='Composição de Preço'!F22 -> 31.28 | E19: 80 | F19: 0 | G19: 0 | H19: 0 | I19: 0 | J19: 0 | K19: 0 | L19: 0 | M19: 0 | N19: 0 | O19: 0 | P19: 0 | Q19: 400 | R19: 0 | S19: 0 | T19: 650 | U19: 0 | V19: =SUM(E19:U19) -> 1130 | W19: =V19*0.5 -> 565 | X19: =SUM(V19:W19) -> 1695 | Y19: 1696 | Z19: =Y19/4 -> 424
A20: 2.7 | B20: CARNE BOVINA DE 2ª MÚSCULO (MOÍDA, CUBOS OU ISCAS) | C20: KG | D20: ='Composição de Preço'!F23 -> 31.643333 | E20: 760 | F20: 901 | G20: 260 | H20: 0 | I20: 0 | J20: 0 | K20: 1300 | L20: 1000 | M20: 410 | N20: 0 | O20: 80 | P20: 500 | Q20: 300 | R20: 360 | S20: 0 | T20: 800 | U20: 0 | V20: =SUM(E20:U20) -> 6671 | W20: =V20*0.5 -> 3335.5 | X20: =SUM(V20:W20) -> 10006.5 | Y20: 10008 | Z20: =Y20/4 -> 2502
A21: 2.8 | B21: CARNE BOVINA DE 2ª ACÉM, SECA (ISCAS OU MANTA) | C21: KG | D21: ='Composição de Preço'!F24 -> 36.246667 | E21: 140 | F21: 0 | G21: 0 | H21: 250 | I21: 286 | J21: 0 | K21: 0 | L21: 0 | M21: 0 | N21: 0 | O21: 0 | P21: 0 | Q21: 300 | R21: 250 | S21: 0 | T21: 650 | U21: 0 | V21: =SUM(E21:U21) -> 1876 | W21: =V21*0.5 -> 938 | X21: =SUM(V21:W21) -> 2814 | Y21: 2816 | Z21: =Y21/4 -> 704
A22: 2.9 | B22: CARNE BOVINA DE 2ª PALETA, SECA (ISCAS OU MANTA) | C22: KG | D22: ='Composição de Preço'!F25 -> 36.576667 | E22: 120 | F22: 0 | G22: 0 | H22: 0 | I22: 0 | J22: 0 | K22: 0 | L22: 0 | M22: 0 | N22: 0 | O22: 0 | P22: 0 | Q22: 300 | R22: 0 | S22: 1200 | T22: 0 | U22: 0 | V22: =SUM(E22:U22) -> 1620 | W22: =V22*0.5 -> 810 | X22: =SUM(V22:W22) -> 2430 | Y22: 2432 | Z22: =Y22/4 -> 608
A23: 2.10 | B23: CARNE BOVINA DE 2ª MÚSCULO, SECA (ISCAS OU MANTA) | C23: KG | D23: ='Composição de Preço'!F26 -> 34.87 | E23: 0 | F23: 0 | G23: 0 | H23: 200 | I23: 0 | J23: 0 | K23: 0 | L23: 0 | M23: 0 | N23: 0 | O23: 0 | P23: 0 | Q23: 300 | R23: 0 | S23: 0 | T23: 0 | U23: 0 | V23: =SUM(E23:U23) -> 500 | W23: =V23*0.5 -> 250 | X23: =SUM(V23:W23) -> 750 | Y23: 752 | Z23: =Y23/4 -> 188
A24: 2.11 | B24: CARNE SUÍNA (LOMBO) | C24: KG | D24: ='Composição de Preço'!F27 -> 27.21 | E24: 0 | F24: 0 | G24: 0 | H24: 0 | I24: 0 | J24: 0 | K24: 0 | L24: 0 | M24: 0 | N24: 0 | O24: 0 | P24: 50 | Q24: 200 | R24: 0 | S24: 0 | T24: 650 | U24: 0 | V24: =SUM(E24:U24) -> 900 | W24: =V24*0.5 -> 450 | X24: =SUM(V24:W24) -> 1350 | Y24: 1352 | Z24: =Y24/4 -> 338
A25: 2.12 | B25: CARNE SUÍNA (PALETA) | C25: PCT | D25: ='Composição de Preço'!F28 -> 19.116667 | E25: 660 | F25: 240 | G25: 240 | H25: 0 | I25: 0 | J25: 0 | K25: 0 | L25: 900 | M25: 0 | N25: 0 | O25: 0 | P25: 0 | Q25: 100 | R25: 450 | S25: 0 | T25: 0 | U25: 0 | V25: =SUM(E25:U25) -> 2590 | W25: =V25*0.5 -> 1295 | X25: =SUM(V25:W25) -> 3885 | Y25: 3888 | Z25: =Y25/4 -> 972
A26: 2.13 | B26: CARNE SUÍNA (PERNIL) | C26: KG | D26: ='Composição de Preço'!F29 -> 19.746667 | E26: 630 | F26: 0 | G26: 0 | H26: 0 | I26: 412 | J26: 660 | K26: 1299 | L26: 0 | M26: 220 | N26: 125 | O26: 100 | P26: 50 | Q26: 0 | R26: 0 | S26: 1300 | T26: 0 | U26: 600 | V26: =SUM(E26:U26) -> 5396 | W26: =V26*0.5 -> 2698 | X26: =SUM(V26:W26) -> 8094 | Y26: 8096 | Z26: =Y26/4 -> 2024
A27: 2.14 | B27: CHARQUE BOVINO (ISCAS OU MANTA) | C27: KG | D27: ='Composição de Preço'!F30 -> 43.696667 | E27: 0 | F27: 0 | G27: 0 | H27: 0 | I27: 0 | J27: 0 | K27: 0 | L27: 0 | M27: 0 | N27: 0 | O27: 0 | P27: 90 | Q27: 0 | R27: 0 | S27: 0 | T27: 0 | U27: 0 | V27: =SUM(E27:U27) -> 90 | W27: =V27*0.5 -> 45 | X27: =SUM(V27:W27) -> 135 | Y27: 136 | Z27: =Y27/4 -> 34
A28: 2.15 | B28: COXA E SOBRE-COXA DE FRANGO | C28: KG | D28: ='Composição de Preço'!F31 -> 15.703333 | E28: 980 | F28: 0 | G28: 420 | H28: 0 | I28: 120 | J28: 0 | K28: 0 | L28: 0 | M28: 0 | N28: 65 | O28: 100 | P28: 400 | Q28: 400 | R28: 350 | S28: 2000 | T28: 500 | U28: 300 | V28: =SUM(E28:U28) -> 5635 | W28: =V28*0.5 -> 2817.5 | X28: =SUM(V28:W28) -> 8452.5 | Y28: 8456 | Z28: =Y28/4 -> 2114
A29: 2.16 | B29: FÍGADO BOVINO | C29: KG | D29: ='Composição de Preço'!F32 -> 17.206667 | E29: 0 | F29: 0 | G29: 0 | H29: 0 | I29: 0 | J29: 0 | K29: 0 | L29: 0 | M29: 0 | N29: 0 | O29: 0 | P29: 0 | Q29: 0 | R29: 0 | S29: 0 | T29: 0 | U29: 0 | V29: =SUM(E29:U29) -> 0 | W29: =V29*0.5 -> 0 | X29: =SUM(V29:W29) -> 0 | Y29: =X29 -> 0 | Z29: =Y29/4 -> 0
A30: 2.17 | B30: FILÉ DE PEITO DE FRANGO | C30: KG | D30: ='Composição de Preço'!F33 -> 22.283333 | E30: 0 | F30: 0 | G30: 0 | H30: 300 | I30: 822 | J30: 0 | K30: 701 | L30: 0 | M30: 0 | N30: 0 | O30: 60 | P30: 0 | Q30: 400 | R30: 245 | S30: 0 | T30: 550 | U30: 0 | V30: =SUM(E30:U30) -> 3078 | W30: =V30*0.5 -> 1539 | X30: =SUM(V30:W30) -> 4617 | Y30: 4620 | Z30: =Y30/4 -> 1155
A31: 2.18 | B31: FILÉZINHO DE FRANGO (SASSAMI) | C31: KG | D31: ='Composição de Preço'!F34 -> 27.916667 | E31: 0 | F31: 0 | G31: 0 | H31: 0 | I31: 0 | J31: 0 | K31: 400 | L31: 0 | M31: 0 | N31: 0 | O31: 0 | P31: 0 | Q31: 400 | R31: 245 | S31: 0 | T31: 1000 | U31: 0 | V31: =SUM(E31:U31) -> 2045 | W31: =V31*0.5 -> 1022.5 | X31: =SUM(V31:W31) -> 3067.5 | Y31: 3068 | Z31: =Y31/4 -> 767
A32: 2.19 | B32: FRANGO INTEIRO | C32: KG | D32: ='Composição de Preço'!F35 -> 11.396667 | E32: 60 | F32: 0 | G32: 0 | H32: 0 | I32: 0 | J32: 0 | K32: 0 | L32: 0 | M32: 0 | N32: 0 | O32: 90 | P32: 200 | Q32: 300 | R32: 50 | S32: 0 | T32: 0 | U32: 0 | V32: =SUM(E32:U32) -> 700 | W32: =V32*0.5 -> 350 | X32: =SUM(V32:W32) -> 1050 | Y32: 1052 | Z32: =Y32/4 -> 263
A33: 2.20 | B33: LINGUIÇA CALABRESA | C33: KG | D33: ='Composição de Preço'!F36 -> 30.686667 | E33: 90 | F33: 200 | G33: 180 | H33: 80 | I33: 90 | J33: 360 | K33: 300 | L33: 800 | M33: 120 | N33: 0 | O33: 60 | P33: 0 | Q33: 50 | R33: 40 | S33: 400 | T33: 400 | U33: 100 | V33: =SUM(E33:U33) -> 3270 | W33: =V33*0.5 -> 1635 | X33: =SUM(V33:W33) -> 4905 | Y33: 4908 | Z33: =Y33/4 -> 1227
A34: 2.21 | B34: LINGUIÇA DE FRANGO | C34: KG | D34: ='Composição de Preço'!F37 -> 21.833333 | E34: 0 | F34: 0 | G34: 0 | H34: 0 | I34: 140 | J34: 0 | K34: 0 | L34: 830 | M34: 0 | N34: 0 | O34: 0 | P34: 0 | Q34: 0 | R34: 55 | T34: 0 | U34: 0 | V34: =SUM(E34:U34) -> 1025 | W34: =V34*0.5 -> 512.5 | X34: =SUM(V34:W34) -> 1537.5 | Y34: 1540 | Z34: =Y34/4 -> 385
A35: 2.22 | B35: LINGUIÇA MISTA | C35: KG | D35: ='Composição de Preço'!F38 -> 19.023333 | E35: 360 | F35: 0 | G35: 250 | H35: 600 | I35: 0 | J35: 0 | K35: 0 | L35: 940 | M35: 0 | N35: 110 | O35: 0 | P35: 120 | Q35: 0 | R35: 0 | S35: 0 | T35: 0 | U35: 0 | V35: =SUM(E35:U35) -> 2380 | W35: =V35*0.5 -> 1190 | X35: =SUM(V35:W35) -> 3570 | Y35: 3572 | Z35: =Y35/4 -> 893
A36: 2.23 | B36: LINGUIÇA TOSCANA | C36: KG | D36: ='Composição de Preço'!F39 -> 17.763333 | E36: 400 | F36: 0 | G36: 0 | H36: 0 | I36: 0 | J36: 0 | K36: 299 | L36: 0 | M36: 0 | N36: 0 | O36: 90 | P36: 0 | Q36: 0 | R36: 50 | S36: 600 | T36: 650 | U36: 350 | V36: =SUM(E36:U36) -> 2439 | W36: =V36*0.5 -> 1219.5 | X36: =SUM(V36:W36) -> 3658.5 | Y36: 3660 | Z36: =Y36/4 -> 915
A37: 2.24 | B37: PEITO DE FRANGO SEM PELE E SEM OSSO | C37: KG | D37: ='Composição de Preço'!F40 -> 18.456667 | E37: 980 | F37: 900 | G37: 650 | H37: 0 | I37: 0 | J37: 1890 | K37: 802 | L37: 2200 | M37: 630 | N37: 175 | O37: 60 | P37: 0 | Q37: 400 | R37: 0 | S37: 1905 | T37: 0 | U37: 1000 | V37: =SUM(E37:U37) -> 11592 | W37: =V37*0.5 -> 5796 | X37: =SUM(V37:W37) -> 17388 | Y37: =X37 -> 17388 | Z37: =Y37/4 -> 4347
A38: 3.1 | B38: SALSICHA | C38: KG | D38: ='Composição de Preço'!F41 -> 12.346667 | E38: 180 | F38: 90 | G38: 90 | H38: 80 | I38: 150 | J38: 390 | K38: 400 | L38: 250 | M38: 130 | N38: 0 | O38: 40 | P38: 60 | Q38: 50 | R38: 100 | S38: 800 | T38: 0 | U38: 150 | V38: =SUM(E38:U38) -> 2960 | W38: =V38*0.5 -> 1480 | X38: =SUM(V38:W38) -> 4440 | Y38: =X38 -> 4440 | Z38: =Y38/4 -> 1110
A39: 4.1 | B39: TOUCINHO | C39: KG | D39: ='Composição de Preço'!F42 -> 19.833333 | E39: 140 | F39: 0 | G39: 0 | H39: 0 | I39: 50 | J39: 0 | K39: 199 | L39: 320 | M39: 0 | N39: 0 | O39: 0 | P39: 0 | Q39: 120 | R39: 0 | S39: 1100 | T39: 300 | U39: 250 | V39: =SUM(E39:U39) -> 2479 | W39: =V39*0.5 -> 1239.5 | X39: =SUM(V39:W39) -> 3718.5 | Y39: 3720 | Z39: =Y39/4 -> 930
A40: 4.4 | B40: FILE DE TILÁPIA | C40: KG | D40: ='Composição de Preço'!F45 -> 50.846667 | E40: 0 | F40: 0 | G40: 0 | H40: 0 | I40: 50 | J40: 0 | K40: 60 | L40: 0 | M40: 0 | N40: 0 | O40: 0 | P40: 0 | Q40: 40 | R40: 0 | S40: 120 | T40: 100 | U40: 0 | V40: =SUM(E40:U40) -> 370 | W40: =V40*0.5 -> 185 | X40: =SUM(V40:W40) -> 555 | Y40: 556 | Z40: =Y40/4 -> 139
A41: 4.7 | B41: AÇAFRÃO | C41: KG | D41: ='Composição de Preço'!F48 -> 26.096667 | E41: 12 | F41: 14 | G41: 0 | H41: 40 | I41: 40 | J41: 45 | K41: 0 | L41: 0 | M41: 15 | N41: 6 | O41: 6 | P41: 40 | Q41: 10 | R41: 0 | S41: 100 | T41: 8 | U41: 150 | V41: =SUM(E41:U41) -> 486 | W41: =V41*0.5 -> 243 | X41: =SUM(V41:W41) -> 729 | Y41: 732 | Z41: =Y41/4 -> 183
A42: 4.8 | B42: AÇÚCAR CRISTAL 5kg | C42: PCT | D42: ='Composição de Preço'!F49 -> 21.263333 | E42: 500 | F42: 400 | G42: 190 | H42: 600 | I42: 200 | J42: 750 | K42: 600 | L42: 950 | M42: 250 | N42: 22 | O42: 30 | P42: 70 | Q42: 200 | R42: 230 | S42: 250 | T42: 750 | U42: 550 | V42: =SUM(E42:U42) -> 6542 | W42: =V42*0.5 -> 3271 | X42: =SUM(V42:W42) -> 9813 | Y42: 9816 | Z42: =Y42/4 -> 2454
A43: 4.9 | B43: AMIDO DE MILHO 500g | C43: PCT | D43: ='Composição de Preço'!F50 -> 8.29 | E43: 60 | F43: 33 | G43: 14 | H43: 0 | I43: 50 | J43: 98 | K43: 400 | L43: 102 | M43: 32 | N43: 22 | O43: 5 | P43: 20 | Q43: 100 | R43: 40 | S43: 300 | T43: 30 | U43: 270 | V43: =SUM(E43:U43) -> 1576 | W43: =V43*0.5 -> 788 | X43: =SUM(V43:W43) -> 2364 | Y43: =X43 -> 2364 | Z43: =Y43/4 -> 591
A44: 4.10 | B44: ARROZ TIPO 1 5kg | C44: PCT | D44: ='Composição de Preço'!F51 -> 25.08 | E44: 1553 | F44: 920 | G44: 700 | H44: 1400 | I44: 680 | J44: 2760 | K44: 1200 | L44: 1320 | M44: 920 | N44: 200 | O44: 40 | P44: 300 | Q44: 144 | R44: 435 | S44: 1200 | T44: 2942 | U44: 1900 | V44: =SUM(E44:U44) -> 18614 | W44: =V44*0.5 -> 9307 | X44: =SUM(V44:W44) -> 27921 | Y44: 27924 | Z44: =Y44/4 -> 6981
A45: 4.11 | B45: AVEIA EM FLOCOS 500g | C45: PCT | D45: ='Composição de Preço'!F52 -> 13.75 | E45: 0 | F45: 0 | G45: 0 | H45: 0 | I45: 0 | J45: 0 | K45: 0 | L45: 0 | M45: 0 | N45: 0 | O45: 0 | P45: 0 | Q45: 0 | R45: 0 | S45: 0 | T45: 0 | U45: 0 | V45: =SUM(E45:U45) -> 0 | W45: =V45*0.5 -> 0 | X45: =SUM(V45:W45) -> 0 | Y45: =X45 -> 0 | Z45: =Y45/4 -> 0
A46: 4.12 | B46: AZEITE DE OLIVA 500 ml | C46: LT | D46: ='Composição de Preço'!F53 -> 41.33 | E46: 10 | F46: 0 | G46: 4 | H46: 0 | I46: 6 | J46: 0 | K46: 60 | L46: 0 | M46: 0 | N46: 2 | O46: 8 | P46: 20 | Q46: 20 | R46: 5 | S46: 80 | T46: 5 | U46: 0 | V46: =SUM(E46:U46) -> 220 | W46: =V46*0.5 -> 110 | X46: =SUM(V46:W46) -> 330 | Y46: 332 | Z46: =Y46/4 -> 83
A47: 4.13 | B47: AZEITONA VERDE 500g | C47: UNIDADE | D47: ='Composição de Preço'!F54 -> 19.076667 | E47: 10 | F47: 0 | G47: 0 | H47: 0 | I47: 0 | J47: 0 | K47: 0 | L47: 0 | M47: 0 | N47: 0 | O47: 0 | P47: 20 | Q47: 0 | R47: 0 | S47: 0 | T47: 30 | U47: 0 | V47: =SUM(E47:U47) -> 60 | W47: =V47*0.5 -> 30 | X47: =SUM(V47:W47) -> 90 | Y47: 92 | Z47: =Y47/4 -> 23
A48: 4.14 | B48: BATATA PALHA 800g | C48: PCT | D48: ='Composição de Preço'!F55 -> 32.266667 | E48: 160 | F48: 60 | G48: 60 | H48: 110 | I48: 90 | J48: 270 | K48: 300 | L48: 142 | M48: 93 | N48: 0 | O48: 40 | P48: 80 | Q48: 144 | R48: 0 | S48: 300 | T48: 40 | U48: 350 | V48: =SUM(E48:U48) -> 2239 | W48: =V48*0.5 -> 1119.5 | X48: =SUM(V48:W48) -> 3358.5 | Y48: 3360 | Z48: =Y48/4 -> 840
A49: 4.15 | B49: CACAU 100% EM PÓ 500g | C49: PCT | D49: ='Composição de Preço'!F56 -> 33.276667 | E49: 60 | F49: 5 | G49: 5 | H49: 80 | I49: 40 | J49: 192 | K49: 300 | L49: 92 | M49: 64 | N49: 0 | O49: 0 | P49: 15 | Q49: 144 | R49: 250 | S49: 150 | T49: 70 | U49: 100 | V49: =SUM(E49:U49) -> 1567 | W49: =V49*0.5 -> 783.5 | X49: =SUM(V49:W49) -> 2350.5 | Y49: 2352 | Z49: =Y49/4 -> 588
A50: 4.16 | B50: COCO RALADO 1kg | C50: PCT | D50: ='Composição de Preço'!F57 -> 27.406667 | E50: 120 | F50: 0 | G50: 0 | H50: 0 | I50: 0 | J50: 0 | K50: 0 | L50: 0 | M50: 0 | N50: 0 | O50: 5 | P50: 8 | Q50: 0 | R50: 0 | S50: 100 | T50: 10 | U50: 0 | V50: =SUM(E50:U50) -> 243 | W50: =V50*0.5 -> 121.5 | X50: =SUM(V50:W50) -> 364.5 | Y50: 368 | Z50: =Y50/4 -> 92
A51: 4.17 | B51: COLORAU 500g | C51: PCT | D51: ='Composição de Preço'!F58 -> 12.876667 | E51: 0 | F51: 20 | G51: 0 | H51: 50 | I51: 4 | J51: 36 | K51: 50 | L51: 100 | M51: 12 | N51: 6 | O51: 10 | P51: 8 | Q51: 10 | R51: 0 | S51: 80 | T51: 6 | U51: 120 | V51: =SUM(E51:U51) -> 512 | W51: =V51*0.5 -> 256 | X51: =SUM(V51:W51) -> 768 | Y51: =X51 -> 768 | Z51: =Y51/4 -> 192
A52: 4.18 | B52: CREME DE LEITE 1kg | C52: UNIDADE | D52: ='Composição de Preço'!F59 -> 20.376667 | E52: 240 | F52: 80 | G52: 80 | H52: 80 | I52: 120 | J52: 290 | K52: 300 | L52: 310 | M52: 96 | N52: 20 | O52: 0 | P52: 50 | Q52: 96 | R52: 60 | S52: 150 | T52: 50 | U52: 380 | V52: =SUM(E52:U52) -> 2402 | W52: =V52*0.5 -> 1201 | X52: =SUM(V52:W52) -> 3603 | Y52: 3604 | Z52: =Y52/4 -> 901
A53: 4.19 | B53: DOCE BANANINHA CREMOSA 30g | C53: UNIDADE | D53: ='Composição de Preço'!F60 -> 2.1733333 | E53: 600 | F53: 0 | G53: 0 | H53: 0 | I53: 0 | J53: 0 | K53: 0 | L53: 0 | M53: 0 | N53: 0 | O53: 0 | P53: 0 | Q53: 0 | R53: 0 | S53: 0 | T53: 0 | U53: 0 | V53: =SUM(E53:U53) -> 600 | W53: =V53*0.5 -> 300 | X53: =SUM(V53:W53) -> 900 | Y53: =X53 -> 900 | Z53: =Y53/4 -> 225
A54: 4.20 | B54: ERVILHA EM CONSERVA 170g | C54: UNIDADE | D54: ='Composição de Preço'!F61 -> 5.9566667 | E54: 0 | F54: 0 | G54: 0 | H54: 0 | I54: 0 | J54: 0 | K54: 0 | L54: 0 | M54: 0 | N54: 4 | O54: 0 | P54: 0 | Q54: 0 | R54: 0 | S54: 40 | T54: 50 | U54: 250 | V54: =SUM(E54:U54) -> 344 | W54: =V54*0.5 -> 172 | X54: =SUM(V54:W54) -> 516 | Y54: =X54 -> 516 | Z54: =Y54/4 -> 129
A55: 4.21 | B55: EXTRATO DE TOMATE 1kg | C55: UNIDADE | D55: ='Composição de Preço'!F62 -> 16.686667 | E55: 200 | F55: 180 | G55: 180 | H55: 100 | I55: 220 | J55: 707 | K55: 400 | L55: 296 | M55: 236 | N55: 40 | O55: 0 | P55: 40 | Q55: 388 | R55: 200 | S55: 180 | T55: 180 | U55: 600 | V55: =SUM(E55:U55) -> 4147 | W55: =V55*0.5 -> 2073.5 | X55: =SUM(V55:W55) -> 6220.5 | Y55: 6224 | Z55: =Y55/4 -> 1556
A56: 4.22 | B56: FARINHA DE AVEIA 500g | C56: PCT | D56: ='Composição de Preço'!F63 -> 10.066667 | E56: 0 | F56: 0 | G56: 0 | H56: 0 | I56: 0 | J56: 0 | K56: 0 | L56: 0 | M56: 0 | N56: 0 | O56: 0 | P56: 0 | Q56: 0 | R56: 0 | S56: 0 | T56: 0 | U56: 0 | V56: =SUM(E56:U56) -> 0 | W56: =V56*0.5 -> 0 | X56: =SUM(V56:W56) -> 0 | Y56: =X56 -> 0 | Z56: =Y56/4 -> 0
A57: 4.23 | B57: FARINHA DE MANDIOCA 1kg | C57: PCT | D57: ='Composição de Preço'!F64 -> 9.1233333 | E57: 320 | F57: 80 | G57: 17 | H57: 20 | I57: 110 | J57: 0 | K57: 300 | L57: 930 | M57: 0 | N57: 10 | O57: 30 | P57: 80 | Q57: 15 | R57: 25 | S57: 160 | T57: 30 | U57: 350 | V57: =SUM(E57:U57) -> 2477 | W57: =V57*0.5 -> 1238.5 | X57: =SUM(V57:W57) -> 3715.5 | Y57: 3716 | Z57: =Y57/4 -> 929
A58: 4.24 | B58: FARINHA DE MILHO 500g | C58: PCT | D58: ='Composição de Preço'!F65 -> 4.6566667 | E58: 0 | F58: 0 | G58: 0 | H58: 0 | I58: 10 | J58: 0 | K58: 50 | L58: 0 | M58: 0 | N58: 0 | O58: 0 | P58: 0 | Q58: 0 | R58: 9 | S58: 150 | T58: 0 | U58: 0 | V58: =SUM(E58:U58) -> 219 | W58: =V58*0.5 -> 109.5 | X58: =SUM(V58:W58) -> 328.5 | Y58: 332 | Z58: =Y58/4 -> 83
A59: 4.25 | B59: FARINHA DE ROSCA 500g | C59: PCT | D59: ='Composição de Preço'!F66 -> 8.34 | E59: 0 | F59: 0 | G59: 0 | H59: 0 | I59: 0 | J59: 0 | K59: 0 | L59: 0 | M59: 0 | N59: 0 | O59: 0 | P59: 0 | Q59: 0 | R59: 8 | S59: 80 | T59: 0 | U59: 0 | V59: =SUM(E59:U59) -> 88 | W59: =V59*0.5 -> 44 | X59: =SUM(V59:W59) -> 132 | Y59: =X59 -> 132 | Z59: =Y59/4 -> 33
A60: 4.26 | B60: FARINHA DE TRIGO 1kg | C60: PCT | D60: ='Composição de Preço'!F67 -> 5.7633333 | E60: 400 | F60: 0 | G60: 10 | H60: 0 | I60: 50 | J60: 0 | K60: 200 | L60: 0 | M60: 0 | N60: 1 | O60: 50 | P60: 0 | Q60: 12 | R60: 8 | S60: 200 | T60: 0 | U60: 0 | V60: =SUM(E60:U60) -> 931 | W60: =V60*0.5 -> 465.5 | X60: =SUM(V60:W60) -> 1396.5 | Y60: 1400 | Z60: =Y60/4 -> 350
A61: 4.27 | B61: FEIJÃO CARIOQUINHA 1kg | C61: PCT | D61: ='Composição de Preço'!F68 -> 7.4533333 | E61: 560 | F61: 320 | G61: 252 | H61: 150 | I61: 300 | J61: 990 | K61: 800 | L61: 1400 | M61: 320 | N61: 78 | O61: 70 | P61: 100 | Q61: 240 | R61: 435 | S61: 800 | T61: 1600 | U61: 830 | V61: =SUM(E61:U61) -> 9245 | W61: =V61*0.5 -> 4622.5 | X61: =SUM(V61:W61) -> 13867.5 | Y61: 13868 | Z61: =Y61/4 -> 3467
A62: 4.28 | B62: FEIJÃO PRETO 1kg | C62: PCT | D62: ='Composição de Preço'!F69 -> 7.7766667 | E62: 380 | F62: 80 | G62: 60 | H62: 100 | I62: 71 | J62: 780 | K62: 450 | L62: 320 | M62: 260 | N62: 30 | O62: 30 | P62: 40 | Q62: 100 | R62: 250 | S62: 360 | T62: 75 | U62: 260 | V62: =SUM(E62:U62) -> 3646 | W62: =V62*0.5 -> 1823 | X62: =SUM(V62:W62) -> 5469 | Y62: 5472 | Z62: =Y62/4 -> 1368
A63: 4.29 | B63: FERMENTO BIOLÓGICO sache 10g | C63: UNIDADE | D63: ='Composição de Preço'!F70 -> 4.48 | E63: 60 | F63: 0 | G63: 0 | H63: 0 | I63: 0 | J63: 0 | K63: 0 | L63: 0 | M63: 0 | N63: 0 | O63: 0 | P63: 0 | Q63: 0 | R63: 0 | S63: 200 | T63: 0 | U63: 0 | V63: =SUM(E63:U63) -> 260 | W63: =V63*0.5 -> 130 | X63: =SUM(V63:W63) -> 390 | Y63: 392 | Z63: =Y63/4 -> 98
A64: 4.30 | B64: FERMENTO QUÍMICO 100g | C64: UNIDADE | D64: ='Composição de Preço'!F71 -> 5.4766667 | E64: 120 | F64: 0 | G64: 0 | H64: 0 | I64: 0 | J64: 0 | K64: 100 | L64: 0 | M64: 0 | N64: 0 | O64: 35 | P64: 0 | Q64: 0 | R64: 0 | S64: 200 | T64: 0 | U64: 0 | V64: =SUM(E64:U64) -> 455 | W64: =V64*0.5 -> 227.5 | X64: =SUM(V64:W64) -> 682.5 | Y64: 684 | Z64: =Y64/4 -> 171
A65: 4.31 | B65: FLOCOS DE MILHO 500g | C65: PCT | D65: ='Composição de Preço'!F72 -> 4.45 | E65: 750 | F65: 500 | G65: 600 | H65: 100 | I65: 700 | J65: 1968 | K65: 900 | L65: 1200 | M65: 656 | N65: 0 | O65: 70 | P65: 300 | Q65: 400 | R65: 250 | S65: 600 | T65: 180 | U65: 1100 | V65: =SUM(E65:U65) -> 10274 | W65: =V65*0.5 -> 5137 | X65: =SUM(V65:W65) -> 15411 | Y65: 15416 | Z65: =Y65/4 -> 3854
A66: 4.33 | B66: FUBÁ MIMOSO 1kg | C66: PCT | D66: ='Composição de Preço'!F73 -> 8.7333333 | E66: 80 | F66: 0 | G66: 0 | H66: 0 | I66: 0 | J66: 0 | K66: 200 | L66: 0 | M66: 0 | N66: 0 | O66: 0 | P66: 0 | Q66: 80 | R66: 0 | S66: 200 | T66: 50 | U66: 0 | V66: =SUM(E66:U66) -> 610 | W66: =V66*0.5 -> 305 | X66: =SUM(V66:W66) -> 915 | Y66: 916 | Z66: =Y66/4 -> 229
A67: 4.34 | B67: GOIABADA 1kg | C67: UNIDADE | D67: ='Composição de Preço'!F74 -> 17.833333 | E67: 0 | F67: 0 | G67: 0 | H67: 0 | I67: 0 | J67: 0 | K67: 0 | L67: 0 | M67: 0 | N67: 0 | O67: 0 | P67: 0 | Q67: 0 | R67: 0 | S67: 0 | T67: 0 | U67: 0 | V67: =SUM(E67:U67) -> 0 | W67: =V67*0.5 -> 0 | X67: =SUM(V67:W67) -> 0 | Y67: =X67 -> 0 | Z67: =Y67/4 -> 0
A68: 4.35 | B68: GRANOLA 1kg | C68: PCT | D68: ='Composição de Preço'!F75 -> 34.396667 | E68: 0 | F68: 0 | G68: 0 | H68: 0 | I68: 0 | J68: 0 | K68: 0 | L68: 0 | M68: 0 | N68: 0 | O68: 0 | P68: 0 | Q68: 0 | R68: 0 | S68: 0 | T68: 10 | U68: 0 | V68: =SUM(E68:U68) -> 10 | W68: =V68*0.5 -> 5 | X68: =SUM(V68:W68) -> 15 | Y68: 16 | Z68: =Y68/4 -> 4
A69: 4.36 | B69: IOGURTE - SABORES VARIADOS 180g | C69: UNIDADE | D69: ='Composição de Preço'!F76 -> 3.6766667 | E69: 0 | F69: 0 | G69: 0 | H69: 200 | I69: 0 | J69: 0 | K69: 0 | L69: 0 | M69: 0 | N69: 0 | O69: 0 | P69: 0 | Q69: 2000 | R69: 0 | S69: 0 | T69: 2000 | U69: 0 | V69: =SUM(E69:U69) -> 4200 | W69: =V69*0.5 -> 2100 | X69: =SUM(V69:W69) -> 6300 | Y69: =X69 -> 6300 | Z69: =Y69/4 -> 1575
A70: 4.37 | B70: IOGURTE - SABORES VARIADOS 1000g | C70: UNIDADE | D70: ='Composição de Preço'!F77 -> 14.886667 | E70: 0 | F70: 0 | G70: 0 | H70: 0 | I70: 0 | J70: 0 | K70: 0 | L70: 0 | M70: 0 | N70: 0 | O70: 0 | P70: 0 | Q70: 0 | R70: 880 | S70: 1000 | T70: 0 | U70: 0 | V70: =SUM(E70:U70) -> 1880 | W70: =V70*0.5 -> 940 | X70: =SUM(V70:W70) -> 2820 | Y70: =X70 -> 2820 | Z70: =Y70/4 -> 705
A71: 4.38 | B71: LEITE DE COCO 500ml | C71: UNIDADE | D71: ='Composição de Preço'!F78 -> 10.366667 | E71: 20 | F71: 0 | G71: 4 | H71: 0 | I71: 30 | J71: 0 | K71: 20 | L71: 0 | M71: 0 | N71: 0 | O71: 0 | P71: 0 | Q71: 0 | R71: 0 | S71: 50 | T71: 0 | U71: 0 | V71: =SUM(E71:U71) -> 124 | W71: =V71*0.5 -> 62 | X71: =SUM(V71:W71) -> 186 | Y71: 188 | Z71: =Y71/4 -> 47
A72: 4.39 | B72: LEITE DE VACA INTEGRAL UHT | C72: LITRO | D72: ='Composição de Preço'!F79 -> 6.3666667 | E72: 900 | F72: 500 | G72: 250 | H72: 300 | I72: 2400 | J72: 940 | K72: 1800 | L72: 1950 | M72: 520 | N72: 160 | O72: 100 | P72: 210 | Q72: 1200 | R72: 4000 | S72: 1800 | T72: 2957 | U72: 700 | V72: =SUM(E72:U72) -> 20687 | W72: =V72*0.5 -> 10343.5 | X72: =SUM(V72:W72) -> 31030.5 | Y72: 31032 | Z72: =Y72/4 -> 7758
A73: 4.40 | B73: LEITE DE VACA UHT ZERO LACTOSE | C73: LITRO | D73: ='Composição de Preço'!F80 -> 7.6366667 | E73: 40 | F73: 0 | G73: 10 | H73: 0 | I73: 0 | J73: 0 | K73: 0 | L73: 0 | M73: 0 | N73: 0 | O73: 0 | P73: 0 | Q73: 0 | R73: 0 | S73: 80 | T73: 0 | U73: 200 | V73: =SUM(E73:U73) -> 330 | W73: =V73*0.5 -> 165 | X73: =SUM(V73:W73) -> 495 | Y73: 496 | Z73: =Y73/4 -> 124
A74: 4.41 | B74: LEITE EM PÓ 400g | C74: UNIDADE | D74: ='Composição de Preço'!F81 -> 23.856667 | E74: 0 | F74: 0 | G74: 0 | H74: 0 | I74: 0 | J74: 0 | K74: 0 | L74: 0 | M74: 0 | N74: 0 | O74: 0 | P74: 0 | Q74: 0 | R74: 0 | S74: 0 | T74: 0 | U74: 0 | V74: =SUM(E74:U74) -> 0 | W74: =V74*0.5 -> 0 | X74: =SUM(V74:W74) -> 0 | Y74: =X74 -> 0 | Z74: =Y74/4 -> 0
A75: 4.42 | B75: LEITE EM PÓ 800g | C75: UNIDADE | D75: ='Composição de Preço'!F82 -> 41.033333 | E75: 0 | F75: 0 | G75: 0 | H75: 0 | I75: 0 | J75: 0 | K75: 0 | L75: 0 | M75: 0 | N75: 0 | O75: 0 | P75: 0 | Q75: 0 | R75: 0 | S75: 0 | T75: 0 | U75: 0 | V75: =SUM(E75:U75) -> 0 | W75: =V75*0.5 -> 0 | X75: =SUM(V75:W75) -> 0 | Y75: =X75 -> 0 | Z75: =Y75/4 -> 0
A76: 4.43 | B76: LEITE TIPO C | C76: LITRO | D76: ='Composição de Preço'!F83 -> 7.3333333 | E76: 0 | F76: 0 | G76: 0 | H76: 0 | I76: 0 | J76: 0 | K76: 0 | L76: 0 | M76: 0 | N76: 0 | O76: 0 | P76: 0 | Q76: 0 | R76: 0 | S76: 0 | T76: 0 | U76: 0 | V76: =SUM(E76:U76) -> 0 | W76: =V76*0.5 -> 0 | X76: =SUM(V76:W76) -> 0 | Y76: =X76 -> 0 | Z76: =Y76/4 -> 0
A77: 4.44 | B77: MACARRÃO TIPO CONCHINHA 1kg | C77: PCT | D77: ='Composição de Preço'!F84 -> 8.5866667 | E77: 0 | F77: 0 | G77: 0 | H77: 0 | I77: 0 | J77: 0 | K77: 0 | L77: 0 | M77: 0 | N77: 0 | O77: 0 | P77: 0 | Q77: 100 | R77: 0 | S77: 0 | T77: 0 | U77: 0 | V77: =SUM(E77:U77) -> 100 | W77: =V77*0.5 -> 50 | X77: =SUM(V77:W77) -> 150 | Y77: 152 | Z77: =Y77/4 -> 38
A78: 4.45 | B78: MACARRÃO TIPO ESPAGUETE 1kg | C78: PCT | D78: ='Composição de Preço'!F85 -> 9.27 | E78: 160 | F78: 0 | G78: 0 | H78: 0 | I78: 0 | J78: 0 | K78: 0 | L78: 0 | M78: 0 | N78: 0 | O78: 0 | P78: 80 | Q78: 90 | R78: 200 | S78: 300 | T78: 150 | U78: 0 | V78: =SUM(E78:U78) -> 980 | W78: =V78*0.5 -> 490 | X78: =SUM(V78:W78) -> 1470 | Y78: 1472 | Z78: =Y78/4 -> 368
A79: 4.46 | B79: MACARRÃO TIPO PARAFUSO 1kg | C79: PCT | D79: ='Composição de Preço'!F86 -> 8.83 | E79: 600 | F79: 520 | G79: 700 | H79: 300 | I79: 600 | J79: 1960 | K79: 0 | L79: 2220 | M79: 652 | N79: 180 | O79: 0 | P79: 80 | Q79: 400 | R79: 206 | S79: 300 | T79: 150 | U79: 800 | V79: =SUM(E79:U79) -> 9668 | W79: =V79*0.5 -> 4834 | X79: =SUM(V79:W79) -> 14502 | Y79: 14504 | Z79: =Y79/4 -> 3626
A80: 4.47 | B80: MACARRÃO PARA LASANHA 500g | C80: PCT | D80: ='Composição de Preço'!F87 -> 9.6633333 | E80: 0 | F80: 0 | G80: 43 | H80: 0 | I80: 0 | J80: 0 | K80: 300 | L80: 0 | M80: 0 | N80: 10 | O80: 0 | P80: 0 | Q80: 0 | R80: 10 | S80: 0 | T80: 0 | U80: 0 | V80: =SUM(E80:U80) -> 363 | W80: =V80*0.5 -> 181.5 | X80: =SUM(V80:W80) -> 544.5 | Y80: 548 | Z80: =Y80/4 -> 137
A81: 4.48 | B81: MACARRÃO TIPO PENNE 500kg | C81: PCT | D81: ='Composição de Preço'!F88 -> 5.13 | E81: 400 | F81: 0 | G81: 0 | H81: 0 | I81: 30 | J81: 0 | K81: 1000 | L81: 0 | M81: 0 | N81: 0 | O81: 120 | P81: 0 | Q81: 150 | R81: 0 | S81: 300 | T81: 0 | U81: 500 | V81: =SUM(E81:U81) -> 2500 | W81: =V81*0.5 -> 1250 | X81: =SUM(V81:W81) -> 3750 | Y81: 3752 | Z81: =Y81/4 -> 938
A82: 4.49 | B82: MANDIOCA DESCASCADA CONGELADA | C82: PCT | D82: ='Composição de Preço'!F89 -> 8.4233333 | E82: 0 | F82: 100 | G82: 60 | H82: 0 | I82: 200 | J82: 840 | K82: 0 | L82: 0 | M82: 280 | N82: 70 | O82: 0 | P82: 100 | Q82: 80 | R82: 10 | S82: 300 | T82: 50 | U82: 240 | V82: =SUM(E82:U82) -> 2330 | W82: =V82*0.5 -> 1165 | X82: =SUM(V82:W82) -> 3495 | Y82: 3496 | Z82: =Y82/4 -> 874
A83: 4.50 | B83: MANTEIGA 500g | C83: UNIDADE | D83: ='Composição de Preço'!F90 -> 32.363333 | E83: 20 | F83: 0 | G83: 0 | H83: 20 | I83: 0 | J83: 0 | K83: 0 | L83: 0 | M83: 0 | N83: 0 | O83: 0 | P83: 10 | Q83: 100 | R83: 100 | S83: 150 | T83: 50 | U83: 0 | V83: =SUM(E83:U83) -> 450 | W83: =V83*0.5 -> 225 | X83: =SUM(V83:W83) -> 675 | Y83: 676 | Z83: =Y83/4 -> 169
A84: 4.51 | B84: MARGARINA COM SAL 1kg | C84: UNIDADE | D84: ='Composição de Preço'!F91 -> 17.156667 | E84: 80 | F84: 80 | G84: 50 | H84: 0 | I84: 270 | J84: 110 | K84: 150 | L84: 249 | M84: 96 | N84: 12 | O84: 10 | P84: 20 | Q84: 100 | R84: 130 | S84: 200 | T84: 80 | U84: 380 | V84: =SUM(E84:U84) -> 2017 | W84: =V84*0.5 -> 1008.5 | X84: =SUM(V84:W84) -> 3025.5 | Y84: 3028 | Z84: =Y84/4 -> 757
A85: 4.52 | B85: MILHO PARA CANJICA BRANCO 500g | C85: PCT | D85: ='Composição de Preço'!F92 -> 5.6166667 | E85: 40 | F85: 0 | G85: 0 | H85: 0 | I85: 0 | J85: 0 | K85: 0 | L85: 0 | M85: 0 | N85: 0 | O85: 0 | P85: 0 | Q85: 0 | R85: 0 | S85: 0 | T85: 0 | U85: 0 | V85: =SUM(E85:U85) -> 40 | W85: =V85*0.5 -> 20 | X85: =SUM(V85:W85) -> 60 | Y85: =X85 -> 60 | Z85: =Y85/4 -> 15
A86: 4.53 | B86: MILHO PARA CANJICA AMARELO 500g | C86: PCT | D86: ='Composição de Preço'!F93 -> 3.66 | E86: 0 | F86: 0 | G86: 0 | H86: 0 | I86: 0 | J86: 0 | K86: 0 | L86: 0 | M86: 0 | N86: 0 | O86: 0 | P86: 0 | Q86: 0 | R86: 0 | S86: 0 | T86: 0 | U86: 0 | V86: =SUM(E86:U86) -> 0 | W86: =V86*0.5 -> 0 | X86: =SUM(V86:W86) -> 0 | Y86: =X86 -> 0 | Z86: =Y86/4 -> 0
A87: 4.54 | B87: MILHO PARA PIPOCA 500g | C87: PCT | D87: ='Composição de Preço'!F94 -> 5.1333333 | E87: 40 | F87: 0 | G87: 0 | H87: 0 | I87: 0 | J87: 0 | K87: 0 | L87: 0 | M87: 0 | N87: 0 | O87: 0 | P87: 0 | Q87: 0 | R87: 0 | S87: 200 | T87: 50 | U87: 0 | V87: =SUM(E87:U87) -> 290 | W87: =V87*0.5 -> 145 | X87: =SUM(V87:W87) -> 435 | Y87: 436 | Z87: =Y87/4 -> 109
A88: 4.55 | B88: MILHO VERDE EM CONSERVA 1,7kg | C88: UNIDADE | D88: ='Composição de Preço'!F95 -> 25.61 | E88: 100 | F88: 0 | G88: 0 | H88: 80 | I88: 0 | J88: 0 | K88: 500 | L88: 0 | M88: 160 | N88: 0 | O88: 0 | P88: 40 | Q88: 96 | R88: 174 | S88: 150 | T88: 30 | U88: 450 | V88: =SUM(E88:U88) -> 1780 | W88: =V88*0.5 -> 890 | X88: =SUM(V88:W88) -> 2670 | Y88: 2672 | Z88: =Y88/4 -> 668
A89: 4.56 | B89: MOLHO DE TOMATE 1kg | C89: UNIDADE | D89: ='Composição de Preço'!F96 -> 15.49 | E89: 0 | F89: 0 | G89: 0 | H89: 0 | I89: 0 | J89: 0 | K89: 0 | L89: 0 | M89: 0 | N89: 0 | O89: 90 | P89: 50 | Q89: 100 | R89: 0 | S89: 0 | T89: 180 | U89: 0 | V89: =SUM(E89:U89) -> 420 | W89: =V89*0.5 -> 210 | X89: =SUM(V89:W89) -> 630 | Y89: 632 | Z89: =Y89/4 -> 158
A90: 4.57 | B90: ÓLEO VEGETAL (SOJA) | C90: LITRO | D90: ='Composição de Preço'!F97 -> 8.6766667 | E90: 720 | F90: 240 | G90: 200 | H90: 200 | I90: 155 | J90: 1140 | K90: 360 | L90: 600 | M90: 381 | N90: 35 | O90: 100 | P90: 60 | Q90: 348 | R90: 290 | S90: 400 | T90: 850 | U90: 500 | V90: =SUM(E90:U90) -> 6579 | W90: =V90*0.5 -> 3289.5 | X90: =SUM(V90:W90) -> 9868.5 | Y90: 9872 | Z90: =Y90/4 -> 2468
A91: 4.58 | B91: OVOS DE GALINHA | C91: DUZIA | D91: ='Composição de Preço'!F98 -> 11.913333 | E91: 800 | F91: 156 | G91: 156 | H91: 100 | I91: 220 | J91: 190 | K91: 1400 | L91: 390 | M91: 210 | N91: 12 | O91: 80 | P91: 180 | Q91: 30 | R91: 50 | S91: 200 | T91: 100 | U91: 600 | V91: =SUM(E91:U91) -> 4874 | W91: =V91*0.5 -> 2437 | X91: =SUM(V91:W91) -> 7311 | Y91: 7312 | Z91: =Y91/4 -> 1828
A92: 4.59 | B92: POLPA DE FRUTAS – VARIOS SABORES | C92: KG | D92: ='Composição de Preço'!F99 -> 23.496667 | E92: 600 | F92: 900 | G92: 1600 | H92: 400 | I92: 780 | J92: 950 | K92: 2000 | L92: 1120 | M92: 520 | N92: 30 | O92: 80 | P92: 210 | Q92: 4000 | R92: 600 | S92: 1800 | T92: 8000 | U92: 500 | V92: =SUM(E92:U92) -> 24090 | W92: =V92*0.5 -> 12045 | X92: =SUM(V92:W92) -> 36135 | Y92: 36136 | Z92: =Y92/4 -> 9034
A93: 4.60 | B93: POLPA DE FRUTAS - PEQUI | C93: UN 260g | D93: ='Composição de Preço'!F100 -> 22.46 | E93: 40 | F93: 20 | G93: 10 | H93: 10 | I93: 20 | J93: 0 | K93: 60 | L93: 80 | M93: 0 | N93: 0 | O93: 0 | P93: 0 | Q93: 50 | R93: 15 | S93: 100 | T93: 30 | U93: 150 | V93: =SUM(E93:U93) -> 585 | W93: =V93*0.5 -> 292.5 | X93: =SUM(V93:W93) -> 877.5 | Y93: 880 | Z93: =Y93/4 -> 220
A94: 4.61 | B94: POLVILHO DOCE 500G | C94: PCT | D94: ='Composição de Preço'!F101 -> 9.1566667 | E94: 40 | F94: 0 | G94: 0 | H94: 0 | I94: 0 | J94: 0 | K94: 0 | L94: 0 | M94: 0 | N94: 0 | O94: 0 | P94: 0 | Q94: 0 | R94: 0 | S94: 200 | T94: 0 | U94: 0 | V94: =SUM(E94:U94) -> 240 | W94: =V94*0.5 -> 120 | X94: =SUM(V94:W94) -> 360 | Y94: =X94 -> 360 | Z94: =Y94/4 -> 90
A95: 4.62 | B95: PRESUNTO | C95: KG | D95: ='Composição de Preço'!F102 -> 37.39 | E95: 20 | F95: 0 | G95: 0 | H95: 80 | I95: 0 | J95: 0 | K95: 0 | L95: 0 | M95: 0 | N95: 0 | O95: 0 | P95: 0 | Q95: 15 | R95: 0 | S95: 90 | T95: 50 | U95: 0 | V95: =SUM(E95:U95) -> 255 | W95: =V95*0.5 -> 127.5 | X95: =SUM(V95:W95) -> 382.5 | Y95: 384 | Z95: =Y95/4 -> 96
A96: 4.63 | B96: QUEIJO MUSSARELA | C96: KG | D96: ='Composição de Preço'!F103 -> 49.7 | E96: 20 | F96: 0 | G96: 30 | H96: 80 | I96: 80 | J96: 0 | K96: 300 | L96: 0 | M96: 0 | N96: 0 | O96: 30 | P96: 70 | Q96: 15 | R96: 10 | S96: 100 | T96: 0 | U96: 300 | V96: =SUM(E96:U96) -> 1035 | W96: =V96*0.5 -> 517.5 | X96: =SUM(V96:W96) -> 1552.5 | Y96: 1556 | Z96: =Y96/4 -> 389
A97: 4.64 | B97: QUEIJO MINAS CURADO RALADO | C97: KG | D97: ='Composição de Preço'!F104 -> 55.256667 | E97: 6 | F97: 0 | G97: 0 | H97: 0 | I97: 0 | J97: 0 | K97: 0 | L97: 0 | M97: 0 | N97: 1 | O97: 0 | P97: 0 | Q97: 20 | R97: 0 | S97: 3800 | T97: 50 | U97: 0 | V97: =SUM(E97:U97) -> 3877 | W97: =V97*0.5 -> 1938.5 | X97: =SUM(V97:W97) -> 5815.5 | Y97: 5816 | Z97: =Y97/4 -> 1454
A98: 4.65 | B98: RAPADURINHA 25g | C98: UNIDADE | D98: ='Composição de Preço'!F105 -> 2.1966667 | E98: 0 | F98: 0 | G98: 0 | H98: 0 | I98: 0 | J98: 0 | K98: 0 | L98: 0 | M98: 0 | N98: 0 | O98: 0 | P98: 0 | Q98: 2000 | R98: 0 | S98: 200 | T98: 0 | U98: 0 | V98: =SUM(E98:U98) -> 2200 | W98: =V98*0.5 -> 1100 | X98: =SUM(V98:W98) -> 3300 | Y98: =X98 -> 3300 | Z98: =Y98/4 -> 825
A99: 5.1 | B99: REQUEIJÃO 400g | C99: UNIDADE | D99: ='Composição de Preço'!F106 -> 16.1 | E99: 20 | F99: 0 | G99: 0 | H99: 40 | I99: 0 | J99: 0 | K99: 0 | L99: 0 | M99: 0 | N99: 0 | O99: 0 | P99: 0 | Q99: 150 | R99: 180 | S99: 100 | T99: 100 | U99: 0 | V99: =SUM(E99:U99) -> 590 | W99: =V99*0.5 -> 295 | X99: =SUM(V99:W99) -> 885 | Y99: 888 | Z99: =Y99/4 -> 222
A100: 5.2 | B100: SAL | C100: PCT | D100: ='Composição de Preço'!F107 -> 3.1066667 | E100: 120 | F100: 160 | G100: 100 | H100: 80 | I100: 101 | J100: 360 | K100: 300 | L100: 360 | M100: 120 | N100: 25 | O100: 40 | P100: 50 | Q100: 80 | R100: 174 | S100: 400 | T100: 218 | U100: 300 | V100: =SUM(E100:U100) -> 2988 | W100: =V100*0.5 -> 1494 | X100: =SUM(V100:W100) -> 4482 | Y100: 484 | Z100: =Y100/4 -> 121
A101: 5.3 | B101: CONCENTRADO DE FRUTA (SUCO) VÁRIOS SABORES – 1000 ml | C101: UNIDADE | D101: ='Composição de Preço'!F108 -> 14.99 | E101: 400 | F101: 895 | G101: 1990 | H101: 400 | I101: 1600 | J101: 1200 | K101: 1200 | L101: 1865 | M101: 372 | N101: 170 | O101: 70 | P101: 100 | Q101: 400 | R101: 3643 | S101: 1500 | T101: 3500 | U101: 2100 | V101: =SUM(E101:U101) -> 21405 | W101: =V101*0.5 -> 10702.5 | X101: =SUM(V101:W101) -> 32107.5 | Y101: 32108 | Z101: =Y101/4 -> 8027
...
