Workbook

Sheet lançamento_CRISTALINA
A2: gfadgasgadg | C2: COD. SISLOG | D2: GENEROS ALIMENTICIOS | E2: UNIDADE | G2: QTDE | H2: COTA RESERVADA | I2: Preço médio | J2: MERCADO | M2: BANCO DE PREÇOS | N2: ATA | Q2: LOTE GERAL | R2: Valor | S2: LOTE ME/EPP | T2: Valor
J3: FORNECEDOR | K3: CNPJ | L3: VALOR | N3: ATA | O3: VALOR
A4: 2 | B4: =D4=#REF! -> #REF! | C4: 730 | D4: BISCOITO DE QUEIJO | E4: KG | F4: =G4-H4 -> 801 | G4: =LUZIÂNIA!Y3 -> 1068 | H4: =LUZIÂNIA!Z3 -> 267 | I4: 29.23 | J4: NK COMERCIO DE ALIMENTOS EIRELI | K4: =IF(J4=J$167,K$167,K$166) -> 32.575.287/0006-89 | L4: 32.99 | M4: 28.54 | N4: Ata SRP Contratação N.º 113497 | O4: 26.16 | Q4: =G4-H4 -> 801 | R4: =Q4*I4 -> 23413.23 | S4: =H4 -> 267 | T4: =S4*I4 -> 7804.41
A5: 3 | B5: =D5=#REF! -> #REF! | C5: 713 | D5: BOLO PRONTO VÁRIOS SABORES | E5: KG | F5: =G5-H5 -> 8685 | G5: =LUZIÂNIA!Y4 -> 11580 | H5: =LUZIÂNIA!Z4 -> 2895 | I5: 31.57 | J5: COMERCIAL DE ALIMENTOS PARQUE SANTA FÉ | K5: =IF(J5=J$167,K$167,K$166) -> 41.403.240/0001-14 | L5: 35.99 | M5: 33.3 | N5: Ata SRP Contratação N.º 113497 | O5: 25.43 | Q5: =G5-H5 -> 8685 | R5: =Q5*I5 -> 274185.45 | S5: =H5 -> 2895 | T5: =S5*I5 -> 91395.15
A6: 4 | B6: =D6=#REF! -> #REF! | C6: 730 | D6: BROA DE MILHO | E6: KG | F6: =G6-H6 -> 981 | G6: =LUZIÂNIA!Y5 -> 1308 | H6: =LUZIÂNIA!Z5 -> 327 | I6: 28.82 | J6: COMERCIAL DE ALIMENTOS PARQUE SANTA FÉ | K6: =IF(J6=J$167,K$167,K$166) -> 41.403.240/0001-14 | L6: 26.99 | M6: 34.46 | N6: Ata SRP Contratação N.º 113519 | O6: 25 | Q6: =G6-H6 -> 981 | R6: =Q6*I6 -> 28272.42 | S6: =H6 -> 327 | T6: =S6*I6 -> 9424.14
A7: 8 | B7: =D7=#REF! -> #REF! | C7: 100 | D7: PÃO (CAREQUINHA, MILHO E SOVADO) | E7: KG | F7: =G7-H7 -> 1818 | G7: =LUZIÂNIA!Y6 -> 2424 | H7: =LUZIÂNIA!Z6 -> 606 | I7: 25.95 | J7: COMERCIAL DE ALIMENTOS PARQUE SANTA FÉ | K7: =IF(J7=J$167,K$167,K$166) -> 41.403.240/0001-14 | L7: 27.99 | M7: 29.33 | N7: Ata SRP Contratação N.º 113497 | O7: 20.52 | Q7: =G7-H7 -> 1818 | R7: =Q7*I7 -> 47177.1 | S7: =H7 -> 606 | T7: =S7*I7 -> 15725.7
A8: 9 | B8: =D8=#REF! -> #REF! | C8: 100 | D8: PÃO CARECA | E8: KG | F8: =G8-H8 -> 4869 | G8: =LUZIÂNIA!Y7 -> 6492 | H8: =LUZIÂNIA!Z7 -> 1623 | I8: 26.34 | J8: COMERCIAL DE ALIMENTOS PARQUE SANTA FÉ | K8: =IF(J8=J$167,K$167,K$166) -> 41.403.240/0001-14 | L8: 27.99 | M8: 29.33 | N8: Ata SRP Contratação N.º 113497 | O8: 21.7 | Q8: =G8-H8 -> 4869 | R8: =Q8*I8 -> 128249.46 | S8: =H8 -> 1623 | T8: =S8*I8 -> 42749.82
A9: 11 | B9: =D9=#REF! -> #REF! | C9: 100 | D9: PÃO DE FORMA | E9: PCT | F9: =G9-H9 -> 1014 | G9: =LUZIÂNIA!Y8 -> 1352 | H9: =LUZIÂNIA!Z8 -> 338 | I9: 12.56 | J9: COMERCIAL DE ALIMENTOS PARQUE SANTA FÉ | K9: =IF(J9=J$167,K$167,K$166) -> 41.403.240/0001-14 | L9: 12.99 | M9: 13.16 | N9: Ata SRP Contratação N.º 113728 | O9: 11.53 | Q9: =G9-H9 -> 1014 | R9: =Q9*I9 -> 12735.84 | S9: =H9 -> 338 | T9: =S9*I9 -> 4245.28
A10: 12 | B10: =D10=#REF! -> #REF! | C10: 730 | D10: PÃO DE QUEIJO | E10: KG | F10: =G10-H10 -> 4101 | G10: =LUZIÂNIA!Y9 -> 5468 | H10: =LUZIÂNIA!Z9 -> 1367 | I10: 32.75 | J10: NK COMERCIO DE ALIMENTOS EIRELI | K10: =IF(J10=J$167,K$167,K$166) -> 32.575.287/0006-89 | L10: 24.99 | M10: 46.55 | N10: Ata SRP Contratação N.º 113497 | O10: 26.72 | Q10: =G10-H10 -> 4101 | R10: =Q10*I10 -> 134307.75 | S10: =H10 -> 1367 | T10: =S10*I10 -> 44769.25
A11: 13 | B11: =D11=#REF! -> #REF! | C11: 100 | D11: PÃO DOCE | E11: KG | F11: =G11-H11 -> 2544 | G11: =LUZIÂNIA!Y10 -> 3392 | H11: =LUZIÂNIA!Z10 -> 848 | I11: 25.5 | J11: COMERCIAL DE ALIMENTOS PARQUE SANTA FÉ | K11: =IF(J11=J$167,K$167,K$166) -> 41.403.240/0001-14 | L11: 24.99 | M11: 32.57 | N11: Ata SRP Contratação N.º 113497 | O11: 18.95 | Q11: =G11-H11 -> 2544 | R11: =Q11*I11 -> 64872 | S11: =H11 -> 848 | T11: =S11*I11 -> 21624
A12: 14 | B12: =D12=#REF! -> #REF! | C12: 100 | D12: PÃO FRANCÊS | E12: KG | F12: =G12-H12 -> 12552 | G12: =LUZIÂNIA!Y11 -> 16736 | H12: =LUZIÂNIA!Z11 -> 4184 | I12: 18.74 | J12: NK COMERCIO DE ALIMENTOS EIRELI | K12: =IF(J12=J$167,K$167,K$166) -> 32.575.287/0006-89 | L12: 15.99 | M12: 23.27 | N12: 0 | O12: 16.97 | Q12: =G12-H12 -> 12552 | R12: =Q12*I12 -> 235224.48 | S12: =H12 -> 4184 | T12: =S12*I12 -> 78408.16
A13: 15 | B13: =D13=#REF! -> #REF! | C13: 100 | D13: PÃO MANDI | E13: KG | F13: =G13-H13 -> 633 | G13: =LUZIÂNIA!Y12 -> 844 | H13: =LUZIÂNIA!Z12 -> 211 | I13: 24.75 | J13: NK COMERCIO DE ALIMENTOS EIRELI | K13: =IF(J13=J$167,K$167,K$166) -> 32.575.287/0006-89 | L13: 27.99 | M13: 24.92 | N13: Ata SRP Contratação N.º 113497 | O13: 21.33 | Q13: =G13-H13 -> 633 | R13: =Q13*I13 -> 15666.75 | S13: =H13 -> 211 | T13: =S13*I13 -> 5222.25
A14: 16 | B14: =D14=#REF! -> #REF! | C14: 711 | D14: ROSCA | E14: KG | F14: =G14-H14 -> 10599 | G14: =LUZIÂNIA!Y13 -> 14132 | H14: =LUZIÂNIA!Z13 -> 3533 | I14: 26.74 | J14: COMERCIAL DE ALIMENTOS PARQUE SANTA FÉ | K14: =IF(J14=J$167,K$167,K$166) -> 41.403.240/0001-14 | L14: 25.99 | M14: 32.6 | N14: Ata SRP Contratação N.º 113497 | O14: 21.62 | Q14: =G14-H14 -> 10599 | R14: =Q14*I14 -> 283417.26 | S14: =H14 -> 3533 | T14: =S14*I14 -> 94472.42
A15: 17 | B15: =D15=#REF! -> #REF! | C15: 100 | D15: TORRADA | E15: KG | F15: =G15-H15 -> 387 | G15: =LUZIÂNIA!Y14 -> 516 | H15: =LUZIÂNIA!Z14 -> 129 | I15: 25.14 | J15: NK COMERCIO DE ALIMENTOS EIRELI | K15: =IF(J15=J$167,K$167,K$166) -> 32.575.287/0006-89 | L15: 26.99 | M15: 28.22 | N15: Ata SRP Contratação N.º 113497 | O15: 20.21 | Q15: =G15-H15 -> 387 | R15: =Q15*I15 -> 9729.18 | S15: =H15 -> 129 | T15: =S15*I15 -> 3243.06
A16: 18 | B16: =D16=#REF! -> #REF! | D16: SONHO | E16: KG | F16: =G16-H16 -> 1170 | G16: =LUZIÂNIA!Y15 -> 1560 | H16: =LUZIÂNIA!Z15 -> 390 | I16: 24.55 | J16: EDVALDO DE MELO E CIA LTDA | K16: 01.158.819/0001-44 | L16: 33.9 | M16: 8.4 | N16: Ata SRP Contratação N.º 113728 | O16: 31.35 | Q16: =G16-H16 -> 1170 | R16: =Q16*I16 -> 28723.5 | S16: =H16 -> 390 | T16: =S16*I16 -> 9574.5
R17: =SUM(R4:R16) -> 1285974.4 | T17: =SUM(T4:T16) -> 428658.14
A18: ITEM | D18: GENEROS ALIMENTICIOS | E18: UNIDADE | I18: Preço médio | L18: COMERCIAL DE ALIMENTOS PARQUE SANTA FÉ | M18: BANCO DE PREÇOS | O18: ATA
A19: 1 | B19: 2.1 | D19: BACON | E19: KG | G19: =LUZIÂNIA!Y16 -> 3364 | H19: =LUZIÂNIA!Z16 -> 841 | I19: 40.76 | J19: NK COMERCIO DE ALIMENTOS EIRELI | K19: =IF(J19=J$167,K$167,K$166) -> 32.575.287/0006-89 | L19: 49.99 | M19: 33.46 | N19: Ata SRP Contratação N.º 113728 | O19: 38.82 | Q19: =G19-H19 -> 2523 | R19: =Q19*I19 -> 102837.48 | S19: =H19 -> 841 | T19: =S19*I19 -> 34279.16
A20: 3 | B20: 2.2 | D20: CARNE BOVINA DE 1ª PATINHO (MOÍDA, CUBOS OU ISCAS) | E20: KG | G20: =LUZIÂNIA!Y17 -> 2252 | H20: =LUZIÂNIA!Z17 -> 563 | I20: 38.13 | J20: NK COMERCIO DE ALIMENTOS EIRELI | K20: =IF(J20=J$167,K$167,K$166) -> 32.575.287/0006-89 | L20: 39.99 | M20: 39.22 | N20: Ata SRP Contratação N.º 113728 | O20: 35.17 | Q20: =G20-H20 -> 1689 | R20: =Q20*I20 -> 64401.57 | S20: =H20 -> 563 | T20: =S20*I20 -> 21467.19
A21: 4 | B21: 2.3 | D21: CARNE BOVINA DE 2ª ACÉM (MOÍDA, CUBOS OU ISCAS) | E21: KG | G21: =LUZIÂNIA!Y18 -> 23288 | H21: =LUZIÂNIA!Z18 -> 5822 | I21: 30.89 | J21: NK COMERCIO DE ALIMENTOS EIRELI | K21: =IF(J21=J$167,K$167,K$166) -> 32.575.287/0006-89 | L21: 30.99 | M21: 33.04 | N21: Ata SRP Contratação N.º 113728 | O21: 28.65 | Q21: =G21-H21 -> 17466 | R21: =Q21*I21 -> 539524.74 | S21: =H21 -> 5822 | T21: =S21*I21 -> 179841.58
A22: 5 | B22: 2.4 | D22: CARNE BOVINA DE 2ª PALETA (ISCAS OU CUBOS | E22: KG | G22: =LUZIÂNIA!Y19 -> 1696 | H22: =LUZIÂNIA!Z19 -> 424 | I22: 31.28 | J22: NK COMERCIO DE ALIMENTOS EIRELI | K22: =IF(J22=J$167,K$167,K$166) -> 32.575.287/0006-89 | L22: 34.99 | M22: 26.12 | N22: Ata SRP Contratação N.º 113728 | O22: 32.73 | Q22: =G22-H22 -> 1272 | R22: =Q22*I22 -> 39788.16 | S22: =H22 -> 424 | T22: =S22*I22 -> 13262.72
A23: 6 | B23: 2.5 | D23: CARNE BOVINA DE 2ª MÚSCULO (MOÍDA, CUBOS OU ISCAS) | E23: KG | G23: =LUZIÂNIA!Y20 -> 10008 | H23: =LUZIÂNIA!Z20 -> 2502 | I23: 31.64 | J23: NK COMERCIO DE ALIMENTOS EIRELI | K23: =IF(J23=J$167,K$167,K$166) -> 32.575.287/0006-89 | L23: 33.99 | M23: 32.31 | N23: Ata SRP Contratação N.º 113728 | O23: 28.63 | Q23: =G23-H23 -> 7506 | R23: =Q23*I23 -> 237489.84 | S23: =H23 -> 2502 | T23: =S23*I23 -> 79163.28
A24: 7 | B24: 2.6 | D24: CARNE BOVINA DE 2ª ACÉM, SECA (ISCAS OU MANTA) | E24: KG | G24: =LUZIÂNIA!Y21 -> 2816 | H24: =LUZIÂNIA!Z21 -> 704 | I24: 36.25 | J24: NK COMERCIO DE ALIMENTOS EIRELI | K24: =IF(J24=J$167,K$167,K$166) -> 32.575.287/0006-89 | L24: 31.99 | M24: 44.02 | N24: Ata SRP Contratação N.º 113728 | O24: 32.73 | Q24: =G24-H24 -> 2112 | R24: =Q24*I24 -> 76560 | S24: =H24 -> 704 | T24: =S24*I24 -> 25520
A25: 8 | B25: 2.7 | D25: CARNE BOVINA DE 2ª PALETA, SECA (ISCAS OU MANTA) | E25: KG | G25: =LUZIÂNIA!Y22 -> 2432 | H25: =LUZIÂNIA!Z22 -> 608 | I25: 36.58 | J25: NK COMERCIO DE ALIMENTOS EIRELI | K25: =IF(J25=J$167,K$167,K$166) -> 32.575.287/0006-89 | L25: 33.99 | M25: 43.37 | N25: Ata SRP Contratação N.º 113728 | O25: 32.37 | Q25: =G25-H25 -> 1824 | R25: =Q25*I25 -> 66721.92 | S25: =H25 -> 608 | T25: =S25*I25 -> 22240.64
A26: 9 | B26: 2.8 | D26: CARNE BOVINA DE 2ª MÚSCULO, SECA (ISCAS OU MANTA) | E26: KG | G26: =LUZIÂNIA!Y23 -> 752 | H26: =LUZIÂNIA!Z23 -> 188 | I26: 34.87 | J26: NK COMERCIO DE ALIMENTOS EIRELI | K26: =IF(J26=J$167,K$167,K$166) -> 32.575.287/0006-89 | L26: 34.99 | M26: 40.19 | N26: Ata SRP Contratação N.º 113728 | O26: 29.43 | Q26: =G26-H26 -> 564 | R26: =Q26*I26 -> 19666.68 | S26: =H26 -> 188 | T26: =S26*I26 -> 6555.56
A27: 10 | B27: 2.9 | D27: CARNE SUÍNA (LOMBO) | E27: KG | G27: =LUZIÂNIA!Y24 -> 1352 | H27: =LUZIÂNIA!Z24 -> 338 | I27: 27.21 | J27: NK COMERCIO DE ALIMENTOS EIRELI | K27: =IF(J27=J$167,K$167,K$166) -> 32.575.287/0006-89 | L27: 27.99 | M27: 27.42 | N27: Ata SRP Contratação N.º 113728 | O27: 26.22 | Q27: =G27-H27 -> 1014 | R27: =Q27*I27 -> 27590.94 | S27: =H27 -> 338 | T27: =S27*I27 -> 9196.98
A28: 11 | B28: 2.10 | D28: CARNE SUÍNA (PALETA) | E28: PCT | G28: =LUZIÂNIA!Y25 -> 3888 | H28: =LUZIÂNIA!Z25 -> 972 | I28: 19.12 | J28: NK COMERCIO DE ALIMENTOS EIRELI | K28: =IF(J28=J$167,K$167,K$166) -> 32.575.287/0006-89 | L28: 16.99 | M28: 20.07 | N28: Ata SRP Contratação N.º 113728 | O28: 20.29 | Q28: =G28-H28 -> 2916 | R28: =Q28*I28 -> 55753.92 | S28: =H28 -> 972 | T28: =S28*I28 -> 18584.64
A29: 12 | B29: 2.11 | D29: CARNE SUÍNA (PERNIL) | E29: KG | G29: =LUZIÂNIA!Y26 -> 8096 | H29: =LUZIÂNIA!Z26 -> 2024 | I29: 19.75 | J29: NK COMERCIO DE ALIMENTOS EIRELI | K29: =IF(J29=J$167,K$167,K$166) -> 32.575.287/0006-89 | L29: 19.99 | M29: 17.93 | N29: Ata SRP Contratação N.º 113728 | O29: 21.32 | Q29: =G29-H29 -> 6072 | R29: =Q29*I29 -> 119922 | S29: =H29 -> 2024 | T29: =S29*I29 -> 39974
A30: 13 | B30: 2.12 | D30: CHARQUE BOVINO (ISCAS OU MANTA) | E30: KG | G30: =LUZIÂNIA!Y27 -> 136 | H30: =LUZIÂNIA!Z27 -> 34 | I30: 43.7 | J30: NK COMERCIO DE ALIMENTOS EIRELI | K30: =IF(J30=J$167,K$167,K$166) -> 32.575.287/0006-89 | L30: 45.99 | M30: 46.07 | N30: Ata SRP Contratação N.º 113728 | O30: 39.03 | Q30: =G30-H30 -> 102 | R30: =Q30*I30 -> 4457.4 | S30: =H30 -> 34 | T30: =S30*I30 -> 1485.8
A31: 14 | B31: 2.13 | D31: COXA E SOBRE-COXA DE FRANGO | E31: KG | G31: =LUZIÂNIA!Y28 -> 8456 | H31: =LUZIÂNIA!Z28 -> 2114 | I31: 15.7 | J31: NK COMERCIO DE ALIMENTOS EIRELI | K31: =IF(J31=J$167,K$167,K$166) -> 32.575.287/0006-89 | L31: 20.99 | M31: 12.48 | N31: Ata SRP Contratação N.º 113728 | O31: 13.64 | Q31: =G31-H31 -> 6342 | R31: =Q31*I31 -> 99569.4 | S31: =H31 -> 2114 | T31: =S31*I31 -> 33189.8
B32: 2.14 | D32: FÍGADO BOVINO | E32: KG | G32: =LUZIÂNIA!Y29 -> 0 | H32: =LUZIÂNIA!Z29 -> 0 | I32: 17.21 | J32: COMERCIAL DE ALIMENTOS PARQUE SANTA FÉ | K32: =IF(J32=J$167,K$167,K$166) -> 41.403.240/0001-14 | L32: 21.99 | M32: 16.83 | N32: Ata SRP Contratação N.º 113299 | O32: 12.8 | Q32: =G32-H32 -> 0 | R32: =Q32*I32 -> 0 | S32: =H32 -> 0 | T32: =S32*I32 -> 0
A33: 16 | B33: 2.15 | D33: FILÉ DE PEITO DE FRANGO | E33: KG | G33: =LUZIÂNIA!Y30 -> 4620 | H33: =LUZIÂNIA!Z30 -> 1155 | I33: 22.28 | J33: NK COMERCIO DE ALIMENTOS EIRELI | K33: =IF(J33=J$167,K$167,K$166) -> 32.575.287/0006-89 | L33: 26.99 | M33: 18.22 | N33: Ata SRP Contratação N.º 113728 | O33: 21.64 | Q33: =G33-H33 -> 3465 | R33: =Q33*I33 -> 77200.2 | S33: =H33 -> 1155 | T33: =S33*I33 -> 25733.4
A34: 17 | B34: 2.16 | D34: FILÉZINHO DE FRANGO (SASSAMI) | E34: KG | G34: =LUZIÂNIA!Y31 -> 3068 | H34: =LUZIÂNIA!Z31 -> 767 | I34: 27.92 | J34: NK COMERCIO DE ALIMENTOS EIRELI | K34: =IF(J34=J$167,K$167,K$166) -> 32.575.287/0006-89 | L34: 32.99 | M34: 26.4 | N34: Ata SRP Contratação N.º 113728 | O34: 24.36 | Q34: =G34-H34 -> 2301 | R34: =Q34*I34 -> 64243.92 | S34: =H34 -> 767 | T34: =S34*I34 -> 21414.64
A35: 18 | B35: 2.17 | D35: FRANGO INTEIRO | E35: KG | G35: =LUZIÂNIA!Y32 -> 1052 | H35: =LUZIÂNIA!Z32 -> 263 | I35: 11.4 | J35: NK COMERCIO DE ALIMENTOS EIRELI | K35: =IF(J35=J$167,K$167,K$166) -> 32.575.287/0006-89 | L35: 9.98 | M35: 14.25 | N35: Ata SRP Contratação N.º 113728 | O35: 9.96 | Q35: =G35-H35 -> 789 | R35: =Q35*I35 -> 8994.6 | S35: =H35 -> 263 | T35: =S35*I35 -> 2998.2
B36: 2.18 | D36: LINGUIÇA CALABRESA | E36: KG | G36: =LUZIÂNIA!Y33 -> 4908 | H36: =LUZIÂNIA!Z33 -> 1227 | I36: 30.69 | J36: NK COMERCIO DE ALIMENTOS EIRELI | K36: =IF(J36=J$167,K$167,K$166) -> 32.575.287/0006-89 | L36: 34.99 | M36: 28.02 | N36: Ata SRP Contratação N.º 113728 | O36: 29.05 | Q36: =G36-H36 -> 3681 | R36: =Q36*I36 -> 112969.89 | S36: =H36 -> 1227 | T36: =S36*I36 -> 37656.63
A37: 19 | B37: 2.19 | D37: LINGUIÇA DE FRANGO | E37: KG | G37: =LUZIÂNIA!Y34 -> 1540 | H37: =LUZIÂNIA!Z34 -> 385 | I37: 21.83 | J37: NK COMERCIO DE ALIMENTOS EIRELI | K37: =IF(J37=J$167,K$167,K$166) -> 32.575.287/0006-89 | L37: 21.99 | M37: 23.46 | N37: Ata SRP Contratação N.º 113728 | O37: 20.05 | Q37: =G37-H37 -> 1155 | R37: =Q37*I37 -> 25213.65 | S37: =H37 -> 385 | T37: =S37*I37 -> 8404.55
A38: 20 | B38: 2.20 | D38: LINGUIÇA MISTA | E38: KG | G38: =LUZIÂNIA!Y35 -> 3572 | H38: =LUZIÂNIA!Z35 -> 893 | I38: 19.02 | J38: COMERCIAL DE ALIMENTOS PARQUE SANTA FÉ | K38: =IF(J38=J$167,K$167,K$166) -> 41.403.240/0001-14 | L38: 19.99 | M38: 17.74 | N38: Ata SRP Contratação N.º 113728 | O38: 19.34 | Q38: =G38-H38 -> 2679 | R38: =Q38*I38 -> 50954.58 | S38: =H38 -> 893 | T38: =S38*I38 -> 16984.86
A39: 21 | B39: 2.21 | D39: LINGUIÇA TOSCANA | E39: KG | G39: =LUZIÂNIA!Y36 -> 3660 | H39: =LUZIÂNIA!Z36 -> 915 | I39: 17.76 | J39: NK COMERCIO DE ALIMENTOS EIRELI | K39: =IF(J39=J$167,K$167,K$166) -> 32.575.287/0006-89 | L39: 14.98 | M39: 19.24 | N39: Ata SRP Contratação N.º 113728 | O39: 19.07 | Q39: =G39-H39 -> 2745 | R39: =Q39*I39 -> 48751.2 | S39: =H39 -> 915 | T39: =S39*I39 -> 16250.4
A40: 24 | B40: 2.22 | D40: PEITO DE FRANGO SEM PELE E SEM OSSO | E40: KG | G40: =LUZIÂNIA!Y37 -> 17388 | H40: =LUZIÂNIA!Z37 -> 4347 | I40: 18.46 | J40: NK COMERCIO DE ALIMENTOS EIRELI | K40: =IF(J40=J$167,K$167,K$166) -> 32.575.287/0006-89 | L40: 16.99 | M40: 17.29 | N40: Ata SRP Contratação N.º 113728 | O40: 21.09 | Q40: =G40-H40 -> 13041 | R40: =Q40*I40 -> 240736.86 | S40: =H40 -> 4347 | T40: =S40*I40 -> 80245.62
A41: 97 | B41: 2.23 | D41: SALSICHA | E41: KG | G41: =LUZIÂNIA!Y38 -> 4440 | H41: =LUZIÂNIA!Z38 -> 1110 | I41: 12.35 | J41: NK COMERCIO DE ALIMENTOS EIRELI | K41: =IF(J41=J$167,K$167,K$166) -> 32.575.287/0006-89 | L41: 3.49 | M41: 21.19 | N41: Ata SRP Contratação N.º 113728 | O41: 12.36 | Q41: =G41-H41 -> 3330 | R41: =Q41*I41 -> 41125.5 | S41: =H41 -> 1110 | T41: =S41*I41 -> 13708.5
...

Sheet Composição de Preço
C2: COD. SISLOG | D2: GENEROS ALIMENTICIOS | E2: UNIDADE | F2: Preço médio | G2: MERCADO | J2: BANCO DE PREÇOS | K2: ATA
G3: FORNECEDOR | H3: CNPJ | I3: VALOR | K3: ATA | L3: VALOR
B4: =D4=#REF! -> #REF! | C4: 730 | D4: BISCOITO DE QUEIJO | E4: KG | F4: =(SUM(I4,J4,L4)/3) -> 31.76 | G4: NK COMERCIO DE ALIMENTOS EIRELI | H4: =IF(G4=G$167,H$167,H$166) -> 32.575.287/0006-89 | I4: 32.99 | J4: 36.13 | K4: Ata SRP Contratação N.º 113497 | L4: 26.16
B5: =D5=#REF! -> #REF! | C5: 713 | D5: BOLO PRONTO VÁRIOS SABORES | E5: KG | F5: =(SUM(I5,J5,L5)/3) -> 28.976667 | G5: COMERCIAL DE ALIMENTOS PARQUE SANTA FÉ | H5: =IF(G5=G$167,H$167,H$166) -> 41.403.240/0001-14 | I5: 35.99 | J5: 25.51 | K5: Ata SRP Contratação N.º 113497 | L5: 25.43
B6: =D6=#REF! -> #REF! | C6: 730 | D6: BROA DE MILHO | E6: KG | F6: =(SUM(I6,J6,L6)/3) -> 22.976667 | G6: COMERCIAL DE ALIMENTOS PARQUE SANTA FÉ | H6: =IF(G6=G$167,H$167,H$166) -> 41.403.240/0001-14 | I6: 26.99 | J6: 16.94 | K6: Ata SRP Contratação N.º 113519 | L6: 25
B7: =D7=#REF! -> #REF! | C7: 100 | D7: PÃO (CAREQUINHA, MILHO E SOVADO) | E7: KG | F7: =(SUM(I7,J7,L7)/3) -> 20.593333 | G7: COMERCIAL DE ALIMENTOS PARQUE SANTA FÉ | H7: =IF(G7=G$167,H$167,H$166) -> 41.403.240/0001-14 | I7: 27.99 | J7: 13.27 | K7: Ata SRP Contratação N.º 113497 | L7: 20.52
B8: =D8=#REF! -> #REF! | C8: 100 | D8: PÃO CARECA | E8: KG | F8: =(SUM(I8,J8,L8)/3) -> 22.2 | G8: COMERCIAL DE ALIMENTOS PARQUE SANTA FÉ | H8: =IF(G8=G$167,H$167,H$166) -> 41.403.240/0001-14 | I8: 27.99 | J8: 16.91 | K8: Ata SRP Contratação N.º 113497 | L8: 21.7
B9: =D9=#REF! -> #REF! | C9: 100 | D9: PÃO DE FORMA | E9: PCT | F9: =(SUM(I9,J9,L9)/3) -> 10.67 | G9: COMERCIAL DE ALIMENTOS PARQUE SANTA FÉ | H9: =IF(G9=G$167,H$167,H$166) -> 41.403.240/0001-14 | I9: 12.99 | J9: 7.49 | K9: Ata SRP Contratação N.º 113728 | L9: 11.53
B10: =D10=#REF! -> #REF! | C10: 730 | D10: PÃO DE QUEIJO | E10: KG | F10: =(SUM(I10,J10,L10)/3) -> 26.806667 | G10: NK COMERCIO DE ALIMENTOS EIRELI | H10: =IF(G10=G$167,H$167,H$166) -> 32.575.287/0006-89 | I10: 24.99 | J10: 28.71 | K10: Ata SRP Contratação N.º 113497 | L10: 26.72
B11: =D11=#REF! -> #REF! | C11: 100 | D11: PÃO DOCE | E11: KG | F11: =(SUM(I11,J11,L11)/3) -> 25.503333 | G11: COMERCIAL DE ALIMENTOS PARQUE SANTA FÉ | H11: =IF(G11=G$167,H$167,H$166) -> 41.403.240/0001-14 | I11: 24.99 | J11: 32.57 | K11: Ata SRP Contratação N.º 113497 | L11: 18.95
B12: =D12=#REF! -> #REF! | C12: 100 | D12: PÃO FRANCÊS | E12: KG | F12: =(SUM(I12,J12,L12)/3) -> 14.99 | G12: NK COMERCIO DE ALIMENTOS EIRELI | H12: =IF(G12=G$167,H$167,H$166) -> 32.575.287/0006-89 | I12: 15.99 | J12: 12.01 | K12: Ata SRP Contratação N.º 113497 | L12: 16.97
B13: =D13=#REF! -> #REF! | C13: 100 | D13: PÃO MANDI | E13: KG | F13: =(SUM(I13,J13,L13)/3) -> 22.986667 | G13: NK COMERCIO DE ALIMENTOS EIRELI | H13: =IF(G13=G$167,H$167,H$166) -> 32.575.287/0006-89 | I13: 27.99 | J13: 19.64 | K13: Ata SRP Contratação N.º 113497 | L13: 21.33
B14: =D14=#REF! -> #REF! | C14: 711 | D14: ROSCA | E14: KG | F14: =(SUM(I14,J14,L14)/3) -> 26.736667 | G14: COMERCIAL DE ALIMENTOS PARQUE SANTA FÉ | H14: =IF(G14=G$167,H$167,H$166) -> 41.403.240/0001-14 | I14: 25.99 | J14: 32.6 | K14: Ata SRP Contratação N.º 113497 | L14: 21.62
B15: =D15=#REF! -> #REF! | C15: 100 | D15: TORRADA | E15: KG | F15: =(SUM(I15,J15,L15)/3) -> 25.14 | G15: NK COMERCIO DE ALIMENTOS EIRELI | H15: =IF(G15=G$167,H$167,H$166) -> 32.575.287/0006-89 | I15: 26.99 | J15: 28.22 | K15: Ata SRP Contratação N.º 113497 | L15: 20.21
B16: =D16=#REF! -> #REF! | D16: SONHO | E16: KG | F16: =(SUM(I16,J16,L16)/3) -> 24.55 | G16: EDVALDO DE MELO E CIA LTDA | H16: 01.158.819/0001-44 | I16: 33.9 | J16: 8.4 | K16: Ata SRP Contratação N.º 113728 | L16: 31.35
D18: GENEROS ALIMENTICIOS | E18: UNIDADE | F18: Preço médio | I18: COMERCIAL DE ALIMENTOS PARQUE SANTA FÉ | J18: BANCO DE PREÇOS | L18: ATA
B19: 2.1 | D19: BACON | E19: KG | F19: =(SUM(I19,J19,L19)/3) -> 40.756667 | G19: NK COMERCIO DE ALIMENTOS EIRELI | H19: =IF(G19=G$167,H$167,H$166) -> 32.575.287/0006-89 | I19: 49.99 | J19: 33.46 | K19: Ata SRP Contratação N.º 113728 | L19: 38.82
B20: 2.2 | D20: CARNE BOVINA DE 1ª PATINHO (MOÍDA, CUBOS OU ISCAS) | E20: KG | F20: =(SUM(I20,J20,L20)/3) -> 38.126667 | G20: NK COMERCIO DE ALIMENTOS EIRELI | H20: =IF(G20=G$167,H$167,H$166) -> 32.575.287/0006-89 | I20: 39.99 | J20: 39.22 | K20: Ata SRP Contratação N.º 113728 | L20: 35.17
B21: 2.3 | D21: CARNE BOVINA DE 2ª ACÉM (MOÍDA, CUBOS OU ISCAS) | E21: KG | F21: =(SUM(I21,J21,L21)/3) -> 30.893333 | G21: NK COMERCIO DE ALIMENTOS EIRELI | H21: =IF(G21=G$167,H$167,H$166) -> 32.575.287/0006-89 | I21: 30.99 | J21: 33.04 | K21: Ata SRP Contratação N.º 113728 | L21: 28.65
B22: 2.4 | D22: CARNE BOVINA DE 2ª PALETA (ISCAS OU CUBOS | E22: KG | F22: =(SUM(I22,J22,L22)/3) -> 31.28 | G22: NK COMERCIO DE ALIMENTOS EIRELI | H22: =IF(G22=G$167,H$167,H$166) -> 32.575.287/0006-89 | I22: 34.99 | J22: 26.12 | K22: Ata SRP Contratação N.º 113728 | L22: 32.73
B23: 2.5 | D23: CARNE BOVINA DE 2ª MÚSCULO (MOÍDA, CUBOS OU ISCAS) | E23: KG | F23: =(SUM(I23,J23,L23)/3) -> 31.643333 | G23: NK COMERCIO DE ALIMENTOS EIRELI | H23: =IF(G23=G$167,H$167,H$166) -> 32.575.287/0006-89 | I23: 33.99 | J23: 32.31 | K23: Ata SRP Contratação N.º 113728 | L23: 28.63
B24: 2.6 | D24: CARNE BOVINA DE 2ª ACÉM, SECA (ISCAS OU MANTA) | E24: KG | F24: =(SUM(I24,J24,L24)/3) -> 36.246667 | G24: NK COMERCIO DE ALIMENTOS EIRELI | H24: =IF(G24=G$167,H$167,H$166) -> 32.575.287/0006-89 | I24: 31.99 | J24: 44.02 | K24: Ata SRP Contratação N.º 113728 | L24: 32.73
B25: 2.7 | D25: CARNE BOVINA DE 2ª PALETA, SECA (ISCAS OU MANTA) | E25: KG | F25: =(SUM(I25,J25,L25)/3) -> 36.576667 | G25: NK COMERCIO DE ALIMENTOS EIRELI | H25: =IF(G25=G$167,H$167,H$166) -> 32.575.287/0006-89 | I25: 33.99 | J25: 43.37 | K25: Ata SRP Contratação N.º 113728 | L25: 32.37
B26: 2.8 | D26: CARNE BOVINA DE 2ª MÚSCULO, SECA (ISCAS OU MANTA) | E26: KG | F26: =(SUM(I26,J26,L26)/3) -> 34.87 | G26: NK COMERCIO DE ALIMENTOS EIRELI | H26: =IF(G26=G$167,H$167,H$166) -> 32.575.287/0006-89 | I26: 34.99 | J26: 40.19 | K26: Ata SRP Contratação N.º 113728 | L26: 29.43
B27: 2.9 | D27: CARNE SUÍNA (LOMBO) | E27: KG | F27: =(SUM(I27,J27,L27)/3) -> 27.21 | G27: NK COMERCIO DE ALIMENTOS EIRELI | H27: =IF(G27=G$167,H$167,H$166) -> 32.575.287/0006-89 | I27: 27.99 | J27: 27.42 | K27: Ata SRP Contratação N.º 113728 | L27: 26.22
B28: 2.10 | D28: CARNE SUÍNA (PALETA) | E28: PCT | F28: =(SUM(I28,J28,L28)/3) -> 19.116667 | G28: NK COMERCIO DE ALIMENTOS EIRELI | H28: =IF(G28=G$167,H$167,H$166) -> 32.575.287/0006-89 | I28: 16.99 | J28: 20.07 | K28: Ata SRP Contratação N.º 113728 | L28: 20.29
B29: 2.11 | D29: CARNE SUÍNA (PERNIL) | E29: KG | F29: =(SUM(I29,J29,L29)/3) -> 19.746667 | G29: NK COMERCIO DE ALIMENTOS EIRELI | H29: =IF(G29=G$167,H$167,H$166) -> 32.575.287/0006-89 | I29: 19.99 | J29: 17.93 | K29: Ata SRP Contratação N.º 113728 | L29: 21.32
B30: 2.12 | D30: CHARQUE BOVINO (ISCAS OU MANTA) | E30: KG | F30: =(SUM(I30,J30,L30)/3) -> 43.696667 | G30: NK COMERCIO DE ALIMENTOS EIRELI | H30: =IF(G30=G$167,H$167,H$166) -> 32.575.287/0006-89 | I30: 45.99 | J30: 46.07 | K30: Ata SRP Contratação N.º 113728 | L30: 39.03
... B42: 2.24 | D42: TOUCINHO | E42: KG | F42: =(SUM(I42,J42,L42)/3) -> 19.833333 | G42: NK COMERCIO DE ALIMENTOS EIRELI | H42: =IF(G42=G$167,H$167,H$166) -> 32.575.287/0006-89 | I42: 11.99 | J42: 27.62 | K42: Ata SRP Contratação N.º 113728 | L42: 19.89
D44: GENEROS ALIMENTICIOS | E44: UNIDADE | F44: Preço médio | I44: COMERCIAL DE ALIMENTOS PARQUE SANTA FÉ | J44: BANCO DE PREÇOS | K44: ATA
B45: 3.1 | D45: FILE DE TILÁPIA | E45: KG | F45: =(SUM(I45,J45,L45)/3) -> 50.846667 | G45: COMERCIAL DE ALIMENTOS PARQUE SANTA FÉ | H45: =IF(G45=G$167,H$167,H$166) -> 41.403.240/0001-14 | I45: 69.99 | J45: 40.89 | K45: Ata SRP Contratação N.º 113728 | L45: 41.66
C47: CÓD. SISLOG | D47: GENEROS ALIMENTICIOS | E47: UNIDADE | F47: Preço médio | I47: COMERCIAL DE ALIMENTOS PARQUE SANTA FÉ | J47: BANCO DE PREÇOS | K47: ATA
B48: 4.1 | C48: 4120 | D48: AÇAFRÃO | E48: KG | F48: =(SUM(I48,J48,L48)/3) -> 26.096667 | G48: COMERCIAL DE ALIMENTOS PARQUE SANTA FÉ | H48: =IF(G48=G$167,H$167,H$166) -> 41.403.240/0001-14 | I48: 39.98 | J48: 17.93 | K48: Ata SRP Contratação N.º 113728 | L48: 20.38
B49: 4.2 | C49: 13 | D49: AÇÚCAR CRISTAL 5kg | E49: PCT | F49: =(SUM(I49,J49,L49)/3) -> 21.263333 | G49: COMERCIAL DE ALIMENTOS PARQUE SANTA FÉ | H49: =IF(G49=G$167,H$167,H$166) -> 41.403.240/0001-14 | I49: 26.99 | J49: 17 | K49: Ata SRP Contratação N.º 113728 | L49: 19.8
B50: 4.3 | C50: 498 | D50: AMIDO DE MILHO 500g | E50: PCT | F50: =(SUM(I50,J50,L50)/3) -> 8.29 | G50: NK COMERCIO DE ALIMENTOS EIRELI | H50: =IF(G50=G$167,H$167,H$166) -> 32.575.287/0006-89 | I50: 4.99 | J50: 10.53 | K50: Ata SRP Contratação N.º 113728 | L50: 9.35
B51: 4.4 | C51: 693 | D51: ARROZ TIPO 1 5kg | E51: PCT | F51: =(SUM(I51,J51,L51)/3) -> 25.08 | G51: NK COMERCIO DE ALIMENTOS EIRELI | H51: =IF(G51=G$167,H$167,H$166) -> 32.575.287/0006-89 | I51: 19.99 | J51: 26.8 | K51: Ata SRP Contratação N.º 113728 | L51: 28.45
B52: 4.5 | D52: AVEIA EM FLOCOS 500g | E52: PCT | F52: =(SUM(I52,J52,L52)/3) -> 13.75 | G52: NK COMERCIO DE ALIMENTOS EIRELI | H52: =IF(G52=G$167,H$167,H$166) -> 32.575.287/0006-89 | I52: 15.99 | J52: 12.97 | K52: Ata SRP Contratação N.º 113728 | L52: 12.29
B53: 4.6 | C53: 755 | D53: AZEITE DE OLIVA 500 ml | E53: LT | F53: =(SUM(I53,J53,L53)/3) -> 41.33 | G53: NK COMERCIO DE ALIMENTOS EIRELI | H53: =IF(G53=G$167,H$167,H$166) -> 32.575.287/0006-89 | I53: 44.99 | J53: 38.22 | K53: Ata SRP Contratação N.º 113728 | L53: 40.78
B54: 4.7 | C54: 749 | D54: AZEITONA VERDE 500g | E54: UNIDADE | F54: =(SUM(I54,J54,L54)/3) -> 19.076667 | G54: COMERCIAL DE ALIMENTOS PARQUE SANTA FÉ | H54: =IF(G54=G$167,H$167,H$166) -> 41.403.240/0001-14 | I54: 22.99 | J54: 15.73 | K54: Ata SRP Contratação N.º 113299 | L54: 18.51
B55: 4.8 | C55: 733 | D55: BATATA PALHA 800g | E55: PCT | F55: =(SUM(I55,J55,L55)/3) -> 32.266667 | G55: COMERCIAL DE ALIMENTOS PARQUE SANTA FÉ | H55: =IF(G55=G$167,H$167,H$166) -> 41.403.240/0001-14 | I55: 36.99 | J55: 32.72 | K55: Ata SRP Contratação N.º 113728 | L55: 27.09
...

Sheet Processos
A1: Bloco | B1: nº | C1: Mun. | D1: Código | E1: Unidade Escolar | F1: Processo Prévio SEI | G1: Processo SEI
A2: SRP 2025 Bloco 1 CRISTALINA | B2: 1 | C2: Cristalina | D2: 52045617 | E2: CE Adelvina Flores Ribeiro | F2: 202500006133864
B3: 2 | C3: Cristalina | D3: 52092143 | E3: CE Campos Lindos
B4: 3 | C4: Cristalina | D4: 52045641 | E4: CE José de Goiás Brasil
B5: 4 | C5: Cristalina | D5: 52045595 | E5: CE Olga Aguiar Mohn
B6: 5 | C6: Cristalina | D6: 52045633 | E6: CEPI Aurora Attiê
B7: 6 | C7: Cristalina | D7: 52082202 | E7: CEPI Zulca Peixoto de Paiva
A8: SRP 2025 Bloco 2 LUZIÂNIA | B8: 7 | C8: Luziânia | D8: 52047431 | E8: CE Alceu de Araújo Roriz | F8: 202500006133865
B9: 8 | C9: Luziânia | D9: 52047458 | E9: CE Cônego Ramiro
B10: 9 | C10: Luziânia | D10: 52092186 | E10: CE Dona Torinha
B11: 10 | C11: Luziânia | D11: 52047474 | E11: CE Epaminondas Roriz
B12: 11 | C12: Luziânia | D12: 52047210 | E12: CE Professor Antônio Valdir Roriz
B13: 12 | C13: Luziânia | D13: 52047520 | E13: CE Professor Josué Meireles
B14: 13 | C14: Luziânia | D14: 52116409 | E14: CEPI Maria Abadia Salomão
B15: 14 | C15: Luziânia | D15: 52076822 | E15: CEPI Francisco Machado de Araújo
B16: 15 | C16: Luziânia | D16: 52076849 | E16: CE Nair Tiecher
B17: 16 | C17: Luziânia | D17: 52103110 | E17: CEPI Osvaldo da Costa Meireles
B18: 17 | C18: Luziânia | D18: 52047547 | E18: CE Professora Lourdes de O. Sampaio
B19: 18 | C19: Luziânia | D19: 52047504 | E19: CE Padre Dario de Romedis
B20: 19 | C20: Luziânia | D20: 52047270 | E20: CE Professor Antônio Março de Araújo
... B24: 23 | C24: Luziânia | D24: 52047482 | E24: CE Ilídio de Souza Lemos
A25: SRP 2025 Bloco 3 JARDIM DO INGÁ | B25: 24 | C25: Luziânia | D25: 52076857 | E25: CE Osfaya | F25: 202500006133866
B26: 25 | C26: Luziânia | D26: 52103099 | E26: CE Delfino Oclécio Machado
B27: 26 | C27: Luziânia | D27: 52069095 | E27: CE Helena Luzia R. de Queiroz
B28: 27 | C28: Luziânia | D28: 52109321 | E28: CE Hélio Roriz
B29: 28 | C29: Luziânia | D29: 52048730 | E29: CE Mingone
B30: 29 | C30: Luziânia | D30: 52047512 | E30: CE Posto Ipê
B31: 30 | C31: Luziânia | D31: 52047539 | E31: CE Professor José Carneiro Filho
B32: 31 | C32: Luziânia | D32: 52047318 | E32: CE Professora Maria Pereira de Vasconcelos
B33: 32 | C33: Luziânia | D33: 52076830 | E33: CE Vasco dos Reis Gonçalves
B34: 33 | C34: Luziânia | D34: 52103102 | E34: CEPI Hélio Rodrigues de Queiroz
B35: 34 | C35: Luziânia | D35: 52088731 | E35: CEPMG Maria D'Abadia Gomes Meireles Shinohara

Sheet LUZIÂNIA
B2: GENEROS ALIMENTICIOS | C2: UNIDADE | D2: Preço médio | E2: ALCEU | F2: CONEGO | G2: DONA TORINHA | H2: EPAMINONDAS | I2: PE DARIO | J2: LOURDES DE OLIVERA - CEPLOS | K2: ANTONIO MARCO - CEPAMA | L2: ANTONIO VALDIR | M2: JOSUE MEIRELES | N2: ILIDIO | O2: NAIR TIEHCER | P2: VALDERI SANTOS | Q2: CEPI FRANCISCO MACHADO | R2: CEPI MARIA ABADIA SALOMAO | S2: CEPI OSVALDO | T2: CEPI ESTER | U2: CEPMG ELY | V2: SUBTOTAL | W2: MARGEM 50% | X2: TOTAL | Y2: ARRED | Z2: COTA RESERVADA
A3: 1.1 | B3: BISCOITO DE QUEIJO | C3: KG | D3: ='Composição de Preço'!F4 -> 31.76 | E3: 40 | F3: 0 | G3: 0 | H3: 0 | I3: 0 | J3: 0 | K3: 0 | L3: 0 | M3: 0 | N3: 0 | O3: 0 | P3: 70 | Q3: 0 | R3: 0 | S3: 600 | T3: 0 | U3: 0 | V3: =SUM(E3:U3) -> 710 | W3: =V3*0.5 -> 355 | X3: =SUM(V3:W3) -> 1065 | Y3: 1068 | Z3: =Y3/4 -> 267
A4: 1.2 | B4: BOLO PRONTO VÁRIOS SABORES | C4: KG | D4: ='Composição de Preço'!F5 -> 28.976667 | E4: 160 | F4: 300 | G4: 0 | H4: 500 | I4: 0 | J4: 960 | K4: 1250 | L4: 388 | M4: 320 | N4: 0 | O4: 0 | P4: 120 | Q4: 100 | R4: 720 | S4: 800 | T4: 1300 | U4: 800 | V4: =SUM(E4:U4) -> 7718 | W4: =V4*0.5 -> 3859 | X4: =SUM(V4:W4) -> 11577 | Y4: 11580 | Z4: =Y4/4 -> 2895
A5: 1.3 | B5: BROA DE MILHO | C5: KG | D5: ='Composição de Preço'!F6 -> 22.976667 | E5: 0 | F5: 0 | G5: 0 | H5: 0 | I5: 0 | J5: 0 | K5: 0 | L5: 0 | M5: 0 | N5: 0 | O5: 0 | P5: 0 | Q5: 70 | R5: 0 | S5: 800 | T5: 0 | U5: 0 | V5: =SUM(E5:U5) -> 870 | W5: =V5*0.5 -> 435 | X5: =SUM(V5:W5) -> 1305 | Y5: 1308 | Z5: =Y5/4 -> 327
A6: 1.4 | B6: PÃO (CAREQUINHA, MILHO E SOVADO) | C6: KG | D6: ='Composição de Preço'!F7 -> 20.593333 | E6: 0 | F6: 0 | G6: 0 | H6: 0 | I6: 0 | J6: 0 | K6: 0 | L6: 0 | M6: 0 | N6: 0 | O6: 0 | P6: 0 | Q6: 70 | R6: 196 | S6: 800 | T6: 550 | U6: 0 | V6: =SUM(E6:U6) -> 1616 | W6: =V6*0.5 -> 808 | X6: =SUM(V6:W6) -> 2424 | Y6: =X6 -> 2424 | Z6: =Y6/4 -> 606
A7: 1.5 | B7: PÃO CARECA | C7: KG | D7: ='Composição de Preço'!F8 -> 22.2 | E7: 320 | F7: 303 | G7: 0 | H7: 0 | I7: 0 | J7: 960 | K7: 600 | L7: 424 | M7: 320 | N7: 0 | O7: 0 | P7: 80 | Q7: 150 | R7: 420 | S7: 0 | T7: 750 | U7: 0 | V7: =SUM(E7:U7) -> 4327 | W7: =V7*0.5 -> 2163.5 | X7: =SUM(V7:W7) -> 6490.5 | Y7: 6492 | Z7: =Y7/4 -> 1623
A8: 1.6 | B8: PÃO DE FORMA | C8: PCT | D8: ='Composição de Preço'!F9 -> 10.67 | E8: 0 | F8: 0 | G8: 0 | H8: 0 | I8: 0 | J8: 0 | K8: 0 | L8: 0 | M8: 0 | N8: 0 | O8: 0 | P8: 0 | Q8: 100 | R8: 0 | S8: 800 | T8: 0 | U8: 0 | V8: =SUM(E8:U8) -> 900 | W8: =V8*0.5 -> 450 | X8: =SUM(V8:W8) -> 1350 | Y8: 1352 | Z8: =Y8/4 -> 338
A9: 1.7 | B9: PÃO DE QUEIJO | C9: KG | D9: ='Composição de Preço'!F10 -> 26.806667 | E9: 60 | F9: 0 | G9: 180 | H9: 0 | I9: 0 | J9: 140 | K9: 600 | L9: 0 | M9: 0 | N9: 0 | O9: 0 | P9: 0 | Q9: 200 | R9: 464 | S9: 1000 | T9: 1000 | U9: 0 | V9: =SUM(E9:U9) -> 3644 | W9: =V9*0.5 -> 1822 | X9: =SUM(V9:W9) -> 5466 | Y9: 5468 | Z9: =Y9/4 -> 1367
A10: 1.8 | B10: PÃO DOCE | C10: KG | D10: ='Composição de Preço'!F11 -> 25.503333 | E10: 0 | F10: 0 | G10: 0 | H10: 0 | I10: 0 | J10: 0 | K10: 0 | L10: 0 | M10: 0 | N10: 0 | O10: 0 | P10: 0 | Q10: 200 | R10: 60 | S10: 1000 | T10: 1000 | U10: 0 | V10: =SUM(E10:U10) -> 2260 | W10: =V10*0.5 -> 1130 | X10: =SUM(V10:W10) -> 3390 | Y10: 3392 | Z10: =Y10/4 -> 848
A11: 1.9 | B11: PÃO FRANCÊS | C11: KG | D11: ='Composição de Preço'!F12 -> 14.99 | E11: 600 | F11: 300 | G11: 240 | H11: 350 | I11: 880 | J11: 960 | K11: 1200 | L11: 834 | M11: 320 | N11: 167 | O11: 300 | P11: 150 | Q11: 250 | R11: 576 | S11: 1880 | T11: 1350 | U11: 800 | V11: =SUM(E11:U11) -> 11157 | W11: =V11*0.5 -> 5578.5 | X11: =SUM(V11:W11) -> 16735.5 | Y11: 16736 | Z11: =Y11/4 -> 4184
A12: 1.10 | B12: PÃO MANDI | C12: KG | D12: ='Composição de Preço'!F13 -> 22.986667 | E12: 0 | F12: 0 | G12: 0 | H12: 0 | I12: 0 | J12: 0 | K12: 0 | L12: 0 | M12: 0 | N12: 0 | O12: 0 | P12: 0 | Q12: 250 | R12: 312 | S12: 0 | T12: 0 | U12: 0 | V12: =SUM(E12:U12) -> 562 | W12: =V12*0.5 -> 281 | X12: =SUM(V12:W12) -> 843 | Y12: 844 | Z12: =Y12/4 -> 211
A13: 1.11 | B13: ROSCA | C13: KG | D13: ='Composição de Preço'!F14 -> 26.736667 | E13: 600 | F13: 300 | G13: 260 | H13: 500 | I13: 260 | J13: 960 | K13: 800 | L13: 1200 | M13: 320 | N13: 0 | O13: 300 | P13: 120 | Q13: 250 | R13: 650 | S13: 900 | T13: 1200 | U13: 800 | V13: =SUM(E13:U13) -> 9420 | W13: =V13*0.5 -> 4710 | X13: =SUM(V13:W13) -> 14130 | Y13: 14132 | Z13: =Y13/4 -> 3533
A14: 1.12 | B14: TORRADA | C14: KG | D14: ='Composição de Preço'!F15 -> 25.14 | E14: 20 | F14: 0 | G14: 0 | H14: 0 | I14: 0 | J14: 0 | K14: 0 | L14: 0 | M14: 0 | N14: 0 | O14: 0 | P14: 0 | Q14: 200 | R14: 123 | S14: 0 | T14: 0 | U14: 0 | V14: =SUM(E14:U14) -> 343 | W14: =V14*0.5 -> 171.5 | X14: =SUM(V14:W14) -> 514.5 | Y14: 516 | Z14: =Y14/4 -> 129
A15: 1.13 | B15: SONHO | C15: KG | D15: ='Composição de Preço'!F16 -> 24.55 | E15: 40 | F15: 0 | G15: 0 | H15: 0 | I15: 0 | J15: 0 | K15: 0 | L15: 0 | M15: 0 | N15: 0 | O15: 0 | P15: 100 | Q15: 150 | R15: 0 | S15: 400 | T15: 350 | U15: 0 | V15: =SUM(E15:U15) -> 1040 | W15: =V15*0.5 -> 520 | X15: =SUM(V15:W15) -> 1560 | Y15: =X15 -> 1560 | Z15: =Y15/4 -> 390
A16: 2.3 | B16: BACON | C16: KG | D16: ='Composição de Preço'!F19 -> 40.756667 | E16: 36 | F16: 100 | G16: 5 | H16: 60 | I16: 94 | J16: 144 | K16: 279 | L16: 300 | M16: 48 | N16: 0 | O16: 30 | P16: 15 | Q16: 100 | R16: 80 | S16: 300 | T16: 400 | U16: 250 | V16: =SUM(E16:U16) -> 2241 | W16: =V16*0.5 -> 1120.5 | X16: =SUM(V16:W16) -> 3361.5 | Y16: 3364 | Z16: =Y16/4 -> 841
A17: 2.4 | B17: CARNE BOVINA DE 1ª PATINHO (MOÍDA, CUBOS OU ISCAS) | C17: KG | D17: ='Composição de Preço'!F20 -> 38.126667 | E17: 0 | F17: 0 | G17: 0 | H17: 750 | I17: 0 | J17: 0 | K17: 0 | L17: 0 | M17: 0 | N17: 100 | O17: 0 | P17: 0 | Q17: 150 | R17: 0 | S17: 0 | T17: 500 | U17: 0 | V17: =SUM(E17:U17) -> 1500 | W17: =V17*0.5 -> 750 | X17: =SUM(V17:W17) -> 2250 | Y17: 2252 | Z17: =Y17/4 -> 563
A18: 2.5 | B18: CARNE BOVINA DE 2ª ACÉM (MOÍDA, CUBOS OU ISCAS) | C18: KG | D18: ='Composição de Preço'!F21 -> 30.893333 | E18: 760 | F18: 900 | G18: 890 | H18: 600 | I18: 965 | J18: 2900 | K18: 1100 | L18: 2480 | M18: 560 | N18: 260 | O18: 90 | P18: 0 | Q18: 200 | R18: 420 | S18: 1200 | T18: 1000 | U18: 1200 | V18: =SUM(E18:U18) -> 15525 | W18: =V18*0.5 -> 7762.5 | X18: =SUM(V18:W18) -> 23287.5 | Y18: 23288 | Z18: =Y18/4 -> 5822
A19: 2.6 | B19: CARNE BOVINA DE 2ª PALETA (ISCAS OU CUBOS | C19: KG | D19: ='Composição de Preço'!F22 -> 31.28 | E19: 80 | F19: 0 | G19: 0 | H19: 0 | I19: 0 | J19: 0 | K19: 0 | L19: 0 | M19: 0 | N19: 0 | O19: 0 | P19: 0 | Q19: 400 | R19: 0 | S19: 0 | T19: 650 | U19: 0 | V19: =SUM(E19:U19) -> 1130 | W19: =V19*0.5 -> 565 | X19: =SUM(V19:W19) -> 1695 | Y19: 1696 | Z19: =Y19/4 -> 424
A20: 2.7 | B20: CARNE BOVINA DE 2ª MÚSCULO (MOÍDA, CUBOS OU ISCAS) | C20: KG | D20: ='Composição de Preço'!F23 -> 31.643333 | E20: 760 | F20: 901 | G20: 260 | H20: 0 | I20: 0 | J20: 0 | K20: 1300 | L20: 1000 | M20: 410 | N20: 0 | O20: 80 | P20: 500 | Q20: 300 | R20: 360 | S20: 0 | T20: 800 | U20: 0 | V20: =SUM(E20:U20) -> 6671 | W20: =V20*0.5 -> 3335.5 | X20: =SUM(V20:W20) -> 10006.5 | Y20: 10008 | Z20: =Y20/4 -> 2502
A21: 2.8 | B21: CARNE BOVINA DE 2ª ACÉM, SECA (ISCAS OU MANTA) | C21: KG | D21: ='Composição de Preço'!F24 -> 36.246667 | E21: 140 | F21: 0 | G21: 0 | H21: 250 | I21: 286 | J21: 0 | K21: 0 | L21: 0 | M21: 0 | N21: 0 | O21: 0 | P21: 0 | Q21: 300 | R21: 250 | S21: 0 | T21: 650 | U21: 0 | V21: =SUM(E21:U21) -> 1876 | W21: =V21*0.5 -> 938 | X21: =SUM(V21:W21) -> 2814 | Y21: 2816 | Z21: =Y21/4 -> 704
A22: 2.9 | B22: CARNE BOVINA DE 2ª PALETA, SECA (ISCAS OU MANTA) | C22: KG | D22: ='Composição de Preço'!F25 -> 36.576667 | E22: 120 | F22: 0 | G22: 0 | H22: 0 | I22: 0 | J22: 0 | K22: 0 | L22: 0 | M22: 0 | N22: 0 | O22: 0 | P22: 0 | Q22: 300 | R22: 0 | S22: 1200 | T22: 0 | U22: 0 | V22: =SUM(E22:U22) -> 1620 | W22: =V22*0.5 -> 810 | X22: =SUM(V22:W22) -> 2430 | Y22: 2432 | Z22: =Y22/4 -> 608
A23: 2.10 | B23: CARNE BOVINA DE 2ª MÚSCULO, SECA (ISCAS OU MANTA) | C23: KG | D23: ='Composição de Preço'!F26 -> 34.87 | E23: 0 | F23: 0 | G23: 0 | H23: 200 | I23: 0 | J23: 0 | K23: 0 | L23: 0 | M23: 0 | N23: 0 | O23: 0 | P23: 0 | Q23: 300 | R23: 0 | S23: 0 | T23: 0 | U23: 0 | V23: =SUM(E23:U23) -> 500 | W23: =V23*0.5 -> 250 | X23: =SUM(V23:W23) -> 750 | Y23: 752 | Z23: =Y23/4 -> 188
A24: 2.11 | B24: CARNE SUÍNA (LOMBO) | C24: KG | D24: ='Composição de Preço'!F27 -> 27.21 | E24: 0 | F24: 0 | G24: 0 | H24: 0 | I24: 0 | J24: 0 | K24: 0 | L24: 0 | M24: 0 | N24: 0 | O24: 0 | P24: 50 | Q24: 200 | R24: 0 | S24: 0 | T24: 650 | U24: 0 | V24: =SUM(E24:U24) -> 900 | W24: =V24*0.5 -> 450 | X24: =SUM(V24:W24) -> 1350 | Y24: 1352 | Z24: =Y24/4 -> 338
A25: 2.12 | B25: CARNE SUÍNA (PALETA) | C25: PCT | D25: ='Composição de Preço'!F28 -> 19.116667 | E25: 660 | F25: 240 | G25: 240 | H25: 0 | I25: 0 | J25: 0 | K25: 0 | L25: 900 | M25: 0 | N25: 0 | O25: 0 | P25: 0 | Q25: 100 | R25: 450 | S25: 0 | T25: 0 | U25: 0 | V25: =SUM(E25:U25) -> 2590 | W25: =V25*0.5 -> 1295 | X25: =SUM(V25:W25) -> 3885 | Y25: 3888 | Z25: =Y25/4 -> 972
A26: 2.13 | B26: CARNE SUÍNA (PERNIL) | C26: KG | D26: ='Composição de Preço'!F29 -> 19.746667 | E26: 630 | F26: 0 | G26: 0 | H26: 0 | I26: 412 | J26: 660 | K26: 1299 | L26: 0 | M26: 220 | N26: 125 | O26: 100 | P26: 50 | Q26: 0 | R26: 0 | S26: 1300 | T26: 0 | U26: 600 | V26: =SUM(E26:U26) -> 5396 | W26: =V26*0.5 -> 2698 | X26: =SUM(V26:W26) -> 8094 | Y26: 8096 | Z26: =Y26/4 -> 2024
A27: 2.14 | B27: CHARQUE BOVINO (ISCAS OU MANTA) | C27: KG | D27: ='Composição de Preço'!F30 -> 43.696667 | E27: 0 | F27: 0 | G27: 0 | H27: 0 | I27: 0 | J27: 0 | K27: 0 | L27: 0 | M27: 0 | N27: 0 | O27: 0 | P27: 90 | Q27: 0 | R27: 0 | S27: 0 | T27: 0 | U27: 0 | V27: =SUM(E27:U27) -> 90 | W27: =V27*0.5 -> 45 | X27: =SUM(V27:W27) -> 135 | Y27: 136 | Z27: =Y27/4 -> 34
A28: 2.15 | B28: COXA E SOBRE-COXA DE FRANGO | C28: KG | D28: ='Composição de Preço'!F31 -> 15.703333 | E28: 980 | F28: 0 | G28: 420 | H28: 0 | I28: 120 | J28: 0 | K28: 0 | L28: 0 | M28: 0 | N28: 65 | O28: 100 | P28: 400 | Q28: 400 | R28: 350 | S28: 2000 | T28: 500 | U28: 300 | V28: =SUM(E28:U28) -> 5635 | W28: =V28*0.5 -> 2817.5 | X28: =SUM(V28:W28) -> 8452.5 | Y28: 8456 | Z28: =Y28/4 -> 2114
A29: 2.16 | B29: FÍGADO BOVINO | C29: KG | D29: ='Composição de Preço'!F32 -> 17.206667 | E29: 0 | F29: 0 | G29: 0 | H29: 0 | I29: 0 | J29: 0 | K29: 0 | L29: 0 | M29: 0 | N29: 0 | O29: 0 | P29: 0 | Q29: 0 | R29: 0 | S29: 0 | T29: 0 | U29: 0 | V29: =SUM(E29:U29) -> 0 | W29: =V29*0.5 -> 0 | X29: =SUM(V29:W29) -> 0 | Y29: =X29 -> 0 | Z29: =Y29/4 -> 0
A30: 2.17 | B30: FILÉ DE PEITO DE FRANGO | C30: KG | D30: ='Composição de Preço'!F33 -> 22.283333 | E30: 0 | F30: 0 | G30: 0 | H30: 300 | I30: 822 | J30: 0 | K30: 701 | L30: 0 | M30: 0 | N30: 0 | O30: 60 | P30: 0 | Q30: 400 | R30: 245 | S30: 0 | T30: 550 | U30: 0 | V30: =SUM(E30:U30) -> 3078 | W30: =V30*0.5 -> 1539 | X30: =SUM(V30:W30) -> 4617 | Y30: 4620 | Z30: =Y30/4 -> 1155
A31: 2.18 | B31: FILÉZINHO DE FRANGO (SASSAMI) | C31: KG | D31: ='Composição de Preço'!F34 -> 27.916667 | E31: 0 | F31: 0 | G31: 0 | H31: 0 | I31: 0 | J31: 0 | K31: 400 | L31: 0 | M31: 0 | N31: 0 | O31: 0 | P31: 0 | Q31: 400 | R31: 245 | S31: 0 | T31: 1000 | U31: 0 | V31: =SUM(E31:U31) -> 2045 | W31: =V31*0.5 -> 1022.5 | X31: =SUM(V31:W31) -> 3067.5 | Y31: 3068 | Z31: =Y31/4 -> 767
A32: 2.19 | B32: FRANGO INTEIRO | C32: KG | D32: ='Composição de Preço'!F35 -> 11.396667 | E32: 60 | F32: 0 | G32: 0 | H32: 0 | I32: 0 | J32: 0 | K32: 0 | L32: 0 | M32: 0 | N32: 0 | O32: 90 | P32: 200 | Q32: 300 | R32: 50 | S32: 0 | T32: 0 | U32: 0 | V32: =SUM(E32:U32) -> 700 | W32: =V32*0.5 -> 350 | X32: =SUM(V32:W32) -> 1050 | Y32: 1052 | Z32: =Y32/4 -> 263
A33: 2.20 | B33: LINGUIÇA CALABRESA | C33: KG | D33: ='Composição de Preço'!F36 -> 30.686667 | E33: 90 | F33: 200 | G33: 180 | H33: 80 | I33: 90 | J33: 360 | K33: 300 | L33: 800 | M33: 120 | N33: 0 | O33: 60 | P33: 0 | Q33: 50 | R33: 40 | S33: 400 | T33: 400 | U33: 100 | V33: =SUM(E33:U33) -> 3270 | W33: =V33*0.5 -> 1635 | X33: =SUM(V33:W33) -> 4905 | Y33: 4908 | Z33: =Y33/4 -> 1227
A34: 2.21 | B34: LINGUIÇA DE FRANGO | C34: KG | D34: ='Composição de Preço'!F37 -> 21.833333 | E34: 0 | F34: 0 | G34: 0 | H34: 0 | I34: 140 | J34: 0 | K34: 0 | L34: 830 | M34: 0 | N34: 0 | O34: 0 | P34: 0 | Q34: 0 | R34: 55 | T34: 0 | U34: 0 | V34: =SUM(E34:U34) -> 1025 | W34: =V34*0.5 -> 512.5 | X34: =SUM(V34:W34) -> 1537.5 | Y34: 1540 | Z34: =Y34/4 -> 385
A35: 2.22 | B35: LINGUIÇA MISTA | C35: KG | D35: ='Composição de Preço'!F38 -> 19.023333 | E35: 360 | F35: 0 | G35: 250 | H35: 600 | I35: 0 | J35: 0 | K35: 0 | L35: 940 | M35: 0 | N35: 110 | O35: 0 | P35: 120 | Q35: 0 | R35: 0 | S35: 0 | T35: 0 | U35: 0 | V35: =SUM(E35:U35) -> 2380 | W35: =V35*0.5 -> 1190 | X35: =SUM(V35:W35) -> 3570 | Y35: 3572 | Z35: =Y35/4 -> 893
A36: 2.23 | B36: LINGUIÇA TOSCANA | C36: KG | D36: ='Composição de Preço'!F39 -> 17.763333 | E36: 400 | F36: 0 | G36: 0 | H36: 0 | I36: 0 | J36: 0 | K36: 299 | L36: 0 | M36: 0 | N36: 0 | O36: 90 | P36: 0 | Q36: 0 | R36: 50 | S36: 600 | T36: 650 | U36: 350 | V36: =SUM(E36:U36) -> 2439 | W36: =V36*0.5 -> 1219.5 | X36: =SUM(V36:W36) -> 3658.5 | Y36: 3660 | Z36: =Y36/4 -> 915
A37: 2.24 | B37: PEITO DE FRANGO SEM PELE E SEM OSSO | C37: KG | D37: ='Composição de Preço'!F40 -> 18.456667 | E37: 980 | F37: 900 | G37: 650 | H37: 0 | I37: 0 | J37: 1890 | K37: 802 | L37: 2200 | M37: 630 | N37: 175 | O37: 60 | P37: 0 | Q37: 400 | R37: 0 | S37: 1905 | T37: 0 | U37: 1000 | V37: =SUM(E37:U37) -> 11592 | W37: =V37*0.5 -> 5796 | X37: =SUM(V37:W37) -> 17388 | Y37: =X37 -> 17388 | Z37: =Y37/4 -> 4347
A38: 3.1 | B38: SALSICHA | C38: KG | D38: ='Composição de Preço'!F41 -> 12.346667 | E38: 180 | F38: 90 | G38: 90 | H38: 80 | I38: 150 | J38: 390 | K38: 400 | L38: 250 | M38: 130 | N38: 0 | O38: 40 | P38: 60 | Q38: 50 | R38: 100 | S38: 800 | T38: 0 | U38: 150 | V38: =SUM(E38:U38) -> 2960 | W38: =V38*0.5 -> 1480 | X38: =SUM(V38:W38) -> 4440 | Y38: =X38 -> 4440 | Z38: =Y38/4 -> 1110
A39: 4.1 | B39: TOUCINHO | C39: KG | D39: ='Composição de Preço'!F42 -> 19.833333 | E39: 140 | F39: 0 | G39: 0 | H39: 0 | I39: 50 | J39: 0 | K39: 199 | L39: 320 | M39: 0 | N39: 0 | O39: 0 | P39: 0 | Q39: 120 | R39: 0 | S39: 1100 | T39: 300 | U39: 250 | V39: =SUM(E39:U39) -> 2479 | W39: =V39*0.5 -> 1239.5 | X39: =SUM(V39:W39) -> 3718.5 | Y39: 3720 | Z39: =Y39/4 -> 930
A40: 4.4 | B40: FILE DE TILÁPIA | C40: KG | D40: ='Composição de Preço'!F45 -> 50.846667 | E40: 0 | F40: 0 | G40: 0 | H40: 0 | I40: 50 | J40: 0 | K40: 60 | L40: 0 | M40: 0 | N40: 0 | O40: 0 | P40: 0 | Q40: 40 | R40: 0 | S40: 120 | T40: 100 | U40: 0 | V40: =SUM(E40:U40) -> 370 | W40: =V40*0.5 -> 185 | X40: =SUM(V40:W40) -> 555 | Y40: 556 | Z40: =Y40/4 -> 139
A41: 4.7 | B41: AÇAFRÃO | C41: KG | D41: ='Composição de Preço'!F48 -> 26.096667 | E41: 12 | F41: 14 | G41: 0 | H41: 40 | I41: 40 | J41: 45 | K41: 0 | L41: 0 | M41: 15 | N41: 6 | O41: 6 | P41: 40 | Q41: 10 | R41: 0 | S41: 100 | T41: 8 | U41: 150 | V41: =SUM(E41:U41) -> 486 | W41: =V41*0.5 -> 243 | X41: =SUM(V41:W41) -> 729 | Y41: 732 | Z41: =Y41/4 -> 183
...
