Workbook
Name \0: #REF!
Name \0: [1]DR84PCRF!#REF!
Name \1: #REF!
Name \2: #REF!
Name \A: #REF!
Name \b: [2]SID_NI_5!#REF!
Name \c: [2]SID_NI_5!#REF!
Name \Convergence: 1000000
Name \d: #N/A
Name \E: '[3]Paulo de Carvalho'!#REF!
Name \f: #N/A
Name \fagf: #REF!
Name \I: #REF!
Name \IterationCount: 0
Name \m: #REF!
Name \p: #REF!
Name \p: [2]SID_NI_5!#REF!
Name \s: #REF!
Name \s: #REF!
Name \SA: [4]COMPOS1!#REF!
Name \WorstStream: " "
Name \x: #REF!
Name \x: [5]PLMUSEU!#REF!
Name \y: #REF!
Name \z: #REF!
Name \z: #REF!
Name \z: #REF!
Name _: #REF!
Name _\0: #REF!
Name _\1: #REF!
Name _\2: #REF!
Name _\2: #REF!
Name _\a: #REF!
Name _\I: #REF!
Name _\m: #REF!
Name _\p: #REF!
Name _\s: #REF!
Name ________\0: #REF!
Name ________\1: #REF!
Name ________\2: #REF!
Name ________\2: #REF!
Name ________\a: #REF!
Name ________\c: #REF!
Name ________\I: #REF!
Name ________\m: #REF!
Name ________\p: #REF!
Name ________\s: #REF!
Name ________\x: #REF!
Name ________\z: #REF!
Name ______________________________PL1: #REF!
Name _____________________________PL1: #REF!
Name ____________________________PL1: #REF!
Name ___________________________PL1: #REF!
Name __________________________PL1: #REF!
Name _________________________PL1: #REF!
Name ________________________PL1: #REF!
Name _______________________PL1: #REF!
Name ______________________PL1: #REF!
Name _____________________PL1: #REF!
Name ____________________PL1: #REF!

Sheet QUANT. GERAL - RODOVIA
A1: Código | B1: Descrição | C1: Unidade | D1: Quantidade
A2: Pavimentação
A3: ='Quant. Pav Rodovia'!A2 -> COMP | B3: ='Quant. Pav Rodovia'!B2 -> PAVIMENTO DE CONCRETO - AREIA E BRITA COMERCIAIS (INCLUSO: VIBROACABADORA E MÁQUINA TEXTURIZADORA E APLICADORA DE CURA QUÍMICA EM PAVIMENTO DE CONCRETO) | C3: ='Quant. Pav Rodovia'!C2 -> m³ | D3: ='Quant. Pav Rodovia'!D2 -> 7809.4
A4: 40436 | B4: TRANSPORTE LOCAL DE CONCRETO | C4: ='Quant. Pav Rodovia'!C3 -> m3km | D4: ='Quant. Pav Rodovia'!D3 -> 14413.807
A5: ='Quant. Pav Rodovia'!A4 -> 4011536 | B5: ='Quant. Pav Rodovia'!B4 -> MEMBRANA PLÁSTICA ISOLANTE E IMPERMEABILIZANTE COM ESPESSURA DE 0,2 MM - FORNECIMENTO E INSTALAÇÃO | C5: ='Quant. Pav Rodovia'!C4 -> m² | D5: ='Quant. Pav Rodovia'!D4 -> 39047.031
A6: ='Quant. Pav Rodovia'!A5 -> 40380 | B6: ='Quant. Pav Rodovia'!B5 -> IMPRIMAÇÃO | C6: ='Quant. Pav Rodovia'!C5 -> m2 | D6: ='Quant. Pav Rodovia'!D5 -> 17974.556
A7: ='Quant. Pav Rodovia'!A6 -> 40435 | B7: ='Quant. Pav Rodovia'!B6 -> TRANSPORTE LOCAL DE MATERIAL BETUMINOSO | C7: ='Quant. Pav Rodovia'!C6 -> TKM | D7: ='Quant. Pav Rodovia'!D6 -> 32.751472
A8: ='Quant. Pav Rodovia'!A7 -> 40617 | B8: ='Quant. Pav Rodovia'!B7 -> ESTABILIZAÇÃO BRITA GRADUADA TRATADA COM CIMENTO (BGTC) - USINA | C8: ='Quant. Pav Rodovia'!C7 -> m3 | D8: ='Quant. Pav Rodovia'!D7 -> 295.91526
A9: ='Quant. Pav Rodovia'!A8 -> COMP | B9: ='Quant. Pav Rodovia'!B8 -> ESTABILIZAÇÃO 50% FRESAGEM + 50% BRITA GRADUADA TRATADA COM CIMENTO (BGTC) - USINA | C9: ='Quant. Pav Rodovia'!C8 -> m3 | D9: ='Quant. Pav Rodovia'!D8 -> 1841.5647
A10: ='Quant. Pav Rodovia'!A9 -> 40325 | B10: ='Quant. Pav Rodovia'!B9 -> TRANSPORTE DA MISTURA | C10: ='Quant. Pav Rodovia'!C9 -> m3km | D10: ='Quant. Pav Rodovia'!D9 -> 5920.4946
A11: ='Quant. Pav Rodovia'!A10 -> 40470 | B11: ='Quant. Pav Rodovia'!B10 -> FRESAGEM CONTÍNUA Á FRIO | C11: ='Quant. Pav Rodovia'!C10 -> m3 | D11: ='Quant. Pav Rodovia'!D10 -> 920.804
A12: ='Quant. Pav Rodovia'!A11 -> 40430 | B12: ='Quant. Pav Rodovia'!B11 -> TRANSPORTE DE PAVIMENTO REMOVIDO | C12: ='Quant. Pav Rodovia'!C11 -> m3km | D12: ='Quant. Pav Rodovia'!D11 -> 2270.5196
A13: ='Quant. Pav Rodovia'!A12 -> 40310 | B13: ='Quant. Pav Rodovia'!B12 -> REGULARIZAÇÃO E COMPACTAÇÃO DO SUBLEITO | C13: ='Quant. Pav Rodovia'!C12 -> m2 | D13: ='Quant. Pav Rodovia'!D12 -> 16227.598
A14: ='Quant. Pav Rodovia'!A13 -> 40455 | B14: ='Quant. Pav Rodovia'!B13 -> TRANSPORTE COMERCIAL DE AGREGADOS | C14: ='Quant. Pav Rodovia'!C13 -> m3km | D14: ='Quant. Pav Rodovia'!D13 -> 490401.26
A15: ='Quant. Pav Rodovia'!A14 -> 40450 | B15: ='Quant. Pav Rodovia'!B14 -> TRANSPORTE COMERCIAL DE CIMENTO / CAL / FILLER | C15: ='Quant. Pav Rodovia'!C14 -> TKM | D15: ='Quant. Pav Rodovia'!D14 -> 533722.39
A16: ='Quant. Pav Rodovia'!A15 -> 40485 | B16: ='Quant. Pav Rodovia'!B15 -> FORNECIMENTO DE EMULSÃO ASFÁLTICA PARA IMPRIMAÇÃO - EAI | C16: ='Quant. Pav Rodovia'!C15 -> t | D16: ='Quant. Pav Rodovia'!D15 -> 23.366923
... A24: ='Quant. Pav Rodovia'!A23 -> 261610CC | B24: ='Quant. Pav Rodovia'!B23 -> Pintura esmalte Alquidico estrutura metálica 1 demão ( para barra de Transferência) | C24: ='Quant. Pav Rodovia'!C23 -> m2 | D24: ='Quant. Pav Rodovia'!D23 -> 528.41424
A25: Drenagem
A26: ='Quant. Dre Rodovia'!B5 -> 45410 | B26: ='Quant. Dre Rodovia'!C5 -> ESCAVAÇÃO MECÂNICA EM TERRA - BDI = 27,21 | C26: ='Quant. Dre Rodovia'!E5 -> m3 | D26: ='Quant. Dre Rodovia'!F5 -> 761.0925
A27: ='Quant. Dre Rodovia'!B6 -> 47027 | B27: ='Quant. Dre Rodovia'!C6 -> ESCAVAÇÃO MANUAL | C27: ='Quant. Dre Rodovia'!E6 -> m3 | D27: ='Quant. Dre Rodovia'!F6 -> 41.57
A28: ='Quant. Dre Rodovia'!B7 -> 40102 | B28: ='Quant. Dre Rodovia'!C7 -> COMPACTAÇÃO MANUAL | C28: ='Quant. Dre Rodovia'!E7 -> M3 | D28: ='Quant. Dre Rodovia'!F7 -> 17.21
A29: ='Quant. Dre Rodovia'!B8 -> 41800 | B29: ='Quant. Dre Rodovia'!C8 -> REMOÇÃO DE BUEIROS TUBULARES | C29: ='Quant. Dre Rodovia'!E8 -> m | D29: ='Quant. Dre Rodovia'!F8 -> 17
A30: ='Quant. Dre Rodovia'!B9 -> 40006 | B30: ='Quant. Dre Rodovia'!C9 -> TRANSPORTE DE ENTULHOS | C30: ='Quant. Dre Rodovia'!E9 -> m3km | D30: ='Quant. Dre Rodovia'!F9 -> 6.8
A31: ='Quant. Dre Rodovia'!B10 -> 41816 | B31: ='Quant. Dre Rodovia'!C10 -> CORPO DE BSTC D=1,00M (EXCETO ESCAVAÇÃO) | C31: ='Quant. Dre Rodovia'!E10 -> m | D31: ='Quant. Dre Rodovia'!F10 -> 17
A32: ='Quant. Dre Rodovia'!B11 -> 41806 | B32: ='Quant. Dre Rodovia'!C11 -> CORPO DE BSTC D=0,60M (EXCETO ESCAVAÇÃO) | C32: ='Quant. Dre Rodovia'!E11 -> m | D32: ='Quant. Dre Rodovia'!F11 -> 11
A33: ='Quant. Dre Rodovia'!B12 -> 41309 | B33: ='Quant. Dre Rodovia'!C12 -> DRENO PROFUNDO, CORTE EM SOLO PEAD - DPS13 (ANTIGO DPS07) (EXCETO ESCAVAÇÃO) (BC) | C33: ='Quant. Dre Rodovia'!E12 -> m | D33: ='Quant. Dre Rodovia'!F12 -> 793.07
A34: ='Quant. Dre Rodovia'!B13 -> 2003601 | B34: ='Quant. Dre Rodovia'!C13 -> Boca de saída para dreno longitudinal profundo - BSD 02 - tubo de concreto perfurado - areia e brita comerciais | C34: ='Quant. Dre Rodovia'!E13 -> un | D34: ='Quant. Dre Rodovia'!F13 -> 1
A35: ='Quant. Dre Rodovia'!B14 -> 2003517 | B35: ='Quant. Dre Rodovia'!C14 -> Caixa coletora de sarjeta - CCS 200-60 B - com grelha de aço - areia e brita comerciais | C35: ='Quant. Dre Rodovia'!E14 -> un | D35: ='Quant. Dre Rodovia'!F14 -> 1
A36: ='Quant. Dre Rodovia'!B15 -> 2003315 | B36: ='Quant. Dre Rodovia'!C15 -> Valeta de proteção de aterros com revestimento de concreto - VPAC 120-30 - escavação mecânica - areia e brita comerciais | C36: ='Quant. Dre Rodovia'!E15 -> M | D36: ='Quant. Dre Rodovia'!F15 -> 1239.7
A37: ='Quant. Dre Rodovia'!B16 -> 2003325 | B37: ='Quant. Dre Rodovia'!C16 -> Sarjeta triangular de concreto - STC 04 - escavação mecânica - areia e brita comerciais | C37: ='Quant. Dre Rodovia'!E16 -> m | D37: ='Quant. Dre Rodovia'!F16 -> 481.59
... A48: ='Quant. Dre Rodovia'!B27 -> 47050 | B48: ='Quant. Dre Rodovia'!C27 -> TRANSPORTE LOCAL DE MATERIAL BÁSICO | C48: ='Quant. Dre Rodovia'!E27 -> tkm | D48: ='Quant. Dre Rodovia'!F27 -> 2.1673398
A49: Terraplenagem
A50: ='Modelo 10.0 - Resumo e Quant.'!A65 -> 40010 | B50: ='Modelo 10.0 - Resumo e Quant.'!B65 -> ESCAVAÇÃO, CARGA E TRANSPORTE DE MATERIAL DE 1ª CATEGORIA ATÉ 50M | C50: ='Modelo 10.0 - Resumo e Quant.'!J65 -> m3 | D50: ='Modelo 10.0 - Resumo e Quant.'!K65 -> 7315.47
A51: ='Modelo 10.0 - Resumo e Quant.'!A68 -> 40015 | B51: ='Modelo 10.0 - Resumo e Quant.'!B68 -> ESCAV., CARGA E TRANSPORTE DE MAT. 1ª CATEG. - C/ ESCAVADEIRA - (DT: 51 A 200M) | C51: ='Modelo 10.0 - Resumo e Quant.'!J68 -> m3 | D51: ='Modelo 10.0 - Resumo e Quant.'!K68 -> 140.756
A52: ='Modelo 10.0 - Resumo e Quant.'!A69 -> 40016 | B52: ='Modelo 10.0 - Resumo e Quant.'!B69 -> ESCAV., CARGA E TRANSPORTE DE MAT. 1ª CATEG. - C/ ESCAVADEIRA - (DT: 201 A 400M) | C52: ='Modelo 10.0 - Resumo e Quant.'!J69 -> m3 | D52: ='Modelo 10.0 - Resumo e Quant.'!K69 -> 94.984
A53: ='Modelo 10.0 - Resumo e Quant.'!A70 -> 40017 | B53: ='Modelo 10.0 - Resumo e Quant.'!B70 -> ESCAV., CARGA E TRANSPORTE DE MAT. 1ª CATEG. - C/ ESCAVADEIRA - (DT: 401 A 600M) | C53: ='Modelo 10.0 - Resumo e Quant.'!J70 -> m3 | D53: ='Modelo 10.0 - Resumo e Quant.'!K70 -> 15.35
A54: ='Modelo 10.0 - Resumo e Quant.'!A80 -> 40027 | B54: ='Modelo 10.0 - Resumo e Quant.'!B80 -> ESCAV., CARGA E TRANSPORTE DE MAT. 1ª CATEG. - C/ ESCAVADEIRA - (DT: 5.001 A 10.000M) | C54: ='Modelo 10.0 - Resumo e Quant.'!J80 -> m3 | D54: ='Modelo 10.0 - Resumo e Quant.'!K80 -> 1225.073
A55: ='Modelo 10.0 - Resumo e Quant.'!A111 -> 40101 | B55: ='Modelo 10.0 - Resumo e Quant.'!B111 -> COMPACTAÇÃO A 100% DO PROCTOR NORMAL | C55: ='Modelo 10.0 - Resumo e Quant.'!J111 -> m3 | D55: ='Modelo 10.0 - Resumo e Quant.'!K111 -> 12228.955
A56: Sinalização de Obras
A57: ='Quant. SIN RODOVIA'!A3 -> 40850 | B57: ='Quant. SIN RODOVIA'!B3 -> SINALIZAÇÃO VERTICAL SEMI-REFLETIVA | C57: ='Quant. SIN RODOVIA'!C3 -> m² | D57: ='Quant. SIN RODOVIA'!D3 -> 53.816
...

Sheet PV 17-LINEAR DE DISTR. MAT
B2: DIAGRAMA DE LOCALIZAÇÃO DAS FONTES DE MATERIAIS
BT21: GO-210
V32: 28,60 km
BW41: 5,00 km | DL41: 21,00 km
S46: INÍCIO DO TRECHO: km - 00,00 | DQ46: FINAL DO TRECHO: km - 6,50
Y47: RIO VERDE | BW47: 0,04 km | CY47: MONTIVIDIU (TREVO GO-174)
V55: 164,00 km
V64: km - 00,25 | Z64: km - 00,50 | AD64: km - 00,75 | AH64: km - 01,00 | AL64: km - 01,25 | AP64: km - 01,50 | AT64: km - 01,75 | AX64: km - 02,00 | BB64: km - 02,25 | BF64: km - 02,50 | BJ64: km - 02,75 | BN64: km - 03,00 | BR64: km - 03,25 | BV64: km - 03,50 | BZ64: km - 03,75 | CD64: km - 04,00 | CH64: km - 04,25 | CL64: km - 04,50 | CP64: km - 04,75 | CT64: km - 05,00 | CX64: km - 05,25 | DB64: km - 05,50 | DF64: km - 05,75 | DJ64: km - 06,00 | DN64: km - 06,25
O66: 127,50 km
V77: 227,00 km
Q88: 243,00 km
B94: Legenda:
J95: = | K95: Rodovia Projetada | CL95: PEDREIRA | CW95: DISTRIBUIDORA MATERIAL BETUMINOSO | DQ95: AREAL
BG96: FÁBRICA DE CIMENTO
J97: = | K97: Pavimentada | Y97: CANTEIRO DE OBRAS | AQ97: DISTRIBUIDORA DE AÇO | BW97: CAIXA DE EMPRESTIMO
J99: = | K99: Não Pavimentada

Sheet RESUMO
A1: PROJETO EXECUTIVO DE ENGENHARIA
A2: Rodovia: | B2: GO-210 | G2: EXTENSÃO: | H2: 3,22 km
A3: Trecho: | B3: Perímetro Urbano Rio Verde/ Trevo GO-174 (Sentido Montividiu) | G3: LOTE: | H3: ÚNICO
A5: Quadro Resumo de Serviços de Pavimentação
A6: TRECHO | B6: Remoção de Pavimento Existente (m³) | C6: Regularização de Subleito (m²) | D6: Sub-base BGTC (m³) | E6: Imprimação (m²) | G6: Pavimento de Concreto
E7: Área (m²) | F7: EAI (t) | G7: Área (m²) | H7: Volume(m³)
A8: GO-210 | B8: ='MC BGTC'!O56 -> 2846.0574 | C8: ='MC Reg_Subleito'!L76 -> 16227.598 | D8: ='MC BGTC'!O117 -> 1841.5647 | E8: ='Quant. Pav Rodovia'!D5 -> 17974.556 | F8: ='MC IMPR'!Q16 -> 50.76114 | G8: ='MC CCP'!M27 -> 39047.031 | H8: ='MC CCP'!O27 -> 7809.4
A9: Total | B9: =SUM(B8:B8) -> 2846.0574 | C9: =SUM(C8:C8) -> 16227.598 | D9: =SUM(D8:D8) -> 1841.5647 | E9: =SUM(E8:E8) -> 17974.556 | F9: =SUM(F8:F8) -> 50.76114 | G9: =SUM(G8:G8) -> 39047.031 | H9: =SUM(H8:H8) -> 7809.4

Sheet MC Reg_Subleito
C2: Ocorrência | D2: Destino | E2: Entre Estacas | I2: Exten- | J2: Lar- | K2: Área | L2: Área
B3: SERVIÇO | C3: Origem | E3: Inicial | G3: Final | I3: são | J3: gura | K3: Variável | L3: Total
E4: Int. | F4: Frac. | G4: Int. | H4: Frac. | I4: (m) | J4: (m) | K4: (m2) | L4: (m2)
B5: REGULARIZAÇÃO DO SUBLEITO | C5: Caixa 01 | D5: Retorno 01 | E5: 15 | F5: 9.67 | G5: 92 | H5: 1.55 | I5: =IF(E5="","",((G5-E5)*20)+H5-F5) -> 1531.88 | K5: 24316.75 | L5: =IF(E5="","",(I5*J5)+K5) -> 24316.75 | O5: 0 | P5: 76+14,05 | S5: TOTAL NO INTERVALO
C6: Caixa 01 | D6: SEGMENTO 02 - PE | E6: 92 | F6: 1.55 | G6: 132 | H6: 12.12 | I6: 810.57 | J6: 12.4 | L6: =IF(E6="","",(I6*J6)+K6) -> 10051.068 | W6: =I6*J6 -> 10051.068
C7: Caixa 01 | D7: Retorno 02 | E7: 132 | F7: 12.12 | G7: 176 | H7: 12.12 | I7: =IF(E7="","",((G7-E7)*20)+H7-F7) -> 880 | K7: 13733.72 | L7: =IF(E7="","",(I7*J7)+K7) -> 13733.72 | O7: 0 | P7: 57 | Q7: Aprovado | R7: 1140
I33: =SUM(I5:I32) -> 3222.45 | L33: =SUM(L5:L32) -> 48101.538
B35: MEMÓRIA DE CÁLCULO DE QUANTIDADES - REGULARIZAÇÃO DO SUBLEITO
C41: Ocorrência | D41: Destino | E41: Entre Estacas | I41: Exten- | J41: Lar- | K41: Área | L41: Área
B42: SERVIÇO | C42: Origem | E42: Inicial | G42: Final | I42: são | J42: gura | K42: Variável | L42: Total
E43: Int. | F43: Frac. | G43: Int. | H43: Frac. | I43: (m) | J43: (m) | K43: (m2) | L43: (m2)
B44: REGULARIZAÇÃO DO SUBLEITO | C44: Caixa 01 | D44: Retorno 01 | E44: 15 | F44: 9.67 | G44: 61 | H44: 1.67 | I44: =IF(E44="","",((G44-E44)*20)+H44-F44) -> 912 | K44: 13217.29 | L44: =IF(E44="","",(I44*J44)+K44) -> 13217.29
C45: Caixa 01 | D45: Retorno 01 | E45: 80 | F45: 14.67 | G45: 92 | H45: 1.55 | I45: =IF(E45="","",((G45-E45)*20)+H45-F45) -> 226.88 | K45: 2597.93 | L45: =IF(E45="","",(I45*J45)+K45) -> 2597.93
C46: Caixa 01 | D46: SEGMENTO 02 - PE | E46: 92 | F46: 1.55 | G46: 120 | H46: 0 | I46: =(G46-E46)*20+H46-F46 -> 558.45 | J46: 12.4 | L46: =IF(E46="","",(I46*J46)+K46) -> 6924.78 | W46: =I46*J46 -> 6924.78
C47: Caixa 01 | D47: Retorno 02 | E47: 142 | F47: 0 | G47: 170 | H47: 12.12 | I47: =IF(E47="","",((G47-E47)*20)+H47-F47) -> 572.12 | K47: 9133.94 | L47: =IF(E47="","",(I47*J47)+K47) -> 9133.94
S50: TOTAL EXECUTADO
I55: =SUM(I44:I54) -> 2269.45 | L55: =SUM(L44:L54) -> 31873.94
B57: MEMÓRIA DE CÁLCULO DE QUANTIDADES - REGULARIZAÇÃO DO SUBLEITO
V60: .
C63: Ocorrência | D63: Destino | E63: Entre Estacas | I63: Exten- | J63: Lar- | K63: Área | L63: Área
B64: SERVIÇO | C64: Origem | E64: Inicial | G64: Final | I64: são | J64: gura | K64: Variável | L64: Total
E65: Int. | F65: Frac. | G65: Int. | H65: Frac. | I65: (m) | J65: (m) | K65: (m2) | L65: (m2)
B66: REGULARIZAÇÃO DO SUBLEITO | C66: Caixa 01 | D66: Retorno 01 | E66: 61 | F66: 1.67 | G66: 80 | H66: 14.67 | I66: =IF(E66="","",((G66-E66)*20)+H66-F66) -> 393 | K66: 8501.53 | L66: =IF(E66="","",(I66*J66)+K66) -> 8501.53
C67: Caixa 01 | D67: SEGMENTO 02 - PE | E67: 120 | F67: 0 | G67: 132 | H67: 12.12 | I67: =(G67-E67)*20+H67-F67 -> 252.12 | J67: 12.4 | L67: =IF(E67="","",(I67*J67)+K67) -> 3126.288
C68: Caixa 01 | D68: Retorno 02 | E68: 132 | F68: 12.12 | G68: 142 | H68: 0 | I68: =IF(E68="","",((G68-E68)*20)+H68-F68) -> 187.88 | K68: 2700.03 | L68: =IF(E68="","",(I68*J68)+K68) -> 2700.03
C69: Caixa 01 | D69: Retorno 02 | E69: 170 | F69: 12.12 | G69: 176 | H69: 12.12 | I69: =IF(E69="","",((G69-E69)*20)+H69-F69) -> 120 | K69: 1899.75 | L69: =IF(E69="","",(I69*J69)+K69) -> 1899.75 | S69: TOTAL A EXECUTAR
I76: =SUM(I66:I75) -> 953 | L76: =SUM(L66:L75) -> 16227.598
B78: MEMÓRIA DE CÁLCULO DE QUANTIDADES - REGULARIZAÇÃO DO SUBLEITO
K82: =K44+K45+K66 -> 24316.75 | L82: =L55+L76 -> 48101.538
I84: =

Sheet MC BGTC
C2: Ocorrência | E2: Destino | F2: Entre Estacas | J2: Exten- | K2: Lar- | L2: Área | M2: Área | P2: Densidade | S2: DMT (Km) | W2: Momento
B3: SERVIÇO | C3: Origem | D3: Acesso | F3: Inicial | H3: Final | J3: são | K3: gura | L3: Variável | M3: Total | N3: Esp. | O3: Volume | P3: ou | R3: Peso | S3: Fixa | T3: Da fonte | U3: No | V3: DMT | W3: Transporte
D4: Est. | F4: Int. | G4: Frac. | H4: Int. | I4: Frac. | J4: (m) | K4: (m) | L4: (m2) | M4: (m2) | N4: (cm) | O4: (m3) | P4: Taxa | R4: (t) | T4: ao Seg | U4: Seg. | V4: Seg. | W4: (m3 x Km)
B5: SUB-BASE DE BRITA GRADUADA TRATADA COM CIMENTO | C5: Canteiro | D5: 187 | E5: Pista - Esquerda Retorno 01 | F5: 15 | G5: 9.67 | H5: 92 | I5: 1.55 | J5: =IF(F5="","",((H5-F5)*20)+I5-G5) -> 1531.88 | L5: 19478.98 | M5: =+J5*K5+L5 -> 19478.98 | N5: 10 | O5: =IF(F5="","",M5*N5/100) -> 1947.898 | P5: 2.248 | Q5: t/m3 | R5: =+P5*O5 -> 4378.8747 | S5: 0.04 | T5: =IF(F5="","",IF(D5>H5,((D5-H5)*0.02),IF(D5<F5,((F5-D5)*0.02),IF(F5="","",0)))) -> 1.9 | U5: =IF(F5="","",IF(D5>H5,((((H5-F5)*20)+I5-G5)/2000),IF(D5>F5,((((D5-F5)*0.02)^2)+(((H5-D5)*0.02)^2))/(2*((H5-F5)*0.02)),((((H5-F5)*20)+I5-G5)/2000)))) -> 0.76594 | V5: =IF(F5="","",S5+T5+U5) -> 2.70594 | W5: =IF(F5="","",O5*V5*1.48) -> 7800.9248 | AC5: TOTAL NO INTERVALO
C6: =+C5 -> Canteiro | D6: 187 | E6: Pista Esquerda Segmento 02 | F6: 92 | G6: 1.55 | H6: 132 | I6: 12.12 | J6: =IF(F6="","",((H6-F6)*20)+I6-G6) -> 810.57 | K6: 10.83 | M6: =+J6*K6+L6 -> 8778.4731 | N6: 10 | O6: =IF(F6="","",M6*N6/100) -> 877.84731 | P6: 2.248 | Q6: t/m3 | R6: =+P6*O6 -> 1973.4008 | S6: 0.04 | T6: =IF(F6="","",IF(D6>H6,((D6-H6)*0.02),IF(D6<F6,((F6-D6)*0.02),IF(F6="","",0)))) -> 1.1 | U6: =IF(F6="","",IF(D6>H6,((((H6-F6)*20)+I6-G6)/2000),IF(D6>F6,((((D6-F6)*0.02)^2)+(((H6-D6)*0.02)^2))/(2*((H6-F6)*0.02)),((((H6-F6)*20)+I6-G6)/2000)))) -> 0.405285 | V6: =IF(F6="","",S6+T6+U6) -> 1.545285 | W6: =IF(F6="","",O6*V6*1.48) -> 2007.6559
C7: =+C6 -> Canteiro | D7: 187 | E7: Pista - Esquerda Retorno 02 | F7: 132 | G7: 12.12 | H7: 176 | I7: 12.12 | J7: =IF(F7="","",((H7-F7)*20)+I7-G7) -> 880 | L7: 12362.26 | M7: =+J7*K7+L7 -> 12362.26 | N7: 10 | O7: =IF(F7="","",M7*N7/100) -> 1236.226 | P7: 2.248 | Q7: t/m3 | R7: =+P7*O7 -> 2779.036 | S7: 0.04 | T7: =IF(F7="","",IF(D7>H7,((D7-H7)*0.02),IF(D7<F7,((F7-D7)*0.02),IF(F7="","",0)))) -> 0.22 | U7: =IF(F7="","",IF(D7>H7,((((H7-F7)*20)+I7-G7)/2000),IF(D7>F7,((((D7-F7)*0.02)^2)+(((H7-D7)*0.02)^2))/(2*((H7-F7)*0.02)),((((H7-F7)*20)+I7-G7)/2000)))) -> 0.44 | V7: =IF(F7="","",S7+T7+U7) -> 0.7 | W7: =IF(F7="","",O7*V7*1.48) -> 1280.7301
Z10: 11954.217
M31: =IF(F31="","",(J31*K31)+L31+#REF!) | O31: =IF(F31="","",M31*N31/100) | T31: =IF(F31="","",IF(D31>H31,((D31-H31)*0.02),IF(D31<F31,((F31-D31)*0.02),IF(F31="","",0)))) | U31: =IF(F31="","",IF(D31>H31,((((H31-F31)*20)+I31-G31)/2000),IF(D31>F31,((((D31-F31)*0.02)^2)+(((H31-D31)*0.02)^2))/(2*((H31-F31)*0.02)),((((H31-F31)*20)+I31-G31)/2000)))) | V31: =IF(F31="","",S31+T31+U31) | W31: =IF(F31="","",O31*V31)
J32: =SUM(J5:J31) -> 3222.45 | M32: =SUM(M5:M31) -> 40619.713 | O32: =SUM(O5:O31) -> 4061.9713 | R32: =SUM(R5:R31) -> 9131.3115 | S32: DMT final = | U32: =W32/O32 -> 2.7300318 | V32: Km | W32: =SUM(W5:W31) -> 11089.311
B34: MEMÓRIA DE CÁLCULO DE QUANTIDADES - SUB-BASE BGTC
C41: Ocorrência | E41: Destino | F41: Entre Estacas | J41: Exten- | K41: Lar- | L41: Área | M41: Área | P41: Densidade | S41: DMT (Km) | W41: Momento
B42: SERVIÇO | C42: Origem | D42: Acesso | F42: Inicial | H42: Final | J42: são | K42: gura | L42: Variável | M42: Total | N42: Esp. | O42: Volume | P42: ou | R42: Peso | S42: Fixa | T42: Da fonte | U42: No | V42: DMT | W42: Transporte
D43: Est. | F43: Int. | G43: Frac. | H43: Int. | I43: Frac. | J43: (m) | K43: (m) | L43: (m2) | M43: (m2) | N43: (cm) | O43: (m3) | P43: Taxa | R43: (t) | T43: ao Seg | U43: Seg. | V43: Seg. | W43: (m3 x Km)
B44: SUB-BASE DE BRITA GRADUADA TRATADA COM CIMENTO | C44: Canteiro | D44: 187 | E44: Pista - Esquerda Retorno 01 | F44: 15 | G44: 9.67 | H44: 61 | I44: 1.67 | J44: =IF(F44="","",((H44-F44)*20)+I44-G44) -> 912 | L44: 11848.47 | M44: =+J44*K44+L44 -> 11848.47 | N44: 10 | O44: =IF(F44="","",M44*N44/100) -> 1184.847 | P44: 2.248 | Q44: t/m3 | R44: =+P44*O44 -> 2663.5361 | S44: 0.04 | T44: =IF(F44="","",IF(D44>H44,((D44-H44)*0.02),IF(D44<F44,((F44-D44)*0.02),IF(F44="","",0)))) -> 2.52 | U44: =IF(F44="","",IF(D44>H44,((((H44-F44)*20)+I44-G44)/2000),IF(D44>F44,((((D44-F44)*0.02)^2)+(((H44-D44)*0.02)^2))/(2*((H44-F44)*0.02)),((((H44-F44)*20)+I44-G44)/2000)))) -> 0.456 | V44: =IF(F44="","",S44+T44+U44) -> 3.016 | W44: =IF(F44="","",O44*V44*1.48) -> 5288.7779
C45: Canteiro | D45: 187 | E45: Pista - Esquerda Retorno 01 | F45: 80 | G45: 14.67 | H45: 92 | I45: 1.55 | J45: =IF(F45="","",((H45-F45)*20)+I45-G45) -> 226.88 | L45: 2322.48 | M45: =+J45*K45+L45 -> 2322.48 | N45: 10 | O45: =IF(F45="","",M45*N45/100) -> 232.248 | P45: 2.248 | Q45: t/m3 | R45: =+P45*O45 -> 522.0935 | S45: 0.04 | T45: =IF(F45="","",IF(D45>H45,((D45-H45)*0.02),IF(D45<F45,((F45-D45)*0.02),IF(F45="","",0)))) -> 1.9 | U45: =IF(F45="","",IF(D45>H45,((((H45-F45)*20)+I45-G45)/2000),IF(D45>F45,((((D45-F45)*0.02)^2)+(((H45-D45)*0.02)^2))/(2*((H45-F45)*0.02)),((((H45-F45)*20)+I45-G45)/2000)))) -> 0.11344 | V45: =IF(F45="","",S45+T45+U45) -> 2.05344 | W45: =IF(F45="","",O45*V45*1.48) -> 705.82285
C46: =+C44 -> Canteiro | D46: 187 | E46: Pista Esquerda Segmento 02 | F46: 92 | G46: 1.55 | H46: 120 | I46: 0 | J46: =IF(F46="","",((H46-F46)*20)+I46-G46) -> 558.45 | K46: 10.83 | M46: =+J46*K46+L46 -> 6048.0135 | N46: 10 | O46: =IF(F46="","",M46*N46/100) -> 604.80135 | P46: 2.248 | Q46: t/m3 | R46: =+P46*O46 -> 1359.5934 | S46: 0.04 | T46: =IF(F46="","",IF(D46>H46,((D46-H46)*0.02),IF(D46<F46,((F46-D46)*0.02),IF(F46="","",0)))) -> 1.34 | U46: =IF(F46="","",IF(D46>H46,((((H46-F46)*20)+I46-G46)/2000),IF(D46>F46,((((D46-F46)*0.02)^2)+(((H46-D46)*0.02)^2))/(2*((H46-F46)*0.02)),((((H46-F46)*20)+I46-G46)/2000)))) -> 0.279225 | V46: =IF(F46="","",S46+T46+U46) -> 1.659225 | W46: =IF(F46="","",O46*V46*1.48) -> 1485.1822
C47: =+C46 -> Canteiro | D47: 187 | E47: Pista - Esquerda Retorno 02 | F47: 142 | G47: 0 | H47: 170 | I47: 12.12 | J47: =IF(F47="","",((H47-F47)*20)+I47-G47) -> 572.12 | L47: 8241.61 | M47: =+J47*K47+L47 -> 8241.61 | N47: 10 | O47: =IF(F47="","",M47*N47/100) -> 824.161 | P47: 2.248 | Q47: t/m3 | R47: =+P47*O47 -> 1852.7139 | S47: 0.04 | T47: =IF(F47="","",IF(D47>H47,((D47-H47)*0.02),IF(D47<F47,((F47-D47)*0.02),IF(F47="","",0)))) -> 0.34 | U47: =IF(F47="","",IF(D47>H47,((((H47-F47)*20)+I47-G47)/2000),IF(D47>F47,((((D47-F47)*0.02)^2)+(((H47-D47)*0.02)^2))/(2*((H47-F47)*0.02)),((((H47-F47)*20)+I47-G47)/2000)))) -> 0.28606 | V47: =IF(F47="","",S47+T47+U47) -> 0.66606 | W47: =IF(F47="","",O47*V47*1.48) -> 812.4322
AC51: TOTAL EXECUTADO
M55: =IF(F55="","",(J55*K55)+L55+#REF!) | O55: =IF(F55="","",M55*N55/100) | T55: =IF(F55="","",IF(D55>H55,((D55-H55)*0.02),IF(D55<F55,((F55-D55)*0.02),IF(F55="","",0)))) | U55: =IF(F55="","",IF(D55>H55,((((H55-F55)*20)+I55-G55)/2000),IF(D55>F55,((((D55-F55)*0.02)^2)+(((H55-D55)*0.02)^2))/(2*((H55-F55)*0.02)),((((H55-F55)*20)+I55-G55)/2000)))) | V55: =IF(F55="","",S55+T55+U55) | W55: =IF(F55="","",O55*V55)
J56: =SUM(J44:J55) -> 2269.45 | M56: =SUM(M44:M55) -> 28460.573 | O56: =SUM(O44:O55) -> 2846.0574 | R56: =SUM(R44:R55) -> 6397.9369 | S56: DMT final = | U56: =W56/O56 -> 2.9135798 | V56: Km | W56: =SUM(W44:W55) -> 8292.2152
B58: MEMÓRIA DE CÁLCULO DE QUANTIDADES - SUB-BASE BGTC
C62: Ocorrência | E62: Origem | F62: Entre Estacas | J62: Exten- | K62: Lar- | L62: Área | M62: Área | P62: Densidade | S62: DMT (Km) | W62: Momento
B63: SERVIÇO | C63: Destino | D63: Acesso | F63: Inicial | H63: Final | J63: são | K63: gura | L63: Variável | M63: Total | N63: Esp. | O63: Volume | P63: ou | R63: Peso | S63: Fixa | T63: Da fonte | U63: No | V63: DMT | W63: Transporte
D64: Est. | F64: Int. | G64: Frac. | H64: Int. | I64: Frac. | J64: (m) | K64: (m) | L64: (m2) | M64: (m2) | N64: (cm) | O64: (m3) | P64: Taxa | R64: (t) | T64: ao Seg | U64: Seg. | V64: Seg. | W64: (m3 x Km)
B65: SUB-BASE DE BRITA GRADUADA TRATADA COM CIMENTO A FRESAR | C65: Canteiro | D65: 187 | E65: Pista - Esquerda Retorno 01 | F65: 44 | G65: 10 | H65: 51 | I65: 0 | J65: =IF(F65="","",((H65-F65)*20)+I65-G65) -> 130 | L65: 1611.2 | M65: 1806.99 | N65: 10 | O65: =IF(F65="","",M65*N65/100) -> 180.699 | P65: 2.248 | Q65: t/m3 | R65: =+P65*O65 -> 406.21135 | S65: 0.04 | T65: =IF(F65="","",IF(D65>H65,((D65-H65)*0.02),IF(D65<F65,((F65-D65)*0.02),IF(F65="","",0)))) -> 2.72 | U65: =IF(F65="","",IF(D65>H65,((((H65-F65)*20)+I65-G65)/2000),IF(D65>F65,((((D65-F65)*0.02)^2)+(((H65-D65)*0.02)^2))/(2*((H65-F65)*0.02)),((((H65-F65)*20)+I65-G65)/2000)))) -> 0.065 | V65: =IF(F65="","",S65+T65+U65) -> 2.825 | W65: =IF(F65="","",O65*V65*1.48) -> 755.50252
C66: Canteiro | D66: 187 | E66: Pista - Esquerda Retorno 01 | F66: 88 | G66: 5 | H66: 91 | I66: 0 | J66: =IF(F66="","",((H66-F66)*20)+I66-G66) -> 55 | L66: 251.49 | M66: 676.22 | N66: 10 | O66: =IF(F66="","",M66*N66/100) -> 67.622 | P66: 2.248 | Q66: t/m3 | R66: =+P66*O66 -> 152.01426 | S66: 0.04 | T66: =IF(F66="","",IF(D66>H66,((D66-H66)*0.02),IF(D66<F66,((F66-D66)*0.02),IF(F66="","",0)))) -> 1.92 | U66: =IF(F66="","",IF(D66>H66,((((H66-F66)*20)+I66-G66)/2000),IF(D66>F66,((((D66-F66)*0.02)^2)+(((H66-D66)*0.02)^2))/(2*((H66-F66)*0.02)),((((H66-F66)*20)+I66-G66)/2000)))) -> 0.0275 | V66: =IF(F66="","",S66+T66+U66) -> 1.9875 | W66: =IF(F66="","",O66*V66*1.48) -> 198.91011
C67: =+C65 -> Canteiro | D67: 187 | E67: Pista Esquerda Segmento 02 | F67: 95 | G67: 0 | H67: 105 | I67: 0 | J67: =IF(F67="","",((H67-F67)*20)+I67-G67) -> 200 | K67: 10.83 | M67: =+J67*K67+L67 -> 2166 | N67: 10 | O67: =IF(F67="","",M67*N67/100) -> 216.6 | P67: 2.248 | Q67: t/m3 | R67: =+P67*O67 -> 486.9168 | S67: 0.04 | T67: =IF(F67="","",IF(D67>H67,((D67-H67)*0.02),IF(D67<F67,((F67-D67)*0.02),IF(F67="","",0)))) -> 1.64 | U67: =IF(F67="","",IF(D67>H67,((((H67-F67)*20)+I67-G67)/2000),IF(D67>F67,((((D67-F67)*0.02)^2)+(((H67-D67)*0.02)^2))/(2*((H67-F67)*0.02)),((((H67-F67)*20)+I67-G67)/2000)))) -> 0.1 | V67: =IF(F67="","",S67+T67+U67) -> 1.78 | W67: =IF(F67="","",O67*V67*1.48) -> 570.61104
C68: =+C67 -> Canteiro | D68: 187 | E68: Pista - Esquerda Retorno 02 | F68: 142 | G68: 0 | H68: 156 | I68: 0 | J68: =IF(F68="","",((H68-F68)*20)+I68-G68) -> 280 | L68: 3838.77 | M68: 3869.57 | N68: 10 | O68: =IF(F68="","",M68*N68/100) -> 386.957 | P68: 2.248 | Q68: t/m3 | R68: =+P68*O68 -> 869.87934 | S68: 0.04 | T68: =IF(F68="","",IF(D68>H68,((D68-H68)*0.02),IF(D68<F68,((F68-D68)*0.02),IF(F68="","",0)))) -> 0.62 | U68: =IF(F68="","",IF(D68>H68,((((H68-F68)*20)+I68-G68)/2000),IF(D68>F68,((((D68-F68)*0.02)^2)+(((H68-D68)*0.02)^2))/(2*((H68-F68)*0.02)),((((H68-F68)*20)+I68-G68)/2000)))) -> 0.14 | V68: =IF(F68="","",S68+T68+U68) -> 0.8 | W68: =IF(F68="","",O68*V68*1.48) -> 458.15709
AC72: TOTAL EXECUTADO
AC73: A FRESAR
M76: =IF(F76="","",(J76*K76)+L76+#REF!) | O76: =IF(F76="","",M76*N76/100) | T76: =IF(F76="","",IF(D76>H76,((D76-H76)*0.02),IF(D76<F76,((F76-D76)*0.02),IF(F76="","",0)))) | U76: =IF(F76="","",IF(D76>H76,((((H76-F76)*20)+I76-G76)/2000),IF(D76>F76,((((D76-F76)*0.02)^2)+(((H76-D76)*0.02)^2))/(2*((H76-F76)*0.02)),((((H76-F76)*20)+I76-G76)/2000)))) | V76: =IF(F76="","",S76+T76+U76) | W76: =IF(F76="","",O76*V76)
J77: =SUM(J65:J76) -> 665 | M77: =SUM(M65:M76) -> 8518.78 | O77: =SUM(O65:O76) -> 851.878 | R77: =SUM(R65:R76) -> 1915.0217 | S77: DMT final = | U77: =W77/O77 -> 2.3280103 | V77: Km | W77: =SUM(W65:W76) -> 1983.1808
Y78: ÁREA COMPLEMENTAR | AA78: =M56-M77 -> 19941.793
M79: =M77/J77 -> 12.810195 | Y79: 15% DA ÁREA COMPLEMENTAR | AB79: =AA78*0.15 -> 2991.269
C83: Ocorrência | E83: Origem | F83: Entre Estacas | J83: Exten- | K83: Lar- | L83: Área | M83: Área | P83: Densidade | S83: DMT (Km) | W83: Momento | Y83: MATERIA FRESADO TRANSPORTADO PARA O CANTEIRO DE OBRA NA ESTACA 187 PARA EXECUÇÃO DE BGTC 50% MATERIA FRESADO +50% BRITA
B84: SERVIÇO | C84: Destino | D84: Acesso | F84: Inicial | H84: Final | J84: são | K84: gura | L84: Variável | M84: Total | N84: Esp. | O84: Volume | P84: ou | R84: Peso | S84: Fixa | T84: Da fonte | U84: No | V84: DMT | W84: Transporte
D85: Est. | F85: Int. | G85: Frac. | H85: Int. | I85: Frac. | J85: (m) | K85: (m) | L85: (m2) | M85: (m2) | N85: (cm) | O85: (m3) | P85: Taxa | R85: (t) | T85: ao Seg | U85: Seg. | V85: Seg. | W85: (m3 x Km)
B86: FRESAGEM 8 CM DA SUB-BASE DE BRITA GRADUADA TRATADA COM CIMENTO | C86: Canteiro | D86: 187 | E86: Pista - Esquerda Retorno 01 | F86: 44 | G86: 10 | H86: 51 | I86: 0 | J86: =IF(F86="","",((H86-F86)*20)+I86-G86) -> 130 | L86: 1611.2 | M86: 1806.99 | N86: 8 | O86: =IF(F86="","",M86*N86/100) -> 144.5592 | P86: 2.248 | Q86: t/m3 | R86: =+P86*O86 -> 324.96908 | S86: 0.04 | T86: =IF(F86="","",IF(D86>H86,((D86-H86)*0.02),IF(D86<F86,((F86-D86)*0.02),IF(F86="","",0)))) -> 2.72 | U86: =IF(F86="","",IF(D86>H86,((((H86-F86)*20)+I86-G86)/2000),IF(D86>F86,((((D86-F86)*0.02)^2)+(((H86-D86)*0.02)^2))/(2*((H86-F86)*0.02)),((((H86-F86)*20)+I86-G86)/2000)))) -> 0.065 | V86: =IF(F86="","",S86+T86+U86) -> 2.825 | W86: =IF(F86="","",O86*V86*1.48) -> 604.40202
C87: Canteiro | D87: 187 | E87: Pista - Esquerda Retorno 01 | F87: 88 | G87: 5 | H87: 91 | I87: 0 | J87: =IF(F87="","",((H87-F87)*20)+I87-G87) -> 55 | L87: 251.49 | M87: 676.22 | N87: 8 | O87: =IF(F87="","",M87*N87/100) -> 54.0976 | P87: 2.248 | Q87: t/m3 | R87: =+P87*O87 -> 121.6114 | S87: 0.04 | T87: =IF(F87="","",IF(D87>H87,((D87-H87)*0.02),IF(D87<F87,((F87-D87)*0.02),IF(F87="","",0)))) -> 1.92 | U87: =IF(F87="","",IF(D87>H87,((((H87-F87)*20)+I87-G87)/2000),IF(D87>F87,((((D87-F87)*0.02)^2)+(((H87-D87)*0.02)^2))/(2*((H87-F87)*0.02)),((((H87-F87)*20)+I87-G87)/2000)))) -> 0.0275 | V87: =IF(F87="","",S87+T87+U87) -> 1.9875 | W87: =IF(F87="","",O87*V87*1.48) -> 159.12809
C88: =+C86 -> Canteiro | D88: 187 | E88: Pista Esquerda Segmento 02 | F88: 95 | G88: 0 | H88: 105 | I88: 0 | J88: =IF(F88="","",((H88-F88)*20)+I88-G88) -> 200 | K88: 10.83 | M88: =+J88*K88+L88 -> 2166 | N88: 8 | O88: =IF(F88="","",M88*N88/100) -> 173.28 | P88: 2.248 | Q88: t/m3 | R88: =+P88*O88 -> 389.53344 | S88: 0.04 | T88: =IF(F88="","",IF(D88>H88,((D88-H88)*0.02),IF(D88<F88,((F88-D88)*0.02),IF(F88="","",0)))) -> 1.64 | U88: =IF(F88="","",IF(D88>H88,((((H88-F88)*20)+I88-G88)/2000),IF(D88>F88,((((D88-F88)*0.02)^2)+(((H88-D88)*0.02)^2))/(2*((H88-F88)*0.02)),((((H88-F88)*20)+I88-G88)/2000)))) -> 0.1 | V88: =IF(F88="","",S88+T88+U88) -> 1.78 | W88: =IF(F88="","",O88*V88*1.48) -> 456.48883
...

Sheet MC IMPR
C2: Ocorrência | E2: Destino | F2: Entre Estacas | J2: Exten- | K2: Lar- | L2: Área | M2: Área | N2: Nº Aplicações | O2: Densidade | R2: DMT (Km) | V2: Momento
B3: SERVIÇO | C3: Origem | D3: Acesso | F3: Inicial | H3: Final | J3: são | K3: gura | L3: Variável | M3: Total | O3: ou | Q3: Peso | R3: Fixa | S3: Da fonte | T3: No | U3: DMT | V3: Transporte
D4: Est. | F4: Int. | G4: Frac. | H4: Int. | I4: Frac. | J4: (m) | K4: (m) | L4: (m2) | M4: (m2) | O4: Taxa | Q4: (t) | S4: ao Seg | T4: Seg. | U4: Seg. | V4: (tx Km)
B5: IMPRIMAÇÃO (EAI) | O5: =$O$16 -> 1.3 | AB5: TOTAL NO INTERVALO
C6: Canteiro | D6: 187 | E6: Pista - Esquerda Retorno 01 | F6: 15 | G6: 9.67 | H6: 92 | I6: 1.55 | J6: =IF(F6="","",((H6-F6)*20)+I6-G6) -> 1531.88 | L6: ='MC CCP'!L5 -> 18783.7 | M6: =+J6*K6*N6+L6 -> 18783.7 | N6: =IF(F6="","",1) -> 1 | O6: =$O$16 -> 1.3 | P6: =IF(F6="","","l/m2") -> l/m2 | Q6: =IF(F6="","",M6*O6/1000) -> 24.41881 | R6: 0.04 | S6: =IF(F6="","",IF(D6>H6,((D6-H6)*0.02),IF(D6<F6,((F6-D6)*0.02),IF(F6="","",0)))) -> 1.9 | T6: =IF(F6="","",IF(D6>H6,((((H6-F6)*20)+I6-G6)/2000),IF(D6>F6,((((D6-F6)*0.02)^2)+(((H6-D6)*0.02)^2))/(2*((H6-F6)*0.02)),((((H6-F6)*20)+I6-G6)/2000)))) -> 0.76594 | U6: =IF(F6="","",R6+S6+T6) -> 2.70594 | V6: =IF(F6="","",Q6*U6) -> 66.075835
C7: Canteiro | D7: 187 | E7: Pista Esquerda Segmento 02 | F7: 92 | G7: 1.55 | H7: 132 | I7: 12.12 | J7: =IF(F7="","",((H7-F7)*20)+I7-G7) -> 810.57 | K7: 10.3 | M7: =+J7*K7*N7+L7 -> 8348.871 | N7: =IF(F7="","",1) -> 1 | O7: =$O$16 -> 1.3 | P7: =IF(F7="","","l/m2") -> l/m2 | Q7: =IF(F7="","",M7*O7/1000) -> 10.853532 | R7: 0.04 | S7: =IF(F7="","",IF(D7>H7,((D7-H7)*0.02),IF(D7<F7,((F7-D7)*0.02),IF(F7="","",0)))) -> 1.1 | T7: =IF(F7="","",IF(D7>H7,((((H7-F7)*20)+I7-G7)/2000),IF(D7>F7,((((D7-F7)*0.02)^2)+(((H7-D7)*0.02)^2))/(2*((H7-F7)*0.02)),((((H7-F7)*20)+I7-G7)/2000)))) -> 0.405285 | U7: =IF(F7="","",R7+S7+T7) -> 1.545285 | V7: =IF(F7="","",Q7*U7) -> 16.771801
C8: Canteiro | D8: 187 | E8: Pista - Esquerda Retorno 02 | F8: 132 | G8: 12.12 | H8: 176 | I8: 12.12 | J8: =IF(F8="","",((H8-F8)*20)+I8-G8) -> 880 | L8: ='MC CCP'!L7 -> 11914.46 | M8: =+J8*K8*N8+L8 -> 11914.46 | N8: =IF(F8="","",1) -> 1 | O8: =$O$16 -> 1.3 | P8: =IF(F8="","","l/m2") -> l/m2 | Q8: =IF(F8="","",M8*O8/1000) -> 15.488798 | R8: 0.04 | S8: =IF(F8="","",IF(D8>H8,((D8-H8)*0.02),IF(D8<F8,((F8-D8)*0.02),IF(F8="","",0)))) -> 0.22 | T8: =IF(F8="","",IF(D8>H8,((((H8-F8)*20)+I8-G8)/2000),IF(D8>F8,((((D8-F8)*0.02)^2)+(((H8-D8)*0.02)^2))/(2*((H8-F8)*0.02)),((((H8-F8)*20)+I8-G8)/2000)))) -> 0.44 | U8: =IF(F8="","",R8+S8+T8) -> 0.7 | V8: =IF(F8="","",Q8*U8) -> 10.842159
J16: =SUM(J5:J15) -> 3222.45 | M16: =SUM(M5:M15) -> 39047.031 | O16: 1.3 | P16: l/m2 | Q16: =SUM(Q5:Q15) -> 50.76114 | R16: DMT final = | T16: =V16/Q16 -> 1.8456992 | U16: Km | V16: =SUM(V5:V15) -> 93.689794
B18: MEMÓRIA DE CÁLCULO DE QUANTIDADES -IMPRIMAÇÃO
C31: Ocorrência | E31: Destino | F31: Entre Estacas | J31: Exten- | K31: Lar- | L31: Área | M31: Área | N31: Nº Aplicações | O31: Densidade | R31: DMT (Km) | V31: Momento
B32: SERVIÇO | C32: Origem | D32: Acesso | F32: Inicial | H32: Final | J32: são | K32: gura | L32: Variável | M32: Total | O32: ou | Q32: Peso | R32: Fixa | S32: Da fonte | T32: No | U32: DMT | V32: Transporte
D33: Est. | F33: Int. | G33: Frac. | H33: Int. | I33: Frac. | J33: (m) | K33: (m) | L33: (m2) | M33: (m2) | O33: Taxa | Q33: (t) | S33: ao Seg | T33: Seg. | U33: Seg. | V33: (tx Km)
B34: IMPRIMAÇÃO (EAI) | O34: =$O$16 -> 1.3
C35: Canteiro | D35: 187 | E35: Pista - Esquerda Retorno 01 | F35: 44 | G35: 10 | H35: 51 | I35: 0 | J35: =IF(F35="","",((H35-F35)*20)+I35-G35) -> 130 | L35: 1806.99 | M35: =+J35*K35*N35+L35 -> 1806.99 | N35: =IF(F35="","",1) -> 1 | O35: =$O$16 -> 1.3 | P35: =IF(F35="","","l/m2") -> l/m2 | Q35: =IF(F35="","",M35*O35/1000) -> 2.349087 | R35: 0.04 | S35: =IF(F35="","",IF(D35>H35,((D35-H35)*0.02),IF(D35<F35,((F35-D35)*0.02),IF(F35="","",0)))) -> 2.72 | T35: =IF(F35="","",IF(D35>H35,((((H35-F35)*20)+I35-G35)/2000),IF(D35>F35,((((D35-F35)*0.02)^2)+(((H35-D35)*0.02)^2))/(2*((H35-F35)*0.02)),((((H35-F35)*20)+I35-G35)/2000)))) -> 0.065 | U35: =IF(F35="","",R35+S35+T35) -> 2.825 | V35: =IF(F35="","",Q35*U35) -> 6.6361708
C36: Canteiro | D36: 187 | E36: Pista - Esquerda Retorno 01 | F36: 88 | G36: 5 | H36: 91 | I36: 0 | J36: =IF(F36="","",((H36-F36)*20)+I36-G36) -> 55 | L36: 676.22 | M36: =+J36*K36*N36+L36 -> 676.22 | N36: =IF(F36="","",1) -> 1 | O36: =$O$16 -> 1.3 | P36: =IF(F36="","","l/m2") -> l/m2 | Q36: =IF(F36="","",M36*O36/1000) -> 0.879086 | R36: 0.04 | S36: =IF(F36="","",IF(D36>H36,((D36-H36)*0.02),IF(D36<F36,((F36-D36)*0.02),IF(F36="","",0)))) -> 1.92 | T36: =IF(F36="","",IF(D36>H36,((((H36-F36)*20)+I36-G36)/2000),IF(D36>F36,((((D36-F36)*0.02)^2)+(((H36-D36)*0.02)^2))/(2*((H36-F36)*0.02)),((((H36-F36)*20)+I36-G36)/2000)))) -> 0.0275 | U36: =IF(F36="","",R36+S36+T36) -> 1.9875 | V36: =IF(F36="","",Q36*U36) -> 1.7471834
C37: =+C35 -> Canteiro | D37: 187 | E37: Pista Esquerda Segmento 02 | F37: 95 | G37: 0 | H37: 105 | I37: 0 | J37: =IF(F37="","",((H37-F37)*20)+I37-G37) -> 200 | K37: 10.3 | M37: =+J37*K37*N37+L37 -> 2060 | N37: =IF(F37="","",1) -> 1 | O37: =$O$16 -> 1.3 | P37: =IF(F37="","","l/m2") -> l/m2 | Q37: =IF(F37="","",M37*O37/1000) -> 2.678 | R37: 0.04 | S37: =IF(F37="","",IF(D37>H37,((D37-H37)*0.02),IF(D37<F37,((F37-D37)*0.02),IF(F37="","",0)))) -> 1.64 | T37: =IF(F37="","",IF(D37>H37,((((H37-F37)*20)+I37-G37)/2000),IF(D37>F37,((((D37-F37)*0.02)^2)+(((H37-D37)*0.02)^2))/(2*((H37-F37)*0.02)),((((H37-F37)*20)+I37-G37)/2000)))) -> 0.1 | U37: =IF(F37="","",R37+S37+T37) -> 1.78 | V37: =IF(F37="","",Q37*U37) -> 4.76684
C38: =+C37 -> Canteiro | D38: 187 | E38: Pista - Esquerda Retorno 02 | F38: 142 | G38: 0 | H38: 156 | I38: 0 | J38: =IF(F38="","",((H38-F38)*20)+I38-G38) -> 280 | L38: 3869.57 | M38: =+J38*K38*N38+L38 -> 3869.57 | N38: =IF(F38="","",1) -> 1 | O38: =$O$16 -> 1.3 | P38: =IF(F38="","","l/m2") -> l/m2 | Q38: =IF(F38="","",M38*O38/1000) -> 5.030441 | R38: 0.04 | S38: =IF(F38="","",IF(D38>H38,((D38-H38)*0.02),IF(D38<F38,((F38-D38)*0.02),IF(F38="","",0)))) -> 0.62 | T38: =IF(F38="","",IF(D38>H38,((((H38-F38)*20)+I38-G38)/2000),IF(D38>F38,((((D38-F38)*0.02)^2)+(((H38-D38)*0.02)^2))/(2*((H38-F38)*0.02)),((((H38-F38)*20)+I38-G38)/2000)))) -> 0.14 | U38: =IF(F38="","",R38+S38+T38) -> 0.8 | V38: =IF(F38="","",Q38*U38) -> 4.0243528
C39: Canteiro | D39: 187 | E39: Área adicional prevista a restaurar( 15% da Área complementar executada) | F39: 15 | G39: 9.67 | H39: 170 | I39: 12.12 | L39: ='MC BGTC'!L110 -> 2991.27 | M39: =+J39*K39*N39+L39 -> 2991.27 | N39: =IF(F39="","",1) -> 1 | O39: =$O$16 -> 1.3 | P39: =IF(F39="","","l/m2") -> l/m2 | Q39: =IF(F39="","",M39*O39/1000) -> 3.888651 | R39: 0.04 | S39: =IF(F39="","",IF(D39>H39,((D39-H39)*0.02),IF(D39<F39,((F39-D39)*0.02),IF(F39="","",0)))) -> 0.34 | T39: =IF(F39="","",IF(D39>H39,((((H39-F39)*20)+I39-G39)/2000),IF(D39>F39,((((D39-F39)*0.02)^2)+(((H39-D39)*0.02)^2))/(2*((H39-F39)*0.02)),((((H39-F39)*20)+I39-G39)/2000)))) -> 1.551225 | U39: =IF(F39="","",R39+S39+T39) -> 1.931225 | V39: =IF(F39="","",Q39*U39) -> 7.50986 | Y39: 261 | AB39: TOTAL A EXECUTAR
C40: Canteiro | D40: 187 | E40: Retorno 01 | F40: 61 | G40: 1.67 | H40: 80 | I40: 14.67 | J40: =IF(F40="","",((H40-F40)*20)+I40-G40) -> 393 | L40: 5467.29
C41: Canteiro | D41: 187 | E41: SEGMENTO 02 - PE | F41: 120 | G41: 0 | H41: 132 | I41: 12.12 | J41: =IF(F41="","",((H41-F41)*20)+I41-G41) -> 252.12 | K41: 10.3 | M41: =+J41*K41*N41+L41 -> 2596.836 | N41: =IF(F41="","",1) -> 1 | O41: =$O$16 -> 1.3 | P41: =IF(F41="","","l/m2") -> l/m2 | Q41: =IF(F41="","",M41*O41/1000) -> 3.3758868 | R41: 0.04 | S41: =IF(F41="","",IF(D41>H41,((D41-H41)*0.02),IF(D41<F41,((F41-D41)*0.02),IF(F41="","",0)))) -> 1.1 | T41: =IF(F41="","",IF(D41>H41,((((H41-F41)*20)+I41-G41)/2000),IF(D41>F41,((((D41-F41)*0.02)^2)+(((H41-D41)*0.02)^2))/(2*((H41-F41)*0.02)),((((H41-F41)*20)+I41-G41)/2000)))) -> 0.12606 | U41: =IF(F41="","",R41+S41+T41) -> 1.26606 | V41: =IF(F41="","",Q41*U41) -> 4.2740752
C42: =+C40 -> Canteiro | D42: 187 | E42: Retorno 02 | F42: 132 | G42: 12.12 | H42: 142 | I42: 0 | J42: =IF(F42="","",((H42-F42)*20)+I42-G42) -> 187.88 | L42: 2305.67 | M42: =+J42*K42*N42+L42 -> 2305.67 | N42: =IF(F42="","",1) -> 1 | O42: =$O$16 -> 1.3 | P42: =IF(F42="","","l/m2") -> l/m2 | Q42: =IF(F42="","",M42*O42/1000) -> 2.997371 | R42: 0.04 | S42: =IF(F42="","",IF(D42>H42,((D42-H42)*0.02),IF(D42<F42,((F42-D42)*0.02),IF(F42="","",0)))) -> 0.9 | T42: =IF(F42="","",IF(D42>H42,((((H42-F42)*20)+I42-G42)/2000),IF(D42>F42,((((D42-F42)*0.02)^2)+(((H42-D42)*0.02)^2))/(2*((H42-F42)*0.02)),((((H42-F42)*20)+I42-G42)/2000)))) -> 0.09394 | U42: =IF(F42="","",R42+S42+T42) -> 1.03394 | V42: =IF(F42="","",Q42*U42) -> 3.0991018
C43: =+C42 -> Canteiro | D43: 187 | E43: Retorno 02( ATÉ EST. 176+12,12 ) | F43: 170 | G43: 12.12 | H43: 176 | I43: 12.12 | J43: =IF(F43="","",((H43-F43)*20)+I43-G43) -> 120 | L43: 1668 | M43: =+J43*K43*N43+L43 -> 1668 | N43: =IF(F43="","",1) -> 1 | O43: =$O$16 -> 1.3 | P43: =IF(F43="","","l/m2") -> l/m2 | Q43: =IF(F43="","",M43*O43/1000) -> 2.1684 | R43: 0.04 | S43: =IF(F43="","",IF(D43>H43,((D43-H43)*0.02),IF(D43<F43,((F43-D43)*0.02),IF(F43="","",0)))) -> 0.22 | T43: =IF(F43="","",IF(D43>H43,((((H43-F43)*20)+I43-G43)/2000),IF(D43>F43,((((D43-F43)*0.02)^2)+(((H43-D43)*0.02)^2))/(2*((H43-F43)*0.02)),((((H43-F43)*20)+I43-G43)/2000)))) -> 0.06 | U43: =IF(F43="","",R43+S43+T43) -> 0.32 | V43: =IF(F43="","",Q43*U43) -> 0.693888
J45: =SUM(J34:J44)+261 -> 1879 | M45: =SUM(M34:M44) -> 17974.556 | O45: 1.3 | P45: l/m2 | Q45: =SUM(Q34:Q44) -> 23.366923 | R45: DMT final = | T45: =V45/Q45 -> 1.4016168 | U45: Km | V45: =SUM(V34:V44) -> 32.751472
B47: MEMÓRIA DE CÁLCULO DE QUANTIDADES -IMPRIMAÇÃO
Y51: Execução de imprimaçãommmm
L52: DT COMERCIAL | M52: =243+3.74 -> 246.74 | Q52: MT COMERCIAL | V52: =Q45*M52 -> 5765.5545

Sheet MC CCP
C2: Ocorrência | E2: Destino | F2: Entre Estacas | J2: Exten- | K2: Lar- | L2: Área | M2: Área | O2: Volume | P2: DISTÂNCIAS DE TRANSP. | T2: Momento
B3: SERVIÇO | C3: Origem | D3: Acesso | F3: Inicial | H3: Final | J3: são | K3: gura | L3: Variável | M3: Total | N3: Esp. | P3: Fixa | Q3: Da fonte | R3: No | S3: DMT | T3: Transporte
D4: Est. | F4: Int. | G4: Frac. | H4: Int. | I4: Frac. | J4: (m) | K4: (m) | M4: (m2) | N4: (cm) | O4: (m3) | Q4: ao Seg | R4: Seg. | S4: Seg. | T4: (m3 x Km)
B5: CCP | C5: Canteiro | D5: 187 | E5: Pista - Esquerda Retorno 01 | F5: 15 | G5: 9.67 | H5: 92 | I5: 1.55 | J5: =IF(F5="","",((H5-F5)*20)+I5-G5) -> 1531.88 | L5: 18783.7 | M5: =IF(F5="","",(J5*K5)+L5) -> 18783.7 | N5: 20 | O5: =IF(F5="","",ROUND(M5*N5/100,2)) -> 3756.74 | P5: 0.04 | Q5: =IF(F5="","",IF(D5>H5,((D5-H5)*0.02),IF(D5<F5,((F5-D5)*0.02),IF(F5="","",0)))) -> 1.9 | R5: =IF(F5="","",IF(D5>H5,((((H5-F5)*20)+I5-G5)/2000),IF(D5>F5,((((D5-F5)*0.02)^2)+(((H5-D5)*0.02)^2))/(2*((H5-F5)*0.02)),((((H5-F5)*20)+I5-G5)/2000)))) -> 0.76594 | S5: =IF(F5="","",P5+Q5+R5) -> 2.70594 | T5: =IF(F5="","",O5*S5) -> 10165.513
C6: Canteiro | D6: 187 | E6: Pista Esquerda Segmento 02 | F6: 92 | G6: 1.55 | H6: 132 | I6: 12.12 | J6: =IF(F6="","",((H6-F6)*20)+I6-G6) -> 810.57 | K6: 10.3 | M6: =IF(F6="","",(J6*K6)+L6) -> 8348.871 | N6: 20 | O6: =IF(F6="","",ROUND(M6*N6/100,2)) -> 1669.77 | P6: 0.04 | Q6: =IF(F6="","",IF(D6>H6,((D6-H6)*0.02),IF(D6<F6,((F6-D6)*0.02),IF(F6="","",0)))) -> 1.1 | R6: =IF(F6="","",IF(D6>H6,((((H6-F6)*20)+I6-G6)/2000),IF(D6>F6,((((D6-F6)*0.02)^2)+(((H6-D6)*0.02)^2))/(2*((H6-F6)*0.02)),((((H6-F6)*20)+I6-G6)/2000)))) -> 0.405285 | S6: =IF(F6="","",P6+Q6+R6) -> 1.545285 | T6: =IF(F6="","",O6*S6) -> 2580.2705 | Z6: TOTAL NO INTERVALO
C7: Canteiro | D7: 187 | E7: Pista - Esquerda Retorno 02( Até Est. 176 + 12,12 ) | F7: 132 | G7: 12.12 | H7: 176 | I7: 12.12 | J7: =IF(F7="","",((H7-F7)*20)+I7-G7) -> 880 | L7: 11914.46 | M7: =IF(F7="","",(J7*K7)+L7) -> 11914.46 | N7: 20 | O7: =IF(F7="","",ROUND(M7*N7/100,2)) -> 2382.89 | P7: 0.04 | Q7: =IF(F7="","",IF(D7>H7,((D7-H7)*0.02),IF(D7<F7,((F7-D7)*0.02),IF(F7="","",0)))) -> 0.22 | R7: =IF(F7="","",IF(D7>H7,((((H7-F7)*20)+I7-G7)/2000),IF(D7>F7,((((D7-F7)*0.02)^2)+(((H7-D7)*0.02)^2))/(2*((H7-F7)*0.02)),((((H7-F7)*20)+I7-G7)/2000)))) -> 0.44 | S7: =IF(F7="","",P7+Q7+R7) -> 0.7 | T7: =IF(F7="","",O7*S7) -> 1668.023
J27: =SUM(J5:J26) -> 3222.45 | M27: =SUM(M5:M26) -> 39047.031 | O27: =SUM(O5:O26) -> 7809.4 | P27: DMT final = | R27: =T27/O27 -> 1.8456996 | S27: Km | T27: =SUM(T5:T26) -> 14413.807
B29: MEMÓRIA DE CÁLCULO DE QUANTIDADES - PAVIMENTO DE CONCRETO COM EQUIPAMENTO DE PEQUENO PORTE
B35: PAVIMENTO DE CONCRETO COM EQUIPAMENTO DE PEQUENO PORTE
C41: Ocorrência | E41: Destino | F41: Entre Estacas | J41: Exten- | K41: Lar- | L41: Área | M41: Área | O41: Volume | P41: DISTÂNCIAS DE TRANSP. | T41: Momento
B42: SERVIÇO | C42: Origem | D42: Acesso | F42: Inicial | H42: Final | J42: são | K42: gura | L42: Variável | M42: Total | N42: Esp. | P42: Fixa | Q42: Da fonte | R42: No | S42: DMT | T42: Transporte
D43: Est. | F43: Int. | G43: Frac. | H43: Int. | I43: Frac. | J43: (m) | K43: (m) | M43: (m2) | N43: (cm) | O43: (m3) | Q43: ao Seg | R43: Seg. | S43: Seg. | T43: (m3 x Km)
B44: CCP | C44: Canteiro | D44: 187 | E44: Pista - Esquerda Retorno 01 | F44: 15 | G44: 9.67 | H44: 92 | I44: 1.55 | J44: =IF(F44="","",((H44-F44)*20)+I44-G44) -> 1531.88 | L44: =L5 -> 18783.7 | M44: =IF(F44="","",(J44*K44)+L44) -> 18783.7 | N44: 20 | O44: =IF(F44="","",ROUND(M44*N44/100,2)) -> 3756.74 | P44: 0.04 | Q44: =IF(F44="","",IF(D44>H44,((D44-H44)*0.02),IF(D44<F44,((F44-D44)*0.02),IF(F44="","",0)))) -> 1.9 | R44: =IF(F44="","",IF(D44>H44,((((H44-F44)*20)+I44-G44)/2000),IF(D44>F44,((((D44-F44)*0.02)^2)+(((H44-D44)*0.02)^2))/(2*((H44-F44)*0.02)),((((H44-F44)*20)+I44-G44)/2000)))) -> 0.76594 | S44: =IF(F44="","",P44+Q44+R44) -> 2.70594 | T44: =IF(F44="","",O44*S44) -> 10165.513
C45: Canteiro | D45: 187 | E45: Pista Esquerda Segmento 02 | F45: 92 | G45: 1.55 | H45: 132 | I45: 12.12 | J45: =IF(F45="","",((H45-F45)*20)+I45-G45) -> 810.57 | K45: 10.3 | M45: =IF(F45="","",(J45*K45)+L45) -> 8348.871 | N45: 20 | O45: =IF(F45="","",ROUND(M45*N45/100,2)) -> 1669.77 | P45: 0.04 | Q45: =IF(F45="","",IF(D45>H45,((D45-H45)*0.02),IF(D45<F45,((F45-D45)*0.02),IF(F45="","",0)))) -> 1.1 | R45: =IF(F45="","",IF(D45>H45,((((H45-F45)*20)+I45-G45)/2000),IF(D45>F45,((((D45-F45)*0.02)^2)+(((H45-D45)*0.02)^2))/(2*((H45-F45)*0.02)),((((H45-F45)*20)+I45-G45)/2000)))) -> 0.405285 | S45: =IF(F45="","",P45+Q45+R45) -> 1.545285 | T45: =IF(F45="","",O45*S45) -> 2580.2705
C46: Canteiro | D46: 187 | E46: Pista - Esquerda Retorno 02( Até Est. 176 + 12,12 ) | F46: 132 | G46: 12.12 | H46: 176 | I46: 12.12 | J46: =IF(F46="","",((H46-F46)*20)+I46-G46) -> 880 | L46: =L7 -> 11914.46 | M46: =IF(F46="","",(J46*K46)+L46) -> 11914.46 | N46: 20 | O46: =IF(F46="","",ROUND(M46*N46/100,2)) -> 2382.89 | P46: 0.04 | Q46: =IF(F46="","",IF(D46>H46,((D46-H46)*0.02),IF(D46<F46,((F46-D46)*0.02),IF(F46="","",0)))) -> 0.22 | R46: =IF(F46="","",IF(D46>H46,((((H46-F46)*20)+I46-G46)/2000),IF(D46>F46,((((D46-F46)*0.02)^2)+(((H46-D46)*0.02)^2))/(2*((H46-F46)*0.02)),((((H46-F46)*20)+I46-G46)/2000)))) -> 0.44 | S46: =IF(F46="","",P46+Q46+R46) -> 0.7 | T46: =IF(F46="","",O46*S46) -> 1668.023
Z52: TOTAL A EXECUTAR
J54: =SUM(J44:J53) -> 3222.45 | M54: =SUM(M44:M53) -> 39047.031 | O54: =SUM(O44:O53) -> 7809.4 | P54: DMT final = | R54: =T54/O54 -> 1.8456996 | S54: Km | T54: =SUM(T44:T53) -> 14413.807
B56: MEMÓRIA DE CÁLCULO DE QUANTIDADES - PAVIMENTO DE CONCRETO COM EQUIPAMENTO DE PEQUENO PORTE

Sheet MCaço CA-50
C2: Ocorrência | E2: Destino | F2: Entre Estacas | J2: Extensão de juntas | K2: Espaçamento | L2: Comprimento da Barra | M2: Extensão de barras | N2: Densidade
B3: SERVIÇO | C3: Origem | D3: Acesso | F3: Inicial | H3: Final | K3: entre barras | N3: ou | P3: Peso
D4: Est. | F4: Int. | G4: Frac. | H4: Int. | I4: Frac. | J4: (m) | K4: (m) | L4: (m) | M4: (m) | N4: Taxa | P4: (kg)
B5: Barras de Ligação CA-50 | C5: Canteiro | D5: 187 | E5: Pista - LE Duplicação | F5: 15 | G5: 9.67 | H5: 176 | I5: 12.12 | J5: =D17*0.5 -> 11476.5 | K5: 0.5 | L5: 0.62 | M5: =+ROUND(J5/K5*L5,2) -> 14230.86 | N5: 0.395 | O5: kg/m | P5: =N5*M5 -> 5621.1897
J7: =SUM(J5:J6) -> 11476.5 | K7: =SUM(K5:K6) -> 0.5 | L7: =SUM(L5:L6) -> 0.62 | M7: =SUM(M5) -> 14230.86 | P7: =SUM(P5) -> 5621.1897
B9: MEMÓRIA DE CÁLCULO DE QUANTIDADES - BARRAS DE LIGAÇÃO CA-50
B14: Área do intervalo | C14: ='MCaço CA-25'!E44 -> 40648.5
L16: Barras do CAD | M16: 22953
B17: Número de barras pelo CAD | D17: 22953 | E17: uni
C18: Extensão de barras | D18: =D17*0.62 -> 14230.86 | E18: m | M18: =M16*0.62 -> 14230.86
C19: Peso Aço CA 50 | D19: =D18*0.395 -> 5621.1897 | E19: kg
M23: =M18/0.62 -> 22953
M24: =M23*0.5 -> 11476.5
E29: 3222.45 | G29: =E29*3 -> 9667.35
G30: =E29*4 -> 12889.8

Sheet MCaço CA-25
C2: Ocorrência | E2: Destino | F2: Entre Estacas | J2: Exten- | K2: Espaçamento | L2: Juntas | M2: Espaçamento | N2: Comprimento | O2: Número de barras | P2: Comprimento | Q2: Densidade
B3: SERVIÇO | C3: Origem | D3: Acesso | F3: Inicial | H3: Final | J3: são | K3: entre placas | M3: entre barras | N3: barras | Q3: ou | S3: Peso
D4: Est. | F4: Int. | G4: Frac. | H4: Int. | I4: Frac. | J4: (m) | K4: (m) | M4: (m) | N4: (m) | P4: (m) | Q4: Taxa | S4: (kg)
B5: Barras de Transferência CA-25 | C5: Canteiro | D5: 187 | E5: Pista - LE Duplicação | F5: 15 | G5: 9.67 | H5: 176 | I5: 12.12 | J5: 8129.7 | K5: 5 | L5: =+J5/K5 -> 1625.94 | M5: 0.3 | N5: 0.46 | O5: =J5/M5 -> 27099 | P5: =O5*N5 -> 12465.54 | Q5: 3.853 | R5: kg/m | S5: =+Q5*P5 -> 48029.726
B34: diametro = 25 mm | J34: =SUM(J5:J33) -> 8129.7 | K34: =SUM(K5:K33) -> 5 | L34: =SUM(L5:L33) -> 1625.94 | M34: =SUM(M5:M33) -> 0.3 | N34: =SUM(N5:N33) -> 0.46 | P34: =SUM(P5:P33) -> 12465.54 | S34: =SUM(S5:S33) -> 48029.726
B36: MEMÓRIA DE CÁLCULO DE QUANTIDADES - BARRAS DE TRANSFERÊNCIA CA-25
B44: Área Pista LE ( Est. 15+9,67 a Est. 176+12,12) | E44: 40648.5 | G44: 4410 | M44: 2940 | O44: 2
E47: =E44/5 -> 8129.7
B48: Barras do CAD | E48: 27099 | O48: Barras do CAD | Q48: 27099
B49: Comprimento Barras | E49: =E48*0.46 -> 12465.54
B50: Peso | E50: =E49*Q5 -> 48029.726
B63: Pintura esmalte Alquidico estrutura metálica 1 demão ( para barra de Transferência) | L63: m2 | M63: =F71 -> 528.41424
B64: diametro = 25 mm
B66: c=2πR | C66: c | D66: =2*3.14*25/(2*1000) -> 0.0785
B68: Pintura na metade da barra + 2cm= 23+2=25 correspondendo a 54% da extensão
B71: então pintura total | C71: =P5 -> 12465.54 | D71: 0.54 | E71: =D66 -> 0.0785 | F71: =C71*D71*E71 -> 528.41424

Sheet MCtreliça
C2: Ocorrência | E2: Destino | F2: Entre Estacas | J2: Extensão de Juntas de Ligação | K2: Extensão de Juntas de Transferência | L2: Repetição na seção | M2: Extensão de Treliças | N2: Densidade | P2: Peso
B3: SERVIÇO | C3: Origem | D3: Acesso | F3: Inicial | H3: Final | N3: ou
D4: Est. | F4: Int. | G4: Frac. | H4: Int. | I4: Frac. | J4: (m) | K4: (m) | L4: (x) | M4: (m) | N4: Taxa | P4: (kg)
B5: TRELIÇA TR 12645 | C5: Canteiro | D5: 187 | E5: Pista - LE Duplicação | F5: 15 | G5: 9.67 | H5: 176 | I5: 12.12 | J5: =D39 -> 11476.5 | K5: =D40 -> 8129.7 | L5: 2 | M5: =(J5+K5)*L5 -> 39212.4 | N5: 0.886 | O5: kg/m | P5: =+N5*M5 -> 34742.186
J28: =SUM(J5:J27) -> 11476.5 | K28: =SUM(K5:K27) -> 8129.7 | L28: =SUM(L5:L27) -> 2 | M28: =SUM(M5:M27) -> 39212.4 | P28: =SUM(P5:P27) -> 34742.186
B30: MEMÓRIA DE CÁLCULO DE QUANTIDADES - TRELIÇA TR12645
B39: Extensão juntas de ligação | D39: ='MCaço CA-50'!J7 -> 11476.5
B40: Extensão juntas de transferência | D40: ='MCaço CA-25'!J34 -> 8129.7
B41: Extensão total de juntas esttimada | D41: =SUM(D39:D40) -> 19606.2
B42: Extensão de treliças | D42: =2*D41 -> 39212.4
B43: Peso de treliça | D43: =D42*0.886 -> 34742.186

Sheet MCtela
C2: Ocorrência | E2: Destino | F2: Entre Estacas | J2: Exten- | K2: Espaçamento | L2: Seção | M2: Área | P2: Densidade
B3: SERVIÇO | C3: Origem | D3: Acesso | F3: Inicial | H3: Final | J3: são | P3: ou | R3: Peso
D4: Est. | F4: Int. | G4: Frac. | H4: Int. | I4: Frac. | J4: (m) | K4: (m) | L4: (m) | M4: m2 | P4: Taxa | R4: (kg)
B5: TELA ELETROSOLDADA | C5: Usina U-1 | E5: Pista | F5: 15 | G5: 9.67 | H5: 176 | I5: 12.12 | J5: =IF(F5="","",((H5-F5)*20)+I5-G5) -> 3222.45 | M5: 0 | P5: 2.2 | Q5: kg/m2 | R5: =+P5*M5 -> 0
B8: TELA SOLDADA Q-138
Y11: =7.2+2.5+0.6 -> 10.3
Y14: =+J6+J8+J10 -> 0
Y15: 8.6
Y16: 0.3
Y17: =+Y14*Y15*Y16 -> 0
J40: =SUM(J5:J39) -> 3222.45 | K40: =SUM(K5:K39) -> 0 | L40: =SUM(L5:L39) -> 0 | M40: =SUM(M5:M39) -> 0 | N40: =SUM(N5:N39) -> 0 | O40: =SUM(O5:O39) -> 0 | R40: =SUM(R5:R39) -> 0
B42: MEMÓRIA DE CÁLCULO DE QUANTIDADES - TELA ELETROSOLDADA
C46: Ocorrência | E46: Destino | F46: Entre Estacas | J46: Exten- | K46: Lar- | L46: Área | M46: Área | N46: Área | P46: Densidade | S46: DMT (Km) | V46: Momento
B47: CAMADA | C47: Origem | D47: Acesso | F47: Inicial | H47: Final | J47: são | K47: gura | L47: Superlargura | M47: Interseções | N47: Total | O47: Volume | P47: ou | R47: Peso | S47: Fixa | T47: Da fonte | U47: No | V47: Transporte
B48: ou Serviço | D48: Est. | F48: Int. | G48: Frac. | H48: Int. | I48: Frac. | J48: (m) | K48: (m) | L48: (m2) | M48: (m2) | N48: (m2) | O48: (m3) | P48: Taxa | R48: (t) | T48: ao Seg | U48: Seg. | V48: (m3 x Km)
B49: =+B5 -> TELA ELETROSOLDADA
B51: =+B7 -> 0
E55: =IF(F55="","","Acost. LD") | J55: =IF(F55="","",((H55-F55)*20)+I55-G55) | N55: =IF(F55="","",(J55*K55)+M55+L55) | O55: =IF(F55="","",N55*#REF!/100) | Q55: =IF(F55="","","t/m3") | R55: =IF(F55="","",O55*P55) | T55: =IF(F55="","",IF(D55>H55,((D55-H55)*0.02),IF(D55<F55,((F55-D55)*0.02),IF(F55="","",0)))) | U55: =IF(F55="","",IF(D55>H55,((((H55-F55)*20)+I55-G55)/2000),IF(D55>F55,((((D55-F55)*0.02)^2)+(((H55-D55)*0.02)^2))/(2*((H55-F55)*0.02)),((((H55-F55)*20)+I55-G55)/2000)))) | V55: =IF(F55="","",O55*#REF!)
E56: =IF(F56="","","Acost. LD") | J56: =IF(F56="","",((H56-F56)*20)+I56-G56) | N56: =IF(F56="","",(J56*K56)+M56+L56) | O56: =IF(F56="","",N56*#REF!/100) | Q56: =IF(F56="","","t/m3") | R56: =IF(F56="","",O56*P56) | T56: =IF(F56="","",IF(D56>H56,((D56-H56)*0.02),IF(D56<F56,((F56-D56)*0.02),IF(F56="","",0)))) | U56: =IF(F56="","",IF(D56>H56,((((H56-F56)*20)+I56-G56)/2000),IF(D56>F56,((((D56-F56)*0.02)^2)+(((H56-D56)*0.02)^2))/(2*((H56-F56)*0.02)),((((H56-F56)*20)+I56-G56)/2000)))) | V56: =IF(F56="","",O56*#REF!)
E57: =IF(F57="","","Acost. LD") | J57: =IF(F57="","",((H57-F57)*20)+I57-G57) | N57: =IF(F57="","",(J57*K57)+M57+L57) | O57: =IF(F57="","",N57*#REF!/100) | Q57: =IF(F57="","","t/m3") | R57: =IF(F57="","",O57*P57) | T57: =IF(F57="","",IF(D57>H57,((D57-H57)*0.02),IF(D57<F57,((F57-D57)*0.02),IF(F57="","",0)))) | U57: =IF(F57="","",IF(D57>H57,((((H57-F57)*20)+I57-G57)/2000),IF(D57>F57,((((D57-F57)*0.02)^2)+(((H57-D57)*0.02)^2))/(2*((H57-F57)*0.02)),((((H57-F57)*20)+I57-G57)/2000)))) | V57: =IF(F57="","",O57*#REF!)
E58: =IF(F58="","","Acost. LD") | J58: =IF(F58="","",((H58-F58)*20)+I58-G58) | N58: =IF(F58="","",(J58*K58)+M58+L58) | O58: =IF(F58="","",N58*#REF!/100) | Q58: =IF(F58="","","t/m3") | R58: =IF(F58="","",O58*P58) | T58: =IF(F58="","",IF(D58>H58,((D58-H58)*0.02),IF(D58<F58,((F58-D58)*0.02),IF(F58="","",0)))) | U58: =IF(F58="","",IF(D58>H58,((((H58-F58)*20)+I58-G58)/2000),IF(D58>F58,((((D58-F58)*0.02)^2)+(((H58-D58)*0.02)^2))/(2*((H58-F58)*0.02)),((((H58-F58)*20)+I58-G58)/2000)))) | V58: =IF(F58="","",O58*#REF!)
E59: =IF(F59="","","Acost. LD") | J59: =IF(F59="","",((H59-F59)*20)+I59-G59) | N59: =IF(F59="","",(J59*K59)+M59+L59) | O59: =IF(F59="","",N59*#REF!/100) | Q59: =IF(F59="","","t/m3") | R59: =IF(F59="","",O59*P59) | T59: =IF(F59="","",IF(D59>H59,((D59-H59)*0.02),IF(D59<F59,((F59-D59)*0.02),IF(F59="","",0)))) | U59: =IF(F59="","",IF(D59>H59,((((H59-F59)*20)+I59-G59)/2000),IF(D59>F59,((((D59-F59)*0.02)^2)+(((H59-D59)*0.02)^2))/(2*((H59-F59)*0.02)),((((H59-F59)*20)+I59-G59)/2000)))) | V59: =IF(F59="","",O59*#REF!)
E60: =IF(F60="","","Acost. LD") | J60: =IF(F60="","",((H60-F60)*20)+I60-G60) | N60: =IF(F60="","",(J60*K60)+M60+L60) | O60: =IF(F60="","",N60*#REF!/100) | Q60: =IF(F60="","","t/m3") | R60: =IF(F60="","",O60*P60) | T60: =IF(F60="","",IF(D60>H60,((D60-H60)*0.02),IF(D60<F60,((F60-D60)*0.02),IF(F60="","",0)))) | U60: =IF(F60="","",IF(D60>H60,((((H60-F60)*20)+I60-G60)/2000),IF(D60>F60,((((D60-F60)*0.02)^2)+(((H60-D60)*0.02)^2))/(2*((H60-F60)*0.02)),((((H60-F60)*20)+I60-G60)/2000)))) | V60: =IF(F60="","",O60*#REF!)
E61: =IF(F61="","","Acost. LD") | J61: =IF(F61="","",((H61-F61)*20)+I61-G61) | N61: =IF(F61="","",(J61*K61)+M61+L61) | O61: =IF(F61="","",N61*#REF!/100) | Q61: =IF(F61="","","t/m3") | R61: =IF(F61="","",O61*P61) | T61: =IF(F61="","",IF(D61>H61,((D61-H61)*0.02),IF(D61<F61,((F61-D61)*0.02),IF(F61="","",0)))) | U61: =IF(F61="","",IF(D61>H61,((((H61-F61)*20)+I61-G61)/2000),IF(D61>F61,((((D61-F61)*0.02)^2)+(((H61-D61)*0.02)^2))/(2*((H61-F61)*0.02)),((((H61-F61)*20)+I61-G61)/2000)))) | V61: =IF(F61="","",O61*#REF!)
E62: =IF(F62="","","Acost. LD") | J62: =IF(F62="","",((H62-F62)*20)+I62-G62) | N62: =IF(F62="","",(J62*K62)+M62+L62) | O62: =IF(F62="","",N62*#REF!/100) | Q62: =IF(F62="","","t/m3") | R62: =IF(F62="","",O62*P62) | T62: =IF(F62="","",IF(D62>H62,((D62-H62)*0.02),IF(D62<F62,((F62-D62)*0.02),IF(F62="","",0)))) | U62: =IF(F62="","",IF(D62>H62,((((H62-F62)*20)+I62-G62)/2000),IF(D62>F62,((((D62-F62)*0.02)^2)+(((H62-D62)*0.02)^2))/(2*((H62-F62)*0.02)),((((H62-F62)*20)+I62-G62)/2000)))) | V62: =IF(F62="","",O62*#REF!)
E63: =IF(F63="","","Acost. LD") | J63: =IF(F63="","",((H63-F63)*20)+I63-G63) | N63: =IF(F63="","",(J63*K63)+M63+L63) | O63: =IF(F63="","",N63*#REF!/100) | Q63: =IF(F63="","","t/m3") | R63: =IF(F63="","",O63*P63) | T63: =IF(F63="","",IF(D63>H63,((D63-H63)*0.02),IF(D63<F63,((F63-D63)*0.02),IF(F63="","",0)))) | U63: =IF(F63="","",IF(D63>H63,((((H63-F63)*20)+I63-G63)/2000),IF(D63>F63,((((D63-F63)*0.02)^2)+(((H63-D63)*0.02)^2))/(2*((H63-F63)*0.02)),((((H63-F63)*20)+I63-G63)/2000)))) | V63: =IF(F63="","",O63*#REF!)
E64: =IF(F64="","","Acost. LD") | J64: =IF(F64="","",((H64-F64)*20)+I64-G64) | N64: =IF(F64="","",(J64*K64)+M64+L64) | O64: =IF(F64="","",N64*#REF!/100) | Q64: =IF(F64="","","t/m3") | R64: =IF(F64="","",O64*P64) | T64: =IF(F64="","",IF(D64>H64,((D64-H64)*0.02),IF(D64<F64,((F64-D64)*0.02),IF(F64="","",0)))) | U64: =IF(F64="","",IF(D64>H64,((((H64-F64)*20)+I64-G64)/2000),IF(D64>F64,((((D64-F64)*0.02)^2)+(((H64-D64)*0.02)^2))/(2*((H64-F64)*0.02)),((((H64-F64)*20)+I64-G64)/2000)))) | V64: =IF(F64="","",O64*#REF!)
E65: =IF(F65="","","Acost. LD") | J65: =IF(F65="","",((H65-F65)*20)+I65-G65) | N65: =IF(F65="","",(J65*K65)+M65+L65) | O65: =IF(F65="","",N65*#REF!/100) | Q65: =IF(F65="","","t/m3") | R65: =IF(F65="","",O65*P65) | T65: =IF(F65="","",IF(D65>H65,((D65-H65)*0.02),IF(D65<F65,((F65-D65)*0.02),IF(F65="","",0)))) | U65: =IF(F65="","",IF(D65>H65,((((H65-F65)*20)+I65-G65)/2000),IF(D65>F65,((((D65-F65)*0.02)^2)+(((H65-D65)*0.02)^2))/(2*((H65-F65)*0.02)),((((H65-F65)*20)+I65-G65)/2000)))) | V65: =IF(F65="","",O65*#REF!)
E66: =IF(F66="","","Acost. LD") | J66: =IF(F66="","",((H66-F66)*20)+I66-G66) | N66: =IF(F66="","",(J66*K66)+M66+L66) | O66: =IF(F66="","",N66*#REF!/100) | Q66: =IF(F66="","","t/m3") | R66: =IF(F66="","",O66*P66) | T66: =IF(F66="","",IF(D66>H66,((D66-H66)*0.02),IF(D66<F66,((F66-D66)*0.02),IF(F66="","",0)))) | U66: =IF(F66="","",IF(D66>H66,((((H66-F66)*20)+I66-G66)/2000),IF(D66>F66,((((D66-F66)*0.02)^2)+(((H66-D66)*0.02)^2))/(2*((H66-F66)*0.02)),((((H66-F66)*20)+I66-G66)/2000)))) | V66: =IF(F66="","",O66*#REF!)
... E83: =IF(F83="","","Acost. LD") | J83: =IF(F83="","",((H83-F83)*20)+I83-G83) | N83: =IF(F83="","",(J83*K83)+M83+L83) | O83: =IF(F83="","",N83*#REF!/100) | Q83: =IF(F83="","","t/m3") | R83: =IF(F83="","",O83*P83) | T83: =IF(F83="","",IF(D83>H83,((D83-H83)*0.02),IF(D83<F83,((F83-D83)*0.02),IF(F83="","",0)))) | U83: =IF(F83="","",IF(D83>H83,((((H83-F83)*20)+I83-G83)/2000),IF(D83>F83,((((D83-F83)*0.02)^2)+(((H83-D83)*0.02)^2))/(2*((H83-F83)*0.02)),((((H83-F83)*20)+I83-G83)/2000)))) | V83: =IF(F83="","",O83*#REF!)
J84: =SUM(J49:J83) -> 0 | N84: =SUM(N49:N83) -> 0 | O84: =SUM(O49:O83) -> 0 | R84: =SUM(R49:R83) -> 0 | S84: DMT final = | U84: =V84/O84 -> #DIV/0! | V84: =SUM(V49:V83) -> 0
C85: =+#REF! -> #REF! | O85: =R85/1.02 -> #REF! | P85: =+#REF! -> #REF! | Q85: % | R85: =+P85*R84/1000 -> #REF!
B87: MEMÓRIA DE CÁLCULO DE QUANTIDADES - CAPA DE ROLAMENTO - ACOSTAMENTO LADO DIREITO
B90: Observações | L90: Rodovia: | M90: =+#REF! -> #REF! | V90: FOLHA:
L91: Trecho: | M91: =+#REF! -> #REF!
L92: Subtrecho: | M92: =+#REF! -> #REF! | V92: 01/01
L93: Segmento: | M93: =+#REF! -> #REF!
I94: Data : | J94: =TODAY() -> 46063 | L94: Lote | M94: =+#REF! -> #REF!
C97: Ocorrência | E97: Destino | F97: Entre Estacas | J97: Exten- | K97: Lar- | L97: Área | M97: Área | N97: Área | P97: Densidade | S97: DMT (Km) | V97: Momento
B98: CAMADA | C98: Origem | D98: Acesso | F98: Inicial | H98: Final | J98: são | K98: gura | L98: Superlargura | M98: Interseções | N98: Total | O98: Volume | P98: ou | R98: Peso | S98: Fixa | T98: Da fonte | U98: No | V98: Transporte
...

Sheet MC serragem
C2: Ocorrência | E2: Destino | F2: Entre Estacas | J2: Exten- | K2: Espaçamento | L2: Posição | M2: Comprimento Total
B3: SERVIÇO | C3: Origem | D3: Acesso | F3: Inicial | H3: Final | J3: são
D4: Est. | F4: Int. | G4: Frac. | H4: Int. | I4: Frac. | J4: (m) | K4: (m) | L4: (m) | M4: (m)
B5: SERRAGEM DE JUNTAS | E5: Pista - LE Duplicação | F5: 15 | G5: 9.67 | H5: 176 | I5: 12.12 | J5: =IF(F5="","",((H5-F5)*20)+I5-G5) -> 3222.45 | K5: 5 | L5: Transversal | M5: 8204.55 | Z5: =7.2+2.5+0.6 -> 10.3 | AA5: =(J5/K5)*L5 -> #VALUE!
E6: Pista - LE Duplicação | F6: 15 | G6: 9.67 | H6: 176 | I6: 12.12 | J6: 3222.45 | L6: Longitudinal | M6: 11475.09
Z8: =+#REF!+#REF!+#REF! -> #REF!
Z9: 8.6
Z10: 0.3
Z11: =+Z8*Z9*Z10 -> #REF!
J34: =J5 -> 3222.45 | K34: =K5 -> 5 | L34: =SUM(L5:L33) -> 0 | M34: =SUM(M5:M33) -> 19679.64
B37: MEMÓRIA DE CÁLCULO DE QUANTIDADES - SERRAGEM DE JUNTAS (QUANTITATIVOS EXTRAÍDOS DO CAD)
C42: Ocorrência | E42: Destino | F42: Entre Estacas | J42: Exten- | K42: Lar- | L42: Área | M42: Área | N42: Área | P42: Densidade | S42: DMT (Km) | W42: Momento
B43: CAMADA | C43: Origem | D43: Acesso | F43: Inicial | H43: Final | J43: são | K43: gura | L43: Superlargura | M43: Interseções | N43: Total | O43: Volume | P43: ou | R43: Peso | S43: Fixa | T43: Da fonte | U43: No | V43: DMT | W43: Transporte
