Workbook
Name __xlnm.Print_Titles_2: #REF!
Name __xlnm.Print_Titles_2: #REF!
Name __xlnm.Print_Titles_2: #REF!
Name __xlnm.Print_Titles_2: #REF!
Name Excel_BuiltIn_Print_Titles_2_1: #REF!
Name Excel_BuiltIn_Print_Titles_2_1: #REF!
Name Excel_BuiltIn_Print_Titles_2_1: #REF!
Name Excel_BuiltIn_Print_Titles_2_1: #REF!

Sheet P.O. CALÇADAS E BOLSÃO 
E2: Prefeitura Municipal de Pontal do Paraná
E3: Secretaria Municipal de Planejamento Urbano e Infraestrutura
B6: Obra: | E6: URBANIZAÇÃO DE CALÇADAS - AV. DEP. ANIBAL KHURY - PROJETO ORLA | I6: Data: | K6: =TODAY() -> 46322
B7: Local: | E7: AV. DEP. ANIBAL KHURY - PROJETO ORLA | I7: BDI (%): | K7: ='BDI SERVIÇOS'!C23 -> 0.207
B8: Referência de Preços: | E8: Sinapi - jun/26 | I8: Valor Total Global c/ BDI: | K8: =K12 -> 2615069.1 | M8: =SUM(M10:M75) -> 2615069.1
B10: PLANILHA ORÇAMENTÁRIA
A11: x
A12: x | B12: CONSTRUÇÃO DE CALÇADAS E BOLSÕES DE ESTACIONAMENTO - ORLA | J12: VALOR TOTAL DO LOTE | K12: =SUM(K14,K23,K43) -> 2615069.1
A13: x
A14: x | B14: 1 | C14: SERVIÇOS COMPLEMENTARES | J14: VALOR SUBTOTAL | K14: =SUM(K17:K22) -> 47662.87
A15: x
A16: x | B16: Ítem | C16: Origem | D16: Código | E16: Descrição dos serviços | F16: Unid. | G16: Quant. | H16: Unitário s/ BDI | I16: Total s/ BDI | J16: Unitário c/ BDI | K16: Total c/ BDI
A17: =IF(G17>0,"x","") -> x | B17: 1.1 | C17: SINAPI | D17: 103689 | E17: =UPPER(IF($D17<>"",VLOOKUP($D17,CSD!$B$11:$E$15000,2,FALSE),"")) -> FORNECIMENTO E INSTALAÇÃO DE PLACA DE OBRA COM CHAPA GALVANIZADA E ESTRUTURA DE MADEIRA. AF_03/2022_PS | F17: =UPPER(IF($D17<>"",VLOOKUP($D17,CSD!$B$11:$E$15000,3,FALSE),"")) -> M2 | G17: =ROUND(1.2*2.4,2) -> 2.88 | H17: =IF($D17<>"",VLOOKUP($D17,CSD!$B$11:$E$15000,4,FALSE),"") -> 508.54 | I17: =IF(G17=0,"",ROUND(G17*H17,2)) -> 1464.6 | J17: =IF(G17=0,"",ROUND(H17*(1+'BDI SERVIÇOS'!$C$23),2)) -> 613.81 | K17: =IF(G17=0,"",ROUND(G17*J17,2)) -> 1767.77 | M17: =IF(G17=0,"",ROUND(G17*J17,2)) -> 1767.77
A18: =IF(G18>0,"x","") -> x | B18: 1.6 | C18: PMPP | D18: =Composições!B11 -> CP-01 | E18: =Composições!C11 -> LOCAÇÃO DE 01 CONTAINER 2,30 X 6,00 M, ALT. 2,50 M, COM 1 SANITÁRIO, PARA ESCRITÓRIO/ALMOXARIFADO, COMPLETO, SEM DIVISÓRIAS INTERNAS. | F18: =Composições!H11 -> MÊS | G18: 6 | H18: =Composições!J11 -> 1000 | I18: =IF(G18=0,"",ROUND(G18*H18,2)) -> 6000 | J18: =IF(G18=0,"",ROUND(H18*(1+'BDI SERVIÇOS'!$C$23),2)) -> 1207 | K18: =IF(G18=0,"",ROUND(G18*J18,2)) -> 7242 | M18: =IF(G18=0,"",ROUND(G18*J18,2)) -> 7242
A19: =IF(G19>0,"x","") -> x | B19: 1.7 | C19: PMPP | D19: =Composições!B24 -> CP-02 | E19: =Composições!C24 -> LOCAÇÃO DE OBRA | F19: =Composições!H24 -> M2 | G19: 21041.05 | H19: =Composições!J24 -> 1.5 | I19: =IF(G19=0,"",ROUND(G19*H19,2)) -> 31561.58 | J19: =IF(G19=0,"",ROUND(H19*(1+'BDI SERVIÇOS'!$C$23),2)) -> 1.81 | K19: =IF(G19=0,"",ROUND(G19*J19,2)) -> 38084.3 | M19: =IF(G19=0,"",ROUND(G19*J19,2)) -> 38084.3
A20: =IF(G20>0,"x","") -> x | B20: 1.8 | C20: SINAPI | D20: 100952 | E20: =UPPER(IF($D20<>"",VLOOKUP($D20,CSD!$B$11:$E$15000,2,FALSE),"")) -> TRANSPORTE COM CAMINHÃO CARROCERIA COM GUINDAUTO (MUNCK), MOMENTO MÁXIMO DE CARGA 11,7 TM, EM VIA URBANA PAVIMENTADA, DMT ATÉ 30KM (UNIDADE: TXKM). AF_02/2026 | F20: =UPPER(IF($D20<>"",VLOOKUP($D20,CSD!$B$11:$E$15000,3,FALSE),"")) -> TXKM | G20: =ROUND(30*2*2.4,2) -> 144 | H20: =IF($D20<>"",VLOOKUP($D20,CSD!$B$11:$E$15000,4,FALSE),"") -> 3.27 | I20: =IF(G20=0,"",ROUND(G20*H20,2)) -> 470.88 | J20: =IF(G20=0,"",ROUND(H20*(1+'BDI SERVIÇOS'!$C$23),2)) -> 3.95 | K20: =IF(G20=0,"",ROUND(G20*J20,2)) -> 568.8 | M20: =IF(G20=0,"",ROUND(G20*J20,2)) -> 568.8
A21: =IF(G21>0,"x","") | B21: 1.9 | E21: =UPPER(IF($D21<>"",VLOOKUP($D21,CSD!$B$11:$E$15000,2,FALSE),"")) | F21: =UPPER(IF($D21<>"",VLOOKUP($D21,CSD!$B$11:$E$15000,3,FALSE),"")) | H21: =IF($D21<>"",VLOOKUP($D21,CSD!$B$11:$E$15000,4,FALSE),"") | I21: =IF(G21=0,"",ROUND(G21*H21,2)) | J21: =IF(G21=0,"",ROUND(H21*(1+'BDI SERVIÇOS'!$C$23),2)) | K21: =IF(G21=0,"",ROUND(G21*J21,2)) | M21: =IF(G21=0,"",ROUND(G21*J21,2))
A22: =IF(G22>0,"x","") | B22: 1.10 | E22: =UPPER(IF($D22<>"",VLOOKUP($D22,CSD!$B$11:$E$15000,2,FALSE),"")) | F22: =UPPER(IF($D22<>"",VLOOKUP($D22,CSD!$B$11:$E$15000,3,FALSE),"")) | H22: =IF($D22<>"",VLOOKUP($D22,CSD!$B$11:$E$15000,4,FALSE),"") | I22: =IF(G22=0,"",ROUND(G22*H22,2)) | J22: =IF(G22=0,"",ROUND(H22*(1+'BDI SERVIÇOS'!$C$23),2)) | K22: =IF(G22=0,"",ROUND(G22*J22,2)) | M22: =IF(G22=0,"",ROUND(G22*J22,2))
A23: X | B23: =B14+1 -> 2 | C23: SERVIÇOS DE URBANIZAÇÃO | J23: VALOR SUBTOTAL | K23: =SUM(K26:K42) -> 1656581.9 | M23: =IF(G23=0,"",ROUND(G23*J23,2))
A24: X | M24: =IF(G24=0,"",ROUND(G24*J24,2))
A25: =IF(G25>0,"x","") -> x | B25: Ítem | C25: Origem | D25: Código | E25: Descrição dos serviços | F25: Unid. | G25: Quant. | H25: Unitário s/ BDI | I25: Total s/ BDI | J25: Unitário c/ BDI | K25: Total c/ BDI
A26: =IF(G26>0,"x","") -> x | B26: 2.1 | C26: SINAPI | D26: 104790 | E26: =UPPER(IF($D26<>"",VLOOKUP($D26,CSD!$B$11:$E$15000,2,FALSE),"")) -> DEMOLIÇÃO DE PISO DE CONCRETO SIMPLES, DE FORMA MECANIZADA COM MARTELETE, SEM REAPROVEITAMENTO. AF_09/2023 | F26: =UPPER(IF($D26<>"",VLOOKUP($D26,CSD!$B$11:$E$15000,3,FALSE),"")) -> M3 | G26: 428.97 | H26: =IF($D26<>"",VLOOKUP($D26,CSD!$B$11:$E$15000,4,FALSE),"") -> 135.23 | I26: =IF(G26=0,"",ROUND(G26*H26,2)) -> 58009.61 | J26: =IF(G26=0,"",ROUND(H26*(1+'BDI SERVIÇOS'!$C$23),2)) -> 163.22 | K26: =IF(G26=0,"",ROUND(G26*J26,2)) -> 70016.48 | M26: =IF(G26=0,"",ROUND(G26*J26,2)) -> 70016.48
A27: =IF(G27>0,"x","") -> x | B27: 2.2 | C27: PMPP | D27: =Composições!B50 -> CP-04 | E27: =Composições!C50 -> REMOÇÃO PISO INTERTRAVADO EM CONCRETO | F27: =Composições!H50 -> M2 | G27: 2978.9275 | H27: =Composições!J50 -> 5.03 | I27: =IF(G27=0,"",ROUND(G27*H27,2)) -> 14984.01 | J27: =IF(G27=0,"",ROUND(H27*(1+'BDI SERVIÇOS'!$C$23),2)) -> 6.07 | K27: =IF(G27=0,"",ROUND(G27*J27,2)) -> 18082.09 | M27: =IF(G27=0,"",ROUND(G27*J27,2)) -> 18082.09
A28: =IF(G28>0,"x","") -> x | B28: 2.3 | C28: SINAPI | D28: 100983 | E28: =UPPER(IF($D28<>"",VLOOKUP($D28,CSD!$B$11:$E$15000,2,FALSE),"")) -> CARGA, MANOBRA E DESCARGA DE ENTULHO EM CAMINHÃO BASCULANTE 14 M³ - CARGA COM ESCAVADEIRA HIDRÁULICA (CAÇAMBA DE 0,80 M³ / 111 HP) E DESCARGA LIVRE (UNIDADE: M3). AF_02/2026 | F28: =UPPER(IF($D28<>"",VLOOKUP($D28,CSD!$B$11:$E$15000,3,FALSE),"")) -> M3 | G28: =ROUND((G26+G27*0.06)*1.25,2) -> 759.63 | H28: =IF($D28<>"",VLOOKUP($D28,CSD!$B$11:$E$15000,4,FALSE),"") -> 10 | I28: =IF(G28=0,"",ROUND(G28*H28,2)) -> 7596.3 | J28: =IF(G28=0,"",ROUND(H28*(1+'BDI SERVIÇOS'!$C$23),2)) -> 12.07 | K28: =IF(G28=0,"",ROUND(G28*J28,2)) -> 9168.73 | M28: =IF(G28=0,"",ROUND(G28*J28,2)) -> 9168.73
A29: =IF(G29>0,"x","") -> x | B29: 2.4 | C29: SINAPI | D29: 95876 | E29: =UPPER(IF($D29<>"",VLOOKUP($D29,CSD!$B$11:$E$15000,2,FALSE),"")) -> TRANSPORTE COM CAMINHÃO BASCULANTE DE 14 M³, EM VIA URBANA PAVIMENTADA, DMT ATÉ 30 KM (UNIDADE: M3XKM). AF_02/2026 | F29: =UPPER(IF($D29<>"",VLOOKUP($D29,CSD!$B$11:$E$15000,3,FALSE),"")) -> M3XKM | G29: =ROUND(G28*3,2) -> 2278.89 | H29: =IF($D29<>"",VLOOKUP($D29,CSD!$B$11:$E$15000,4,FALSE),"") -> 2.52 | I29: =IF(G29=0,"",ROUND(G29*H29,2)) -> 5742.8 | J29: =IF(G29=0,"",ROUND(H29*(1+'BDI SERVIÇOS'!$C$23),2)) -> 3.04 | K29: =IF(G29=0,"",ROUND(G29*J29,2)) -> 6927.83 | M29: =IF(G29=0,"",ROUND(G29*J29,2)) -> 6927.83
A30: =IF(G30>0,"x","") -> x | B30: 2.5 | C30: PMPP | D30: =Composições!B76 -> CP-06 | E30: =Composições!C76 -> EXECUÇÃO E COMPACTAÇÃO DE ATERRO - INCLUSIVE SOLO, CARGA E TRANSPORTE | F30: =Composições!H76 -> M3 | G30: =ROUND(G34*0.05,2) -> 597.3 | H30: =Composições!J76 -> 123.48 | I30: =IF(G30=0,"",ROUND(G30*H30,2)) -> 73754.6 | J30: =IF(G30=0,"",ROUND(H30*(1+'BDI SERVIÇOS'!$C$23),2)) -> 149.04 | K30: =IF(G30=0,"",ROUND(G30*J30,2)) -> 89021.59 | M30: =IF(G30=0,"",ROUND(G30*J30,2)) -> 89021.59
A31: =IF(G31>0,"x","") -> x | B31: 2.7 | C31: DER/PRC | D31: 530200 | E31: BICA CORRIDA | F31: M3 | G31: =ROUND(G34*0.05,2) -> 597.3 | H31: 172.08 | I31: =IF(G31=0,"",ROUND(G31*H31,2)) -> 102783.38 | J31: =IF(G31=0,"",ROUND(H31*(1+'BDI SERVIÇOS'!$C$23),2)) -> 207.7 | K31: =IF(G31=0,"",ROUND(G31*J31,2)) -> 124059.21 | M31: =IF(G31=0,"",ROUND(G31*J31,2)) -> 124059.21
A32: =IF(G32>0,"x","") -> x | B32: 2.8 | C32: SINAPI | D32: 105004 | E32: =UPPER(IF($D32<>"",VLOOKUP($D32,CSD!$B$11:$E$15000,2,FALSE),"")) -> RAMPA DE ACESSIBILIDADE EM CONCRETO MOLDADO IN LOCO, EM CALÇADA NOVA COM LARGURA MENOR À 3,00 M, FCK 25MPA, COM PISO PODOTÁTIL. AF_03/2024 | F32: =UPPER(IF($D32<>"",VLOOKUP($D32,CSD!$B$11:$E$15000,3,FALSE),"")) -> M2 | G32: =ROUND(137*3+7*11.5+2*7.5+4.57,2) -> 511.07 | H32: =IF($D32<>"",VLOOKUP($D32,CSD!$B$11:$E$15000,4,FALSE),"") -> 148.12 | I32: =IF(G32=0,"",ROUND(G32*H32,2)) -> 75699.69 | J32: =IF(G32=0,"",ROUND(H32*(1+'BDI SERVIÇOS'!$C$23),2)) -> 178.78 | K32: =IF(G32=0,"",ROUND(G32*J32,2)) -> 91369.09 | M32: =IF(G32=0,"",ROUND(G32*J32,2)) -> 91369.09
A33: =IF(G33>0,"x","") -> x | B33: 2.9 | C33: SINAPI | D33: 104658 | E33: =UPPER(IF($D33<>"",VLOOKUP($D33,CSD!$B$11:$E$15000,2,FALSE),"")) -> PISO PODOTÁTIL DE ALERTA OU DIRECIONAL, DE CONCRETO, ASSENTADO SOBRE ARGAMASSA. AF_03/2024 | F33: =UPPER(IF($D33<>"",VLOOKUP($D33,CSD!$B$11:$E$15000,3,FALSE),"")) -> M2 | G33: =ROUND(455.05+175.9+635.6,2) -> 1266.55 | H33: =IF($D33<>"",VLOOKUP($D33,CSD!$B$11:$E$15000,4,FALSE),"") -> 158.55 | I33: =IF(G33=0,"",ROUND(G33*H33,2)) -> 200811.5 | J33: =IF(G33=0,"",ROUND(H33*(1+'BDI SERVIÇOS'!$C$23),2)) -> 191.37 | K33: =IF(G33=0,"",ROUND(G33*J33,2)) -> 242379.67 | M33: =IF(G33=0,"",ROUND(G33*J33,2)) -> 242379.67
A34: =IF(G34>0,"x","") -> x | B34: 2.10 | C34: PMPP | D34: =Composições!B63 -> CP-05 | E34: =Composições!C63 -> EXECUÇÃO DE PASSEIO (CALÇADA) OU PISO DE CONCRETO COM CONCRETO MOLDADO IN LOCO, USINADO, ACABAMENTO CONVENCIONAL, ESPESSURA 6 CM, ARMADO COM TELA Q-138. | F34: =Composições!H63 -> M2 | G34: 11945.97 | H34: =Composições!J63 -> 64.44 | I34: =IF(G34=0,"",ROUND(G34*H34,2)) -> 769798.31 | J34: =IF(G34=0,"",ROUND(H34*(1+'BDI SERVIÇOS'!$C$23),2)) -> 77.78 | K34: =IF(G34=0,"",ROUND(G34*J34,2)) -> 929157.55 | M34: =IF(G34=0,"",ROUND(G34*J34,2)) -> 929157.55
A35: =IF(G35>0,"x","") -> x | B35: 2.11 | C35: SINAPI | D35: 97114 | E35: =UPPER(IF($D35<>"",VLOOKUP($D35,CSD!$B$11:$E$15000,2,FALSE),"")) -> EXECUÇÃO DE JUNTAS DE CONTRAÇÃO PARA PAVIMENTOS DE CONCRETO. AF_04/2022 | F35: =UPPER(IF($D35<>"",VLOOKUP($D35,CSD!$B$11:$E$15000,3,FALSE),"")) -> M | G35: =ROUND((G34/2.5)/3*2.5,2) -> 3981.99 | H35: =IF($D35<>"",VLOOKUP($D35,CSD!$B$11:$E$15000,4,FALSE),"") -> 0.54 | I35: =IF(G35=0,"",ROUND(G35*H35,2)) -> 2150.27 | J35: =IF(G35=0,"",ROUND(H35*(1+'BDI SERVIÇOS'!$C$23),2)) -> 0.65 | K35: =IF(G35=0,"",ROUND(G35*J35,2)) -> 2588.29 | M35: =IF(G35=0,"",ROUND(G35*J35,2)) -> 2588.29
A36: =IF(G36>0,"x","") -> x | B36: 2.12 | C36: SINAPI | D36: 103946 | E36: =UPPER(IF($D36<>"",VLOOKUP($D36,CSD!$B$11:$E$15000,2,FALSE),"")) -> PLANTIO DE GRAMA ESMERALDA OU SÃO CARLOS OU CURITIBANA, EM PLACAS. AF_07/2024 | F36: =UPPER(IF($D36<>"",VLOOKUP($D36,CSD!$B$11:$E$15000,3,FALSE),"")) -> M2 | G36: 4009.31 | H36: =IF($D36<>"",VLOOKUP($D36,CSD!$B$11:$E$15000,4,FALSE),"") -> 15.25 | I36: =IF(G36=0,"",ROUND(G36*H36,2)) -> 61141.98 | J36: =IF(G36=0,"",ROUND(H36*(1+'BDI SERVIÇOS'!$C$23),2)) -> 18.41 | K36: =IF(G36=0,"",ROUND(G36*J36,2)) -> 73811.4 | M36: =IF(G36=0,"",ROUND(G36*J36,2)) -> 73811.4
A37: =IF(G37>0,"x","") | B37: 2.13 | C37: SINAPI | E37: =UPPER(IF($D37<>"",VLOOKUP($D37,CSD!$B$11:$E$15000,2,FALSE),"")) | F37: =UPPER(IF($D37<>"",VLOOKUP($D37,CSD!$B$11:$E$15000,3,FALSE),"")) | H37: =IF($D37<>"",VLOOKUP($D37,CSD!$B$11:$E$15000,4,FALSE),"") | I37: =IF(G37=0,"",ROUND(G37*H37,2)) | J37: =IF(G37=0,"",ROUND(H37*(1+'BDI SERVIÇOS'!$C$23),2)) | K37: =IF(G37=0,"",ROUND(G37*J37,2)) | M37: =IF(G37=0,"",ROUND(G37*J37,2))
A38: =IF(G38>0,"x","") | B38: 2.14 | C38: SINAPI | E38: =UPPER(IF($D38<>"",VLOOKUP($D38,CSD!$B$11:$E$15000,2,FALSE),"")) | F38: =UPPER(IF($D38<>"",VLOOKUP($D38,CSD!$B$11:$E$15000,3,FALSE),"")) | H38: =IF($D38<>"",VLOOKUP($D38,CSD!$B$11:$E$15000,4,FALSE),"") | I38: =IF(G38=0,"",ROUND(G38*H38,2)) | J38: =IF(G38=0,"",ROUND(H38*(1+'BDI SERVIÇOS'!$C$23),2)) | K38: =IF(G38=0,"",ROUND(G38*J38,2)) | M38: =IF(G38=0,"",ROUND(G38*J38,2))
A39: =IF(G39>0,"x","") | B39: 2.15 | C39: SINAPI | E39: =UPPER(IF($D39<>"",VLOOKUP($D39,CSD!$B$11:$E$15000,2,FALSE),"")) | F39: =UPPER(IF($D39<>"",VLOOKUP($D39,CSD!$B$11:$E$15000,3,FALSE),"")) | H39: =IF($D39<>"",VLOOKUP($D39,CSD!$B$11:$E$15000,4,FALSE),"") | I39: =IF(G39=0,"",ROUND(G39*H39,2)) | J39: =IF(G39=0,"",ROUND(H39*(1+'BDI SERVIÇOS'!$C$23),2)) | K39: =IF(G39=0,"",ROUND(G39*J39,2)) | M39: =IF(G39=0,"",ROUND(G39*J39,2))
A40: =IF(G40>0,"x","") | B40: 2.16 | C40: SINAPI | E40: =UPPER(IF($D40<>"",VLOOKUP($D40,CSD!$B$11:$E$15000,2,FALSE),"")) | F40: =UPPER(IF($D40<>"",VLOOKUP($D40,CSD!$B$11:$E$15000,3,FALSE),"")) | H40: =IF($D40<>"",VLOOKUP($D40,CSD!$B$11:$E$15000,4,FALSE),"") | I40: =IF(G40=0,"",ROUND(G40*H40,2)) | J40: =IF(G40=0,"",ROUND(H40*(1+'BDI SERVIÇOS'!$C$23),2)) | K40: =IF(G40=0,"",ROUND(G40*J40,2)) | M40: =IF(G40=0,"",ROUND(G40*J40,2))
A41: =IF(G41>0,"x","") | B41: 2.17 | C41: SINAPI | E41: =UPPER(IF($D41<>"",VLOOKUP($D41,CSD!$B$11:$E$15000,2,FALSE),"")) | F41: =UPPER(IF($D41<>"",VLOOKUP($D41,CSD!$B$11:$E$15000,3,FALSE),"")) | H41: =IF($D41<>"",VLOOKUP($D41,CSD!$B$11:$E$15000,4,FALSE),"") | I41: =IF(G41=0,"",ROUND(G41*H41,2)) | J41: =IF(G41=0,"",ROUND(H41*(1+'BDI SERVIÇOS'!$C$23),2)) | K41: =IF(G41=0,"",ROUND(G41*J41,2)) | M41: =IF(G41=0,"",ROUND(G41*J41,2))
A42: =IF(G42>0,"x","") | B42: 2.18 | E42: =UPPER(IF($D42<>"",VLOOKUP($D42,CSD!$B$11:$E$15000,2,FALSE),"")) | F42: =UPPER(IF($D42<>"",VLOOKUP($D42,CSD!$B$11:$E$15000,3,FALSE),"")) | H42: =IF($D42<>"",VLOOKUP($D42,CSD!$B$11:$E$15000,4,FALSE),"") | I42: =IF(G42=0,"",ROUND(G42*H42,2)) | J42: =IF(G42=0,"",ROUND(H42*(1+'BDI SERVIÇOS'!$C$23),2)) | K42: =IF(G42=0,"",ROUND(G42*J42,2)) | M42: =IF(G42=0,"",ROUND(G42*J42,2))
A43: X | B43: =B23+1 -> 3 | C43: EXECUÇÃO DE PAVIMENTAÇÃO EM BOLSÕES E TRAVESSIAS | J43: VALOR SUBTOTAL | K43: =SUM(K46:K62) -> 910824.26 | M43: =IF(G43=0,"",ROUND(G43*J43,2))
A44: X | M44: =IF(G44=0,"",ROUND(G44*J44,2))
...

Sheet Composições
A2: x | E2: Prefeitura Municipal de Pontal do Paraná
A3: x
A4: x
A5: x
A6: x | B6: Obra: | E6: ='P.O. CALÇADAS E BOLSÃO '!E6 -> URBANIZAÇÃO DE CALÇADAS - AV. DEP. ANIBAL KHURY - PROJETO ORLA | H6: Data: | J6: =TODAY() -> 46322
A7: x | B7: Local: | E7: ='P.O. CALÇADAS E BOLSÃO '!E7 -> AV. DEP. ANIBAL KHURY - PROJETO ORLA | H7: BDI (%): | J7: ='BDI SERVIÇOS'!C23 -> 0.207
A8: x
A9: x | B9: COMPOSIÇÕES COMPLEMENTARES
A10: =IF(H10>0,"x","")
A11: =IF(C11>0,"x","") -> x | B11: CP-01 | C11: LOCAÇÃO DE 01 CONTAINER 2,30 X 6,00 M, ALT. 2,50 M, COM 1 SANITÁRIO, PARA ESCRITÓRIO/ALMOXARIFADO, COMPLETO, SEM DIVISÓRIAS INTERNAS. | H11: MÊS | I11: VALOR S/ BDI - | J11: =SUM(J14:J23) -> 1000
A12: =IF(C11>0,"x","") -> x
A13: =IF(H13>0,"x","") -> x | B13: Ítem | C13: Composição | D13: Insumo | E13: Origem | F13: Descrição dos serviços | G13: Unid. | H13: Quant. | I13: Unitário s/ BDI | J13: Total s/ BDI
A14: =IF(H14>0,"x","") -> x | B14: 1.1 | D14: 10775 | E14: SINAPI | F14: =UPPER(IF($D14="",IF($C14<>"",VLOOKUP($C14,CSD!$B$11:$E$15000,2,FALSE),""),IF($D14<>"",VLOOKUP($D14,ISD!$B$11:$F$7000,2,FALSE),""))) -> LOCACAO DE CONTAINER 2,30 X 6,00 M, ALT. 2,50 M, COM 1 SANITARIO, PARA ESCRITORIO, COMPLETO, SEM DIVISORIAS INTERNAS (NAO INCLUI MOBILIZACAO/DESMOBILIZACAO) | G14: =UPPER(IF($D14="",IF($C14<>"",VLOOKUP($C14,CSD!$B$11:$E$15000,3,FALSE),""),IF($D14<>"",VLOOKUP($D14,ISD!$B$11:$F$7000,3,FALSE),""))) -> MES | H14: 1 | I14: =IF($D14="",IF($C14<>"",VLOOKUP($C14,CSD!$B$11:$E$15000,4,FALSE),""),IF($D14<>"",VLOOKUP($D14,ISD!$B$11:$F$7000,5,FALSE),"")) -> 1000 | J14: =IF(H14=0,"",ROUND(I14*H14,2)) -> 1000
A15: =IF(H15>0,"x","") | B15: 1.2 | F15: =UPPER(IF($D15="",IF($C15<>"",VLOOKUP($C15,CSD!$B$11:$E$15000,2,FALSE),""),IF($D15<>"",VLOOKUP($D15,ISD!$B$11:$F$7000,2,FALSE),""))) | G15: =UPPER(IF($D15="",IF($C15<>"",VLOOKUP($C15,CSD!$B$11:$E$15000,3,FALSE),""),IF($D15<>"",VLOOKUP($D15,ISD!$B$11:$F$7000,3,FALSE),""))) | I15: =IF($D15="",IF($C15<>"",VLOOKUP($C15,CSD!$B$11:$E$15000,4,FALSE),""),IF($D15<>"",VLOOKUP($D15,ISD!$B$11:$F$7000,5,FALSE),"")) | J15: =IF(H15=0,"",ROUND(I15*H15,2))
A16: =IF(H16>0,"x","") | B16: 1.3 | F16: =UPPER(IF($D16="",IF($C16<>"",VLOOKUP($C16,CSD!$B$11:$E$15000,2,FALSE),""),IF($D16<>"",VLOOKUP($D16,ISD!$B$11:$F$7000,2,FALSE),""))) | G16: =UPPER(IF($D16="",IF($C16<>"",VLOOKUP($C16,CSD!$B$11:$E$15000,3,FALSE),""),IF($D16<>"",VLOOKUP($D16,ISD!$B$11:$F$7000,3,FALSE),""))) | I16: =IF($D16="",IF($C16<>"",VLOOKUP($C16,CSD!$B$11:$E$15000,4,FALSE),""),IF($D16<>"",VLOOKUP($D16,ISD!$B$11:$F$7000,5,FALSE),"")) | J16: =IF(H16=0,"",ROUND(I16*H16,2))
A17: =IF(H17>0,"x","") | B17: 1.4 | F17: =UPPER(IF($D17="",IF($C17<>"",VLOOKUP($C17,CSD!$B$11:$E$15000,2,FALSE),""),IF($D17<>"",VLOOKUP($D17,ISD!$B$11:$F$7000,2,FALSE),""))) | G17: =UPPER(IF($D17="",IF($C17<>"",VLOOKUP($C17,CSD!$B$11:$E$15000,3,FALSE),""),IF($D17<>"",VLOOKUP($D17,ISD!$B$11:$F$7000,3,FALSE),""))) | I17: =IF($D17="",IF($C17<>"",VLOOKUP($C17,CSD!$B$11:$E$15000,4,FALSE),""),IF($D17<>"",VLOOKUP($D17,ISD!$B$11:$F$7000,5,FALSE),"")) | J17: =IF(H17=0,"",ROUND(I17*H17,2))
A18: =IF(H18>0,"x","") | B18: 1.5 | F18: =UPPER(IF($D18="",IF($C18<>"",VLOOKUP($C18,CSD!$B$11:$E$15000,2,FALSE),""),IF($D18<>"",VLOOKUP($D18,ISD!$B$11:$F$7000,2,FALSE),""))) | G18: =UPPER(IF($D18="",IF($C18<>"",VLOOKUP($C18,CSD!$B$11:$E$15000,3,FALSE),""),IF($D18<>"",VLOOKUP($D18,ISD!$B$11:$F$7000,3,FALSE),""))) | I18: =IF($D18="",IF($C18<>"",VLOOKUP($C18,CSD!$B$11:$E$15000,4,FALSE),""),IF($D18<>"",VLOOKUP($D18,ISD!$B$11:$F$7000,5,FALSE),"")) | J18: =IF(H18=0,"",ROUND(I18*H18,2))
A19: =IF(H19>0,"x","") | B19: 1.6 | F19: =UPPER(IF($D19="",IF($C19<>"",VLOOKUP($C19,CSD!$B$11:$E$15000,2,FALSE),""),IF($D19<>"",VLOOKUP($D19,ISD!$B$11:$F$7000,2,FALSE),""))) | G19: =UPPER(IF($D19="",IF($C19<>"",VLOOKUP($C19,CSD!$B$11:$E$15000,3,FALSE),""),IF($D19<>"",VLOOKUP($D19,ISD!$B$11:$F$7000,3,FALSE),""))) | I19: =IF($D19="",IF($C19<>"",VLOOKUP($C19,CSD!$B$11:$E$15000,4,FALSE),""),IF($D19<>"",VLOOKUP($D19,ISD!$B$11:$F$7000,5,FALSE),"")) | J19: =IF(H19=0,"",ROUND(I19*H19,2))
A20: =IF(H20>0,"x","") | B20: 1.7 | F20: =UPPER(IF($D20="",IF($C20<>"",VLOOKUP($C20,CSD!$B$11:$E$15000,2,FALSE),""),IF($D20<>"",VLOOKUP($D20,ISD!$B$11:$F$7000,2,FALSE),""))) | G20: =UPPER(IF($D20="",IF($C20<>"",VLOOKUP($C20,CSD!$B$11:$E$15000,3,FALSE),""),IF($D20<>"",VLOOKUP($D20,ISD!$B$11:$F$7000,3,FALSE),""))) | I20: =IF($D20="",IF($C20<>"",VLOOKUP($C20,CSD!$B$11:$E$15000,4,FALSE),""),IF($D20<>"",VLOOKUP($D20,ISD!$B$11:$F$7000,5,FALSE),"")) | J20: =IF(H20=0,"",ROUND(I20*H20,2))
A21: =IF(H21>0,"x","") | B21: 1.8 | F21: =UPPER(IF($D21="",IF($C21<>"",VLOOKUP($C21,CSD!$B$11:$E$15000,2,FALSE),""),IF($D21<>"",VLOOKUP($D21,ISD!$B$11:$F$7000,2,FALSE),""))) | G21: =UPPER(IF($D21="",IF($C21<>"",VLOOKUP($C21,CSD!$B$11:$E$15000,3,FALSE),""),IF($D21<>"",VLOOKUP($D21,ISD!$B$11:$F$7000,3,FALSE),""))) | I21: =IF($D21="",IF($C21<>"",VLOOKUP($C21,CSD!$B$11:$E$15000,4,FALSE),""),IF($D21<>"",VLOOKUP($D21,ISD!$B$11:$F$7000,5,FALSE),"")) | J21: =IF(H21=0,"",ROUND(I21*H21,2))
A22: =IF(H22>0,"x","") | B22: 1.9 | F22: =UPPER(IF($D22="",IF($C22<>"",VLOOKUP($C22,CSD!$B$11:$E$15000,2,FALSE),""),IF($D22<>"",VLOOKUP($D22,ISD!$B$11:$F$7000,2,FALSE),""))) | G22: =UPPER(IF($D22="",IF($C22<>"",VLOOKUP($C22,CSD!$B$11:$E$15000,3,FALSE),""),IF($D22<>"",VLOOKUP($D22,ISD!$B$11:$F$7000,3,FALSE),""))) | I22: =IF($D22="",IF($C22<>"",VLOOKUP($C22,CSD!$B$11:$E$15000,4,FALSE),""),IF($D22<>"",VLOOKUP($D22,ISD!$B$11:$F$7000,5,FALSE),"")) | J22: =IF(H22=0,"",ROUND(I22*H22,2))
A23: =IF(H23>0,"x","") | B23: 1.10 | F23: =UPPER(IF($D23="",IF($C23<>"",VLOOKUP($C23,CSD!$B$11:$E$15000,2,FALSE),""),IF($D23<>"",VLOOKUP($D23,ISD!$B$11:$F$7000,2,FALSE),""))) | G23: =UPPER(IF($D23="",IF($C23<>"",VLOOKUP($C23,CSD!$B$11:$E$15000,3,FALSE),""),IF($D23<>"",VLOOKUP($D23,ISD!$B$11:$F$7000,3,FALSE),""))) | I23: =IF($D23="",IF($C23<>"",VLOOKUP($C23,CSD!$B$11:$E$15000,4,FALSE),""),IF($D23<>"",VLOOKUP($D23,ISD!$B$11:$F$7000,5,FALSE),"")) | J23: =IF(H23=0,"",ROUND(I23*H23,2))
A24: =IF(C24>0,"x","") -> x | B24: CP-02 | C24: LOCAÇÃO DE OBRA | H24: M2 | I24: VALOR S/ BDI - | J24: =SUM(J27:J36) -> 1.5
A25: =IF(C24>0,"x","") -> x
A26: =IF(C24>0,"x","") -> x | B26: Ítem | C26: Composição | D26: Insumo | E26: Origem | F26: Descrição dos serviços | G26: Unid. | H26: Quant. | I26: Unitário s/ BDI | J26: Total s/ BDI
A27: =IF(H27>0,"x","") -> x | B27: 2.1 | C27: 88253 | E27: SINAPI | F27: =UPPER(IF($D27="",IF($C27<>"",VLOOKUP($C27,CSD!$B$11:$E$15000,2,FALSE),""),IF($D27<>"",VLOOKUP($D27,ISD!$B$11:$F$7000,2,FALSE),""))) -> AUXILIAR DE TOPÓGRAFO COM ENCARGOS COMPLEMENTARES | G27: =UPPER(IF($D27="",IF($C27<>"",VLOOKUP($C27,CSD!$B$11:$E$15000,3,FALSE),""),IF($D27<>"",VLOOKUP($D27,ISD!$B$11:$F$7000,3,FALSE),""))) -> H | H27: 0.036 | I27: =IF($D27="",IF($C27<>"",VLOOKUP($C27,CSD!$B$11:$E$15000,4,FALSE),""),IF($D27<>"",VLOOKUP($D27,ISD!$B$11:$F$7000,5,FALSE),"")) -> 22.41 | J27: =IF(H27=0,"",ROUND(I27*H27,2)) -> 0.81
A28: =IF(H28>0,"x","") -> x | B28: 2.2 | C28: 90781 | E28: SINAPI | F28: =UPPER(IF($D28="",IF($C28<>"",VLOOKUP($C28,CSD!$B$11:$E$15000,2,FALSE),""),IF($D28<>"",VLOOKUP($D28,ISD!$B$11:$F$7000,2,FALSE),""))) -> TOPOGRAFO COM ENCARGOS COMPLEMENTARES | G28: =UPPER(IF($D28="",IF($C28<>"",VLOOKUP($C28,CSD!$B$11:$E$15000,3,FALSE),""),IF($D28<>"",VLOOKUP($D28,ISD!$B$11:$F$7000,3,FALSE),""))) -> H | H28: 0.018 | I28: =IF($D28="",IF($C28<>"",VLOOKUP($C28,CSD!$B$11:$E$15000,4,FALSE),""),IF($D28<>"",VLOOKUP($D28,ISD!$B$11:$F$7000,5,FALSE),"")) -> 38.48 | J28: =IF(H28=0,"",ROUND(I28*H28,2)) -> 0.69
A29: =IF(H29>0,"x","") | B29: 2.3 | F29: =UPPER(IF($D29="",IF($C29<>"",VLOOKUP($C29,CSD!$B$11:$E$15000,2,FALSE),""),IF($D29<>"",VLOOKUP($D29,ISD!$B$11:$F$7000,2,FALSE),""))) | G29: =UPPER(IF($D29="",IF($C29<>"",VLOOKUP($C29,CSD!$B$11:$E$15000,3,FALSE),""),IF($D29<>"",VLOOKUP($D29,ISD!$B$11:$F$7000,3,FALSE),""))) | I29: =IF($D29="",IF($C29<>"",VLOOKUP($C29,CSD!$B$11:$E$15000,4,FALSE),""),IF($D29<>"",VLOOKUP($D29,ISD!$B$11:$F$7000,5,FALSE),"")) | J29: =IF(H29=0,"",ROUND(I29*H29,2))
A30: =IF(H30>0,"x","") | B30: 2.4 | F30: =UPPER(IF($D30="",IF($C30<>"",VLOOKUP($C30,CSD!$B$11:$E$15000,2,FALSE),""),IF($D30<>"",VLOOKUP($D30,ISD!$B$11:$F$7000,2,FALSE),""))) | G30: =UPPER(IF($D30="",IF($C30<>"",VLOOKUP($C30,CSD!$B$11:$E$15000,3,FALSE),""),IF($D30<>"",VLOOKUP($D30,ISD!$B$11:$F$7000,3,FALSE),""))) | I30: =IF($D30="",IF($C30<>"",VLOOKUP($C30,CSD!$B$11:$E$15000,4,FALSE),""),IF($D30<>"",VLOOKUP($D30,ISD!$B$11:$F$7000,5,FALSE),"")) | J30: =IF(H30=0,"",ROUND(I30*H30,2))
A31: =IF(H31>0,"x","") | B31: 2.5 | F31: =UPPER(IF($D31="",IF($C31<>"",VLOOKUP($C31,CSD!$B$11:$E$15000,2,FALSE),""),IF($D31<>"",VLOOKUP($D31,ISD!$B$11:$F$7000,2,FALSE),""))) | G31: =UPPER(IF($D31="",IF($C31<>"",VLOOKUP($C31,CSD!$B$11:$E$15000,3,FALSE),""),IF($D31<>"",VLOOKUP($D31,ISD!$B$11:$F$7000,3,FALSE),""))) | I31: =IF($D31="",IF($C31<>"",VLOOKUP($C31,CSD!$B$11:$E$15000,4,FALSE),""),IF($D31<>"",VLOOKUP($D31,ISD!$B$11:$F$7000,5,FALSE),"")) | J31: =IF(H31=0,"",ROUND(I31*H31,2))
A32: =IF(H32>0,"x","") | B32: 2.6 | F32: =UPPER(IF($D32="",IF($C32<>"",VLOOKUP($C32,CSD!$B$11:$E$15000,2,FALSE),""),IF($D32<>"",VLOOKUP($D32,ISD!$B$11:$F$7000,2,FALSE),""))) | G32: =UPPER(IF($D32="",IF($C32<>"",VLOOKUP($C32,CSD!$B$11:$E$15000,3,FALSE),""),IF($D32<>"",VLOOKUP($D32,ISD!$B$11:$F$7000,3,FALSE),""))) | I32: =IF($D32="",IF($C32<>"",VLOOKUP($C32,CSD!$B$11:$E$15000,4,FALSE),""),IF($D32<>"",VLOOKUP($D32,ISD!$B$11:$F$7000,5,FALSE),"")) | J32: =IF(H32=0,"",ROUND(I32*H32,2))
A33: =IF(H33>0,"x","") | B33: 2.7 | F33: =UPPER(IF($D33="",IF($C33<>"",VLOOKUP($C33,CSD!$B$11:$E$15000,2,FALSE),""),IF($D33<>"",VLOOKUP($D33,ISD!$B$11:$F$7000,2,FALSE),""))) | G33: =UPPER(IF($D33="",IF($C33<>"",VLOOKUP($C33,CSD!$B$11:$E$15000,3,FALSE),""),IF($D33<>"",VLOOKUP($D33,ISD!$B$11:$F$7000,3,FALSE),""))) | I33: =IF($D33="",IF($C33<>"",VLOOKUP($C33,CSD!$B$11:$E$15000,4,FALSE),""),IF($D33<>"",VLOOKUP($D33,ISD!$B$11:$F$7000,5,FALSE),"")) | J33: =IF(H33=0,"",ROUND(I33*H33,2))
A34: =IF(H34>0,"x","") | B34: 2.8 | F34: =UPPER(IF($D34="",IF($C34<>"",VLOOKUP($C34,CSD!$B$11:$E$15000,2,FALSE),""),IF($D34<>"",VLOOKUP($D34,ISD!$B$11:$F$7000,2,FALSE),""))) | G34: =UPPER(IF($D34="",IF($C34<>"",VLOOKUP($C34,CSD!$B$11:$E$15000,3,FALSE),""),IF($D34<>"",VLOOKUP($D34,ISD!$B$11:$F$7000,3,FALSE),""))) | I34: =IF($D34="",IF($C34<>"",VLOOKUP($C34,CSD!$B$11:$E$15000,4,FALSE),""),IF($D34<>"",VLOOKUP($D34,ISD!$B$11:$F$7000,5,FALSE),"")) | J34: =IF(H34=0,"",ROUND(I34*H34,2))
A35: =IF(H35>0,"x","") | B35: 2.9 | F35: =UPPER(IF($D35="",IF($C35<>"",VLOOKUP($C35,CSD!$B$11:$E$15000,2,FALSE),""),IF($D35<>"",VLOOKUP($D35,ISD!$B$11:$F$7000,2,FALSE),""))) | G35: =UPPER(IF($D35="",IF($C35<>"",VLOOKUP($C35,CSD!$B$11:$E$15000,3,FALSE),""),IF($D35<>"",VLOOKUP($D35,ISD!$B$11:$F$7000,3,FALSE),""))) | I35: =IF($D35="",IF($C35<>"",VLOOKUP($C35,CSD!$B$11:$E$15000,4,FALSE),""),IF($D35<>"",VLOOKUP($D35,ISD!$B$11:$F$7000,5,FALSE),"")) | J35: =IF(H35=0,"",ROUND(I35*H35,2))
A36: =IF(H36>0,"x","") | B36: 2.10 | F36: =UPPER(IF($D36="",IF($C36<>"",VLOOKUP($C36,CSD!$B$11:$E$15000,2,FALSE),""),IF($D36<>"",VLOOKUP($D36,ISD!$B$11:$F$7000,2,FALSE),""))) | G36: =UPPER(IF($D36="",IF($C36<>"",VLOOKUP($C36,CSD!$B$11:$E$15000,3,FALSE),""),IF($D36<>"",VLOOKUP($D36,ISD!$B$11:$F$7000,3,FALSE),""))) | I36: =IF($D36="",IF($C36<>"",VLOOKUP($C36,CSD!$B$11:$E$15000,4,FALSE),""),IF($D36<>"",VLOOKUP($D36,ISD!$B$11:$F$7000,5,FALSE),"")) | J36: =IF(H36=0,"",ROUND(I36*H36,2))
A37: =IF(C37>0,"x","") -> x | B37: CP-03 | C37: REMOÇÃO DE GUIAS PRÉ-FABRICADAS DE CONCRETO | H37: M | I37: VALOR S/ BDI - | J37: =SUM(J40:J49) -> 5.77
A38: =IF(C37>0,"x","") -> x
A39: =IF(C37>0,"x","") -> x | B39: Ítem | C39: Composição | D39: Insumo | E39: Origem | F39: Descrição dos serviços | G39: Unid. | H39: Quant. | I39: Unitário s/ BDI | J39: Total s/ BDI
A40: =IF(H40>0,"x","") -> x | B40: 3.1 | C40: 5678 | F40: =UPPER(IF($D40="",IF($C40<>"",VLOOKUP($C40,CSD!$B$11:$E$15000,2,FALSE),""),IF($D40<>"",VLOOKUP($D40,ISD!$B$11:$F$7000,2,FALSE),""))) -> RETROESCAVADEIRA SOBRE RODAS COM CARREGADEIRA, TRAÇÃO 4X4, POTÊNCIA LÍQ. 88 HP, CAÇAMBA CARREG. CAP. MÍN. 1 M3, CAÇAMBA RETRO CAP. 0,26 M3, PESO OPERACIONAL MÍN. 6.674 KG, PROFUNDIDADE ESCAVAÇÃO MÁX. 4,37 M - CHP DIURNO. AF_06/2014 | G40: =UPPER(IF($D40="",IF($C40<>"",VLOOKUP($C40,CSD!$B$11:$E$15000,3,FALSE),""),IF($D40<>"",VLOOKUP($D40,ISD!$B$11:$F$7000,3,FALSE),""))) -> CHP | H40: 0.02 | I40: =IF($D40="",IF($C40<>"",VLOOKUP($C40,CSD!$B$11:$E$15000,4,FALSE),""),IF($D40<>"",VLOOKUP($D40,ISD!$B$11:$F$7000,5,FALSE),"")) -> 157.26 | J40: =IF(H40=0,"",ROUND(I40*H40,2)) -> 3.15
A41: =IF(H41>0,"x","") -> x | B41: 3.2 | C41: 88316 | F41: =UPPER(IF($D41="",IF($C41<>"",VLOOKUP($C41,CSD!$B$11:$E$15000,2,FALSE),""),IF($D41<>"",VLOOKUP($D41,ISD!$B$11:$F$7000,2,FALSE),""))) -> SERVENTE COM ENCARGOS COMPLEMENTARES | G41: =UPPER(IF($D41="",IF($C41<>"",VLOOKUP($C41,CSD!$B$11:$E$15000,3,FALSE),""),IF($D41<>"",VLOOKUP($D41,ISD!$B$11:$F$7000,3,FALSE),""))) -> H | H41: 0.0833 | I41: =IF($D41="",IF($C41<>"",VLOOKUP($C41,CSD!$B$11:$E$15000,4,FALSE),""),IF($D41<>"",VLOOKUP($D41,ISD!$B$11:$F$7000,5,FALSE),"")) -> 31.41 | J41: =IF(H41=0,"",ROUND(I41*H41,2)) -> 2.62
...

Sheet Cotação
A2: x | E2: Prefeitura Municipal de Pontal do Paraná
A3: x | E3: Secretaria Municipal de Planejamento Urbano e Infraestrutura
A4: x
A5: x
A6: x | B6: Obra: | D6: ='P.O. CALÇADAS E BOLSÃO '!E6 -> URBANIZAÇÃO DE CALÇADAS - AV. DEP. ANIBAL KHURY - PROJETO ORLA | G6: Data: | I6: =TODAY() -> 46322
A7: x | B7: Local: | D7: ='P.O. CALÇADAS E BOLSÃO '!E7 -> AV. DEP. ANIBAL KHURY - PROJETO ORLA
A8: x
A9: x | B9: TABELA DE COTAÇÃO
A10: x
A11: =IF(C11>0,"x","") | B11: 1 | H11: MÉDIA | I11: =ROUND(AVERAGE(I14:I19),2) -> 0
A12: =IF(C11>0,"x","")
A13: =IF(C11>0,"x","") | B13: Nº | C13: Contato | D13: CNPJ | E13: Fornecedora | F13: Unid. | G13: Quant. | H13: Unitário | I13: Total
A14: =IF(G14>0,"x","") | B14: 1 | I14: =ROUND(G14*H14,2) -> 0
A15: =IF(G15>0,"x","") | B15: =B14+1 -> 2 | I15: =ROUND(G15*H15,2) -> 0
A16: =IF(G16>0,"x","") | B16: =B15+1 -> 3 | I16: =ROUND(G16*H16,2) -> 0
A17: =IF(G17>0,"x","") | B17: =B16+1 -> 4 | I17: =ROUND(G17*H17,2) -> 0
A18: =IF(G18>0,"x","") | B18: =B17+1 -> 5 | I18: =ROUND(G18*H18,2) -> 0
A19: =IF(G19>0,"x","") | B19: =B18+1 -> 6 | I19: =ROUND(G19*H19,2) -> 0
A20: =IF(C20>0,"x","") | B20: 2 | H20: MÉDIA | I20: =ROUND(AVERAGE(I23:I28),2) -> 0
A21: =IF(C20>0,"x","")
A22: =IF(C20>0,"x","") | B22: Nº | C22: Contato | D22: CNPJ | E22: Fornecedora | F22: Unid. | G22: Quant. | H22: Unitário | I22: Total
A23: =IF(G23>0,"x","") | B23: 1 | I23: =ROUND(G23*H23,2) -> 0
A24: =IF(G24>0,"x","") | B24: =B23+1 -> 2 | I24: =ROUND(G24*H24,2) -> 0
A25: =IF(G25>0,"x","") | B25: =B24+1 -> 3 | I25: =ROUND(G25*H25,2) -> 0
A26: =IF(G26>0,"x","") | B26: =B25+1 -> 4 | I26: =ROUND(G26*H26,2) -> 0
A27: =IF(G27>0,"x","") | B27: =B26+1 -> 5 | I27: =ROUND(G27*H27,2) -> 0
A28: =IF(G28>0,"x","") | B28: =B27+1 -> 6 | I28: =ROUND(G28*H28,2) -> 0
A29: =IF(C29>0,"x","") | B29: 2 | H29: MÉDIA | I29: =ROUND(AVERAGE(I32:I37),2) -> 0
A30: =IF(C29>0,"x","")
A31: =IF(C29>0,"x","") | B31: Nº | C31: Contato | D31: CNPJ | E31: Fornecedora | F31: Unid. | G31: Quant. | H31: Unitário | I31: Total
A32: =IF(G32>0,"x","") | B32: 1 | I32: =ROUND(G32*H32,2) -> 0
A33: =IF(G33>0,"x","") | B33: =B32+1 -> 2 | I33: =ROUND(G33*H33,2) -> 0
A34: =IF(G34>0,"x","") | B34: =B33+1 -> 3 | I34: =ROUND(G34*H34,2) -> 0
A35: =IF(G35>0,"x","") | B35: =B34+1 -> 4 | I35: =ROUND(G35*H35,2) -> 0
A36: =IF(G36>0,"x","") | B36: =B35+1 -> 5 | I36: =ROUND(G36*H36,2) -> 0
A37: =IF(G37>0,"x","") | B37: =B36+1 -> 6 | I37: =ROUND(G37*H37,2) -> 0
A38: =IF(G38>0,"x","")
A39: =IF(G39>0,"x","")
A40: =IF(G40>0,"x","")
A41: =IF(G41>0,"x","")
...

Sheet BDI SERVIÇOS
A8: COMPOSIÇÃO DE BDI - EDIFICAÇÕES
A9: VALOR TOTAL DA OBRA/SERVIÇO (R$): | G9: ='P.O. CALÇADAS E BOLSÃO '!K8 -> 2615069.1
A10: ITEM | B10: DISCRIMINAÇÃO | C10: TAXA (%) | D10: SITUAÇÃO DO INTERVALO ADMISSIVEL | E10: PARCELAS DO BDI (%)
E11: 1 Quartil | F11: Médio | G11: 3 Quartil
A12: 1 | B12: AC - ADMINISTRAÇÃO CENTRAL | C12: 0.0401 | D12: =IF(AND(C12>=E12,C12<=G12),"OK","DIFERE") -> OK | E12: 0.038 | F12: 0.0401 | G12: 0.0467
A13: 2 | B13: SG - SEGUROS + GARANTIA | C13: 0.004 | D13: =IF(AND(C13>=E13,C13<=G13),"OK","DIFERE") -> OK | E13: 0.0032 | F13: 0.004 | G13: 0.0074
A14: 3 | B14: R - RISCOS | C14: 0.0056 | D14: =IF(AND(C14>=E14,C14<=G14),"OK","DIFERE") -> OK | E14: 0.005 | F14: 0.0056 | G14: 0.0097
A15: 4 | B15: DF - DESPESAS FINANCEIRAS | C15: 0.0111 | D15: =IF(AND(C15>=E15,C15<=G15),"OK","DIFERE") -> OK | E15: 0.0102 | F15: 0.0111 | G15: 0.0121
A16: 5 | B16: L - LUCRO BRUTO | C16: 0.073 | D16: =IF(AND(C16>=E16,C16<=G16),"OK","DIFERE") -> OK | E16: 0.0664 | F16: 0.073 | G16: 0.0869
A17: 6 | B17: I - IMPOSTOS | C17: =SUM(C18:C20) -> 0.0565 | D17: Equação Acordão TCU 2.622/2013 - Plenário
A18: 6.1 | B18: PIS | C18: 0.0065
A19: 6.2 | B19: COFINS | C19: 0.03
A20: 6.3 | B20: ISS (CONFORME LEGISLAÇÃO MUNICIPAL) | C20: 0.02
A21: TOTAL DO BDI (R$) | C21: =G9-C22 -> 448483.26 | D21: Parâmetros do Acórdão 2.622/2013 - Plenário
A22: TOTAL DO CUSTO DIRETO (R$) | C22: =ROUND((G9/(1+C23)),2) -> 2166585.8 | D22: Quartis / % | E22: 1 Quartil | F22: Médio | G22: 3 Quartil
A23: BDI (%) | C23: =ROUND((((1+$C12+$C13+$C14)*(1+$C15)*(1+$C16)/(1-$C17)))-1,4) -> 0.207 | D23: =IF(AND($C23>=$E23,$C23<=$G23),"OK","DIFERE") -> OK | E23: 0.196 | F23: 0.2095 | G23: 0.2423
A25: Onde:
A26: AC: taxa de administração central;
A27: S: taxa de seguros;
A28: G: taxa de garantias;
A29: R: taxa de riscos;
A30: DF: taxa de despesas financeiras;
A31: L: taxa de lucro/remuneração;
A32: I: taxa de incidência de impostos (PIS, COFINS, ISS).
A37: _____________________________________________________________
A38: ='P.O. CALÇADAS E BOLSÃO '!H81 -> Lucas Scomação Jacon
A39: ='P.O. CALÇADAS E BOLSÃO '!H82 -> Eng. Civil - CREA: PR-211223/D

Sheet BDI MAT. E EQUIP.
A8: COMPOSIÇÃO DE BDI - EDIFICAÇÕES
A9: VALOR TOTAL DA OBRA/SERVIÇO (R$): | G9: ='P.O. CALÇADAS E BOLSÃO '!K8 -> 2615069.1
A10: ITEM | B10: DISCRIMINAÇÃO | C10: TAXA (%) | D10: SITUAÇÃO DO INTERVALO ADMISSIVEL | E10: PARCELAS DO BDI (%)
E11: 1 Quartil | F11: Médio | G11: 3 Quartil
A12: 1 | B12: AC - ADMINISTRAÇÃO CENTRAL | C12: 0.0345 | D12: =IF(AND(C12>=E12,C12<=G12),"OK","DIFERE") -> OK | E12: 0.015 | F12: 0.0345 | G12: 0.0449
A13: 2 | B13: SG - SEGUROS + GARANTIA | C13: 0.0048 | D13: =IF(AND(C13>=E13,C13<=G13),"OK","DIFERE") -> OK | E13: 0.003 | F13: 0.0048 | G13: 0.0082
A14: 3 | B14: R - RISCOS | C14: 0.0085 | D14: =IF(AND(C14>=E14,C14<=G14),"OK","DIFERE") -> OK | E14: 0.0056 | F14: 0.0085 | G14: 0.0089
A15: 4 | B15: DF - DESPESAS FINANCEIRAS | C15: 0.0085 | D15: =IF(AND(C15>=E15,C15<=G15),"OK","DIFERE") -> OK | E15: 0.0085 | F15: 0.0085 | G15: 0.0111
A16: 5 | B16: L - LUCRO BRUTO | C16: 0.0511 | D16: =IF(AND(C16>=E16,C16<=G16),"OK","DIFERE") -> OK | E16: 0.035 | F16: 0.0511 | G16: 0.0622
A17: 6 | B17: I - IMPOSTOS | C17: =SUM(C18:C19) -> 0.0365 | D17: Equação Acordão TCU 2.622/2013 - Plenário
A18: 6.1 | B18: PIS | C18: 0.0065
A19: 6.2 | B19: COFINS | C19: 0.03
A20: TOTAL DO BDI (R$) | C20: =G9-C21 -> 346619.15 | D20: Parâmetros do Acórdão 2.622/2013 - Plenário
A21: TOTAL DO CUSTO DIRETO (R$) | C21: =ROUND((G9/(1+C22)),2) -> 2268449.9 | D21: Quartis / % | E21: 1 Quartil | F21: Médio | G21: 3 Quartil
A22: BDI (%) | C22: =ROUND((((1+$C12+$C13+$C14)*(1+$C15)*(1+$C16)/(1-$C17)))-1,4) -> 0.1528 | D22: =IF(AND($C22>=$E22,$C22<=$G22),"OK","DIFERE") -> OK | E22: 0.111 | F22: 0.1402 | G22: 0.168
A24: Onde:
A25: AC: taxa de administração central;
A26: S: taxa de seguros;
A27: G: taxa de garantias;
A28: R: taxa de riscos;
A29: DF: taxa de despesas financeiras;
A30: L: taxa de lucro/remuneração;
A31: I: taxa de incidência de impostos (PIS, COFINS, ISS).
A36: _____________________________________________________________
A37: ='P.O. CALÇADAS E BOLSÃO '!H81 -> Lucas Scomação Jacon
A38: ='P.O. CALÇADAS E BOLSÃO '!H82 -> Eng. Civil - CREA: PR-211223/D

Sheet CRONOGRAMA
A1: CRONOGRAMA FÍSICO-FINANCEIRO | C1: PRAZO | I1: VALOR (R$) / % | J1: % SERVIÇO TOTAL
A2: ITEM | B2: SERVIÇOS | C2: 1º MÊS | D2: 2º MÊS | E2: 3º MÊS | F2: 4º MÊS | G2: 5º MÊS | H2: 6º MÊS
A3: 1 | B3: ='P.O. CALÇADAS E BOLSÃO '!C14 -> SERVIÇOS COMPLEMENTARES | C3: 41627.87 | D3: 1207 | E3: 1207 | F3: 1207 | G3: 1207 | H3: 1207 | I3: ='P.O. CALÇADAS E BOLSÃO '!K14 -> 47662.87 | J3: =I3/$I$9 -> 0.018226238
C4: =C3/$I$3 -> 0.87338152 | D4: =D3/$I$3 -> 0.025323695 | E4: =E3/$I$3 -> 0.025323695 | F4: =F3/$I$3 -> 0.025323695 | G4: =G3/$I$3 -> 0.025323695 | H4: =H3/$I$3 -> 0.025323695 | I4: =IF(SUM(C4:H4)>100.01%,FALSE,SUM(C4:H4)) -> 1
A5: =A3+1 -> 2 | B5: ='P.O. CALÇADAS E BOLSÃO '!C23 -> SERVIÇOS DE URBANIZAÇÃO | C5: =$I5*C6 -> 331316.39 | D5: =$I5*D6 -> 331316.39 | E5: =$I5*E6 -> 331316.39 | F5: =$I5*F6 -> 331316.39 | G5: =$I5*G6 -> 331316.39 | H5: =$I5*H6 -> 0 | I5: ='P.O. CALÇADAS E BOLSÃO '!K23 -> 1656581.9 | J5: =I5/$I$9 -> 0.6334754
C6: 0.2 | D6: 0.2 | E6: 0.2 | F6: 0.2 | G6: 0.2 | H6: 0 | I6: =IF(SUM(C6:H6)>100.01%,FALSE,SUM(C6:H6)) -> 1
A7: =A5+1 -> 3 | B7: ='P.O. CALÇADAS E BOLSÃO '!C43 -> EXECUÇÃO DE PAVIMENTAÇÃO EM BOLSÕES E TRAVESSIAS | C7: 85472.54 | D7: 85472.54 | E7: 85472.54 | F7: 85472.54 | G7: 85472.52 | H7: 483461.58 | I7: ='P.O. CALÇADAS E BOLSÃO '!K43 -> 910824.26 | J7: =I7/$I$9 -> 0.34829836
C8: =C7/$I$7 -> 0.093840869 | D8: =D7/$I$7 -> 0.093840869 | E8: =E7/$I$7 -> 0.093840869 | F8: =F7/$I$7 -> 0.093840869 | G8: =G7/$I$7 -> 0.093840847 | H8: =H7/$I$7 -> 0.53079568 | I8: =IF(SUM(C8:H8)>100.01%,FALSE,SUM(C8:H8)) -> 1
A9: TOTAL DAS PARCELAS (R$) | C9: =SUM(C3,C5,C7) -> 458416.8 | D9: =SUM(D3,D5,D7) -> 417995.93 | E9: =SUM(E3,E5,E7) -> 417995.93 | F9: =SUM(F3,F5,F7) -> 417995.93 | G9: =SUM(G3,G5,G7) -> 417995.91 | H9: =SUM(H3,H5,H7) -> 484668.58 | I9: =SUM(I3,I5,I7) -> 2615069.1 | J9: =I9/$I$9 -> 1
A10: TOTAL DAS PARCELAS (%) | C10: =C9/$I$9 -> 0.17529816 | D10: =D9/$I$9 -> 0.15984126 | E10: =E9/$I$9 -> 0.15984126 | F10: =F9/$I$9 -> 0.15984126 | G10: =G9/$I$9 -> 0.15984125 | H10: =H9/$I$9 -> 0.18533682 | I10: =SUM(C10:H10) -> 1
A11: TOTAL ACUMULADO DAS PARCELAS (R$) | C11: =C9 -> 458416.8 | D11: =C11+D9 -> 876412.72 | E11: =D11+E9 -> 1294408.6 | F11: =E11+F9 -> 1712404.6 | G11: =F11+G9 -> 2130400.5 | H11: =G11+H9 -> 2615069.1 | I11: =IF(I9=H11,"OK","FALSO") -> OK
A12: TOTAL ACUMULADO DAS PARCELAS (%) | C12: =C10 -> 0.17529816 | D12: =C12+D10 -> 0.33513942 | E12: =D12+E10 -> 0.49498067 | F12: =E12+F10 -> 0.65482193 | G12: =F12+G10 -> 0.81466318 | H12: =G12+H10 -> 1
A18: ______________________________________________________________________
A19: ='P.O. CALÇADAS E BOLSÃO '!H81 -> Lucas Scomação Jacon
A20: ='P.O. CALÇADAS E BOLSÃO '!H82 -> Eng. Civil - CREA: PR-211223/D

Sheet CSD
A1: SINAPI - Sistema Nacional de Pesquisa de Custos e Índices da Construção Civil
A2: RELATÓRIO DE CUSTOS DE COMPOSIÇÕES - ENCARGOS SOCIAIS SEM DESONERAÇÃO
A3: Mês de Referência: | B3: 06/20026 | D3: Encargos sociais sobre a mão de obra:
A4: Data de emissão: | B4: 46213 | D4: (SEM DESONERAÇÃO) | E4: PR
D5: Localidade | E5: CURITIBA
A6: Observação: | B6: %AS (porcentagem Atribuído São Paulo) corresponde a porcentagem do custo total da | D6: Horista | E6: 1.1628
B7: composição que foi obtida utilizando preços de insumos de São Paulo por indisponibilidade | D7: Mensalista | E7: 0.7242
B8: dos preços de insumos necessários à composição no estado em questão. Custo zerado (hífen)
B9: indica que pelo menos um dos itens da composição não tem custo/preço. | E9: PR
A10: Grupo | B10: Código da Composição | C10: Descrição | D10: Unidade | E10: Custo (R$)
A11: Acessibilidade | B11: 104658 | C11: PISO PODOTÁTIL DE ALERTA OU DIRECIONAL, DE CONCRETO, ASSENTADO SOBRE ARGAMASSA. AF_03/2024 | D11: M2 | E11: 158.55
A12: Acessibilidade | B12: 105002 | C12: RAMPA DE ACESSIBILIDADE EM CONCRETO MOLDADO IN LOCO, EM CALÇADA NOVA COM LARGURA MAIOR OU IGUAL À 3,00 M, FCK 25MPA, COM PISO PODOTÁTIL. AF_03/2024 | D12: UN | E12: 860.19
A13: Acessibilidade | B13: 105004 | C13: RAMPA DE ACESSIBILIDADE EM CONCRETO MOLDADO IN LOCO, EM CALÇADA NOVA COM LARGURA MENOR À 3,00 M, FCK 25MPA, COM PISO PODOTÁTIL. AF_03/2024 | D13: M2 | E13: 148.12
A14: Acessibilidade | B14: 105003 | C14: RAMPA DE ACESSIBILIDADE EM CONCRETO MOLDADO IN LOCO, EM CALÇADA PRÉ EXISTENTE COM LARGURA MAIOR OU IGUAL À 3,00 M, FCK 25MPA, COM PISO PODOTÁTIL. AF_03/2024 | D14: UN | E14: 1430.18
A15: Acessibilidade | B15: 105005 | C15: RAMPA DE ACESSIBILIDADE EM CONCRETO MOLDADO IN LOCO, EM CALÇADA PRÉ EXISTENTE COM LARGURA MENOR À 3,00 M, FCK 25MPA, COM PISO PODOTÁTIL. AF_03/2024 | D15: M2 | E15: 253.66
A16: Acessibilidade | B16: 105006 | C16: RAMPA DE ACESSIBILIDADE EM CONCRETO PRÉ MOLDADO, EM CALÇADA NOVA COM LARGURA MAIOR OU IGUAL À 3,00 M, FCK 25MPA, COM PISO PODOTÁTIL. AF_03/2024 | D16: UN | E16: 0
A17: Acessibilidade | B17: 104999 | C17: RAMPA DE ACESSIBILIDADE EM CONCRETO PRÉ MOLDADO, EM CALÇADA PRÉ EXISTENTE COM LARGURA MAIOR OU IGUAL À 3,00 M, FCK 25MPA, COM PISO PODOTÁTIL. AF_03/2024 | D17: UN | E17: 0
A18: Acessibilidade | B18: 105000 | C18: RAMPA DE ACESSIBILIDADE PARA ACESSO A EDIFICAÇÕES COM INCLINAÇÃO DE 8,33% EM CONCRETO MOLDADO IN LOCO, COM LARGURA DE 1,20M, FCK 25MPA, NÃO ARMADA, COM JUNTA A CADA 2M COM CORTE À SECO. AF_03/2024 | D18: M | E18: 1368.95
A19: Acessibilidade | B19: 105001 | C19: RAMPA DE ACESSIBILIDADE PARA ACESSO A EDIFICAÇÕES COM INCLINAÇÃO DE 8,33% EM CONCRETO MOLDADO IN LOCO, COM LARGURA DE 1,50M, FCK 25MPA, NÃO ARMADA, COM JUNTA A CADA 2M COM CORTE À SECO. AF_03/2024 | D19: M | E19: 1399.88
A20: Alvenaria Estrutural - Blocos Cerâmicos | B20: 89306 | C20: ALVENARIA ESTRUTURAL DE BLOCOS CERÂMICOS 14X19X29, (ESPESSURA DE 14 CM), UTILIZANDO COLHER DE PEDREIRO E ARGAMASSA DE ASSENTAMENTO COM PREPARO EM BETONEIRA. AF_03/2023 | D20: M2 | E20: 117.43
A21: Alvenaria Estrutural - Blocos Cerâmicos | B21: 89307 | C21: ALVENARIA ESTRUTURAL DE BLOCOS CERÂMICOS 14X19X29, (ESPESSURA DE 14 CM), UTILIZANDO COLHER DE PEDREIRO E ARGAMASSA DE ASSENTAMENTO COM PREPARO MANUAL. AF_03/2023 | D21: M2 | E21: 120.47
A22: Alvenaria Estrutural - Blocos Cerâmicos | B22: 89290 | C22: ALVENARIA ESTRUTURAL DE BLOCOS CERÂMICOS 14X19X29, (ESPESSURA DE 14 CM), UTILIZANDO PALHETA E ARGAMASSA DE ASSENTAMENTO COM PREPARO EM BETONEIRA. AF_03/2023 | D22: M2 | E22: 95.17
... A10464: Válvulas para Redes de Saneamento | B10464: 103548 | C10464: VÁLVULA REDUTORA DE PRESSÃO DE FERRO FUNDIDO PARA REDE DE ÁGUA, DN 80 MM, JUNTA FLANGEADA. AF_12/2021 | D10464: UN | E10464: 0

Sheet ISD
A1: SINAPI - Sistema Nacional de Pesquisa de Custos e Índices da Construção Civil
A2: RELATÓRIO DE PREÇOS DE INSUMOS - ENCARGOS SOCIAIS SEM DESONERAÇÃO
A3: Mês de Referência: | B3: 06/2026 | E3: Encargos sociais sobre a mão de obra:
A4: Data de emissão: | B4: 10/07/2026 | E4: (SEM DESONERAÇÃO) | F4: PR
E5: Localidade | F5: CURITIBA
A6: Origem de preço: | B6: C = COLETADO | C6: CR = COEFICIENTE DE REPRESENTATIVIDADE | E6: Horista | F6: 1.1628
A7: Preço em branco para determinado estado significa que não houve coleta mínima de preços no mês de referência | E7: Mensalista | F7: 0.7242
A9: Acessar Fichas de Especificação Técnico dos Insumos | E9: Preços Medianos (R$):
A10: Classificação | B10: Código do Insumo | C10: Descrição do Insumo | D10: Unidade | E10: Origem de Preço | F10: PR
A11: SERVIÇOS | B11: 45333 | C11: ABERTURA PARA ENCAIXE DE CUBA OU LAVATORIO EM BANCADA DE MARMORE/ GRANITO OU OUTRO TIPO DE PEDRA NATURAL | D11: UN | E11: CR | F11: 151.04
A12: MATERIAL | B12: 11270 | C12: ABRACADEIRA DE LATAO PARA FIXACAO DE CABO PARA-RAIO, DIMENSOES 32 X 24 X 24 MM | D12: UN | E12: CR | F12: 2.16
A13: MATERIAL | B13: 412 | C13: ABRACADEIRA DE NYLON PARA AMARRACAO DE CABOS, COMPRIMENTO DE *230* X *7,6* MM | D13: UN | E13: CR | F13: 1.08
A14: MATERIAL | B14: 414 | C14: ABRACADEIRA DE NYLON PARA AMARRACAO DE CABOS, COMPRIMENTO DE 100 X 2,5 MM | D14: UN | E14: CR | F14: 0.06
A15: MATERIAL | B15: 410 | C15: ABRACADEIRA DE NYLON PARA AMARRACAO DE CABOS, COMPRIMENTO DE 150 X *3,6* MM | D15: UN | E15: CR | F15: 0.16
A16: MATERIAL | B16: 411 | C16: ABRACADEIRA DE NYLON PARA AMARRACAO DE CABOS, COMPRIMENTO DE 200 X *4,6* MM | D16: UN | E16: C | F16: 0.21
A17: MATERIAL | B17: 408 | C17: ABRACADEIRA DE NYLON PARA AMARRACAO DE CABOS, COMPRIMENTO DE 390 X *4,6* MM | D17: UN | E17: CR | F17: 1.04
A18: MATERIAL | B18: 39131 | C18: ABRACADEIRA EM ACO PARA AMARRACAO DE ELETRODUTOS, TIPO D, COM 1 1/2" E CUNHA DE FIXACAO | D18: UN | E18: CR | F18: 4.76
A19: MATERIAL | B19: 394 | C19: ABRACADEIRA EM ACO PARA AMARRACAO DE ELETRODUTOS, TIPO D, COM 1 1/2" E PARAFUSO DE FIXACAO | D19: UN | E19: CR | F19: 4.82
A20: MATERIAL | B20: 39130 | C20: ABRACADEIRA EM ACO PARA AMARRACAO DE ELETRODUTOS, TIPO D, COM 1 1/4" E CUNHA DE FIXACAO | D20: UN | E20: CR | F20: 4.34
A21: MATERIAL | B21: 395 | C21: ABRACADEIRA EM ACO PARA AMARRACAO DE ELETRODUTOS, TIPO D, COM 1 1/4" E PARAFUSO DE FIXACAO | D21: UN | E21: CR | F21: 4.64
A22: MATERIAL | B22: 39129 | C22: ABRACADEIRA EM ACO PARA AMARRACAO DE ELETRODUTOS, TIPO D, COM 1" E CUNHA DE FIXACAO | D22: UN | E22: CR | F22: 2.68
... A55: MATERIAL | B55: 36246 | C55: ACABAMENTO SIMPLES/CONVENCIONAL PARA FORRO PVC, TIPO "U" OU "C", COR BRANCA, COMPRIMENTO 6 M | D55: M | E55: CR | F55: 4.18
A56: MATERIAL | B56: 37600 | C56: ACESSORIO DE LIGACAO NAO ELETRICO PARA CARGAS EXPLOSIVAS, TUBO DE 6 M | D56: UN | E56: CR
A57: MATERIAL | B57: 37599 | C57: ACESSORIO INICIADOR NAO ELETRICO, TUBO DE 6 M, TEMPO DE RETARDO DE *160* MS | D57: UN | E57: CR
A58: MATERIAL | B58: 1 | C58: ACETILENO - RECARGA DE GAS PARA CILINDRO (NAO INCLUI TROCA/MANUTENCAO DO CILINDRO) | D58: KG | E58: C | F58: 145
A59: MATERIAL | B59: 3 | C59: ACIDO CLORIDRICO / ACIDO MURIATICO, DILUICAO 10% A 12% PARA USO EM LIMPEZA | D59: L | E59: CR | F59: 17.15
A60: MATERIAL | B60: 43054 | C60: ACO CA-25, 10,0 MM, OU 12,5 MM, OU 16,0 MM, OU 20,0 MM, OU 25,0 MM, VERGALHAO | D60: KG | E60: CR | F60: 8.54
A61: MATERIAL | B61: 42402 | C61: ACO CA-25, 16,0 MM, BARRA DE TRANSFERENCIA | D61: KG | E61: CR | F61: 8.17
A62: MATERIAL | B62: 42403 | C62: ACO CA-25, 20,0 MM, BARRA DE TRANSFERENCIA | D62: KG | E62: CR | F62: 10.48
A63: MATERIAL | B63: 42404 | C63: ACO CA-25, 25,0 MM, BARRA DE TRANSFERENCIA | D63: KG | E63: CR | F63: 10.42
A64: MATERIAL | B64: 42405 | C64: ACO CA-25, 32,0 MM, BARRA DE TRANSFERENCIA | D64: KG | E64: CR | F64: 11.1
A65: MATERIAL | B65: 34341 | C65: ACO CA-25, 32,0 MM, VERGALHAO | D65: KG | E65: CR | F65: 9.63
A66: MATERIAL | B66: 43053 | C66: ACO CA-25, 6,3 MM OU 8,0 MM, VERGALHAO | D66: KG | E66: CR | F66: 7.63
A67: MATERIAL | B67: 43058 | C67: ACO CA-50, 10,0 MM, OU 12,5 MM, OU 16,0 MM, OU 20,0 MM, DOBRADO E CORTADO | D67: KG | E67: CR | F67: 7.91
A68: MATERIAL | B68: 34 | C68: ACO CA-50, 10,0 MM, VERGALHAO | D68: KG | E68: CR | F68: 7.95
A69: MATERIAL | B69: 43055 | C69: ACO CA-50, 12,5 MM OU 16,0 MM, VERGALHAO | D69: KG | E69: C | F69: 6.89
... A78: MATERIAL | B78: 43060 | C78: ACO CA-60, 8,0 MM OU 9,5 MM, VERGALHAO | D78: KG | E78: CR | F78: 6.56
A79: MATERIAL | B79: 40410 | C79: ACOPLAMENTO RIGIDO EM FERRO FUNDIDO PARA SISTEMA DE TUBULACAO RANHURADA, DN 50 MM (2") | D79: UN | E79: C
A80: MATERIAL | B80: 40411 | C80: ACOPLAMENTO RIGIDO EM FERRO FUNDIDO PARA SISTEMA DE TUBULACAO RANHURADA, DN 65 MM (2 1/2") | D80: UN | E80: CR
A81: MATERIAL | B81: 40412 | C81: ACOPLAMENTO RIGIDO EM FERRO FUNDIDO PARA SISTEMA DE TUBULACAO RANHURADA, DN 80 MM (3") | D81: UN | E81: CR
...
