Workbook

Sheet Orçamento
B1: À PREFEITURA MUNICIPAL DE FLORIANO PEIXOTO - RS
B5: Obra: Reforma da Unidade Básica de Saúde - UBS Sede
B6: Data de preço: abril/2026 Desonerado
B7: Planilha Orçamentária | I7: BDI : | J7: 0.2882
B9: ITEM | C9: CÓDIGO | D9: FONTE | E9: DESCRIÇÃO DOS SERVIÇOS | F9: UN. | G9: QUANT. | H9: PREÇO SEM BDI (R$) | I9: PREÇO COM BDI (R$) | J9: VALOR (R$)
N10: REMOÇÃO DE TODOS PISOS | R10: 445
B11: 1 | E11: SERVIÇOS PRELIMINARES | N11: NIVELAMENTO DE PISO ÁREA AMPLIADA | R11: 155
B12: 1.1 | C12: 103689 | E12: Fornecimento e instalação de placa da obra em chapa de aço galvanizado | F12: m² | G12: 4 | H12: 490 | I12: =(H12*$J$7)+H12 -> 631.218 | J12: =G12*I12 -> 2524.872 | N12: INSTALAÇÃO DE NOVO PISO | R12: 445
B13: 1.2 | C13: 10775 | D13: SINAPI | E13: Locação de container para Almoxarifado de obra | F13: mês | G13: 4 | H13: 1125 | I13: =(H13*$J$7)+H13 -> 1449.225 | J13: =G13*I13 -> 5796.9 | N13: REMOÇÃO REBOCO
B14: 1.6 | C14: COMP. 01 | E14: Administração de Obra | F14: unid | G14: 1 | H14: 11970 | I14: =(H14*$J$7)+H14 -> 15419.754 | J14: =G14*I14 -> 15419.754 | N14: CHAPISCO
H15: Subtotal | J15: =SUM(J12:J14) -> 23741.526 | N15: EMBOÇO
N16: MASSA CORRIDA
B17: 2 | E17: DEMOLIÇÕES E LIMPEZA | N17: PINTURA
B18: 2.1 | E18: PISOS
B19: 2.1.1 | C19: 97633 | D19: SINAPI | E19: DEMOLIÇÃO DE REVESTIMENTO CERÂMICO, DE FORMA MANUAL, SEM REAPROVEITAMENTO | F19: m² | G19: 405 | H19: 24.5 | I19: =(H19*J7)+H19 -> 31.5609 | J19: =G19*I19 -> 12782.165
B20: 2.1.2 | C20: 97632 | D20: SINAPI | E20: DEMOLIÇÃO DE RODAPÉ CERÂMICO, DE FORMA MANUAL, SEM REAPROVEITAMENTO | F20: m | G20: 490.1 | H20: 2.8 | I20: =(H20*J7)+H20 -> 3.60696 | J20: =G20*I20 -> 1767.7711
B21: 2.2 | E21: PAREDES
B22: 2.2.1 | C22: 104791 | D22: SINAPI | E22: DEMOLIÇÃO DE ARGAMASSAS, DE FORMA MANUAL, SEM REAPROVEITAMENTO | F22: m² | G22: 415 | H22: 7.25 | I22: =(H22*$J$7)+H22 -> 9.33945 | J22: =G22*I22 -> 3875.8717
B23: 2.3 | E23: LIMPEZA
B24: 2.3.1 | C24: 99814 | D24: SINAPI | E24: LIMPEZA DE SUPERFÍCIE COM JATO DE ALTA PRESSÃO | F24: m² | G24: =G19+G22 -> 820 | H24: 1.65 | I24: =(H24*$J$7)+H24 -> 2.12553 | J24: =G24*I24 -> 1742.9346
H26: Subtotal | J26: =SUM(J19:J24) -> 20168.742
B28: 3 | E28: PAREDES INTERNAS
B29: 3.1 | E29: REVESTIMENTOS
B30: 3.1.1 | C30: 87878 | D30: SINAPI | E30: Chapisco em paredes, vigas e pilares, com argamassa traço 1:3 (cimento e areia) | F30: m² | G30: =G22 -> 415 | H30: 5.24 | I30: =(H30*$J$7)+H30 -> 6.750168 | J30: =G30*I30 -> 2801.3197
B31: 3.1.2 | C31: 98562 | D31: SINAPI | E31: EMBOÇO COM ARGAMASSA DE CIMENTO E AREIA, COM ADITIVO IMPERMEABILIZANTE, E = 1,5CM | F31: m² | G31: =G30 -> 415 | H31: 52.2 | I31: =(H31*$J$7)+H31 -> 67.24404 | J31: =G31*I31 -> 27906.277
B32: 3.3 | E32: PINTURA
B33: 3.3.1 | C33: 88485 | D33: SINAPI | E33: Aplicação de fundo selador acrílico em paredes, 1 demão | F33: m² | G33: =G30 -> 415 | H33: 3.85 | I33: =(H33*$J$7)+H33 -> 4.95957 | J33: =G33*I33 -> 2058.2216
B34: 3.3.2 | C34: 88497 | D34: SINAPI | E34: Aplicação e lixamento de massa corrida em parede interna, 2 demãos | F34: m² | G34: 1120 | H34: 19.6 | I34: =(H34*$J$7)+H34 -> 25.24872 | J34: =G34*I34 -> 28278.566
B35: 3.3.3 | C35: 88489 | D35: SINAPI | E35: Pintura com tinta acrílica premium acetinada, sobre paredes internas, 2 demãos | F35: m² | G35: 1120 | H35: 13.7 | I35: =(H35*$J$7)+H35 -> 17.64834 | J35: =G35*I35 -> 19766.141
H36: Subtotal | J36: =SUM(J30:J35) -> 80810.525
B38: 4 | E38: PISOS
B39: 4.1 | E39: IMPERMEABILIZAÇÃO
B40: 4.1.1 | C40: 98555 | D40: SINAPI | E40: Impermeabilização de superfície com argamassa polimérica, membrana acrílica em áreas molhadas e ralos | F40: m² | G40: 45.23 | H40: 32.7 | I40: =(H40*$J$7)+H40 -> 42.12414 | J40: =G40*I40 -> 1905.2749
B41: 4.2 | E41: CONTRAPISO
B42: 4.2.1 | C42: 87700 | D42: SINAPI | E42: CONTRAPISO EM ARGAMASSA TRAÇO 1:4 (CIMENTO E AREIA), PREPARO MECÂNICO COM BETONEIRA 400 L, APLICADO EM ÁREAS SECAS SOBRE LAJE, NÃO ADERIDO, ACABAMENTO NÃO REFORÇADO, ESPESSURA 6CM | F42: m² | G42: 155 | H42: 58.9 | I42: =(H42*$J$7)+H42 -> 75.87498 | J42: =G42*I42 -> 11760.622
B43: 4.3 | E43: REVESTIMENTO
B44: 4.3.1 | C44: 104597 | D44: SINAPI | E44: Revestimento cerâmico para piso com placas de dimensões 80x80cm, porcelanato | F44: m² | G44: 405 | H44: 122.7 | I44: =(H44*$J$7)+H44 -> 158.06214 | J44: =G44*I44 -> 64015.167
B45: 4.4 | E45: RODAPÉ E SOLEIRAS
B46: 4.4.1 | C46: 104619 | D46: SINAPI | E46: Rodapé cerâmico 7 cm de altura em placas tipo esmaltada extra | F46: m | G46: 490.1 | H46: 13.5 | I46: =(H46*$J$7)+H46 -> 17.3907 | J46: =G46*I46 -> 8523.1821
B47: 4.4.2 | C47: 98689 | D47: SINAPI | E47: Soleira em granito cinza andorinha, L= 15cm, espessura 2cm | F47: m | G47: 7.5 | H47: 132.4 | I47: =(H47*$J$7)+H47 -> 170.55768 | J47: =G47*I47 -> 1279.1826
H48: Subtotal | J48: =SUM(J39:J47) -> 87483.428
B50: 5 | E50: FORRO
B51: 5.1 | C51: 88488 | D51: SINAPI | E51: Pintura com tinta acrílica premium fosca, em teto, 2 demãos | F51: m² | G51: 405 | H51: 16.1 | I51: =(H51*$J$7)+H51 -> 20.74002 | J51: =G51*I51 -> 8399.7081
H52: Subtotal | J52: =SUM(J51:J51) -> 8399.7081
B54: 6 | E54: SERVIÇOS FINAIS
B55: 6.1 | C55: 99802 | D55: SINAPI | E55: Limpeza de piso cerâmico e soleiras | F55: m² | G55: 405 | H55: 0.52 | I55: =(H55*$J$7)+H55 -> 0.669864 | J55: =G55*I55 -> 271.29492
H56: Subtotal | J56: =SUM(J55:J55) -> 271.29492
H58: Custo TOTAL com BDI incluso | J58: =J15+J26+J36+J48+J52+J56 -> 220875.22
B60: Preenher com local e data
B68: Nome Representante Legal Nome Responsável Técnico / CREA / CAU

Sheet Plan1
A1: paredes internas
A3: sala de vacinas | B3: 3.15 | C3: =B3*B4 -> 8.9775 | E3: agendamento | F3: 3.45 | G3: =F3*F5 -> 10.8675
A4: sala de vacinas | B4: 2.85 | E4: agendamento | F4: 3.45
A5: sala de vacinas | B5: 3.15 | E5: agendamento | F5: 3.15
A6: sala de vacinas | B6: 2.85 | E6: agendamento | F6: 3.15
A7: sala de enfermagem | B7: 2.9 | C7: =B7*B9 -> 9.135 | E7: coordenação | F7: 2.48 | G7: =F7*F9 -> 8.556
A8: sala de enfermagem | B8: 2.9 | E8: coordenação | F8: 2.48
A9: sala de enfermagem | B9: 3.15 | E9: coordenação | F9: 3.45
A10: sala de enfermagem | B10: 3.15 | E10: coordenação | F10: 3.45
A11: curativos | B11: 2.4 | C11: =B11*B13 -> 7.56 | E11: almoxarifado | F11: 2.48 | G11: =F11*F13 -> 8.556
A12: curativos | B12: 2.4 | E12: almoxarifado | F12: 2.48
A13: curativos | B13: 3.15 | E13: almoxarifado | F13: 3.45
A14: curativos | B14: 3.15 | E14: almoxarifado | F14: 3.45
A15: observação | B15: 3.1 | C15: =B15*B17 -> 9.765 | E15: sanitário | F15: 1.4 | G15: =F15*F17 -> 4.83
A16: observação | B16: 3.1 | E16: sanitário | F16: 1.4
A17: observação | B17: 3.15 | E17: sanitário | F17: 3.45
A18: observação | B18: 3.15 | E18: sanitário | F18: 3.45
A19: sala registro | B19: 2.2 | C19: =B19*B21 -> 7.04 | E19: fono | F19: 2.65 | G19: =F19*F21 -> 9.1425
A20: sala registro | B20: 2.2 | E20: fono | F20: 2.65
A21: sala registro | B21: 3.2 | E21: fono | F21: 3.45
A22: sala registro | B22: 3.2 | E22: fono | F22: 3.45
A23: farmárcia | B23: 3.2 | C23: =B23*B25 -> 12.32 | E23: agente saude | F23: 3.5 | G23: =F23*F25 -> 12.075
A24: farmárcia | B24: 3.2 | E24: agente saude | F24: 3.5
A25: farmárcia | B25: 3.85 | E25: agente saude | F25: 3.45
A26: farmárcia | B26: 3.85 | E26: agente saude | F26: 3.45
A27: wc func | B27: 1.45 | C27: =B27*B29 -> 4.35 | E27: copa | F27: 3.45 | G27: =F27*F29 -> 6.9
A28: wc func | B28: 1.45 | E28: copa | F28: 3.45
A29: wc func | B29: 3 | E29: copa | F29: 2
A30: wc func | B30: 3 | E30: copa | F30: 2
A31: esterelização | B31: 1.8 | C31: =B31*B33 -> 5.4 | E31: lavanderia | F31: 3.7 | G31: =F31*F33 -> 7.4
A32: esterelização | B32: 1.8 | E32: lavanderia | F32: 3.7
A33: esterelização | B33: 3 | E33: lavanderia | F33: 2
A34: esterelização | B34: 3 | E34: lavanderia | F34: 2
A35: odontologico | B35: 4.1 | C35: =B35*B37 -> 12.3 | E35: wc masc | F35: 2.3 | G35: =F35*F37 -> 3.45
A36: odontologico | B36: 4.1 | E36: wc masc | F36: 2.3
A37: odontologico | B37: 3 | E37: wc masc | F37: 1.5
A38: odontologico | B38: 3 | E38: wc masc | F38: 1.5
A39: procedimentos | B39: 4.25 | C39: =B39*B41 -> 13.3875 | E39: wc fem | F39: 2.3 | G39: =F39*F41 -> 3.45
A40: procedimentos | B40: 4.25 | E40: wc fem | F40: 2.3
A41: procedimentos | B41: 3.15 | E41: wc fem | F41: 1.5
A42: procedimentos | B42: 3.15 | E42: wc fem | F42: 1.5
A43: consultorio medico | B43: 3.15 | C43: =B43*B45 -> 12.6 | E43: fisoterapia | F43: 4 | G43: =F43*F45 -> 14.8
A44: consultorio medico | B44: 3.15 | E44: fisoterapia | F44: 4
A45: consultorio medico | B45: 4 | E45: fisoterapia | F45: 3.7
A46: consultorio medico | B46: 4 | E46: fisoterapia | F46: 3.7
A47: sanitario def | B47: 3.15 | C47: =B47*B49 -> 4.725 | E47: psicologa | F47: 3.7 | G47: =F47*F49 -> 11.1
A48: sanitario def | B48: 3.15 | E48: psicologa | F48: 3.7
A49: sanitario def | B49: 1.5 | E49: psicologa | F49: 3
A50: sanitario def | B50: 1.5 | E50: psicologa | F50: 3
A51: sanitario | B51: 3.15 | C51: =B51*B53 -> 4.725 | E51: deposito | F51: 5.85 | G51: 26.6
A52: sanitario | B52: 3.15 | E52: deposito | F52: 5.85
A53: sanitario | B53: 1.5 | E53: deposito | F53: 5.6
A54: sanitario | B54: 1.5 | E54: deposito | F54: 5.6
A55: espera | B55: =2.5+4.1+2.5 -> 9.1 | C55: 35.79 | E55: secretario | F55: 3.5 | G55: =F55*F57 -> 14.525
A56: espera | B56: 6.6 | E56: secretario | F56: 3.5
A57: espera | B57: 3.9 | E57: secretario | F57: 4.15
A58: espera | B58: 3.9 | E58: secretario | F58: 4.15
A59: circulação | B59: 3.35 | C59: 17.46 | E59: exames | F59: 2.7 | G59: 10.35
A60: circulação | B60: 3.35 | E60: exames | F60: 2.7
A61: circulação | B61: 6.5 | E61: exames | F61: 3.95
A62: circulação | B62: 9.1 | E62: exames | F62: 3.95
A63: circulação | B63: 3.2 | E63: vigilancia | F63: 3.95 | G63: 10.8
A64: circulação | B64: 3.2 | E64: vigilancia | F64: 3.95
A65: circulação | B65: 7.65 | E65: vigilancia | F65: 2.77
E66: vigilancia | F66: 2.77
E67: recepção | F67: 6.1 | G67: 27.59
B68: =SUM(B3:B65) -> 212.85 | C68: =SUM(C3:C65) -> 165.535 | E68: recepção | F68: 6.1
E69: recepção | F69: 4.95
E70: recepção | F70: 4.95
E71: circulação | F71: 18.6 | G71: =19.26+21.97+7.2 -> 48.43
E72: circulação | F72: 11.5
E73: circulação | F73: 5.6
A74: área de pisos | B74: =C68+G81 -> 404.957 | E74: circulação | F74: 5.6
A75: rodapes | B75: =B68+F81 -> 489.61 | E75: circulação | F75: 2
A76: reboco | B76: =SUM(B3:B26)+SUM(B31:B46)+SUM(B55:B65)+SUM(F43:F79)+SUM(F19:F26)+SUM(F3:F14) -> 414.91 | E76: circulação | F76: 1.4
A77: azulejos | B77: =(B54+B53+B52+B51+B50+B49+B48+B47+B30+B29+B28+B27+B31+B32+B33+B34+F15+F16+F17+F18+F27+F28+F29+F30+F31+F32+F34+F33+F35+F36+F37+F38+F39+F40+F42+F41)*2.7 -> 227.61 | E77: circulação | F77: 1.4
A78: pintura paredes | B78: =B76*2.7 -> 1120.257 | E78: circulação | F78: 3.15
A79: áreas molhadas | B79: =C51+C47+C31+C27+G15+G35+G39+G31+G27 -> 45.23 | E79: circulação | F79: 1.45
F81: =SUM(F3:F79) -> 276.76 | G81: =SUM(G3:G79) -> 239.422

Sheet Cronograma
B1: PREFEITURA MUNICIPAL DE FLORIANO PEIXOTO - RS
B4: Obra: Reforma da Unidade Básica de Saúde - UBS Sede
B5: Cronograma Físico e Financeiro
B6: ITEM | C6: DESCRIÇÃO DOS SERVIÇOS | D6: VALOR (R$) | E6: % ITEM | F6: 1 | G6: 2 | H6: 3 | I6: 4
B8: 1 | C8: SERVIÇOS PRELIMINARES | D8: =Orçamento!J15 -> 23741.526 | E8: =D8/$D$21 -> 0.10748841 | F8: 0.25 | G8: 0.25 | H8: 0.25 | I8: 0.25
F9: =F8*D8 -> 5935.3815 | G9: =G8*D8 -> 5935.3815 | H9: =H8*D8 -> 5935.3815 | I9: =I8*D8 -> 5935.3815
B10: 2 | C10: =Orçamento!E17 -> DEMOLIÇÕES E LIMPEZA | D10: =Orçamento!J26 -> 20168.742 | E10: =D10/$D$21 -> 0.091312831 | F10: 1
F11: =F10*D10 -> 20168.742
B12: 3 | C12: =Orçamento!E28 -> PAREDES INTERNAS | D12: =Orçamento!J36 -> 80810.525 | E12: =D12/$D$21 -> 0.36586505 | G12: 0.75 | H12: 0.25
G13: =G12*D12 -> 60607.894 | H13: =D12*H12 -> 20202.631
B14: 4 | C14: =Orçamento!E38 -> PISOS | D14: =Orçamento!J48 -> 87483.428 | E14: =D14/$D$21 -> 0.39607624 | H14: 0.4 | I14: 0.6
H15: =H14*$D14 -> 34993.371 | I15: =I14*D14 -> 52490.057
B16: 5 | C16: =Orçamento!E50 -> FORRO | D16: =Orçamento!J52 -> 8399.7081 | E16: =D16/$D$21 -> 0.0380292 | H16: 1
H17: =H16*$D16 -> 8399.7081
B18: 6 | C18: =Orçamento!E54 -> SERVIÇOS FINAIS | D18: =Orçamento!J56 -> 271.29492 | E18: =D18/$D$21 -> 0.0012282723 | I18: 1
I19: =I18*$D18 -> 271.29492
B21: Valores totais | D21: =SUM(D8:D19) -> 220875.22 | E21: =SUM(E8:E19) -> 1 | F21: =F9+F11+F13+F15+F17+F19 -> 26104.123 | G21: =G9+G11+G13+G15+G17+G19 -> 66543.275 | H21: =H9+H11+H13+H15+H17+H19 -> 69531.092 | I21: =I9+I11+I13+I15+I17+I19 -> 58696.733
F22: =F21/$D$21 -> 0.11818493 | G22: =G21/$D$21 -> 0.30127089 | H22: =H21/$D$21 -> 0.31479806 | I22: =I21/$D$21 -> 0.26574612
F23: =F22 -> 0.11818493 | G23: =F23+G22 -> 0.41945582 | H23: =G23+H22 -> 0.73425388 | I23: =H23+I22 -> 1
B26: Floriano Peixoto/RS, 09 de junho de 2026
C32: Eng. Angelica Gasparetto Sandri | F32: Jair Antônio Ostrowski
C33: CREA RS 215.874 | F33: Prefeito Municipal

Sheet COMP
A2: ADMINISTRAÇÃO DE OBRA - UNID
A3: COMPOSIÇÃO 4 | B3: CÓDIGO | C3: DESCRIÇÃO | D3: UN | E3: QTDE | F3: VALOR UNITÁRIO | J3: VALOR TOTAL
A4: COMPOSICAO | B4: 90777 | C4: ENGENHEIRO CIVIL DE OBRA JUNIOR | D4: H | E4: 20 | F4: 128 | J4: =F4*E4 -> 2560
A5: COMPOSICAO | B5: 90780 | C5: MESTRE DE OBRAS | D5: H | E5: 60 | F5: 117.5 | J5: =F5*E5 -> 7050
A6: COMPOSICAO | B6: 90766 | C6: ALMOXARIFE | D6: H | E6: 80 | F6: 29.5 | J6: =F6*E6 -> 2360
F7: TOTAL | J7: =J4+J5+J6 -> 11970
A9: Floriano Peixoto/ RS, 09 de junho de 2026.
C15: Eng. Angelica Gasparetto Sandri | F15: Jair Antônio Ostrowski
C16: CREA RS 215.874 | F16: Prefeito Municipal
