Workbook

Sheet Orçamento
B1: PREFEITURA MUNICIPAL DE FLORIANO PEIXOTO - RS
B5: Obra: Ampliação do Ginásio Municipal de Esportes Romano Seminotti
B6: Data de preço: julho/2026 Desonerado - SINAPI/RS
B7: Planilha Orçamentária | I7: BDI : | J7: 0.2892
B9: ITEM | C9: CÓDIGO | D9: FONTE | E9: DESCRIÇÃO DOS SERVIÇOS | F9: UN. | G9: QUANT. | H9: PREÇO SEM BDI (R$) | I9: PREÇO COM BDI (R$) | J9: VALOR (R$)
B11: 1 | E11: SERVIÇOS PRELIMINARES
B12: 1.1 | C12: COMP. 01 | E12: Placa da obra em chapa de aço galvanizado | F12: m² | G12: 4 | H12: 408.72 | I12: =(H12*$J$7)+H12 -> 526.92182 | J12: =G12*I12 -> 2107.6873
B13: 1.2 | C13: COMP. 02 | E13: Administração de Obra | F13: unid | G13: 1 | H13: 8730 | I13: =(H13*$J$7)+H13 -> 11254.716 | J13: =G13*I13 -> 11254.716
B14: 1.3 | C14: 99059 | D14: SINAPI | E14: Locação convencional da obra (execução de gabarito) | F14: m | G14: 80 | H14: 65 | I14: =(H14*$J$7)+H14 -> 83.798 | J14: =G14*I14 -> 6703.84
H15: Subtotal | J15: =SUM(J12:J14) -> 20066.243
B17: 2 | E17: DEMOLIÇÕES/REMOÇÕES
B18: 2.1 | C18: 97622 | D18: SINAPI | E18: Demolição de alvenaria, de forma manual, sem reaproveitamento | F18: m³ | G18: =(22.25*0.15*6)+((6+6+6+6+12.4+6+6)*0.15*3.5) -> 45.435 | H18: 63.5 | I18: =(H18*J7)+H18 -> 81.8642 | J18: =G18*I18 -> 3719.4999
B19: 2.2 | C19: 97644 | D19: SINAPI | E19: Remoção de portas, de forma manual, sem reaproveitamento | F19: m² | G19: =(6*0.6*1.8)+(7*0.8*2)+(2*2) -> 21.68 | H19: 10.5 | I19: =(H19*$J$7)+H19 -> 13.5366 | J19: =G19*I19 -> 293.47349
B20: 2.3 | C20: 97645 | D20: SINAPI | E20: Remoção de janelas, de forma manual, sem reaproveitamento | F20: m² | G20: =(0.6*3*2)+17 -> 20.6 | H20: 27.5 | I20: =(H20*$J$7)+H20 -> 35.453 | J20: =G20*I20 -> 730.3318
B21: 2.4 | C21: 97656 | D21: SINAPI | E21: Remoção de tesouras metálicas, de forma manual, sem reaproveitamento | F21: unid | G21: 3 | H21: 389 | I21: =(H21*$J$7)+H21 -> 501.4988 | J21: =G21*I21 -> 1504.4964
B22: 2.5 | C22: 97647 | D22: SINAPI | E22: Remoção de telhas, de forma manual, sem reaproveitamento | F22: m² | G22: 74.5 | H22: 3.95 | I22: =(H22*$J$7)+H22 -> 5.09234 | J22: =G22*I22 -> 379.37933
B23: 2.6 | C23: 97663 | D23: SINAPI | E23: Remoção de Louças, de forma manual, sem reaproveitamento | F23: unid | G23: 10 | H23: 14.1 | I23: =(H23*$J$7)+H23 -> 18.17772 | J23: =G23*I23 -> 181.7772
H24: Subtotal | J24: =SUM(J18:J23) -> 6808.9581
B26: 3 | E26: FUNDAÇÕES
B27: 3.1 | E27: SAPATAS
B28: 3.1.1 | C28: 96520 | D28: SINAPI | E28: Escavação mecanizada, para sapata, com retroescavadeira | F28: m³ | G28: =(21*0.8*0.8*1) -> 13.44 | H28: 95 | I28: =(H28*$J$7)+H28 -> 122.474 | J28: =G28*I28 -> 1646.0506
B29: 3.1.2 | C29: 96531 | D29: SINAPI | E29: Montagem e desmontagem de forma para sapata, madeira serrada | F29: m² | G29: =((20/2)*(0.8*4)*0.25) -> 8 | H29: 100 | I29: =(H29*$J$7)+H29 -> 128.92 | J29: =G29*I29 -> 1031.36
B30: 3.1.3 | C30: 96545 | D30: SINAPI | E30: Armação de aço CA-50 Ø8mm; incluso fornecimento, corte, dobra e colocação | F30: kg | G30: =20*4.74 -> 94.8 | H30: 15 | I30: =(H30*$J$7)+H30 -> 19.338 | J30: =G30*I30 -> 1833.2424
B31: 3.1.4 | C31: 96557 | D31: SINAPI | E31: Concretagem de sapatas Fck 30 Mpa, com uso de bomba | F31: m³ | G31: =(21*0.8*0.8*0.25) -> 3.36 | H31: 910 | I31: =(H31*$J$7)+H31 -> 1173.172 | J31: =G31*I31 -> 3941.8579
B32: 3.1.5 | C32: 93382 | D32: SINAPI | E32: Reaterro manual de valas com compactação | F32: m³ | G32: =G28-G31 -> 10.08 | H32: 29 | I32: =(H32*$J$7)+H32 -> 37.3868 | J32: =G32*I32 -> 376.85894
H33: Subtotal | J33: =SUM(J28:J32) -> 8829.3698
B35: 4 | E35: SUPERESTRUTURA
B36: 4.1 | E36: PILARES
B37: 4.1.1 | C37: 92608 | D37: SINAPI | E37: Fabricação e instalação de pilar metálico com altura de 6,00 metros | F37: unid | G37: 6 | H37: 1214 | I37: =(H37*$J$7)+H37 -> 1565.0888 | J37: =G37*I37 -> 9390.5328
B38: 4.1.2 | C38: 92602 | D38: SINAPI | E38: Fabricação e instalação de pilar metálico com altura de 3,00 metros | F38: unid | G38: 2 | H38: 670 | I38: =(H38*$J$7)+H38 -> 863.764 | J38: =G38*I38 -> 1727.528
B39: 4.1.3 | C39: 92413 | D39: SINAPI | E39: Montagem e desmontagem de forma para pilares, madeira serrada com reaproveitamento | F39: m² | G39: =(13/3)*(0.15+0.4+0.15+0.4)*3 -> 14.3 | H39: 101 | I39: =(H39*$J$7)+H39 -> 130.2092 | J39: =G39*I39 -> 1861.9916
B40: 4.1.4 | C40: 92762 | D40: SINAPI | E40: Armação de aço CA-50 Ø10mm; incluso fornecimento, corte, dobra e colocação | F40: kg | G40: =((13*1.25)*7.4) -> 120.25 | H40: 10 | I40: =(H40*$J$7)+H40 -> 12.892 | J40: =G40*I40 -> 1550.263
B41: 4.1.5 | C41: 92759 | D41: SINAPI | E41: Armação de aço CA-60 Ø 5,0mm; incluso fornecimento, corte, dobra e colocação | F41: kg | G41: =(((20*13*1))/12)*1.85 -> 40.083333 | H41: 13 | I41: =(H41*$J$7)+H41 -> 16.7596 | J41: =G41*I41 -> 671.78063
B42: 4.1.6 | C42: 103672 | D42: SINAPI | E42: Concreto Bombeado fck= 25MPa; incluindo bomba, preparo, lançamento e adensamento | F42: m³ | G42: =(13*0.15*0.4*3) -> 2.34 | H42: 815 | I42: =(H42*$J$7)+H42 -> 1050.698 | J42: =G42*I42 -> 2458.6333
B43: 4.2 | E43: CONCRETO ARMADO - VIGAS BALDRAME
B44: 4.2.1 | C44: 92270 | D44: SINAPI | E44: Montagem e desmontagem de forma para viga, madeira serrada com reaproveitamento | F44: m² | G44: =((10+22.5+10+48+35.5)*0.3*2)/2 -> 37.8 | H44: 174 | I44: =(H44*$J$7)+H44 -> 224.3208 | J44: =G44*I44 -> 8479.3262
B45: 4.2.2 | C45: 92762 | D45: SINAPI | E45: Armação de aço CA-50 Ø10mm; incluso fornecimento, corte, dobra e colocação | F45: kg | G45: =(((10+22.5+10+48+35.5)*4)/12)*7.4 -> 310.8 | H45: 10 | I45: =(H45*$J$7)+H45 -> 12.892 | J45: =G45*I45 -> 4006.8336
B46: 4.2.3 | C46: 92759 | D46: SINAPI | E46: Armação de aço CA-60 Ø 5,0mm; incluso fornecimento, corte, dobra e colocação | F46: kg | G46: =((((10+22.5+10+48+35.5)/0.15)*1)/12)*1.85 -> 129.5 | H46: 13 | I46: =(H46*$J$7)+H46 -> 16.7596 | J46: =G46*I46 -> 2170.3682
B47: 4.2.4 | C47: 103675 | D47: SINAPI | E47: Concreto Bombeado fck= 25MPa; incluindo preparo, lançamento e adensamento | F47: m³ | G47: =((((10+22.5+10+48+35.5)*0.15*0.3))) -> 5.67 | H47: 820 | I47: =(H47*$J$7)+H47 -> 1057.144 | J47: =G47*I47 -> 5994.0065
B48: 4.3 | E48: CONCRETO ARMADO PARA VERGAS | J48: =G48*I48 -> 0
...

Sheet Plan1
A1: ESQUADRIAS | L1: azulejo | S1: moldura | U1: RODAPÉ
A3: TIPO | B3: VÃO | C3: ALTURA | D3: QTDE | F3: MATERIAL | G3: VERGA | H3: PEITORIL | L3: 4 | M3: 3 | N3: =L3*M3 -> 12 | P3: =N3-O3 -> 12 | S3: 15.85 | U3: 15.85
A4: JANELA | B4: 1.5 | C4: 1.2 | D4: 40 | E4: =B4*C4*D4 -> 72 | F4: ALUMÍNIO QUE IMITA MADEIRA | G4: =B4*2*26 -> 78 | H4: =B4*D4 -> 60 | L4: 4 | M4: 3 | N4: =L4*M4 -> 12 | P4: =N4-O4 -> 12 | S4: 13 | U4: 13
A5: PELE DE VIDRO | B5: 2 | C5: 2.6 | D5: 1 | E5: =B5*C5*D5 -> 5.2 | F5: ALUMÍNIO QUE IMITA MADEIRA | G5: =B5*2*D5 -> 4 | L5: 4 | M5: 3 | N5: =L5*M5 -> 12 | P5: =N5-O5 -> 12 | S5: 13 | U5: 13
A6: JANELA | B6: 1 | C6: 0.6 | D6: 2 | E6: =B6*C6*D6 -> 1.2 | F6: ALUMÍNIO QUE IMITA MADEIRA | G6: =B6*2*D6 -> 4 | H6: =B6*D6 -> 2 | L6: 4 | M6: 3 | N6: =L6*M6 -> 12 | P6: =N6-O6 -> 12 | S6: 21.3 | U6: 21.3
A7: PELE DE VIDRO | B7: 2 | C7: 1.35 | D7: 1 | E7: =B7*C7*D7 -> 2.7 | F7: ALUMÍNIO QUE IMITA MADEIRA | G7: =B7*2*D7 -> 4 | L7: 3.5 | M7: 3 | N7: =L7*M7 -> 10.5 | O7: =1*2.1 -> 2.1 | P7: =N7-O7 -> 8.4 | S7: 22.3 | U7: 22.3
A8: PORTA DE VARANDA | B8: 3.2 | C8: 2.2 | D8: 3 | E8: =B8*C8*D8 -> 21.12 | F8: ALUMÍNIO QUE IMITA MADEIRA | G8: =B8*D8 -> 9.6 | L8: 3.5 | M8: 3 | N8: =L8*M8 -> 10.5 | O8: =1*2.1 -> 2.1 | P8: =N8-O8 -> 8.4 | S8: 26.8 | U8: 26.8
A9: PORTA DE ENTRADA | B9: 3.2 | C9: 2.2 | D9: 1 | E9: =B9*C9*D9 -> 7.04 | G9: =B9*D9 -> 3.2 | L9: 3.5 | M9: 3 | N9: =L9*M9 -> 10.5 | O9: =0.6 -> 0.6 | P9: =N9-O9 -> 9.9 | S9: 15 | U9: 13.3
A10: PORTA DE ENTRADA | B10: 2 | C10: 2.2 | D10: 1 | E10: =B10*C10*D10 -> 4.4 | G10: =B10*D10 -> 2 | L10: 3.5 | M10: 3 | N10: =L10*M10 -> 10.5 | O10: =0.6 -> 0.6 | P10: =N10-O10 -> 9.9 | S10: 15 | U10: 13
A11: JANELAS OITÃO | E11: 88 | G11: =B11*2*D11 -> 0 | L11: 4 | M11: 3 | N11: =L11*M11 -> 12 | P11: =N11-O11 -> 12 | S11: 13.3 | U11: 13
A12: PORTAS INTERNAS | B12: 0.8 | C12: 2.1 | D12: 24 | E12: =B12*C12*D12 -> 40.32 | G12: =B12*D12 -> 19.2 | L12: 2.85 | M12: 3 | N12: =L12*M12 -> 8.55 | O12: =1.5*1.2 -> 1.8 | P12: =N12-O12 -> 6.75 | S12: 13 | U12: 18
A13: PORTAS INTERNAS | B13: 0.9 | C13: 2.1 | D13: 4 | E13: =B13*C13*D13 -> 7.56 | G13: =B13*D13 -> 3.6 | L13: 2.5 | M13: 0.9 | N13: =L13*M13 -> 2.25 | P13: =N13-O13 -> 2.25 | S13: 13 | U13: 13
A14: PORTA BANHEIRO | B14: 1 | C14: 2.2 | D14: 4 | E14: =B14*C14*D14 -> 8.8 | G14: 2 | L14: 2.5 | M14: 3 | N14: =L14*M14 -> 7.5 | P14: =N14-O14 -> 7.5 | S14: 18 | U14: 13
A15: PORTAS INTERNAS | B15: 0.8 | C15: 2.1 | D15: 5 | E15: =B15*C15*D15 -> 8.4 | L15: 4 | M15: 2.2 | N15: =L15*M15 -> 8.8 | O15: =0.8*2.2 -> 1.76 | P15: =N15-O15 -> 7.04 | S15: 13 | U15: 13
A16: TOTAL ESQUADRIAS | E16: =SUM(E4:E15) -> 266.74 | F16: TOTAL VERGAS | G16: =SUM(G4:G15) -> 129.6 | L16: 4 | M16: 2.2 | N16: =L16*M16 -> 8.8 | P16: =N16-O16 -> 8.8 | S16: 13 | U16: 13
L17: 4 | M17: 2.2 | N17: =L17*M17 -> 8.8 | P17: =N17-O17 -> 8.8 | S17: 13 | U17: 16
E18: =(E8+E9+E10+E12)+(25*1.5*1.2)+E14+E5+E7+E6 -> 135.78 | L18: 4 | M18: 2.2 | N18: =L18*M18 -> 8.8 | P18: =N18-O18 -> 8.8 | S18: 13 | U18: 18.3
A19: ALVENARIA | L19: 4 | M19: 2.2 | N19: =L19*M19 -> 8.8 | P19: =N19-O19 -> 8.8 | S19: 16 | U19: 16
L20: 4 | M20: 2.2 | N20: =L20*M20 -> 8.8 | P20: =N20-O20 -> 8.8 | S20: 18.3 | U20: 13
A21: LOCALIZAÇÃO | B21: VÃO | C21: ALTURA | D21: ÁREA | L21: 3.5 | M21: 0.9 | N21: =L21*M21 -> 3.15 | O21: =0.8*2.2 -> 1.76 | P21: =N21-O21 -> 1.39 | S21: 16 | U21: 13
A22: EXTERNA INF | B22: 10.6 | C22: 2.7 | D22: =B22*C22 -> 28.62 | L22: 3.5 | M22: 0.9 | N22: =L22*M22 -> 3.15 | O22: =0.8*2.2 -> 1.76 | P22: =N22-O22 -> 1.39 | S22: 13 | U22: 19
A23: EXTERNA INF | B23: 7.3 | C23: 2.7 | D23: =B23*C23 -> 19.71 | L23: 3.5 | M23: 3 | N23: =L23*M23 -> 10.5 | P23: =N23-O23 -> 10.5 | S23: 13 | U23: 56
A24: EXTERNA INF | B24: 10.8 | C24: 2.7 | D24: =B24*C24 -> 29.16 | L24: 3.5 | M24: 3 | N24: =L24*M24 -> 10.5 | P24: =N24-O24 -> 10.5 | S24: 19 | U24: 22
A25: EXTERNA INF | B25: 10.6 | C25: 2.7 | D25: =B25*C25 -> 28.62 | F25: =SUM(B22:B33) -> 102.65 | M25: AZULEJOS | P25: =SUM(P3:P24) -> 187.92 | S25: 56 | U25: 21
A26: EXTERNA INF | B26: 10.95 | C26: 2.7 | D26: =B26*C26 -> 29.565 | F26: =SUM(B46:B57) -> 143.05 | S26: =SUM(S3:S25) -> 402.85 | U26: 13
A27: EXTERNA INF | B27: 1 | C27: 2.7 | D27: =B27*C27 -> 2.7 | F27: =F25+F26 -> 245.7 | L27: FORRO BEIRAL | U27: 13
A28: EXTERNA INF | B28: 10.6 | C28: 2.7 | D28: =B28*C28 -> 28.62 | L28: =0.9*1.15*2 -> 2.07 | M28: 2 | N28: =L28*M28 -> 4.14 | U28: 13
A29: EXTERNA INF | B29: 1 | C29: 2.7 | D29: =B29*C29 -> 2.7 | F29: =F27*0.35 -> 85.995 | L29: =0.2*3.3*2 -> 1.32 | M29: 2 | N29: =L29*M29 -> 2.64 | U29: 25
A30: EXTERNA INF | B30: 10.95 | C30: 2.7 | D30: =B30*C30 -> 29.565 | L30: =4.4*1.35 -> 5.94 | M30: 2 | N30: =L30*M30 -> 11.88 | U30: 19
A31: EXTERNA INF | B31: 10.6 | C31: 2.7 | D31: =B31*C31 -> 28.62 | L31: =0.3*3.3*2 -> 1.98 | M31: 2 | N31: =L31*M31 -> 3.96 | U31: 21
A32: EXTERNA INF | B32: 10.95 | C32: 2.7 | D32: =B32*C32 -> 29.565 | L32: =(0.2*1.55*2)+(0.3*1.4*2) -> 1.46 | M32: 14 | N32: =L32*M32 -> 20.44 | U32: 25
A33: EXTERNA INF | B33: 7.3 | C33: 2.7 | D33: =B33*C33 -> 19.71 | F33: =SUM(D22:D45) -> 343.8775 | L33: =0.8*7.8*2 -> 12.48 | M33: 1 | N33: =L33*M33 -> 12.48 | U33: 19
A34: EXTERNA SUP | B34: 10.6 | C34: 0.65 | D34: =B34*C34 -> 6.89 | F34: =SUM(E4:E11) -> 201.66 | L34: =0.35*4 -> 1.4 | M34: 1 | N34: =L34*M34 -> 1.4 | U34: 40
A35: EXTERNA SUP | B35: 7.3 | C35: 0.65 | D35: =B35*C35 -> 4.745 | F35: =F33-F34 -> 142.2175 | L35: =1.2*7 -> 8.4 | M35: 1 | N35: =L35*M35 -> 8.4 | U35: 34
A36: EXTERNA SUP | B36: 10.8 | C36: 0.65 | D36: =B36*C36 -> 7.02 | L36: =0.4*7.7*2 -> 6.16 | M36: 3 | N36: =L36*M36 -> 18.48 | U36: 26
A37: EXTERNA SUP | B37: 10.6 | C37: 0.65 | D37: =B37*C37 -> 6.89 | L37: =853800/(100*100) -> 85.38 | M37: 1 | N37: =L37*M37 -> 85.38 | U37: 40
A38: EXTERNA SUP | B38: 10.95 | C38: 0.65 | D38: =B38*C38 -> 7.1175 | N38: =SUM(N28:N37) -> 169.2
A39: EXTERNA SUP | B39: 1 | C39: 0.65 | D39: =B39*C39 -> 0.65 | U39: =SUM(U3:U37) -> 703.85 | V39: =U39-(U41*2) -> 665.45
A40: EXTERNA SUP | B40: 10.6 | C40: 0.65 | D40: =B40*C40 -> 6.89 | L40: ESPELHO
A41: EXTERNA SUP | B41: 1 | C41: 0.65 | D41: =B41*C41 -> 0.65 | L41: =3.5*2 -> 7 | M41: 2 | N41: =L41*M41 -> 14 | U41: =D12*B12 -> 19.2
...

Sheet Cronograma
B1: PREFEITURA MUNICIPAL DE FLORIANO PEIXOTO - RS
B4: Obra: Ampliação do Ginásio Municipal Romano Seminotti
B5: Cronograma Físico e Financeiro
B6: ITEM | C6: DESCRIÇÃO DOS SERVIÇOS | D6: VALOR (R$) | E6: % ITEM | F6: 1 | G6: 2 | H6: 3 | I6: 4 | J6: 5 | K6: 6 | L6: 7 | M6: 8
B8: 1 | C8: SERVIÇOS PRELIMINARES | D8: =Orçamento!J15 -> 20066.243 | E8: =D8/$D$49 -> 0.02308825 | F8: 1
F9: =F8*D8 -> 20066.243
B10: 2 | C10: DEMOLIÇÕES/REMOÇÕES | D10: =Orçamento!J24 -> 6808.9581 | E10: =D10/$D$49 -> 0.0078343977 | F10: 1
F11: =F10*D10 -> 6808.9581
B12: 3 | C12: FUNDAÇÕES | D12: =Orçamento!J33 -> 8829.3698 | E12: =D12/$D$49 -> 0.010159086 | F12: 1
F13: =F12*D12 -> 8829.3698
B14: 4 | C14: SUPERESTRUTURA | D14: =Orçamento!J54 -> 50965.149 | E14: =D14/$D$49 -> 0.058640578 | F14: 0.5 | G14: 0.5
F15: =F14*$D14 -> 25482.574 | G15: =G14*$D14 -> 25482.574
B16: 5 | C16: SISTEMA DE VEDAÇÃO VERTICAL | D16: =Orçamento!J60 -> 84013.554 | E16: =D16/$D$49 -> 0.096666125 | G16: 0.5 | H16: 0.5
G17: =G16*$D16 -> 42006.777 | H17: =H16*$D16 -> 42006.777
B18: 6 | C18: ESQUADRIAS | D18: =Orçamento!J75 -> 89244.999 | E18: =D18/$D$49 -> 0.10268543 | H18: 0.5 | I18: 0.5
H19: =H18*$D18 -> 44622.499 | I19: =I18*$D18 -> 44622.499
B20: 7 | C20: SISTEMAS DE COBERTURA | D20: =Orçamento!J84 -> 105216.77 | E20: =D20/$D$49 -> 0.12106258 | I20: 0.5 | J20: 0.5
I21: =I20*D20 -> 52608.384 | J21: =J20*D20 -> 52608.384
B22: 8 | C22: IMPERMEABILIZAÇÃO | D22: =Orçamento!J89 -> 3338.5123 | E22: =D22/$D$49 -> 0.0038412974 | G22: 0.5 | K22: 0.5
G23: =G22*D22 -> 1669.2562 | K23: =K22*D22 -> 1669.2562
B24: 9 | C24: REVESTIMENTOS INTERNOS | D24: =Orçamento!J95 -> 47831.615 | E24: =D24/$D$49 -> 0.055035129 | J24: 1
J25: =J24*D24 -> 47831.615
B26: 10 | C26: FORROS | D26: =Orçamento!J100 -> 25972.735 | E26: =D26/$D$49 -> 0.029884269 | K26: 1
K27: =K26*$D26 -> 25972.735
B28: 11 | C28: SISTEMAS DE PISOS | D28: =Orçamento!J109 -> 190212.63 | E28: =D28/$D$49 -> 0.21885894 | L28: 0.7 | M28: 0.3
L29: =D28*L28 -> 133148.84 | M29: =M28*D28 -> 57063.789
B30: 12 | C30: PINTURAS E ACABAMENTOS | D30: =Orçamento!J117 -> 25200.89 | E30: =D30/$D$49 -> 0.028996183 | K30: 0.7 | L30: 0.2 | M30: 0.1
K31: =K30*D30 -> 17640.623 | L31: =L30*D30 -> 5040.178 | M31: =M30*D30 -> 2520.089
B32: 13 | C32: INSTALAÇÃO HIDRÁULICA | D32: =Orçamento!J136 -> 8977.0864 | E32: =D32/$D$49 -> 0.010329049 | H32: 0.4 | I32: 0.4 | M32: 0.2
H33: =H32*D32 -> 3590.8345 | I33: =I32*$D32 -> 3590.8345 | M33: =M32*$D32 -> 1795.4173
B34: 14 | C34: INSTALAÇÃO SANITÁRIA | D34: =Orçamento!J157 -> 14901.657 | E34: =D34/$D$49 -> 0.017145869 | G34: 0.6 | M34: 0.4
G35: =G34*D34 -> 8940.9939 | M35: =M34*D34 -> 5960.6626
B36: 15 | C36: LOUÇAS E METAIS | D36: =Orçamento!J176 -> 127724.63 | E36: =D36/$D$49 -> 0.14696015 | M36: 1
M37: =M36*$D36 -> 127724.63
B38: 16 | C38: SISTEMAS DE PROTEÇÃO CONTRA INCÊNDIO | D38: =Orçamento!J204 -> 12554.874 | E38: =D38/$D$49 -> 0.014445658 | G38: 0.5 | L38: 0.25 | M38: 0.25
G39: =G38*D38 -> 6277.4371 | L39: =L38*D38 -> 3138.7186 | M39: =M38*D38 -> 3138.7186
B40: 16 | C40: INSTALAÇÕES ELÉTRICAS - 220V | D40: =Orçamento!J229 -> 19043.083 | E40: =D40/$D$49 -> 0.021911 | G40: 0.3 | H40: 0.2 | J40: 0.2 | L40: 0.2 | M40: 0.1
G41: =G40*D40 -> 5712.9248 | H41: =H40*D40 -> 3808.6165 | J41: =J40*D40 -> 3808.6165 | L41: =L40*D40 -> 3808.6165 | M41: =M40*D40 -> 1904.3083
B42: 17 | C42: ENTORNOS E PAISAGISMO | D42: =Orçamento!J235 -> 20267.513 | E42: =D42/$D$49 -> 0.023319832 | K42: 0.5 | M42: 0.5
K43: =K42*D42 -> 10133.757 | M43: =M42*D42 -> 10133.757
...

Sheet COMP
A1: COMPOSIÇÕES PRÓPRIAS
A2: Obra: Ampliação do Ginásio Municipal de Esportes Romano Seminotti
A4: PLACA DE OBRA EM CHAPA GALVANIZADA - M²
A5: COMPOSIÇÃO 1 | B5: CÓDIGO | C5: DESCRIÇÃO | D5: UN | E5: QTDE | F5: VALOR UNITÁRIO | J5: VALOR TOTAL
A6: INSUMO | B6: 4417 | C6: SARRAFO DE MADEIRA 2,5x7 cm | D6: M | E6: 1 | F6: 7.43 | J6: =F6*E6 -> 7.43
A7: INSUMO | B7: 20209 | C7: CAIBRO 7,5x7,5 cm | D7: M | E7: 4 | F7: 27.88 | J7: =F7*E7 -> 111.52
A8: INSUMO | B8: 4813 | C8: PLACA DE OBRA EM CHPA GALVANIZADA N 22 | D8: M² | E8: 1 | F8: 250 | J8: =F8*E8 -> 250
A9: INSUMO | B9: 5075 | C9: PREGO DE AÇO 18X30 | D9: KG | E9: 0.1 | F9: 14.7 | J9: =F9*E9 -> 1.47
A10: COMPOSICAO | B10: 88262 | C10: CARPINTEIRO | D10: H | E10: 0.5 | F10: 28.6 | J10: =F10*E10 -> 14.3
A11: COMPOSICAO | B11: 88316 | C11: SERVENTE | D11: H | E11: 1 | F11: 24 | J11: =F11*E11 -> 24
F12: TOTAL | J12: =SUM(J6:J11) -> 408.72
A14: ADMINISTRAÇÃO DE OBRA - UNID
A15: COMPOSIÇÃO 2 | B15: CÓDIGO | C15: DESCRIÇÃO | D15: UN | E15: QTDE | F15: VALOR UNITÁRIO | J15: VALOR TOTAL
A16: COMPOSICAO | B16: 90777 | C16: ENGENHEIRO CIVIL DE OBRA JUNIOR | D16: H | E16: 15 | F16: 125 | J16: =F16*E16 -> 1875
A17: COMPOSICAO | B17: 90780 | C17: MESTRE DE OBRAS | D17: H | E17: 45 | F17: 115 | J17: =F17*E17 -> 5175
A18: COMPOSICAO | B18: 90766 | C18: ALMOXARIFE | D18: H | E18: 60 | F18: 28 | J18: =F18*E18 -> 1680
F19: TOTAL | J19: =J16+J17+J18 -> 8730
A21: BANCADA DE GRANITO POLIDO, 4,50x0,50 m, COM CUBA ESCULPIDA PARA LAVATÓRIO - UNID
A22: COMPOSIÇÃO 3 | B22: CÓDIGO | C22: DESCRIÇÃO | D22: UN | E22: QTDE | F22: VALOR UNITÁRIO | J22: VALOR TOTAL
A23: INSUMO | B23: 4823 | C23: MASSA PLÁSTICA PARA GRANITO | D23: KG | E23: 1 | F23: 35.11 | J23: =F23*E23 -> 35.11
A24: INSUMO | B24: 7568 | C24: BUCHA DE NYLON S10 | D24: UN | E24: 12 | F24: 1.29 | J24: =F24*E24 -> 15.48
A25: INSUMO | B25: 11795 | C25: GRANITO PARA BANCADA, POLIDO, CINZA ANDORINHA E: 2,5 CM | D25: M² | E25: =(4.5*0.5)+(4.5*0.1)+(4.5*0.15)+(0.5*2*0.15)+(4*0.3*2)+(4*0.4*2) -> 9.125 | F25: 724.52 | J25: =F25*E25 -> 6611.245
A26: INSUMO | B26: 37329 | C26: REJUNTE EPOXI | D26: KG | E26: 0.03 | F26: 98.93 | J26: =F26*E26 -> 2.9679
A27: INSUMO | B27: 37591 | C27: SUPORTE MÃO FRANCESA EM AÇO, 40 CM | D27: UN | E27: 4 | F27: 22.11 | J27: =F27*E27 -> 88.44
A28: COMPOSICAO | B28: 88274 | C28: MARMORISTA COM ENCARGOS COMPLEMENTARES | D28: H | E28: 2.5 | F28: 28 | J28: =F28*E28 -> 70
A29: COMPOSICAO | B29: 88316 | C29: SERVENTE COM ENCARGOS COMPLEMENTARES | D29: H | E29: 2 | F29: 24 | J29: =F29*E29 -> 48
F30: TOTAL | J30: =SUM(J23:J29) -> 6871.2429
A32: PAINEL DE LED DE SOBREPOR 12w 20x20 cm - FORNECIMENTO E INSTALAÇÃO - UNID
A33: COMPOSIÇÃO 4 | B33: CÓDIGO | C33: DESCRIÇÃO | D33: UN | E33: QTDE | F33: VALOR UNITÁRIO | J33: VALOR TOTAL
A34: COMÉRCIO LOCAL | C34: PAINEL DE LED DE SOBREPOR 12w 20x20 cm, 4000 K, LUZ NEUTRA | D34: UN | E34: 1,0000000 | F34: 30 | J34: =F34 -> 30
A35: COMPOSICAO | B35: 88247 | C35: AUXILIAR DE ELETRICISTA COM ENCARGOS COMPLEMENTARES | D35: H | E35: 0,1727000 | F35: 26 | J35: =E35*F35 -> 4.4902
A36: COMPOSICAO | B36: 88264 | C36: ELETRICISTA COM ENCARGOS COMPLEMENTARES | D36: H | E36: 0,4144000 | F36: 30 | J36: =E36*F36 -> 12.432
F37: TOTAL | J37: =J34+J35+J36 -> 46.9222
A39: PAINEL DE LED DE EMBUTIR 36w 40x40 cm - FORNECIMENTO E INSTALAÇÃO - UNID
A40: COMPOSICAO 5 | B40: CÓDIGO | C40: DESCRIÇÃO | D40: UN | E40: QTDE | F40: VALOR UNITÁRIO | J40: VALOR TOTAL
A41: COMÉRCIO LOCAL | C41: PAINEL DE LED DE SOBREPOR 36w 40x40 cm, 4000 K, LUZ NEUTRA | D41: UN | E41: 1,0000000 | F41: 95 | J41: =F41 -> 95
A42: COMPOSICAO | B42: 88247 | C42: AUXILIAR DE ELETRICISTA COM ENCARGOS COMPLEMENTARES | D42: H | E42: 0.25 | F42: 26 | J42: =E42*F42 -> 6.5
A43: COMPOSICAO | B43: 88264 | C43: ELETRICISTA COM ENCARGOS COMPLEMENTARES | D43: H | E43: 1 | F43: 30 | J43: =E43*F43 -> 30
F44: TOTAL | J44: =J41+J42+J43 -> 131.5
A46: PAINEL DE LED DE EMBUTIR 24w 30x30 cm - FORNECIMENTO E INSTALAÇÃO - UNID
...
