Workbook

Sheet ORÇAMENTO
B2: PLANILHA ORÇAMENTÁRIA GLOBAL
B4: PREFEITURA MUNICIPAL DE FLORIANO PEIXOTO/RS | I4: BDI | J4: 0.2422
B5: CONSTRUÇÃO DE UMA PONTE EM CONCRETO SOBRE O RIO ABAÚNA | H5: SINAPI | I5: DATA BASE | J5: 46204
B6: Endereço: Comunidade São Miguel, interior de Floriano Peixoto/RS | H6: SICRO3 | I6: DATA BASE | J6: 46113
B8: Item | C8: Código | D8: Banco | E8: Descrição | F8: Unid | G8: Quant. | H8: Valor Unit | I8: Valor Unit com BDI | J8: Total | L8: valores
B9: TOTAL | J9: =J10+J12+J22+J36+J58+J88 -> 761884.64
B10: 1 | E10: SERVIÇOS TÉCNICOS | J10: =J11 -> 99506.43
B11: 1.1 | C11: Comp.01 | D11: - | E11: ADMINISTRAÇÃO DE OBRA | F11: un | G11: 1 | H11: 80105 | I11: =TRUNC(L11,2) -> 99506.43 | J11: =TRUNC(N11,2) -> 99506.43 | L11: =(H11*$J$4)+H11 -> 99506.431 | N11: =I11*G11 -> 99506.43
B12: 2 | E12: SERVIÇOS INICIAIS | J12: =SUM(J13:J21) -> 42174.1 | N12: =I12*G12 -> 0
B13: 2.1 | C13: Comp.02 | D13: - | E13: PLACA DE OBRA EM CHAPA GALVANIZADA | F13: m² | G13: 4.8 | H13: 405.87 | I13: =TRUNC(L13,2) -> 504.17 | J13: =TRUNC(N13,2) -> 2420.01 | L13: =(H13*$J$4)+H13 -> 504.17171 | N13: =I13*G13 -> 2420.016
B14: 2.2 | C14: 103695 | D14: SINAPI | E14: FORNECIMENTO E INSTALAÇÃO DE SUPORTE DE MADEIRA PARA PLACAS DE SINALIZAÇÃO, EM SOLO, COM H= DE 2,0 M E SEÇÃO DE 7,5 X 7,5 CM | F14: un | G14: 3 | H14: 103 | I14: =TRUNC(L14,2) -> 127.94 | J14: =TRUNC(N14,2) -> 383.82 | L14: =(H14*$J$4)+H14 -> 127.9466 | N14: =I14*G14 -> 383.82
B15: 2.3 | C15: 10776 | D15: SINAPI-I | E15: LOCACAO DE CONTAINER 2,30 X 6,00 M, ALT. 2,50 M, PARA ESCRITORIO, SEM DIVISORIAS INTERNAS E SEM SANITARIO (NAO INCLUI MOBILIZACAO/DESMOBILIZACAO) | F15: mês | G15: 5 | H15: 900 | I15: =TRUNC(L15,2) -> 1117.98 | J15: =TRUNC(N15,2) -> 5589.9 | L15: =(H15*$J$4)+H15 -> 1117.98 | N15: =I15*G15 -> 5589.9
B16: 2.4 | C16: 10775 | D16: SINAPI-I | E16: LOCACAO DE CONTAINER 2,30 X 6,00 M, ALT. 2,50 M, PARA ESCRITORIO, SEM DIVISORIAS INTERNAS COM SANITARIO (NAO INCLUI MOBILIZACAO/DESMOBILIZACAO) | F16: mês | G16: 5 | H16: 1150 | I16: =TRUNC(L16,2) -> 1428.53 | J16: =TRUNC(N16,2) -> 7142.65 | L16: =(H16*$J$4)+H16 -> 1428.53 | N16: =I16*G16 -> 7142.65
B17: 2.5 | C17: 100948 | D17: SINAPI | E17: TRANSPORTE COM CAMINHÃO CARROCERIA 9T, EM VIA URBANA PAVIMENTADA, ADICIONAL PARA DMT EXCEDENTE A 30 KM | F17: TxKm | G17: =48*2*12 -> 1152 | H17: 0.96 | I17: =TRUNC(L17,2) -> 1.19 | J17: =TRUNC(N17,2) -> 1370.88 | L17: =(H17*$J$4)+H17 -> 1.192512 | N17: =I17*G17 -> 1370.88
B18: 2.6 | C18: 100945 | D18: SINAPI | E18: TRANSPORTE COM CAMINHÃO CARROCERIA 9T, EM LEITO NATURAL | F18: TxKm | G18: =3*2*12 -> 72 | H18: 3.6 | I18: =TRUNC(L18,2) -> 4.47 | J18: =TRUNC(N18,2) -> 321.84 | L18: =(H18*$J$4)+H18 -> 4.47192 | N18: =I18*G18 -> 321.84
B19: 2.7 | C19: 93421 | D19: SINAPI | E19: GRUPO GERADOR REBOCÁVEL, POTÊNCIA 66 KVA, MOTOR A DIESEL | F19: CHP | G19: 180 | H19: 82.5 | I19: =TRUNC(L19,2) -> 102.48 | J19: =TRUNC(N19,2) -> 18446.4 | L19: =(H19*$J$4)+H19 -> 102.4815 | N19: =I19*G19 -> 18446.4
B20: 2.8 | C20: 99059 | D20: SINAPI | E20: LOCAÇÃO CONVENCIONAL DE OBRA, UTILIZANDO GABARITO DE TÁBUAS CORRIDAS PONTALEADAS A CADA 2,00 M | F20: M | G20: =48+12 -> 60 | H20: 68.2 | I20: =TRUNC(L20,2) -> 84.71 | J20: =TRUNC(N20,2) -> 5082.6 | L20: =(H20*$J$4)+H20 -> 84.71804 | N20: =I20*G20 -> 5082.6
B21: 2.9 | C21: 90781 | D21: SINAPI | E21: TOPOGRAFO COM ENCARGOS COMPLEMENTARES | F21: H | G21: 24 | H21: 47.5 | I21: =TRUNC(L21,2) -> 59 | J21: =TRUNC(N21,2) -> 1416 | L21: =(H21*$J$4)+H21 -> 59.0045 | N21: =I21*G21 -> 1416
B22: 3 | E22: INFRAESTRUTURA | J22: =J23 -> 66891.74 | N22: =I22*G22 -> 0
B23: 3.1 | E23: FUNDAÇÕES | J23: =SUM(J24:J35) -> 66891.74 | N23: =I23*G23 -> 0
B24: 3.1.1 | C24: 96523 | D24: SINAPI | E24: ESCAVAÇÃO MANUAL PARA BLOCO DE COROAMENTO OU SAPATA (INCLUINDO ESCAVAÇÃO PARA COLOCAÇÃO DE FÔRMAS | F24: m3 | G24: =2*3.1415*1.4 -> 8.7962 | H24: 110 | I24: =TRUNC(L24,2) -> 136.64 | J24: =TRUNC(N24,2) -> 1201.91 | L24: =(H24*$J$4)+H24 -> 136.642 | N24: =I24*G24 -> 1201.9128
B25: 3.1.2 | C25: Comp.06 | D25: - | E25: ENSECADEIRAS DE MADEIRA | F25: m2 | G25: =24*1.2 -> 28.8 | H25: 300 | I25: =TRUNC(L25,2) -> 372.66 | J25: =TRUNC(N25,2) -> 10732.6 | L25: =(H25*$J$4)+H25 -> 372.66 | N25: =I25*G25 -> 10732.608
B26: 3.1.3 | C26: Comp.07 | D26: - | E26: ENSECADEIRAS DE CONCRETO ARMADO | F26: m2 | G26: =24*0.5 -> 12 | H26: 407.83 | I26: =TRUNC(L26,2) -> 506.6 | J26: =TRUNC(N26,2) -> 6079.2 | L26: =(H26*$J$4)+H26 -> 506.60643 | N26: =I26*G26 -> 6079.2
B27: 3.1.4 | C27: 104482 | D27: SINAPI | E27: ESGOTAMENTO COM BOMBA SUBMERSÍVEL | F27: H | G27: 24 | H27: 30 | I27: =TRUNC(L27,2) -> 37.26 | J27: =TRUNC(N27,2) -> 894.24 | L27: =(H27*$J$4)+H27 -> 37.266 | N27: =I27*G27 -> 894.24
B28: 3.1.5 | C28: 105916 | D28: SINAPI | E28: MARTELO PERFURADOR PNEUMÁTICO MANUAL, HASTE 19 X 108 MM, 11 KG - CHP DIURNO. | F28: CHP | G28: 90 | H28: 32 | I28: =TRUNC(L28,2) -> 39.75 | J28: =TRUNC(N28,2) -> 3577.5 | L28: =(H28*$J$4)+H28 -> 39.7504 | N28: =I28*G28 -> 3577.5
B29: 3.1.6 | C29: 92764 | D29: SINAPI | E29: ARMAÇÃO DE PILAR OU VIGA DE ESTRUTURA CONVENCIONAL DE CONCRETO ARMADO UTILIZANDO AÇO CA-50 DE 16,0 MM - MONTAGEM | F29: kg | G29: =(8*2*2+(13*2*1.5))/12*18.93 -> 112.0025 | H29: 8.1 | I29: =TRUNC(L29,2) -> 10.06 | J29: =TRUNC(N29,2) -> 1126.74 | L29: =(H29*$J$4)+H29 -> 10.06182 | N29: =I29*G29 -> 1126.7451
B30: 3.1.7 | C30: 92761 | D30: SINAPI | E30: ARMAÇÃO DE PILAR OU VIGA DE ESTRUTURA CONVENCIONAL DE CONCRETO ARMADO UTILIZANDO AÇO CA-50 DE 8,0 MM - MONTAGEM | F30: kg | G30: =((5.7*20*2)+(3.7*120*2)+(10*5.7*2*2))/12*4.74 -> 530.88 | H30: 11.5 | I30: =TRUNC(L30,2) -> 14.28 | J30: =TRUNC(N30,2) -> 7580.96 | L30: =(H30*$J$4)+H30 -> 14.2853 | N30: =I30*G30 -> 7580.9664
B31: 3.1.8 | C31: 92760 | D31: SINAPI | E31: ARMAÇÃO DE PILAR OU VIGA DE ESTRUTURA CONVENCIONAL DE CONCRETO ARMADO UTILIZANDO AÇO CA-50 DE 6,3 MM - MONTAGEM | F31: kg | G31: =((8*12*2*2)/12*2.94)*1.1 -> 103.488 | H31: 12.5 | I31: =TRUNC(L31,2) -> 15.52 | J31: =TRUNC(N31,2) -> 1606.13 | L31: =(H31*$J$4)+H31 -> 15.5275 | N31: =I31*G31 -> 1606.1338
B32: 3.1.9 | C32: 96558 | D32: SINAPI | E32: CONCRETAGEM FCK 30 MPA, COM USO DE BOMBA - LANÇAMENTO, ADENSAMENTO E ACABAMENTO | F32: m³ | G32: =(3.1415*2*1)+(1.5*0.5*12*2) -> 24.283 | H32: 950 | I32: =TRUNC(L32,2) -> 1180.09 | J32: =TRUNC(N32,2) -> 28656.12 | L32: =(H32*$J$4)+H32 -> 1180.09 | N32: =I32*G32 -> 28656.125
B33: 3.1.10 | C33: 5909007 | D33: SICRO3 | E33: Carga, manobra e descarga de concreto com caminhão betoneira - carga em central de concreto de 30 m³/h e descarga livre | F33: t | G33: =G32*2.5 -> 60.7075 | H33: 25.1 | I33: =TRUNC(L33,2) -> 31.17 | J33: =TRUNC(N33,2) -> 1892.25 | L33: =(H33*$J$4)+H33 -> 31.17922 | N33: =I33*G33 -> 1892.2528
B34: 3.1.11 | C34: 5914539 | D34: SICRO3 | E34: Transporte com caminhão betoneira - rodovia em leito natural | F34: tkm | G34: =(G32*2.5)*3 -> 182.1225 | H34: 1.37 | I34: =TRUNC(L34,2) -> 1.7 | J34: =TRUNC(N34,2) -> 309.6 | L34: =(H34*$J$4)+H34 -> 1.701814 | N34: =I34*G34 -> 309.60825
B35: 3.1.12 | C35: 5914569 | D35: SICRO3 | E35: Transporte com caminhão betoneira - rodovia pavimentada | F35: tkm | G35: =(G32*2.5)*48 -> 2913.96 | H35: 0.9 | I35: =TRUNC(L35,2) -> 1.11 | J35: =TRUNC(N35,2) -> 3234.49 | L35: =(H35*$J$4)+H35 -> 1.11798 | N35: =I35*G35 -> 3234.4956
B36: 4 | E36: MESOESTRUTURA | J36: =J37+J48 -> 160094.48 | N36: =I36*G36 -> 0
B37: 4.1 | E37: PILARES DE CONCRETO ARMADO | J37: =SUM(J38:J47) -> 42892.28 | N37: =I37*G37 -> 0
B38: 4.1.1 | C38: 92264 | D38: SINAPI | E38: FABRICAÇÃO DE FÔRMA PARA PILARES, EM CHAPA DE MADEIRA COMPENSADA PLASTIFICADA, E = 18 MM | F38: m² | G38: =(5.5+5.5+0.6+0.6)*3 -> 36.6 | H38: 235 | I38: =TRUNC(L38,2) -> 291.91 | J38: =TRUNC(N38,2) -> 10683.9 | L38: =(H38*$J$4)+H38 -> 291.917 | N38: =I38*G38 -> 10683.906
B39: 4.1.2 | C39: 92447 | D39: SINAPI | E39: MONTAGEM E DESMONTAGEM DE FÔRMA DE VIGA, ESCORAMENTO COM PONTALETE DE MADEIRA, EM MADEIRA SERRADA, 2 UTILIZAÇÕES | F39: m² | G39: =G38 -> 36.6 | H39: 215 | I39: =TRUNC(L39,2) -> 267.07 | J39: =TRUNC(N39,2) -> 9774.76 | L39: =(H39*$J$4)+H39 -> 267.073 | N39: =I39*G39 -> 9774.762
B40: 4.1.3 | C40: 92764 | D40: SINAPI | E40: ARMAÇÃO DE PILAR OU VIGA DE ESTRUTURA CONVENCIONAL DE CONCRETO ARMADO UTILIZANDO AÇO CA-60 DE 16,0 MM - MONTAGEM. | F40: Kg | G40: =((6*5.35*2)*2)/12*18.93 -> 202.551 | H40: 8.1 | I40: =TRUNC(L40,2) -> 10.06 | J40: =TRUNC(N40,2) -> 2037.66 | L40: =(H40*$J$4)+H40 -> 10.06182 | N40: =I40*G40 -> 2037.6631
B41: 4.1.4 | C41: 92760 | D41: SINAPI | E41: ARMAÇÃO DE PILAR OU VIGA DE ESTRUTURA CONVENCIONAL DE CONCRETO ARMADO UTILIZANDO AÇO CA-50 DE 6,3 MM - MONTAGEM | F41: kg | G41: =((4.7/0.1*4.66)+(20*6.25))/12*2.94*2 -> 168.5698 | H41: 12.5 | I41: =TRUNC(L41,2) -> 15.52 | J41: =TRUNC(N41,2) -> 2616.2 | L41: =(H41*$J$4)+H41 -> 15.5275 | N41: =I41*G41 -> 2616.2033
B42: 4.1.5 | C42: 92761 | D42: SINAPI | E42: ARMAÇÃO DE PILAR OU VIGA DE ESTRUTURA CONVENCIONAL DE CONCRETO ARMADO UTILIZANDO AÇO CA-50 DE 8,0 MM - MONTAGEM | F42: kg | G42: =(32*4*2)/12*4.74 -> 101.12 | H42: 11.5 | I42: =TRUNC(L42,2) -> 14.28 | J42: =TRUNC(N42,2) -> 1443.99 | L42: =(H42*$J$4)+H42 -> 14.2853 | N42: =I42*G42 -> 1443.9936
B43: 4.1.6 | C43: 96558 | D43: SINAPI | E43: CONCRETAGEM FCK 30 MPA, COM USO DE BOMBA - LANÇAMENTO, ADENSAMENTO E ACABAMENTO | F43: m³ | G43: =(0.6*5.5*3.35) -> 11.055 | H43: 950 | I43: =TRUNC(L43,2) -> 1180.09 | J43: =TRUNC(N43,2) -> 13045.89 | L43: =(H43*$J$4)+H43 -> 1180.09 | N43: =I43*G43 -> 13045.895
...

Sheet ENCARGOS
A1: ESTADO DO RIO GRANDE DO SUL PREFEITURA MUNICIPAL DE FLORIANO PEIXOTO
A8: ENCARGOS SOCIAIS SOBRE A MÃO DE OBRA ( SINAPI 01/2025)
A9: CÓDIGO | B9: DESCRIÇÃO | C9: COM DESONERAÇÃO | E9: SEM DESONERAÇÃO
C10: HORISTA % | D10: MENSALISTA % | E10: HORISTA % | F10: MENSALISTA %
A11: GRUPO A
A12: A1 | B12: INSS | C12: 0.05 | D12: 0.05 | E12: 0.2 | F12: 0.2
A13: A2 | B13: SESI | C13: 0.015 | D13: 0.015 | E13: 0.015 | F13: 0.015
A14: A3 | B14: SENAI | C14: 0.01 | D14: 0.01 | E14: 0.01 | F14: 0.01
A15: A4 | B15: INCRA | C15: 0.002 | D15: 0.002 | E15: 0.002 | F15: 0.002
A16: A5 | B16: SEBRAE | C16: 0.006 | D16: 0.006 | E16: 0.006 | F16: 0.006
A17: A6 | B17: Salário Educação | C17: 0.025 | D17: 0.025 | E17: 0.025 | F17: 0.025
A18: A7 | B18: Seguro Contra Acidentes de Trabalho | C18: 0.03 | D18: 0.03 | E18: 0.03 | F18: 0.03
A19: A8 | B19: FGTS | C19: 0.08 | D19: 0.08 | E19: 0.08 | F19: 0.08
A20: A9 | B20: SECONCI | C20: 0 | D20: 0 | E20: 0 | F20: 0
A21: A | B21: Total | C21: 0.218 | D21: 0.218 | E21: 0.368 | F21: 0.368
A22: GRUPO B
A23: B1 | B23: Repouso Semanal Remunerado | C23: 0.1793 | D23: Não incide | E23: 0.1793 | F23: Não incide
A24: B2 | B24: Feriados | C24: 0.0424 | D24: Não incide | E24: 0.0424 | F24: Não incide
A25: B3 | B25: Auxílio - Enfermidade | C25: 0.0085 | D25: 0.0065 | E25: 0.0085 | F25: 0.0065
A26: B4 | B26: 13º Salário | C26: 0.1096 | D26: 0.0833 | E26: 0.1096 | F26: 0.0833
A27: B5 | B27: Licença Paternidade | C27: 0.0007 | D27: 0.0005 | E27: 0.0007 | F27: 0.0005
A28: B6 | B28: Faltas Justificadas | C28: 0.0073 | D28: 0.0056 | E28: 0.0073 | F28: 0.0056
A29: B7 | B29: Dias de Chuvas | C29: 0.0153 | D29: Não incide | E29: 0.0153 | F29: Não incide
A30: B8 | B30: Auxílio Acidente de Trabalho | C30: 0.001 | D30: 0.0007 | E30: 0.001 | F30: 0.0007
A31: B9 | B31: Férias Gozadas | C31: 0.1061 | D31: 0.0806 | E31: 0.1061 | F31: 0.0806
A32: B10 | B32: Salário Maternidade | C32: 0.0003 | D32: 0.0003 | E32: 0.0003 | F32: 0.0003
A33: B | B33: Total | C33: 0.4705 | D33: 0.1775 | E33: 0.4705 | F33: 0.1775
A34: GRUPO C
A35: C1 | B35: Aviso Prévio Indenizado | C35: 0.0457 | D35: 0.0347 | E35: 0.0457 | F35: 0.0347
A36: C2 | B36: Aviso Prévio Trabalhado | C36: 0.0011 | D36: 0.0008 | E36: 0.0011 | F36: 0.0008
A37: C3 | B37: Férias Indenizadas | C37: 0.0346 | D37: 0.0263 | E37: 0.0346 | F37: 0.0263
A38: C4 | B38: Depósito Rescisão Sem Justa Causa | C38: 0.0275 | D38: 0.0209 | E38: 0.0275 | F38: 0.0209
A39: C5 | B39: Indenização Adicional | C39: 0.0038 | D39: 0.0029 | E39: 0.0038 | F39: 0.0029
A40: C | B40: Total | C40: 0.1127 | D40: 0.0856 | E40: 0.1127 | F40: 0.0856
A41: GRUPO D
A42: D1 | B42: Reincidência de Grupo A sobre Grupo B | C42: 0.0971 | D42: 0.0345 | E42: 0.1731 | F42: 0.0653
A43: D2 | B43: Reincidência de Grupo A sobre Aviso Prévio Trabalhado e Reincidência do FGTS sobre Aviso Prévio Indenizado | C43: 0.0039 | D43: 0.003 | E43: 0.0041 | F43: 0.0031
A44: D | B44: Total | C44: 0.101 | D44: 0.0375 | E44: 0.1772 | F44: 0.0684
A45: TOTAL(A+B+C+D) | C45: 0.9022 | D45: 0.5186 | E45: 1.1284 | F45: 0.6995
D48: Floriano Peixoto/RS, 02 de setemrbo de 2026.
...

Sheet CRONOGRAMA
B2: CRONOGRAMA FÍSICO FINANCEIRO
B4: PREFEITURA MUNICIPAL DE FLORIANO PEIXOTO/RS
B5: CONSTRUÇÃO UMA PONTE EM CONCRETO ARMADO SOBRE O RIO ABAÚNA, COM. SÃO MIGUEL
B7: CRONOGRAMA FÍSICO FINANCEIRO
B8: PREFEITURA MUNICIPAL DE FLORIANO PEIXOTO/RS
B9: Ponte sobre o Rio Abaúna 24,00 x 6,00 m
B10: ITEM | C10: DESCRIÇÃO | D10: TOTAIS | E10: ETAPA 1 | F10: ETAPA 2 | G10: ETAPA 3 | H10: ETAPA 4 | I10: ETAPA 5
B11: 1 | C11: SERVIÇOS TÉCNICOS | D11: =ORÇAMENTO!J10 -> 99506.43 | E11: =D11*0.2 -> 19901.286 | F11: =D11*0.2 -> 19901.286 | G11: =D11*0.2 -> 19901.286 | H11: =D11*0.2 -> 19901.286 | I11: =D11*0.2 -> 19901.286
B12: 2 | C12: SERVIÇOS INICIAIS | D12: =ORÇAMENTO!J12 -> 42174.1 | E12: =D12*0.6 -> 25304.46 | F12: =D12*0.1 -> 4217.41 | G12: =D12*0.1 -> 4217.41 | H12: =D12*0.1 -> 4217.41 | I12: =D12*0.1 -> 4217.41
B13: 3 | C13: =ORÇAMENTO!E22 -> INFRAESTRUTURA | D13: =ORÇAMENTO!J22 -> 66891.74 | E13: =D13*1 -> 66891.74
B14: 4 | C14: MESOESTRUTURA | D14: =ORÇAMENTO!J36 -> 160094.48 | F14: =D14*0.7 -> 112066.14 | G14: =D14*0.3 -> 48028.344 | I14: 0
B15: 5 | C15: SUPERESTRUTURA | D15: =ORÇAMENTO!J58 -> 350635.93 | G15: =D15*0.4 -> 140254.37 | H15: =D15*0.3 -> 105190.78 | I15: =D15*0.3 -> 105190.78
B16: 6 | C16: ACABAMENTOS E OBRAS COMPLEMENTARES | D16: =ORÇAMENTO!J88 -> 42581.96 | I16: =D16 -> 42581.96
C17: TOTAL | D17: =SUM(D11:D16) -> 761884.64 | E17: =SUM(E11:E16) -> 112097.49 | F17: =SUM(F11:F16) -> 136184.83 | G17: =SUM(G11:G16) -> 212401.41 | H17: =SUM(H11:H16) -> 129309.48 | I17: =SUM(I11:I16) -> 171891.43
C18: % | D18: =SUM(E18:I18) -> 1 | E18: =E17/D17 -> 0.14713184 | F18: =F17/D17 -> 0.17874731 | G18: =G17/D17 -> 0.27878422 | H18: =H17/D17 -> 0.16972317 | I18: =I17/D17 -> 0.22561347
B20: Floriano Peixoto/RS, 02 de outubro de 2026.
F25: Angelica Gasparetto Sandri
F26: Engenheira Civil
F27: CREA RS 215.874

Sheet DMT
B2: PREFEITURA MUNICIPAL DE FLORIANO PEIXOTO/RS
B3: CONSTRUÇÃO UMA PONTE EM CONCRETO ARMADO PROTENDIDO
B5: DMT - Distâncias Médias de Transporte
B7: Transporte de concreto | C7: Tipo Rodovia | D7: km
B8: Erechim à Floriano Peixoto/RS | C8: Pavimentada | D8: 48
B9: Distância de Floriano Peixoto/RS até a Ponte do Rio Abaúna | C9: Leito Natural | D9: 3
B11: Transporte vigas longarinas e das Lajes pré-moldadas | C11: Tipo Rodovia | D11: km
B12: Distância média dos grandes centros (Erechim/RS, Passo Fundo/RS e Chapecó/SC) a Floriano Peixoto/RS | C12: Pavimentada | D12: 85
B13: Distância de Floriano Peixoto/RS até a Ponte do Rio Abaúna | C13: Leito Natural | D13: 3
B16: Floriano Peixoto/RS, 02 de setembro de 2026.
C22: Angelica Gasparetto Sandri
C23: Engenheira Civil
C24: CREA RS 215.874

Sheet BDI
B2: DETALHAMENTO DO BDI
B3: TOMADOR: PREFEITURA MUNICIPAL DE FLORIANO PEIXOTO/RS
B4: OBRA: CONSTRUÇÃO DE UMA PONTE DE CONCRETO ARMADO SOBRE O RIO ABAÚNA, COM. SÃO MIGUEL
B5: MUNICÍPIO: FLORIANO PEIXOTO/RS
B7: Conforme legislação tributária municipal, definir estimativa de percentual da base de cálculo para o ISS: | I7: 1
B8: Sobre a base de cálculo, definir a respectiva alíquota do ISS (entre 2% e 5%) | I8: 0.05
B10: PARCELAS DO BDI | D10: VALORES PERCENTUAIS ADOTADOS | G10: LIMITES DAS PARCELAS DO BDI PARA OBRAS DESTE TIPO. ACÓRDÃO TCU 2622/2013
G11: Min. | H11: Med. | I11: Máx.
B12: (AC) - Administração Central | D12: 0.039 | G12: 3.8 | H12: 4.01 | I12: 4.67
B13: (R) - Riscos | D13: 0.0045 | G13: 0.32 | H13: 0.4 | I13: 0.74
B14: (S) + (G) - Seguro e Garantia | D14: 0.006 | G14: 0.5 | H14: 0.56 | I14: 0.97
B15: (DF) - Despesas Financeiras | D15: 0.0105 | G15: 1.02 | H15: 1.11 | I15: 1.21
B16: (L) - Lucro | D16: 0.07 | G16: 6.64 | H16: 7.3 | I16: 8.69
B17: (I1) - PIS | D17: 0.0065 | G17: 0.65 | H17: 0.65 | I17: 0.65
B18: (I2) - COFINS | D18: 0.03 | G18: 3 | H18: 3 | I18: 3
B19: (I2) - ISS | D19: =I8*I7 -> 0.05 | G19: 2 | H19: 2 | I19: 5
B20: (I4) - Contribuição Previdenciária) | D20: 0
B21: BDI % = | D21: =ROUND((((1+D12+D13+D14)*(1+D15)*(1+D16))/(1-D17-D18-D19-D20))-1,4) -> 0.2422
B23: VALOR PARA SIMPLES CONFERÊNCIA DO ENQUADRAMENTO DO BDI NOS LIMITES ESTABELECIDOS PELO ACÓRDÃO TCU 2622/2013 | G23: LIMITES DAS PARCELAS DO BDI PARA OBRAS DESTE TIPO. ACÓRDÃO TCU 2622/2013
B24: BDI desconsiderando a parcela (I4) contribuição previdenciária | D24: =ROUND((((1+D12+D13+D14)*(1+D15)*(1+D16))/(1-D17-D18-D19))-1,4) -> 0.2422 | G24: 19.6 | H24: 20.97 | I24: 24.23
B26: DECLARAÇÕES
B27: DECLARO que, de acordo com a legislação tributária do municipio de FLORIANO PEIXOTO - RS, considerando a natureza da obra acima discriminada, para cálculo do valor de ISS a ser cobrado da empresa construtora, é aplicada a aliquota de 5% sobre o valor total da obra.
B28: DECLARO que o percentual de encargos sociais utilizados no valor da mão-de-obra do orçamento são os encargos sociais praticados pelo SINAPI e/ou SICRO.
B29: DECLARO que o orçamento da obra foi verificado com os custos nas duas possibilidades de CONTRIBUIÇÃO PREVIDENCIÁRIA e foi adotado a modalidade SEM DESONERAÇÃO por ser a mais adequada ao Tomador PREFEITURA MUNICIPAL DE FLORIANO PEIXOTO - RS.
B31: Floriano Peixoto/RS, 02 de setembro de 2026.
F41: Angelica Gasparetto Sandri
F42: Engenheira Civil
F43: CREA RS 215.874

Sheet COMP. 
B3: COMPOSIÇÃO PRÓPRIA
B5: PREFEITURA MUNICIPAL DE FLORIANO PEIXOTO/RS
B6: CONSTRUÇÃO DE UMA PONTE EM CONCRETO ARMADO SOBRE O RIO ABAUNA, SÃO MIGUEL
B8: CODIGO DA COMPOSICAO: | D8: COMP.01 | E8: DATA-BASE: | F8: 46204
B9: DESCRICAO DA COMPOSICAO: | D9: ADMINISTRAÇÃO DE OBRA
B10: UNIDADE: | D10: unidade
B11: Composição: | C11: CÓDIGO | D11: DESCRIÇÃO ITEM | E11: UNIDADE ITEM | F11: COEFICIENTE | G11: PRECO UNITARIO | H11: CUSTO TOTAL
B12: Composição | C12: 90778 | D12: ENGENHEIRO CIVIL DE OBRA PLENO COM ENCARGOS COMPLEMENTARES | E12: H | F12: 65 | G12: 145 | H12: =G12*F12 -> 9425
B13: Composição | C13: 93572 | D13: ENCARREGADO GERAL DE OBRAS COM ENCARGOS COMPLEMENTARES | E13: MÊS | F13: 5 | G13: 13400 | H13: =G13*F13 -> 67000
B14: Composição | C14: 90766 | D14: ALMOXARIFE COM ENCARGOS COMPLEMENTARES | E14: H | F14: 80 | G14: 31 | H14: =G14*F14 -> 2480
B15: Composição | C15: 90775 | D15: DESENHISTA PROJETISTA COM ENCARGOS COMPLEMENTARES | E15: H | F15: 30 | G15: 40 | H15: =G15*F15 -> 1200
G16: VALOR TOTAL | H16: =SUM(H12:H15) -> 80105
B19: CODIGO DA COMPOSICAO: | D19: COMP.02 | E19: DATA-BASE: | F19: 46204
B20: DESCRICAO DA COMPOSICAO: | D20: PLACA DE OBRA EM CHAPA GALVANIZADA
B21: UNIDADE: | D21: m²
B22: Composição: | C22: CÓDIGO | D22: DESCRIÇÃO ITEM | E22: UNIDADE ITEM | F22: COEFICIENTE | G22: PRECO UNITARIO | H22: CUSTO TOTAL
B23: Insumo | C23: 4417 | D23: SARRAFO DE MADEIRA 2,5x7 cm | E23: M | F23: 1 | G23: 7.4 | H23: =G23*F23 -> 7.4
B24: Insumo | C24: 4433 | D24: CAIBRO 7,5x7,5 cm | E24: M | F24: 4 | G24: 26.7 | H24: =G24*F24 -> 106.8
B25: Insumo | C25: 4813 | D25: PLACA DE OBRA EM CHAPA GALVANIZADA N 22 | E25: M² | F25: 1 | G25: 250 | H25: =G25*F25 -> 250
B26: Insumo | C26: 5075 | D26: PREÇO DE AÇO 18x30 | E26: KG | F26: 0.1 | G26: 14.7 | H26: =G26*F26 -> 1.47
B27: Composição | C27: 88262 | D27: CARPINTEIRO | E27: H | F27: 0.5 | G27: 30.4 | H27: =G27*F27 -> 15.2
B28: Composição | C28: 88316 | D28: SERVENTE | E28: H | F28: 1 | G28: 25 | H28: =G28*F28 -> 25
G29: VALOR TOTAL | H29: =SUM(H23:H28) -> 405.87
B32: CODIGO DA COMPOSICAO: | D32: COMP.03 | E32: DATA-BASE: | F32: 46204
B33: DESCRICAO DA COMPOSICAO: | D33: LONGARINA DE CONCRETO ARMADO PRÉ-MOLDADO 0,25x0,70
B34: UNIDADE: | D34: m
B35: Composição: | C35: CÓDIGO | D35: DESCRIÇÃO ITEM | E35: UNIDADE ITEM | F35: COEFICIENTE | G35: PRECO UNITARIO | H35: CUSTO TOTAL
B36: Composição | C36: 92265 | D36: FABRICAÇÃO DE FORMA PARA VIGAS, EM CHAPA DE MADEIRA COMPENSADA RESINA E= 17 MM | E36: M² | F36: =(0.25+0.7+0.7)*1.05 -> 1.7325 | G36: 136 | H36: =G36*F36 -> 235.62
B37: Composição | C37: 92760 | D37: ARMAÇÃO DE PILAR OU VIGA DE ESTRUTURA CONVENCIONAL DE CONCRETO ARMADO UTILIZANDO AÇO CA-50 DE 6,3 MM - MONTAGEM | E37: KG | F37: 8.46 | G37: 12.5 | H37: =G37*F37 -> 105.75
B38: Composição | C38: 92764 | D38: ARMAÇÃO DE PILAR OU VIGA DE ESTRUTURA CONVENCIONAL DE CONCRETO ARMADO UTILIZANDO AÇO CA-50 DE 16,0 MM - MONTAGEM | E38: KG | F38: 13.88 | G38: 8.1 | H38: =G38*F38 -> 112.428
B39: Composição | C39: 92763 | D39: ARMAÇÃO DE PILAR OU VIGA DE ESTRUTURA CONVENCIONAL DE CONCRETO ARMADO UTILIZANDO AÇO CA-50 DE 12,5 MM - MONTAGEM | E39: KG | F39: 4.23 | G39: 8.5 | H39: =G39*F39 -> 35.955
B40: Composição | C40: 92766 | D40: ARMAÇÃO DE PILAR OU VIGA DE ESTRUTURA CONVENCIONAL DE CONCRETO ARMADO UTILIZANDO AÇO CA-50 DE 25,0 MM - MONTAGEM | E40: KG | F40: 33.9 | G40: 9.1 | H40: =G40*F40 -> 308.49
B41: Composição | C41: 91602 | D41: ARMAÇÃO DE PILAR OU VIGA DE ESTRUTURA CONVENCIONAL DE CONCRETO ARMADO UTILIZANDO AÇO CA-50 DE 8,0 MM - MONTAGEM | E41: KG | F41: 1.74 | G41: 10.45 | H41: =G41*F41 -> 18.183
B42: Composição | C42: 94967 | D42: CONCRETO FCK 40 MPA, TRAÇO: 1:1,6:1,9, PREPARO MECÂNICO EM BETONEIRA | E42: M³ | F42: 0.15 | G42: 700 | H42: =G42*F42 -> 105
B43: Composição | C43: 103670 | D43: LANÇAMENTO COM USO DE BALDES, ADENSAMENTO E ACABAMENTO DE CONCRETO EM ESTRUTURAS | E43: M³ | F43: 0.15 | G43: 344 | H43: =G43*F43 -> 51.6
G44: VALOR TOTAL | H44: =SUM(H36:H43) -> 973.026
B47: CODIGO DA COMPOSICAO: | D47: COMP.04 | E47: DATA-BASE: | F47: 46204
B48: DESCRICAO DA COMPOSICAO: | D48: PLACAS TRELICADAS PRÉ-MOLDADAS PARA PONTE
B49: UNIDADE: | D49: m²
B50: Composição: | C50: CÓDIGO | D50: DESCRIÇÃO ITEM | E50: UNIDADE ITEM | F50: COEFICIENTE | G50: PRECO UNITARIO | H50: CUSTO TOTAL
...

Sheet MEMÓRIA QUANTIDADES
B2: Ponte Rio Brasil 20,00x6,00x3,50m
B4: INFRAESTRUTURA
B7: MESOESTRUTURA
B9: ALAS
B11: Descrição | C11: Área de Corte | D11: Perímetro de forma | E11: Espessura | F11: Quantidade | G11: Forma | H11: Concreto | I11: Aço CA-50 | J11: Plataforma
C12: (A) m | E12: E (m) | G12: m² | H12: m³ | I12: kg | J12: m³
B13: Alas | C13: 14.58 | D13: =4.81+0.5 -> 5.31 | E13: 0.25 | F13: 4 | G13: =((D13*E13)+2*C13)*F13 -> 121.95 | H13: =C13*E13*F13 -> 14.58 | I13: 868 | J13: =(4-1.2)*#REF!*1.2*F13 -> #REF!
F14: Total | G14: =ROUND(SUM(G13:G13),2) -> 121.95 | H14: =ROUND(SUM(H13:H13),2) -> 14.58 | I14: =ROUND(SUM(I13:I13),2) -> 868 | J14: =ROUND(SUM(J13:J13),2) -> #REF!
B16: NEOPRENE
B18: Descrição | C18: Comprimento | D18: Largura | E18: Altura | F18: Quantidade | G18: Volume unit. | H18: Volume total | I18: Peso específico | J18: Peso total
C19: (C) m | D19: (L) m | E19: (H) m | F19: (Q) | G19: dm³ | H19: dm³ | I19: kg/dm³ | J19: kg
B20: Neoprene | C20: 0.35 | D20: 0.2 | E20: 0.05 | F20: =E31*2 -> 8 | G20: =C20*D20*E20*1000 -> 3.5 | H20: =G20*F20 -> 28 | I20: 3.2 | J20: =H20*I20 -> 89.6
F21: Total | G21: =ROUND(SUM(G20:G20),2) -> 3.5 | H21: =ROUND(SUM(H20:H20),2) -> 28 | J21: =ROUND(SUM(J20:J20),2) -> 89.6
B23: SUPERESTRUTURA
B25: VIGAS PRÉ MOLDADAS
C27: Peso Concreto (Pcs) = | E27: 2.4 | F27: t/m³
B29: Descrição | C29: Área de corte | D29: Comprimento | E29: Quantidade | F29: Perímetro de forma | G29: Forma | H29: Concreto | I29: Aço CA-50 | J29: Cordoalhas | K29: Peso transporte
D30: (C) m | E30: (Q) | F30: (P) m | G30: m² | H30: m³ | I30: kg | J30: kg | K30: t
B31: Vigas | C31: 0.2464 | D31: 20 | E31: 4 | F31: =3.899-0.3 -> 3.599 | G31: =(F31*D31+2*C31)*E31 -> 289.8912 | H31: =C31*D31*E31 -> 19.712 | I31: 1599 | J31: 1388 | K31: =(H31*E27+(I31+J31)/1000)/E31 -> 12.57395
B32: Ancoragens ativas (un) | C32: =16*E31 -> 64 | F32: Total | G32: =ROUND(SUM(G31:G31),2) -> 289.89 | H32: =ROUND(SUM(H31:H31),2) -> 19.71 | I32: =ROUND(SUM(I31:I31),2) -> 1599 | J32: =ROUND(SUM(J31:J31),2) -> 1388 | K32: =ROUND(SUM(K31:K31),2) -> 12.57
B34: PRÉ LAJES
C36: Peso Concreto (Pcs) = | E36: 2.4 | F36: t/m³
B38: Descrição | C38: Área de Corte | D38: Perímetro de forma | E38: Comprimento | F38: Quantidade | G38: Forma | H38: Concreto | I38: Aço CA-50 | J38: Peso transporte
C39: (A) m | E39: (m) | G39: m² | H39: m³ | I39: kg | J39: (Unitário) t
B40: Pré Lajes Tipo 1 | C40: 0.0646 | D40: =1.8-0.78 -> 1.02 | E40: 1.48 | F40: =23*3 -> 69 | G40: =(D40*E40+4*C40)*F40 -> 121.992 | H40: =C40*E40*F40 -> 6.596952 | I40: 809 | J40: =H40*E36+(I40)/1000 -> 16.641685
E41: Total | F41: =ROUND(SUM(F40:F40),2) -> 69 | G41: =ROUND(SUM(G40:G40),2) -> 121.99 | H41: =ROUND(SUM(H40:H40),2) -> 6.6 | I41: =ROUND(SUM(I40:I40),2) -> 809 | J41: =ROUND(SUM(J40:J40),2) -> 16.64
B43: LAJE
B45: Descrição | C45: Área de Corte | D45: Perímetro de forma | E45: Comprimento | F45: Forma | G45: Concreto | H45: Aço CA-50 | I45: Escoramento
C46: (A) m | E46: C (m) | F46: m² | G46: m³ | H46: kg | I46: m³
B47: Laje | C47: =(6*0.2)+(2*0.2*0.25) -> 1.3 | D47: =0.32+0.32+0.2+0.2 -> 1.04 | E47: 20 | F47: =D47*E47+2*C47 -> 23.4 | G47: =C47*E47 -> 26 | H47: 1781 | I47: =2*(0.55*E47*1.1) -> 24.2
E48: Total | F48: =ROUND(SUM(F47:F47),2) -> 23.4 | G48: =ROUND(SUM(G47:G47),2) -> 26 | H48: =ROUND(SUM(H47:H47),2) -> 1781 | I48: =ROUND(SUM(I47:I47),2) -> 24.2
