Workbook

Sheet Resumo do Orçamento
A1: ='PO-Sintético'!A1 -> EMPREENDEDOR: PREFEITURA MUNICIPAL DE CENTRO DO GUILHERME-MA
A2: ='PO-Sintético'!A2 -> OBJETO : ESTRADAS VICINAIS-RECUPERAÇÃO
A3: ='PO-Sintético'!A3 -> LOCAL: ESTRADA VICINAL 45 ASSENTAMENTO - CENTRO DO GUILHERME -MA-2,88 KM
B5: Obra | C5: Bancos | D5: B.D.I. | G5: Encargos Sociais
B6: ESTRADAS VICINAIS-RECUPERAÇÃO-2,88 KM | C6: SINAPI - 10/2023 - Maranhão ORSE 10/2023 - Sergipe SEINFRA - 027 - Ceará | D6: 24,23% | G6: Não Desonerado: Horista: 114,05% Mensalista: 71,35%
A7: Planilha Orçamentária Resumida
A8: Item | B8: Descrição | H8: Total | I8: Peso (%)
A9: 1 | B9: Serviços Preliminares | H9: ='PO-Sintético'!I9 -> 58748.079 | I9: =H9/$G$17 -> 0.073712274
A10: 2 | B10: Administração da Obra | H10: ='PO-Sintético'!I13 -> 45934.539 | I10: =H10/$G$17 -> 0.057634895
A11: 3 | B11: ='PO-Sintético'!D18 -> REVESTIMENTO PRIMARIO | H11: ='PO-Sintético'!I18 -> 124136.18 | I11: =H11/$G$17 -> 0.15575591
A12: 4 | B12: ='PO-Sintético'!D22 -> TERRAPLENAGEM | H12: ='PO-Sintético'!I22 -> 173689.04 | I12: =H12/$G$17 -> 0.21793078
A13: 5 | B13: ='PO-Sintético'!D26 -> OBRAS DE ARTE CORRENTE | H13: ='PO-Sintético'!I26 -> 394483.97 | I13: =H13/$G$17 -> 0.49496615
I14: =SUM(I9:I13) -> 1
E17: Total Geral C/BDI | G17: =SUM(H9:H13) -> 796991.81
A18: IMPORTA O PRESENTE ORÇAMENTO NO VALOR DE
A19: ='PO-Sintético'!A32:J32 -> SETECENTOS E NOVENTA E SEIS MIL,NOVECENTOS E NOVENTA E UM REAIS E OITENTA E UM CENTAVOS
C20: ='PO-Sintético'!E33 -> 45261

Sheet PO-Sintético
A1: EMPREENDEDOR: PREFEITURA MUNICIPAL DE CENTRO DO GUILHERME-MA
A2: OBJETO : ESTRADAS VICINAIS-RECUPERAÇÃO
A3: LOCAL: ESTRADA VICINAL 45 ASSENTAMENTO - CENTRO DO GUILHERME -MA-2,88 KM
D5: Obra | E5: Bancos | G5: B.D.I. | I5: Encargos Sociais
D6: ESTRADAS VICINAIS-RECUPERAÇÃO-2,88 KM | E6: SINAPI - 10/2023 - Maranhão ORSE -10/2023 - Sergipe SEINFRA - 027 - Ceará | G6: 24,23% | I6: Não Desonerado: Horista: 114,05% Mensalista: 71,35% | L6: 1.2423
A7: Orçamento Sintético
A8: Item | B8: Código | C8: Banco | D8: Descrição | E8: Und | F8: Quant. | G8: Valor Unit | H8: Valor Unit com BDI | I8: Total | J8: Peso (%)
A9: 1 | D9: Serviços Preliminares | I9: =SUM(I10:I12) -> 58748.079 | J9: =SUM(J10:J12) -> 0.073712274
A10: 1.1 | B10: 51 | C10: ORSE | D10: Placa de obra em chapa aço galvanizado, instalada | E10: m² | F10: ='Memoria de Calculo'!D10 -> 6 | G10: =K10 -> 345.13 | H10: =G10*$L$6 -> 428.755 | I10: =H10*F10 -> 2572.53 | J10: =I10/$H$30 -> 0.0032277998 | K10: 345.13
A11: 1.2 | B11: 93584 | C11: SINAPI | D11: EXECUÇÃO DE DEPÓSITO EM CANTEIRO DE OBRA EM CHAPA DE MADEIRA COMPENSADA, NÃO INCLUSO MOBILIÁRIO. AF_04/2016 | E11: M2 | F11: ='Memoria de Calculo'!D11 -> 20 | G11: =K11 -> 962.65 | H11: =G11*$L$6 -> 1195.9001 | I11: =H11*F11 -> 23918.002 | J11: =I11/$H$30 -> 0.030010348 | K11: 962.65
A12: 1.3 | B12: 1 | C12: CPU | D12: MOBILIZAÇÃO E DESMOBILIZAÇÃO DE EQUIPAMENTOS | E12: UN | F12: ='Memoria de Calculo'!D12 -> 2 | G12: =K12 -> 12982.994 | H12: =G12*$L$6 -> 16128.773 | I12: =H12*F12 -> 32257.547 | J12: =I12/$H$30 -> 0.040474126 | K12: =COMP!G13 -> 12982.994
A13: 2 | D13: Administração da Obra | I13: =SUM(I14:I16) -> 45934.539 | J13: =SUM(J14:J16) -> 0.057634895
A14: 2.1 | B14: 90778 | C14: SINAPI | D14: ENGENHEIRO CIVIL DE OBRA PLENO COM ENCARGOS COMPLEMENTARES | E14: H | F14: ='Memoria de Calculo'!D14 -> 220 | G14: =K14 -> 112.95 | H14: =G14*$L$6 -> 140.31778 | I14: =H14*F14 -> 30869.913 | J14: =I14/$H$30 -> 0.038733036 | K14: 112.95
A15: 2.2 | B15: 90776 | C15: SINAPI | D15: ENCARREGADO GERAL COM ENCARGOS COMPLEMENTARES | E15: H | F15: ='Memoria de Calculo'!D15 -> 220 | G15: =K15 -> 31 | H15: =G15*$L$6 -> 38.5113 | I15: =H15*F15 -> 8472.486 | J15: =I15/$H$30 -> 0.010630581 | K15: 31
A16: 2.3 | B16: 88326 | C16: SINAPI | D16: VIGIA NOTURNO COM ENCARGOS COMPLEMENTARES | E16: H | F16: ='Memoria de Calculo'!D16 -> 220 | G16: =K16 -> 24.12 | H16: =G16*$L$6 -> 29.964276 | I16: =H16*F16 -> 6592.1407 | J16: =I16/$H$30 -> 0.0082712779 | K16: 24.12
A18: 3 | D18: REVESTIMENTO PRIMARIO | I18: =SUM(I19:I21) -> 124136.18 | J18: =I18/$H$30 -> 0.15575591
A19: 3.1 | B19: 99064 | C19: SINAPI | D19: LOCAÇÃO DE PAVIMENTAÇÃO. AF_10/2018 | E19: M | F19: ='Memoria de Calculo'!D19 -> 2880 | G19: =K19 -> 0.43 | H19: =G19*$L$6 -> 0.534189 | I19: =H19*F19 -> 1538.4643 | J19: =I19/$H$30 -> 0.0019303389 | K19: 0.43
A20: 3.2 | B20: 101230 | C20: SINAPI | D20: ESCAVAÇÃO VERTICAL PARA INFRAESTRUTURA, COM CARGA, DESCARGA E TRANSPORTE DE SOLO DE 1ª CATEGORIA, COM ESCAVADEIRA HIDRÁULICA (CAÇAMBA: 0,8 M³ / 111 HP), FROTA DE 3 CAMINHÕES BASCULANTES DE 14 M³, DMT ATÉ 1 KM E VELOCIDADE MÉDIA14 KM/H. AF_05/2020 | E20: M3 | F20: ='Memoria de Calculo'!D20 -> 3456 | G20: =K20 -> 10.94 | H20: =G20*$L$6 -> 13.590762 | I20: =H20*F20 -> 46969.673 | J20: =I20/$H$30 -> 0.058933696 | K20: 10.94
A21: 3.3 | B21: 93589 | C21: SINAPI | D21: TRANSPORTE COM CAMINHÃO BASCULANTE DE 10 M³, EM VIA URBANA EM LEITO NATURAL (UNIDADE: M3XKM). AF_07/2020 | E21: M3XKM | F21: ='Memoria de Calculo'!D21 -> 22464 | G21: =K21 -> 2.71 | H21: =G21*$L$6 -> 3.366633 | I21: =H21*F21 -> 75628.044 | J21: =I21/$H$30 -> 0.094891871 | K21: 2.71
A22: 4 | D22: TERRAPLENAGEM | I22: =SUM(I23:I25) -> 173689.04 | J22: =SUM(J23:J25) -> 0.21793078
A23: 4.1 | B23: 101230 | C23: SINAPI | D23: ESCAVAÇÃO VERTICAL PARA INFRAESTRUTURA, COM CARGA, DESCARGA E TRANSPORTE DE SOLO DE 1ª CATEGORIA, COM ESCAVADEIRA HIDRÁULICA (CAÇAMBA: 0,8 M³ / 111 HP), FROTA DE 3 CAMINHÕES BASCULANTES DE 14 M³, DMT ATÉ 1 KM E VELOCIDADE MÉDIA14 KM/H. AF_05/2020 | E23: M3 | F23: =F20 -> 3456 | G23: =K23 -> 10.94 | H23: =G23*$L$6 -> 13.590762 | I23: =H23*F23 -> 46969.673 | J23: =I23/$H$30 -> 0.058933696 | K23: =K20 -> 10.94
A24: 4.2 | B24: 93589 | C24: SINAPI | D24: TRANSPORTE COM CAMINHÃO BASCULANTE DE 10 M³, EM VIA URBANA EM LEITO NATURAL (UNIDADE: M3XKM). AF_07/2020 | E24: M3XKM | F24: ='Memoria de Calculo'!D24 -> 22464 | G24: =K24 -> 2.71 | H24: =G24*$L$6 -> 3.366633 | I24: =H24*F24 -> 75628.044 | J24: =I24/$H$30 -> 0.094891871 | K24: =K21 -> 2.71
A25: 4.3 | B25: 96388 | C25: SINAPI | D25: EXECUÇÃO E COMPACTAÇÃO DE BASE E OU SUB BASE PARA PAVIMENTAÇÃO DE SOLOS DE COMPORTAMENTO LATERÍTICO (ARENOSO) - EXCLUSIVE SOLO, ESCAVAÇÃO, CARGA E TRANSPORTE. AF_11/2019 | E25: M3 | F25: =F23 -> 3456 | G25: =K25 -> 11.9 | H25: =G25*$L$6 -> 14.78337 | I25: =H25*F25 -> 51091.327 | J25: =I25/$H$30 -> 0.064105209 | K25: 11.9
A26: 5.3 | D26: OBRAS DE ARTE CORRENTE | I26: =SUM(I27:I29) -> 394483.97 | J26: =SUM(J27:J29) -> 0.49496615
A27: 5.3.1 | B27: 102740 | C27: SINAPI | D27: BOCA PARA BUEIRO SIMPLES TUBULAR D = 100 CM EM CONCRETO, ALAS COM ESCONSIDADE DE 0°, INCLUINDO FÔRMAS E MATERIAIS. AF_07/2021 | E27: UN | F27: ='Memoria de Calculo'!D28 -> 46 | G27: =K27 -> 5465.57 | H27: =G27*$L$6 -> 6789.8776 | I27: =H27*F27 -> 312334.37 | J27: =I27/$H$30 -> 0.39189157 | K27: 5465.57
A28: 5.3.2 | B28: C4364 | C28: SEINFRA | D28: LIMPEZA DE BUEIRO, INCLUINDO A RETIRADA DOS ENTULHOS BEM COMO A ROÇADA E LIMPEZA GERAL DAS BOCAS | E28: M | F28: ='Memoria de Calculo'!D29 -> 18 | G28: =K28 -> 18.99 | H28: =G28*$L$6 -> 23.591277 | I28: =H28*F28 -> 424.64299 | J28: =I28/$H$30 -> 0.00053280721 | K28: 18.99
A29: 5.3.3 | B29: 9 | C29: CPU | D29: =COMP!C69 -> CORPO DE BUEIRO BSTC CA1 DN 1,0 M | E29: M | F29: ='Memoria de Calculo'!D30 -> 120 | G29: =K29 -> 548.21 | H29: =G29*$L$6 -> 681.04128 | I29: =H29*F29 -> 81724.954 | J29: =I29/$H$30 -> 0.10254177 | K29: =COMP!G72 -> 548.21
F30: Total Geral C/BDI | H30: =I9+I13+I18+I22+I26 -> 796991.81
A31: IMPORTA O PRESENTE ORÇAMENTO NO VALOR DE
A32: SETECENTOS E NOVENTA E SEIS MIL,NOVECENTOS E NOVENTA E UM REAIS E OITENTA E UM CENTAVOS
E33: 45261
F36: =SUBTOTAL(9,F17:F25) -> 58176

Sheet COMP
A2: COMPOSIÇÃO
A3: CPU | B3: 1 | C3: ='PO-Sintético'!D12 -> MOBILIZAÇÃO E DESMOBILIZAÇÃO DE EQUIPAMENTOS | D3: UND | E3: COEF | F3: PU | G3: TOTAL
A4: SINAPI | B4: 5934 | C4: MOTONIVELADORA POTÊNCIA BÁSICA LÍQUIDA (PRIMEIRA MARCHA) 125 HP, PESO BRUTO 13032 KG, LARGURA DA LÂMINA DE 3,7 M - CHI DIURNO. AF_06/2014 | D4: CHI | E4: 7 | F4: 93.25 | G4: =E4*F4 -> 652.75
A5: SINAPI | B5: 5869 | C5: ROLO COMPACTADOR VIBRATÓRIO TANDEM AÇO LISO, POTÊNCIA 58 HP, PESO SEM/COM LASTRO 6,5 / 9,4 T, LARGURA DE TRABALHO 1,2 M - CHI DIURNO. AF_06/2014 | D5: CHI | E5: 7 | F5: 71.62 | G5: =E5*F5 -> 501.34
A6: SINAPI | B6: 5881 | C6: ROLO COMPACTADOR VIBRATÓRIO PÉ DE CARNEIRO, OPERADO POR CONTROLE REMOTO, POTÊNCIA 12,5 KW, PESO OPERACIONAL 1,675 T, LARGURA DE TRABALHO 0,85 M - CHI DIURNO. AF_02/2016 | D6: CHI | E6: 7 | F6: 77.25 | G6: =E6*F6 -> 540.75
A7: SINAPI | B7: 5849 | C7: TRATOR DE ESTEIRAS, POTÊNCIA 170 HP, PESO OPERACIONAL 19 T, CAÇAMBA 5,2 M3 - CHI DIURNO. AF_06/2014 | D7: CHI | E7: 7 | F7: 80.65 | G7: =E7*F7 -> 564.55
A8: SINAPI | B8: 5632 | C8: ESCAVADEIRA HIDRÁULICA SOBRE ESTEIRAS, CAÇAMBA 0,80 M3, PESO OPERACIONAL 17 T, POTENCIA BRUTA 111 HP - CHI DIURNO. AF_06/2014 | D8: CHI | E8: 7 | F8: 81.94 | G8: =E8*F8 -> 573.58
A9: SINAPI | B9: 5942 | C9: PÁ CARREGADEIRA SOBRE RODAS, POTÊNCIA LÍQUIDA 128 HP, CAPACIDADE DA CAÇAMBA 1,7 A 2,8 M3, PESO OPERACIONAL 11632 KG - CHI DIURNO. AF_06/2014 | D9: CHI | E9: 7 | F9: 68.4 | G9: =E9*F9 -> 478.8
A10: SINAPI | B10: 90982 | C10: COMPRESSOR DE AR REBOCÁVEL, VAZÃO 748 PCM, PRESSÃO EFETIVA DE TRABALHO 102 PSI, MOTOR DIESEL, POTÊNCIA 210 CV - CHI DIURNO. AF_06/2015 | D10: CHI | E10: 7 | F10: 21.43 | G10: =E10*F10 -> 150.01
A11: SINAPI | B11: 92044 | C11: DISTRIBUIDOR DE AGREGADOS REBOCAVEL, CAPACIDADE 1,9 M³, LARGURA DE TRABALHO 3,66 M - CHI DIURNO. AF_11/2015 | D11: CHI | E11: 7 | F11: 7.8 | G11: =E11*F11 -> 54.6
A12: SINAPI | B12: 89876 | C12: CAMINHÃO BASCULANTE 14 M3, COM CAVALO MECÂNICO DE CAPACIDADE MÁXIMA DE TRAÇÃO COMBINADO DE 36000 KG, POTÊNCIA 286 CV, INCLUSIVE SEMIREBOQUE COM CAÇAMBA METÁLICA - CHP DIURNO. AF_12/2014 | D12: CHP | E12: 29.00755 | F12: 326.35 | G12: =E12*F12 -> 9466.614
F13: TOTAL | G13: =SUM(G4:G12) -> 12982.994
A15: CPU | B15: 2 | C15: TABULEIRO DE MADEIRA | D15: M3 | E15: COEF | F15: PU | G15: TOTAL
A16: SINAPI | B16: 88261 | C16: CARPINTEIRO DE ESQUADRIA COM ENCARGOS COMPLEMENTARES | D16: H | E16: 6 | F16: 23.98 | G16: =E16*F16 -> 143.88
A17: SINAPI | B17: 88239 | C17: AJUDANTE DE CARPINTEIRO COM ENCARGOS COMPLEMENTARES | D17: H | E17: 4 | F17: =F35 -> 19.94 | G17: =E17*F17 -> 79.76
A18: SINAPI-I | B18: 4006 | C18: MADEIRA SERRADA NAO APARELHADA DE PINUS, MISTA OU EQUIVALENTE DA REGIAO | D18: M3 | E18: 1 | F18: =F36 -> 2640.18 | G18: =E18*F18 -> 2640.18
A19: SINAPI-I | B19: 5061 | C19: PREGO DE ACO POLIDO COM CABECA 18 X 27 (2 1/2 X 10) | D19: KG | E19: 160 | F19: =F37 -> 19.35 | G19: =E19*F19 -> 3096
A20: SINAPI-I | B20: 428 | C20: PARAFUSO M16 EM ACO GALVANIZADO, COMPRIMENTO = 500 MM, DIAMETRO = 16 MM, ROSCA MAQUINA, COM CABECA SEXTAVADA E PORCA | D20: UN | E20: 40 | F20: =F38 -> 38.2 | G20: =E20*F20 -> 1528
A21: EMOP | B21: 4652 | C21: MOTOR SERRA MOTOR A GASOLINA | D21: H | E21: 1 | F21: =F30 -> 1214.37 | G21: =E21*F21 -> 1214.37
F22: TOTAL | G22: =SUM(G16:G21) -> 8702.19
A24: CPU | B24: 3 | C24: LONGARINA DE MADEIRA | D24: M3 | E24: COEF | F24: PU | G24: TOTAL
A25: SINAPI | B25: 88261 | C25: CARPINTEIRO DE ESQUADRIA COM ENCARGOS COMPLEMENTARES | D25: H | E25: 6 | F25: =F16 -> 23.98 | G25: =E25*F25 -> 143.88
A26: SINAPI | B26: 88239 | C26: AJUDANTE DE CARPINTEIRO COM ENCARGOS COMPLEMENTARES | D26: H | E26: 4 | F26: =F35 -> 19.94 | G26: =E26*F26 -> 79.76
A27: SINAPI-I | B27: 4006 | C27: MADEIRA SERRADA NAO APARELHADA DE PINUS, MISTA OU EQUIVALENTE DA REGIAO | D27: M3 | E27: 1 | F27: =F18 -> 2640.18 | G27: =E27*F27 -> 2640.18
A28: SINAPI-I | B28: 5061 | C28: PREGO DE ACO POLIDO COM CABECA 18 X 27 (2 1/2 X 10) | D28: KG | E28: 160 | F28: =F19 -> 19.35 | G28: =E28*F28 -> 3096
A29: SINAPI-I | B29: 428 | C29: PARAFUSO M16 EM ACO GALVANIZADO, COMPRIMENTO = 500 MM, DIAMETRO = 16 MM, ROSCA MAQUINA, COM CABECA SEXTAVADA E PORCA | D29: UN | E29: 40 | F29: =F20 -> 38.2 | G29: =E29*F29 -> 1528
A30: EMOP | B30: 4652 | C30: MOTOR SERRA MOTOR A GASOLINA | D30: UND | E30: 1 | F30: =F39 -> 1214.37 | G30: =E30*F30 -> 1214.37
F31: TOTAL | G31: =SUM(G25:G30) -> 8702.19
A33: CPU | B33: 4 | C33: TRANSVERSINAA DE MADEIRA | D33: M3 | E33: COEF | F33: PU | G33: TOTAL
A34: SINAPI | B34: 88261 | C34: CARPINTEIRO DE ESQUADRIA COM ENCARGOS COMPLEMENTARES | D34: H | E34: 6 | F34: =F25 -> 23.98 | G34: =E34*F34 -> 143.88
A35: SINAPI | B35: 88239 | C35: AJUDANTE DE CARPINTEIRO COM ENCARGOS COMPLEMENTARES | D35: H | E35: 4 | F35: 19.94 | G35: =E35*F35 -> 79.76
A36: SINAPI-I | B36: 4006 | C36: MADEIRA SERRADA NAO APARELHADA DE PINUS, MISTA OU EQUIVALENTE DA REGIAO | D36: M3 | E36: 1 | F36: 2640.18 | G36: =E36*F36 -> 2640.18
A37: SINAPI-I | B37: 5061 | C37: PREGO DE ACO POLIDO COM CABECA 18 X 27 (2 1/2 X 10) | D37: KG | E37: 160 | F37: 19.35 | G37: =E37*F37 -> 3096
A38: SINAPI-I | B38: 428 | C38: PARAFUSO M16 EM ACO GALVANIZADO, COMPRIMENTO = 500 MM, DIAMETRO = 16 MM, ROSCA MAQUINA, COM CABECA SEXTAVADA E PORCA | D38: UN | E38: 40 | F38: 38.2 | G38: =E38*F38 -> 1528
A39: EMOP | B39: 4652 | C39: MOTOR SERRA MOTOR A GASOLINA | D39: UND | E39: 1 | F39: 1214.37 | G39: =E39*F39 -> 1214.37
F40: TOTAL | G40: =SUM(G34:G39) -> 8702.19
A41: CPU | B41: 5 | C41: PASSA RODA DE MADEIRA | D41: M3 | E41: COEF | F41: PU | G41: TOTAL
A42: SINAPI | B42: 88261 | C42: CARPINTEIRO DE ESQUADRIA COM ENCARGOS COMPLEMENTARES | D42: H | E42: 6 | F42: =F34 -> 23.98 | G42: =E42*F42 -> 143.88
A43: SINAPI | B43: 88239 | C43: AJUDANTE DE CARPINTEIRO COM ENCARGOS COMPLEMENTARES | D43: H | E43: 4 | F43: =F35 -> 19.94 | G43: =E43*F43 -> 79.76
A44: SINAPI-I | B44: 4006 | C44: MADEIRA SERRADA NAO APARELHADA DE PINUS, MISTA OU EQUIVALENTE DA REGIAO | D44: M3 | E44: 1 | F44: =F36 -> 2640.18 | G44: =E44*F44 -> 2640.18
...

Sheet comp pontes
C2: POVOADO SÃO BENEDITO A AGUAS BELAS
A3: CPU | B3: 11 | C3: PONTE (3Mx5Mx2M)
C4: Movimento de Terra | H4: =SUM(H5:H8) -> 5333.7839 | I4: =SUM(I5:I8) -> 0.041751389
A5: 96521 | B5: SINAPI | C5: ESCAVAÇÃO MECANIZADA PARA BLOCO DE COROAMENTO OU SAPATA COM RETROESCAVADEIRA (INCLUINDO ESCAVAÇÃO PARA COLOCAÇÃO DE FÔRMAS). AF_06/2017 | D5: M3 | E5: =9*1.5*1.5*1.5+5*0.8*0.8*3 -> 39.975 | F5: 38.15 | G5: =F5*1.2423 -> 47.393745 | H5: =G5*E5 -> 1894.565 | I5: =H5/$H$28 -> 0.014830132
A6: 94319 | B6: SINAPI | C6: ATERRO MANUAL DE VALAS COM SOLO ARGILO-ARENOSO E COMPACTAÇÃO MECANIZADA. AF_05/2016 | D6: M3 | E6: =E5*0.9 -> 35.9775 | F6: 72.07 | G6: =F6*1.2423 -> 89.532561 | H6: =G6*E6 -> 3221.1577 | I6: =H6/$H$28 -> 0.025214334
A7: 100982 | B7: SINAPI | C7: CARGA, MANOBRA E DESCARGA DE ENTULHO EM CAMINHÃO BASCULANTE 10 M³ - CARGA COM ESCAVADEIRA HIDRÁULICA (CAÇAMBA DE 0,80 M³ / 111 HP) E DESCARGA LIVRE (UNIDADE: M3). AF_07/2020 | D7: M3 | E7: =E5-E6 -> 3.9975 | F7: 7.9 | G7: =F7*1.2423 -> 9.81417 | H7: =G7*E7 -> 39.232145 | I7: =H7/$H$28 -> 0.00030709841
A8: 93588 | B8: SINAPI | C8: TRANSPORTE COM CAMINHÃO BASCULANTE DE 10 M³, EM VIA URBANA EM LEITO NATURAL (UNIDADE: M3XKM). AF_07/2020 | D8: M3XKM | E8: =E7*10*1.3 -> 51.9675 | F8: 2.77 | G8: =F8*1.2423 -> 3.441171 | H8: =G8*E8 -> 178.82905 | I8: =H8/$H$28 -> 0.0013998245
C9: Infraestrutura | H9: =SUM(H10:H16) -> 71089.509 | I9: =SUM(I10:I16) -> 0.55646907
A10: C1293 | B10: SEINFRA | C10: ESTACA DE MADEIRA CONDIÇÕES FAVORÁVEIS D= 25cm P/8 A 10T | D10: M | E10: =9*4*5 -> 180 | F10: 86.47 | G10: =F10*1.2423 -> 107.42168 | H10: =G10*E10 -> 19335.903 | I10: =H10/$H$28 -> 0.15135611
A11: 96535 | B11: SINAPI | C11: FABRICAÇÃO, MONTAGEM E DESMONTAGEM DE FÔRMA PARA SAPATA, EM MADEIRA SERRADA, E=25 MM, 4 UTILIZAÇÕES. AF_06/2017 | D11: M2 | E11: =9*1.5*1.5*2 -> 40.5 | F11: 151.01 | G11: =F11*1.2423 -> 187.59972 | H11: =G11*E11 -> 7597.7888 | I11: =H11/$H$28 -> 0.059473396
A12: 96619 | B12: SINAPI | C12: LASTRO DE CONCRETO MAGRO, APLICADO EM BLOCOS DE COROAMENTO OU SAPATAS, ESPESSURA DE 5 CM. AF_08/2017 | D12: M2 | E12: =9*1.5*1.5 -> 20.25 | F12: 29.12 | G12: =F12*1.2423 -> 36.175776 | H12: =G12*E12 -> 732.55946 | I12: =H12/$H$28 -> 0.0057342735
A13: 102487 | B13: SINAPI | C13: CONCRETO CICLÓPICO FCK = 15MPA, 30% PEDRA DE MÃO EM VOLUME REAL, INCLUSIVE LANÇAMENTO. AF_05/2021 | D13: M3 | E13: =5*0.8*0.8*3 -> 9.6 | F13: 522.47 | G13: =F13*1.2423 -> 649.06448 | H13: =G13*E13 -> 6231.019 | I13: =H13/$H$28 -> 0.048774699
A14: 104486 | B14: SINAPI | C14: ESTRUTURA DE CONCRETO ARMADO (SAPATAS) | D14: M3 | E14: =9*0.8*0.8*1.5 -> 8.64 | F14: 3307.35 | G14: =F14*1.2423 -> 4108.7209 | H14: =G14*E14 -> 35499.349 | I14: =H14/$H$28 -> 0.27787911
A15: 100950 | B15: SINAPI | C15: TRANSPORTE COM CAMINHÃO CARROCERIA COM GUINDAUTO (MUNCK), MOMENTO MÁXIMO DE CARGA 11,7 TM, EM VIA URBANA EM LEITO NATURAL (UNIDADE: TXKM). AF_07/2020 | D15: TXKM | E15: =(3.14*0.25^2/4*E10)/2.83*10 -> 31.20583 | F15: 3.14 | G15: =F15*1.2423 -> 3.900822 | H15: =G15*E15 -> 121.72839 | I15: =H15/$H$28 -> 0.00095285627
A16: 5940 | B16: SINAPI | C16: PÁ CARREGADEIRA SOBRE RODAS, POTÊNCIA LÍQUIDA 128 HP, CAPACIDADE DA CAÇAMBA 1,7 A 2,8 M3, PESO OPERACIONAL 11632 KG - CHP DIURNO. AF_06/2014 | D16: CHP | E16: 8 | F16: 158.09 | G16: =F16*1.2423 -> 196.39521 | H16: =G16*E16 -> 1571.1617 | I16: =H16/$H$28 -> 0.01229862
C17: Mesoestrutura e Superestrutura | H17: =SUM(H18:H25) -> 50909.6 | I17: =SUM(I18:I25) -> 0.39850631
A18: 2 | B18: CPU | C18: TABULEIRO DE MADEIRA DE LEI -FORNECIMENTO E INSTALAÇÃO | D18: M3 | E18: =5*3*0.08 -> 1.2 | F18: =COMP!G22 -> 8702.19 | G18: =F18*1.2423 -> 10810.731 | H18: =G18*E18 -> 12972.877 | I18: =H18/$H$28 -> 0.1015481
A19: 3 | B19: CPU | C19: LONGARINA DE MADEIRA DE LEI - FORNECIMMENTO E INSTALAÇÃO | D19: M3 | E19: =3*2*0.2*0.3 -> 0.36 | F19: =F18 -> 8702.19 | G19: =F19*1.2423 -> 10810.731 | H19: =G19*E19 -> 3891.863 | I19: =H19/$H$28 -> 0.030464431
A20: 4 | B20: CPU | C20: TRANSVERSINAS DE MADEIRA DE LEI -FORNECIMENTO E INSTALAÇÃO(CABECEIRAE CENTRAL) | D20: M3 | E20: =3*5*0.2*0.3 -> 0.9 | F20: =F19 -> 8702.19 | G20: =F20*1.2423 -> 10810.731 | H20: =G20*E20 -> 9729.6576 | I20: =H20/$H$28 -> 0.076161077
A21: 4 | B21: CPU | C21: TRANSVERSINAS DE MADEIRA DE LEI -FORNECIMENTO E INSTALAÇÃO(LONGITUDINAIS) | D21: M3 | E21: =20*0.15*0.25 -> 0.75 | F21: =F20 -> 8702.19 | G21: =F21*1.2423 -> 10810.731 | H21: =G21*E21 -> 8108.048 | I21: =H21/$H$28 -> 0.063467564
A22: 5 | B22: CPU | C22: PASSA RODAS DE MADEIRA DE LEI -FORNECIMENTO E INSTLAÇÃO | D22: M3 | E22: =2*3*0.8*0.05 -> 0.24 | F22: =COMP!G48 -> 7541.19 | G22: =F22*1.2423 -> 9368.4203 | H22: =G22*E22 -> 2248.4209 | I22: =H22/$H$28 -> 0.017600019
A23: 7209 | B23: ORSE | C23: Guarda-corpo em peça de madeira massaranduba 10 x 10 cm, alt = 1,00m, espaçamento entre as colunas de 1,00m e peça vertical de 10 x 10 cm | D23: M2 | E23: 6 | F23: 553.78 | G23: =F23*1.2423 -> 687.96089 | H23: =G23*E23 -> 4127.7654 | I23: =H23/$H$28 -> 0.032311009
A24: 6 | B24: CPU | C24: PILAR DE MADEIRA DE LEI -FORNECIMENTO E INSTALAÇÃO | D24: M3 | E24: =2*9*0.2*0.25 -> 0.9 | F24: =F21 -> 8702.19 | G24: =F24*1.2423 -> 10810.731 | H24: =G24*E24 -> 9729.6576 | I24: =H24/$H$28 -> 0.076161077
A25: 100950 | B25: SINAPI | C25: TRANSPORTE COM CAMINHÃO CARROCERIA COM GUINDAUTO (MUNCK), MOMENTO MÁXIMO DE CARGA 11,7 TM, EM VIA URBANA EM LEITO NATURAL (UNIDADE: TXKM). AF_07/2020 | D25: TXKM | E25: =10*(E18+E19+E20+E21+E22+E24+30*0.1)/2.83 -> 25.971731 | F25: =F15 -> 3.14 | G25: =F25*1.2423 -> 3.900822 | H25: =G25*E25 -> 101.3111 | I25: =H25/$H$28 -> 0.00079303537
C26: Pintura | H26: =H27 -> 418.15818 | I26: =I27 -> 0.0032732269
A27: 102234 | B27: SINAPI | C27: PINTURA IMUNIZANTE PARA MADEIRA, 2 DEMÃOS. AF_01/2021 | D27: M2 | E27: 15 | F27: 22.44 | G27: =F27*1.2423 -> 27.877212 | H27: =G27*E27 -> 418.15818 | I27: =H27/$H$28 -> 0.0032732269
G28: TOTAL | H28: =H4+H9+H17+H26 -> 127751.05 | I28: =I4+I9+I17+I26 -> 1
A29: CPU | B29: 12 | C29: PONTE (6Mx5Mx2M)
C30: Movimento de Terra | H30: =SUM(H31:H34) -> 7111.7118 | I30: =SUM(I31:I34) -> 0.037234337
A31: 96521 | B31: SINAPI | C31: ESCAVAÇÃO MECANIZADA PARA BLOCO DE COROAMENTO OU SAPATA COM RETROESCAVADEIRA (INCLUINDO ESCAVAÇÃO PARA COLOCAÇÃO DE FÔRMAS). AF_06/2017 | D31: M3 | E31: =12*1.5*1.5*1.5+5*0.8*0.8*4 -> 53.3 | F31: 38.15 | G31: =F31*1.2423 -> 47.393745 | H31: =G31*E31 -> 2526.0866 | I31: =H31/$H$54 -> 0.013225671
A32: 94319 | B32: SINAPI | C32: ATERRO MANUAL DE VALAS COM SOLO ARGILO-ARENOSO E COMPACTAÇÃO MECANIZADA. AF_05/2016 | D32: M3 | E32: =E31*0.9 -> 47.97 | F32: 72.07 | G32: =F32*1.2423 -> 89.532561 | H32: =G32*E32 -> 4294.877 | I32: =H32/$H$54 -> 0.022486414
A33: 100982 | B33: SINAPI | C33: CARGA, MANOBRA E DESCARGA DE ENTULHO EM CAMINHÃO BASCULANTE 10 M³ - CARGA COM ESCAVADEIRA HIDRÁULICA (CAÇAMBA DE 0,80 M³ / 111 HP) E DESCARGA LIVRE (UNIDADE: M3). AF_07/2020 | D33: M3 | E33: =E31-E32 -> 5.33 | F33: 7.9 | G33: =F33*1.2423 -> 9.81417 | H33: =G33*E33 -> 52.309526 | I33: =H33/$H$54 -> 0.00027387366
A34: 93588 | B34: SINAPI | C34: TRANSPORTE COM CAMINHÃO BASCULANTE DE 10 M³, EM VIA URBANA EM LEITO NATURAL (UNIDADE: M3XKM). AF_07/2020 | D34: M3XKM | E34: =E33*10*1.3 -> 69.29 | F34: 2.77 | G34: =F34*1.2423 -> 3.441171 | H34: =G34*E34 -> 238.43874 | I34: =H34/$H$54 -> 0.0012483785
C35: Infraestrutura | H35: =SUM(H36:H42) -> 94262.291 | I35: =SUM(I36:I42) -> 0.49352308
A36: C1293 | B36: SEINFRA | C36: ESTACA DE MADEIRA CONDIÇÕES FAVORÁVEIS D= 25cm P/8 A 10T | D36: M | E36: =12*4*5 -> 240 | F36: 86.47 | G36: =F36*1.2423 -> 107.42168 | H36: =G36*E36 -> 25781.203 | I36: =H36/$H$54 -> 0.13498101
A37: 96535 | B37: SINAPI | C37: FABRICAÇÃO, MONTAGEM E DESMONTAGEM DE FÔRMA PARA SAPATA, EM MADEIRA SERRADA, E=25 MM, 4 UTILIZAÇÕES. AF_06/2017 | D37: M2 | E37: =12*1.5*1.5*2 -> 54 | F37: 151.01 | G37: =F37*1.2423 -> 187.59972 | H37: =G37*E37 -> 10130.385 | I37: =H37/$H$54 -> 0.053039012
A38: 96619 | B38: SINAPI | C38: LASTRO DE CONCRETO MAGRO, APLICADO EM BLOCOS DE COROAMENTO OU SAPATAS, ESPESSURA DE 5 CM. AF_08/2017 | D38: M2 | E38: =12*1.5*1.5 -> 27 | F38: 29.12 | G38: =F38*1.2423 -> 36.175776 | H38: =G38*E38 -> 976.74595 | I38: =H38/$H$54 -> 0.0051138866
A39: 102487 | B39: SINAPI | C39: CONCRETO CICLÓPICO FCK = 15MPA, 30% PEDRA DE MÃO EM VOLUME REAL, INCLUSIVE LANÇAMENTO. AF_05/2021 | D39: M3 | E39: =5*0.8*0.8*4 -> 12.8 | F39: 522.47 | G39: =F39*1.2423 -> 649.06448 | H39: =G39*E39 -> 8308.0254 | I39: =H39/$H$54 -> 0.043497799
A40: 104486 | B40: SINAPI | C40: ESTRUTURA DE CONCRETO ARMADO (SAPATAS) | D40: M3 | E40: =12*0.8*0.8*1.5 -> 11.52 | F40: 3307.35 | G40: =F40*1.2423 -> 4108.7209 | H40: =G40*E40 -> 47332.465 | I40: =H40/$H$54 -> 0.24781557
A41: 100950 | B41: SINAPI | C41: TRANSPORTE COM CAMINHÃO CARROCERIA COM GUINDAUTO (MUNCK), MOMENTO MÁXIMO DE CARGA 11,7 TM, EM VIA URBANA EM LEITO NATURAL (UNIDADE: TXKM). AF_07/2020 | D41: TXKM | E41: =(3.14*0.25^2/4*E36)/2.83*10 -> 41.607774 | F41: 3.14 | G41: =F41*1.2423 -> 3.900822 | H41: =G41*E41 -> 162.30452 | I41: =H41/$H$54 -> 0.00084976744
...

Sheet Curva ABC Serviços
A1: ='PO-Analítica'!A1 -> EMPREENDEDOR: PREFEITURA MUNICIPAL DE CENTRO DO GUILHERME-MA
A2: ='PO-Analítica'!A2 -> OBJETO : ESTRADAS VICINAIS-RECUPERAÇÃO
A3: ='PO-Analítica'!A3 -> LOCAL: ESTRADA VICINAL 45 ASSENTAMENTO - CENTRO DO GUILHERME -MA-2,88 KM
C5: Obra
C6: ='Resumo do Orçamento'!B6 -> ESTRADAS VICINAIS-RECUPERAÇÃO-2,88 KM
A7: Curva ABC de Serviços
A8: Código | B8: Banco | C8: Descrição | D8: UND | E8: Quant. | F8: Valor Unit | G8: Total | H8: Peso (%) | I8: Peso Acumulado (%)
A9: 102740 | B9: SINAPI | C9: BOCA PARA BUEIRO SIMPLES TUBULAR D = 100 CM EM CONCRETO, ALAS COM ESCONSIDADE DE 0°, INCLUINDO FÔRMAS E MATERIAIS. AF_07/2021 | D9: UN | E9: 46 | F9: ='PO-Sintético'!H27 -> 6789.8776 | G9: =E9*F9 -> 312334.37 | H9: =G9/$G$16 -> 0.45114868 | I9: =H9 -> 0.45114868
A10: 93589 | B10: SINAPI | C10: TRANSPORTE COM CAMINHÃO BASCULANTE DE 10 M³, EM VIA URBANA EM LEITO NATURAL (UNIDADE: M3XKM). AF_07/2020 | D10: M3XKM | E10: ='PO-Sintético'!F21*2 -> 44928 | F10: ='PO-Sintético'!H24 -> 3.366633 | G10: =E10*F10 -> 151256.09 | H10: =G10/$G$16 -> 0.21848055 | I10: =H10+I9 -> 0.66962923
A11: 101230 | B11: SINAPI | C11: ESCAVAÇÃO VERTICAL PARA INFRAESTRUTURA, COM CARGA, DESCARGA E TRANSPORTE DE SOLO DE 1ª CATEGORIA, COM ESCAVADEIRA HIDRÁULICA (CAÇAMBA: 0,8 M³ / 111 HP), FROTA DE 3 CAMINHÕES BASCULANTES DE 14 M³, DMT ATÉ 1 KM E VELOCIDADE MÉDIA14 KM/H. AF_05/2020 | D11: M3 | E11: ='PO-Sintético'!F20*2 -> 6912 | F11: ='PO-Sintético'!H23 -> 13.590762 | G11: =E11*F11 -> 93939.347 | H11: =G11/$G$16 -> 0.13568988 | I11: =H11+I10 -> 0.80531911
A12: 9 | B12: CPU | C12: CORPO DE BUEIRO BSTC CA1 DN 1,0 M | D12: M | E12: 120 | F12: ='PO-Sintético'!H29 -> 681.04128 | G12: =E12*F12 -> 81724.954 | H12: =G12/$G$16 -> 0.1180469 | I12: =H12+I11 -> 0.92336601
A13: 96388 | B13: SINAPI | C13: EXECUÇÃO E COMPACTAÇÃO DE BASE E OU SUB BASE PARA PAVIMENTAÇÃO DE SOLOS DE COMPORTAMENTO LATERÍTICO (ARENOSO) - EXCLUSIVE SOLO, ESCAVAÇÃO, CARGA E TRANSPORTE. AF_11/2019 | D13: M3 | E13: ='PO-Sintético'!F25 -> 3456 | F13: ='PO-Sintético'!H25 -> 14.78337 | G13: =E13*F13 -> 51091.327 | H13: =G13/$G$16 -> 0.073798426 | I13: =H13+I12 -> 0.99716444
A14: 99064 | B14: SINAPI | C14: LOCAÇÃO DE PAVIMENTAÇÃO. AF_10/2018 | D14: M | E14: ='PO-Sintético'!F19 -> 2880 | F14: ='PO-Sintético'!H19 -> 0.534189 | G14: =E14*F14 -> 1538.4643 | H14: =G14/$G$16 -> 0.0022222215 | I14: =H14+I13 -> 0.99938666
A15: C4364 | B15: SEINFRA | C15: LIMPEZA DE BUEIRO, INCLUINDO A RETIRADA DOS ENTULHOS BEM COMO A ROÇADA E LIMPEZA GERAL DAS BOCAS | D15: M | E15: 18 | F15: 23.59 | G15: =E15*F15 -> 424.62 | H15: =G15/$G$16 -> 0.00061333869 | I15: =H15+I14 -> 1
F16: TOTAL | G16: =SUM(G9:G15) -> 692309.17 | H16: =SUM(H9:H15) -> 1
E19: =SUBTOTAL(9,E9:E18) -> 58360 | G19: ='Resumo do Orçamento'!G17-'Curva ABC Serviços'!G16 -> 104682.64
A24: {=UPPER([2]!VExtenso(G22))} -> #NAME?

Sheet Cronograma
A1: ='PO-Analítica'!A1 -> EMPREENDEDOR: PREFEITURA MUNICIPAL DE CENTRO DO GUILHERME-MA
A2: ='PO-Analítica'!A2 -> OBJETO : ESTRADAS VICINAIS-RECUPERAÇÃO
A3: ='PO-Analítica'!A3 -> LOCAL: ESTRADA VICINAL 45 ASSENTAMENTO - CENTRO DO GUILHERME -MA-2,88 KM
B5: Obra | C5: Bancos | D5: B.D.I. | F5: Encargos Sociais
B6: ='Resumo do Orçamento'!B6 -> ESTRADAS VICINAIS-RECUPERAÇÃO-2,88 KM | C6: ='Resumo do Orçamento'!C6 -> SINAPI - 10/2023 - Maranhão ORSE 10/2023 - Sergipe SEINFRA - 027 - Ceará | D6: 24,23% | F6: Não Desonerado: Horista: 114,05% Mensalista: 71,35%
A7: Cronograma Físico e Financeiro
A8: Item | B8: Descrição | C8: Total Por Etapa | D8: 30 DIAS | E8: 60 DIAS | F8: 90 DIAS | G8: 120 DIAS | H8: TOTAL
A9: 1 | B9: Serviços Preliminares | C9: ='PO-Sintético'!I9 -> 58748.079 | D9: =C9 -> 58748.079 | H9: =SUM(D9:G9) -> 58748.079
A10: 2 | B10: Administração da Obra | C10: ='PO-Sintético'!I13 -> 45934.539 | D10: =$C$10/4 -> 11483.635 | E10: =$C$10/4 -> 11483.635 | F10: =$C$10/4 -> 11483.635 | G10: =$C$10/4 -> 11483.635 | H10: =SUM(D10:G10) -> 45934.539
A11: 3 | B11: ='Resumo do Orçamento'!B11:G11 -> REVESTIMENTO PRIMARIO | C11: ='PO-Sintético'!I18 -> 124136.18 | D11: =$C$11/4 -> 31034.045 | E11: =$C$11/4 -> 31034.045 | F11: =$C$11/4 -> 31034.045 | G11: =$C$11/4 -> 31034.045 | H11: =SUM(D11:G11) -> 124136.18
A12: 4 | B12: ='PO-Sintético'!D22 -> TERRAPLENAGEM | C12: ='PO-Sintético'!I22 -> 173689.04 | D12: =$C$12/4 -> 43422.261 | E12: =$C$12/4 -> 43422.261 | F12: =$C$12/4 -> 43422.261 | G12: =$C$12/4 -> 43422.261 | H12: =SUM(D12:G12) -> 173689.04
A13: 5 | B13: ='PO-Sintético'!D26 -> OBRAS DE ARTE CORRENTE | C13: ='PO-Sintético'!I26 -> 394483.97 | D13: =$C$13/4 -> 98620.992 | E13: =$C$13/4 -> 98620.992 | F13: =$C$13/4 -> 98620.992 | G13: =$C$13/4 -> 98620.992 | H13: =SUM(D13:G13) -> 394483.97
B14: TOTAL | C14: =SUM(C9:C13) -> 796991.81 | D14: =SUM(D9:D13) -> 243309.01 | E14: =SUM(E9:E13) -> 184560.93 | F14: =SUM(F9:F13) -> 184560.93 | G14: =SUM(G9:G13) -> 184560.93 | H14: =SUM(D14:G14) -> 796991.81
C15: PORCENTAGEM | D15: =D14/$C$14 -> 0.30528421 | E15: =E14/$C$14 -> 0.23157193 | F15: =F14/$C$14 -> 0.23157193 | G15: =G14/$C$14 -> 0.23157193
C16: PORCENTAGEM ACUMULADA | D16: =D15 -> 0.30528421 | E16: =D16+E15 -> 0.53685614 | F16: =F15+E16 -> 0.76842807 | G16: =G15+F16 -> 1
C17: CUSTO ACUMULADO | D17: =D14 -> 243309.01 | E17: =E14+D17 -> 427869.94 | F17: =F14+E17 -> 612430.88 | G17: =G14+F17 -> 796991.81

Sheet Memoria de Calculo
A1: ='PO-Sintético'!$A$1 -> EMPREENDEDOR: PREFEITURA MUNICIPAL DE CENTRO DO GUILHERME-MA
A2: ='PO-Sintético'!$A$2 -> OBJETO : ESTRADAS VICINAIS-RECUPERAÇÃO
A3: ='PO-Sintético'!$A$3 -> LOCAL: ESTRADA VICINAL 45 ASSENTAMENTO - CENTRO DO GUILHERME -MA-2,88 KM
A6: MEMORIA DE CÁLCULO
A7: Descrição | B7: Und | C7: Quant. | D7: QUANTIDADE
A9: Serviços Preliminares
A10: Placa de obra em chapa aço galvanizado, instalada | B10: m² | C10: 6 | D10: 6
A11: EXECUÇÃO DE DEPÓSITO EM CANTEIRO DE OBRA EM CHAPA DE MADEIRA COMPENSADA, NÃO INCLUSO MOBILIÁRIO. AF_04/2016 | B11: M2 | C11: 20 | D11: 20
A12: MOBILIZAÇÃO E DESMOBILIZAÇÃO DE EQUIPAMENTOS | B12: UN | C12: 2 | D12: 2
A13: Administração da Obra | C13: 30
A14: ENGENHEIRO CIVIL DE OBRA PLENO COM ENCARGOS COMPLEMENTARES | B14: H | D14: 220
A15: ENCARREGADO GERAL COM ENCARGOS COMPLEMENTARES | B15: H | C15: 220 | D15: 220
A16: VIGIA NOTURNO COM ENCARGOS COMPLEMENTARES | B16: H | C16: 220 | D16: 220
C17: 220
A18: REVESTIMENTO PRIMARIO
A19: LOCAÇÃO DE PAVIMENTAÇÃO. AF_10/2018 | B19: M | C19: 7843 | D19: 2880
A20: ESCAVAÇÃO VERTICAL PARA INFRAESTRUTURA, COM CARGA, DESCARGA E TRANSPORTE DE SOLO DE 1ª CATEGORIA, COM ESCAVADEIRA HIDRÁULICA (CAÇAMBA: 0,8 M³ / 111 HP), FROTA DE 3 CAMINHÕES BASCULANTES DE 14 M³, DMT ATÉ 1 KM E VELOCIDADE MÉDIA14 KM/H. AF_05/2020 | B20: M3 | C20: 7843 | D20: =D19*0.2*6 -> 3456
A21: TRANSPORTE COM CAMINHÃO BASCULANTE DE 10 M³, EM VIA URBANA EM LEITO NATURAL (UNIDADE: M3XKM). AF_07/2020 | B21: M3XKM | C21: 47058 | D21: =D20*1.3*5 -> 22464
A22: TERRAPLENAGEM
A23: ESCAVAÇÃO VERTICAL PARA INFRAESTRUTURA, COM CARGA, DESCARGA E TRANSPORTE DE SOLO DE 1ª CATEGORIA, COM ESCAVADEIRA HIDRÁULICA (CAÇAMBA: 0,8 M³ / 111 HP), FROTA DE 3 CAMINHÕES BASCULANTES DE 14 M³, DMT ATÉ 1 KM E VELOCIDADE MÉDIA14 KM/H. AF_05/2020 | B23: M3 | C23: 7843 | D23: =D20 -> 3456
A24: TRANSPORTE COM CAMINHÃO BASCULANTE DE 10 M³, EM VIA URBANA EM LEITO NATURAL (UNIDADE: M3XKM). AF_07/2020 | B24: M3XKM | C24: 47058 | D24: =D21 -> 22464
A25: EXECUÇÃO E COMPACTAÇÃO DE BASE E OU SUB BASE PARA PAVIMENTAÇÃO DE SOLOS DE COMPORTAMENTO LATERÍTICO (ARENOSO) - EXCLUSIVE SOLO, ESCAVAÇÃO, CARGA E TRANSPORTE. AF_11/2019 | B25: M3 | C25: 7843 | D25: =D23 -> 3456
A27: OBRAS DE ARTE CORRENTE
A28: BOCA PARA BUEIRO SIMPLES TUBULAR D = 60 CM EM CONCRETO, ALAS COM ESCONSIDADE DE 0°, INCLUINDO FÔRMAS E MATERIAIS. AF_07/2021 | B28: UN | D28: 46
A29: ='PO-Sintético'!D28 -> LIMPEZA DE BUEIRO, INCLUINDO A RETIRADA DOS ENTULHOS BEM COMO A ROÇADA E LIMPEZA GERAL DAS BOCAS | B29: M | D29: 18
A30: CORPO DE BUEIRO BSTC CA1 DN 0,6 M | B30: M | D30: =20*6 -> 120

Sheet PO-Analítica
A1: ='PO-Sintético'!A1 -> EMPREENDEDOR: PREFEITURA MUNICIPAL DE CENTRO DO GUILHERME-MA
A2: ='PO-Sintético'!A2 -> OBJETO : ESTRADAS VICINAIS-RECUPERAÇÃO
A3: ='PO-Sintético'!A3 -> LOCAL: ESTRADA VICINAL 45 ASSENTAMENTO - CENTRO DO GUILHERME -MA-2,88 KM
C5: Obra | E5: Bancos | G5: B.D.I. | I5: Encargos Sociais
C6: Reforma de Ponte de Madeira / Pov. Benedito Mendes (L=4,5M x C= 8,00 x A =2,60M) | E6: SINAPI - 08/2021 - Maranhão SICRO3 - 04/2021 - Maranhão ORSE - 08/2021 - Sergipe SEINFRA - 027 - Ceará | G6: 24,23% | I6: Não Desonerado: Horista: 115,66% Mensalista: 73,48%
A7: Planilha Orçamentária Analítica
A8: 1 | D8: Serviços Preliminares | J8: 13553.82
A9: 1.1 | B9: Código | C9: Banco | D9: Descrição | E9: Tipo | G9: Und | H9: Quant. | I9: Valor Unit | J9: Total
A10: Composição | B10: 51 | C10: ORSE | D10: Placa de obra em chapa aço galvanizado, instalada | E10: Mobilização / Instalações Provisórias / Desmobilização | G10: m² | H10: 1 | I10: 355.4 | J10: 355.4
A11: Composição Auxiliar | B11: 10549 | C11: ORSE | D11: Encargos Complementares - Servente | E11: Provisórios | G11: h | H11: 2 | I11: 3.5 | J11: 7
A12: Composição Auxiliar | B12: 10551 | C12: ORSE | D12: Encargos Complementares - Carpinteiro | E12: Provisórios | G12: h | H12: 1 | I12: 3.41 | J12: 3.41
A13: Insumo | B13: 1569 | C13: ORSE | D13: Madeira mista serrada (barrote) 6 x 6cm - 0,0036 m3/m (angelim, louro) | E13: Material | G13: m | H13: 4 | I13: 10.39 | J13: 41.56
A14: Insumo | B14: 1776 | C14: ORSE | D14: Placa de obra em chapa galvanizada 26 | E14: Material | G14: m² | H14: 1 | I14: 257.21 | J14: 257.21
A15: Insumo | B15: 6995 | C15: ORSE | D15: Madeira mista serrada (sarrafo) 2,2 x 5,5cm - 0,00121 m³/m | E15: Material | G15: m | H15: 1 | I15: 3.99 | J15: 3.99
A16: Insumo | B16: 00001213 | C16: SINAPI | D16: CARPINTEIRO DE FORMAS | E16: Mão de Obra | G16: H | H16: 1 | I16: 16.39 | J16: 16.39
A17: Insumo | B17: 00005075 | C17: SINAPI | D17: PREGO DE ACO POLIDO COM CABECA 18 X 30 (2 3/4 X 10) | E17: Material | G17: KG | H17: 0.15 | I17: 18.31 | J17: 2.74
A18: Insumo | B18: 00006111 | C18: SINAPI | D18: SERVENTE DE OBRAS | E18: Mão de Obra | G18: H | H18: 2 | I18: 11.55 | J18: 23.1
E19: MO sem LS => | F19: 18.311231 | G19: LS => | H19: 21.18 | I19: MO com LS => | J19: 39.49
E20: Valor do BDI => | F20: 86.11 | H20: Valor com BDI => | J20: 441.51
G21: Quant. => | H21: 6 | I21: Preço Total => | J21: 2649.06
A23: 1.2 | B23: Código | C23: Banco | D23: Descrição | E23: Tipo | G23: Und | H23: Quant. | I23: Valor Unit | J23: Total
A24: Composição | B24: 01 | C24: Próprio | D24: MOBILIZAÇÃO E DESMOBILIZAÇÃO DE EQUIPAMENTOS | E24: SERP - SERVIÇOS PRELIMINARES | G24: UN | H24: 1 | I24: 6978.24 | J24: 6978.24
A25: Composição Auxiliar | B25: 91395 | C25: SINAPI | D25: CAMINHÃO TOCO, PBT 14.300 KG, CARGA ÚTIL MÁX. 9.710 KG, DIST. ENTRE EIXOS 3,56 M, POTÊNCIA 185 CV, INCLUSIVE CARROCERIA FIXA ABERTA DE MADEIRA P/ TRANSPORTE GERAL DE CARGA SECA, DIMEN. APROX. 2,50 X 6,50 X 0,50 M - CHI DIURNO. AF_06/2014 | E25: CHOR - CUSTOS HORÁRIOS DE MÁQUINAS E EQUIPAMENTOS | G25: CHI | H25: 8 | I25: 40.06 | J25: 320.48
A26: Composição Auxiliar | B26: 91395 | C26: SINAPI | D26: CAMINHÃO TOCO, PBT 14.300 KG, CARGA ÚTIL MÁX. 9.710 KG, DIST. ENTRE EIXOS 3,56 M, POTÊNCIA 185 CV, INCLUSIVE CARROCERIA FIXA ABERTA DE MADEIRA P/ TRANSPORTE GERAL DE CARGA SECA, DIMEN. APROX. 2,50 X 6,50 X 0,50 M - CHI DIURNO. AF_06/2014 | E26: CHOR - CUSTOS HORÁRIOS DE MÁQUINAS E EQUIPAMENTOS | G26: CHI | H26: 8 | I26: 40.06 | J26: 320.48
A27: Composição Auxiliar | B27: 91387 | C27: SINAPI | D27: CAMINHÃO BASCULANTE 10 M3, TRUCADO CABINE SIMPLES, PESO BRUTO TOTAL 23.000 KG, CARGA ÚTIL MÁXIMA 15.935 KG, DISTÂNCIA ENTRE EIXOS 4,80 M, POTÊNCIA 230 CV INCLUSIVE CAÇAMBA METÁLICA - CHI DIURNO. AF_06/2014 | E27: CHOR - CUSTOS HORÁRIOS DE MÁQUINAS E EQUIPAMENTOS | G27: CHI | H27: 8 | I27: 48.95 | J27: 391.6
A28: Composição Auxiliar | B28: 5903 | C28: SINAPI | D28: CAMINHÃO PIPA 10.000 L TRUCADO, PESO BRUTO TOTAL 23.000 KG, CARGA ÚTIL MÁXIMA 15.935 KG, DISTÂNCIA ENTRE EIXOS 4,8 M, POTÊNCIA 230 CV, INCLUSIVE TANQUE DE AÇO PARA TRANSPORTE DE ÁGUA - CHI DIURNO. AF_06/2014 | E28: CHOR - CUSTOS HORÁRIOS DE MÁQUINAS E EQUIPAMENTOS | G28: CHI | H28: 8 | I28: 47.06 | J28: 376.48
A29: Composição Auxiliar | B29: 5942 | C29: SINAPI | D29: PÁ CARREGADEIRA SOBRE RODAS, POTÊNCIA LÍQUIDA 128 HP, CAPACIDADE DA CAÇAMBA 1,7 A 2,8 M3, PESO OPERACIONAL 11632 KG - CHI DIURNO. AF_06/2014 | E29: CHOR - CUSTOS HORÁRIOS DE MÁQUINAS E EQUIPAMENTOS | G29: CHI | H29: 8 | I29: 54.81 | J29: 438.48
A30: Composição Auxiliar | B30: 5845 | C30: SINAPI | D30: TRATOR DE PNEUS, POTÊNCIA 122 CV, TRAÇÃO 4X4, PESO COM LASTRO DE 4.510 KG - CHI DIURNO. AF_06/2014 | E30: CHOR - CUSTOS HORÁRIOS DE MÁQUINAS E EQUIPAMENTOS | G30: CHI | H30: 8 | I30: 36.62 | J30: 292.96
A31: Composição Auxiliar | B31: 5934 | C31: SINAPI | D31: MOTONIVELADORA POTÊNCIA BÁSICA LÍQUIDA (PRIMEIRA MARCHA) 125 HP, PESO BRUTO 13032 KG, LARGURA DA LÂMINA DE 3,7 M - CHI DIURNO. AF_06/2014 | E31: CHOR - CUSTOS HORÁRIOS DE MÁQUINAS E EQUIPAMENTOS | G31: CHI | H31: 8 | I31: 64.86 | J31: 518.88
A32: Composição Auxiliar | B32: 89883 | C32: SINAPI | D32: CAMINHÃO BASCULANTE 18 M3, COM CAVALO MECÂNICO DE CAPACIDADE MÁXIMA DE TRAÇÃO COMBINADO DE 45000 KG, POTÊNCIA 330 CV, INCLUSIVE SEMIREBOQUE COM CAÇAMBA METÁLICA - CHP DIURNO. AF_12/2014 | E32: CHOR - CUSTOS HORÁRIOS DE MÁQUINAS E EQUIPAMENTOS | G32: CHP | H32: 16 | I32: 269.93 | J32: 4318.88
E33: MO sem LS => | F33: 600.01855 | G33: LS => | H33: 693.98 | I33: MO com LS => | J33: 1294
E34: Valor do BDI => | F34: 1690.82 | H34: Valor com BDI => | J34: 8669.06
G35: Quant. => | H35: 1 | I35: Preço Total => | J35: 8669.06
A37: 1.3 | B37: Código | C37: Banco | D37: Descrição | E37: Tipo | G37: Und | H37: Quant. | I37: Valor Unit | J37: Total
A38: Composição | B38: 98459 | C38: SINAPI | D38: TAPUME COM TELHA METÁLICA. AF_05/2018 | E38: CANT - CANTEIRO DE OBRAS | G38: m² | H38: 1 | I38: 113.63 | J38: 113.63
A39: Composição Auxiliar | B39: 91692 | C39: SINAPI | D39: SERRA CIRCULAR DE BANCADA COM MOTOR ELÉTRICO POTÊNCIA DE 5HP, COM COIFA PARA DISCO 10" - CHP DIURNO. AF_08/2015 | E39: CHOR - CUSTOS HORÁRIOS DE MÁQUINAS E EQUIPAMENTOS | G39: CHP | H39: 0.0044 | I39: 19.98 | J39: 0.08
A40: Composição Auxiliar | B40: 91693 | C40: SINAPI | D40: SERRA CIRCULAR DE BANCADA COM MOTOR ELÉTRICO POTÊNCIA DE 5HP, COM COIFA PARA DISCO 10" - CHI DIURNO. AF_08/2015 | E40: CHOR - CUSTOS HORÁRIOS DE MÁQUINAS E EQUIPAMENTOS | G40: CHI | H40: 0.0191 | I40: 17.65 | J40: 0.33
A41: Composição Auxiliar | B41: 94974 | C41: SINAPI | D41: CONCRETO MAGRO PARA LASTRO, TRAÇO 1:4,5:4,5 (EM MASSA SECA DE CIMENTO/ AREIA MÉDIA/ BRITA 1) - PREPARO MANUAL. AF_05/2021 | E41: FUES - FUNDAÇÕES E ESTRUTURAS | G41: m³ | H41: 0.0012 | I41: 316.8 | J41: 0.38
A42: Composição Auxiliar | B42: 88239 | C42: SINAPI | D42: AJUDANTE DE CARPINTEIRO COM ENCARGOS COMPLEMENTARES | E42: SEDI - SERVIÇOS DIVERSOS | G42: H | H42: 0.1897 | I42: 15.62 | J42: 2.96
A43: Composição Auxiliar | B43: 88262 | C43: SINAPI | D43: CARPINTEIRO DE FORMAS COM ENCARGOS COMPLEMENTARES | E43: SEDI - SERVIÇOS DIVERSOS | G43: H | H43: 0.5691 | I43: 19.12 | J43: 10.88
...

Sheet Curva ABC Insumo
A1: ='PO-Sintético'!A1 -> EMPREENDEDOR: PREFEITURA MUNICIPAL DE CENTRO DO GUILHERME-MA
A2: ='PO-Sintético'!A2 -> OBJETO : ESTRADAS VICINAIS-RECUPERAÇÃO
A3: ='PO-Sintético'!A3 -> LOCAL: ESTRADA VICINAL 45 ASSENTAMENTO - CENTRO DO GUILHERME -MA-2,88 KM
C5: Obra | D5: Bancos | E5: B.D.I. | H5: Encargos Sociais
C6: Reforma de Ponte de Madeira Sobre Igarapé Tracuá | D6: SINAPI - 08/2021 - Maranhão SICRO3 - 04/2021 - Maranhão ORSE - 08/2021 - Sergipe SEINFRA - 027 - Ceará | E6: 24,23% | H6: Não Desonerado: Horista: 115,66% Mensalista: 73,48%
A7: Curva ABC de Insumos
A8: Código | B8: Banco | C8: Descrição | D8: Tipo | E8: Und | F8: Quantidade | H8: Valor Unitário | J8: Total | M8: Peso | N8: Valor Acumulado | O8: Peso Acumulado
F9: Operativa | G9: Improdutiva | H9: Operativa | I9: Improdutiva | J9: Operativa | K9: Improdutiva | L9: Geral
A10: 3130 | B10: ORSE | C10: Pilar e vigas de madeira, em massaranduba ou angelin, seção 10x18cm a 30x30cm | D10: Material | E10: m³ | F10: 3,0000000 | H10: 11.323,44 | J10: 33.970,32 | L10: 33970.32 | M10: 34,79% | N10: 33970.32 | O10: 34,79%
A11: 1561 | B11: ORSE | C11: Madeira massaranduba serrada | D11: Material | E11: m³ | F11: 3,0000000 | H11: 11.323,44 | J11: 33.970,32 | L11: 33970.32 | M11: 34,79% | N11: 67940.64 | O11: 69,58%
A12: M3236 | B12: SICRO3 | C12: Película retrorrefletiva tipo III + SI | D12: Material | E12: m² | F12: 10,8000000 | H12: 394,58 | J12: 4.261,46 | L12: 4261.464 | M12: 4,36% | N12: 72202.104 | O12: 73,95%
A13: 00002707 | B13: SINAPI | C13: ENGENHEIRO CIVIL DE OBRA PLENO | D13: Mão de Obra | E13: H | F13: 30,3150000 | H13: 129,58 | J13: 3.928,22 | L13: 3928.2177 | M13: 4,02% | N13: 76130.322 | O13: 77,97%
A14: M0284 | B14: SICRO3 | C14: Caibro de pinho - L = 7,5 cm e E = 7,5 cm | D14: Material | E14: m | F14: 84,3769000 | H14: 37,38 | J14: 3.154,01 | L14: 3154.0085 | M14: 3,23% | N14: 79284.33 | O14: 81,20%
A15: 00004221 | B15: SINAPI | C15: OLEO DIESEL COMBUSTIVEL COMUM | D15: Material | E15: L | F15: 544,0000000 | H15: 5,71 | J15: 3.106,24 | L15: 3106.24 | M15: 3,18% | N15: 82390.57 | O15: 84,38%
A16: 00000428 | B16: SINAPI | C16: PARAFUSO M16 EM ACO GALVANIZADO, COMPRIMENTO = 500 MM, DIAMETRO = 16 MM, ROSCA MAQUINA, COM CABECA SEXTAVADA E PORCA | D16: Material | E16: UN | F16: 100,0000000 | H16: 27,41 | J16: 2.741,00 | L16: 2741 | M16: 2,81% | N16: 85131.57 | O16: 87,19%
A17: 1776 | B17: ORSE | C17: Placa de obra em chapa galvanizada 26 | D17: Material | E17: m² | F17: 6,0000000 | H17: 319,53 | J17: 1.917,18 | L17: 1917.18 | M17: 1,96% | N17: 87048.75 | O17: 89,15%
A18: 00037763 | B18: SINAPI | C18: CAVALO MECANICO TRACAO 4X2, PESO BRUTO TOTAL 16000 KG, CAPACIDADE MAXIMA DE TRACAO *45000* KG, DISTANCIA ENTRE EIXOS *3,56* M, POTENCIA *330* CV (INCLUI CABINE E CHASSI, NAO INCLUI SEMIRREBOQUE) | D18: Equipamento | E18: UN | F18: 0,0020048 | H18: 650.983,47 | J18: 1.305,09 | L18: 1305.0917 | M18: 1,34% | N18: 88353.842 | O18: 90,49%
A19: 00006111 | B19: SINAPI | C19: SERVENTE DE OBRAS | D19: Mão de Obra | E19: H | F19: 43,1974032 | H19: 14,34 | J19: 619,45 | L19: 619.45076 | M19: 0,63% | N19: 88973.293 | O19: 91,12%
A20: M0286 | B20: SICRO3 | C20: Tábua - E = 2,5 cm e L = 30 cm | D20: Material | E20: m | F20: 39,6000000 | H20: 15,29 | J20: 605,48 | L20: 605.484 | M20: 0,62% | N20: 89578.777 | O20: 91,74%
A21: 00037744 | B21: SINAPI | C21: SEMIRREBOQUE COM TRES EIXOS EM TANDEM TIPO BASCULANTE COM CACAMBA METALICA 18 M3 (INCLUI MONTAGEM, NAO INCLUI CAVALO MECANICO) | D21: Material | E21: UN | F21: 0,0020048 | H21: 292.353,14 | J21: 586,11 | L21: 586.10958 | M21: 0,60% | N21: 90164.886 | O21: 92,34%
... A50: 00004721 | B50: SINAPI | C50: PEDRA BRITADA N. 1 (9,5 a 19 MM) POSTO PEDREIRA/FORNECEDOR, SEM FRETE | D50: Material | E50: m³ | F50: 0,6586098 | H50: 82,68 | J50: 54,45 | L50: 54.453858 | M50: 0,06% | N50: 96722.778 | O50: 99,06%
A51: E9535 | B51: SICRO3 | C51: Serra circular com bancada - D = 30 cm - 4 kW | D51: Equipamento | E51: UN | F51: 1,8072500 | G51: 0,0000000 | H51: 29,62 | I51: 29,31 | J51: 53,53 | K51: 0,00 | L51: 53.530745 | M51: 0,05% | N51: 96776.308 | O51: 99,11%
A52: E9687 | B52: SICRO3 | C52: Caminhão carroceria com capacidade de 5 t - 115 kW | D52: Equipamento | E52: UN | F52: 0,2000000 | G52: 0,4666666 | H52: 134,35 | I52: 54,20 | J52: 26,87 | K52: 25,29 | L52: 52.164053 | M52: 0,05% | N52: 96828.472 | O52: 99,17%
A53: M1358 | B53: SICRO3 | C53: Sarrafo em madeira de terceira - E = 2,5 cm e L = 5 cm | D53: Material | E53: m | F53: 20,9000000 | H53: 2,46 | J53: 51,41 | L53: 51.414 | M53: 0,05% | N53: 96879.886 | O53: 99,22%
A54: 00004783 | B54: SINAPI | C54: PINTOR | D54: Mão de Obra | E54: H | F54: 2,4252000 | H54: 20,36 | J54: 49,38 | L54: 49.377072 | M54: 0,05% | N54: 96929.264 | O54: 99,27%
A55: 10492 | B55: ORSE | C55: Cesta Básica | D55: Material | E55: un | F55: 0,2665590 | H55: 173,92 | J55: 46,36 | L55: 46.359941 | M55: 0,05% | N55: 96975.624 | O55: 99,32%
A56: 00007340 | B56: SINAPI | C56: IMUNIZANTE PARA MADEIRA, INCOLOR | D56: Material | E56: L | F56: 1,4400000 | H56: 28,51 | J56: 41,05 | L56: 41.0544 | M56: 0,04% | N56: 97016.678 | O56: 99,36%
A57: 00037736 | B57: SINAPI | C57: TANQUE DE ACO CARBONO NAO REVESTIDO, PARA TRANSPORTE DE AGUA COM CAPACIDADE DE 10 M3, COM BOMBA CENTRIFUGA POR TOMADA DE FORCA, VAZAO MAXIMA *75* M3/H (INCLUI MONTAGEM, NAO INCLUI CAMINHAO) | D57: Material | E57: UN | F57: 0,0003544 | H57: 106.775,68 | J57: 37,84 | L57: 37.841301 | M57: 0,04% | N57: 97054.519 | O57: 99,40%
A58: 10761 | B58: ORSE | C58: Refeição - café da manhã ( café com leite e dois pães com manteiga) | D58: Serviços | E58: un | F58: 6,0301547 | H58: 6,21 | J58: 37,45 | L58: 37.447261 | M58: 0,04% | N58: 97091.966 | O58: 99,44%
A59: 00037734 | B59: SINAPI | C59: CACAMBA METALICA BASCULANTE COM CAPACIDADE DE 10 M3 (INCLUI MONTAGEM, NAO INCLUI CAMINHAO) | D59: Material | E59: UN | F59: 0,0004024 | H59: 85.408,88 | J59: 34,37 | L59: 34.368533 | M59: 0,04% | N59: 97126.335 | O59: 99,47%
A60: P9830 | B60: SICRO3 | C60: Montador | D60: Mão de Obra | E60: h | F60: 1,0095366 | H60: 31,55 | J60: 31,85 | L60: 31.85088 | M60: 0,03% | N60: 97158.186 | O60: 99,50%
A61: E9066 | B61: SICRO3 | C61: Grupo gerador - 13/14 kVA | D61: Equipamento | E61: UN | F61: 2,0441070 | G61: 0,0000000 | H61: 14,76 | I61: 2,94 | J61: 30,17 | K61: 0,00 | L61: 30.171019 | M61: 0,03% | N61: 97188.357 | O61: 99,54%
A62: 6995 | B62: ORSE | C62: Madeira mista serrada (sarrafo) 2,2 x 5,5cm - 0,00121 m³/m | D62: Material | E62: m | F62: 6,0000000 | H62: 4,95 | J62: 29,70 | L62: 29.7 | M62: 0,03% | N62: 97218.057 | O62: 99,57%
A63: 00037666 | B63: SINAPI | C63: OPERADOR DE BETONEIRA ESTACIONARIA / MISTURADOR | D63: Mão de Obra | E63: H | F63: 1,5134721 | H63: 18,95 | J63: 28,68 | L63: 28.680296 | M63: 0,03% | N63: 97246.737 | O63: 99,59%
A64: M1205 | B64: SICRO3 | C64: Prego de ferro | D64: Material | E64: kg | F64: 1,9251000 | H64: 13,98 | J64: 26,91 | L64: 26.912898 | M64: 0,03% | N64: 97273.65 | O64: 99,62%
A65: 2378 | B65: ORSE | C65: Vale transporte | D65: Material | E65: un | F65: 4,8179391 | H65: 4,96 | J65: 23,90 | L65: 23.896978 | M65: 0,02% | N65: 97297.547 | O65: 99,65%
A66: 00037730 | B66: SINAPI | C66: CARROCERIA FIXA ABERTA DE MADEIRA PARA TRANSPORTE GERAL DE CARGA SECA DIMENSOES APROXIMADAS 2,5 X 6,5 X 0,50 M (INCLUI MONTAGEM, NAO INCLUI CAMINHAO) | D66: Material | E66: UN | F66: 0,0007088 | H66: 31.462,76 | J66: 22,30 | L66: 22.300804 | M66: 0,02% | N66: 97319.848 | O66: 99,67%
A67: 00005075 | B67: SINAPI | C67: PREGO DE ACO POLIDO COM CABECA 18 X 30 (2 3/4 X 10) | D67: Material | E67: KG | F67: 0,9000000 | H67: 22,74 | J67: 20,47 | L67: 20.466 | M67: 0,02% | N67: 97340.314 | O67: 99,69%
A68: 00043486 | B68: SINAPI | C68: EPI - FAMILIA ENGENHEIRO CIVIL - HORISTA (ENCARGOS COMPLEMENTARES - COLETADO CAIXA) | D68: Equipamento | E68: H | F68: 30,0000000 | H68: 0,68 | J68: 20,40 | L68: 20.4 | M68: 0,02% | N68: 97360.714 | O68: 99,71%
A69: 00000939 | B69: SINAPI | C69: FIO DE COBRE, SOLIDO, CLASSE 1, ISOLACAO EM PVC/A, ANTICHAMA BWF-B, 450/750V, SECAO NOMINAL 2,5 MM2 | D69: Material | E69: M | F69: 6,2800000 | H69: 3,06 | J69: 19,22 | L69: 19.2168 | M69: 0,02% | N69: 97379.931 | O69: 99,73%
...

Sheet BDI
J1: ='PO-Sintético'!A1 -> EMPREENDEDOR: PREFEITURA MUNICIPAL DE CENTRO DO GUILHERME-MA
J2: ='PO-Sintético'!A2 -> OBJETO : ESTRADAS VICINAIS-RECUPERAÇÃO
J3: ='PO-Sintético'!A3 -> LOCAL: ESTRADA VICINAL 45 ASSENTAMENTO - CENTRO DO GUILHERME -MA-2,88 KM
A4: Construção de Praças Urbanas, Rodovias, Ferrovias e recapeamento e pavimentação de vias urbanas | B4: R | C4: =CONCATENATE(A4,"-",B4) -> Construção de Praças Urbanas, Rodovias, Ferrovias e recapeamento e pavimentação de vias urbanas-R | E4: 0.005 | F4: 0.0056 | G4: 0.0097 | J4: Conforme legislação tributária municipal, definir estimativa de percentual da base de cálculo para o ISS: | R4: 1
A5: Construção de Praças Urbanas, Rodovias, Ferrovias e recapeamento e pavimentação de vias urbanas | B5: DF | C5: =CONCATENATE(A5,"-",B5) -> Construção de Praças Urbanas, Rodovias, Ferrovias e recapeamento e pavimentação de vias urbanas-DF | E5: 0.0102 | F5: 0.0111 | G5: 0.0121 | I5: ↓ | J5: Sobre a base de cálculo, definir a respectiva alíquota do ISS (entre 2% e 5%): | R5: 0.05
A6: Construção de Praças Urbanas, Rodovias, Ferrovias e recapeamento e pavimentação de vias urbanas | B6: L | C6: =CONCATENATE(A6,"-",B6) -> Construção de Praças Urbanas, Rodovias, Ferrovias e recapeamento e pavimentação de vias urbanas-L | E6: 0.0664 | F6: 0.073 | G6: 0.0869 | I6: F
A7: Construção de Praças Urbanas, Rodovias, Ferrovias e recapeamento e pavimentação de vias urbanas | B7: BDI PAD | C7: =CONCATENATE(A7,"-",B7) -> Construção de Praças Urbanas, Rodovias, Ferrovias e recapeamento e pavimentação de vias urbanas-BDI PAD | E7: 0.196 | F7: 0.2097 | G7: 0.2423 | I7: F
A8: Construção de Redes de Abastecimento de Água, Coleta de Esgoto | B8: AC | C8: =CONCATENATE(A8,"-",B8) -> Construção de Redes de Abastecimento de Água, Coleta de Esgoto-AC | E8: 0.0343 | F8: 0.0493 | G8: 0.0671 | I8: F | J8: BDI - BENEFÍCIOS E DESPESAS INDIRETAS
A9: =A8 -> Construção de Redes de Abastecimento de Água, Coleta de Esgoto | B9: SG | C9: =CONCATENATE(A9,"-",B9) -> Construção de Redes de Abastecimento de Água, Coleta de Esgoto-SG | E9: 0.0028 | F9: 0.0049 | G9: 0.0075 | I9: F
A10: =A9 -> Construção de Redes de Abastecimento de Água, Coleta de Esgoto | B10: R | C10: =CONCATENATE(A10,"-",B10) -> Construção de Redes de Abastecimento de Água, Coleta de Esgoto-R | E10: 0.01 | F10: 0.0139 | G10: 0.0174 | I10: F | J10: TIPO DE OBRA
A11: =A10 -> Construção de Redes de Abastecimento de Água, Coleta de Esgoto | B11: DF | C11: =CONCATENATE(A11,"-",B11) -> Construção de Redes de Abastecimento de Água, Coleta de Esgoto-DF | E11: 0.0094 | F11: 0.0099 | G11: 0.0117 | I11: F | J11: Construção de Praças Urbanas, Rodovias, Ferrovias e recapeamento e pavimentação de vias urbanas
A12: =A11 -> Construção de Redes de Abastecimento de Água, Coleta de Esgoto | B12: L | C12: =CONCATENATE(A12,"-",B12) -> Construção de Redes de Abastecimento de Água, Coleta de Esgoto-L | E12: 0.0674 | F12: 0.0804 | G12: 0.094 | I12: F
A13: =A12 -> Construção de Redes de Abastecimento de Água, Coleta de Esgoto | B13: BDI PAD | C13: =CONCATENATE(A13,"-",B13) -> Construção de Redes de Abastecimento de Água, Coleta de Esgoto-BDI PAD | E13: 0.2076 | F13: 0.2418 | G13: 0.2644 | I13: F | J13: Itens | R13: Siglas | S13: % Adotado
A14: Construção e Manutenção de Estações e Redes de Distribuição de Energia Elétrica | B14: AC | C14: =CONCATENATE(A14,"-",B14) -> Construção e Manutenção de Estações e Redes de Distribuição de Energia Elétrica-AC | E14: 0.0529 | F14: 0.0592 | G14: 0.0793 | I14: F
A15: =A14 -> Construção e Manutenção de Estações e Redes de Distribuição de Energia Elétrica | B15: SG | C15: =CONCATENATE(A15,"-",B15) -> Construção e Manutenção de Estações e Redes de Distribuição de Energia Elétrica-SG | E15: 0.0025 | F15: 0.0051 | G15: 0.0056 | I15: F | J15: =IF($J$11=$A$140,"Encargos Sociais incidentes sobre a mão de obra","Administração Central") -> Administração Central | R15: =IF($J11=$A$140,"K1","AC") -> AC | S15: 0.0401
A16: =A15 -> Construção e Manutenção de Estações e Redes de Distribuição de Energia Elétrica | B16: R | C16: =CONCATENATE(A16,"-",B16) -> Construção e Manutenção de Estações e Redes de Distribuição de Energia Elétrica-R | E16: 0.01 | F16: 0.0148 | G16: 0.0197 | I16: F | J16: =IF($J$11=$A$140,"Administração Central da empresa ou consultoria - overhead","Seguro e Garantia") -> Seguro e Garantia | R16: =IF($J11=$A$140,"K2","SG") -> SG | S16: 0.004
A17: =A16 -> Construção e Manutenção de Estações e Redes de Distribuição de Energia Elétrica | B17: DF | C17: =CONCATENATE(A17,"-",B17) -> Construção e Manutenção de Estações e Redes de Distribuição de Energia Elétrica-DF | E17: 0.0101 | F17: 0.0107 | G17: 0.0111 | I17: F | J17: =IF($J$11=$A$140,"","Risco") -> Risco | R17: =IF($J11=$A$140,"","R") -> R | S17: 0.0056
A18: =A17 -> Construção e Manutenção de Estações e Redes de Distribuição de Energia Elétrica | B18: L | C18: =CONCATENATE(A18,"-",B18) -> Construção e Manutenção de Estações e Redes de Distribuição de Energia Elétrica-L | E18: 0.08 | F18: 0.0831 | G18: 0.0951 | I18: F | J18: =IF($J$11=$A$140,"","Despesas Financeiras") -> Despesas Financeiras | R18: =IF($J11=$A$140,"","DF") -> DF | S18: 0.0102
A19: =A18 -> Construção e Manutenção de Estações e Redes de Distribuição de Energia Elétrica | B19: BDI PAD | C19: =CONCATENATE(A19,"-",B19) -> Construção e Manutenção de Estações e Redes de Distribuição de Energia Elétrica-BDI PAD | E19: 0.24 | F19: 0.2584 | G19: 0.2786 | I19: F | J19: =IF($J$11=$A$140,"Margem bruta da empresa de consultoria","Lucro") -> Lucro | R19: =IF($J11=$A$140,"K3","L") -> L | S19: 0.0702
A20: Obras Portuárias, Marítimas e Fluviais | B20: AC | C20: =CONCATENATE(A20,"-",B20) -> Obras Portuárias, Marítimas e Fluviais-AC | E20: 0.04 | F20: 0.0552 | G20: 0.0785 | I20: F | J20: Tributos (impostos COFINS 3%, e PIS 0,65%) | R20: CP | S20: 0.0365
A21: =A20 -> Obras Portuárias, Marítimas e Fluviais | B21: SG | C21: =CONCATENATE(A21,"-",B21) -> Obras Portuárias, Marítimas e Fluviais-SG | E21: 0.0081 | F21: 0.0122 | G21: 0.0199 | I21: F | J21: Tributos (ISS, variável de acordo com o município) | R21: ISS | S21: 0.05
A22: =A21 -> Obras Portuárias, Marítimas e Fluviais | B22: R | C22: =CONCATENATE(A22,"-",B22) -> Obras Portuárias, Marítimas e Fluviais-R | E22: 0.0146 | F22: 0.0232 | G22: 0.0316 | I22: F | J22: Tributos (Contribuição Previdenciária sobre a Receita Bruta - 0% ou 4,5% - Desoneração) | R22: CPRB | S22: 0
A23: =A22 -> Obras Portuárias, Marítimas e Fluviais | B23: DF | C23: =CONCATENATE(A23,"-",B23) -> Obras Portuárias, Marítimas e Fluviais-DF | E23: 0.0094 | F23: 0.0102 | G23: 0.0133 | I23: F | J23: BDI SEM desoneração (Fórmula Acórdão TCU) | R23: BDI PAD | S23: 0.2423
A24: =A23 -> Obras Portuárias, Marítimas e Fluviais | B24: L | C24: =CONCATENATE(A24,"-",B24) -> Obras Portuárias, Marítimas e Fluviais-L | E24: 0.0714 | F24: 0.084 | G24: 0.1043 | I24: F | J24: BDI NÃO DESONERADO | S24: =S23 -> 0.2423
A25: =A24 -> Obras Portuárias, Marítimas e Fluviais | B25: BDI PAD | C25: =CONCATENATE(A25,"-",B25) -> Obras Portuárias, Marítimas e Fluviais-BDI PAD | E25: 0.228 | F25: 0.2748 | G25: 0.3095 | I25: F
A26: Fornecimento de Materiais e Equipamentos (aquisição indireta - em conjunto com licitação de obras) | B26: AC | C26: =CONCATENATE(A26,"-",B26) -> Fornecimento de Materiais e Equipamentos (aquisição indireta - em conjunto com licitação de obras)-AC | E26: 0.015 | F26: 0.0345 | G26: 0.0449 | I26: F
A27: =A26 -> Fornecimento de Materiais e Equipamentos (aquisição indireta - em conjunto com licitação de obras) | B27: SG | C27: =CONCATENATE(A27,"-",B27) -> Fornecimento de Materiais e Equipamentos (aquisição indireta - em conjunto com licitação de obras)-SG | E27: 0.003 | F27: 0.0048 | G27: 0.0082 | I27: F
A28: =A27 -> Fornecimento de Materiais e Equipamentos (aquisição indireta - em conjunto com licitação de obras) | B28: R | C28: =CONCATENATE(A28,"-",B28) -> Fornecimento de Materiais e Equipamentos (aquisição indireta - em conjunto com licitação de obras)-R | E28: 0.0056 | F28: 0.0085 | G28: 0.0089 | I28: F | J28: Os valores de BDI foram calculados com o emprego da fórmula:
A29: =A28 -> Fornecimento de Materiais e Equipamentos (aquisição indireta - em conjunto com licitação de obras) | B29: DF | C29: =CONCATENATE(A29,"-",B29) -> Fornecimento de Materiais e Equipamentos (aquisição indireta - em conjunto com licitação de obras)-DF | E29: 0.0085 | F29: 0.0085 | G29: 0.0111 | I29: F | M29: BDI = | N29: =IF($J11=$A$140,"(1+K1+K2)*(1+K3)","(1+AC + S + R + G)*(1 + DF)*(1+L)") -> (1+AC + S + R + G)*(1 + DF)*(1+L) | Q29: - 1
A30: =A29 -> Fornecimento de Materiais e Equipamentos (aquisição indireta - em conjunto com licitação de obras) | B30: L | C30: =CONCATENATE(A30,"-",B30) -> Fornecimento de Materiais e Equipamentos (aquisição indireta - em conjunto com licitação de obras)-L | E30: 0.035 | F30: 0.0511 | G30: 0.0622 | I30: F | N30: (1-CP-ISS-CRPB)
A31: =A30 -> Fornecimento de Materiais e Equipamentos (aquisição indireta - em conjunto com licitação de obras) | B31: BDI PAD | C31: =CONCATENATE(A31,"-",B31) -> Fornecimento de Materiais e Equipamentos (aquisição indireta - em conjunto com licitação de obras)-BDI PAD | E31: 0.111 | F31: 0.1402 | G31: 0.168 | I31: F
A32: Fornecimento de Materiais e Equipamentos (aquisição direta) | B32: AC | C32: =CONCATENATE(A32,"-",B32) -> Fornecimento de Materiais e Equipamentos (aquisição direta)-AC | E32: - | F32: - | G32: - | I32: F | J32: =CONCATENATE("Declaro para os devidos fins que, conforme legislação tributária municipal, a base de cálculo deste tipo de obra corresponde à ",$R$4*100,"%, com a respectiva alíquota de ",$R$5*100,"%.") -> Declaro para os devidos fins que, conforme legislação tributária municipal, a base de cálculo deste tipo de obra corresponde à 100%, com a respectiva alíquota de 5%.
A33: Fornecimento de Materiais e Equipamentos (aquisição direta) | B33: SG | C33: =CONCATENATE(A33,"-",B33) -> Fornecimento de Materiais e Equipamentos (aquisição direta)-SG | E33: - | F33: - | G33: - | I33: F
A34: Fornecimento de Materiais e Equipamentos (aquisição direta) | B34: R | C34: =CONCATENATE(A34,"-",B34) -> Fornecimento de Materiais e Equipamentos (aquisição direta)-R | E34: - | F34: - | G34: - | I34: F | J34: `Declaro para os devidos fins que o regime de Contribuição Previdenciária sobre a Receita Bruta adotado para elaboração do orçamento foi SEM Desoneração, e que esta é a alternativa mais adequada para a Administração Pública.")
A35: Fornecimento de Materiais e Equipamentos (aquisição direta) | B35: DF | C35: =CONCATENATE(A35,"-",B35) -> Fornecimento de Materiais e Equipamentos (aquisição direta)-DF | E35: - | F35: - | G35: - | I35: F
A36: Fornecimento de Materiais e Equipamentos (aquisição direta) | B36: L | C36: =CONCATENATE(A36,"-",B36) -> Fornecimento de Materiais e Equipamentos (aquisição direta)-L | E36: - | F36: - | G36: - | I36: F | J36: Observações:
A37: Fornecimento de Materiais e Equipamentos (aquisição direta) | B37: BDI PAD | C37: =CONCATENATE(A37,"-",B37) -> Fornecimento de Materiais e Equipamentos (aquisição direta)-BDI PAD | E37: - | F37: - | G37: - | I37: F
A38: Estudos e Projetos, Planos e Gerenciamento e outros correlatos | B38: K1 | C38: =CONCATENATE(A38,"-",B38) -> Estudos e Projetos, Planos e Gerenciamento e outros correlatos-K1 | E38: - | F38: - | G38: - | I38: F
A39: =#REF! -> #REF! | C39: =CONCATENATE(A39,"-",B39) -> #REF! | E39: - | F39: - | G39: - | I39: F
A40: =A39 -> #REF! | B40: K3 | C40: =CONCATENATE(A40,"-",B40) -> #REF! | E40: - | F40: 0.12 | G40: - | I40: F
...

Sheet Encargos
A1: ='PO-Sintético'!A1 -> EMPREENDEDOR: PREFEITURA MUNICIPAL DE CENTRO DO GUILHERME-MA
A2: ='PO-Sintético'!A2 -> OBJETO : ESTRADAS VICINAIS-RECUPERAÇÃO
A3: ='PO-Sintético'!A3 -> LOCAL: ESTRADA VICINAL 45 ASSENTAMENTO - CENTRO DO GUILHERME -MA-2,88 KM
A5: ENCARGOS SOCIAIS SOBRE A MÃO DE OBRA
A6: SINAPI 114,08%(HORA) 71,35%(MENSAL)-REF.OUT/2023-NÃO DESONERADO
A7: ENCARGOS SOCIAIS SOBRE A MÃO DE OBRA
A8: CÓDIGO | B8: DESCRIÇÃO | C8: NÃO DESONERADO
A9: CÓDIGO | B9: DESCRIÇÃO | C9: HORISTA % | D9: MENSALISTA %
A10: GRUPO A
A11: A1 | B11: INSS | C11: 0.2 | D11: 0.2
A12: A2 | B12: SESI | C12: 0.015 | D12: 0.015
A13: A3 | B13: SENAI | C13: 0.01 | D13: 0.01
A14: A4 | B14: INCRA | C14: 0.002 | D14: 0.002
A15: A5 | B15: SEBRAE | C15: 0.006 | D15: 0.006
A16: A6 | B16: Salário Educação | C16: 0.025 | D16: 0.025
A17: A7 | B17: Seguro Contra Acidentes de Trabalho | C17: 0.03 | D17: 0.03
A18: A8 | B18: FGTS | C18: 0.08 | D18: 0.08
A19: A9 | B19: SECONCI | C19: 0.01 | D19: 0.01
A20: A | B20: Total | C20: =SUM(C11:C19) -> 0.378 | D20: =SUM(D11:D19) -> 0.378
A21: GRUPO B
A22: B1 | B22: Repouso Semanal Remunerado | C22: 0.1788 | D22: Não incide
A23: B2 | B23: Feriados | C23: 0.0395 | D23: Não incide
A24: B3 | B24: Auxílio - Enfermidade | C24: 0.0087 | D24: 0.0066
A25: B4 | B25: 13º Salário | C25: 0.1096 | D25: 0.0833
A26: B5 | B26: Licença Paternidade | C26: 0.0007 | D26: 0.0005
A27: B6 | B27: Faltas Justificadas | C27: 0.0073 | D27: 0.0056
A28: B7 | B28: Dias de Chuvas | C28: 0.015 | D28: Não incide
A29: B8 | B29: Auxílio Acidente de Trabalho | C29: 0.0011 | D29: 0.0008
A30: B9 | B30: Férias Gozadas | C30: 0.1111 | D30: 0.0845
A31: B10 | B31: Salário Maternidade | C31: 0.0004 | D31: 0.0003
A32: B | B32: Total | C32: =SUM(C22:C31) -> 0.4722 | D32: =D31+D30+D29+D27+D26+D25+D24 -> 0.1816
A33: GRUPO C
A34: C1 | B34: Aviso Prévio Indenizado | C34: 0.0455 | D34: 0.0346
A35: C2 | B35: Aviso Prévio Trabalhado | C35: 0.0011 | D35: 0.0008
A36: C3 | B36: Férias Indenizadas | C36: 0.0315 | D36: 0.024
A37: C4 | B37: Depósito Rescisão Sem Justa Causa | C37: 0.0261 | D37: 0.0199
A38: C5 | B38: Indenização Adicional | C38: 0.0038 | D38: 0.0029
A39: C | B39: Total | C39: =SUM(C34:C38) -> 0.108 | D39: =SUM(D34:D38) -> 0.0822
