Workbook
Name Print_Area: ORÇAMENTO!$A$1:$I$37

Sheet ORÇAMENTO
A1: MUNICIPIO DE SANTO ANTÔNIO DO RETIRO ESTADO DE MINAS GERAIS – CNPJ: 01.612.484/0001-92 Rua Jacob Fernandes, 83 - Centro - Santo Antônio do Retiro - MG, CEP: 39.538-000 Site: https://santoantoniodoretiro.mg.gov.br E-mail: dmec@santoantoniodoretiro.mg.gov.br – fone (038) 3824-8110
A4: PLANILHA ORÇAMENTÁRIA DE CUSTOS
A6: PREFEITURA: PREFEITURA MUNICIPAL DE SANTO ANTÔNIO DO RETIRO | G6: FOLHA Nº: 01/01
A7: OBRA: RECAPEAMENTO DE RUAS NA SEDE | G7: DATA: 04/05/2026
A8: LOCAL: RUAS DIVERSAS - CENTRO | F8: FORMA DE EXECUÇÃO:
A9: REGIÃO/MÊS DE REFERÊNCIA: SETOP NORTE 01/2026 - SINAPI 01/2026 SICRO 01/2026 DESONERADO | F9: ( ) | G9: DIRETA | H9: (X) | I9: INDIRETA
A10: PRAZO DE EXECUÇÃO: 30 DIAS | H10: LDI | I10: 0.2338
A12: ITEM | B12: FONTE | C12: CÓDIGO | D12: DESCRIÇÃO | E12: UNIDADE | F12: QUANTIDADE | G12: PREÇO UNITÁRIO S/ LDI | H12: PREÇO UNITÁRIO C/ LDI | I12: PREÇO TOTAL
A13: 1.0 | B13: SETOP | C13: ED-50393 | D13: MOBILIZAÇÃO E DESMOBILIZAÇÃO DE OBRA EM CENTRO URBANO OU REGIÃO LIMÍTROFE COM VALOR ENTRE 1.000.000,01 E 3.000. 000,00 | E13: % | F13: =SUM(I17+I21+I26) -> 539496.07 | G13: 0.003 | H13: 0.0037 | I13: =ROUND((F13*H13),2) -> 1996.14
A14: 2.0 | D14: SERVIÇOS PRELIMINARES | I14: =ROUND((F14*H14),2) -> 0
A15: 2.1 | B15: SETOP | C15: ED-16660 | D15: FORNECIMENTO E COLOCAÇÃO DE PLACA DE OBRA EM CHAPA GALVANIZADA #26, ESP. 0,45 MM, PLOTADA COM ADESIVO VINÍLICO, AFIXADA COM REBITES 4,8X40 MM, EM ESTRUTURA METÁLICA DE METALON 20X20 MM, ESP. 1,25 MM, INCLUSIVE SUPORTE EM EUCALIPTO AUTOCLAVADO PINTADO COM TINTA PVA DUAS (2) DEMÃOS. (2,40x1,20M) | E15: M² | F15: ='MEMORIAL DE CÁLCULO'!D10 -> 2.88 | G15: 263.8 | H15: =ROUND(G15+(G15*$I$10),2) -> 325.48 | I15: =ROUND((F15*H15),2) -> 937.38
A16: 2.2 | B16: SICRO | C16: 4011212 | D16: VARREDURA DE SUPERFÍCIE PARA EXECUÇÃO DE REVESTIMENTO ASFÁLTICO | E16: M² | F16: ='QUADRO DE ÁREAS'!G14 -> 7043.26 | G16: 0.08 | H16: =ROUND(G16+(G16*$I$10),2) -> 0.1 | I16: =ROUND((F16*H16),2) -> 704.33
D17: Sub-total ----> | I17: =SUM(I15:I16) -> 1641.71
A18: 3.0 | D18: REPERFILAMENTO E RECAPEAMENTO
A19: 3.1 | B19: COMP | C19: COMP 01 | D19: PINTURA DE LIGAÇÃO (EXECUÇÃO E FORNECIMENTO DO MATERIAL BETUMINOSO, EXCLUSIVE TRANSPORTE DO MATERIAL BETUMINOSO) | E19: M2 | F19: =+'MEMORIAL DE CÁLCULO'!D20 -> 7043.26 | G19: =COMP!G15 -> 1.74 | H19: =ROUND(G19+(G19*$I$10),2) -> 2.15 | I19: =ROUND((F19*H19),2) -> 15143.01
A20: 3.2 | B20: COMP | C20: COMP 02 | D20: Pré-misturado a frio - PMF (Execução, incluindo usinagem, aplicação, espalhamento e compactação, fornecimento dos agregados e material betuminoso, exclui transporte dos agregados e do material betuminoso até usina e da massa pronta até a pista) | E20: M³ | F20: ='MEMORIAL DE CÁLCULO'!D22 -> 352.163 | G20: =COMP!E21 -> 1070.21 | H20: =ROUND(G20+(G20*$I$10),2) -> 1320.43 | I20: 465002.63
D21: Sub-total ----> | I21: =SUM(I19:I20) -> 480145.64
A22: 4.0 | D22: TRANSPORTE | H22: =ROUND(G22+(G22*$I$10),2) -> 0 | I22: =ROUND((F22*H22),2) -> 0
A23: 4.1 | B23: SICRO | C23: 5915321 | D23: Transporte com caminhão basculante de 14 m³ - rodovia pavimentada (USINA) | E23: TXKM | F23: ='MEMORIAL DE CÁLCULO'!D25 -> 1197.3542 | G23: 0.69 | H23: =ROUND(G23+(G23*$I$10),2) -> 0.85 | I23: =ROUND((F23*H23),2) -> 1017.75
A24: 4.2 | B24: SICRO | C24: 5915321 | D24: Transporte com caminhão basculante de 14 m³ - rodovia pavimentada (MATERIAL BETUMINOSO ATÉ A USINA) | E24: TXKM | F24: ='MEMORIAL DE CÁLCULO'!D30 -> 42851.194 | G24: 0.69 | H24: =ROUND(G24+(G24*$I$10),2) -> 0.85 | I24: =ROUND((F24*H24),2) -> 36423.51
A25: 4.3 | B25: SICRO | C25: 5915321 | D25: Transporte com caminhão basculante de 14 m³ - rodovia pavimentada (AGREGADO ATÉ A USINA) | E25: TXKM | F25: ='MEMORIAL DE CÁLCULO'!D36 -> 23844.066 | G25: 0.69 | H25: =ROUND(G25+(G25*$I$10),2) -> 0.85 | I25: =ROUND((F25*H25),2) -> 20267.46
D26: Sub-total ----> | H26: =ROUND(G26+(G26*$I$10),2) -> 0 | I26: =SUM(I23:I25) -> 57708.72
A27: TOTAL GERAL DA OBRA | I27: =SUM(I13+I17+I21+I26) -> 541492.21 | J27: =I27-(I27*15%) -> 460268.38
J28: =I27-(I27*10%) -> 487342.99
B30: ____________________________________ MARCELO DE OLIVEIRA LEMOS DA SILVA CREA-MG 427.111 Engenheiro Civil | E30: _______________________________________ Ivo Fernandes Silva CPF 067.325.836-03 Prefeito Municipal

Sheet COMP
A1: COMP 01
A2: Pintura de Ligação Base SICRO e DER 012026 | B2: FIC | C2: 0.11792 | D2: Produção da equipe 1.500,00 m²
A3: EQUIPAMENTOS | B3: Quant | C3: Utilização operativa | D3: Custo h produtivo | E3: Custo h improdutivo | G3: Custo horario total
A4: E9509 Caminhão tanque distribuidor de asfalto com capacidade de 6.000 l - 7 kW/136 kW | B4: 1 | C4: 1 | D4: 332.4341 | E4: 109.9286 | G4: =D4*B4 -> 332.4341
A5: E9558 Tanque de estocagem de asfalto com capacidade de 30.000 l | B5: 2 | C5: 1 | D5: 106.1511 | E5: 68.8632 | G5: =D5*B5 -> 212.3022
A6: Custo horário total de equipamentos | B6: =SUM(G4:G5) -> 544.7363
A7: MÃO DE OBRA | B7: Quant | C7: Unidade | D7: Custo horário | G7: Custo horário Total
A8: P9824 Servente | B8: 2 | C8: h | D8: 22.607 | G8: =B8*D8 -> 45.214
A9: Custo horário total de execução | B9: =B6+G8 -> 589.9503
A10: Custo unitário de execução | B10: =B9/1500 -> 0.3933002
A11: Custo do FIC | B11: 0.023
A12: MATERIAL | B12: Quant | C12: Unidade | D12: Preço Unitário | G12: Custo Unitário
A13: Emulsão asfáltica - RR-1C - Ata de registro de preços do DER | B13: 0.00045 | C13: t | D13: 2926.57 | G13: =D13*B13 -> 1.3169565
A14: Subtotal | G14: =B10+B11+G13 -> 1.7332567
A15: Custo unitário direto total | G15: 1.74
A17: COMP 02
A18: DESCRIÇÃO | B18: UNIDADE | C18: COEFICIENTE | D18: CUSTO UNITÁRIO | E18: CUSTO TOTAL | F18: FONTE | G18: CÓDIGO
A19: Pré-misturado a frio - faixa C - areia e brita comerciais (Execução, incluindo o fornecimento e carga da areia e da brita, exclui o transporte da areia e da brita e o fornecimento e transporte do material betuminoso até a obra) | B19: M³ | E19: 322.61 | F19: SETOP out/2024 | G19: RO-00448
A20: EMULSÃO RL-1C 18% | B20: T | C20: 0.168 | D20: 4450 | E20: 747.6 | F20: ORSE | G20: 13717
D21: Total | E21: =E19+E20 -> 1070.21

Sheet CRONOGRAMA
A1: MUNICIPIO DE SANTO ANTÔNIO DO RETIRO ESTADO DE MINAS GERAIS – CNPJ: 01.612.484/0001-92 Rua Jacob Fernandes, 83 - Centro - Santo Antônio do Retiro - MG, CEP: 39.538-000 Site: https://santoantoniodoretiro.mg.gov.br E-mail: dmec@santoantoniodoretiro.mg.gov.br – fone (038) 3824-8110
A5: CRONOGRAMA FÍSICO-FINANCEIRO
A6: PREFEITURA: PREFEITURA MUNICIPAL DE SANTO ANTÔNIO DO RETIRO | I6: =ORÇAMENTO!G7 -> DATA: 04/05/2026
A7: OBRA: RECAPEAMENTO DE RUAS NA SEDE | D7: LOCAL: RUAS DIVERSAS - CENTRO | I7: PRAZO DA OBRA: 1 MESES
A8: ITEM | B8: CÓDIGO | C8: ETAPAS/DESCRIÇÃO | D8: FÍSICO/ FINANCEIRO | E8: TOTAL ETAPAS | F8: MÊS 1
A9: 1.0 | C9: MOBILIZAÇÃO E DESMOBILIZAÇÃO | D9: Físico % | E9: =E10/$E$18 -> 0.0036863688 | F9: 1
D10: Financeiro | E10: =ORÇAMENTO!I13 -> 1996.14 | F10: =F9*$E$10 -> 1996.14
A11: 2.0 | C11: =ORÇAMENTO!D14 -> SERVIÇOS PRELIMINARES | D11: Físico % | E11: =E12/$E$18 -> 0.0030318257 | F11: 1
D12: Financeiro | E12: =ORÇAMENTO!I17 -> 1641.71 | F12: =F11*$E$12 -> 1641.71
A13: 3.0 | C13: =ORÇAMENTO!D18 -> REPERFILAMENTO E RECAPEAMENTO | D13: Físico % | E13: =E14/$E$18 -> 0.88670831 | F13: 1
D14: Financeiro | E14: =ORÇAMENTO!I21 -> 480145.64 | F14: =F13*$E$14 -> 480145.64
A15: 4.0 | C15: =ORÇAMENTO!D22 -> TRANSPORTE | D15: Físico % | E15: =E16/$E$18 -> 0.1065735 | F15: 1
A16: 5.0 | C16: ALVENARIA E PINTURA | D16: Financeiro | E16: =ORÇAMENTO!I26 -> 57708.72 | F16: =F15*$E$16 -> 57708.72
A17: TOTAL | D17: Físico % | E17: =E11+E13+E15+E9 -> 1 | F17: =F18/$E$18 -> 1
D18: Financeiro | E18: =E12+E14+E16+E10 -> 541492.21 | F18: =F12+F14+F16+F10 -> 541492.21
C20: ____________________________________ MARCELO DE OLIVEIRA LEMOS DA SILVA CREA-MG 427.111 Engenheiro Civil | F20: _______________________________________ Ivo Fernandes Silva CPF 067.325.836-03 Prefeito Municipal

Sheet MEMORIAL DE CÁLCULO
A1: MEMÓRIA DE CÁLCULO
A2: Obra: | B2: Recapeamento em PMF
A3: Local : | B3: Rua Diversas Centro
A4: Data: | B4: 46146
A6: Item | B6: Descrição Serviços/Cálculos | D6: Quant. | E6: Unid. Med.
A8: 1.0 - Serviços Preliminares:
A9: 1.1 | B9: FORNECIMENTO E COLOCAÇÃO DE PLACA DE OBRA EM CHAPA GALVANIZADA #26, ESP. 0,45 MM, PLOTADA COM ADESIVO VINÍLICO, AFIXADA COM REBITES 4,8X40 MM, EM ESTRUTURA METÁLICA DE METALON 20X20 MM, ESP. 1,25 MM, INCLUSIVE SUPORTE EM EUCALIPTO AUTOCLAVADO PINTADO COM TINTA PVA DUAS (2) DEMÃOS. (2,40 X 1,20 M)
B10: Cálculo: | C10: 2,40 X 1,20 = | D10: =2.4*1.2 -> 2.88 | E10: m²
A12: 1.2 | B12: VARREDURA DE SUPERFÍCIE PARA EXECUÇÃO DE REVESTIMENTO ASFÁLTICO
B13: CONFORME QUADRO DE ÁREAS DISPOSTO NO MEMORIAL DESCRITIVO | D13: ='QUADRO DE ÁREAS'!G14 -> 7043.26 | E13: m²
B15: Pintura de ligação RR-2C para reperfilamento e recapeamento, área total conforme quadro de áreas: | D15: ='QUADRO DE ÁREAS'!G14 -> 7043.26 | E15: m²
B16: Massa asfaltica RR-2C para reperfilamento , área total conforme quadro de áreas: | D16: =D15*0.02 -> 140.8652 | E16: m³
B17: Massa asfaltica RR-2C recapeamento, área total conforme quadro de áreas: | D17: =D15*0.03 -> 211.2978 | E17: m³
A18: 2.0 - Reperfilamento e Recapeamento
A19: 2.1 | B19: PINTURA DE LIGAÇÃO (EXECUÇÃO E FORNECIMENTO DO MATERIAL BETUMINOSO, EXCLUSIVE TRANSPORTE DO MATERIAL BETUMINOSO)
B20: Cálculo: 7.043,26 | D20: =D15 -> 7043.26 | E20: m²
A21: 2.2 | B21: Pré-misturado a frio - PMF (Execução, incluindo usinagem, aplicação, espalhamento e compactação, fornecimento dos agregados e material betuminoso, exclui transporte dos agregados e do material betuminoso até usina e da massa pronta até a pista)
B22: Cálculo: 140,87+211,30 | D22: =D16+D17 -> 352.163 | E22: m³
A23: 3.0 - Transportes:
A24: 4.1 | B24: Transporte com caminhão basculante de 14 m³ - rodovia pavimentada (USINA ATÉ A PISTA)
B25: Cálculo: m³ PMF x KM x Densidade do PMF 352,16x2x1,7 | D25: =D22*2*1.7 -> 1197.3542 | E25: txkm
A26: 4.2 | B26: Transporte com caminhão basculante de 14 m³ - rodovia pavimentada (MATERIAL BETUMINOSO ATÉ A USINA)
B27: Cálculo: Pintura de ligação RR-2C 0,0005 x 7043,26 = | D27: =(D20*0.0005) -> 3.52163 | E27: t
B28: PMF RL-1C 0,17 x 352,16= | D28: =(D22*0.17) -> 59.86771 | E28: t
B29: Total | D29: =SUM(D27:D28) -> 63.38934 | E29: t
B30: DMT (676km) 676 x 63,39 = | D30: =(D29*676) -> 42851.194 | E30: txkm
A31: 4.3 | B31: Transporte com caminhão basculante de 14 m³ - rodovia pavimentada (AGREGADO ATÉ A USINA)
B32: Areia: t/m³ (coeficiente SEINFRA) x m³ PMF 0,0919 x 352,16= | D32: =(0.0919*D22) -> 32.36378 | E32: t
B33: Brita: t/m³ (coeficiente SEINFRA) x m³ PMF 0,5557 x 352,16= | D33: =(0.5557*D22) -> 195.69698 | E33: t
B34: DMT Areia (5,09km) 32,36X5,09 | D34: =D32*5.09 -> 164.73164 | E34: t
B35: DMT Brita (121km) 121 x 195,70 | D35: =D33*121 -> 23679.334 | E35: txkm
B36: Total DMT Agregado | D36: =SUM(D34:D35) -> 23844.066 | E36: txkm
A39: _______________________________ MARCELO DE OLIVEIRA LEMOS DA SILVA CREA-MG 427.111 Engenheiro Civil
A42: _______________________________ Ivo Fernandes Silva CPF 067.325.836-03 Prefeito Municipal

Sheet QUADRO DE ÁREAS
A1: RELAÇÃO DE RUAS PARA RECAPEAMENTO
A2: PAVIMENTAÇÃO EM PMF
A3: LOGRADOURO | B3: COMPRIMENTO (M) | C3: COORDENADAS | D3: LARGURA DA VIA (M) | E3: ÁREA (M²) | F3: LIMPA RODAS (M²) | G3: ÁREA PMF TOTAL | H3: ÁREA PMF M³
A4: PRAÇA DA BÍBLIA | B4: =19+117.4*2+9+8 -> 270.8 | C4: 15°20'37"S 42°37'29"O | D4: =(8.7+6.1+7+6+6+7.4+6+6)/8 -> 6.65 | E4: =B4*D4 -> 1800.82 | G4: =F4+E4 -> 1800.82 | H4: =SUM(G4*0.05) -> 90.041
A5: RUA TENTENA | B5: 74 | C5: 15°20'34"S 42°37'28"O | D5: =(7+6.9)/2 -> 6.95 | E5: =B5*D5 -> 514.3 | G5: =F5+E5 -> 514.3 | H5: =SUM(G5*0.05) -> 25.715
A6: RUA ANIZIO PARDINHO | B6: 175 | C6: 15°20'36"S 42°37'27"O | D6: 7 | E6: =B6*D6 -> 1225 | F6: =((9.7+7)*3)/2 -> 25.05 | G6: =F6+E6 -> 1250.05 | H6: =SUM(G6*0.05) -> 62.5025
A7: RUA JOVELINO PINHEIRO | B7: 239 | C7: 15°20'37"S 42°37'23"O | D7: =(4.64+4.5+4.4+4.4+4.4+4.3)/6 -> 4.44 | E7: =B7*D7 -> 1061.16 | F7: =19.65+21+18.6 -> 59.25 | G7: =F7+E7 -> 1120.41 | H7: =SUM(G7*0.05) -> 56.0205
A8: RUA AZELI SILVA COSTA | B8: 100.5 | C8: 15°20'36"S 42°37'21"O | D8: 4.9 | E8: =B8*D8 -> 492.45 | G8: =F8+E8 -> 492.45 | H8: =SUM(G8*0.05) -> 24.6225
A9: RUA ANGELINA ANTUNES SILVA | B9: =54+64+45+100+28.2 -> 291.2 | C9: 15°20'28"S 42°37'19"O | D9: =(7+7+6.1+6.1+6.1+6+6)/7 -> 6.3285714 | E9: =B9*D9 -> 1842.88 | F9: =((8.9+6)*3)/2 -> 22.35 | G9: =F9+E9 -> 1865.23 | H9: =SUM(G9*0.05) -> 93.2615
G10: =F10+E10 -> 0
G11: =F11+E11 -> 0
G12: =F12+E12 -> 0
G13: =F13+E13 -> 0
A14: TOTAL | B14: =SUM(B4:B13) -> 1150.5 | E14: =SUM(E4:E13) -> 6936.61 | F14: =SUM(F4:F13) -> 106.65 | G14: =SUM(G4:G13) -> 7043.26 | H14: =SUM(H4:H9) -> 352.163
