Workbook

Sheet Planilha Orcamentaria
A2: A N E X O I I - MODELO
A4: PLANILHA ORÇAMENTÁRIA DE CUSTOS
A6: PREFEITURA: PREFEITURA MUNICIPAL DE MONTE AZUL | F6: FOLHA Nº: 01/01
A7: OBRA: CONSTRUÇÃO DE UMA QUADRA POLIESPORTIVA NA COMUNIDADE PEDREIRA | F7: DATA: 03/07/2009
A8: LOCAL: ZONA RURAL | E8: FORMA DE EXECUÇÃO:
A9: REGIÃO/MÊS DE REFERÊNCIA: Região Rural - Julho/09 | E9: ( ) | F9: DIRETA | G9: ( x ) | H9: INDIRETA
A10: PRAZO DE EXECUÇÃO:90 Meses | G10: LDI | H10: 0.3348
A12: ITEM | B12: CÓDIGO | C12: DESCRIÇÃO | D12: UNIDADE | E12: QUANTIDADE | F12: PREÇO UNITÁRIO S/ LDI | G12: PREÇO UNITÁRIO C/ LDI | H12: PREÇO TOTAL
D13: M | E13: 10 | F13: 65
G14: =F14+(F14*$H$10) -> 0 | H14: =E14*G14 -> 0
G15: =F15+(F15*$H$10) -> 0 | H15: =E15*G15 -> 0 | J15: 0
G16: =F16+(F16*$H$10) -> 0 | H16: =E16*G16 -> 0
G17: =F17+(F17*$H$10) -> 0 | H17: =E17*G17 -> 0
G18: =F18+(F18*$H$10) -> 0 | H18: =E18*G18 -> 0
G19: =F19+(F19*$H$10) -> 0 | H19: =E19*G19 -> 0
G20: =F20+(F20*$H$10) -> 0 | H20: =E20*G20 -> 0
G21: =F21+(F21*$H$10) -> 0 | H21: =E21*G21 -> 0
G22: =F22+(F22*$H$10) -> 0 | H22: =E22*G22 -> 0
G23: =F23+(F23*$H$10) -> 0 | H23: =E23*G23 -> 0
G24: =F24+(F24*$H$10) -> 0 | H24: =E24*G24 -> 0
G25: =F25+(F25*$H$10) -> 0 | H25: =E25*G25 -> 0
G26: =F26+(F26*$H$10) -> 0 | H26: =E26*G26 -> 0
G27: =F27+(F27*$H$10) -> 0 | H27: =E27*G27 -> 0
... G40: =F40+(F40*$H$10) -> 0 | H40: =E40*G40 -> 0
G41: =F41*$H$10 -> 0 | H41: =E41*G41 -> 0
A42: TOTAL GERAL DA OBRA | H42: =SUM(H13:H41) -> 0
B46: Carimbo e assinatura do engenheiro responsável técnico pela elaboração da planilha | E46: CREA
B51: Carimbo e assinatura do prefeito

Sheet Composição BDI (2)
B2: QUADRO DE COMPOSIÇÃO DO BDI
B4: Proponente: | C4: Município de Nova Porteirinha -MG
B5: Ministério: | C5: REPUBLICA FEDERATIVA DO BRASIL
B6: Objeto: | C6: =' Planilha Orcamentaria Praça'!A5 -> OBRA: CONSTRUÇÃO DE PRAÇA, MOBILIDADE E ACESSIBILIDADE E MOBILIARIO URBANO DA COLONIZAÇÃO III.
B8: Selecione na célula abaixo o tipo de obra do empreendimento:
B9: Construção de Praças Urbanas, Rodovias, Ferrovias e recapeamento e pavimentação de vias urbanas
B11: Conforme legislação tributária municipal, definir estimativa de percentual da base de cálculo para o ISS: | G11: 0.2385
B12: Sobre a base de cálculo, definir a respectiva alíquota do ISS (entre 2% e 5%): | G12: 0.05
B15: Itens | C15: Siglas | D15: Preencher percentuais das parcelas do BDI | E15: Situação intervalo admissível | F15: 1º Quartil | G15: Médio | H15: 3º Quartil
B16: Administração Central | C16: AC | D16: 0.0401 | E16: - | F16: =VLOOKUP(CONCATENATE($B$9,"-",$C16),$D$32:$H$73,3,FALSE) -> 0.038 | G16: =VLOOKUP(CONCATENATE($B$9,"-",$C16),$D$32:$H$73,4,FALSE) -> 0.0401 | H16: =VLOOKUP(CONCATENATE($B$9,"-",$C16),$D$32:$H$73,5,FALSE) -> 0.0467
B17: Seguro e Garantia | C17: SG | D17: 0.004 | E17: - | F17: =VLOOKUP(CONCATENATE($B$9,"-",$C17),$D$32:$H$73,3,FALSE) -> 0.0032 | G17: =VLOOKUP(CONCATENATE($B$9,"-",$C17),$D$32:$H$73,4,FALSE) -> 0.004 | H17: =VLOOKUP(CONCATENATE($B$9,"-",$C17),$D$32:$H$73,5,FALSE) -> 0.0074
B18: Risco | C18: R | D18: 0.0056 | E18: - | F18: =VLOOKUP(CONCATENATE($B$9,"-",$C18),$D$32:$H$73,3,FALSE) -> 0.005 | G18: =VLOOKUP(CONCATENATE($B$9,"-",$C18),$D$32:$H$73,4,FALSE) -> 0.0056 | H18: =VLOOKUP(CONCATENATE($B$9,"-",$C18),$D$32:$H$73,5,FALSE) -> 0.0097
B19: Despesas Financeiras | C19: DF | D19: 0.0111 | E19: - | F19: =VLOOKUP(CONCATENATE($B$9,"-",$C19),$D$32:$H$73,3,FALSE) -> 0.0102 | G19: =VLOOKUP(CONCATENATE($B$9,"-",$C19),$D$32:$H$73,4,FALSE) -> 0.0111 | H19: =VLOOKUP(CONCATENATE($B$9,"-",$C19),$D$32:$H$73,5,FALSE) -> 0.0121
B20: Lucro | C20: L | D20: 0.066 | E20: - | F20: =VLOOKUP(CONCATENATE($B$9,"-",$C20),$D$32:$H$73,3,FALSE) -> 0.0664 | G20: =VLOOKUP(CONCATENATE($B$9,"-",$C20),$D$32:$H$73,4,FALSE) -> 0.073 | H20: =VLOOKUP(CONCATENATE($B$9,"-",$C20),$D$32:$H$73,5,FALSE) -> 0.0869
B21: Tributos (impostos COFINS 3%, e PIS 0,65%) | C21: CP | D21: 0.0365 | E21: =IF(AND(D21>=F21, D21<=H21), "OK", "Não OK") -> OK | F21: 0.0365 | G21: 0.0365 | H21: 0.0365
B22: Tributos (ISS, variável de acordo com o município) | C22: ISS | D22: 0.05 | E22: =IF(AND(D22>=F22, D22<=H22), "OK", "Não OK") -> OK | F22: 0 | G22: 0.05 | H22: 0.05
B23: Tributos (Contribuição Previdenciária - 0% ou 4,5%, conforme Lei 12.844/2013 - Desoneração) | C23: CPRB | D23: 0 | E23: =IF(AND(D23>=F23, D23<=H23), "OK", "Não OK") -> OK | F23: 0 | G23: 0.02 | H23: 0.045
B24: Fórmula de BDI adotado conforme Acórdão TCU | C24: BDI PAD | D24: =ROUND((((1+D16+D17+D18)*(1+D19)*(1+D20)/(1-(D21+D22)))-1),4) -> 0.2385 | E24: =IF(AND(D24>=F24, D24<=H24), "OK", "Não OK") -> OK | F24: =VLOOKUP(CONCATENATE($B$9,"-",$C24),$D$32:$H$73,3,FALSE) -> 0.196 | G24: =VLOOKUP(CONCATENATE($B$9,"-",$C24),$D$32:$H$73,4,FALSE) -> 0.2097 | H24: =VLOOKUP(CONCATENATE($B$9,"-",$C24),$D$32:$H$73,5,FALSE) -> 0.2423
B25: BDI SINAPI DESONERADO (A ser aplicado na Planilha Orçamentária) | C25: BDI DES | D25: =ROUND((((1+D16+D17+D18)*(1+D19)*(1+D20)/(1-(D21+D22+D23)))-1),4) -> 0.2385 | E25: =IF(COUNTIF($E$16:$E$24,"NÃO OK")>0,"NÃO OK","OK") -> OK
B27: Os valores de BDI foram calculados com o emprego da fórmula abaixo:
B29: =CONCATENATE("Declaro para os devidos fins que, conforme legislação tributária municipal, a base de cálculo para ",B9,", é de ",G11*100,"%, com a respectiva alíquota de ",G12*100,"%.") -> Declaro para os devidos fins que, conforme legislação tributária municipal, a base de cálculo para Construção de Praças Urbanas, Rodovias, Ferrovias e recapeamento e pavimentação de vias urbanas, é de 23,85%, com a respectiva alíquota de 5%.
F31: MIN | G31: MED | H31: MAX
B32: Construção e Reforma de Edifícios | C32: AC | D32: =CONCATENATE(B32,"-",C32) -> Construção e Reforma de Edifícios-AC | F32: 0.03 | G32: 0.04 | H32: 0.055
B33: =B32 -> Construção e Reforma de Edifícios | C33: SG | D33: =CONCATENATE(B33,"-",C33) -> Construção e Reforma de Edifícios-SG | F33: 0.008 | G33: 0.008 | H33: 0.01
B34: =B33 -> Construção e Reforma de Edifícios | C34: R | D34: =CONCATENATE(B34,"-",C34) -> Construção e Reforma de Edifícios-R | F34: 0.0097 | G34: 0.0127 | H34: 0.0127
B35: =B34 -> Construção e Reforma de Edifícios | C35: DF | D35: =CONCATENATE(B35,"-",C35) -> Construção e Reforma de Edifícios-DF | F35: 0.0059 | G35: 0.0123 | H35: 0.0139
B36: =B35 -> Construção e Reforma de Edifícios | C36: L | D36: =CONCATENATE(B36,"-",C36) -> Construção e Reforma de Edifícios-L | F36: 0.0616 | G36: 0.074 | H36: 0.0896
B37: =B36 -> Construção e Reforma de Edifícios | C37: BDI PAD | D37: =CONCATENATE(B37,"-",C37) -> Construção e Reforma de Edifícios-BDI PAD | F37: 0.2034 | G37: 0.2212 | H37: 0.25
B38: Construção de Praças Urbanas, Rodovias, Ferrovias e recapeamento e pavimentação de vias urbanas | C38: AC | D38: =CONCATENATE(B38,"-",C38) -> Construção de Praças Urbanas, Rodovias, Ferrovias e recapeamento e pavimentação de vias urbanas-AC | F38: 0.038 | G38: 0.0401 | H38: 0.0467
B39: Construção de Praças Urbanas, Rodovias, Ferrovias e recapeamento e pavimentação de vias urbanas | C39: SG | D39: =CONCATENATE(B39,"-",C39) -> Construção de Praças Urbanas, Rodovias, Ferrovias e recapeamento e pavimentação de vias urbanas-SG | F39: 0.0032 | G39: 0.004 | H39: 0.0074
B40: Construção de Praças Urbanas, Rodovias, Ferrovias e recapeamento e pavimentação de vias urbanas | C40: R | D40: =CONCATENATE(B40,"-",C40) -> Construção de Praças Urbanas, Rodovias, Ferrovias e recapeamento e pavimentação de vias urbanas-R | F40: 0.005 | G40: 0.0056 | H40: 0.0097
B41: Construção de Praças Urbanas, Rodovias, Ferrovias e recapeamento e pavimentação de vias urbanas | C41: DF | D41: =CONCATENATE(B41,"-",C41) -> Construção de Praças Urbanas, Rodovias, Ferrovias e recapeamento e pavimentação de vias urbanas-DF | F41: 0.0102 | G41: 0.0111 | H41: 0.0121
B42: Construção de Praças Urbanas, Rodovias, Ferrovias e recapeamento e pavimentação de vias urbanas | C42: L | D42: =CONCATENATE(B42,"-",C42) -> Construção de Praças Urbanas, Rodovias, Ferrovias e recapeamento e pavimentação de vias urbanas-L | F42: 0.0664 | G42: 0.073 | H42: 0.0869
B43: Construção de Praças Urbanas, Rodovias, Ferrovias e recapeamento e pavimentação de vias urbanas | C43: BDI PAD | D43: =CONCATENATE(B43,"-",C43) -> Construção de Praças Urbanas, Rodovias, Ferrovias e recapeamento e pavimentação de vias urbanas-BDI PAD | F43: 0.196 | G43: 0.2097 | H43: 0.2423
B44: Construção de Redes de Abastecimento de Água, Coleta de Esgoto | C44: AC | D44: =CONCATENATE(B44,"-",C44) -> Construção de Redes de Abastecimento de Água, Coleta de Esgoto-AC | F44: 0.0343 | G44: 0.0493 | H44: 0.0671
B45: =B44 -> Construção de Redes de Abastecimento de Água, Coleta de Esgoto | C45: SG | D45: =CONCATENATE(B45,"-",C45) -> Construção de Redes de Abastecimento de Água, Coleta de Esgoto-SG | F45: 0.0028 | G45: 0.0049 | H45: 0.0075
B46: =B45 -> Construção de Redes de Abastecimento de Água, Coleta de Esgoto | C46: R | D46: =CONCATENATE(B46,"-",C46) -> Construção de Redes de Abastecimento de Água, Coleta de Esgoto-R | F46: 0.01 | G46: 0.0139 | H46: 0.0174
B47: =B46 -> Construção de Redes de Abastecimento de Água, Coleta de Esgoto | C47: DF | D47: =CONCATENATE(B47,"-",C47) -> Construção de Redes de Abastecimento de Água, Coleta de Esgoto-DF | F47: 0.0094 | G47: 0.0099 | H47: 0.0117
B48: =B47 -> Construção de Redes de Abastecimento de Água, Coleta de Esgoto | C48: L | D48: =CONCATENATE(B48,"-",C48) -> Construção de Redes de Abastecimento de Água, Coleta de Esgoto-L | F48: 0.0674 | G48: 0.0804 | H48: 0.094
B49: =B48 -> Construção de Redes de Abastecimento de Água, Coleta de Esgoto | C49: BDI PAD | D49: =CONCATENATE(B49,"-",C49) -> Construção de Redes de Abastecimento de Água, Coleta de Esgoto-BDI PAD | F49: 0.2076 | G49: 0.2418 | H49: 0.2644
...

Sheet  Planilha Orcamentaria Praça
A2: A N E X O I
A3: PLANILHA ORÇAMENTÁRIA DE CUSTOS
A5: OBRA: CONSTRUÇÃO DE PRAÇA, MOBILIDADE E ACESSIBILIDADE E MOBILIARIO URBANO DA COLONIZAÇÃO III. | G5: DATA: 22/03/2024
A6: LOCAL: AVENIDA CARAIBAS S/N - (VILLA CALUMBI) - NOVA PORTEIRINHA - MG | F6: FORMA DE EXECUÇÃO:
A7: PREÇOS : SETOP 08/2023 - SINAPI - 12/2023 - MERCADO - ABRIL/2023 | F7: ( ) | G7: DIRETA | H7: ( x ) | I7: INDIRETA
A8: PRAZO DE EXECUÇÃO: 02 Meses | H8: LDI | I8: 0.2385
A10: ITEM | B10: FONTE | C10: CÓDIGO | D10: DESCRIÇÃO | E10: UNIDADE | F10: QUANTIDADE | G10: PREÇO UNITÁRIO S/ LDI | H10: PREÇO UNITÁRIO C/ LDI | I10: PREÇO TOTAL
A11: 1 | D11: SERVIÇOS PRELIMINARES
A12: 1.1 | B12: SETOP | C12: ED-16660 | D12: FORNECIMENTO E COLOCAÇÃO DE PLACA DE OBRA EM CHAPA GALVANIZADA #26, ESP. 0,45 MM, PLOTADA COM ADESIVO VINÍLICO, AFIXADA COM REBITES 4,8X40 MM, EM ESTRUTURA METÁLICA DE METALON 20X20 MM, ESP. 1,25 MM, INCLUSIVE SUPORTE EM EUCALIPTO AUTOCLAVADO PINTADO COM TINTA PVA DUAS (2) DEMÃOS | E12: M² | F12: 3 | G12: 310.26 | H12: =G12+(G12*$I$8) -> 384.26 | I12: =F12*H12 -> 1152.78
A13: 1.2 | B13: SETOP | C13: ED-50701 | D13: CAPINA MANUAL DO TERRENO, EXCLUSIVE RASTELAMENTO E QUEIMA | E13: M² | F13: 853 | G13: 1.31 | H13: =G13+(G13*$I$8) -> 1.62 | I13: =F13*H13 -> 1381.86
A14: SUB TOTAL: | I14: =SUM(I12:I13) -> 2534.64 | K14: =(4411-834) -> 3577
A15: 2 | D15: MOBILIDADE E ACESSIBILIDADE URBANA DA PRAÇA
A16: 2.1 | D16: NIVELAMENTO DE TERRA E PISO DE CONCRETO
A17: 2.1.1 | B17: SETOP | C17: ED-51100 | D17: CORTE E DESATERRO MECÂNICO PARA REGULARIZAÇÃO, COM TRATOR DE ESTEIRA, INCLUSIVE ARRASTAMENTO NIVELADO, AFASTAMENTO E EMPILHAMENTO, EXCLUSIVE CARGA, TRANSPORTE E DESCARGA | E17: M3 | F17: =(4411-853)*0.1 -> 355.8 | G17: 3.85 | H17: =1.2882*G17 -> 4.96 | I17: =H17*F17 -> 1764.77
A18: 2.1.2 | B18: SETOP | C18: ED-49793 | D18: FORNECIMENTO DE CONCRETO NÃO ESTRUTURAL, USINADO, COM FCK 10MPA, INCLUSIVE LANÇAMENTO, ADENSAMENTO E ACABAMENTO (FUNDAÇÃO)(PISO DA AREA DE CONVIVÊNCIA) | E18: M3 | F18: =577*0.06 -> 34.62 | G18: 664.71 | H18: =1.2882*G18 -> 856.28 | I18: =H18*F18 -> 29644.41 | K18: =1102*0.06 -> 66.12 | L18: 664.71 | M18: =1.2882*L18 -> 856.28 | N18: =M18*K18 -> 56617.23
A19: 2.1.3 | B19: SETOP | C19: ED-50619 | D19: POLIMENTO MECANIZADO DE SUPERFÍCIE EM CONCRETO, INCLUSIVE ACABAMENTO DE CONCRETAGEM EM NIVELAMENTO A LASER (NÍVEL ZERO) (POLIMENTO PISO DA AREA DE CONVIVÊNCIA) | E19: M2 | F19: 557 | G19: 13.19 | H19: =1.2882*G19 -> 16.99 | I19: =H19*F19 -> 9463.43
A20: 2.1.4 | B20: SETOP | C20: ED-50417 | D20: EXECUÇÃO DE PAVIMENTO INTERTRAVADO, ESPESSURA 6CM, FCK 35MPA, INCLUINDO FORNECIMENTO E TRANSPORTE DE TODOS OS MATERIAIS E COLCHÃO DE ASSENTAMENTO COM ESPESSURA 6CM (PISO DA CALÇADA) | E20: M2 | F20: =853-10 -> 843 | G20: 65.4 | H20: =1.2882*G20 -> 84.25 | I20: =H20*F20 -> 71022.75
A21: 2.1.5 | B21: SETOP | C21: ED-51148 | D21: RAMPA PARA ACESSO DE DEFICIENTE, EM CONCRETO SIMPLES FCK = 25 MPA, DESEMPENADA, COM PINTURA INDICATIVA, 02 DEMÃOS | E21: U | F21: 8 | G21: 424.26 | H21: =1.2882*G21 -> 546.53 | I21: =H21*F21 -> 4372.24
A22: 2.1.6 | B22: SINAPI | C22: 4721 | D22: PEDRA BRITADA N. 1 (9,5 a 19 MM) POSTO PEDREIRA/FORNECEDOR, SEM FRETE | E22: M3 | F22: =1778*0.04 -> 71.12 | G22: 119.18 | H22: =1.2882*G22 -> 153.53 | I22: =H22*F22 -> 10919.05
A23: 2.1.7 | B23: SETOP | C23: ED-29234 | D23: TRANSPORTE DE MATERIAL DE QUALQUER NATUREZA EM CAMINHÃO, DISTÂNCIA MAIOR QUE 20KM E MENOR OU IGUAL A 30KM, DENTRO DO PERÍMETRO URBANO, EXCLUSIVE CARGA, INCLUSIVE DESCARGA | E23: M³xKM | F23: =F22*25 -> 1778 | G23: 1.96 | H23: =1.2882*G23 -> 2.52 | I23: =H23*F23 -> 4480.56
A24: SUB TOTAL: | I24: =SUM(I17:I23) -> 131667.21
A25: 3 | D25: MOBILIÁRIO URBANO
A26: 3.1 | B26: SETOP | C26: ED-15449 | D26: BANCO EM CONCRETO APARENTE, SEM ENCOSTO, POLIDO COM ACABAMENTO EM VERNIZ, ESP. 8CM, COMPRIMENTO 200CM, LARGURA 40CM, ALTURA 55CM, EXCLUSIVE FIXAÇÃO EM PISO | E26: UND | F26: 6 | G26: 323.55 | H26: =1.2882*G26 -> 416.8 | I26: =H26*F26 -> 2500.8
A27: 3.2 | B27: SETOP | C27: ED-48360 | D27: CONJUNTO DE MESA E BANCOS DE CONCRETO PARA JOGOS (02 BANCOS EM ARCO COM D INTERNO = 130 CM E H = 43 CM E MESA COM D = 80 CM, E = 8 CM E H = 75 CM) | E27: UND | F27: 5 | G27: 868.6 | H27: =1.2882*G27 -> 1118.93 | I27: =H27*F27 -> 5594.65
A28: 3.3 | B28: SINAPI | C28: 42440 | D28: LIXEIRA DUPLA, COM CAPACIDADE VOLUMETRICA DE 60L*, FABRICADA EM TUBO DE ACO CARBONO, CESTOS EM CHAPA DE ACO E PINTURA NO PROCESSO ELETROSTATICO - PARA ACADEMIA AO AR LIVRE / ACADEMIA DA TERCEIRA IDADE - ATI | E28: UND | F28: 3 | G28: 868.6 | H28: =1.2882*G28 -> 1118.93 | I28: =H28*F28 -> 3356.79
A29: SUB TOTAL: | I29: =SUM(I26:I28) -> 11452.24
A30: 4 | D30: PLAYGRAUND
A31: 4.1 | B31: SETOP | C31: ED-49579 | D31: FORNECIMENTO E INSTALAÇÃO DE ESCADA HORIZONTAL METÁLICA PARA PARQUE INFANTIL, FIXADO COM CONCRETO NÃO ESTRUTURAL, PREPARADO EM OBRA COM BETONEIRA, COM FCK 15 MPA , INCLUSIVE ESCAVAÇÃO E TRANSPORTE COM RETIRADA DO MATERIAL ESCAVADO (EM CAÇAMBA) | E31: UND | F31: 1 | G31: 1134.82 | H31: =1.2882*G31 -> 1461.88 | I31: =H31*F31 -> 1461.88
A32: 4.2 | B32: SETOP | C32: ED-49575 | D32: FORNECIMENTO E INSTALAÇÃO DE ESCORREGADOR MÉDIO METÁLICO PARA PARQUE INFANTIL, FIXADO COM CONCRETO NÃO ESTRUTURAL, PREPARADO EM OBRA COM BETONEIRA, COM FCK 15 MPA , INCLUSIVE ESCAVAÇÃO E TRANSPORTE COM RETIRADA DO MATERIAL ESCAVADO (EM CAÇAMBA) | E32: UND | F32: 1 | G32: 1446.79 | H32: =1.2882*G32 -> 1863.75 | I32: =H32*F32 -> 1863.75
A33: 4.3 | B33: SETOP | C33: ED-49576 | D33: FORNECIMENTO E INSTALAÇÃO DE GANGORRA METÁLICA COM DOIS LUGARES PARA PARQUE INFANTIL, FIXADO COM CONCRETO NÃO ESTRUTURAL, PREPARADO EM OBRA COM BETONEIRA, COM FCK 15 MPA , INCLUSIVE ESCAVAÇÃO E TRANSPORTE COM RETIRADA DO MATERIAL ESCAVADO (EM CAÇAMBA) | E33: UND | F33: 1 | G33: 1437.27 | H33: =1.2882*G33 -> 1851.49 | I33: =H33*F33 -> 1851.49
A34: SUB TOTAL: | I34: =SUM(I31:I33) -> 5177.12
A35: 5 | D35: ELÉTRICA
A36: 5.1 | B36: SINAPI | C36: 5052 | D36: POSTE CONICO CONTINUO EM ACO GALVANIZADO, CURVO, BRACO SIMPLES, FLANGEADO, H= 7 M, DIAMETRO INFERIOR = *125* MM | E36: UND | F36: 3 | G36: 1457.5 | H36: =1.2882*G36 -> 1877.55 | I36: =H36*F36 -> 5632.65
A37: 5.2 | B37: SINAPI | C37: 101659 | D37: LUMINÁRIA DE LED PARA ILUMINAÇÃO PÚBLICA, DE 181 W ATÉ 239 W - FORNECIMENTO E INSTALAÇÃO. AF_08/2020 | E37: UND | F37: 7 | G37: 759.34 | H37: =1.2882*G37 -> 978.18 | I37: =H37*F37 -> 6847.26
A38: 5.3 | B38: SINAPI | C38: 5050 | D38: POSTE CONICO CONTINUO EM ACO GALVANIZADO, RETO, FLANGEADO, H = 3 M, DIAMETRO INFERIOR = *95* MM | E38: UND | F38: 4 | G38: 503.27 | H38: =1.2882*G38 -> 648.31 | I38: =H38*F38 -> 2593.24
A39: 5.4 | B39: SINAPI | C39: 2512 | D39: BRACO P/ LUMINARIA PUBLICA 1 X 1,50M ROMAGNOLE OU EQUIVALENTE | E39: UND | F39: 7 | G39: 45.06 | H39: =1.2882*G39 -> 58.05 | I39: =H39*F39 -> 406.35
A40: 5.5 | B40: SETOP | C40: ED-15756 | D40: CONJUNTO DE DUAS (2) TOMADAS PADRÃO, TRÊS (3) POLOS, CORRENTE 20A, TENSÃO 250V, (2P+T/20A-250V), COM PLACA 4"X2" DE DOIS (2) POSTOS, INCLUSIVE FORNECIMENTO, INSTALAÇÃO, SUPORTE, MÓDULO E PLACA | E40: UND | F40: 2 | G40: 42.59 | H40: =1.2882*G40 -> 54.86 | I40: =H40*F40 -> 109.72
A41: 5.6 | B41: SETOP | C41: ED-49197 | D41: CAIXA DE INSPEÇÃO EM CONCRETO, TIPO "ZA" PASSEIO, PADRÃO CEMIG, DIMENSÃO (28X28)CM, ALTURA 40CM, COM TAMPA E ARO ARTICULADO EM FERRO FUNDIDO, INCLUSIVE ESCAVAÇÃO, APILOAMENTO, LASTRO DE BRITA, REATERRO E TRANSPORTE E RETIRADA DO MATERIAL ESCAVADO (EM CAÇAMBA) | E41: UND | F41: 7 | G41: 43.59 | H41: =1.2882*G41 -> 56.15 | I41: =H41*F41 -> 393.05
A42: 5.7 | B42: SETOP | C42: ED-17953 | D42: ELETRODUTO FLEXÍVEL CORRUGADO, PVC, ANTI-CHAMA, DN 32MM (1"), APLICADO EM ALVENARIA, EXCLUSIVE RASGO | E42: M | F42: =126+16 -> 142 | G42: 8.19 | H42: =1.2882*G42 -> 10.55 | I42: =H42*F42 -> 1498.1
A43: 5.8 | B43: SETOP | C43: RO-40211 | D43: Escavação manual de valas em solo, com altura de 0 a 1,50 m | E43: M3 | F43: =F42*0.2*0.15 -> 4.26 | G43: 45.59 | H43: =1.2882*G43 -> 58.73 | I43: =H43*F43 -> 250.19
...

Sheet  Planilha Memorial calc praça
A2: A N E X O I I
A3: PLANILHA MEMORIAL DE CÁLCULO
A4: =' Planilha Orcamentaria Praça'!A5 -> OBRA: CONSTRUÇÃO DE PRAÇA, MOBILIDADE E ACESSIBILIDADE E MOBILIARIO URBANO DA COLONIZAÇÃO III.
A5: =' Planilha Orcamentaria Praça'!A6 -> LOCAL: AVENIDA CARAIBAS S/N - (VILLA CALUMBI) - NOVA PORTEIRINHA - MG | F5: DATA: 22/03/2024
A6: PREÇOS : SETOP 08/2023 - SINAPI - 12/2023 - MERCADO - ABRIL/2023
A7: PRAZO DE EXECUÇÃO: 04 Meses
A8: ITEM | B8: FONTE | C8: CÓDIGO | D8: DESCRIÇÃO | E8: MEMÓRIA DE CÁLCULO | F8: UNIDADE | G8: QUANTIDADE
A9: 1 | D9: SERVIÇOS PRELIMINARES
A10: 1.1 | B10: SETOP | C10: ED-16660 | D10: FORNECIMENTO E COLOCAÇÃO DE PLACA DE OBRA EM CHAPA GALVANIZADA #26, ESP. 0,45 MM, PLOTADA COM ADESIVO VINÍLICO, AFIXADA COM REBITES 4,8X40 MM, EM ESTRUTURA METÁLICA DE METALON 20X20 MM, ESP. 1,25 MM, INCLUSIVE SUPORTE EM EUCALIPTO AUTOCLAVADO PINTADO COM TINTA PVA DUAS (2) DEMÃOS | E10: Placa de Obra conforme especificação -2,5 m X 1,20 m = 3,00 m² | F10: M² | G10: 3
A11: 1.2 | B11: SETOP | C11: ED-50701 | D11: CAPINA MANUAL DO TERRENO, EXCLUSIVE RASTELAMENTO E QUEIMA | E11: Metragem da calçada da praça 853m² | F11: M² | G11: 853
A12: TOTAL GERAL DA OBRA
A13: 2 | D13: MOBILIDADE E ACESSIBILIDADE URBANA DA PRAÇA
A14: 2.1 | D14: NIVELAMENTO DE TERRA E PISO DE CONCRETO
A15: 2.1.2 | B15: SETOP | C15: ED-51100 | D15: CORTE E DESATERRO MECÂNICO PARA REGULARIZAÇÃO, COM TRATOR DE ESTEIRA, INCLUSIVE ARRASTAMENTO NIVELADO, AFASTAMENTO E EMPILHAMENTO, EXCLUSIVE CARGA, TRANSPORTE E DESCARGA | E15: REGULARIZAÇÃO DO PISO DE BARRO (4411-853)*0,1 | F15: M3 | G15: 355.8
A16: 2.1.3 | B16: SETOP | C16: ED-49793 | D16: FORNECIMENTO DE CONCRETO NÃO ESTRUTURAL, USINADO, COM FCK 10MPA, INCLUSIVE LANÇAMENTO, ADENSAMENTO E ACABAMENTO (FUNDAÇÃO)(PISO DA AREA DE CONVIVÊNCIA) | E16: PISO DE CONCRETO DA PRAÇA, AREA DE CONVIVÊNCIA (577*0,06) | F16: M3 | G16: 34.62
A17: 2.1.4 | B17: SETOP | C17: ED-50619 | D17: POLIMENTO MECANIZADO DE SUPERFÍCIE EM CONCRETO, INCLUSIVE ACABAMENTO DE CONCRETAGEM EM NIVELAMENTO A LASER (NÍVEL ZERO) (PLAYGRAUND) | E17: POLIMENTO DO PISO DO PATIO 577M² | F17: M2 | G17: 577
A18: 2.1.5 | B18: SETOP | C18: ED-51148 | D18: RAMPA PARA ACESSO DE DEFICIENTE, EM CONCRETO SIMPLES FCK = 25 MPA, DESEMPENADA, COM PINTURA INDICATIVA, 02 DEMÃOS | E18: 8 RAMPAS DE ACESSIBILIDADE DA PRAÇA 2 EM CADA ESQUINA | F18: U | G18: 8
A19: 2.1.6 | B19: SINAPI | C19: 4721 | D19: PEDRA BRITADA N. 1 (9,5 a 19 MM) POSTO PEDREIRA/FORNECEDOR, SEM FRETE | E19: BRITA PARA AREAS NÃO CONSTRUIDAS DA PRAÇA (1778*0,04) | F19: M3 | G19: 71.12
A20: 2.1.7 | B20: SETOP | C20: ED-29234 | D20: TRANSPORTE DE MATERIAL DE QUALQUER NATUREZA EM CAMINHÃO, DISTÂNCIA MAIOR QUE 20KM E MENOR OU IGUAL A 30KM, DENTRO DO PERÍMETRO URBANO, EXCLUSIVE CARGA, INCLUSIVE DESCARGA | E20: TRANSPORTE DA BRITA DA JAZIDA 71,12*25KM | F20: M³xKM | G20: 1778
A21: 3 | D21: MOBILIÁRIO URBANO
A22: 3.1 | B22: SETOP | C22: ED-15449 | D22: BANCO EM CONCRETO APARENTE, SEM ENCOSTO, POLIDO COM ACABAMENTO EM VERNIZ, ESP. 8CM, COMPRIMENTO 200CM, LARGURA 40CM, ALTURA 55CM, EXCLUSIVE FIXAÇÃO EM PISO | E22: BANCOS DE CONCRETO PARA PRAÇA 6 UNIDADES | F22: UND | G22: 6
A23: 3.2 | B23: SETOP | C23: ED-48360 | D23: CONJUNTO DE MESA E BANCOS DE CONCRETO PARA JOGOS (02 BANCOS EM ARCO COM D INTERNO = 130 CM E H = 43 CM E MESA COM D = 80 CM, E = 8 CM E H = 75 CM) | E23: CONJUNTO DE MESAS DE JOGOS COM ASSENTOS MEIA LUA 5 UNIDADES | F23: UND | G23: 5
A24: 3.3 | B24: SINAPI | C24: 42440 | D24: LIXEIRA DUPLA, COM CAPACIDADE VOLUMETRICA DE 60L*, FABRICADA EM TUBO DE ACO CARBONO, CESTOS EM CHAPA DE ACO E PINTURA NO PROCESSO ELETROSTATICO - PARA ACADEMIA AO AR LIVRE / ACADEMIA DA TERCEIRA IDADE - ATI | E24: LIXEIRA DUPLA DE CESTO DE AÇO 3 UNIDADES | F24: UND | G24: 3
A25: 4 | D25: PLAYGRAUND
A26: 4.1 | B26: SETOP | C26: ED-49579 | D26: FORNECIMENTO E INSTALAÇÃO DE ESCADA HORIZONTAL METÁLICA PARA PARQUE INFANTIL, FIXADO COM CONCRETO NÃO ESTRUTURAL, PREPARADO EM OBRA COM BETONEIRA, COM FCK 15 MPA , INCLUSIVE ESCAVAÇÃO E TRANSPORTE COM RETIRADA DO MATERIAL ESCAVADO (EM CAÇAMBA) | E26: FORNECIMENTO E INSTALAÇÃO DE ESCADA HORIZONTAL 1 UNIDADE | F26: UND | G26: 1
A27: 4.2 | B27: SETOP | C27: ED-49575 | D27: FORNECIMENTO E INSTALAÇÃO DE ESCORREGADOR MÉDIO METÁLICO PARA PARQUE INFANTIL, FIXADO COM CONCRETO NÃO ESTRUTURAL, PREPARADO EM OBRA COM BETONEIRA, COM FCK 15 MPA , INCLUSIVE ESCAVAÇÃO E TRANSPORTE COM RETIRADA DO MATERIAL ESCAVADO (EM CAÇAMBA) | E27: FORNECIMENTO E INSTALAÇÃO DE ESCORREGADOR MÉDIO 1 UNIDADE | F27: UND | G27: 1
A28: 4.3 | B28: SETOP | C28: ED-49576 | D28: FORNECIMENTO E INSTALAÇÃO DE GANGORRA METÁLICA COM DOIS LUGARES PARA PARQUE INFANTIL, FIXADO COM CONCRETO NÃO ESTRUTURAL, PREPARADO EM OBRA COM BETONEIRA, COM FCK 15 MPA , INCLUSIVE ESCAVAÇÃO E TRANSPORTE COM RETIRADA DO MATERIAL ESCAVADO (EM CAÇAMBA) | E28: FORNECIMENTO E INSTALAÇÃO DE GANGORA 1 UNIDADE | F28: UND | G28: 1
A29: 5 | D29: ELÉTRICA
A30: 5.1 | B30: SINAPI | C30: 5052 | D30: POSTE CONICO CONTINUO EM ACO GALVANIZADO, CURVO, BRACO SIMPLES, FLANGEADO, H= 7 M, DIAMETRO INFERIOR = *125* MM | E30: POSTE DE AÇO GALVANIZADO COM BRAÇO CURVO 7M DE ALTURA 3 UNIDADES | F30: UND | G30: 3
A31: 5.2 | B31: SINAPI | C31: 101659 | D31: LUMINÁRIA DE LED PARA ILUMINAÇÃO PÚBLICA, DE 181 W ATÉ 239 W - FORNECIMENTO E INSTALAÇÃO. AF_08/2020 | E31: 7 LUMINARIA DE LED 200 A 239W | F31: UND | G31: 7
A32: 5.3 | B32: SINAPI | C32: 5050 | D32: POSTE CONICO CONTINUO EM ACO GALVANIZADO, RETO, FLANGEADO, H = 3 M, DIAMETRO INFERIOR = *95* MM | E32: POSTE DE AÇO GALVANIZADO COM BRAÇO CURVO 3M DE ALTURA 4 UNIDADES | F32: UND | G32: 4
A33: 5.4 | B33: SINAPI | C33: 2512 | D33: BRACO P/ LUMINARIA PUBLICA 1 X 1,50M ROMAGNOLE OU EQUIVALENTE | E33: BRAÇO PARA POSTE 7 UNIDADES | F33: UND | G33: 7
A34: 5.5 | B34: SETOP | C34: ED-15756 | D34: CONJUNTO DE DUAS (2) TOMADAS PADRÃO, TRÊS (3) POLOS, CORRENTE 20A, TENSÃO 250V, (2P+T/20A-250V), COM PLACA 4"X2" DE DOIS (2) POSTOS, INCLUSIVE FORNECIMENTO, INSTALAÇÃO, SUPORTE, MÓDULO E PLACA | E34: TOMADAS DE 20A 2 UNIDADES | F34: UND | G34: 2
A35: 5.6 | B35: SETOP | C35: ED-49197 | D35: CAIXA DE INSPEÇÃO EM CONCRETO, TIPO "ZA" PASSEIO, PADRÃO CEMIG, DIMENSÃO (28X28)CM, ALTURA 40CM, COM TAMPA E ARO ARTICULADO EM FERRO FUNDIDO, INCLUSIVE ESCAVAÇÃO, APILOAMENTO, LASTRO DE BRITA, REATERRO E TRANSPORTE E RETIRADA DO MATERIAL ESCAVADO (EM CAÇAMBA) | E35: CAIXA DE PASSAGEM DE CABOS DE ENERGIA 26 UNIDADES | F35: UND | G35: 7
A36: 5.7 | B36: SETOP | C36: ED-17953 | D36: ELETRODUTO FLEXÍVEL CORRUGADO, PVC, ANTI-CHAMA, DN 32MM (1"), APLICADO EM ALVENARIA, EXCLUSIVE RASGO | E36: ELETRODUTO EMBUTIDO NO PISO 1 POLEGADA 142 METROS LINEARES | F36: M | G36: =126+16 -> 142
A37: 5.8 | B37: SETOP | C37: RO-40211 | D37: Escavação manual de valas em solo, com altura de 0 a 1,50 m | E37: ESCAVAÇÃO PARA CHUMBAMENTO DO ELETRODUTO (142*0,2*0,15) | F37: M3 | G37: =G36*0.2*0.15 -> 4.26
A38: 5.9 | B38: SINAPI | C38: 0994 | D38: CABO DE COBRE, FLEXIVEL, CLASSE 4 OU 5, ISOLACAO EM PVC/A, ANTICHAMA BWF-B, COBERTURA PVC-ST1, ANTICHAMA BWF-B, 1 CONDUTOR, 0,6/1 KV, SECAO NOMINAL 6 MM2 (DISTRIBUIÇÃO) | E38: 3 CABOS DE ALIMENTAÇÃO PRINCIPAL DO CIRCUITO 6MM 2 FASES E 1 TERRA (142*3) | F38: M | G38: =G36*3 -> 426
A39: 5.10 | B39: SINAPI | C39: 1021 | D39: CABO DE COBRE, FLEXIVEL, CLASSE 4 OU 5, ISOLACAO EM PVC/A, ANTICHAMA BWF-B, COBERTURA PVC-ST1, ANTICHAMA BWF-B, 1 CONDUTOR, 0,6/1 KV, SECAO NOMINAL 4 MM2 (POSTES DECORATIVOS 3M) | E39: CABOS DE DERIVAÇÃO PARA 3 POSTE DE 7 METROS C/ BRAÇO ((8,5*3)*3) | F39: M | G39: =((8.5*3)*3) -> 76.5
A40: 5.11 | B40: SINAPI | C40: 1022 | D40: CABO DE COBRE, FLEXIVEL, CLASSE 4 OU 5, ISOLACAO EM PVC/A, ANTICHAMA BWF-B, COBERTURA PVC-ST1, ANTICHAMA BWF-B, 1 CONDUTOR, 0,6/1 KV, SECAO NOMINAL 2,5 MM2 (POSTE TUBULAR 7M) | E40: CABOS DE DERIVAÇÃO PARA 4 POSTE DE 3 METROS C/ BRAÇO ((4*4,5)*3) | F40: M | G40: =((4*4.5)*3) -> 54
A41: 6 | D41: PINTURA
...

Sheet CRONOGRAMA FIS FINANC PRAÇA
E2: A N E X O I I I
A3: CRONOGRAMA FÍSICO-FINANCEIRO
A4: =' Planilha Orcamentaria Praça'!A4 -> 0 | H4: =' Planilha Orcamentaria Praça'!G5 -> DATA: 22/03/2024
A5: =' Planilha Orcamentaria Praça'!A5 -> OBRA: CONSTRUÇÃO DE PRAÇA, MOBILIDADE E ACESSIBILIDADE E MOBILIARIO URBANO DA COLONIZAÇÃO III. | C5: =' Planilha Orcamentaria Praça'!A6 -> LOCAL: AVENIDA CARAIBAS S/N - (VILLA CALUMBI) - NOVA PORTEIRINHA - MG | H5: =' Planilha Orcamentaria Praça'!A8 -> PRAZO DE EXECUÇÃO: 02 Meses
A6: ITEM | B6: ETAPAS/DESCRIÇÃO | C6: FÍSICO/ FINANCEIRO | D6: TOTAL ETAPAS | E6: MÊS 1 | F6: MÊS 2
A7: 1 | B7: ='[1]Planilha Orcamentaria'!D10 -> SERVIÇOS PRELIMINARES | C7: Físico % | D7: =D8/$D$24 -> 0
C8: Financeiro | D8: =SUM('[1]Planilha Orcamentaria'!J11:J17) -> 0 | E8: =E7*$D$8 -> 0 | F8: =F7*$D$8 -> 0 | G8: =G7*$D$8 -> 0 | H8: =H7*$D$8 -> 0 | L8: =L7*$D$8 -> 0
A9: 1 | B9: =' Planilha Orcamentaria Praça'!D11 -> SERVIÇOS PRELIMINARES | C9: Físico % | D9: =D10/$D$24 -> 0.0146 | E9: 1 | M9: =E9 -> 1
C10: Financeiro | D10: =' Planilha Orcamentaria Praça'!I14 -> 2534.64 | E10: =E9*$D$10 -> 2534.64 | F10: =F9*$D$10 -> 0 | G10: =G9*$D$10 -> 0 | H10: =H9*$D$10 -> 0 | L10: =L9*$D$10 -> 0 | M10: =E10+F10+G10+H10+I10+J10+K10+L10 -> 2534.64
A11: 2 | B11: =' Planilha Orcamentaria Praça'!D15 -> MOBILIDADE E ACESSIBILIDADE URBANA DA PRAÇA | C11: Físico % | D11: =D12/$D$24 -> 0.7568 | E11: 0.5 | F11: 0.5 | M11: =E11+F11+G11+H11+I11+J11+K11+L11 -> 1
C12: Financeiro | D12: =' Planilha Orcamentaria Praça'!I24 -> 131667.21 | E12: =E11*$D$12 -> 65833.605 | F12: =F11*$D$12 -> 65833.605 | L12: =L11*$D$12 -> 0 | M12: =E12+F12+G12+H12+I12+J12+K12+L12 -> 131667.21
A13: 3 | B13: =' Planilha Orcamentaria Praça'!D25 -> MOBILIÁRIO URBANO | C13: Físico % | D13: =D14/$D$24 -> 0.0658 | F13: 1 | M13: =F13+G13+H13+I13+J13+K13+L13 -> 1
C14: Financeiro | D14: =' Planilha Orcamentaria Praça'!I29 -> 11452.24 | F14: =F13*$D$14 -> 11452.24 | L14: =L13*$D$14 -> 0 | M14: =F14+G14+H14+I14+J14+K14+L14 -> 11452.24
A15: 4 | B15: =' Planilha Orcamentaria Praça'!D30 -> PLAYGRAUND | C15: Físico % | D15: =D16/$D$24 -> 0.0298 | F15: 1 | M15: =F15+G15+H15+I15+J15+K15+L15 -> 1
C16: Financeiro | D16: =' Planilha Orcamentaria Praça'!I34 -> 5177.12 | F16: =F15*$D$16 -> 5177.12 | L16: =L15*$D$16 -> 0 | M16: =F16+G16+H16+I16+J16+K16+L16 -> 5177.12
A17: 5 | B17: =' Planilha Orcamentaria Praça'!D35 -> ELÉTRICA | C17: Físico % | D17: =D18/$D$24 -> 0.1207 | E17: 0.4 | F17: 0.6 | H17: 0 | M17: =E17+F17+G17+H17+I17+J17+K17+L17 -> 1
C18: Financeiro | D18: =' Planilha Orcamentaria Praça'!I47 -> 21002.92 | E18: =E17*$D$18 -> 8401.168 | F18: =F17*$D$18 -> 12601.752 | H18: =H17*$D$18 -> 0 | L18: =L17*$D$18 -> 0 | M18: =E18+F18+G18+H18+I18+J18+K18+L18 -> 21002.92
A19: 6 | B19: PINTURA | C19: Físico % | D19: =D20/$D$24 -> 0.0124 | F19: 1
C20: Financeiro | D20: =' Planilha Orcamentaria Praça'!I50 -> 2154.75 | F20: =F19*$D$20 -> 2154.75
D22: =SUM('[1]Planilha Orcamentaria'!J183) -> 0
A23: TOTAL | C23: Físico % | D23: =ROUND((D7+D9+D11+D13+D17+D15),0) -> 1 | E23: =E24/$D$24 -> 0.4412 | F23: =F24/$D$24 -> 0.5588 | M23: =E23+F23+G23+H23+I23+J23+K23+L23 -> 1
C24: Financeiro | D24: =D10+D12+D14+D16+D18+D20 -> 173988.88 | E24: =E8+E10+E12+E18 -> 76769.413 | F24: =F14+F16+F12+F18+F20 -> 97219.467 | M24: =SUM(E24+F24+G24+H24+I24+J24+K24+L24) -> 173988.88
A26: RT:
B27: _______________________________________________________________________________ | G27: Observações: | M27: =M10+M12+M14+M16+M18+#REF!+#REF!+#REF!+#REF!+#REF! -> #REF!
B28: Rodrigo Moretti Batista CREA - 371895 MG
B32: _______________________________________________________________________________
B33: Assinatura da Prefeita
