Workbook

Sheet C. BDI
B1: ESTADO DO PIAUÍ PREFEITURA MUNICIPAL DE ACAUÃ–PI CNPJ. 01.612.559/0001-35 Rua Aureliano Ferreira, n° 70, Bairro Centro, CEP: 64748-000 | D1: Bancos: SINAPI - 01/2026 - Piauí | E1: B.D.I. 21,0% | F1: Encargos Sociais Não Desonerado: embutido nos preços unitário dos insumos de mão de obra, de acordo com as bases.
B2: Obra: EXECUÇÃO DE MUROS PERIMETRAIS DOS CEMITÉRIOS DE SÃO MIGUEL E CASA NOVA – ACAUÃ/PI
A3: COMPOSIÇÃO DO BDI
A4: Item | B4: Descrição dos serviços | C4: Preço de Venda (%) | D4: Custo Direto (%) | E4: FAIXA PERCENTUAIS DOS ITENS QUE COMPÕEM O BDI
E5: MÍNIMO | F5: MÁXIMO
A6: 1 | B6: Administração Central (A) | D6: 0.04 | E6: 0.03 | F6: 0.055
A8: 2 | B8: Impostos e Taxas (I) | C8: =SUM(C9:C12) -> 0.0615
A9: 2.1 | B9: ISS | C9: 0.025
A10: 2.2 | B10: PIS | C10: 0.0065
A11: 2.3 | B11: Cofins | C11: 0.03
A12: 2.4 | B12: CPRB (INSS) | C12: 0 | E12: 0.025 | F12: 0.045
A14: 3 | B14: Risco (R) | D14: 0.01 | E14: 0.0097 | F14: 0.0127
A16: 4 | B16: Seguro, garantia (SG) | D16: 0.0098 | E16: 0.008 | F16: 0.01
A18: 5 | B18: Despesas Financeiras (DF) | D18: 0.008 | E18: 0.0059 | F18: 0.0139
A20: 6 | B20: Lucro (L) | D20: 0.063 | E20: 0.0616 | F20: 0.0896
B22: *BDI (%) | D22: =(((1+D6+D14+D16)*(1+D18)*(1+D20))/((1-C8)))-1 -> 0.20999461

Sheet Orçamento Sintético
C1: ESTADO DO PIAUÍ PREFEITURA MUNICIPAL DE ACAUÃ–PI CNPJ. 01.612.559/0001-35 Rua Aureliano Ferreira, n° 70, Bairro Centro, CEP: 64748-000 | E1: Bancos: SINAPI - 01/2026 - Piauí | G1: BDI 21% | I1: Encargos Sociais Não Desonerado: embutido nos preços unitário dos insumos de mão de obra, de acordo com as bases.
C2: Obra: EXECUÇÃO DE MUROS PERIMETRAIS DOS CEMITÉRIOS DE SÃO MIGUEL E CASA NOVA – ACAUÃ/PI
A3: ORÇAMENTO SINTÉTICO
A4: Item | B4: Código | C4: Banco | D4: Descrição | E4: Und | F4: Quant. | G4: Valor Unit | H4: Valor Unit com BDI | I4: Total | J4: Peso (%)
A5: 1 | D5: SERVIÇOS PRELIMINARES | F5: 1 | I5: =SUM(I6:I7) -> 22453.23 | J5: 0.0925
A6: 1.1 | B6: 103689 | C6: SINAPI | D6: FORNECIMENTO E INSTALAÇÃO DE PLACA DE OBRA COM CHAPA GALVANIZADA E ESTRUTURA DE MADEIRA. AF_03/2022_PS | E6: m² | F6: 6 | G6: 464.73 | H6: 562.32 | I6: =G6*F6 -> 2788.38 | J6: 0.0115
A7: 1.2 | B7: 00000181 | C7: Próprio | D7: ADMINISTRAÇÃO LOCAL | E7: % | F7: 8 | G7: 19664.85 | H7: 23794.47 | I7: =G7 -> 19664.85 | J7: 0.081
A8: 2 | D8: LIMPEZA E MOVIMENTO DE TERRA | F8: 1 | I8: =SUM(I9:I10) -> 7018.4888 | J8: 0.0289
A9: 2.1 | B9: 96522 | C9: SINAPI | D9: ESCAVAÇÃO MANUAL PARA BLOCO DE COROAMENTO OU SAPATA (SEM ESCAVAÇÃO PARA COLOCAÇÃO DE FÔRMAS). AF_01/2024 | E9: m³ | F9: 23.03 | G9: 146.56 | H9: 177.34 | I9: =G9*F9 -> 3375.2768 | J9: 0.0139
A10: 2.2 | B10: 96526 | C10: SINAPI | D10: ESCAVAÇÃO MANUAL PARA VIGA BALDRAME OU SAPATA CORRIDA (SEM ESCAVAÇÃO PARA COLOCAÇÃO DE FÔRMAS). AF_01/2024 | E10: m³ | F10: 17.4 | G10: 209.38 | H10: 253.35 | I10: =G10*F10 -> 3643.212 | J10: 0.015
A11: 3 | D11: INFRAESTRUTURA | F11: 1 | I11: =SUM(I12:I18) -> 42227.17 | J11: 0.174
A12: 3.1 | B12: 96619 | C12: SINAPI | D12: LASTRO DE CONCRETO MAGRO, APLICADO EM BLOCOS DE COROAMENTO OU SAPATAS, ESPESSURA DE 5 CM. AF_01/2024 | E12: m² | F12: 46.06 | G12: 49.59 | H12: 60 | I12: =G12*F12 -> 2284.1154 | J12: 0.0094
A13: 3.2 | B13: 95241 | C13: SINAPI | D13: LASTRO DE CONCRETO MAGRO, APLICADO EM PISOS, LAJES SOBRE SOLO OU RADIERS, ESPESSURA DE 5 CM. AF_01/2024 | E13: m² | F13: 17.4 | G13: 46.54 | H13: 56.31 | I13: =G13*F13 -> 809.796 | J13: 0.0033
A14: 3.3 | B14: 94964 | C14: SINAPI | D14: CONCRETO FCK = 20MPA, TRAÇO 1:2,7:3(EM MASSA SECA DE CIMENTO/ AREIA MÉDIA/ BRITA 1) - PREPARO MECÂNICO COM BETONEIRA 400 L. AF_05/2021 | E14: M³ | F14: 33.47 | G14: 667.38 | H14: 807.52 | I14: =G14*F14 -> 22337.209 | J14: 0.092
A15: 3.4 | B15: 104919 | C15: SINAPI | D15: ARMAÇÃO DE SAPATA ISOLADA, VIGA BALDRAME E SAPATA CORRIDA UTILIZANDO AÇO CA-50 DE 10 MM - MONTAGEM. AF_01/2024 | E15: KG | F15: 718 | G15: 11.94 | H15: 14.45 | I15: =G15*F15 -> 8572.92 | J15: 0.0353
A16: 3.5 | B16: 104918 | C16: SINAPI | D16: ARMAÇÃO DE SAPATA ISOLADA, VIGA BALDRAME E SAPATA CORRIDA UTILIZANDO AÇO CA-50 DE 8 MM - MONTAGEM. AF_01/2024 | E16: KG | F16: 190 | G16: 13.46 | H16: 16.29 | I16: =G16*F16 -> 2557.4 | J16: 0.0105
A17: 3.6 | B17: 92799 | C17: SINAPI | D17: CORTE E DOBRA DE AÇO CA-60, DIÂMETRO DE 4,2 MM. AF_06/2022 | E17: KG | F17: 181 | G17: 10.33 | H17: 12.5 | I17: =G17*F17 -> 1869.73 | J17: 0.0077
A18: 3.7 | B18: 103334 | C18: SINAPI | D18: ALVENARIA DE VEDAÇÃO DE BLOCOS CERÂMICOS FURADOS NA HORIZONTAL DE 14X9X19 CM (ESPESSURA 14 CM, BLOCO DEITADO) E ARGAMASSA DE ASSENTAMENTO COM PREPARO EM BETONEIRA. AF_12/2021 | E18: m² | F18: 25 | G18: 151.84 | H18: 183.73 | I18: =G18*F18 -> 3796 | J18: 0.0156
A19: 4 | D19: SUPERESTRUTURA | F19: 1 | I19: =SUM(I20:I23) -> 41626.8 | J19: 0.1715
A20: 4.1 | B20: 92761 | C20: SINAPI | D20: ARMAÇÃO DE PILAR OU VIGA DE ESTRUTURA CONVENCIONAL DE CONCRETO ARMADO UTILIZANDO AÇO CA-50 DE 8,0 MM - MONTAGEM. AF_06/2022 | E20: KG | F20: 925 | G20: 11.57 | H20: 14 | I20: =G20*F20 -> 10702.25 | J20: 0.0441
A21: 4.2 | B21: 92799 | C21: SINAPI | D21: CORTE E DOBRA DE AÇO CA-60, DIÂMETRO DE 4,2 MM. AF_06/2022 | E21: KG | F21: 266 | G21: 10.33 | H21: 12.5 | I21: =G21*F21 -> 2747.78 | J21: 0.0113
A22: 4.3 | B22: 92479 | C22: SINAPI | D22: MONTAGEM E DESMONTAGEM DE FÔRMA DE VIGA, ESCORAMENTO COM GARFO DE MADEIRA, PÉ-DIREITO SIMPLES, EM CHAPA DE MADEIRA PLASTIFICADA, 18 UTILIZAÇÕES. AF_09/2020 | E22: m² | F22: 25 | G22: 71.75 | H22: 86.82 | I22: =G22*F22 -> 1793.75 | J22: 0.0074
A23: 4.4 | B23: 94971 | C23: SINAPI | D23: CONCRETO FCK = 25MPA, TRAÇO 1:2,3:2,7 (EM MASSA SECA DE CIMENTO/ AREIA MÉDIA/ BRITA 1) - PREPARO MECÂNICO COM BETONEIRA 600 L. AF_05/2021 | E23: m³ | F23: 38 | G23: 694.29 | H23: 840.09 | I23: =G23*F23 -> 26383.02 | J23: 0.1087
A24: 5 | D24: VEDAÇÃO E REVESTIMENTO | F24: 1 | I24: =SUM(I25:I26) -> 71598.81 | J24: 0.295
A25: 5.1 | B25: 103356 | C25: SINAPI | D25: ALVENARIA DE VEDAÇÃO DE BLOCOS CERÂMICOS FURADOS NA HORIZONTAL DE 9X19X29 CM (ESPESSURA 9 CM) E ARGAMASSA DE ASSENTAMENTO COM PREPARO EM BETONEIRA. AF_12/2021 | E25: m² | F25: 405.5 | G25: 65.98 | H25: 79.83 | I25: =G25*F25 -> 26754.89 | J25: 0.1102
A26: 5.2 | B26: 877792 | C26: SINAPI | D26: EMBOÇO OU MASSA ÚNICA EM ARGAMASSA TRAÇO 1:2:8, PREPARO MECÂNICO COM BETONEIRA 400 L, APLICADA MANUALMENTE EM PANOS CEGOS DE FACHADA (SEM PRESENÇA DE VÃOS), ESPESSURA DE 25 MM. AF_08/2022 | E26: m² | F26: 1048 | G26: 42.79 | H26: 51.77 | I26: =G26*F26 -> 44843.92 | J26: 0.1848
A27: 6 | D27: PINTURA | F27: 1 | I27: =SUM(I28:I29) -> 20718.96 | J27: 0.0854
A28: 6.1 | B28: 88485 | C28: SINAPI | D28: FUNDO SELADOR ACRÍLICO, APLICAÇÃO MANUAL EM PAREDE, UMA DEMÃO. AF_04/2023 | E28: m² | F28: 1048 | G28: 4.03 | H28: 4.91 | I28: =F28*G28 -> 4223.44 | J28: 0.0174
A29: 6.2 | B29: 95626 | C29: SINAPI | D29: APLICAÇÃO MANUAL DE TINTA LÁTEX ACRÍLICA EM PAREDE EXTERNAS DE CASAS, DUAS DEMÃOS. AF_03/2024 | E29: m² | F29: 1048 | G29: 15.74 | H29: 17.76 | I29: =F29*G29 -> 16495.52 | J29: 0.068
A30: 7 | D30: INSTALAÇÕES ELÉTRICAS | F30: 1 | I30: =SUM(I31:I34) -> 16610.92 | J30: 0.0684
A31: 7.1 | B31: 100623 | C31: SINAPI | D31: POSTE DE AÇO CÔNICO CONTÍNUO CURVO DUPLO, ENGASTAMENTO SIMPLES COM 1 M DE SOLO, H=9M - FORNECIMENTO E INSTALAÇÃO. AF_04/2025 | E31: UN | F31: 4 | G31: 2457.66 | H31: 2973.77 | I31: =G31*F31 -> 9830.64 | J31: 0.0405
A32: 7.2 | B32: C1947 | C32: SEINFRA | D32: PONTO ELÉTRICO, MATERIAL E EXECUÇÃO | E32: PT | F32: 4 | G32: 294.16 | H32: 355.93 | I32: =G32*F32 -> 1176.64 | J32: 0.0048
A33: 7.3 | B33: C0630 | C33: SEINFRA | D33: CAIXA DE PASSAGEM COM TAMPA PARAFUSADA 500X500X150mm | E33: UN | F33: 4 | G33: 237.39 | H33: 287.24 | I33: =G33*F33 -> 949.56 | J33: 0.0039
A34: 7.4 | B34: 101659 | C34: SINAPI | D34: LUMINÁRIA DE LED PARA ILUMINAÇÃO PÚBLICA, DE 181 W ATÉ 239 W - FORNECIMENTO E INSTALAÇÃO. AF_02/2025_PS | E34: UN | F34: 8 | G34: 581.76 | H34: 703.93 | I34: =G34*F34 -> 4654.08 | J34: 0.0192
A35: 8 | D35: OUTROS | F35: 1 | I35: =SUM(I36:I39) -> 11995.484 | J35: 0.0494
A36: 8.1 | B36: 100701 | C36: SINAPI | D36: PORTA DE FERRO, DE ABRIR, TIPO GRADE COM CHAPA,COM GUARNIÇÕES, INCLUINDO PINTURA E INSTALAÇÃO. AF_10/2025 | E36: m² | F36: 16.2 | G36: 441.64 | H36: 534.38 | I36: =G36*F36 -> 7154.568 | J36: 0.0295
A37: 8.2 | B37: 98685 | C37: SINAPI | D37: RODAPÉ EM GRANITO, ALTURA 10 CM. AF_09/2020 | E37: M | F37: 52 | G37: 82.92 | H37: 100.33 | I37: =G37*F37 -> 4311.84 | J37: 0.0178
A38: 8.3 | B38: 88315 | C38: SINAPI | D38: SERRALHEIRO ENCARGOS COMPLEMENTARES | E38: H | F38: 8 | G38: 27.63 | H38: 33.43 | I38: =G38*F38 -> 221.04 | J38: 0.0009
A39: 8.4 | B39: 40535 | C39: SINAPI | D39: PERFIL "U" SIMPLES, EM CHAPA DOBRADA DE ACO LAMINADO, E = 2,65 MM, H = 75 MM, L = 40 MM (3,04 KG/M) | E39: KG | F39: 35.57 | G39: 8.66 | H39: 10.48 | I39: =G39*F39 -> 308.0362 | J39: 0.0013
A40: 9 | D40: SERVIÇOS FINAIS | F40: 1 | I40: =SUM(I41:I42) -> 8475.84 | J40: 0.0349
...

Sheet Orçamento Analitico
C1: ESTADO DO PIAUÍ PREFEITURA MUNICIPAL DE ACAUÃ–PI CNPJ. 01.612.559/0001-35 Rua Aureliano Ferreira, n° 70, Bairro Centro, CEP: 64748-000 | E1: Bancos: SINAPI - 01/2026 - Piauí | G1: BDI 21%
C2: Obra: EXECUÇÃO DE MUROS PERIMETRAIS DOS CEMITÉRIOS DE SÃO MIGUEL E CASA NOVA – ACAUÃ/PI
A3: ORÇAMENTO ANALITICO
A4: Item | B4: Código | C4: Banco | D4: Descrição | E4: Und | F4: Quant. | G4: Valor Unit
A5: 1 | D5: SERVIÇOS PRELIMINARES | F5: 1 | G5: =SUM(G6,G14) -> 20129.58
A6: 1.1 | B6: 103689 | C6: SINAPI | D6: FORNECIMENTO E INSTALAÇÃO DE PLACA DE OBRA COM CHAPA GALVANIZADA E ESTRUTURA DE MADEIRA. AF_03/2022_PS | E6: m² | F6: 6 | G6: 464.73
A7: C | B7: 88262 | C7: Livro SINAPI: Cálculos e Parâmetros | D7: CARPINTEIRO DE FORMAS COM ENCARGOS COMPLEMENTARES | E7: H | G7: 10.12
A8: C | B8: 102234 | C8: Pintura em Madeira | D8: PINTURA IMUNIZANTE PARA MADEIRA, 2 DEMÃOS. AF_01/2021 | E8: m² | G8: 12.59
A9: C | B9: 88316 | C9: Livro SINAPI: Cálculos e Parâmetros | D9: SERVENTE COM ENCARGOS COMPLEMENTARES | E9: H | G9: 25.12
A10: I | B10: 4813 | C10: Material | D10: PLACA DE OBRA (PARA CONSTRUCAO CIVIL) EM CHAPA GALVANIZADA *N. 22*, ADESIVADA, DE *2,4 X 1,2* M (SEM POSTES PARA FIXACAO) | E10: m² | G10: 400
A11: I | B11: 5065 | C11: Material | D11: PREGO DE ACO POLIDO COM CABECA 10 X 10 (7/8 X 17) | E11: KG | G11: 0.43
A12: I | B12: 5069 | C12: Material | D12: PREGO DE ACO POLIDO COM CABECA 17 X 27 (2 1/2 X 11) | E12: KG | G12: 0.27
A13: I | B13: 4509 | C13: Material | D13: SARRAFO *2,5 X 10* CM EM PINUS, MISTA OU EQUIVALENTE DA REGIAO - BRUTA | E13: M | G13: 16.2
A14: 1.2 | B14: 00000181 | C14: Próprio | D14: ADMINISTRAÇÃO LOCAL | E14: % | F14: 8 | G14: 19664.85
A15: 2 | D15: LIMPEZA E MOVIMENTO DE TERRA | F15: 1 | G15: =SUM(G19,G16) -> 355.94
A16: 2.1 | B16: 96522 | C16: SINAPI | D16: ESCAVAÇÃO MANUAL PARA BLOCO DE COROAMENTO OU SAPATA (SEM ESCAVAÇÃO PARA COLOCAÇÃO DE FÔRMAS). AF_01/2024 | E16: m³ | F16: 23.03 | G16: 146.56
A17: C | B17: 88309 | C17: Livro SINAPI: Cálculos e Parâmetros | D17: PEDREIRO COM ENCARGOS COMPLEMENTARES | E17: H | G17: 46.82
A18: C | B18: 88316 | C18: Livro SINAPI: Cálculos e Parâmetros | D18: SERVENTE COM ENCARGOS COMPLEMENTARES | E18: H | G18: 99.74
A19: 2.2 | B19: 96526 | C19: SINAPI | D19: ESCAVAÇÃO MANUAL PARA VIGA BALDRAME OU SAPATA CORRIDA (SEM ESCAVAÇÃO PARA COLOCAÇÃO DE FÔRMAS). AF_01/2024 | E19: m³ | F19: 17.4 | G19: 209.38
A20: C | B20: 88309 | C20: Livro SINAPI: Cálculos e Parâmetros | D20: PEDREIRO COM ENCARGOS COMPLEMENTARES | E20: H | G20: 75.16
A21: C | B21: 88316 | C21: Livro SINAPI: Cálculos e Parâmetros | D21: SERVENTE COM ENCARGOS COMPLEMENTARES | E21: H | G21: 134.22
A22: 3 | D22: INFRAESTRUTURA | F22: 1
A23: 3.1 | B23: 96619 | C23: SINAPI | D23: LASTRO DE CONCRETO MAGRO, APLICADO EM BLOCOS DE COROAMENTO OU SAPATAS, ESPESSURA DE 5 CM. AF_01/2024 | E23: m² | F23: 46.06 | G23: 49.59
A24: C | B24: 94968 | C24: Produção de Concreto | D24: CONCRETO MAGRO PARA LASTRO, TRAÇO 1:4,5:4,5 (EM MASSA SECA DE CIMENTO/ AREIA MÉDIA/ BRITA 1) - PREPARO MECÂNICO COM BETONEIRA 600 L. AF_05/2021 | E24: m³ | F24: 37.73 | G24: 37.41
A25: C | B25: 88309 | C25: Livro SINAPI: Cálculos e Parâmetros | D25: PEDREIRO COM ENCARGOS COMPLEMENTARES | E25: H | F25: 9.99 | G25: 9.43
A26: C | B26: 88316 | C26: Livro SINAPI: Cálculos e Parâmetros | D26: SERVENTE COM ENCARGOS COMPLEMENTARES | E26: H | F26: 2.9 | G26: 2.75
A27: 3.2 | B27: 95241 | C27: SINAPI | D27: LASTRO DE CONCRETO MAGRO, APLICADO EM PISOS, LAJES SOBRE SOLO OU RADIERS, ESPESSURA DE 5 CM. AF_01/2024 | E27: m² | F27: 17.4 | G27: 46.54
A28: C | B28: 94968 | C28: Produção de Concreto | D28: CONCRETO MAGRO PARA LASTRO, TRAÇO 1:4,5:4,5 (EM MASSA SECA DE CIMENTO/ AREIA MÉDIA/ BRITA 1) - PREPARO MECÂNICO COM BETONEIRA 600 L. AF_05/2021 | E28: m³ | G28: 37.41
A29: C | B29: 88309 | C29: Livro SINAPI: Cálculos e Parâmetros | D29: PEDREIRO COM ENCARGOS COMPLEMENTARES | E29: H | G29: 7.07
A30: C | B30: 88316 | C30: Livro SINAPI: Cálculos e Parâmetros | D30: SERVENTE COM ENCARGOS COMPLEMENTARES | E30: H | G30: 2.06
A31: 3.3 | B31: 94964 | C31: SINAPI | D31: CONCRETO FCK = 20MPA, TRAÇO 1:2,7:3(EM MASSA SECA DE CIMENTO/ AREIA MÉDIA/ BRITA 1) - PREPARO MECÂNICO COM BETONEIRA 400 L. AF_05/2021 | E31: M³ | F31: 33.47 | G31: 667.38
A32: C | B32: 88831 | C32: Custos Horários Produtivo e Improdutivo dos Equipamentos | D32: BETONEIRA CAPACIDADE NOMINAL DE 400 L, CAPACIDADE DE MISTURA 280 L, MOTOR ELÉTRICO TRIFÁSICO POTÊNCIA DE 2 CV, SEM CARREGADOR - CHI DIURNO. AF_05/2023 | E32: CHI | G32: 0.42
A33: C | B33: 88830 | C33: Custos Horários Produtivo e Improdutivo dos Equipamentos | D33: BETONEIRA CAPACIDADE NOMINAL DE 400 L, CAPACIDADE DE MISTURA 280 L, MOTOR ELÉTRICO TRIFÁSICO POTÊNCIA DE 2 CV, SEM CARREGADOR - CHP DIURNO. AF_05/2023 | E33: CHP | G33: 1.97
A34: C | B34: 88377 | C34: Livro SINAPI: Cálculos e Parâmetros | D34: OPERADOR DE BETONEIRA ESTACIONÁRIA/MISTURADOR COM ENCARGOS COMPLEMENTARES | E34: H | G34: 41.35
A35: C | B35: 88316 | C35: Livro SINAPI: Cálculos e Parâmetros | D35: SERVENTE COM ENCARGOS COMPLEMENTARES | E35: H | G35: 56.89
A36: I | B36: 370 | C36: Material | D36: AREIA MEDIA - POSTO JAZIDA/FORNECEDOR (RETIRADO NA JAZIDA, SEM TRANSPORTE) | E36: m³ | G36: 71.8
A37: I | B37: 1379 | C37: Material | D37: CIMENTO PORTLAND COMPOSTO CP II-32 | E37: KG | G37: 348.81
A38: I | B38: 4721 | C38: Material | D38: PEDRA BRITADA N. 1 (9,5 A 19 MM) POSTO PEDREIRA/FORNECEDOR, SEM FRETE | E38: m³ | G38: 146.14
A39: 3.4 | B39: 104919 | C39: SINAPI | D39: ARMAÇÃO DE SAPATA ISOLADA, VIGA BALDRAME E SAPATA CORRIDA UTILIZANDO AÇO CA-50 DE 10 MM - MONTAGEM. AF_01/2024 | E39: KG | F39: 718 | G39: 11.94
A40: C | B40: 88238 | C40: Livro SINAPI: Cálculos e Parâmetros | D40: AJUDANTE DE ARMADOR COM ENCARGOS COMPLEMENTARES | E40: H | G40: 0.7
...

Sheet CRONOGRAMA
B1: ESTADO DO PIAUÍ PREFEITURA MUNICIPAL DE ACAUÃ–PI CNPJ. 01.612.559/0001-35 Rua Aureliano Ferreira, n° 70, Bairro Centro, CEP: 64748-000 | C1: Bancos: SINAPI - 01/2026 - Piauí | D1: B.D.I. 21,0% | F1: Encargos Sociais Não Desonerado: embutido nos preços unitário dos insumos de mão de obra, de acordo com as bases.
B2: Obra: EXECUÇÃO DE MUROS PERIMETRAIS DOS CEMITÉRIOS DE SÃO MIGUEL E CASA NOVA – ACAUÃ/PI
A3: CRONOGRAMA FISICO-FINANCEIRO
A4: Item | B4: Descrição | C4: Total Por Etapa | D4: 30 DIAS | E4: 60 DIAS | F4: 90 DIAS | G4: 120 DIAS | H4: 150 DIAS
A5: 1 | B5: SERVIÇOS PRELIMINARES | C5: =('Orçamento Sintético'!I5)*1.21 -> 27168.408 | D5: =C5 -> 27168.408
D6: 1
A7: 2 | B7: LIMPEZA E MOVIMENTO DE TERRA | C7: =('Orçamento Sintético'!I8)*1.21 -> 8492.3714 | D7: =C7 -> 8492.3714
D8: 1
A9: 3 | B9: INFRAESTRUTURA | C9: =('Orçamento Sintético'!I11)*1.21 -> 51094.876 | D9: =C9*0.4 -> 20437.95 | E9: =C9*0.6 -> 30656.925
D10: 0.4 | E10: 0.6
A11: 4 | B11: SUPERESTRUTURA | C11: =('Orçamento Sintético'!I19)*1.21 -> 50368.428 | E11: =C11*0.5 -> 25184.214 | F11: =C11*0.5 -> 25184.214
E12: 0.5 | F12: 0.5
A13: 5 | B13: VEDAÇÃO E REVESTIMENTO | C13: =('Orçamento Sintético'!I24)*1.21 -> 86634.56 | F13: =C13*0.4 -> 34653.824 | G13: =C13*0.6 -> 51980.736
F14: 0.4 | G14: 0.6
A15: 6 | B15: PINTURA | C15: =('Orçamento Sintético'!I27)*1.21 -> 25069.942 | H15: =C15 -> 25069.942
H16: 1
A17: 7 | B17: INSTALAÇÕES ELETRICAS | C17: =('Orçamento Sintético'!I30)*1.21 -> 20099.213 | H17: =C17 -> 20099.213
H18: 1
A19: 8 | B19: OUTROS | C19: =('Orçamento Sintético'!I35)*1.21 -> 14514.536 | H19: =C19 -> 14514.536
H20: 1
A21: 9 | B21: SERVIÇOS FINAIS | C21: =('Orçamento Sintético'!I40)*1.21 -> 10255.766 | H21: =C21 -> 10255.766
H22: 1
A23: Porcentagem | C23: =SUM(C5:C21) -> 293698.1 | D23: 0.191 | E23: 0.1901 | F23: 0.2037 | G23: 0.177 | H23: 0.2382 | I23: 1
A24: Custo | D24: =SUM(D11,D9,D7,D5) -> 56098.73 | E24: =SUM(E9,E11) -> 55841.139 | F24: =SUM(F11,F13) -> 59838.038 | G24: =G13 -> 51980.736 | H24: =SUM(H15,H17,H19,H21) -> 69939.457
A25: Porcentagem Acumulado | D25: =I23-D23 -> 0.809 | E25: =D25-E23 -> 0.6189 | F25: =E25-F23 -> 0.4152 | G25: =F25-G23 -> 0.2382 | H25: =G25-H23 -> 0
A26: Custo Acumulado | D26: =C23-D24 -> 237599.37 | E26: =D26-E24 -> 181758.23 | F26: =E26-F24 -> 121920.19 | G26: =F26-G24 -> 69939.457 | H26: =G26-H24 -> 0

Sheet MEMORIA DE CALCULO
C1: ESTADO DO PIAUÍ PREFEITURA MUNICIPAL DE ACAUÃ–PI CNPJ. 01.612.559/0001-35 Rua Aureliano Ferreira, n° 70, Bairro Centro, CEP: 64748-000 | E1: Bancos: SINAPI - 01/2026 - Piauí | G1: BDI 21% | I1: Encargos Sociais Não Desonerado: embutido nos preços unitário dos insumos de mão de obra, de acordo com as bases.
C2: Obra: EXECUÇÃO DE MUROS PERIMETRAIS DOS CEMITÉRIOS DE SÃO MIGUEL E CASA NOVA – ACAUÃ/PI | K2: CEMITERIO 1 (SÃO MIGUEL) - 36+9+44,34+42,63 = 132 M
A3: ORÇAMENTO SINTÉTICO | K3: CEMITERIO 2 (CASA NOVA) - 45+31+45+31+6= 158 M
A4: Item | B4: Código | C4: Banco | D4: Descrição | E4: Und | F4: Quant. | G4: Valor Unit | H4: Total
A5: 1 | D5: SERVIÇOS PRELIMINARES | F5: 1 | H5: 22453.23
A6: 1.1 | B6: 103689 | C6: SINAPI | D6: FORNECIMENTO E INSTALAÇÃO DE PLACA DE OBRA COM CHAPA GALVANIZADA E ESTRUTURA DE MADEIRA. AF_03/2022_PS | E6: m² | F6: 6 | G6: 464.73 | H6: 2788.38 | I6: COMPRIMENTO 3 METROS X LARGURA 2 METROS
A7: 1.2 | B7: 00000181 | C7: Próprio | D7: ADMINISTRAÇÃO LOCAL | E7: % | F7: 8 | G7: 15007.98 | H7: 19664.85
A8: 2 | D8: LIMPEZA E MOVIMENTO DE TERRA | F8: 1 | H8: 7018.4888
A9: 2.1 | B9: 96522 | C9: SINAPI | D9: ESCAVAÇÃO MANUAL PARA BLOCO DE COROAMENTO OU SAPATA (SEM ESCAVAÇÃO PARA COLOCAÇÃO DE FÔRMAS). AF_01/2024 | E9: m³ | F9: 23.03 | G9: 146.56 | H9: 3375.2768 | I9: 94 SAPATAS - 0,70X0,70X0,50= 0,245 M³ X94= 23,03 M³
A10: 2.2 | B10: 96526 | C10: SINAPI | D10: ESCAVAÇÃO MANUAL PARA VIGA BALDRAME OU SAPATA CORRIDA (SEM ESCAVAÇÃO PARA COLOCAÇÃO DE FÔRMAS). AF_01/2024 | E10: m³ | F10: 17.4 | G10: 209.38 | H10: 3643.212 | I10: 132 M + 158 M = 290X0,20X0,3= 17,4 M³
A11: 3 | D11: INFRAESTRUTURA | F11: 1 | H11: 42227.17
A12: 3.1 | B12: 96619 | C12: SINAPI | D12: LASTRO DE CONCRETO MAGRO, APLICADO EM BLOCOS DE COROAMENTO OU SAPATAS, ESPESSURA DE 5 CM. AF_01/2024 | E12: m² | F12: 46.06 | G12: 49.59 | H12: 2284.1154 | I12: 0,7X0,7= 0,49X94=46,06 M²
A13: 3.2 | B13: 95241 | C13: SINAPI | D13: LASTRO DE CONCRETO MAGRO, APLICADO EM PISOS, LAJES SOBRE SOLO OU RADIERS, ESPESSURA DE 5 CM. AF_01/2024 | E13: m² | F13: 17.4 | G13: 46.54 | H13: 809.796 | I13: 290X0,2X0,30= 17,4
A14: 3.3 | B14: 94964 | C14: SINAPI | D14: CONCRETO FCK = 20MPA, TRAÇO 1:2,7:3(EM MASSA SECA DE CIMENTO/ AREIA MÉDIA/ BRITA 1) - PREPARO MECÂNICO COM BETONEIRA 400 L. AF_05/2021 | E14: M³ | F14: 33.47 | G14: 667.38 | H14: 22337.209 | I14: SAPATAS 0,70X0,70X0,35= 0,171X94= 16,07 M³ / VIGAS 290X0,2X0,3= 17,4 M³
A15: 3.4 | B15: 104919 | C15: SINAPI | D15: ARMAÇÃO DE SAPATA ISOLADA, VIGA BALDRAME E SAPATA CORRIDA UTILIZANDO AÇO CA-50 DE 10 MM - MONTAGEM. AF_01/2024 | E15: KG | F15: 718 | G15: 11.94 | H15: 8572.92 | I15: VIGAS 290X4= 1160/12=97X7,40=718 KG
A16: 3.5 | B16: 104918 | C16: SINAPI | D16: ARMAÇÃO DE SAPATA ISOLADA, VIGA BALDRAME E SAPATA CORRIDA UTILIZANDO AÇO CA-50 DE 8 MM - MONTAGEM. AF_01/2024 | E16: KG | F16: 190 | G16: 13.46 | H16: 2557.4 | I16: SAPATAS 8X0,64=5,12X94=482/12=40 UND. X4,74 = 190 KG
A17: 3.6 | B17: 92799 | C17: SINAPI | D17: CORTE E DOBRA DE AÇO CA-60, DIÂMETRO DE 4,2 MM. AF_06/2022 | E17: KG | F17: 181 | G17: 10.33 | H17: 1869.73 | I17: ESTRIBO 290/0,15 = 1934X0,86=1663/12=139 UND. 1,30=181 KG
A18: 3.7 | B18: 103334 | C18: SINAPI | D18: ALVENARIA DE VEDAÇÃO DE BLOCOS CERÂMICOS FURADOS NA HORIZONTAL DE 14X9X19 CM (ESPESSURA 14 CM, BLOCO DEITADO) E ARGAMASSA DE ASSENTAMENTO COM PREPARO EM BETONEIRA. AF_12/2021 | E18: m² | F18: 25 | G18: 151.84 | H18: 3796 | I18: 41X0,61= 25 M²
A19: 4 | D19: SUPERESTRUTURA | F19: 1 | H19: 41626.8
A20: 3.5 | B20: 92761 | C20: SINAPI | D20: ARMAÇÃO DE PILAR OU VIGA DE ESTRUTURA CONVENCIONAL DE CONCRETO ARMADO UTILIZANDO AÇO CA-50 DE 8,0 MM - MONTAGEM. AF_06/2022 | E20: KG | F20: 925 | G20: 11.57 | H20: 10702.25 | I20: PILARES=26X3,5=91MX4=364M/12= 30 UND. / 62X2,8=174M X4=696M/12=58 UND. / 6X4,86=29,16X4=116,64M /12= 10 UND. 98 UND. X 4,74=465 KG VIGAS= 290X4=1160/12=97UND. X4,74= 460 KG
A21: 3.6 | B21: 92799 | C21: SINAPI | D21: CORTE E DOBRA DE AÇO CA-60, DIÂMETRO DE 4,2 MM. AF_06/2022 | E21: KG | F21: 266 | G21: 10.33 | H21: 2747.78 | I21: ESTRIBO PILARES= 91+174+30=295 M /0,15=1967 UND. X0,66=1298 M/12= 108 UND. X1,30= 140 KG ESTRIBO VIGAS= 290/0,15=1934 X0,6=1160/12=97 UND. X 1,30= 126 KG
A22: 4.3 | B22: 92479 | C22: SINAPI | D22: MONTAGEM E DESMONTAGEM DE FÔRMA DE VIGA, ESCORAMENTO COM GARFO DE MADEIRA, PÉ-DIREITO SIMPLES, EM CHAPA DE MADEIRA PLASTIFICADA, 18 UTILIZAÇÕES. AF_09/2020 | E22: m² | F22: 25 | G22: 71.75 | H22: 1793.75 | I22: PILARES 0,25X0,35 = 0,875 M² _ 0,15X35= 0,525 M²_ 28 M²X 94=263 M²_ 94/18=5X2,8=14 M² VIGAS 290X0,12=34,8_ 290X0,25=72,5_15X0,12=1,8X2=3,6 _15X0,25=3,75X2=7,5_ 3,6+7,5= 11 M²
A23: 4.4 | B23: 94971 | C23: SINAPI | D23: CONCRETO FCK = 25MPA, TRAÇO 1:2,3:2,7 (EM MASSA SECA DE CIMENTO/ AREIA MÉDIA/ BRITA 1) - PREPARO MECÂNICO COM BETONEIRA 600 L. AF_05/2021 | E23: m³ | F23: 38 | G23: 694.29 | H23: 26383.02 | I23: PILARES 3,5X0,25X0,15=0,31X94=29,14 M³ VIGAS 0,12X0,25X290=8,52 M³
A24: 5 | D24: VEDAÇÃO E REVESTIMENTO | F24: 1 | H24: 71598.81
A25: 5.1 | B25: 103356 | C25: SINAPI | D25: ALVENARIA DE VEDAÇÃO DE BLOCOS CERÂMICOS FURADOS NA HORIZONTAL DE 9X19X29 CM (ESPESSURA 9 CM) E ARGAMASSA DE ASSENTAMENTO COM PREPARO EM BETONEIRA. AF_12/2021 | E25: m² | F25: 405.5 | G25: 65.98 | H25: 26754.89 | I25: CEMITERIO 1 = 132-6-10,75= 115,25 M_116X1,55=179,80 M² CEMITERIO 2= 152-6-12,75= 133,25 MX1,55=207,70 M² _ 6X3=18 M²
A26: 5.4 | B26: 877792 | C26: SINAPI | D26: EMBOÇO OU MASSA ÚNICA EM ARGAMASSA TRAÇO 1:2:8, PREPARO MECÂNICO COM BETONEIRA 400 L, APLICADA MANUALMENTE EM PANOS CEGOS DE FACHADA (SEM PRESENÇA DE VÃOS), ESPESSURA DE 25 MM. AF_08/2022 | E26: m² | F26: 1048 | G26: 42.79 | H26: 44843.92 | I26: CEMITERIO 1 = 132-3= 129 MX1,80=232,2 M² CEMITERIO 2= 152M X1,80= 273,6 M² _ 6X3=18 M² TOTAL 232,2X2=464,4+547,2+36= 1048 M²
A27: 6 | D27: PINTURA | F27: 1 | H27: 20718.96
A28: 6.1 | B28: 88485 | C28: SINAPI | D28: FUNDO SELADOR ACRÍLICO, APLICAÇÃO MANUAL EM PAREDE, UMA DEMÃO. AF_04/2023 | E28: m² | F28: 1048 | G28: 4.03 | H28: 4223.44 | I28: CEMITERIO 1 = 132-3= 129 MX1,80=232,2 M² CEMITERIO 2= 152M X1,80= 273,6 M² _ 6X3=18 M² TOTAL 232,2X2=464,4+547,2+36= 1048 M²
A29: 6.2 | B29: 95626 | C29: SINAPI | D29: APLICAÇÃO MANUAL DE TINTA LÁTEX ACRÍLICA EM PAREDE EXTERNAS DE CASAS, DUAS DEMÃOS. AF_03/2024 | E29: m² | F29: 1048 | G29: 15.74 | H29: 16495.52 | I29: CEMITERIO 1 = 132-3= 129 MX1,80=232,2 M² CEMITERIO 2= 152M X1,80= 273,6 M² _ 6X3=18 M² TOTAL 232,2X2=464,4+547,2+36= 1048 M²
A30: 7 | D30: INSTALAÇÕES ELÉTRICAS | F30: 1 | H30: 16610.92
A31: 7.1 | B31: 100623 | C31: SINAPI | D31: POSTE DE AÇO CÔNICO CONTÍNUO CURVO DUPLO, ENGASTAMENTO SIMPLES COM 1 M DE SOLO, H=9M - FORNECIMENTO E INSTALAÇÃO. AF_04/2025 | E31: UN | F31: 4 | G31: 2457.66 | H31: 9830.64
A32: 7.2 | B32: C1947 | C32: SEINFRA | D32: PONTO ELÉTRICO, MATERIAL E EXECUÇÃO | E32: PT | F32: 4 | G32: 294.16 | H32: 1176.64
A33: 7.3 | B33: C0630 | C33: SEINFRA | D33: CAIXA DE PASSAGEM COM TAMPA PARAFUSADA 500X500X150mm | E33: UN | F33: 4 | G33: 237.39 | H33: 949.56
A34: 7.4 | B34: 101659 | C34: SINAPI | D34: LUMINÁRIA DE LED PARA ILUMINAÇÃO PÚBLICA, DE 181 W ATÉ 239 W - FORNECIMENTO E INSTALAÇÃO. AF_02/2025_PS | E34: UN | F34: 8 | G34: 581.76 | H34: 4654.08
A35: 8 | D35: OUTROS | F35: 1 | H35: 11995.484
A36: 8.1 | B36: 100701 | C36: SINAPI | D36: PORTA DE FERRO, DE ABRIR, TIPO GRADE COM CHAPA,COM GUARNIÇÕES, INCLUINDO PINTURA E INSTALAÇÃO. AF_10/2025 | E36: m² | F36: 16.2 | G36: 441.64 | H36: 7154.568 | I36: DUAS GRADES PARA CADA 1,50X1,80=2,70X2=5,4X3=16,2 M²
A37: 8.2 | B37: 98685 | C37: SINAPI | D37: RODAPÉ EM GRANITO, ALTURA 10 CM. AF_09/2020 | E37: M | F37: 52 | G37: 82.92 | H37: 4311.84 | I37: 1 CRUZ DO PORTAL: 0,8+0,8+0,7+0,7+0,8+0,7= 11,5X3=34,5 M_ 1 CRUZ DO CRUZEIRO: 1,50+1,50+1,30+1,30+1,50+1,30= 8,40X2= 16,8M
A38: 8.3 | B38: 88315 | C38: SINAPI | D38: SERRALHEIRO ENCARGOS COMPLEMENTARES | E38: H | F38: 8 | G38: 27.63 | H38: 221.04
A39: 8.4 | B39: 40535 | C39: SINAPI | D39: PERFIL "U" SIMPLES, EM CHAPA DOBRADA DE ACO LAMINADO, E = 2,65 MM, H = 75 MM, L = 40 MM (3,04 KG/M) | E39: KG | F39: 35.57 | G39: 8.66 | H39: 308.0362 | I39: 1 CRUZ DO PORTAL: 1,00+0,7= 1,70X3=5,10 M_ 1 CRUZ DO CRUZEIRO:2,00+1,30= 3,3X2= 6,60M_ 11,70X3,04= 35,57 KG
A40: 9 | D40: SERVIÇOS FINAIS | F40: 1 | H40: 8475.84
...

Sheet Resumo do Orçamento
D1: ESTADO DO PIAUÍ PREFEITURA MUNICIPAL DE ACAUÃ–PI CNPJ. 01.612.559/0001-35 Rua Aureliano Ferreira, n° 70, Bairro Centro, CEP: 64748-000 | E1: Bancos: SINAPI - 01/2026 - Piauí | F1: B.D.I. 21,0% | H1: Encargos Sociais Não Desonerado: embutido nos preços unitário dos insumos de mão de obra, de acordo com as bases.
D2: Obra: EXECUÇÃO DE MUROS PERIMETRAIS DOS CEMITÉRIOS DE SÃO MIGUEL E CASA NOVA – ACAUÃ/PI
A3: PLANILHA ORÇAMENTÁRIA RESUMIDA
A4: Item | D4: Descrição | H4: Quant. | I4: Total | J4: Peso (%)
A5: 1 | D5: SERVIÇOS PRELIMINARES | H5: 1 | I5: 22453.23 | J5: 0.0925
A6: 2 | D6: LIMPEZA E MOVIMENTO DE TERRA | H6: 1 | I6: 7018.4888 | J6: 0.0289
A7: 3 | D7: INFRAESTRUTURA | H7: 1 | I7: 42227.17 | J7: 0.174
A8: 4 | D8: SUPERESTRUTURA | H8: 1 | I8: 41626.8 | J8: 0.1715
A9: 5 | D9: VEDAÇÃO E REVESTIMENTO | H9: 1 | I9: 71598.81 | J9: 0.295
A10: 6 | D10: PINTURA | H10: 1 | I10: 20718.96 | J10: 0.0854
A11: 7 | D11: INSTALAÇÕES ELETRICAS | H11: 1 | I11: 16610.92 | J11: 0.0684
A12: 8 | D12: OUTROS | H12: 1 | I12: 11995.484 | J12: 0.0494
A13: 9 | D13: SERVIÇOS FINAIS | H13: 1 | I13: 8475.84 | J13: 0.0349 | K13: =SUM(J5:J13) -> 1
F15: Total sem BDI | H15: =SUM(I5:I13) -> 242725.7
F16: Total do BDI | H16: =H17-H15 -> 50972.398
F17: Total Geral | H17: =H15*1.21 -> 293698.1
