Workbook

Sheet ORÇAMENTO
C2: PLANILHA ORÇAMENTÁRIA
C3: ILUMINAÇÃO E CERCAMENTO DO CAMPO DE FUTEBOL DA ASSOCIAÇÃO AMÉRICA FUTEBOL CLUBE DE IOMERÊ/SC
C4: Proprietário | E4: Endereço
C5: ASSOCIAÇÃO AMÉRICA FUTEBOL CLUBE | E5: Linha Caravaggio, Interior, Iomerê/SC
C6: Descrição | K6: BDI 1 | L6: 0.21
C7: Planilha orçamentária para a execução da iluminação e do cercamento para o campo de futebol da Associação América Futebol Clube de Iomerê/SC (Termo de cooperação n.º 05/2023, celebrado entre o Município de Iomerê e a Associação América Futebol Clube) | K7: BDI 2 (itens de cotação) | L7: 0.1535
K8: =TODAY() -> 46101 | L8: Revisão 01
C9: Referência orçamento | K9: Valor do orçamento | L9: =J49 -> 215022.13
C10: COTAÇÃO/ SINAPI 01/2026- SEM DESONERAÇÃO / IPPUJ 12/2015 (Atualizado INCC)
C12: ITEM | D12: SERVIÇO | E12: UN | F12: QUANT. | G12: CUSTO UN (S/ BDI) | H12: BDI | I12: CUSTO (C/ BDI) | J12: VALOR TOTAL | K12: CÓDIGO | L12: FONTE
C13: 1 | D13: ADMINISTRAÇÃO LOCAL | I13: ∑ | J13: =SUM(J14:J15) -> 3899.83
C14: 1.1 | D14: ENGENHEIRO CIVIL DE OBRA PLENO COM ENCARGOS COMPLEMENTARES | E14: h | F14: 10 | G14: 156.54 | H14: =$L$6 -> 0.21 | I14: =G14*(H14+1) -> 189.4134 | J14: =I14*F14 -> 1894.134 | K14: 90778 | L14: SINAPI
C15: 1.2 | D15: ENCARREGADO GERAL COM ENCARGOS COMPLEMENTARES | E15: h | F15: 40 | G15: 41.44 | H15: =$L$6 -> 0.21 | I15: =G15*(H15+1) -> 50.1424 | J15: =I15*F15 -> 2005.696 | K15: 90776 | L15: SINAPI
C17: 2 | D17: ILUMINAÇÃO DO CAMPO | I17: ∑ | J17: =SUM(J18:J41) -> 160991.61
C18: 2.1 | D18: =COMPOSIÇÕES!D6 -> POSTE DE CONCRETO ARMADO COM COMPRIMENTO NOMINAL DE 12 M, CARGA NOMINAL DE 300 DAN, ENGASTAMENTO BASE CONCRETADA COM 1 M DE CONCRETO E 0,8 M DE SOLO. AF_04/2025. VALA 0,8X1 M (UN) | E18: un | F18: 6 | G18: =COMPOSIÇÕES!H20 -> 4611.0083 | H18: =L7 -> 0.1535 | I18: =G18*(H18+1) -> 5318.7981 | J18: =I18*F18 -> 31912.788 | K18: =COMPOSIÇÕES!C6 -> CP-01 | L18: COMPOSIÇÃO
C19: 2.2 | D19: =COMPOSIÇÕES!D22 -> ESCAVAÇÃO EM BLOCO DE ROCHAS OU MATACOES - VALA DE 180x80x100 CM. REATERRO COM SOLO COMPACTADO 80x100X100 cm (UN) | E19: un | F19: 3 | G19: =COMPOSIÇÕES!H30 -> 1482.3177 | H19: =$L$6 -> 0.21 | I19: =G19*(H19+1) -> 1793.6044 | J19: =I19*F19 -> 5380.8132 | K19: =COMPOSIÇÕES!C22 -> CP- 02 | L19: COMPOSIÇÃO
C20: 2.3 | D20: =COMPOSIÇÕES!D32 -> ESCAVAÇÃO EM SOLO - VALA DE 180x80x100 CM. REATERRO COM SOLO COMPACTADO 80x100X100 cm (UN) | E20: un | F20: 3 | G20: =COMPOSIÇÕES!H39 -> 650.28188 | H20: =L6 -> 0.21 | I20: =G20*(H20+1) -> 786.84107 | J20: =I20*F20 -> 2360.5232 | K20: =COMPOSIÇÕES!C32 -> CP- 03 | L20: COMPOSIÇÃO
C21: 2.4 | D21: =COMPOSIÇÕES!D41 -> Projetor PRO LED Modular 400 Watts - 5000k - 90° - FORNECIMENTO E INSTALAÇÃO (UN) | E21: un | F21: =6*6 -> 36 | G21: =COMPOSIÇÕES!H48 -> 1674.4995 | H21: =L7 -> 0.1535 | I21: =G21*(H21+1) -> 1931.5352 | J21: =I21*F21 -> 69535.266 | K21: =COMPOSIÇÕES!C41 -> CP- 04 | L21: COMPOSIÇÃO
C22: 2.5 | D22: =COMPOSIÇÕES!D50 -> CRUZETA CONCRETO ARMADO 240X110X90 400 DAN COM SUPORTE PARA 3 REFLETORES - FORNECIMENTO E INSTALAÇÃO (UN) | E22: un | F22: =2*6 -> 12 | G22: =COMPOSIÇÕES!H58 -> 363.7025 | H22: =L7 -> 0.1535 | I22: =G22*(H22+1) -> 419.53083 | J22: =I22*F22 -> 5034.37 | K22: =COMPOSIÇÕES!C50 -> CP- 05 | L22: COMPOSIÇÃO
C23: 2.6 | D23: =COMPOSIÇÕES!D68 -> CAIXA DE INSPEÇÃO RETANGULAR, EM CONCRETO PRÉ-MOLDADO, FUNDO COM BRITA, DIMENSÕES INTERNAS: 0,6X0,6X0,5 M COM HASTE DE ATERRAMENTO, DIÂMETRO 5/8" DE 2,40 M PARA CABO DE 35 MM² (UN) | E23: un | F23: 6 | G23: =COMPOSIÇÕES!H77 -> 653.56286 | H23: =$L$6 -> 0.21 | I23: =G23*(H23+1) -> 790.81107 | J23: =I23*F23 -> 4744.8664 | K23: =COMPOSIÇÕES!C68 -> CP- 07 | L23: COMPOSIÇÃO
C24: 2.7 | D24: =COMPOSIÇÕES!D60 -> QUADRO DE DISTRIBUICAO COM BARRAMENTO TRIFASICO, DE SOBREPOR, EM CHAPA DE ACO GALVANIZADO, PARA 12 DISJUNTORES DIN, 100 A (UN) | E24: un | F24: 1 | G24: =COMPOSIÇÕES!H66 -> 398.825 | H24: =$L$6 -> 0.21 | I24: =G24*(H24+1) -> 482.57825 | J24: =I24*F24 -> 482.57825 | K24: =COMPOSIÇÕES!C60 -> CP- 06 | L24: COMPOSIÇÃO
C25: 2.8 | D25: DISJUNTOR MONOPOLAR TIPO DIN, CORRENTE NOMINAL DE 20A - FORNECIMENTO E INSTALAÇÃO. AF_07/2025 | E25: un | F25: 1 | G25: 13.17 | H25: =$L$6 -> 0.21 | I25: =G25*(H25+1) -> 15.9357 | J25: =I25*F25 -> 15.9357 | K25: 93655 | L25: SINAPI
C26: 2.9 | D26: DISJUNTOR MONOPOLAR TIPO DIN, CORRENTE NOMINAL DE 25A - FORNECIMENTO E INSTALAÇÃO. AF_07/2025 | E26: un | F26: 3 | G26: 14.47 | H26: =$L$6 -> 0.21 | I26: =G26*(H26+1) -> 17.5087 | J26: =I26*F26 -> 52.5261 | K26: 93656 | L26: SINAPI
C27: 2.10 | D27: DISJUNTOR MONOPOLAR TIPO DIN, CORRENTE NOMINAL DE 32A - FORNECIMENTO E INSTALAÇÃO. AF_07/2025 | E27: un | F27: 2 | G27: 16.49 | H27: =$L$6 -> 0.21 | I27: =G27*(H27+1) -> 19.9529 | J27: =I27*F27 -> 39.9058 | K27: 93657 | L27: SINAPI
C28: 2.11 | D28: DISJUNTOR TRIPOLAR TIPO DIN, CORRENTE NOMINAL DE 40A - FORNECIMENTO E INSTALAÇÃO. AF_07/2025 | E28: un | F28: 2 | G28: 92.82 | H28: =$L$6 -> 0.21 | I28: =G28*(H28+1) -> 112.3122 | J28: =I28*F28 -> 224.6244 | K28: 93672 | L28: SINAPI
C29: 2.12 | D29: DISPOSITIVO DPS 80KA-175V OU 275V - FORNECIMENTO E INSTALAÇÃO. AF_07/2025 | E29: un | F29: 4 | G29: 74.68 | H29: =$L$6 -> 0.21 | I29: =G29*(H29+1) -> 90.3628 | J29: =I29*F29 -> 361.4512 | K29: 106027 | L29: SINAPI
C30: 2.13 | D30: CABO DE COBRE FLEXÍVEL ISOLADO, 4 MM², ANTI-CHAMA 0,6/1,0 KV, PARA CIRCUITOS TERMINAIS - FORNECIMENTO E INSTALAÇÃO. AF_03/2023 | E30: m | F30: 142 | G30: 8.8 | H30: =$L$6 -> 0.21 | I30: =G30*(H30+1) -> 10.648 | J30: =I30*F30 -> 1512.016 | K30: 91929 | L30: SINAPI
C31: 2.14 | D31: CABO DE COBRE FLEXÍVEL ISOLADO, 6 MM², ANTI-CHAMA 0,6/1,0 KV, PARA CIRCUITOS TERMINAIS - FORNECIMENTO E INSTALAÇÃO. AF_03/2023 | E31: m | F31: 651 | G31: 12.35 | H31: =$L$6 -> 0.21 | I31: =G31*(H31+1) -> 14.9435 | J31: =I31*F31 -> 9728.2185 | K31: 91931 | L31: SINAPI
C32: 2.15 | D32: CABO DE COBRE FLEXÍVEL ISOLADO, 10 MM², ANTI-CHAMA 0,6/1,0 KV, PARA CIRCUITOS TERMINAIS - FORNECIMENTO E INSTALAÇÃO. AF_03/2023 | E32: m | F32: 631 | G32: 19.67 | H32: =$L$6 -> 0.21 | I32: =G32*(H32+1) -> 23.8007 | J32: =I32*F32 -> 15018.242 | K32: 91933 | L32: SINAPI
C33: 2.16 | D33: ELETRODUTO RÍGIDO SOLDÁVEL, PVC, DN 32 MM (1"), APARENTE - FORNECIMENTO E INSTALAÇÃO. AF_01/2026 | E33: m | F33: 2 | G33: 22.53 | H33: =$L$6 -> 0.21 | I33: =G33*(H33+1) -> 27.2613 | J33: =I33*F33 -> 54.5226 | K33: 95728 | L33: SINAPI
C34: 2.17 | D34: ELETRODUTO PEAD, DN 63 (2"), PARA REDE ENTERRADA DE DISTRIBUIÇÃO DE ENERGIA ELÉTRICA - FORNECIMENTO E INSTALAÇÃO. AF_12/2021 | E34: m | F34: =50*6+30+25+30+25+60*3 -> 590 | G34: 12.86 | H34: =$L$6 -> 0.21 | I34: =G34*(H34+1) -> 15.5606 | J34: =I34*F34 -> 9180.754 | K34: 97668 | L34: SINAPI
C35: 2.18 | D35: ELETRODUTO PEAD, DN 50 (1 1/2"), PARA REDE ENTERRADA DE DISTRIBUIÇÃO DE ENERGIA ELÉTRICA - FORNECIMENTO E INSTALAÇÃO. AF_12/2021 | E35: m | F35: =2*6 -> 12 | G35: 9.06 | H35: =$L$6 -> 0.21 | I35: =G35*(H35+1) -> 10.9626 | J35: =I35*F35 -> 131.5512 | K35: 97667 | L35: SINAPI
C36: 2.19 | D36: =COMPOSIÇÕES!D110 -> ELETRODUTO RÍGIDO SOLDÁVEL, PVC, DN 50 MM (1 1/2"), APARENTE - FORNECIMENTO E INSTALAÇÃO. AF_01/2026 | E36: m | F36: =12*6 -> 72 | G36: =COMPOSIÇÕES!H117 -> 31.507972 | H36: =$L$6 -> 0.21 | I36: =G36*(H36+1) -> 38.124646 | J36: =I36*F36 -> 2744.9745 | K36: =COMPOSIÇÕES!C110 -> CP- 11 | L36: COMPOSIÇÃO
C37: 2.20 | D37: FITA SUBTERRANEA 76MM X 300M LJ - SINALIZAÇÃO REDE ELETRICA | E37: m | F37: =5+60+30+25+30+25+2*6 -> 187 | G37: =360/300 -> 1.2 | H37: =L7 -> 0.1535 | I37: =G37*(H37+1) -> 1.3842 | J37: =I37*F37 -> 258.8454 | K37: CT-01 | L37: COTAÇÃO
C38: 2.21 | D38: ESCAVAÇÃO MANUAL DE VALA. AF_09/2024 - FIAÇÃO ENTERRADA (30x30x60 cm) | E38: m³ | F38: =0.3*0.3*0.6*1.3*(55+55+60+1.5*6+5) -> 12.9168 | G38: 104.7 | H38: =$L$6 -> 0.21 | I38: =G38*(H38+1) -> 126.687 | J38: =I38*F38 -> 1636.3906 | K38: 93358 | L38: SINAPI
C39: 2.22 | D39: REATERRO MANUAL DE VALAS, COM PLACA VIBRATÓRIA. AF_08/2023 | E39: m³ | F39: =0.3*0.3*0.6*(55+55+60+1.5*6+5) -> 9.936 | G39: 26.19 | H39: =$L$6 -> 0.21 | I39: =G39*(H39+1) -> 31.6899 | J39: =I39*F39 -> 314.87085 | K39: 104737 | L39: SINAPI
C40: 2.23 | D40: CONECTOR METALICO TIPO PARAFUSO FENDIDO (SPLIT BOLT), PARA CABOS ATE 10 MM2 | E40: un | F40: 18 | G40: 6 | H40: =$L$6 -> 0.21 | I40: =G40*(H40+1) -> 7.26 | J40: =I40*F40 -> 130.68 | K40: 11856 | L40: SINAPI
C41: 2.24 | D41: CONECTOR METALICO TIPO PARAFUSO FENDIDO (SPLIT BOLT), PARA CABOS ATE 35 MM2 | E41: un | F41: 12 | G41: 9.29 | H41: =$L$6 -> 0.21 | I41: =G41*(H41+1) -> 11.2409 | J41: =I41*F41 -> 134.8908 | K41: 11854 | L41: SINAPI
C43: 3 | D43: CERCAMENTO | I43: ∑ | J43: =SUM(J44:J46) -> 50130.699
C44: 3.1 | D44: =COMPOSIÇÕES!D79 -> REMOÇÃO DE CERCAS E MOURÕES, DE FORMA MANUAL, COM REAPROVEITAMENTO. H= 2,00 M (M) | E44: m | F44: 92 | G44: =COMPOSIÇÕES!H84 -> 24.035346 | H44: =$L$6 -> 0.21 | I44: =G44*(H44+1) -> 29.082769 | J44: =I44*F44 -> 2675.6147 | K44: =COMPOSIÇÕES!C79 -> CP- 08 | L44: COMPOSIÇÃO
...

Sheet COMPOSIÇÕES
C2: COMPOSIÇÕES DE SERVIÇOS
C3: Referência | D3: 46054
C4: Obra | D4: Iluminação e cercamento em campo de futebol
C6: CP-01 | D6: POSTE DE CONCRETO ARMADO COM COMPRIMENTO NOMINAL DE 12 M, CARGA NOMINAL DE 300 DAN, ENGASTAMENTO BASE CONCRETADA COM 1 M DE CONCRETO E 0,8 M DE SOLO. AF_04/2025. VALA 0,8X1 M (UN)
C7: CÓDIGO SINAPI | D7: ITEM | E7: UN | F7: COEFICIENTE | G7: CUSTO UNITÁRIO NÃO DESONERADO | H7: CUSTO TOTAL
C8: COTAÇÃO | D8: Poste de concreto armado, duplo T, Tipo B, comprimento nominal 12 m, 300 Dan, Base 476x350mm, Topo 140x110 mm. | E8: un | F8: 1 | G8: 2090 | H8: =F8*G8 -> 2090
C9: 3777 | D9: LONA PLASTICA PESADA PRETA, E = 150 MICRA | E9: M² | F9: =(0.48*2+0.35*2)*1.8 -> 2.988 | G9: 1.95 | H9: =F9*G9 -> 5.8266
C10: 94965 | D10: CONCRETO FCK = 25MPA, TRAÇO 1:2,3:2,7 (EM MASSA SECA DE CIMENTO/ AREIA MÉDIA/ BRITA 1) - PREPARO MECÂNICO COM BETONEIRA 400 L. AF_05/2021 | E10: m³ | F10: =1*0.8*1 -> 0.8 | G10: 604.39 | H10: =F10*G10 -> 483.512
C11: 88309 | D11: PEDREIRO COM ENCARGOS COMPLEMENTARES | E11: h | F11: 3 | G11: 36.22 | H11: =F11*G11 -> 108.66
C12: 88316 | D12: SERVENTE COM ENCARGOS COMPLEMENTARES | E12: h | F12: 1.5 | G12: 26.47 | H12: =F12*G12 -> 39.705
C13: 88264 | D13: ELETRICISTA COM ENCARGOS COMPLEMENTARES | E13: h | F13: 3 | G13: 45.65 | H13: =F13*G13 -> 136.95
C14: 88247 | D14: AUXILIAR DE ELETRICISTA COM ENCARGOS COMPLEMENTARES | E14: h | F14: 1.5 | G14: 29.03 | H14: =F14*G14 -> 43.545
C15: 5930 | D15: GUINDAUTO HIDRÁULICO, CAPACIDADE MÁXIMA DE CARGA 6200 KG, MOMENTO MÁXIMO DE CARGA 11,7 TM, ALCANCE MÁXIMO HORIZONTAL 9,70 M, INCLUSIVE CAMINHÃO TOCO PBT 16.000 KG, POTÊNCIA DE 189 CV - CHI DIURNO. AF_06/2014 | E15: CHI | F15: 1 | G15: 85.86 | H15: =F15*G15 -> 85.86
C16: 5928 | D16: GUINDAUTO HIDRÁULICO, CAPACIDADE MÁXIMA DE CARGA 6200 KG, MOMENTO MÁXIMO DE CARGA 11,7 TM, ALCANCE MÁXIMO HORIZONTAL 9,70 M, INCLUSIVE CAMINHÃO TOCO PBT 16.000 KG, POTÊNCIA DE 189 CV - CHP DIURNO. AF_06/2014 | E16: CHP | F16: 1 | G16: 293.71 | H16: =F16*G16 -> 293.71
C17: IPUJ C05.05.05.30.005 | D17: Mobilização e desmobilização para distâncias entre 35 a 150 Km | E17: vb | F17: =1/6 -> 0.16666667 | G17: 3045.21 | H17: =F17*G17 -> 507.535
C18: 96973 | D18: CORDOALHA DE COBRE NU 35 MM², COM ISOLADOR - FORNECIMENTO E INSTALAÇÃO. AF_08/2023 | E18: m | F18: 12 | G18: =85.89-J18 -> 67.975392 | H18: =F18*G18 -> 815.7047 | I18: 0.2484 | J18: =I18*G12+I18*G13 -> 17.914608
C20: TOTAL | H20: =SUM(H8:H18) -> 4611.0083
C22: CP- 02 | D22: ESCAVAÇÃO EM BLOCO DE ROCHAS OU MATACOES - VALA DE 180x80x100 CM. REATERRO COM SOLO COMPACTADO 80x100X100 cm (UN)
C23: CÓDIGO SINAPI | D23: ITEM | E23: UN | F23: COEFICIENTE | G23: CUSTO UNITÁRIO NÃO DESONERADO | H23: CUSTO TOTAL
C24: 102355 | D24: DESMONTE DE MATERIAL DE 3ª CATEGORIA (BLOCOS DE ROCHAS OU MATACOS), EM VALA, COM MARTELETE PNEUMÁTICO MANUAL - EXCLUSIVE RETIRADA, CARGA E TRANSPORTE. AF_03/2021 | E24: m³ | F24: =1.8*0.8*1 -> 1.44 | G24: 203.14 | H24: =F24*G24 -> 292.5216
C25: 102360 | D25: RETIRADA DE MATERIAL DE 3ª CATEGORIA (APÓS ESCAVAÇÃO/DESMONTE) EM VALAS, COM ESCAVADEIRA HIDRÁULICA - EXCLUSIVE CARGA E TRANSPORTE. AF_03/2021 | E25: m³ | F25: =F24 -> 1.44 | G25: 29.15 | H25: =F25*G25 -> 41.976
C26: IPUJ C05.05.05.30.005 | D26: Mobilização e desmobilização para distâncias entre 35 a 150 Km | E26: vb | F26: =1/3 -> 0.33333333 | G26: 3045.21 | H26: =F26*G26 -> 1015.07
C27: 88263 | D27: CAVOUQUEIRO OU OPERADOR PERFURATRIZ/ROMPEDOR COM ENCARGOS COMPLEMENTARES | E27: h | F27: 4 | G27: 27.74 | H27: =F27*G27 -> 110.96
C28: 104737 | D28: REATERRO MANUAL DE VALAS, COM PLACA VIBRATÓRIA. AF_08/2023. Empolamento de 30% | E28: m³ | F28: =0.8*0.8*1*1.3 -> 0.832 | G28: 26.19 | H28: =F28*G28 -> 21.79008
C30: TOTAL | H30: =SUM(H24:H28) -> 1482.3177
C32: CP- 03 | D32: ESCAVAÇÃO EM SOLO - VALA DE 180x80x100 CM. REATERRO COM SOLO COMPACTADO 80x100X100 cm (UN)
C33: CÓDIGO SINAPI | D33: ITEM | E33: UN | F33: COEFICIENTE | G33: CUSTO UNITÁRIO NÃO DESONERADO | H33: CUSTO TOTAL
C34: 102329 | D34: ESCAVAÇÃO MECANIZADA DE VALA COM PROF. MAIOR QUE 1,5 M ATÉ 3,0 M (MÉDIA MONTANTE E JUSANTE/UMA COMPOSIÇÃO POR TRECHO), RETROESCAV. (0,26 M3), LARG. DE 0,8 M A 1,5 M, EM SOLO DE 2A CATEGORIA, EM LOCAIS COM BAIXO NÍVEL DE INTERFERÊNCIA. AF_09/2024 | E34: m³ | F34: =1.8*0.8*1 -> 1.44 | G34: 10.47 | H34: =F34*G34 -> 15.0768
C35: 104737 | D35: REATERRO MANUAL DE VALAS, COM PLACA VIBRATÓRIA. AF_08/2023. Empolamento de 30% | E35: m³ | F35: =0.8*0.8*1*1.3 -> 0.832 | G35: 26.19 | H35: =F35*G35 -> 21.79008
C36: IPUJ C05.05.05.30.005 | D36: Mobilização e desmobilização para distâncias entre 35 a 150 Km | E36: vb | F36: =1/6 -> 0.16666667 | G36: 3045.21 | H36: =F36*G36 -> 507.535
C37: 88316 | D37: SERVENTE COM ENCARGOS COMPLEMENTARES | E37: h | F37: 4 | G37: 26.47 | H37: =F37*G37 -> 105.88
C39: TOTAL | H39: =SUM(H34:H37) -> 650.28188
C41: CP- 04 | D41: Projetor PRO LED Modular 400 Watts - 5000k - 90° - FORNECIMENTO E INSTALAÇÃO (UN)
C42: CÓDIGO SINAPI | D42: ITEM | E42: UN | F42: COEFICIENTE | G42: CUSTO UNITÁRIO NÃO DESONERADO | H42: CUSTO TOTAL
C43: 88264 | D43: ELETRICISTA COM ENCARGOS COMPLEMENTARES | E43: H | F43: 0.3 | G43: 45.65 | H43: =F43*G43 -> 13.695
C44: 88247 | D44: AUXILIAR DE ELETRICISTA COM ENCARGOS COMPLEMENTARES | E44: H | F44: 0.15 | G44: 29.03 | H44: =F44*G44 -> 4.3545
C45: 431 | D45: PARAFUSO M16 EM ACO GALVANIZADO, COMPRIMENTO = 200 MM, DIAMETRO = 16 MM, ROSCA MAQUINA, CABECA QUADRADA | E45: UN | F45: 4 | G45: 14.42 | H45: =F45*G45 -> 57.68
C46: COTAÇÃO | D46: Projetor PRO LED Modular 400 Watts - 5000k - 90° Fluxo Luminoso do LED: 76.000 Lumens - Fluxo Luminoso Efetivo Médio: 64.000 Lumens - Temperatura de Cor: 5.000K - IRC: >70 - Fator de Potência: ≥ 0.98 - Ângulo de Abertura: 90° - Vida útil LED: >102.000 horas. Tensão: 220 V (Bivolt) - Material: Alumínio - Cor: Cinza - Lente: Policarbonato (IP 67) - Fixação: Alça -Medidas: 150 (a) x 310 (l) x 380 (c) mm - Peso: 6,500 Kg - Garantia: 5 anos | E46: UN | F46: 1 | G46: 1598.77 | H46: =F46*G46 -> 1598.77
C48: TOTAL | H48: =SUM(H43:H46) -> 1674.4995
C50: CP- 05 | D50: CRUZETA CONCRETO ARMADO 240X110X90 400 DAN COM SUPORTE PARA 3 REFLETORES - FORNECIMENTO E INSTALAÇÃO (UN)
...

Sheet CRONOGRAMA
D4: CRONOGRAMA FÍSICO-FINANCEIRO
D5: =ORÇAMENTO!C3 -> ILUMINAÇÃO E CERCAMENTO DO CAMPO DE FUTEBOL DA ASSOCIAÇÃO AMÉRICA FUTEBOL CLUBE DE IOMERÊ/SC
D6: Proprietário | F6: Endereço
D7: PREFEITURA MUNICIPAL DE IOMERÊ | F7: =ORÇAMENTO!E5 -> Linha Caravaggio, Interior, Iomerê/SC
D8: Descrição | K8: =ORÇAMENTO!K6 -> BDI 1 | L8: =ORÇAMENTO!L6 -> 0.21
D9: =ORÇAMENTO!C7 -> Planilha orçamentária para a execução da iluminação e do cercamento para o campo de futebol da Associação América Futebol Clube de Iomerê/SC (Termo de cooperação n.º 05/2023, celebrado entre o Município de Iomerê e a Associação América Futebol Clube) | K9: =ORÇAMENTO!K7 -> BDI 2 (itens de cotação) | L9: =ORÇAMENTO!L7 -> 0.1535
K10: =TODAY() -> 46101 | L10: =ORÇAMENTO!L8 -> Revisão 01
D11: Referência orçamento | K11: Valor do orçamento | L11: =ORÇAMENTO!L9 -> 215022.13
D12: =ORÇAMENTO!C10 -> COTAÇÃO/ SINAPI 01/2026- SEM DESONERAÇÃO / IPPUJ 12/2015 (Atualizado INCC)
D14: ITEM | E14: SERVIÇO | F14: VALOR TOTAL | G14: MÊS 01 - 30 DIAS | I14: MÊS 02 - 30 DIAS | K14: ACUMULADO
G15: % | H15: R$ | I15: % | J15: R$ | K15: % | L15: R$
D16: =ORÇAMENTO!C13 -> 1 | E16: =ORÇAMENTO!D13 -> ADMINISTRAÇÃO LOCAL | F16: =ORÇAMENTO!J13 -> 3899.83 | G16: 0.5 | H16: =F16*G16 -> 1949.915 | I16: 0.5 | J16: =I16*$F$16 -> 1949.915 | K16: =G16+I16 -> 1 | L16: =H16+J16 -> 3899.83
D17: =ORÇAMENTO!C17 -> 2 | E17: =ORÇAMENTO!D17 -> ILUMINAÇÃO DO CAMPO | F17: =ORÇAMENTO!J17 -> 160991.61 | G17: =H17/F17 -> 0.70950135 | H17: =SUM(ORÇAMENTO!J18:J22) -> 114223.76 | I17: =J17/F17 -> 0.29049865 | J17: =SUM(ORÇAMENTO!J23:J41) -> 46767.844 | K17: =G17+I17 -> 1 | L17: =H17+J17 -> 160991.61
D18: =ORÇAMENTO!C43 -> 3 | E18: =ORÇAMENTO!D43 -> CERCAMENTO | F18: =ORÇAMENTO!J43 -> 50130.699 | G18: =H18/F18 -> 0.053372779 | H18: =SUM(ORÇAMENTO!J44) -> 2675.6147 | I18: =J18/F18 -> 0.94662722 | J18: =SUM(ORÇAMENTO!J45:J46) -> 47455.084 | K18: =G18+I18 -> 1 | L18: =H18+J18 -> 50130.699
D20: TOTAL | F20: =SUM(F16:F18) -> 215022.13 | G20: =H20/F20 -> 0.5527305 | H20: =SUM(H16:H18) -> 118849.29 | I20: =J20/F20 -> 0.4472695 | J20: =SUM(J16:J18) -> 96172.843 | K20: =L20/F20 -> 1 | L20: =SUM(L16:L18) -> 215022.13
D21: Iomerê, | E21: =TODAY() -> 46101
F29: Responsável técnico | J29: =ORÇAMENTO!J59 -> Prefeitura Municipal de Iomerê
F30: Eliziane da Silva | J30: =ORÇAMENTO!J60 -> Araceli Mezzomo Weirich
F31: Engenheira Civil | J31: =ORÇAMENTO!J61 -> Secretária de Educação, Cultura, Esporte e Turismo
F32: CREA/SC: 183867-9
