Workbook

Sheet Orcamento Global
A1: PREFEITURA MUNICIPAL DE SANTIAGO DO SUL - SC
A2: CNPJ: 01.612.781/0001-38 Fone: (49) 3345-3000
A3: Rua Angelo Toazza, 600 - Centro - Santiago do Sul - SC CEP: 89.854-000
A4: MUNICÍPIO: Santiago do Sul - SC
A5: PLANILHA ORÇAMENTÁRIA PARA OBRAS E SERVIÇOS DE ENGENHARIA
A7: PROJETO: BARRACÃO TIPO 2 (396,00m²)
A8: LOCALIZAÇÃO: RUA MARIA LORENZETTI MATTIELLO - SANTIAGO DO SUL - SC | G8: BDI | H8: 0.2
A9: TABELA REFERÊNCIA: 05/2025 - DESONERADO
A11: ITEM | B11: SINAPI | C11: DISCRIMINAÇÃO DOS SERVIÇOS | D11: UNID. | E11: QUANT. | F11: CUSTO UNITÁRIO | G11: PREÇO UNITÁRIO | H11: PREÇO DO SERVIÇO
A12: 1 | C12: SERVIÇOS INICIAIS | G12: =H12/$H$142 -> #DIV/0! | H12: =SUM(H13:H14) -> 0
A13: 1.1 | B13: 103689 | C13: FORNECIMENTO E INSTALAÇÃO DE PLACA DE OBRA COM CHAPA GALVANIZADA E ESTRUTURA DE MADEIRA | D13: M2 | E13: 3 | F13: 0 | G13: =ROUND(F13*(1+$H$8),2) -> 0 | H13: =ROUND(G13*E13,2) -> 0
A14: 1.3 | B14: 99059 | C14: LOCAÇÃO CONVENCIONAL DE OBRA, UTILIZANDO GABARITO DE TÁBUAS CORRIDAS PONTALETADAS A CADA 2,00M | D14: M | E14: 80 | F14: 0 | G14: =ROUND(F14*(1+$H$8),2) -> 0 | H14: =ROUND(G14*E14,2) -> 0
A16: 2 | C16: ADMINISTRAÇÃO DE OBRAS | G16: =H16/$H$142 -> #DIV/0! | H16: =SUM(H17:H19) -> 0
A17: 2.1 | B17: 90777 | C17: ENGENHEIRO CIVIL DE OBRA JUNIOR COM ENCARGOS COMPLEMENTARES | D17: H | E17: =8*6 -> 48 | F17: 0 | G17: =ROUND(F17*(1+$H$8),2) -> 0 | H17: =ROUND(G17*E17,2) -> 0
A18: 2.2 | B18: 90780 | C18: MESTRE DE OBRAS COM ENCARGOS COMPLEMENTARES | D18: H | E18: =8*5*6 -> 240 | F18: 0 | G18: =ROUND(F18*(1+$H$8),2) -> 0 | H18: =ROUND(G18*E18,2) -> 0
A19: 2.3 | B19: 90781 | C19: TOPOGRAFO COM ENCARGOS COMPLEMENTARES | D19: H | E19: =E17 -> 48 | F19: 0 | G19: =ROUND(F19*(1+$H$8),2) -> 0 | H19: =ROUND(G19*E19,2) -> 0
A21: 3 | C21: FUNDAÇÃO E ESTRUTURA | G21: =H21/$H$142 -> #DIV/0! | H21: =SUM(H22:H32) -> 0
A22: 3.1 | B22: Composição 01 | C22: FUNDAÇÕES TIPO SAPATA RASA | D22: und | E22: 20 | F22: 0 | G22: =ROUND(F22*(1+$H$8),2) -> 0 | H22: =ROUND(G22*E22,2) -> 0
A23: 3.2 | B23: Composição 03 | C23: PILARES PRÉ-FABRICADOS ESTRUTURAL LATERAL (25X30CM) (ALTURA LIVRE 5,0M NA MISULA) | D23: und | E23: 10 | F23: 0 | G23: =ROUND(F23*(1+$H$8),2) -> 0 | H23: =ROUND(G23*E23,2) -> 0
A24: 3.3 | B24: Composição 04 | C24: PILARES PRÉ-FABRICADOS ESTRUTURAL LATERAL (25X25CM) (ALTURA LIVRE 5,0M NA MISULA) | D24: und | E24: 8 | F24: 0 | G24: =ROUND(F24*(1+$H$8),2) -> 0 | H24: =ROUND(G24*E24,2) -> 0
A25: 3.4 | B25: Composição 05 | C25: PILARES FEITOS IN-LOCO ESTRUTURAL LATERAL (14X30CM) (ALTURA LIVRE 3,5M NA MISULA) | D25: und | E25: 2 | F25: 0 | G25: =ROUND(F25*(1+$H$8),2) -> 0 | H25: =ROUND(G25*E25,2) -> 0
A26: 3.5 | B26: 104919 | C26: ARMAÇÃO DE VIGAS BALDRAMES UTILIZANDO AÇO CA-50 DE 10,0MM | D26: kg | E26: 259.14 | F26: 0 | G26: =ROUND(F26*(1+$H$8),2) -> 0 | H26: =ROUND(G26*E26,2) -> 0
A27: 3.6 | B27: 96536 | C27: FABRICAÇÃO, MONTAGEM E DESMONTAGEM DE FÔRMA PARA VIGA BALDRAME, EM MADEIRA SERRADA, E=25 MM | D27: m² | E27: 246.42 | F27: 0 | G27: =ROUND(F27*(1+$H$8),2) -> 0 | H27: =ROUND(G27*E27,2) -> 0
A28: 3.7 | B28: 104916 | C28: ARMAÇÃO DE VIGAS BALDRAMES UTILIZANDO AÇO CA-50 DE 5,0MM - ESTRIBOS | D28: kg | E28: 84.08 | F28: 0 | G28: =ROUND(F28*(1+$H$8),2) -> 0 | H28: =ROUND(G28*E28,2) -> 0
A29: 3.8 | B29: 103675 | C29: CONCRETAGEM DE VIGAS BALDRAMES E LAJES, FCK=25MPA, COM USO DE BOMBA- LANÇAMENTO, ADENSAMENTO E ACABAMENTO | D29: m³ | E29: 7.5 | F29: 0 | G29: =ROUND(F29*(1+$H$8),2) -> 0 | H29: =ROUND(G29*E29,2) -> 0
A30: 3.9 | B30: 98557 | C30: IMPERMEABILIZAÇÃO DE VIGA BALDRAME COM EMULSÃO ASFALTICA 2 DE MÃOS | D30: m² | E30: 72 | F30: 0 | G30: =ROUND(F30*(1+$H$8),2) -> 0 | H30: =ROUND(G30*E30,2) -> 0
A31: 3.10 | B31: Composição 06 | C31: VIGAS CINTA PRÉ-FABRICADAS | D31: m | E31: 80 | F31: 0 | G31: =ROUND(F31*(1+$H$8),2) -> 0 | H31: =ROUND(G31*E31,2) -> 0
A32: 3.11 | B32: 101964 | C32: LAJE PRÉ-MOLDADA UNIDIRECIONAL, BIAPOIADA, ENCHIMENTO CERÂMICO, VIGOTA TRELIÇADA ALTURA DA LAJE (ENCHIMENTO + CAPA) (8+4) 12 CM - MEZANINO E RESERVATÓRIO | D32: m² | E32: 31.25 | F32: 0 | G32: =ROUND(F32*(1+$H$8),2) -> 0 | H32: =ROUND(G32*E32,2) -> 0
A34: 4 | C34: ALVENARIA E REVESTIMENTO PAREDES | G34: =H34/$H$142 -> #DIV/0! | H34: =SUM(H35:H39) -> 0
A35: 4.1 | B35: 103360 | C35: ALVENARIA DE VEDAÇÃO DE BLOCOS CERÂMICOS NA HORIZONTAL DE 14X19X29CM (ESPESSURA 14CM) E ARGAMASSA DE ASSENTAMENTO COM BETONEIRA, INCLUSO ALVENARIA DE COBOGÓS | D35: m² | E35: =324.8+22+20-37.4 -> 329.4 | F35: 0 | G35: =ROUND(F35*(1+$H$8),2) -> 0 | H35: =ROUND(G35*E35,2) -> 0
A36: 4.2 | B36: 87879 | C36: CHAPISCO PREPARO MANUAL, CIMENTO E AREIA GROSSA TRAÇO 1:3 (INTERNO E EXTERNO) | D36: m² | E36: =(E35-20)*2 -> 618.8 | F36: 0 | G36: =ROUND(F36*(1+$H$8),2) -> 0 | H36: =ROUND(G36*E36,2) -> 0
A37: 4.3 | B37: 104951 | C37: MASSA ÚNICA, EM ARGAMASSA TRAÇO 1:2:8, PREPARO MECÂNICO, E = 17,5MM, COM TALISCAS | D37: m² | E37: =E36 -> 618.8 | F37: 0 | G37: =ROUND(F37*(1+$H$8),2) -> 0 | H37: =ROUND(G37*E37,2) -> 0
A38: 4.5 | B38: 93187 | C38: VERGA E CONTRAVERGA EM CONCRETO ARMADO MOLDADO IN-LOCO | D38: m | E38: 73.6 | F38: 0 | G38: =ROUND(F38*(1+$H$8),2) -> 0 | H38: =ROUND(G38*E38,2) -> 0
A39: 4.6 | B39: 101162 | C39: ALVENARIA DE VEDAÇÃO COM ELEMENTO VAZADO DE CERÂMICA (COBOGÓ) DE 7X20X20CM E ARGAMASSA DE ASSENTAMENTO COM PREPARO EM BETONEIRA. AF_05/2020 | D39: m | E39: 37.4 | F39: 0 | G39: =ROUND(F39*(1+$H$8),2) -> 0 | H39: =ROUND(G39*E39,2) -> 0
A41: 5 | C41: COBERTURA | G41: =H41/$H$142 -> #DIV/0! | H41: =SUM(H42:H45) -> 0
A42: 5.1 | B42: 94213 | C42: TELHAMENTO COM TELHA DE AÇO/ALUMÍNIO E = 0,5 MM | D42: m² | E42: 481.92 | F42: 0 | G42: =ROUND(F42*(1+$H$8),2) -> 0 | H42: =ROUND(G42*E42,2) -> 0
A43: 5.2 | B43: 94213 | C43: FECHAMENTO DO OITÃO COM TELHAS DE ALUZICO ESPESSURA 0,5 MM | D43: m² | E43: 32 | F43: 0 | G43: =ROUND(F43*(1+$H$8),2) -> 0 | H43: =ROUND(G43*E43,2) -> 0
A44: 5.3 | B44: ='COMPOSIÇÕES NOVAS'!B19 -> COMP C1 | C44: ='COMPOSIÇÕES NOVAS'!D19 -> FABRICAÇÃO E INSTALAÇÃO DE TESOURA INTEIRA EM AÇO, VÃO DE 18 M, PARA TELHA ONDULADA DE FIBROCIMENTO, METÁLICA, PLÁSTICA OU TERMOACÚSTICA. | D44: und | E44: 5 | F44: 0 | G44: =ROUND(F44*(1+$H$8),2) -> 0 | H44: =ROUND(G44*E44,2) -> 0
A45: 5.4 | B45: 11060 - I | C45: TIRANTE EM FERRO GALVANIZADO PARA CONTRAVENTAMENTO | D45: und | E45: 8 | F45: 0 | G45: =ROUND(F45*(1+$H$8),2) -> 0 | H45: =ROUND(G45*E45,2) -> 0
A47: 6 | C47: DRENAGEM PLUVIAL | G47: =H47/$H$142 -> #DIV/0! | H47: =SUM(H48:H57) -> 0
...

Sheet COMPOSIÇÕES
A2: REFERENCIA | B2: ITEM | C2: DESCRIÇÃO | D2: UNIDADE | E2: PREÇO DESONERADO | F2: COEFICIENTE | G2: CUSTO DESONERADO | I2: COEFICIENTE DO ITEM
A4: COMPOSIÇÃO | B4: 1 | C4: ATERRO MANUAL PARA PASSEIO/CALÇADA, E=5CM, COM SOLO ARGILOSO, COMPACTAÇÃO MECANIZADA COM SOQUETE, FORNECIMENTO E TRANSPORTE ATÉ 10KM | D4: M2 | G4: =TRUNC(SUM(G5:G10),2) -> 4.81
A5: SINAPI | B5: 5901 | C5: CAMINHÃO PIPA 10.000 L TRUCADO, PESO BRUTO TOTAL 23.000 KG, CARGA ÚTIL MÁXIMA 15.935 KG, DISTÂNCIA ENTRE EIXOS 4,8 M, POTÊNCIA 230 CV, INCLUSIVE TANQUE DE AÇO PARA TRANSPORTE DE ÁGUA - CHP DIURNO. AF_06/2014 | D5: CHP | E5: 309.54 | F5: 0.0003 | G5: =E5*F5 -> 0.092862 | I5: 0.006 | J5: =I5*0.05 -> 0.0003
A6: SINAPI | B6: 5903 | C6: CAMINHÃO PIPA 10.000 L TRUCADO, PESO BRUTO TOTAL 23.000 KG, CARGA ÚTIL MÁXIMA 15.935 KG, DISTÂNCIA ENTRE EIXOS 4,8 M, POTÊNCIA 230 CV, INCLUSIVE TANQUE DE AÇO PARA TRANSPORTE DE ÁGUA - CHI DIURNO. AF_06/2014 | D6: CHI | E6: 71.18 | F6: 0.00015 | G6: =E6*F6 -> 0.010677 | I6: 0.003 | J6: =I6*0.05 -> 0.00015
A7: SINAPI-I | B7: 6081 | C7: ARGILA OU BARRO PARA ATERRO/REATERRO (COM TRANSPORTE ATE 10 KM) | D7: M3 | E7: 51.12 | F7: 0.0625 | G7: =E7*F7 -> 3.195 | I7: 1.25 | J7: =I7*0.05 -> 0.0625
A8: SINAPI | B8: 88316 | C8: SERVENTE COM ENCARGOS COMPLEMENTARES | D8: H | E8: 20.21 | F8: 0.03295 | G8: =E8*F8 -> 0.6659195 | I8: 0.659 | J8: =I8*0.05 -> 0.03295
A9: SINAPI | B9: 91533 | C9: COMPACTADOR DE SOLOS DE PERCUSSÃO (SOQUETE) COM MOTOR A GASOLINA 4 TEMPOS, POTÊNCIA 4 CV - CHP DIURNO. AF_08/2015 | D9: CHP | E9: 35.32 | F9: 0.0137 | G9: =E9*F9 -> 0.483884 | I9: 0.274 | J9: =I9*0.05 -> 0.0137
A10: SINAPI | B10: 91534 | C10: COMPACTADOR DE SOLOS DE PERCUSSÃO (SOQUETE) COM MOTOR A GASOLINA 4 TEMPOS, POTÊNCIA 4 CV - CHI DIURNO. AF_08/2015 | D10: CHI | E10: 28.55 | F10: 0.0127 | G10: =E10*F10 -> 0.362585 | I10: 0.254 | J10: =I10*0.05 -> 0.0127
A12: COMPOSIÇÃO | B12: 2 | C12: VIGA DE TRAVAMENTO PARA PASSEIO PÚBLICO DIMENSÕES 10X15CM (ExH), CONCRETO PREPARO MECÂNICO COM BETONEIRA E TRELIÇA NERVURADA | D12: M | G12: =SUM(G13:G18) -> 15.82
A13: SINAPI-I | B13: 370 | C13: AREIA MEDIA - POSTO JAZIDA/FORNECEDOR (RETIRADO NA JAZIDA, SEM TRANSPORTE) | D13: M3 | E13: 35.06 | F13: 0.0637 | G13: =TRUNC(E13*F13,2) -> 2.23 | I13: 0.8187 | J13: =I13*0.015 -> 0.0122805
A14: SINAPI | B14: 92536 | C14: MONTAGEM E DESMONTAGEM DE FÔRMA DE LAJE MACIÇA, PÉ-DIREITO DUPLO, EM CHAPA DE MADEIRA COMPENSADA PLASTIFICADA, 18 UTILIZAÇÕES. AF_09/2020 | D14: M2 | E14: 67.52 | F14: 0.03 | G14: =TRUNC(E14*F14,2) -> 2.02
A15: SINAPI-I | B15: 1379 | C15: CIMENTO PORTLAND COMPOSTO CP II-32 | D15: KG | E15: 0.8 | F15: 4.1676225 | G15: =TRUNC(E15*F15,2) -> 3.33 | I15: 277.8415 | J15: =I15*0.015 -> 4.1676225
A16: SINAPI-I | B16: 4721 | C16: PEDRA BRITADA N. 1 (9,5 a 19 MM) POSTO PEDREIRA/FORNECEDOR, SEM FRETE | D16: M3 | E16: 106.93 | F16: 0.008841 | G16: =TRUNC(E16*F16,2) -> 0.94 | I16: 0.5894 | J16: =I16*0.015 -> 0.008841
A17: SINAPI-I | B17: 42407 | C17: TRELICA NERVURADA (ESPACADOR), ALTURA = 120,0 MM, DIAMETRO DOS BANZOS INFERIORES E SUPERIOR = 6,0 MM, DIAMETRO DA DIAGONAL = 4,2 MM | D17: M | E17: 5.59 | F17: 1 | G17: =TRUNC(E17*F17,2) -> 5.59 | J17: =I17*0.015 -> 0
A18: SINAPI | B18: 88316 | C18: SERVENTE COM ENCARGOS COMPLEMENTARES | D18: H | E18: 18.42 | F18: 0.0931005 | G18: =TRUNC(E18*F18,2) -> 1.71 | I18: 6.2067 | J18: =I18*0.015 -> 0.0931005
A20: COMPOSIÇÃO | B20: 3 | C20: PORTA DE CORRER DE MADEIRA LEVE LISA ACAB. BRANCO, FECHADURA E PUXADOR, GUARNIÇÃO. COM INSTALAÇÃO AF_12/2019 (1,50x2,10) | D20: UN | G20: =SUM(G21:G26) -> 2031.83
A21: SINAPI-I | B21: 142 | C21: SELANTE ELASTICO MONOCOMPONENTE A BASE DE POLIURETANO (PU) PARA JUNTAS DIVERSAS | D21: 310ml | E21: 35.06 | F21: 0.0637 | G21: =TRUNC(E21*F21,2) -> 2.23 | I21: 0.8187 | J21: =I21*0.015 -> 0.0122805
A22: SINAPI-I | B22: 39484 | C22: KIT PORTA PRONTA DE MADEIRA, FOLHA LEVE (NBR 15930) DE 35 MM A 40 MM DE ESPESSURA, COM MARCO EM ACO, NUCLEO COLMEIA, CAPA LISA EM HDF, ACABAMENTO MELAMINICO BRANCO (INCLUI MARCO, ALIZARES, DOBRADICAS E FECHADURA) | D22: M2 | E22: 595.21 | F22: 3.15 | G22: =TRUNC(E22*F22,2) -> 1874.91
A23: SINAPI-I | B23: 7568 | C23: BUCHA DE NYLON SEM ABA S10, COM PARAFUSO DE 6,10 X 65 MM EM ACO ZINCADO COM ROSCA SOBERBA, CABECA CHATA E FENDA PHILLIPS | D23: UN | E23: 0.61 | F23: 4.1676225 | G23: =TRUNC(E23*F23,2) -> 2.54 | I23: 277.8415 | J23: =I23*0.015 -> 4.1676225
A24: SINAPI-I | B24: 36888 | C24: GUARNICAO / MOLDURA / ARREMATE DE ACABAMENTO PARA ESQUADRIA, EM ALUMINIO PERFIL 25, ACABAMENTO ANODIZADO BRANCO OU BRILHANTE, PARA 1 FACE | D24: M | E24: 34.46 | F24: 2.2 | G24: =TRUNC(E24*F24,2) -> 75.81 | I24: 0.5894 | J24: =I24*0.015 -> 0.008841
A25: SINAPI-I | B25: 88273 | C25: MARCENEIRO COM ENCARGOS COMPLEMENTARES | D25: H | E25: 25.39 | F25: 1 | G25: =TRUNC(E25*F25,2) -> 25.39 | J25: =I25*0.015 -> 0
A26: SINAPI | B26: 38179 | C26: ROLDANA CONCAVA DUPLA, 4 RODAS, PARA PORTA DE CORRER, EM ZAMAC COM CHAPA DE ACO, ROLAMENTO INTERNO BLINDADO DE ACO REVESTIDO EM NYLON | D26: UN | E26: 50.95 | F26: 1 | G26: =TRUNC(E26*F26,2) -> 50.95 | I26: 6.2067 | J26: =I26*0.015 -> 0.0931005
A28: COMPOSIÇÃO | B28: 4 | C28: PORTA DE MADEIRA LISA PINTADA DE BRANCO, DE CORRER (EUCALIPTO OU EQUIVALENTE REGIONAL), E = *3,5* CM. FORNECIMENTO E INSTALAÇÃO (80x2,10) | D28: M2 | G28: =SUM(G29:G33) -> 822.91
A29: SINAPI-I | B29: 142 | C29: SELANTE ELASTICO MONOCOMPONENTE A BASE DE POLIURETANO (PU) PARA JUNTAS DIVERSAS | D29: 310ml | E29: 35.06 | F29: 0.0637 | G29: =TRUNC(E29*F29,2) -> 2.23
A30: SINAPI-I | B30: 39484 | C30: KIT PORTA PRONTA DE MADEIRA, FOLHA LEVE (NBR 15930) DE 800 X 2100 MM, DE 35 MM A 40 MM DE ESPESSURA, COM MARCO EM ACO, NUCLEO COLMEIA, CAPA LISA EM HDF, ACABAMENTO MELAMINICO BRANCO (INCLUI MARCO, ALIZARES, DOBRADICAS E FECHADURA) | D30: UN | E30: 595.21 | F30: 1 | G30: =TRUNC(E30*F30,2) -> 595.21
A31: SINAPI-I | B31: 7568 | C31: BUCHA DE NYLON SEM ABA S10, COM PARAFUSO DE 6,10 X 65 MM EM ACO ZINCADO COM ROSCA SOBERBA, CABECA CHATA E FENDA PHILLIPS | D31: UN | E31: 0.61 | F31: 6 | G31: =TRUNC(E31*F31,2) -> 3.66
A32: SINAPI-I | B32: 36888 | C32: GUARNICAO / MOLDURA / ARREMATE DE ACABAMENTO PARA ESQUADRIA, EM ALUMINIO PERFIL 25, ACABAMENTO ANODIZADO BRANCO OU BRILHANTE, PARA 1 FACE | D32: M | E32: 34.46 | F32: 5.7 | G32: =TRUNC(E32*F32,2) -> 196.42
A33: SINAPI-I | B33: 88273 | C33: MARCENEIRO COM ENCARGOS COMPLEMENTARES | D33: H | E33: 25.39 | F33: 1 | G33: =TRUNC(E33*F33,2) -> 25.39
A34: SINAPI | B34: 38179 | C34: ROLDANA CONCAVA DUPLA, 4 RODAS, PARA PORTA DE CORRER, EM ZAMAC COM CHAPA DE ACO, ROLAMENTO INTERNO BLINDADO DE ACO REVESTIDO EM NYLON | D34: UN | E34: 50.95 | F34: 1 | G34: =TRUNC(E34*F34,2) -> 50.95
A36: COMPOSIÇÃO | B36: 5 | C36: GRADIL BELGO EM TELA DE AÇO GALVANIZADO REVESTIDO EM PINTURA ELETROSTÁTICA EM POLIÈSTER DIMENSÕES: MAHA DE 5X20 CM, DIÂMETRO DE 4,3 MM, LARGURA DO PAINEL 2,50 M X 1,53 M ALTURA. (FORNECIMENTO E INSTALAÇÃO, INCLUSO PILARETES E ACABAMENTOS) | D36: M | F36: 1 | G36: =ROUND(SUM(G37:G44),2) -> 227.78
A37: COTAÇÃO | C37: PRESTAÇÃO DE SERVIÇOS DE INSTALAÇÃO DE GRADIL EM AÇO GALVANIZADO, PILARETES METÁLICO COM TAMPA NYLOFOR E CHUMBAMENTO DA BASE | D37: M | E37: 78.74 | F37: 1 | G37: =E37*F37 -> 78.74
A38: COTAÇÃO | C38: GRADIL BELGO EM TELA DE AÇO GALVANIZADO REVESTIDO EM PINTURA ELETROSTÁTICA EM POLIÈSTER DIMENSÕES: MAHA DE 5X20 CM, DIÂMETRO DE 4,3 MM, LARGURA DO PAINEL 2,50 M X 1,53 M ALTURA. | D38: M² | E38: 246.84 | F38: =1/2.5 -> 0.4 | G38: =E38*F38 -> 98.736
A39: COTAÇÃO | C39: PILARETE METÁLICO DE SEÇÃO 4X6 CM, ESPESSURA 1,25 MM E ALTURA DE 2,00 M, POSTE COM 40 CM DE CHUMBAMENTO NA BASE (INCLUSO CHUMBAMENTO) | D39: UN | E39: 95.39 | F39: 0.41 | G39: =E39*F39 -> 39.1099
A40: COTAÇÃO | C40: TAMPA DE NYLOFOR | D40: UN | E40: 3.05 | F40: 0.41 | G40: =E40*F40 -> 1.2505
A41: COTAÇÃO | C41: FIXADOR NYLOFOR POLIAMIDA | D41: UN | E41: 3.5 | F41: =ROUND(0.41*2,2) -> 0.82 | G41: =E41*F41 -> 2.87
A42: SINAPI | C42: ESCAVAÇÃO MANUAL DE VALA COM PROFUNDIDADE MENOR OU IGUAL A 1,30 M | D42: M3 | E42: 514.24 | F42: 0.0064 | G42: =E42*F42 -> 3.291136
A43: SINAPI | C43: LASTRO DE CONCRETO COM MATERIAL GRANULAR, APLICAÇÃO EM BLOCOS DE COROAMENTO, ESPESSIRA DE 5 CM | D43: M3 | E43: 537.97 | F43: 0.00064 | G43: =E43*F43 -> 0.3443008
A44: SINAPI | C44: CONCRETO FCK=20 MPA, TRALÇO 1:2, 6:2,9 (EM MASSA SECA DE CIMENTO/AREIA MÉDIA/SEIXO ROLADO) - PREPARO MECÂNICO COM BETONEIRA 400L. | D44: M3 | E44: 537.97 | F44: 0.0064 | G44: =E44*F44 -> 3.443008

Sheet COMPOSIÇÕES NOVAS
B2: Tipo Item | C2: Código do item | D2: Descrição | E2: Unidade | F2: Coeficiente | G2: Custo | H2: Custo
B3: COMP I1 | D3: LUMINÁRIA TIPO PLAFON QUADRADA, DE EMBUTIR, COM LED DE 18 W - FORNECIMENTO E INSTALAÇÃO. AF_09/2024 | E3: UN | H3: =SUM(H4:H6) -> 43.81
B4: COMPOSICAO | C4: 88264 | D4: ELETRICISTA COM ENCARGOS COMPLEMENTARES | E4: H | F4: 0.5507354 | G4: 39.43 | H4: 21.71
B5: COMPOSICAO | C5: 88247 | D5: AUXILIAR DE ELETRICISTA COM ENCARGOS COMPLEMENTARES | E5: H | F5: 0.1721048 | G5: 24.33 | H5: 4.18
B6: INSUMO | C6: 44791 | D6: LUMINARIA PAINEL PLAFON, DE EMBUTIR, SLIM, QUADRADA *22 X 22* CM, EM ALUMINIO ACABAMENTO BRANCO, COM ACRILICO, COM LAMPADAS LED 18W, BIVOLT | E6: UN | F6: 1 | H6: 17.92
B8: COMP I2 | D8: LUMINÁRIA TIPO PLAFON QUADRADA, DE EMBUTIR, COM LED DE 24 W - FORNECIMENTO E INSTALAÇÃO. AF_09/2024 | E8: UN | H8: =SUM(H9:H11) -> 66.2
B9: COMPOSICAO | C9: 88264 | D9: ELETRICISTA COM ENCARGOS COMPLEMENTARES | E9: H | F9: 0.6442457 | G9: 39.43 | H9: 25.4
B10: COMPOSICAO | C10: 88247 | D10: AUXILIAR DE ELETRICISTA COM ENCARGOS COMPLEMENTARES | E10: H | F10: 0.2013268 | G10: 24.33 | H10: 4.89
B11: INSUMO | C11: 44792 | D11: LUMINARIA PAINEL PLAFON, DE EMBUTIR, SLIM, QUADRADA *30 X 30* CM, EM ALUMINIO ACABAMENTO BRANCO, COM ACRILICO, COM LAMPADAS LED 24W, BIVOLT | E11: UN | F11: 1 | H11: 35.91
B13: COMP I3 | D13: LUMINÁRIA REFLETOR LED PARA ILUMINAÇÃO PÚBLICA, 50 W - FORNECIMENTO E INSTALAÇÃO. AF_02/2025 | E13: UN | H13: =SUM(H14:H17) -> 75.36
B14: COMPOSICAO | C14: 88264 | D14: ELETRICISTA COM ENCARGOS COMPLEMENTARES | E14: H | F14: 0.7289 | G14: 39.43 | H14: 28.74
B15: COMPOSICAO | C15: 88247 | D15: AUXILIAR DE ELETRICISTA COM ENCARGOS COMPLEMENTARES | E15: H | F15: 0.7289 | G15: 24.33 | H15: 17.73
B16: INSUMO | C16: 45268 | D16: LUMINARIA LED REFLETOR SOLAR BIVOLT, LUZ BRANCA, 50 W | E16: UN | F16: 1 | H16: 28.74
B17: INSUMO | C17: 21127 | D17: FITA ISOLANTE ADESIVA ANTICHAMA, USO ATE 750 V, EM ROLO DE 19 MM X 5 M | E17: UN | F17: 0.042 | G17: 3.65 | H17: 0.15
B19: COMP C1 | D19: FABRICAÇÃO E INSTALAÇÃO DE TESOURA INTEIRA EM AÇO, VÃO DE 18 M, PARA TELHA ONDULADA DE FIBROCIMENTO, METÁLICA, PLÁSTICA OU TERMOACÚSTICA. | E19: UN | H19: =SUM(H20:H25) -> 3097
B20: COMPOSICAO | C20: 92258 | D20: INSTALAÇÃO DE TESOURA (INTEIRA OU MEIA), EM AÇO, PARA VÃOS MAIORES OU IGUAIS A 10,0 M E MENORES QUE 12,0 M, INCLUSO IÇAMENTO. AF_07/2019 | E20: UN | F20: 1.63 | G20: 352.11 | H20: =ROUND(G20*F20,2) -> 573.94
B21: COMPOSICAO | C21: 88316 | D21: SERVENTE COM ENCARGOS COMPLEMENTARES | E21: H | F21: 1.073 | G21: 22.17 | H21: =ROUND(G21*F21,2) -> 23.79
B22: COMPOSICAO | C22: 88278 | D22: MONTADOR DE ESTRUTURA METÁLICA COM ENCARGOS COMPLEMENTARES | E22: H | F22: 4.65 | G22: 24.27 | H22: =ROUND(G22*F22,2) -> 112.86
B23: INSUMO | C23: 40598 | D23: PERFIL "U" SIMPLES, EM CHAPA DOBRADA DE ACO LAMINADO, E = 3 MM, H = 125 MM, L = 50 MM (5,07 KG/M) | E23: KG | F23: 201.469 | G23: 8.45 | H23: =ROUND(G23*F23,2) -> 1702.41
B24: INSUMO | C24: 10997 | D24: ELETRODO REVESTIDO AWS - E7018, DIAMETRO IGUAL A 4,00 MM | E24: KG | F24: 0.8541 | G24: 29.5 | H24: =ROUND(G24*F24,2) -> 25.2
B25: INSUMO | C25: 4777 | D25: CANTONEIRA ACO ABAS IGUAIS (QUALQUER BITOLA), ESPESSURA ENTRE 1/8" E 1/4" | E25: KG | F25: 82.145 | G25: 8.02 | H25: =ROUND(G25*F25,2) -> 658.8

Sheet Cronograma Global
A1: PREFEITURA MUNICIPAL DE SANTIAGO DO SUL - SC
A2: CNPJ: 01.612.781/0001-38 Fone: (49) 3345-3000
A3: Rua Angelo Toazza, 600 - Centro - Santiago do Sul - SC CEP: 89.854-000
A4: MUNICÍPIO: Santiago do Sul - SC
A5: CRONOGRAMA FÍSICO-FINANCEIRO PARA OBRAS E SERVIÇOS DE ENGENHARIA
A7: ='Orcamento Global'!A7:F7 -> PROJETO: BARRACÃO TIPO 2 (396,00m²)
A8: ='Orcamento Global'!A8:F8 -> LOCALIZAÇÃO: RUA MARIA LORENZETTI MATTIELLO - SANTIAGO DO SUL - SC | M8: BDI | N8: 0.2
A9: ='Orcamento Global'!A9:F9 -> TABELA REFERÊNCIA: 05/2025 - DESONERADO
A11: PERIODICIDADE DAS ETAPAS: MENSAL
A12: ITEM | B12: DISCRIMINAÇÃO DOS SERVIÇOS | C12: PERÍODO | M12: TOTAL
C13: Etapa 01 | E13: Etapa 02 | G13: Etapa 03 | I13: Etapa 04 | K13: Etapa 05
C14: R$ | D14: % | E14: R$ | F14: % | G14: R$ | H14: % | I14: R$ | J14: % | K14: R$ | L14: % | M14: R$ | N14: %
A15: 1 | B15: ='Orcamento Global'!C12 -> SERVIÇOS INICIAIS | C15: =$M15*D15 -> 0 | D15: 1 | E15: =$M15*F15 -> 0 | G15: =$M15*H15 -> 0 | I15: =$M15*J15 -> 0 | K15: =$M15*L15 -> 0 | M15: ='Orcamento Global'!H12 -> 0 | N15: =SUM(D15,F15,H15,J15,L15) -> 1
A16: =1+A15 -> 2 | B16: ='Orcamento Global'!C16 -> ADMINISTRAÇÃO DE OBRAS | C16: =M16*D16 -> 0 | D16: 0.2 | E16: =$M16*F16 -> 0 | F16: 0.2 | G16: =$M16*H16 -> 0 | H16: 0.2 | I16: =$M16*J16 -> 0 | J16: 0.2 | K16: =$M16*L16 -> 0 | L16: 0.2 | M16: ='Orcamento Global'!H16 -> 0 | N16: =SUM(D16,F16,H16,J16,L16) -> 1
A17: =1+A16 -> 3 | B17: ='Orcamento Global'!C21 -> FUNDAÇÃO E ESTRUTURA | C17: =M17*D17 -> 0 | D17: 0.2 | E17: =$M17*F17 -> 0 | F17: 0.4 | G17: =$M17*H17 -> 0 | H17: 0.4 | I17: =$M17*J17 -> 0 | K17: =$M17*L17 -> 0 | M17: ='Orcamento Global'!H21 -> 0 | N17: =SUM(D17,F17,H17,J17,L17) -> 1
A18: =1+A17 -> 4 | B18: ='Orcamento Global'!C34 -> ALVENARIA E REVESTIMENTO PAREDES | C18: =M18*D18 -> 0 | E18: =$M18*F18 -> 0 | F18: 0.2 | G18: =$M18*H18 -> 0 | H18: 0.4 | I18: =$M18*J18 -> 0 | J18: 0.4 | K18: =$M18*L18 -> 0 | M18: ='Orcamento Global'!H34 -> 0 | N18: =SUM(D18,F18,H18,J18,L18) -> 1
A19: =1+A18 -> 5 | B19: ='Orcamento Global'!C41 -> COBERTURA | C19: =M19*D19 -> 0 | E19: =$M19*F19 -> 0 | G19: =$M19*H19 -> 0 | H19: 0.4 | I19: =$M19*J19 -> 0 | J19: 0.4 | K19: =$M19*L19 -> 0 | L19: 0.2 | M19: ='Orcamento Global'!H41 -> 0 | N19: =SUM(D19,F19,H19,J19,L19) -> 1
A20: =1+A19 -> 6 | B20: ='Orcamento Global'!C47 -> DRENAGEM PLUVIAL | C20: =M20*D20 -> 0 | E20: =$M20*F20 -> 0 | G20: =$M20*H20 -> 0 | I20: =$M20*J20 -> 0 | J20: 0.5 | K20: =$M20*L20 -> 0 | L20: 0.5 | M20: ='Orcamento Global'!H47 -> 0 | N20: =SUM(D20,F20,H20,J20,L20) -> 1
A21: =1+A20 -> 7 | B21: ='Orcamento Global'!C59 -> PAVIMENTAÇÃO | C21: =M21*D21 -> 0 | E21: =$M21*F21 -> 0 | F21: 0.4 | G21: =$M21*H21 -> 0 | H21: 0.4 | I21: =$M21*J21 -> 0 | J21: 0.2 | K21: =$M21*L21 -> 0 | M21: ='Orcamento Global'!H59 -> 0 | N21: =SUM(D21,F21,H21,J21,L21) -> 1
A22: =1+A21 -> 8 | B22: ='Orcamento Global'!C66 -> ESQUADRIAS | C22: =M22*D22 -> 0 | E22: =$M22*F22 -> 0 | G22: =$M22*H22 -> 0 | H22: 0.4 | I22: =$M22*J22 -> 0 | J22: 0.4 | K22: =$M22*L22 -> 0 | L22: 0.2 | M22: ='Orcamento Global'!H66 -> 0 | N22: =SUM(D22,F22,H22,J22,L22) -> 1
A23: =1+A22 -> 9 | B23: ='Orcamento Global'!C75 -> PINTURA EXTERNA | C23: =M23*D23 -> 0 | E23: =$M23*F23 -> 0 | G23: =$M23*H23 -> 0 | I23: =$M23*J23 -> 0 | J23: 0.5 | K23: =$M23*L23 -> 0 | L23: 0.5 | M23: ='Orcamento Global'!H75 -> 0 | N23: =SUM(D23,F23,H23,J23,L23) -> 1
A24: =1+A23 -> 10 | B24: ='Orcamento Global'!C79 -> INSTALAÇÕES ELÉTRICAS | C24: =M24*D24 -> 0 | E24: =$M24*F24 -> 0 | F24: 0.2 | G24: =$M24*H24 -> 0 | H24: 0.5 | I24: =$M24*J24 -> 0 | J24: 0.3 | K24: =$M24*L24 -> 0 | M24: ='Orcamento Global'!H79 -> 0 | N24: =SUM(D24,F24,H24,J24,L24) -> 1
A25: =1+A24 -> 11 | B25: ='Orcamento Global'!C99 -> INSTALAÇÕES HIDROSSANITÁRIAS | C25: =M25*D25 -> 0 | E25: =$M25*F25 -> 0 | F25: 0.2 | G25: =$M25*H25 -> 0 | H25: 0.4 | I25: =$M25*J25 -> 0 | J25: 0.4 | K25: =$M25*L25 -> 0 | M25: ='Orcamento Global'!H99 -> 0 | N25: =SUM(D25,F25,H25,J25,L25) -> 1
A26: =1+A25 -> 12 | B26: ='Orcamento Global'!C132 -> PREVENTIVO CONTRA INCÊNDIO (PPCI) | C26: =M26*D26 -> 0 | E26: =$M26*F26 -> 0 | G26: =$M26*H26 -> 0 | I26: =$M26*J26 -> 0 | K26: =$M26*L26 -> 0 | L26: 1 | M26: ='Orcamento Global'!H132 -> 0 | N26: =SUM(D26,F26,H26,J26,L26) -> 1
A27: 13 | B27: ='Orcamento Global'!C138 -> ENTREGA DA OBRA | C27: =M27*D27 -> 0 | E27: =$M27*F27 -> 0 | G27: =$M27*H27 -> 0 | I27: =$M27*J27 -> 0 | K27: =$M27*L27 -> 0 | L27: 1 | M27: ='Orcamento Global'!H138 -> 0 | N27: =SUM(D27,F27,H27,J27,L27) -> 1
A28: TOTAL NO MÊS (SIMPLES) | C28: =SUM(C15:C26) -> 0 | D28: =C28/$M$28 -> #DIV/0! | E28: =SUM(E15:E26) -> 0 | F28: =E28/$M$28 -> #DIV/0! | G28: =SUM(G15:G26) -> 0 | H28: =G28/$M$28 -> #DIV/0! | I28: =SUM(I15:I26) -> 0 | J28: =I28/$M$28 -> #DIV/0! | K28: =SUM(K15:K27) -> 0 | L28: =K28/$M$28 -> #DIV/0! | M28: =SUM(M15:M27) -> 0 | N28: 1
A29: TOTAL NO MÊS (ACUMULADO) | C29: =C28 -> 0 | D29: =D28 -> #DIV/0! | E29: =C29+E28 -> 0 | F29: =D29+F28 -> #DIV/0! | G29: =E29+G28 -> 0 | H29: =F29+H28 -> #DIV/0! | I29: =G29+I28 -> 0 | J29: =H29+J28 -> #DIV/0! | K29: =I29+K28 -> 0 | L29: =J29+L28 -> #DIV/0!
A30: ASSINATURAS:
I32: LEONARDO BERLANDA | K32: ALACIR DURANTE
I33: ENGENHEIRO CIVIL | K33: MUNICÍPIO DE SANTIAGO DO SUL
I34: CREA/SC 170174-8 | K34: PREFEITO MUNICIPAL
