Workbook

Sheet Planejamento unificado
A2: Item | B2: Descrição | C2: Un | D2: Administração | E2: Educação | G2: Saúde | I2: Assistência Social | L2: Total Geral do Produto
D3: Manut. Da Sec | E3: Manut. Da Sec | F3: Manut. Do Ensino Fund | G3: Manut. Da Vig. Epi | H3: Manut. Da Sec | I3: Manut. Da Sec. | J3: Cad. Único | K3: Manut. Da Proteção Básica
D4: Quant. | E4: Quant. | F4: Quant. | G4: Quant. | H4: Quant. | I4: Quant. | J4: quant. | K4: Quant.
A5: B | B5: OBJETO: | M5: valor unitário | N5: valor total
B6: fornecimento de lanche
A7: 1 | B7: Bolo caseiro em diversos sabores, sabores variados (milho, macaxeira, laranja, coco, entre outros), servidos inteiro ou em fatias, com peso total mínimo de 1kg por unidade. Preparado com ingredientes de qualidade, devidamente acondicionado e em conformidade com as normas de higiene e segurança alimentar. | C7: kg | D7: 40 | E7: 120 | H7: 30 | I7: 22 | J7: 88 | K7: 110 | L7: =SUM(D7:K7) -> 410 | M7: 24.12 | N7: =M7*L7 -> 9889.2
A8: 2 | B8: Bolo de chocolate, com cobertura (brigadeiro ou similar), servidos inteiro ou em fatias com peso aproximado de 1 kg, preparado com ingredientes de qualidade, devidamente acondicionado e em conformidade com as normas de higiene e segurança alimentar. | C8: kg | D8: 40 | E8: 40 | H8: 35 | I8: 22 | J8: 88 | K8: 110 | L8: =SUM(D8:K8) -> 335 | M8: 39.15 | N8: =M8*L8 -> 13115.25
A9: 3 | B9: Bolo de Milho, Bolo produzido à base de milho, com textura macia e sabor característico, podendo ser preparado com milho natural ou em conserva, servido em pedaços, com peso mínimo de 1kg por unidade. Preparado com ingredientes de qualidade, devidamente acondicionado e em conformidade com as normas de higiene e segurança alimentar. | C9: kg | D9: 25 | E9: 30 | H9: 35 | I9: 22 | J9: 88 | K9: 110 | L9: =SUM(D9:K9) -> 310 | M9: 35.62 | N9: =M9*L9 -> 11042.2
A10: 4 | B10: Bolo Mangulão, produzido à base de queijo e polvilho com peso aproximado de 1 kg, preparado com ingredientes de qualidade, devidamente acondicionado e em conformidade com as normas de higiene e segurança alimentar. | C10: kg | D10: 30 | E10: 50 | H10: 61 | I10: 22 | J10: 88 | K10: 110 | L10: =SUM(D10:K10) -> 361 | M10: 43.17 | N10: =M10*L10 -> 15584.37
A11: 5 | B11: Bolo de cenoura, Massa a base de cenoura, com cobertura (chocolate ou similar), servido em fatias, com peso mínimo de 1kg. Preparado com ingredientes de qualidade, devidamente acondicionado e em conformidade com as normas de higiene e segurança alimentar | C11: kg | D11: 60 | E11: 35 | H11: 35 | J11: 30 | K11: 70 | L11: =SUM(D11:K11) -> 230 | M11: 23.97 | N11: =M11*L11 -> 5513.1
A12: 6 | B12: Bolo recheado e confeitado, Massa branca ou chocolate, com recheios variados (doce de leite, chocolate, abacaxi, entre outros), cobertura em chantilly ou chantininho, formato redondo ou quadrado, peso mínimo de 2kg. | C12: kg | D12: 250 | E12: 50 | H12: 35 | I12: 104 | K12: 26 | L12: =SUM(D12:K12) -> 465 | M12: 106.09 | N12: =M12*L12 -> 49331.85
A13: 7 | B13: BOLO DE QUEIJO - frito. | C13: kg | D13: 80 | K13: 50 | L13: =SUM(D13:K13) -> 130 | M13: 43.86 | N13: =M13*L13 -> 5701.8
A14: 8 | B14: CANUDINHOS RECHEADOS - com queijo e presunto fatiado e patê de frango. | C14: UND | D14: 990 | E14: 2640 | H14: 1155 | I14: 726 | J14: 2904 | K14: 3630 | L14: =SUM(D14:K14) -> 12045 | M14: 2.27 | N14: =M14*L14 -> 27342.15
A15: 9 | B15: CUPCAKE- Composto por massa fofa, recheio cremoso e cobertura decorada conforme identidade visual do evento. Deve ser entregue em embalagem individual que garanta a integridade física e higiênico-sanitária do produto, respeitando as normas de segurança alimentar vigentes. | C15: UNID | D15: 1000 | J15: 600 | K15: 1400 | L15: =SUM(D15:K15) -> 3000 | M15: 8.25 | N15: =M15*L15 -> 24750
A16: 10 | B16: LANCHE TIPO BAURU - (pão francês, maionese, tomate, Muçarela, presunto), em embalagem individual. | C16: kg | D16: 120 | E16: 200 | H16: 35 | I16: 22 | J16: 88 | K16: 110 | L16: =SUM(D16:K16) -> 575 | M16: 42.89 | N16: =M16*L16 -> 24661.75
A17: 11 | B17: MINI SANDUÍCHE - Composto por pão doce tipo mini sanduíche, aproximadamente 30g cada, c/recheio de patê de frango ou atum, alface e cenoura ralada (escolha na solicitação). Embalados individualmente. | C17: kg | D17: 50 | E17: 400 | H17: 35 | I17: 22 | J17: 88 | K17: 110 | L17: =SUM(D17:K17) -> 705 | M17: 47.92 | N17: =M17*L17 -> 33783.6
A18: 12 | B18: Pão francês, fornecido em quilo (kg), fresco, de boa qualidade, com casca crocante e miolo macio, produzido e armazenado em condições adequadas de higiene e segurança alimentar, próprio para consumo imediato. | C18: kg | D18: 180 | E18: 30 | I18: 24 | J18: 96 | K18: 120 | L18: =SUM(D18:K18) -> 450 | M18: 22.17 | N18: =M18*L18 -> 9976.5
A19: 13 | B19: Pão de Hot Dog - Pacote com 10 unid. Aproximadamente 500 gramas. | C19: un | D19: 150 | E19: 30 | I19: 22 | J19: 88 | K19: 110 | L19: =SUM(D19:K19) -> 400 | M19: 14.76 | N19: =M19*L19 -> 5904
A20: 14 | B20: Pão de queijo tradicional, (servidos em unidades). Contendo peso mínimo 25g a 30g cada. Preparado com ingredientes de qualidade, fresco, com textura macia por dentro e levemente dourado por fora, devidamente acondicionado para consumo e em conformidade com as normas de higiene e segurança alimentar. | C20: kg | D20: 80 | E20: 120 | H20: 120 | I20: 22 | J20: 88 | K20: 110 | L20: =SUM(D20:K20) -> 540 | M20: 42.51 | N20: =M20*L20 -> 22955.4
A21: 15 | B21: Pão de queijo palito - polvilho azedo, queijo meia cura, água, ovos e sal, fornecido por unidade de no mínimo 20g cada. | C21: kg | D21: 60 | E21: 80 | H21: 25 | I21: 22 | J21: 88 | K21: 110 | L21: =SUM(D21:K21) -> 385 | M21: 42.51 | N21: =M21*L21 -> 16366.35
A22: 16 | B22: Rosca Doce, Produto de panificação, tipo rosca, de sabor doce, macia, podendo conter cobertura simples (leite condensado ou coco), com peso médio de 55g por unidade, fornecida por quilo, com preparo recente e adequada conservação. | C22: kg | D22: 50 | E22: 30 | H22: 40 | I22: 22 | J22: 88 | K22: 110 | L22: =SUM(D22:K22) -> 340 | M22: 21.93 | N22: =M22*L22 -> 7456.2
A23: 17 | B23: Salgados diversos com peso médio de 20 a 30 (vinte a trinta) gramas por unidade. Recheios: carne, frango, presunto, mussarela, salsicha. (risoles, coxinha, croquete, bolinha de queijo, pastel, quibe e entre outros tipos de Salgados). | C23: kg | D23: 300 | E23: 1200 | H23: 250 | I23: 51 | J23: 204 | K23: 255 | L23: =SUM(D23:K23) -> 2260 | M23: 49 | N23: =M23*L23 -> 110740
A24: 18 | B24: TORTA SALGADA - Massa leve recheada com frango ou carne, cortada em pedaços de no mínimo 30g. | C24: un | D24: 50 | E24: 120 | H24: 95 | I24: 25 | J24: 100 | K24: 125 | L24: =SUM(D24:K24) -> 515 | M24: 45.64 | N24: =M24*L24 -> 23504.6
N25: =SUM(N7:N24) -> 417618.32
N28: =Plan1!K21 -> 417618.32

Sheet Plan1
F1: CNPJ | H1: BANCO DE PREÇO | J1: VALOR MÉDIO | M1: QUANTIDADE | R1: VALOR
B2: ITEM | C2: DESCRIMINAÇÃO | D2: UNID | E2: QUANT | F2: VALOR UNITÁRIO | G2: VALOR TOTAL | H2: VALOR UNITÁRIO | I2: VALOR TOTAL | J2: VALOR UNITÁRIO | K2: VALOR TOTAL | M2: ADM | N2: FMS | O2: FME | P2: FMAS | R2: ADM | S2: FMS | T2: FME | U2: FMAS
B3: 1 | C3: Bolo caseiro em diversos sabores, sabores variados (milho, macaxeira, laranja, coco, entre outros), servidos inteiro ou em fatias, com peso total mínimo de 1kg por unidade. Preparado com ingredientes de qualidade, devidamente acondicionado e em conformidade com as normas de higiene e segurança alimentar. | D3: kg | E3: 410 | F3: 22.97 | G3: =F3*E3 -> 9417.7 | H3: 25.26 | I3: =H3*E3 -> 10356.6 | J3: 24.12 | K3: =J3*E3 -> 9889.2 | M3: 40 | N3: 30 | O3: 120 | P3: 220 | R3: =M3*J3 -> 964.8 | S3: =N3*J3 -> 723.6 | T3: =O3*J3 -> 2894.4 | U3: =P3*J3 -> 5306.4
B4: 2 | C4: Bolo de chocolate, com cobertura (brigadeiro ou similar), servidos inteiro ou em fatias com peso aproximado de 1 kg, preparado com ingredientes de qualidade, devidamente acondicionado e em conformidade com as normas de higiene e segurança alimentar. | D4: kg | E4: 335 | F4: 38.97 | G4: =F4*E4 -> 13054.95 | H4: 39.33 | I4: =H4*E4 -> 13175.55 | J4: 39.15 | K4: =J4*E4 -> 13115.25 | M4: 40 | N4: 35 | O4: 40 | P4: 220 | R4: =M4*J4 -> 1566 | S4: =N4*J4 -> 1370.25 | T4: =O4*J4 -> 1566 | U4: =P4*J4 -> 8613
B5: 3 | C5: Bolo de Milho, Bolo produzido à base de milho, com textura macia e sabor característico, podendo ser preparado com milho natural ou em conserva, servido em pedaços, com peso mínimo de 1kg por unidade. Preparado com ingredientes de qualidade, devidamente acondicionado e em conformidade com as normas de higiene e segurança alimentar. | D5: kg | E5: 310 | F5: 34.97 | G5: =F5*E5 -> 10840.7 | H5: 36.26 | I5: =H5*E5 -> 11240.6 | J5: 35.62 | K5: =J5*E5 -> 11042.2 | M5: 25 | N5: 35 | O5: 30 | P5: 220 | R5: =M5*J5 -> 890.5 | S5: =N5*J5 -> 1246.7 | T5: =O5*J5 -> 1068.6 | U5: =P5*J5 -> 7836.4
B6: 4 | C6: Bolo Mangulão, produzido à base de queijo e polvilho com peso aproximado de 1 kg, preparado com ingredientes de qualidade, devidamente acondicionado e em conformidade com as normas de higiene e segurança alimentar. | D6: kg | E6: 361 | F6: 44.97 | G6: =F6*E6 -> 16234.17 | H6: 41.36 | I6: =H6*E6 -> 14930.96 | J6: 43.17 | K6: =J6*E6 -> 15584.37 | M6: 30 | N6: 61 | O6: 50 | P6: 220 | R6: =M6*J6 -> 1295.1 | S6: =N6*J6 -> 2633.37 | T6: =O6*J6 -> 2158.5 | U6: =P6*J6 -> 9497.4
B7: 5 | C7: Bolo de cenoura, Massa a base de cenoura, com cobertura (chocolate ou similar), servido em fatias, com peso mínimo de 1kg. Preparado com ingredientes de qualidade, devidamente acondicionado e em conformidade com as normas de higiene e segurança alimentar | D7: kg | E7: 230 | F7: 22.97 | G7: =F7*E7 -> 5283.1 | H7: 24.96 | I7: =H7*E7 -> 5740.8 | J7: 23.97 | K7: =J7*E7 -> 5513.1 | M7: 60 | N7: 35 | O7: 35 | P7: 100 | R7: =M7*J7 -> 1438.2 | S7: =N7*J7 -> 838.95 | T7: =O7*J7 -> 838.95 | U7: =P7*J7 -> 2397
B8: 6 | C8: Bolo recheado e confeitado, Massa branca ou chocolate, com recheios variados (doce de leite, chocolate, abacaxi, entre outros), cobertura em chantilly ou chantininho, formato redondo ou quadrado, peso mínimo de 2kg. | D8: kg | E8: 465 | F8: 110.97 | G8: =F8*E8 -> 51601.05 | H8: 101.2 | I8: =H8*E8 -> 47058 | J8: 106.09 | K8: =J8*E8 -> 49331.85 | M8: 250 | N8: 35 | O8: 50 | P8: 130 | R8: =M8*J8 -> 26522.5 | S8: =N8*J8 -> 3713.15 | T8: =O8*J8 -> 5304.5 | U8: =P8*J8 -> 13791.7
B9: 7 | C9: BOLO DE QUEIJO - frito. | D9: kg | E9: 130 | F9: 42.97 | G9: =F9*E9 -> 5586.1 | H9: 44.75 | I9: =H9*E9 -> 5817.5 | J9: 43.86 | K9: =J9*E9 -> 5701.8 | M9: 80 | P9: 50 | R9: =M9*J9 -> 3508.8 | S9: =N9*J9 -> 0 | T9: =O9*J9 -> 0 | U9: =P9*J9 -> 2193
B10: 8 | C10: CANUDINHOS RECHEADOS - com queijo e presunto fatiado e patê de frango. | D10: UND | E10: 12045 | F10: 2.97 | G10: =F10*E10 -> 35773.65 | H10: 1.56 | I10: =H10*E10 -> 18790.2 | J10: 2.27 | K10: =J10*E10 -> 27342.15 | M10: 990 | N10: 1155 | O10: 2640 | P10: 7260 | R10: =M10*J10 -> 2247.3 | S10: =N10*J10 -> 2621.85 | T10: =O10*J10 -> 5992.8 | U10: =P10*J10 -> 16480.2
B11: 9 | C11: CUPCAKE- Composto por massa fofa, recheio cremoso e cobertura decorada conforme identidade visual do evento. Deve ser entregue em embalagem individual que garanta a integridade física e higiênico-sanitária do produto, respeitando as normas de segurança alimentar vigentes. | D11: UNID | E11: 3000 | F11: 7.97 | G11: =F11*E11 -> 23910 | H11: 8.53 | I11: =H11*E11 -> 25590 | J11: 8.25 | K11: =J11*E11 -> 24750 | M11: 1000 | P11: 2000 | R11: =M11*J11 -> 8250 | S11: =N11*J11 -> 0 | T11: =O11*J11 -> 0 | U11: =P11*J11 -> 16500
B12: 10 | C12: LANCHE TIPO BAURU - (pão francês, maionese, tomate, Muçarela, presunto), em embalagem individual. | D12: kg | E12: 575 | F12: 38.97 | G12: =F12*E12 -> 22407.75 | H12: 46.81 | I12: =H12*E12 -> 26915.75 | J12: 42.89 | K12: =J12*E12 -> 24661.75 | M12: 120 | N12: 35 | O12: 200 | P12: 220 | R12: =M12*J12 -> 5146.8 | S12: =N12*J12 -> 1501.15 | T12: =O12*J12 -> 8578 | U12: =P12*J12 -> 9435.8
B13: 11 | C13: MINI SANDUÍCHE - Composto por pão doce tipo mini sanduíche, aproximadamente 30g cada, c/recheio de patê de frango ou atum, alface e cenoura ralada (escolha na solicitação). Embalados individualmente. | D13: kg | E13: 705 | F13: 46.97 | G13: =F13*E13 -> 33113.85 | H13: 48.86 | I13: =H13*E13 -> 34446.3 | J13: 47.92 | K13: =J13*E13 -> 33783.6 | M13: 50 | N13: 35 | O13: 400 | P13: 220 | R13: =M13*J13 -> 2396 | S13: =N13*J13 -> 1677.2 | T13: =O13*J13 -> 19168 | U13: =P13*J13 -> 10542.4
B14: 12 | C14: Pão francês, fornecido em quilo (kg), fresco, de boa qualidade, com casca crocante e miolo macio, produzido e armazenado em condições adequadas de higiene e segurança alimentar, próprio para consumo imediato. | D14: kg | E14: 450 | F14: 21.97 | G14: =F14*E14 -> 9886.5 | H14: 22.36 | I14: =H14*E14 -> 10062 | J14: 22.17 | K14: =J14*E14 -> 9976.5 | M14: 180 | O14: 30 | P14: 240 | R14: =M14*J14 -> 3990.6 | S14: =N14*J14 -> 0 | T14: =O14*J14 -> 665.1 | U14: =P14*J14 -> 5320.8
B15: 13 | C15: Pão de Hot Dog - Pacote com 10 unid. Aproximadamente 500 gramas. | D15: UNID/PC | E15: 400 | F15: 14.97 | G15: =F15*E15 -> 5988 | H15: 14.54 | I15: =H15*E15 -> 5816 | J15: 14.76 | K15: =J15*E15 -> 5904 | M15: 150 | O15: 30 | P15: 220 | R15: =M15*J15 -> 2214 | S15: =N15*J15 -> 0 | T15: =O15*J15 -> 442.8 | U15: =P15*J15 -> 3247.2
B16: 14 | C16: Pão de queijo tradicional, (servidos em unidades). Contendo peso mínimo 25g a 30g cada. Preparado com ingredientes de qualidade, fresco, com textura macia por dentro e levemente dourado por fora, devidamente acondicionado para consumo e em conformidade com as normas de higiene e segurança alimentar. | D16: kg | E16: 540 | F16: 42.97 | G16: =F16*E16 -> 23203.8 | H16: 42.05 | I16: =H16*E16 -> 22707 | J16: 42.51 | K16: =J16*E16 -> 22955.4 | M16: 80 | N16: 120 | O16: 120 | P16: 220 | R16: =M16*J16 -> 3400.8 | S16: =N16*J16 -> 5101.2 | T16: =O16*J16 -> 5101.2 | U16: =P16*J16 -> 9352.2
B17: 15 | C17: Pão de queijo palito - polvilho azedo, queijo meia cura, água, ovos e sal, fornecido por unidade de no mínimo 20g cada. | D17: kg | E17: 385 | F17: 42.97 | G17: =F17*E17 -> 16543.45 | H17: 42.05 | I17: =H17*E17 -> 16189.25 | J17: 42.51 | K17: =J17*E17 -> 16366.35 | M17: 60 | N17: 25 | O17: 80 | P17: 220 | R17: =M17*J17 -> 2550.6 | S17: =N17*J17 -> 1062.75 | T17: =O17*J17 -> 3400.8 | U17: =P17*J17 -> 9352.2
B18: 16 | C18: Rosca Doce, Produto de panificação, tipo rosca, de sabor doce, macia, podendo conter cobertura simples (leite condensado ou coco), com peso médio de 55g por unidade, fornecida por quilo, com preparo recente e adequada conservação. | D18: kg | E18: 340 | F18: 21.97 | G18: =F18*E18 -> 7469.8 | H18: 21.89 | I18: =H18*E18 -> 7442.6 | J18: 21.93 | K18: =J18*E18 -> 7456.2 | M18: 50 | N18: 40 | O18: 30 | P18: 220 | R18: =M18*J18 -> 1096.5 | S18: =N18*J18 -> 877.2 | T18: =O18*J18 -> 657.9 | U18: =P18*J18 -> 4824.6
B19: 17 | C19: Salgados diversos com peso médio de 20 a 30 (vinte a trinta) gramas por unidade. Recheios: carne, frango, presunto, mussarela, salsicha. (risoles, coxinha, croquete, bolinha de queijo, pastel, quibe e entre outros tipos de Salgados). | D19: kg | E19: 2260 | F19: 49.97 | G19: =F19*E19 -> 112932.2 | H19: 48.03 | I19: =H19*E19 -> 108547.8 | J19: 49 | K19: =J19*E19 -> 110740 | M19: 300 | N19: 250 | O19: 1200 | P19: 510 | R19: =M19*J19 -> 14700 | S19: =N19*J19 -> 12250 | T19: =O19*J19 -> 58800 | U19: =P19*J19 -> 24990
B20: 18 | C20: TORTA SALGADA - Massa leve recheada com frango ou carne, cortada em pedaços de no mínimo 30g. | D20: kg | E20: 515 | F20: 44.97 | G20: =F20*E20 -> 23159.55 | H20: 46.3 | I20: =H20*E20 -> 23844.5 | J20: 45.64 | K20: =J20*E20 -> 23504.6 | M20: 50 | N20: 95 | O20: 120 | P20: 250 | R20: =M20*J20 -> 2282 | S20: =N20*J20 -> 4335.8 | T20: =O20*J20 -> 5476.8 | U20: =P20*J20 -> 11410
G21: =SUM(G3:G20) -> 426406.32 | I21: =SUM(I3:I20) -> 408671.41 | J21: TOTAL | K21: =SUM(K3:K20) -> 417618.32 | R21: =SUM(R3:R20) -> 84460.5 | S21: =SUM(S3:S20) -> 39953.17 | T21: =SUM(T3:T20) -> 122114.35 | U21: =SUM(U3:U20) -> 171090.3 | V21: =SUM(R21:U21) -> 417618.32
R22: =(R21*100)/$V$21 -> 20.224328 | S22: =(S21*100)/$V$21 -> 9.5669103 | T22: =(T21*100)/$V$21 -> 29.240659 | U22: =(U21*100)/$V$21 -> 40.968102 | V22: =SUM(R22:U22) -> 100
B23: 46170
B24: Ana Paula dos Santos Borges Maria das Dores Ferreira da Silva Savio José dos Reis Rosa Jucélio Dantas de Macêdo
B25: Fundo Municipal de Assitência Social Fundo Municipal de Educação Fundo Municipal de Saúde Secret. Municipal de Administração

Sheet ADM
B2: ITEM | C2: DESCRIMINAÇÃO | D2: UNID | E2: QUANT | F2: VALOR UNITÁRIO | G2: VALOR TOTAL
B3: 1 | C3: Bolo caseiro em diversos sabores, sabores variados (milho, macaxeira, laranja, coco, entre outros), servidos inteiro ou em fatias, com peso total mínimo de 1kg por unidade. Preparado com ingredientes de qualidade, devidamente acondicionado e em conformidade com as normas de higiene e segurança alimentar. | D3: kg | E3: 40 | F3: 24.12 | G3: =F3*E3 -> 964.8
B4: 2 | C4: Bolo de chocolate, com cobertura (brigadeiro ou similar), servidos inteiro ou em fatias com peso aproximado de 1 kg, preparado com ingredientes de qualidade, devidamente acondicionado e em conformidade com as normas de higiene e segurança alimentar. | D4: kg | E4: 40 | F4: 39.15 | G4: =F4*E4 -> 1566
B5: 3 | C5: Bolo de Milho, Bolo produzido à base de milho, com textura macia e sabor característico, podendo ser preparado com milho natural ou em conserva, servido em pedaços, com peso mínimo de 1kg por unidade. Preparado com ingredientes de qualidade, devidamente acondicionado e em conformidade com as normas de higiene e segurança alimentar. | D5: kg | E5: 25 | F5: 35.62 | G5: =F5*E5 -> 890.5
B6: 4 | C6: Bolo Mangulão, produzido à base de queijo e polvilho com peso aproximado de 1 kg, preparado com ingredientes de qualidade, devidamente acondicionado e em conformidade com as normas de higiene e segurança alimentar. | D6: kg | E6: 30 | F6: 43.17 | G6: =F6*E6 -> 1295.1
B7: 5 | C7: Bolo de cenoura, Massa a base de cenoura, com cobertura (chocolate ou similar), servido em fatias, com peso mínimo de 1kg. Preparado com ingredientes de qualidade, devidamente acondicionado e em conformidade com as normas de higiene e segurança alimentar | D7: kg | E7: 60 | F7: 23.97 | G7: =F7*E7 -> 1438.2
B8: 6 | C8: Bolo recheado e confeitado, Massa branca ou chocolate, com recheios variados (doce de leite, chocolate, abacaxi, entre outros), cobertura em chantilly ou chantininho, formato redondo ou quadrado, peso mínimo de 2kg. | D8: kg | E8: 250 | F8: 106.09 | G8: =F8*E8 -> 26522.5
B9: 7 | C9: BOLO DE QUEIJO - frito. | D9: kg | E9: 80 | F9: 43.86 | G9: =F9*E9 -> 3508.8
B10: 8 | C10: CANUDINHOS RECHEADOS - com queijo e presunto fatiado e patê de frango. | D10: UND | E10: 990 | F10: 2.27 | G10: =F10*E10 -> 2247.3
B11: 9 | C11: CUPCAKE- Composto por massa fofa, recheio cremoso e cobertura decorada conforme identidade visual do evento. Deve ser entregue em embalagem individual que garanta a integridade física e higiênico-sanitária do produto, respeitando as normas de segurança alimentar vigentes. | D11: UNID | E11: 1000 | F11: 8.25 | G11: =F11*E11 -> 8250
B12: 10 | C12: LANCHE TIPO BAURU - (pão francês, maionese, tomate, Muçarela, presunto), em embalagem individual. | D12: kg | E12: 120 | F12: 42.89 | G12: =F12*E12 -> 5146.8
B13: 11 | C13: MINI SANDUÍCHE - Composto por pão doce tipo mini sanduíche, aproximadamente 30g cada, c/recheio de patê de frango ou atum, alface e cenoura ralada (escolha na solicitação). Embalados individualmente. | D13: kg | E13: 50 | F13: 47.92 | G13: =F13*E13 -> 2396
B14: 12 | C14: Pão francês, fornecido em quilo (kg), fresco, de boa qualidade, com casca crocante e miolo macio, produzido e armazenado em condições adequadas de higiene e segurança alimentar, próprio para consumo imediato. | D14: kg | E14: 180 | F14: 22.17 | G14: =F14*E14 -> 3990.6
... B19: 17 | C19: Salgados diversos com peso médio de 20 a 30 (vinte a trinta) gramas por unidade. Recheios: carne, frango, presunto, mussarela, salsicha. (risoles, coxinha, croquete, bolinha de queijo, pastel, quibe e entre outros tipos de Salgados). | D19: kg | E19: 300 | F19: 49 | G19: =F19*E19 -> 14700
B20: 18 | C20: TORTA SALGADA - Massa leve recheada com frango ou carne, cortada em pedaços de no mínimo 30g. | D20: kg | E20: 50 | F20: 45.64 | G20: =F20*E20 -> 2282 | H20: % | I20: FICHA
G21: =SUM(G3:G20) -> 84460.5 | H21: 20.22 | I21: 34
F23: GERAL | G23: =Plan1!K21 -> 417618.32 | H23: =H21+FMS!H21+FME!H21+FMAS!N21 -> 100

Sheet FMS
B2: ITEM | C2: DESCRIMINAÇÃO | D2: UNID | E2: QUANT | F2: VALOR UNITÁRIO | G2: VALOR TOTAL
B3: 1 | C3: Bolo caseiro em diversos sabores, sabores variados (milho, macaxeira, laranja, coco, entre outros), servidos inteiro ou em fatias, com peso total mínimo de 1kg por unidade. Preparado com ingredientes de qualidade, devidamente acondicionado e em conformidade com as normas de higiene e segurança alimentar. | D3: kg | E3: 30 | F3: 24.12 | G3: =F3*E3 -> 723.6
B4: 2 | C4: Bolo de chocolate, com cobertura (brigadeiro ou similar), servidos inteiro ou em fatias com peso aproximado de 1 kg, preparado com ingredientes de qualidade, devidamente acondicionado e em conformidade com as normas de higiene e segurança alimentar. | D4: kg | E4: 35 | F4: 39.15 | G4: =F4*E4 -> 1370.25
B5: 3 | C5: Bolo de Milho, Bolo produzido à base de milho, com textura macia e sabor característico, podendo ser preparado com milho natural ou em conserva, servido em pedaços, com peso mínimo de 1kg por unidade. Preparado com ingredientes de qualidade, devidamente acondicionado e em conformidade com as normas de higiene e segurança alimentar. | D5: kg | E5: 35 | F5: 35.62 | G5: =F5*E5 -> 1246.7
B6: 4 | C6: Bolo Mangulão, produzido à base de queijo e polvilho com peso aproximado de 1 kg, preparado com ingredientes de qualidade, devidamente acondicionado e em conformidade com as normas de higiene e segurança alimentar. | D6: kg | E6: 61 | F6: 43.17 | G6: =F6*E6 -> 2633.37
B7: 5 | C7: Bolo de cenoura, Massa a base de cenoura, com cobertura (chocolate ou similar), servido em fatias, com peso mínimo de 1kg. Preparado com ingredientes de qualidade, devidamente acondicionado e em conformidade com as normas de higiene e segurança alimentar | D7: kg | E7: 35 | F7: 23.97 | G7: =F7*E7 -> 838.95
B8: 6 | C8: Bolo recheado e confeitado, Massa branca ou chocolate, com recheios variados (doce de leite, chocolate, abacaxi, entre outros), cobertura em chantilly ou chantininho, formato redondo ou quadrado, peso mínimo de 2kg. | D8: kg | E8: 35 | F8: 106.09 | G8: =F8*E8 -> 3713.15
B9: 7 | C9: BOLO DE QUEIJO - frito. | D9: kg | F9: 43.86 | G9: =F9*E9 -> 0
B10: 8 | C10: CANUDINHOS RECHEADOS - com queijo e presunto fatiado e patê de frango. | D10: UND | E10: 1155 | F10: 2.27 | G10: =F10*E10 -> 2621.85
B11: 9 | C11: CUPCAKE- Composto por massa fofa, recheio cremoso e cobertura decorada conforme identidade visual do evento. Deve ser entregue em embalagem individual que garanta a integridade física e higiênico-sanitária do produto, respeitando as normas de segurança alimentar vigentes. | D11: UNID | F11: 8.25 | G11: =F11*E11 -> 0
B12: 10 | C12: LANCHE TIPO BAURU - (pão francês, maionese, tomate, Muçarela, presunto), em embalagem individual. | D12: kg | E12: 35 | F12: 42.89 | G12: =F12*E12 -> 1501.15
B13: 11 | C13: MINI SANDUÍCHE - Composto por pão doce tipo mini sanduíche, aproximadamente 30g cada, c/recheio de patê de frango ou atum, alface e cenoura ralada (escolha na solicitação). Embalados individualmente. | D13: kg | E13: 35 | F13: 47.92 | G13: =F13*E13 -> 1677.2
B14: 12 | C14: Pão francês, fornecido em quilo (kg), fresco, de boa qualidade, com casca crocante e miolo macio, produzido e armazenado em condições adequadas de higiene e segurança alimentar, próprio para consumo imediato. | D14: kg | F14: 22.17 | G14: =F14*E14 -> 0
B15: 13 | C15: Pão de Hot Dog - Pacote com 10 unid. Aproximadamente 500 gramas. | D15: UNID/PC | F15: 14.76 | G15: =F15*E15 -> 0
B16: 14 | C16: Pão de queijo tradicional, (servidos em unidades). Contendo peso mínimo 25g a 30g cada. Preparado com ingredientes de qualidade, fresco, com textura macia por dentro e levemente dourado por fora, devidamente acondicionado para consumo e em conformidade com as normas de higiene e segurança alimentar. | D16: kg | E16: 120 | F16: 42.51 | G16: =F16*E16 -> 5101.2
B17: 15 | C17: Pão de queijo palito - polvilho azedo, queijo meia cura, água, ovos e sal, fornecido por unidade de no mínimo 20g cada. | D17: kg | E17: 25 | F17: 42.51 | G17: =F17*E17 -> 1062.75
B18: 16 | C18: Rosca Doce, Produto de panificação, tipo rosca, de sabor doce, macia, podendo conter cobertura simples (leite condensado ou coco), com peso médio de 55g por unidade, fornecida por quilo, com preparo recente e adequada conservação. | D18: kg | E18: 40 | F18: 21.93 | G18: =F18*E18 -> 877.2
B19: 17 | C19: Salgados diversos com peso médio de 20 a 30 (vinte a trinta) gramas por unidade. Recheios: carne, frango, presunto, mussarela, salsicha. (risoles, coxinha, croquete, bolinha de queijo, pastel, quibe e entre outros tipos de Salgados). | D19: kg | E19: 250 | F19: 49 | G19: =F19*E19 -> 12250
B20: 18 | C20: TORTA SALGADA - Massa leve recheada com frango ou carne, cortada em pedaços de no mínimo 30g. | D20: kg | E20: 95 | F20: 45.64 | G20: =F20*E20 -> 4335.8 | H20: % | I20: FICHA | J20: FONTE | K20: VALOR | L20: %
G21: =SUM(G3:G20) -> 39953.17 | H21: 9.57 | I21: 223 | J21: 1600 | K21: 31962.54 | L21: =(K21*H21)/$K$23 -> 7.656001
I22: 210 | J22: 1500 | K22: 7990.63 | L22: =(K22*H21)/$K$23 -> 1.913999
F23: GERAL | G23: =Plan1!K21 -> 417618.32 | K23: =SUM(K21:K22) -> 39953.17 | L23: =SUM(L21:L22) -> 9.57

Sheet FME
B2: ITEM | C2: DESCRIMINAÇÃO | D2: UNID | E2: QUANT | F2: VALOR UNITÁRIO | G2: VALOR TOTAL
B3: 1 | C3: Bolo caseiro em diversos sabores, sabores variados (milho, macaxeira, laranja, coco, entre outros), servidos inteiro ou em fatias, com peso total mínimo de 1kg por unidade. Preparado com ingredientes de qualidade, devidamente acondicionado e em conformidade com as normas de higiene e segurança alimentar. | D3: kg | E3: 120 | F3: 24.12 | G3: =F3*E3 -> 2894.4
B4: 2 | C4: Bolo de chocolate, com cobertura (brigadeiro ou similar), servidos inteiro ou em fatias com peso aproximado de 1 kg, preparado com ingredientes de qualidade, devidamente acondicionado e em conformidade com as normas de higiene e segurança alimentar. | D4: kg | E4: 40 | F4: 39.15 | G4: =F4*E4 -> 1566
B5: 3 | C5: Bolo de Milho, Bolo produzido à base de milho, com textura macia e sabor característico, podendo ser preparado com milho natural ou em conserva, servido em pedaços, com peso mínimo de 1kg por unidade. Preparado com ingredientes de qualidade, devidamente acondicionado e em conformidade com as normas de higiene e segurança alimentar. | D5: kg | E5: 30 | F5: 35.62 | G5: =F5*E5 -> 1068.6
B6: 4 | C6: Bolo Mangulão, produzido à base de queijo e polvilho com peso aproximado de 1 kg, preparado com ingredientes de qualidade, devidamente acondicionado e em conformidade com as normas de higiene e segurança alimentar. | D6: kg | E6: 50 | F6: 43.17 | G6: =F6*E6 -> 2158.5
B7: 5 | C7: Bolo de cenoura, Massa a base de cenoura, com cobertura (chocolate ou similar), servido em fatias, com peso mínimo de 1kg. Preparado com ingredientes de qualidade, devidamente acondicionado e em conformidade com as normas de higiene e segurança alimentar | D7: kg | E7: 35 | F7: 23.97 | G7: =F7*E7 -> 838.95
B8: 6 | C8: Bolo recheado e confeitado, Massa branca ou chocolate, com recheios variados (doce de leite, chocolate, abacaxi, entre outros), cobertura em chantilly ou chantininho, formato redondo ou quadrado, peso mínimo de 2kg. | D8: kg | E8: 50 | F8: 106.09 | G8: =F8*E8 -> 5304.5
B9: 7 | C9: BOLO DE QUEIJO - frito. | D9: kg | F9: 43.86 | G9: =F9*E9 -> 0
B10: 8 | C10: CANUDINHOS RECHEADOS - com queijo e presunto fatiado e patê de frango. | D10: UND | E10: 2640 | F10: 2.27 | G10: =F10*E10 -> 5992.8
B11: 9 | C11: CUPCAKE- Composto por massa fofa, recheio cremoso e cobertura decorada conforme identidade visual do evento. Deve ser entregue em embalagem individual que garanta a integridade física e higiênico-sanitária do produto, respeitando as normas de segurança alimentar vigentes. | D11: UNID | F11: 8.25 | G11: =F11*E11 -> 0
B12: 10 | C12: LANCHE TIPO BAURU - (pão francês, maionese, tomate, Muçarela, presunto), em embalagem individual. | D12: kg | E12: 200 | F12: 42.89 | G12: =F12*E12 -> 8578
B13: 11 | C13: MINI SANDUÍCHE - Composto por pão doce tipo mini sanduíche, aproximadamente 30g cada, c/recheio de patê de frango ou atum, alface e cenoura ralada (escolha na solicitação). Embalados individualmente. | D13: kg | E13: 400 | F13: 47.92 | G13: =F13*E13 -> 19168
B14: 12 | C14: Pão francês, fornecido em quilo (kg), fresco, de boa qualidade, com casca crocante e miolo macio, produzido e armazenado em condições adequadas de higiene e segurança alimentar, próprio para consumo imediato. | D14: kg | E14: 30 | F14: 22.17 | G14: =F14*E14 -> 665.1
B15: 13 | C15: Pão de Hot Dog - Pacote com 10 unid. Aproximadamente 500 gramas. | D15: UNID/PC | E15: 30 | F15: 14.76 | G15: =F15*E15 -> 442.8
B16: 14 | C16: Pão de queijo tradicional, (servidos em unidades). Contendo peso mínimo 25g a 30g cada. Preparado com ingredientes de qualidade, fresco, com textura macia por dentro e levemente dourado por fora, devidamente acondicionado para consumo e em conformidade com as normas de higiene e segurança alimentar. | D16: kg | E16: 120 | F16: 42.51 | G16: =F16*E16 -> 5101.2
B17: 15 | C17: Pão de queijo palito - polvilho azedo, queijo meia cura, água, ovos e sal, fornecido por unidade de no mínimo 20g cada. | D17: kg | E17: 80 | F17: 42.51 | G17: =F17*E17 -> 3400.8
B18: 16 | C18: Rosca Doce, Produto de panificação, tipo rosca, de sabor doce, macia, podendo conter cobertura simples (leite condensado ou coco), com peso médio de 55g por unidade, fornecida por quilo, com preparo recente e adequada conservação. | D18: kg | E18: 30 | F18: 21.93 | G18: =F18*E18 -> 657.9
B19: 17 | C19: Salgados diversos com peso médio de 20 a 30 (vinte a trinta) gramas por unidade. Recheios: carne, frango, presunto, mussarela, salsicha. (risoles, coxinha, croquete, bolinha de queijo, pastel, quibe e entre outros tipos de Salgados). | D19: kg | E19: 1200 | F19: 49 | G19: =F19*E19 -> 58800
B20: 18 | C20: TORTA SALGADA - Massa leve recheada com frango ou carne, cortada em pedaços de no mínimo 30g. | D20: kg | E20: 120 | F20: 45.64 | G20: =F20*E20 -> 5476.8 | H20: % | I20: FICHA
G21: =SUM(G3:G20) -> 122114.35 | H21: 29.24 | I21: 404
F23: GERAL | G23: =Plan1!K21 -> 417618.32

Sheet FMAS
B2: ITEM | C2: DESCRIMINAÇÃO | D2: UNID | E2: QUANT | F2: QUANT | G2: QUANT | H2: QUANT | I2: VALOR UNITÁRIO | J2: VALOR TOTAL SECRETARIA | K2: VALOR TOTAL CAD ÚNICO | L2: VALOR TOTAL CRAS | M2: VALOR TOTAL GERAL
B3: 1 | C3: Bolo caseiro em diversos sabores, sabores variados (milho, macaxeira, laranja, coco, entre outros), servidos inteiro ou em fatias, com peso total mínimo de 1kg por unidade. Preparado com ingredientes de qualidade, devidamente acondicionado e em conformidade com as normas de higiene e segurança alimentar. | D3: kg | E3: 22 | F3: 88 | G3: 110 | H3: =E3+F3+G3 -> 220 | I3: 24.12 | J3: =I3*E3 -> 530.64 | K3: =I3*F3 -> 2122.56 | L3: =I3*G3 -> 2653.2 | M3: =H3*I3 -> 5306.4
B4: 2 | C4: Bolo de chocolate, com cobertura (brigadeiro ou similar), servidos inteiro ou em fatias com peso aproximado de 1 kg, preparado com ingredientes de qualidade, devidamente acondicionado e em conformidade com as normas de higiene e segurança alimentar. | D4: kg | E4: 22 | F4: 88 | G4: 110 | H4: =E4+F4+G4 -> 220 | I4: 39.15 | J4: =I4*E4 -> 861.3 | K4: =I4*F4 -> 3445.2 | L4: =I4*G4 -> 4306.5 | M4: =H4*I4 -> 8613
B5: 3 | C5: Bolo de Milho, Bolo produzido à base de milho, com textura macia e sabor característico, podendo ser preparado com milho natural ou em conserva, servido em pedaços, com peso mínimo de 1kg por unidade. Preparado com ingredientes de qualidade, devidamente acondicionado e em conformidade com as normas de higiene e segurança alimentar. | D5: kg | E5: 22 | F5: 88 | G5: 110 | H5: =E5+F5+G5 -> 220 | I5: 35.62 | J5: =I5*E5 -> 783.64 | K5: =I5*F5 -> 3134.56 | L5: =I5*G5 -> 3918.2 | M5: =H5*I5 -> 7836.4
B6: 4 | C6: Bolo Mangulão, produzido à base de queijo e polvilho com peso aproximado de 1 kg, preparado com ingredientes de qualidade, devidamente acondicionado e em conformidade com as normas de higiene e segurança alimentar. | D6: kg | E6: 22 | F6: 88 | G6: 110 | H6: =E6+F6+G6 -> 220 | I6: 43.17 | J6: =I6*E6 -> 949.74 | K6: =I6*F6 -> 3798.96 | L6: =I6*G6 -> 4748.7 | M6: =H6*I6 -> 9497.4
B7: 5 | C7: Bolo de cenoura, Massa a base de cenoura, com cobertura (chocolate ou similar), servido em fatias, com peso mínimo de 1kg. Preparado com ingredientes de qualidade, devidamente acondicionado e em conformidade com as normas de higiene e segurança alimentar | D7: kg | F7: 30 | G7: 70 | H7: =E7+F7+G7 -> 100 | I7: 23.97 | J7: =I7*E7 -> 0 | K7: =I7*F7 -> 719.1 | L7: =I7*G7 -> 1677.9 | M7: =H7*I7 -> 2397
B8: 6 | C8: Bolo recheado e confeitado, Massa branca ou chocolate, com recheios variados (doce de leite, chocolate, abacaxi, entre outros), cobertura em chantilly ou chantininho, formato redondo ou quadrado, peso mínimo de 2kg. | D8: kg | E8: 104 | G8: 26 | H8: =E8+F8+G8 -> 130 | I8: 106.09 | J8: =I8*E8 -> 11033.36 | K8: =I8*F8 -> 0 | L8: =I8*G8 -> 2758.34 | M8: =H8*I8 -> 13791.7
B9: 7 | C9: BOLO DE QUEIJO - frito. | D9: kg | G9: 50 | H9: =E9+F9+G9 -> 50 | I9: 43.86 | J9: =I9*E9 -> 0 | K9: =I9*F9 -> 0 | L9: =I9*G9 -> 2193 | M9: =H9*I9 -> 2193
B10: 8 | C10: CANUDINHOS RECHEADOS - com queijo e presunto fatiado e patê de frango. | D10: UND | E10: 726 | F10: 2904 | G10: 3630 | H10: =E10+F10+G10 -> 7260 | I10: 2.27 | J10: =I10*E10 -> 1648.02 | K10: =I10*F10 -> 6592.08 | L10: =I10*G10 -> 8240.1 | M10: =H10*I10 -> 16480.2
B11: 9 | C11: CUPCAKE- Composto por massa fofa, recheio cremoso e cobertura decorada conforme identidade visual do evento. Deve ser entregue em embalagem individual que garanta a integridade física e higiênico-sanitária do produto, respeitando as normas de segurança alimentar vigentes. | D11: UNID | F11: 600 | G11: 1400 | H11: =E11+F11+G11 -> 2000 | I11: 8.25 | J11: =I11*E11 -> 0 | K11: =I11*F11 -> 4950 | L11: =I11*G11 -> 11550 | M11: =H11*I11 -> 16500
B12: 10 | C12: LANCHE TIPO BAURU - (pão francês, maionese, tomate, Muçarela, presunto), em embalagem individual. | D12: kg | E12: 22 | F12: 88 | G12: 110 | H12: =E12+F12+G12 -> 220 | I12: 42.89 | J12: =I12*E12 -> 943.58 | K12: =I12*F12 -> 3774.32 | L12: =I12*G12 -> 4717.9 | M12: =H12*I12 -> 9435.8
B13: 11 | C13: MINI SANDUÍCHE - Composto por pão doce tipo mini sanduíche, aproximadamente 30g cada, c/recheio de patê de frango ou atum, alface e cenoura ralada (escolha na solicitação). Embalados individualmente. | D13: kg | E13: 22 | F13: 88 | G13: 110 | H13: =E13+F13+G13 -> 220 | I13: 47.92 | J13: =I13*E13 -> 1054.24 | K13: =I13*F13 -> 4216.96 | L13: =I13*G13 -> 5271.2 | M13: =H13*I13 -> 10542.4
B14: 12 | C14: Pão francês, fornecido em quilo (kg), fresco, de boa qualidade, com casca crocante e miolo macio, produzido e armazenado em condições adequadas de higiene e segurança alimentar, próprio para consumo imediato. | D14: kg | E14: 24 | F14: 96 | G14: 120 | H14: =E14+F14+G14 -> 240 | I14: 22.17 | J14: =I14*E14 -> 532.08 | K14: =I14*F14 -> 2128.32 | L14: =I14*G14 -> 2660.4 | M14: =H14*I14 -> 5320.8
B15: 13 | C15: Pão de Hot Dog - Pacote com 10 unid. Aproximadamente 500 gramas. | D15: UNID/PC | E15: 22 | F15: 88 | G15: 110 | H15: =E15+F15+G15 -> 220 | I15: 14.76 | J15: =I15*E15 -> 324.72 | K15: =I15*F15 -> 1298.88 | L15: =I15*G15 -> 1623.6 | M15: =H15*I15 -> 3247.2
B16: 14 | C16: Pão de queijo tradicional, (servidos em unidades). Contendo peso mínimo 25g a 30g cada. Preparado com ingredientes de qualidade, fresco, com textura macia por dentro e levemente dourado por fora, devidamente acondicionado para consumo e em conformidade com as normas de higiene e segurança alimentar. | D16: kg | E16: 22 | F16: 88 | G16: 110 | H16: =E16+F16+G16 -> 220 | I16: 42.51 | J16: =I16*E16 -> 935.22 | K16: =I16*F16 -> 3740.88 | L16: =I16*G16 -> 4676.1 | M16: =H16*I16 -> 9352.2
B17: 15 | C17: Pão de queijo palito - polvilho azedo, queijo meia cura, água, ovos e sal, fornecido por unidade de no mínimo 20g cada. | D17: kg | E17: 22 | F17: 88 | G17: 110 | H17: =E17+F17+G17 -> 220 | I17: 42.51 | J17: =I17*E17 -> 935.22 | K17: =I17*F17 -> 3740.88 | L17: =I17*G17 -> 4676.1 | M17: =H17*I17 -> 9352.2
B18: 16 | C18: Rosca Doce, Produto de panificação, tipo rosca, de sabor doce, macia, podendo conter cobertura simples (leite condensado ou coco), com peso médio de 55g por unidade, fornecida por quilo, com preparo recente e adequada conservação. | D18: kg | E18: 22 | F18: 88 | G18: 110 | H18: =E18+F18+G18 -> 220 | I18: 21.93 | J18: =I18*E18 -> 482.46 | K18: =I18*F18 -> 1929.84 | L18: =I18*G18 -> 2412.3 | M18: =H18*I18 -> 4824.6
B19: 17 | C19: Salgados diversos com peso médio de 20 a 30 (vinte a trinta) gramas por unidade. Recheios: carne, frango, presunto, mussarela, salsicha. (risoles, coxinha, croquete, bolinha de queijo, pastel, quibe e entre outros tipos de Salgados). | D19: kg | E19: 51 | F19: 204 | G19: 255 | H19: =E19+F19+G19 -> 510 | I19: 49 | J19: =I19*E19 -> 2499 | K19: =I19*F19 -> 9996 | L19: =I19*G19 -> 12495 | M19: =H19*I19 -> 24990
B20: 18 | C20: TORTA SALGADA - Massa leve recheada com frango ou carne, cortada em pedaços de no mínimo 30g. | D20: kg | E20: 25 | F20: 100 | G20: 125 | H20: =E20+F20+G20 -> 250 | I20: 45.64 | J20: =I20*E20 -> 1141 | K20: =I20*F20 -> 4564 | L20: =I20*G20 -> 5705 | M20: =H20*I20 -> 11410 | N20: %
J21: =SUM(J3:J20) -> 24654.22 | K21: =SUM(K3:K20) -> 60152.54 | L21: =SUM(L3:L20) -> 86283.54 | M21: =SUM(M3:M20) -> 171090.3 | N21: 40.97
J22: 5.9 | K22: 14.4 | L22: 20.67 | M22: =SUM(J22:L22) -> 40.97
I23: FICHA | J23: 321 | K23: 334 | L23: 362
I24: FONTE | J24: 1500 | K24: 1660 | L24: 1660
K25: 30076.27 | L25: 43141.77 | M25: 0.1033
K26: 2660 | L26: 2660
J27: 0.072 | K27: 30076.27 | L27: 43141.77 | M27: 0.1034
L29: GERAL | M29: =Plan1!K21 -> 417618.32
H31: =J21+K25+K27+L25+L27 -> 171090.3
