Workbook

Sheet GERAL
A1: PREFEITURA MUNICIPAL DE PERIQUITO
A2: CNPJ:01.613.077/0001-08
A4: PLANILHA ORÇAMENTÁRIA DE CUSTOS
A6: PREFEITURA: PERIQUITO/MG | F6: LOCALIZAÇÃO:
A7: OBRA: CALÇAMENTO E DRENAGEM NA ESTRADA DO CORREGO FUNDO | F7: 19°05'16.3"S 42°18'22.7"W
A8: LOCAL: CORREGO FUNDO - DISTRITO DO BAIXIO - PERIQUITO/MG | E8: FORMA DE EXECUÇÃO:
A9: REGIÃO/MÊS DE REFERÊNCIA: LESTE/ JULHO DE 2024 | E9: ( ) | F9: ( X ) | G9: INDIRETA
A10: PRAZO DE EXECUÇÃO: 60 DIAS | F10: LDI | G10: ='ESTRADA CORREGO FUNDO.'!H10 -> 0.2105
A12: ITEM | B12: CÓDIGO | C12: DESCRIÇÃO | D12: UNIDADE | E12: QUANTIDADE | F12: PREÇO UNITÁRIO C/ LDI | G12: PREÇO TOTAL
A13: 6 | C13: ESTRADA CORREGO FUNDO | D13: UNID | E13: 1 | F13: ='ESTRADA CORREGO FUNDO.'!H24 -> 118017.87 | G13: =ROUND((E13*F13),2) -> 118017.87
A14: TOTAL GERAL DA OBRA | G14: =SUM(G13:G13) -> 118017.87
B19: Engº Civil - Kewelinn Lagares | E19: CREA/MG - 214.668/D
B24: Prefeito - José de Oliveira Flor

Sheet ESTRADA CORREGO FUNDO
A1: PREFEITURA MUNICIPAL DE PERIQUITO
A2: CNPJ:01.613.077/0001-08
A4: PLANILHA ORÇAMENTÁRIA DE CUSTOS
A6: PREFEITURA: PERIQUITO/MG | F6: FOLHA Nº:
A7: OBRA: CALÇAMENTO E DRENAGEM NA ESTRADA DO CORREGO FUNDO | F7: DATA: 07/08/2024
A8: LOCAL: CORREGO FUNDO - DISTRITO DO BAIXIO - PERIQUITO/MG | E8: FORMA DE EXECUÇÃO:
A9: REGIÃO/MÊS DE REFERÊNCIA: LESTE/ JUNHO 2024 | E9: ( ) | F9: DIRETA | G9: ( X ) | H9: INDIRETA
A10: PRAZO DE EXECUÇÃO: 30 DIAS | G10: LDI | H10: 0.2742
A12: ITEM | B12: CÓDIGO | C12: DESCRIÇÃO | D12: UNIDADE | E12: QUANTIDADE | F12: PREÇO UNITÁRIO S/ LDI | G12: PREÇO UNITÁRIO C/ LDI | H12: PREÇO TOTAL
A13: 1 | C13: ADMINISTRAÇÃO LOCAL DE OBRA | G13: SUBTOTAL Item 1: | H13: =SUM(H14) -> 810.75
A14: 1.1 | C14: ADMINISTRAÇÃO LOCAL DE OBRA | D14: % | E14: 0.5 | G14: =ROUND(F14+(F14*$H$10),2) -> 0 | H14: =ROUND((810.748140703508),2) -> 810.75
A15: 2 | C15: SERVIÇOS PRELIMINARES | G15: SUBTOTAL ITem 2: | H15: =SUM(H16:H16) -> 1117.81
A16: 2.1 | B16: SINAPI - 103689 | C16: FORNECIMENTO E INSTALAÇÃO DE PLACA DE OBRA COM CHAPA GALVANIZADA E ESTRUTURA DE MADEIRA. AF_03/2022_PS DE *2,4 X 1,2* M (SEM POSTES PARA FIXACAO) | D16: m2 | E16: 2.88 | F16: 304.61 | G16: =ROUND(F16+(F16*$H$10),2) -> 388.13 | H16: =ROUND((E16*G16),2) -> 1117.81
A17: 3 | C17: SERVIÇOS DE TERRAPLENAGEM | G17: SUBTOTAL Item 3: | H17: =SUM(H18:H19) -> 3458.56
A18: 3.1 | B18: SINAPI - 99064 | C18: LOCAÇÃO DE PAVIMENTAÇÃO. AF_10/2018 | D18: m² | E18: =160*5.6 -> 896 | F18: 0.62 | G18: =ROUND(F18+(F18*$H$10),2) -> 0.79 | H18: =ROUND((E18*G18),2) -> 707.84
A19: 3.2 | B19: SINAPI - 100576 | C19: REGULARIZAÇÃO E COMPACTAÇÃO DE SUBLEITO DE SOLO PREDOMINANTEMENTE ARGILOSO. AF_11/2019 | D19: m² | E19: =160*5.6 -> 896 | F19: 2.41 | G19: =ROUND(F19+(F19*$H$10),2) -> 3.07 | H19: =ROUND((E19*G19),2) -> 2750.72
A20: 4 | C20: DRENAGEM PLUVIAL SUPERFICIAL | G20: SUBTOTAL Item 4: | H20: =SUM(H21:H23) -> 42923.2
A21: 4.1 | B21: SINAPI - 94288 | C21: EXECUÇÃO DE SARJETA DE CONCRETO USINADO, MOLDADA IN LOCO EM TRECHO CURVO, 30 CM BASE X 10 CM ALTURA. AF_01/2024 | D21: m | E21: 160 | F21: 38.35 | G21: =ROUND(F21+(F21*$H$10),2) -> 48.87 | H21: =ROUND((E21*G21),2) -> 7819.2
A22: 4.2 | B22: SINAPI - 94290 | C22: EXECUÇÃO DE SARJETA DE CONCRETO USINADO, MOLDADA IN LOCO EM TRECHO CURVO, 45 CM BASE X 10 CM ALTURA. AF_01/2024 | D22: m | E22: 160 | F22: 48.89 | G22: =ROUND(F22+(F22*$H$10),2) -> 62.3 | H22: =ROUND((E22*G22),2) -> 9968
A23: 4.3 | B23: SINAPI - 94273 | C23: ASSENTAMENTO DE GUIA (MEIO-FIO) EM TRECHO RETO, CONFECCIONADA EM CONCRETO PRÉ-FABRICADO, DIMENSÕES 100X15X13X30 CM (COMPRIMENTO X BASE INFERIOR X BASE SUPERIOR X ALTURA). AF_01/2024 | D23: m | E23: =160*2 -> 320 | F23: 61.65 | G23: =ROUND(F23+(F23*$H$10),2) -> 78.55 | H23: =ROUND((E23*G23),2) -> 25136
A24: 5 | C24: CAPTAÇÃO DE ÁGUA PLUVIAL E DIRECIONAMENTO | G24: SUBTOTAL Item 5: | H24: =SUM(H25:H31) -> 17895.08
A25: 5.1 | B25: SINAPI - 90100 | C25: ESCAVAÇÃO MECANIZADA DE VALA COM PROF. ATÉ 1,5 M (MÉDIA MONTANTE E JUSANTE/UMA COMPOSIÇÃO POR TRECHO), RETROESCAV. (0,26 M3), LARG. DE 0,8 M A 1,5 M, EM SOLO DE 1A CATEGORIA, EM LOCAIS COM ALTO NÍVEL DE INTERFE RÊNCIA. AF_02/2021 | D25: m³ | E25: =(5.6+15)*0.8*1.5 -> 24.72 | F25: 13.05 | G25: =ROUND(F25+(F25*$H$10),2) -> 16.63 | H25: =ROUND((E25*G25),2) -> 411.09
A26: 5.2 | B26: SINAPI - 101616 | C26: PREPARO DE FUNDO DE VALA COM LARGURA MENOR QUE 1,5 M (ACERTO DO SOLO NATURAL). AF_08/2020 | D26: m² | E26: =(5.6+15)*0.8 -> 16.48 | F26: 5.64 | G26: =ROUND(F26+(F26*$H$10),2) -> 7.19 | H26: =ROUND((E26*G26),2) -> 118.49
A27: 5.3 | B27: SEINFRA - 49613 | C27: FORNECIMENTO DE CONCRETO NÃO ESTRUTURAL, PREPARADO EM OBRA COM BETONEIRA, COM FCK 9MPA, INCLUSIVE LANÇAMENTO, ADENSAMENTO E ACABAMENTO | D27: m³ | E27: =7*0.1*0.8 -> 0.56 | F27: 660.27 | G27: =ROUND(F27+(F27*$H$10),2) -> 841.32 | H27: =ROUND((E27*G27),2) -> 471.14
A28: 5.4 | B28: SINAPI - 92212 | C28: TUBO DE CONCRETO PARA REDES COLETORAS DE ÁGUAS PLUVIAIS, DIÂMETRO DE 600 MM, JUNTA RÍGIDA, INSTALADO EM LOCAL COM BAIXO NÍVEL DE INTERFERÊNCIAS - FORNECIMENTO E ASSENTAMENTO. AF_03/2024 | D28: m | E28: =5.6+15 -> 20.6 | F28: 307.72 | G28: =ROUND(F28+(F28*$H$10),2) -> 392.1 | H28: =ROUND((E28*G28),2) -> 8077.26
A29: 5.5 | B29: SINAPI - 93381 | C29: REATERRO MECANIZADO DE VALA COM RETROESCAVADEIRA (CAPACIDADE DA CAÇAMBA DA RETRO: 0,26 M³/POTÊNCIA: 88 HP), LARGURA 0,8 A 1,5 M, PROFUNDIDADE 1,5 A 3,0 M, COM SOLO (SEM SUBSTITUIÇÃO) DE 1ª CATEGORIA E COMPACTADOR DE SOLOS DE PERCUSSÃO. AF_08/2023 | D29: m³ | E29: =(5.6+15)*0.8*(1.5-0.8) -> 11.536 | F29: 12.33 | G29: =ROUND(F29+(F29*$H$10),2) -> 15.71 | H29: =ROUND((E29*G29),2) -> 181.23
A30: 5.6 | B30: SICRO | C30: CAIXA COLETORA DE TALVEGUE - CCT 01 - AREIA E BRITA COMERCIAIS | D30: unid | E30: 2 | F30: 3313.19 | G30: =ROUND(F30+(F30*$H$10),2) -> 4221.67 | H30: =ROUND((E30*G30),2) -> 8443.34
A31: 5.7 | B31: SICRO | C31: DESCIDA D'ÁGUA DE ATERROS TIPO RAPIDO - DAR 02 - AREA E BRITA COMERCIAIS | D31: m | E31: 1 | F31: 151.1 | G31: =ROUND(F31+(F31*$H$10),2) -> 192.53 | H31: =ROUND((E31*G31),2) -> 192.53
A32: 6 | C32: CALÇAMENTO DE VIAS | G32: SUBTOTAL Item 6: | H32: =SUM(H33:H35) -> 87407.27
A33: 6.1 | B33: SINAPI - 92394 | C33: EXECUÇÃO DE PAVIMENTO EM PISO INTERTRAVADO, COM BLOCO SEXTAVADO DE 25 X 25 CM, ESPESSURA 8 CM. AF_10/2022 | D33: m2 | E33: =4.6*160 -> 736 | F33: 81.77 | G33: =ROUND(F33+(F33*$H$10),2) -> 104.19 | H33: =ROUND((E33*G33),2) -> 76683.84
A34: 6.2 | B34: SINAPI - 95876 | C34: TRANSPORTE COM CAMINHÃO BASCULANTE DE 14 M³, EM VIA URBANA PAVIMENTADA M3XKM, DMT ATÉ 30 KM (UNIDADE: M3XKM). AF_07/2020 (AREIA) | D34: m3Xkm | E34: =(0.06*E33)*35 -> 1545.6 | F34: 2.14 | G34: =ROUND(F34+(F34*$H$10),2) -> 2.73 | H34: =ROUND((E34*G34),2) -> 4219.49
A35: 6.3 | B35: COMPOSIÇÃO | C35: EXECUÇÃO DE TRAVAMENTO EM CONCRETO SEÇÃO 30X13cm - INCLUSIVE ESCAVAÇÃO | D35: m | E35: =4.6*18 -> 82.8 | F35: =F23 -> 61.65 | G35: =ROUND(F35+(F35*$H$10),2) -> 78.55 | H35: =ROUND((E35*G35),2) -> 6503.94
A36: 7 | C36: SERVIÇOS FINAIS | G36: SUBTOTAL Item 7: | H36: =SUM(H37:H38) -> 8536.96
A37: 7.1 | B37: SEINFRA - ED-50266 | C37: LIMPEZA FINAL PARA ENTREGA DA OBRA | D37: m2 | E37: =5.6*160 -> 896 | F37: 6.95 | G37: =ROUND(F37+(F37*$H$10),2) -> 8.86 | H37: =ROUND((E37*G37),2) -> 7938.56
A38: 7.2 | B38: SINAPI - 102498 | C38: PINTURA DE MEIO-FIO COM TINTA BRANCA A BASE DE CAL (CAIAÇÃO). AF_05/2021 | D38: M | E38: =160*2 -> 320 | F38: 1.47 | G38: =ROUND(F38+(F38*$H$10),2) -> 1.87 | H38: =ROUND((E38*G38),2) -> 598.4
A39: SUBTOTAL | H39: =H13+H15+H17+H20+H24+H32+H36 -> 162149.63
A40: TOTAL GERAL DA OBRA | H40: =H39 -> 162149.63
B45: Engº Civil - Kewelinn Lagares | E45: CREA/MG - 214.668D
B50: Prefeito - José de Oliveira Flor

Sheet CRONOGRAMA
A1: PREFEITURA MUNICIPAL DE PERIQUITO
A5: CRONOGRAMA FÍSICO-FINANCEIRO
A6: PREFEITURA: PERIQUITO/MG | D6: VALOR: R$ 118.017,87 | H6: DATA:08/08/2024
A7: OBRA: CALÇAMENTO E DRENAGEM NA ESTRADA DO CORREGO FUNDO | D7: LOCAL: CORREGO FUNDO - DISTRITO DO BAIXIO - PERIQUITO/MG coordenadas de localização: 19°05'16.3"S 42°18'22.7"W | H7: PRAZO DA OBRA: 1 MÊS
A8: ITEM | B8: CÓDIGO | C8: ETAPAS/DESCRIÇÃO | D8: FÍSICO/ FINANCEIRO | E8: TOTAL ETAPAS | F8: MÊS 1 | G8: MÊS 2
A9: 1 | C9: SERVIÇOS DE TERRAPLENAGEM | D9: Físico % | E9: =E10/E16 -> 0.022168846 | F9: 1
D10: Financeiro | E10: ='ESTRADA CORREGO FUNDO.'!H13 -> 2616.32 | F10: =F9*E10 -> 2616.32
A11: 2 | C11: DRENAGEM PLUVIAL SUPERFICIAL | D11: Físico % | E11: =E12/E16 -> 0.34552056 | F11: 0.2 | G11: 0.8
D12: Financeiro | E12: ='ESTRADA CORREGO FUNDO.'!H15 -> 40777.6 | F12: =F11*E12 -> 8155.52 | G12: =G11*E12 -> 32622.08
A13: 3 | C13: CALÇAMENTO DE VIAS | D13: Físico % | E13: =E14/E16 -> 0.6323106 | F13: 1
D14: Financeiro | E14: ='ESTRADA CORREGO FUNDO.'!H19 -> 74623.95 | F14: =F13*E14 -> 74623.95
A15: TOTAL | D15: Físico % | E15: =E9+E11+E13 -> 1 | F15: =F16/$E$16 -> 0.72358356 | G15: =G16/$E$16 -> 0.27641644
D16: Financeiro | E16: =E10+E12+E14 -> 118017.87 | F16: =F10+F12+F14 -> 85395.79 | G16: =G10+G12+G14 -> 32622.08
B20: Engº Civil - Kewelinn Lagares | E20: CREA/MG - 214.668D
B23: Prefeito - José de Oliveira Flor

Sheet ESTRADA CORREGO FUNDO.
A1: PREFEITURA MUNICIPAL DE PERIQUITO
A2: CNPJ:01.613.077/0001-08
A4: PLANILHA ORÇAMENTÁRIA DE CUSTOS
A6: PREFEITURA: PERIQUITO/MG | F6: FOLHA Nº:
A7: OBRA: CALÇAMENTO E DRENAGEM NA ESTRADA DO CORREGO FUNDO | F7: DATA: 08/08/2024
A8: LOCAL: CORREGO FUNDO - DISTRITO DO BAIXIO - PERIQUITO/MG coordenadas de localização: 19°05'16.3"S 42°18'22.7"W | E8: FORMA DE EXECUÇÃO:
A9: REGIÃO/MÊS DE REFERÊNCIA: LESTE/ JULHO 2024 | E9: ( ) | F9: DIRETA | G9: ( X ) | H9: INDIRETA
A10: PRAZO DE EXECUÇÃO: 60 DIAS | G10: LDI | H10: 0.2105
A12: ITEM | B12: CÓDIGO | C12: DESCRIÇÃO | D12: UNIDADE | E12: QUANTIDADE | F12: PREÇO UNITÁRIO S/ LDI | G12: PREÇO UNITÁRIO C/ LDI | H12: PREÇO TOTAL
A13: 1 | C13: SERVIÇOS DE TERRAPLENAGEM | G13: SUBTOTAL Item 1: | H13: =SUM(H14:H14) -> 2616.32
A14: 1.2 | B14: SINAPI - 100576 | C14: REGULARIZAÇÃO E COMPACTAÇÃO DE SUBLEITO DE SOLO PREDOMINANTEMENTE ARGILOSO. AF_11/2019 | D14: m² | E14: =160*5.6 -> 896 | F14: 2.41 | G14: =ROUND(F14+(F14*$H$10),2) -> 2.92 | H14: =ROUND((E14*G14),2) -> 2616.32
A15: 2 | C15: DRENAGEM PLUVIAL SUPERFICIAL | G15: SUBTOTAL Item 2: | H15: =SUM(H16:H18) -> 40777.6
A16: 2.1 | B16: SINAPI - 94288 | C16: EXECUÇÃO DE SARJETA DE CONCRETO USINADO, MOLDADA IN LOCO EM TRECHO CURVO, 30 CM BASE X 10 CM ALTURA. AF_01/2024 | D16: m | E16: 160 | F16: 38.35 | G16: =ROUND(F16+(F16*$H$10),2) -> 46.42 | H16: =ROUND((E16*G16),2) -> 7427.2
A17: 2.2 | B17: SINAPI - 94290 | C17: EXECUÇÃO DE SARJETA DE CONCRETO USINADO, MOLDADA IN LOCO EM TRECHO CURVO, 45 CM BASE X 10 CM ALTURA. AF_01/2024 | D17: m | E17: 160 | F17: 48.89 | G17: =ROUND(F17+(F17*$H$10),2) -> 59.18 | H17: =ROUND((E17*G17),2) -> 9468.8
A18: 2.3 | B18: SINAPI - 94273 | C18: ASSENTAMENTO DE GUIA (MEIO-FIO) EM TRECHO RETO, CONFECCIONADA EM CONCRETO PRÉ-FABRICADO, DIMENSÕES 100X15X13X30 CM (COMPRIMENTO X BASE INFERIOR X BASE SUPERIOR X ALTURA). AF_01/2024 | D18: m | E18: =160*2 -> 320 | F18: 61.65 | G18: =ROUND(F18+(F18*$H$10),2) -> 74.63 | H18: =ROUND((E18*G18),2) -> 23881.6
A19: 3 | C19: CALÇAMENTO DE VIAS | G19: SUBTOTAL Item 3: | H19: =SUM(H20:H22) -> 74623.95
A20: 3.1 | B20: SINAPI - 92394 | C20: EXECUÇÃO DE PAVIMENTO EM PISO INTERTRAVADO, COM BLOCO SEXTAVADO DE 25 X 25 CM, ESPESSURA 8 CM. AF_10/2022 | D20: m2 | E20: =4.5*160 -> 720 | F20: 81.77 | G20: =ROUND(F20+(F20*$H$10),2) -> 98.98 | H20: =ROUND((E20*G20),2) -> 71265.6
A21: 3.2 | B21: COMPOSIÇÃO | C21: EXECUÇÃO DE TRAVAMENTO EM CONCRETO SEÇÃO 30X13cm - INCLUSIVE ESCAVAÇÃO | D21: m | E21: =4.5*10 -> 45 | F21: =F18 -> 61.65 | G21: =ROUND(F21+(F21*$H$10),2) -> 74.63 | H21: =ROUND((E21*G21),2) -> 3358.35
A22: 6.2 | B22: SINAPI - 95876 | C22: TRANSPORTE COM CAMINHÃO BASCULANTE DE 14 M³, EM VIA URBANA PAVIMENTADA M3XKM, DMT ATÉ 30 KM (UNIDADE: M3XKM). AF_07/2020 (AREIA) | D22: m3Xkm | E22: =(0.06*E20)*30 -> 1296 | F22: 2.14 | G22: =ROUND(F22+(F22*$H$10),2) -> 2.59
A23: SUBTOTAL | H23: =H13+H15+H19 -> 118017.87
A24: TOTAL GERAL DA OBRA | H24: =H23 -> 118017.87
B29: Engº Civil - Kewelinn Lagares | E29: CREA/MG - 214.668D
B34: Prefeito - José de Oliveira Flor

Sheet BDI
E1: MIN | F1: MED | G1: MAX | O1: ="Quadro de Composição do BDI" -> Quadro de Composição do BDI | R1: Grau de Sigilo
A2: Construção e Reforma de Edifícios | B2: AC | C2: =CONCATENATE(A2,"-",B2) -> Construção e Reforma de Edifícios-AC | E2: 0.03 | F2: 0.04 | G2: 0.055 | R2: #PUBLICO
A3: =A2 -> Construção e Reforma de Edifícios | B3: SG | C3: =CONCATENATE(A3,"-",B3) -> Construção e Reforma de Edifícios-SG | E3: 0.008 | F3: 0.008 | G3: 0.01
A4: =A3 -> Construção e Reforma de Edifícios | B4: R | C4: =CONCATENATE(A4,"-",B4) -> Construção e Reforma de Edifícios-R | E4: 0.0097 | F4: 0.0127 | G4: 0.0127 | J4: Nº OPERAÇÃO | L4: Nº TRANSFEREGOV | N4: PROPONENTE / TOMADOR
A5: =A4 -> Construção e Reforma de Edifícios | B5: DF | C5: =CONCATENATE(A5,"-",B5) -> Construção e Reforma de Edifícios-DF | E5: 0.0059 | F5: 0.0123 | G5: 0.0139 | J5: =Import.CR -> 0 | L5: =Import.TransfereGOV -> 0 | N5: =Import.Proponente -> 0
A6: =A5 -> Construção e Reforma de Edifícios | B6: L | C6: =CONCATENATE(A6,"-",B6) -> Construção e Reforma de Edifícios-L | E6: 0.0616 | F6: 0.074 | G6: 0.0896 | I6: FILTRO
A7: =A6 -> Construção e Reforma de Edifícios | B7: BDI PAD | C7: =CONCATENATE(A7,"-",B7) -> Construção e Reforma de Edifícios-BDI PAD | E7: 0.2034 | F7: 0.2212 | G7: 0.25 | J7: APELIDO DO EMPREENDIMENTO / DESCRIÇÃO DO LOTE
A8: Construção de Praças Urbanas, Rodovias, Ferrovias e recapeamento e pavimentação de vias urbanas | B8: AC | C8: =CONCATENATE(A8,"-",B8) -> Construção de Praças Urbanas, Rodovias, Ferrovias e recapeamento e pavimentação de vias urbanas-AC | E8: 0.038 | F8: 0.0401 | G8: 0.0467 | J8: =Import.Apelido&" / "&Import.DescLote -> /
A9: Construção de Praças Urbanas, Rodovias, Ferrovias e recapeamento e pavimentação de vias urbanas | B9: SG | C9: =CONCATENATE(A9,"-",B9) -> Construção de Praças Urbanas, Rodovias, Ferrovias e recapeamento e pavimentação de vias urbanas-SG | E9: 0.0032 | F9: 0.004 | G9: 0.0074
A10: Construção de Praças Urbanas, Rodovias, Ferrovias e recapeamento e pavimentação de vias urbanas | B10: R | C10: =CONCATENATE(A10,"-",B10) -> Construção de Praças Urbanas, Rodovias, Ferrovias e recapeamento e pavimentação de vias urbanas-R | E10: 0.005 | F10: 0.0056 | G10: 0.0097 | J10: Conforme legislação tributária municipal, definir estimativa de percentual da base de cálculo para o ISS: | R10: 0.4
A11: Construção de Praças Urbanas, Rodovias, Ferrovias e recapeamento e pavimentação de vias urbanas | B11: DF | C11: =CONCATENATE(A11,"-",B11) -> Construção de Praças Urbanas, Rodovias, Ferrovias e recapeamento e pavimentação de vias urbanas-DF | E11: 0.0102 | F11: 0.0111 | G11: 0.0121 | I11: ↓ | J11: Sobre a base de cálculo, definir a respectiva alíquota do ISS (entre 2% e 5%): | R11: 0.05
A12: Construção de Praças Urbanas, Rodovias, Ferrovias e recapeamento e pavimentação de vias urbanas | B12: L | C12: =CONCATENATE(A12,"-",B12) -> Construção de Praças Urbanas, Rodovias, Ferrovias e recapeamento e pavimentação de vias urbanas-L | E12: 0.0664 | F12: 0.073 | G12: 0.0869 | I12: F
A13: Construção de Praças Urbanas, Rodovias, Ferrovias e recapeamento e pavimentação de vias urbanas | B13: BDI PAD | C13: =CONCATENATE(A13,"-",B13) -> Construção de Praças Urbanas, Rodovias, Ferrovias e recapeamento e pavimentação de vias urbanas-BDI PAD | E13: 0.196 | F13: 0.2097 | G13: 0.2423 | I13: F
A14: Construção de Redes de Abastecimento de Água, Coleta de Esgoto | B14: AC | C14: =CONCATENATE(A14,"-",B14) -> Construção de Redes de Abastecimento de Água, Coleta de Esgoto-AC | E14: 0.0343 | F14: 0.0493 | G14: 0.0671 | I14: F | J14: BDI 1
A15: =A14 -> Construção de Redes de Abastecimento de Água, Coleta de Esgoto | B15: SG | C15: =CONCATENATE(A15,"-",B15) -> Construção de Redes de Abastecimento de Água, Coleta de Esgoto-SG | E15: 0.0028 | F15: 0.0049 | G15: 0.0075 | I15: F
A16: =A15 -> Construção de Redes de Abastecimento de Água, Coleta de Esgoto | B16: R | C16: =CONCATENATE(A16,"-",B16) -> Construção de Redes de Abastecimento de Água, Coleta de Esgoto-R | E16: 0.01 | F16: 0.0139 | G16: 0.0174 | I16: F | J16: TIPO DE OBRA
A17: =A16 -> Construção de Redes de Abastecimento de Água, Coleta de Esgoto | B17: DF | C17: =CONCATENATE(A17,"-",B17) -> Construção de Redes de Abastecimento de Água, Coleta de Esgoto-DF | E17: 0.0094 | F17: 0.0099 | G17: 0.0117 | I17: F | J17: Construção de Praças Urbanas, Rodovias, Ferrovias e recapeamento e pavimentação de vias urbanas
A18: =A17 -> Construção de Redes de Abastecimento de Água, Coleta de Esgoto | B18: L | C18: =CONCATENATE(A18,"-",B18) -> Construção de Redes de Abastecimento de Água, Coleta de Esgoto-L | E18: 0.0674 | F18: 0.0804 | G18: 0.094 | I18: F
A19: =A18 -> Construção de Redes de Abastecimento de Água, Coleta de Esgoto | B19: BDI PAD | C19: =CONCATENATE(A19,"-",B19) -> Construção de Redes de Abastecimento de Água, Coleta de Esgoto-BDI PAD | E19: 0.2076 | F19: 0.2418 | G19: 0.2644 | I19: F | J19: Itens | R19: Siglas | S19: % Adotado | U19: Situação | X19: 1º Quartil | Y19: Médio | Z19: 3º Quartil
A20: Construção e Manutenção de Estações e Redes de Distribuição de Energia Elétrica | B20: AC | C20: =CONCATENATE(A20,"-",B20) -> Construção e Manutenção de Estações e Redes de Distribuição de Energia Elétrica-AC | E20: 0.0529 | F20: 0.0592 | G20: 0.0793 | I20: F
A21: =A20 -> Construção e Manutenção de Estações e Redes de Distribuição de Energia Elétrica | B21: SG | C21: =CONCATENATE(A21,"-",B21) -> Construção e Manutenção de Estações e Redes de Distribuição de Energia Elétrica-SG | E21: 0.0025 | F21: 0.0051 | G21: 0.0056 | I21: F | J21: =IF($J$17=$A$146,"Encargos Sociais incidentes sobre a mão de obra","Administração Central") -> Administração Central | R21: =IF($J17=$A$146,"K1","AC") -> AC | S21: 0.038 | U21: - | X21: =VLOOKUP(CONCATENATE(J17,"-",R21),$C$2:$G$136,3,FALSE) -> 0.038 | Y21: =VLOOKUP(CONCATENATE(J17,"-",R21),$C$2:$G$136,4,FALSE) -> 0.0401 | Z21: =VLOOKUP(CONCATENATE(J17,"-",R21),$C$2:$G$136,5,FALSE) -> 0.0467
A22: =A21 -> Construção e Manutenção de Estações e Redes de Distribuição de Energia Elétrica | B22: R | C22: =CONCATENATE(A22,"-",B22) -> Construção e Manutenção de Estações e Redes de Distribuição de Energia Elétrica-R | E22: 0.01 | F22: 0.0148 | G22: 0.0197 | I22: F | J22: =IF($J$17=$A$146,"Administração Central da empresa ou consultoria - overhead","Seguro e Garantia") -> Seguro e Garantia | R22: =IF($J17=$A$146,"K2","SG") -> SG | S22: 0.004 | U22: - | X22: =VLOOKUP(CONCATENATE(J17,"-",R22),$C$2:$G$136,3,FALSE) -> 0.0032 | Y22: =VLOOKUP(CONCATENATE(J17,"-",R22),$C$2:$G$136,4,FALSE) -> 0.004 | Z22: =VLOOKUP(CONCATENATE(J17,"-",R22),$C$2:$G$136,5,FALSE) -> 0.0074
A23: =A22 -> Construção e Manutenção de Estações e Redes de Distribuição de Energia Elétrica | B23: DF | C23: =CONCATENATE(A23,"-",B23) -> Construção e Manutenção de Estações e Redes de Distribuição de Energia Elétrica-DF | E23: 0.0101 | F23: 0.0107 | G23: 0.0111 | I23: F | J23: =IF($J$17=$A$146,"","Risco") -> Risco | R23: =IF($J17=$A$146,"","R") -> R | S23: 0.0097 | U23: - | X23: =VLOOKUP(CONCATENATE(J17,"-",R23),$C$2:$G$136,3,FALSE) -> 0.005 | Y23: =VLOOKUP(CONCATENATE(J17,"-",R23),$C$2:$G$136,4,FALSE) -> 0.0056 | Z23: =VLOOKUP(CONCATENATE(J17,"-",R23),$C$2:$G$136,5,FALSE) -> 0.0097
A24: =A23 -> Construção e Manutenção de Estações e Redes de Distribuição de Energia Elétrica | B24: L | C24: =CONCATENATE(A24,"-",B24) -> Construção e Manutenção de Estações e Redes de Distribuição de Energia Elétrica-L | E24: 0.08 | F24: 0.0831 | G24: 0.0951 | I24: F | J24: =IF($J$17=$A$146,"","Despesas Financeiras") -> Despesas Financeiras | R24: =IF($J17=$A$146,"","DF") -> DF | S24: 0.0121 | U24: - | X24: =VLOOKUP(CONCATENATE(J17,"-",R24),$C$2:$G$136,3,FALSE) -> 0.0102 | Y24: =VLOOKUP(CONCATENATE(J17,"-",R24),$C$2:$G$136,4,FALSE) -> 0.0111 | Z24: =VLOOKUP(CONCATENATE(J17,"-",R24),$C$2:$G$136,5,FALSE) -> 0.0121
A25: =A24 -> Construção e Manutenção de Estações e Redes de Distribuição de Energia Elétrica | B25: BDI PAD | C25: =CONCATENATE(A25,"-",B25) -> Construção e Manutenção de Estações e Redes de Distribuição de Energia Elétrica-BDI PAD | E25: 0.24 | F25: 0.2584 | G25: 0.2786 | I25: F | J25: =IF($J$17=$A$146,"Margem bruta da empresa de consultoria","Lucro") -> Lucro | R25: =IF($J17=$A$146,"K3","L") -> L | S25: 0.073 | U25: - | X25: =VLOOKUP(CONCATENATE(J17,"-",R25),$C$2:$G$136,3,FALSE) -> 0.0664 | Y25: =VLOOKUP(CONCATENATE(J17,"-",R25),$C$2:$G$136,4,FALSE) -> 0.073 | Z25: =VLOOKUP(CONCATENATE(J17,"-",R25),$C$2:$G$136,5,FALSE) -> 0.0869
A26: Obras Portuárias, Marítimas e Fluviais | B26: AC | C26: =CONCATENATE(A26,"-",B26) -> Obras Portuárias, Marítimas e Fluviais-AC | E26: 0.04 | F26: 0.0552 | G26: 0.0785 | I26: F | J26: Tributos (impostos COFINS 3%, e PIS 0,65%) | R26: CP | S26: 0.0365 | U26: - | X26: 0.0365 | Y26: 0.0365 | Z26: 0.0365
A27: =A26 -> Obras Portuárias, Marítimas e Fluviais | B27: SG | C27: =CONCATENATE(A27,"-",B27) -> Obras Portuárias, Marítimas e Fluviais-SG | E27: 0.0081 | F27: 0.0122 | G27: 0.0199 | I27: F | J27: Tributos (ISS, variável de acordo com o município) | R27: ISS | S27: =IF(AND($J17<>$A$145,COUNTA(OFFSET(S20,1,0,6))>0),$R$11*$R$10,0) -> 0.02 | U27: - | X27: 0 | Y27: 0.025 | Z27: 0.05
A28: =A27 -> Obras Portuárias, Marítimas e Fluviais | B28: R | C28: =CONCATENATE(A28,"-",B28) -> Obras Portuárias, Marítimas e Fluviais-R | E28: 0.0146 | F28: 0.0232 | G28: 0.0316 | I28: F | J28: Tributos (Contribuição Previdenciária sobre a Receita Bruta - 0% ou 4,5% - Desoneração) | R28: CPRB | S28: =IF(BDI.Opcao<>"Desonerado",0,IF(AND($J17<>$A$145,COUNTA(OFFSET(S20,1,0,6))>0),4.5%,0%)) -> 0 | U28: - | X28: 0 | Y28: 0.045 | Z28: 0.045
A29: =A28 -> Obras Portuárias, Marítimas e Fluviais | B29: DF | C29: =CONCATENATE(A29,"-",B29) -> Obras Portuárias, Marítimas e Fluviais-DF | E29: 0.0094 | F29: 0.0102 | G29: 0.0133 | I29: F | J29: BDI SEM desoneração (Fórmula Acórdão TCU) | R29: BDI PAD | S29: =IF($J17=$A$145,0,ROUND((((1+S21+S22+S23)*(1+S24)*(1+S25)/(1-(S26+S27)))-1),4)) -> 0.2105 | U29: =IF(OR($J$17=$A$146,$J$17=$A$145,AND(S29>=X29,S29<=Z29)),"OK","FORA DO INTERVALO") -> OK | X29: =IF($J17=$A$145,0,VLOOKUP(CONCATENATE($J17,"-",$R29),$C$2:$G$136,3,FALSE)) -> 0.196 | Y29: =IF($J17=$A$145,0,VLOOKUP(CONCATENATE($J17,"-",$R29),$C$2:$G$136,4,FALSE)) -> 0.2097 | Z29: =IF($J17=$A$145,0,VLOOKUP(CONCATENATE($J17,"-",$R29),$C$2:$G$136,5,FALSE)) -> 0.2423
A30: =A29 -> Obras Portuárias, Marítimas e Fluviais | B30: L | C30: =CONCATENATE(A30,"-",B30) -> Obras Portuárias, Marítimas e Fluviais-L | E30: 0.0714 | F30: 0.084 | G30: 0.1043 | I30: F | J30: BDI COM desoneração | R30: BDI DES | S30: =IF($J17=$A$145,0,ROUND((((1+S21+S22+S23)*(1+S24)*(1+S25)/(1-(S26+S27+S28)))-1),4)) -> 0.2105
A31: =A30 -> Obras Portuárias, Marítimas e Fluviais | B31: BDI PAD | C31: =CONCATENATE(A31,"-",B31) -> Obras Portuárias, Marítimas e Fluviais-BDI PAD | E31: 0.228 | F31: 0.2748 | G31: 0.3095 | I31: F
A32: Fornecimento de Materiais e Equipamentos (aquisição indireta - em conjunto com licitação de obras) | B32: AC | C32: =CONCATENATE(A32,"-",B32) -> Fornecimento de Materiais e Equipamentos (aquisição indireta - em conjunto com licitação de obras)-AC | E32: 0.015 | F32: 0.0345 | G32: 0.0449 | I32: F | J32: =IF(U29<>"ok","X","") | K32: =IF(U29<>"ok","Anexo: Relatório Técnico Circunstanciado justificando a adoção do percentual de cada parcela do BDI.","")
A33: =A32 -> Fornecimento de Materiais e Equipamentos (aquisição indireta - em conjunto com licitação de obras) | B33: SG | C33: =CONCATENATE(A33,"-",B33) -> Fornecimento de Materiais e Equipamentos (aquisição indireta - em conjunto com licitação de obras)-SG | E33: 0.003 | F33: 0.0048 | G33: 0.0082 | I33: F
A34: =A33 -> Fornecimento de Materiais e Equipamentos (aquisição indireta - em conjunto com licitação de obras) | B34: R | C34: =CONCATENATE(A34,"-",B34) -> Fornecimento de Materiais e Equipamentos (aquisição indireta - em conjunto com licitação de obras)-R | E34: 0.0056 | F34: 0.0085 | G34: 0.0089 | I34: F | J34: Os valores de BDI foram calculados com o emprego da fórmula:
A35: =A34 -> Fornecimento de Materiais e Equipamentos (aquisição indireta - em conjunto com licitação de obras) | B35: DF | C35: =CONCATENATE(A35,"-",B35) -> Fornecimento de Materiais e Equipamentos (aquisição indireta - em conjunto com licitação de obras)-DF | E35: 0.0085 | F35: 0.0085 | G35: 0.0111 | I35: F | M35: BDI = | N35: =IF($J17=$A$146,"(1+K1+K2)*(1+K3)","(1+AC + S + R + G)*(1 + DF)*(1+L)") -> (1+AC + S + R + G)*(1 + DF)*(1+L) | Q35: - 1
A36: =A35 -> Fornecimento de Materiais e Equipamentos (aquisição indireta - em conjunto com licitação de obras) | B36: L | C36: =CONCATENATE(A36,"-",B36) -> Fornecimento de Materiais e Equipamentos (aquisição indireta - em conjunto com licitação de obras)-L | E36: 0.035 | F36: 0.0511 | G36: 0.0622 | I36: F | N36: (1-CP-ISS-CRPB)
A37: =A36 -> Fornecimento de Materiais e Equipamentos (aquisição indireta - em conjunto com licitação de obras) | B37: BDI PAD | C37: =CONCATENATE(A37,"-",B37) -> Fornecimento de Materiais e Equipamentos (aquisição indireta - em conjunto com licitação de obras)-BDI PAD | E37: 0.111 | F37: 0.1402 | G37: 0.168 | I37: F
A38: Fornecimento de Materiais e Equipamentos (aquisição direta) | B38: AC | C38: =CONCATENATE(A38,"-",B38) -> Fornecimento de Materiais e Equipamentos (aquisição direta)-AC | E38: - | F38: - | G38: - | I38: F | J38: =CONCATENATE("Declaro para os devidos fins que, conforme legislação tributária municipal, a base de cálculo deste tipo de obra corresponde à ",$R$10*100,"%, com a respectiva alíquota de ",$R$11*100,"%.") -> Declaro para os devidos fins que, conforme legislação tributária municipal, a base de cálculo deste tipo de obra corresponde à 40%, com a respectiva alíquota de 5%.
A39: Fornecimento de Materiais e Equipamentos (aquisição direta) | B39: SG | C39: =CONCATENATE(A39,"-",B39) -> Fornecimento de Materiais e Equipamentos (aquisição direta)-SG | E39: - | F39: - | G39: - | I39: F
A40: Fornecimento de Materiais e Equipamentos (aquisição direta) | B40: R | C40: =CONCATENATE(A40,"-",B40) -> Fornecimento de Materiais e Equipamentos (aquisição direta)-R | E40: - | F40: - | G40: - | I40: F | J40: =CONCATENATE("Declaro para os devidos fins que o regime de Contribuição Previdenciária sobre a Receita Bruta adotado para elaboração do orçamento foi ",IF(DESONERACAO="Sim","COM","SEM")," Desoneração, e que esta é a alternativa mais adequada para a Administração Pública.") -> #VALUE!
...

Sheet OBSOLETO (Básico) SETOP
A1: PREFEITURA MUNICIPAL DE PERIQUITO
A2: CNPJ:01.613.077/0001-08
A4: PLANILHA ORÇAMENTÁRIA DE CUSTOS
A6: PREFEITURA: PERIQUITO/MG | F6: FOLHA Nº:
A7: OBRA: CALÇAMENTO E DRENAGEM NA ESTRADA DO CORREGO FUNDO | F7: DATA: 07/08/2024
A8: LOCAL: CORREGO FUNDO - DISTRITO DO BAIXIO - PERIQUITO/MG | E8: FORMA DE EXECUÇÃO:
A9: REGIÃO/MÊS DE REFERÊNCIA: LESTE/ JUNHO 2024 | E9: ( ) | F9: DIRETA | G9: ( X ) | H9: INDIRETA
A10: PRAZO DE EXECUÇÃO: 30 DIAS | G10: LDI | H10: 0.3046
A12: ITEM | B12: CÓDIGO | C12: DESCRIÇÃO | D12: UNIDADE | E12: QUANTIDADE | F12: PREÇO UNITÁRIO S/ LDI | G12: PREÇO UNITÁRIO C/ LDI | H12: PREÇO TOTAL
A13: 1 | C13: DRENAGEM PLUVIAL SUPERFICIAL | G13: SUBTOTAL Item 4: | H13: =SUM(H14:H16) -> 40774.4
A14: 1.1 | B14: SINAPI - 94288 | C14: EXECUÇÃO DE SARJETA DE CONCRETO USINADO, MOLDADA IN LOCO EM TRECHO CURVO, 30 CM BASE X 10 CM ALTURA. AF_01/2024 | D14: m | E14: 160 | F14: 38.35 | G14: =ROUND(F14+(F14*$H$10),2) -> 50.03 | H14: =ROUND((E14*G14),2) -> 8004.8
A15: 1.2 | B15: ED-14762 | C15: SARJETA DE CONCRETO URBANO (SCU), TIPO 1, COM FCK 15 MPA , LARGURA DE 50CM COM INCLINAÇÃO DE 3%, ESP. 7CM, PADRÃO DER-MG, EXCLUSIVE MEIO-FIO, INCLUSIVE ESCAVAÇÃO, APILAOMENTO E TRANSPORTE COM RETIRADA DO MATERIAL ESCAVADO (EM CAÇAMBA) | D15: m | E15: 160 | F15: 41.23 | G15: =ROUND(F15+(F15*$H$10),2) -> 53.79 | H15: =ROUND((E15*G15),2) -> 8606.4
A16: 1.3 | B16: ED-51139 | C16: GUIA DE MEIO-FIO, EM CONCRETO COM FCK 20MPA, PRÉ- MOLDADA, MFC-01 PADRÃO DER-MG, DIMENSÕES (12X16,7X35)CM , EXCLUSIVE SARJETA, INCLUSIVE ESCAVAÇÃO, APILOAMENTO E TRANSPORTE COM RETIRADA DO MATERIAL ESCAVADO (EM CAÇAMBA) | D16: m | E16: =160*2 -> 320 | F16: 57.88 | G16: =ROUND(F16+(F16*$H$10),2) -> 75.51 | H16: =ROUND((E16*G16),2) -> 24163.2
A17: 2 | C17: CALÇAMENTO DE VIAS | G17: SUBTOTAL Item 6: | H17: =SUM(H18:H19) -> 81318.6
A18: 2.1 | B18: ED-50418 | C18: EXECUÇÃO DE PAVIMENTO INTERTRAVADO, ESPESSURA 8CM, FCK 35MPA, INCLUINDO FORNECIMENTO E TRANSPORTE DE TODOS OS MATERIAIS E COLCHÃO DE ASSENTAMENTO COM ESPESSURA 6CM | D18: m2 | E18: =4.4*160 -> 704 | F18: 84.92 | G18: =ROUND(F18+(F18*$H$10),2) -> 110.79 | H18: =ROUND((E18*G18),2) -> 77996.16
A19: 6.3 | B19: COMPOSIÇÃO | C19: EXECUÇÃO DE TRAVAMENTO EM CONCRETO SEÇÃO 35X12cm - INCLUSIVE ESCAVAÇÃO | D19: m | E19: =4.4*10 -> 44 | F19: =F16 -> 57.88 | G19: =ROUND(F19+(F19*$H$10),2) -> 75.51 | H19: =ROUND((E19*G19),2) -> 3322.44
A20: SUBTOTAL | H20: =H13+H17 -> 122093
A21: TOTAL GERAL DA OBRA | H21: =H20 -> 122093
B26: Engº Civil - Kewelinn Lagares | E26: CREA/MG - 214.668D
B31: Prefeito - José de Oliveira Flor
