Workbook
Name ____xlnm.Print_Area_2: #REF!
Name ____xlnm.Print_Area_3: #REF!
Name ____xlnm.Print_Area_3_1: #REF!
Name ____xlnm.Print_Titles_2: #REF!
Name ____xlnm.Print_Titles_3: #REF!
Name ___xlnm.Print_Area_2: #REF!
Name ___xlnm.Print_Area_3: #REF!
Name ___xlnm.Print_Area_3_1: #REF!
Name ___xlnm.Print_Titles_2: #REF!
Name ___xlnm.Print_Titles_3: #REF!
Name __Anonymous_Sheet_DB__0: 'CURVA ABC'!$C$9:$O$816
Name __Anonymous_Sheet_DB__0: PLANILHA_SINTÉTICA!$F$9:$P$1018
Name __xlnm.Print_Area_1: INSUMOS!$A$1:$D$6
Name __xlnm.Print_Area_2: #REF!
Name __xlnm.Print_Area_2: #REF!
Name __xlnm.Print_Area_2: #REF!
Name __xlnm.Print_Area_2: #REF!
Name __xlnm.Print_Area_2: #REF!
Name __xlnm.Print_Area_3: #REF!
Name __xlnm.Print_Area_3: #REF!
Name __xlnm.Print_Area_3: #REF!
Name __xlnm.Print_Area_3: #REF!
Name __xlnm.Print_Area_3: #REF!
Name __xlnm.Print_Area_3_1: #REF!
Name __xlnm.Print_Area_3_1: #REF!
Name __xlnm.Print_Area_3_1: #REF!
Name __xlnm.Print_Area_3_1: #REF!
Name __xlnm.Print_Titles_1: INSUMOS!$1:$2
Name __xlnm.Print_Titles_2: #REF!
Name __xlnm.Print_Titles_2: #REF!
Name __xlnm.Print_Titles_2: #REF!
Name __xlnm.Print_Titles_2: #REF!
Name __xlnm.Print_Titles_2: #REF!
Name __xlnm.Print_Titles_3: #REF!
Name __xlnm.Print_Titles_3: #REF!
Name __xlnm.Print_Titles_3: #REF!
Name __xlnm.Print_Titles_3: #REF!
Name __xlnm.Print_Titles_3: #REF!
Name _R10P: #REF!
Name _R10P: #REF!
Name _R10P: #REF!
Name _R10P: #REF!
Name _R10P: #REF!
Name _R10R: #REF!
Name _R10R: #REF!
Name _R10R: #REF!
Name _R10R: #REF!
Name _R10R: #REF!
Name _R11P: #REF!
Name _R11P: #REF!
Name _R11P: #REF!
Name _R11P: #REF!
Name _R11P: #REF!
Name _R11R: #REF!
Name _R11R: #REF!
Name _R11R: #REF!
Name _R11R: #REF!
Name _R11R: #REF!
Name _R12P: #REF!
Name _R12P: #REF!

Sheet DADOS
U2: ABATIÁ
U3: ADRIANÓPOLIS
U4: AGUDOS DO SUL
U5: ALMIRANTE TAMANDARÉ
U6: ALTAMIRA DO PARANÁ
U7: ALTO PARAÍSO
U8: ALTO PARANÁ
U9: ALTO PIQUIRI
B10: Identificação da Obra: | U10: ALTÔNIA
U11: ALVORADA DO SUL
B12: Objeto | D12: PRONTO ATENDIMENTO MUNICIPAL | K12: Órgão | M12: SESA | U12: ALVORADA DO SUL
U13: AMAPORÃ
B14: Endereço | D14: RUA DO SOL, S/N - BAIRRO DO SOL - IMBAU/PR 84250-000 | U14: AMPÉRE
U15: ANAHY
B16: Município | D16: IMBAÚ | H16: Preço Máximo | M16: =+'FOLHA FECHAMENTO'!H28 -> 6698621.8 | U16: ANDIRÁ
U17: ÂNGULO
B18: Área Construída | D18: 812.89 | H18: R$ / m² | M18: =IF(D18<>"",M16/D18," ") -> 8240.5022 | U18: ANTONINA
U19: ANTÔNIO OLINTO
B20: Data | D20: =TODAY() -> 46142 | U20: APUCARANA
U21: ARAPONGAS
B22: Identificação do Orçamentista: | U22: ARAPOTI
U23: ARAPUÃ
B24: Nome Completo | D24: Erick William da Silva Damaceno | U24: ARARUNA
U25: ARAUCÁRIA
B26: Profissão | D26: Engenheiro Civil | U26: ARIRANHA DO IVAÍ
U27: ASSAÍ
B28: CREA / CAU N° | D28: 211052/D | U28: ASSIS CHATEAUBRIAND
U29: ASTORGA
B30: ART / RRT N° | D30: 1720261230534 | U30: ATALAIA
U31: BALSA NOVA
B32: Empresa | D32: Prefeitura Municipal de Imbaú | U32: BANDEIRANTES
U33: BARBOSA FERRAZ
B34: Telefone | D34: (41) 9 8737-8029 | U34: BARRACÃO
U35: BELA VISTA DA CAROBA
B36: E-mail | D36: engerickdamaceno@gmail.com | U36: BITURUNA
U37: BOA ESPERANÇA
B38: Check-list da Documentação | U38: BOA ESPERANÇA DO IGUAÇU
U39: BOA VENTURA DE SÃO ROQUE
B40: Documento | H40: SIM | K40: NÃO | U40: BOA VISTA DA APARECIDA
U41: BOCAIÚVA DO SUL
...

Sheet FOLHA FECHAMENTO
O2: AMPLIAÇÃO
O3: CONSTRUÇÃO
O4: FABRICAÇÃO
O5: RECUPERAÇÃO
O6: REFORMA
O7: REPAROS
O8: CONSERVAÇÃO
A9: FOLHA RESUMO PARA FECHAMENTO DE ORÇAMENTO | K9: DATA: | L9: =IF(DADOS!D20<>"",DADOS!D20," ") -> 46142 | O9: DEMOLIÇÃO
A10: PRÓPRIO: | C10: =IF(DADOS!$D$12<>"",DADOS!$D$12," ") -> PRONTO ATENDIMENTO MUNICIPAL | J10: TIPO DE OBRA/SERVIÇO: | K10: CONSTRUÇÃO | O10: INSTALAÇÃO
A11: ENDEREÇO: | C11: =IF(DADOS!D14<>"",DADOS!D14," ") -> RUA DO SOL, S/N - BAIRRO DO SOL - IMBAU/PR 84250-000 | J11: MUNICÍPIO: | K11: =IF(DADOS!$D$16<>"",DADOS!$D$16," ") -> IMBAÚ | O11: MANUTENÇÃO
A12: ORGÃO: | C12: =IF(DADOS!M12<>"",DADOS!M12," ") -> SESA | J12: PROTOCOLO: | O12: MONTAGEM
O13: OPERAÇÃO
O14: AMPLIAÇÃO
A15: Nº LEVANTº: | C15: REV00 | F15: ORGANIZADO POR: | O15: CONSERTO
F16: RESPONSÁVEL TÉCNICO: | G16: =IF(DADOS!D24<>"",DADOS!D24," ") -> Erick William da Silva Damaceno | K16: CREA / CAU: | L16: =IF(DADOS!D28<>"",DADOS!D28," ") -> 211052/D
F17: NÚCLEO REGIONAL DAS CIDADES | G17: PONTA GROSSA | K17: ART / RRT N°: | L17: =IF(DADOS!D30<>"",DADOS!D30," ") -> 1720261230534 | O17: CAMPO MOURÃO
A18: OBSERVAÇÃO: | O18: CASCAVEL
O19: CURITIBA
O20: GUARAPUAVA
O21: LONDRINA
E22: CUSTO (R$) | G22: BDI (%) | H22: VALOR COM BDI (R$) | O22: MARINGÁ
B23: Custo dos Serviços Convencionais | E23: =RESUMO!$H$42 -> 4572351.6 | G23: =BDI!$D$27 -> 0.2037366 | H23: =$E$23+($E$23*$G$23) -> 5503907 | O23: PATO BRANCO
B24: Custos dos Serviços de Natureza Específica | E24: =RESUMO!$H$50 -> 1075290.9 | G24: =BDI!$D$47 -> 0.11106199 | H24: =$E$24+($E$24*$G$24) -> 1194714.9 | O24: PONTA GROSSA
O25: SANTO ANTÔNIO DA PLATINA
B26: Custo Total da Obra | H26: =E23+E24 -> 5647642.5 | O26: UMUARAMA
O27: UNIÃO DA VITÓRIA
B28: Valor Total da Obra com BDI | H28: =H23+H24 -> 6698621.8 | P28: =+CRONOGRAMA!AB51 -> 6698621.8
A30: Lista de serviços considerados de Natureza Específica:
A31: EQUIPAMENTOS DE CLIMATIZAÇÃO, EQUIPAMENTOS DE GASES MEDICINAIS E GRUPO GERADOR
E33: Prazo de execução : | F33: 300 | G33: DIAS CORRIDOS
E35: Relatório MAT+MO : | F35: MATERIAL = | H35: =IF(RESUMO!$F$52<>"",RESUMO!$F$52," ") -> 0.79170745
F37: MÃO-DE-OBRA = | H37: =IF(H35=0,"",1-H35) -> 0.20829255
A41: Referencial utilizado: | G41: SINAPI FEVEREIRO DE 2025 - NÃO DESONERADA
A43: Data-base: | G43: Vigência: SECID - MARÇO DE 2025
G45: Resolução SECID N°027/2025
B55: _________________________ | G55: _______________________ | I55: __________________________
A56: =IF(DADOS!D24<>"",DADOS!D24,"") -> Erick William da Silva Damaceno
B57: Responsável Técnico | G57: Resp. Aprovação | I57: Gerente
B58: Carimbo e Assinatura | G58: Carimbo e Assinatura | I58: Carimbo e Assinatura

Sheet BDI
C7: PRÓPRIO: | D7: =IF(DADOS!$D$12<>"",DADOS!$D$12," ") -> PRONTO ATENDIMENTO MUNICIPAL
C8: PRAZO DE OBRA: | D8: =IF('FOLHA FECHAMENTO'!F33<>"",'FOLHA FECHAMENTO'!F33," ") -> 300 | E8: DIAS CORRIDOS
C9: COMPOSIÇÃO DE BDI PARA EDIFICAÇÕES NÃO DESONERADA | H9: Vigência: 01/12/2015
A11: CUSTO TOTAL DO SERVIÇO (R$): | I11: ='FOLHA FECHAMENTO'!$E$23 -> 4572351.6
A13: ITEM | B13: DISCRIMINAÇÃO | C13: VALOR (R$) | D13: TAXA (%) | E13: OBSERVAÇÃO | F13: SITUAÇÃO DO INTERVALO ADMISSIVEL | G13: PARCELAS DO BDI (%)
G14: 1 Quartil | H14: Médio | I14: 3 Quartil
A15: 1 | B15: AC - ADMINISTRAÇÃO CENTRAL | C15: =D15*$I$11 -> 171463.19 | D15: 0.0375 | F15: =IF(AND(D15>=G15,D15<=I15),"OK","DIFERE") -> OK | G15: 0.03 | H15: 0.04 | I15: 0.055 | J15: AC | K15: ADMINISTRAÇÃO CENTRAL
A16: 2 | B16: SG - SEGUROS + GARANTIA | C16: =D16*$I$11 -> 36578.813 | D16: 0.008 | F16: =IF(AND(D16>=G16,D16<=I16),"OK","DIFERE") -> OK | G16: 0.008 | H16: 0.008 | I16: 0.01 | J16: SG | K16: SEGUROS + GARANTIA
A17: 3 | B17: R - RISCOS | C17: =D17*$I$11 -> 44351.811 | D17: 0.0097 | F17: =IF(AND(D17>=G17,D17<=I17),"OK","DIFERE") -> OK | G17: 0.0097 | H17: 0.0127 | I17: 0.0127 | J17: R | K17: RISCOS
A18: 4 | B18: DF - DESPESAS FINANCEIRAS | C18: =D18*($I$11+C15+C16+C17) -> 28465.998 | D18: 0.0059 | F18: =IF(AND(D18>=G18,D18<=I18),"OK","DIFERE") -> OK | G18: 0.0059 | H18: 0.0123 | I18: 0.0139 | J18: DF | K18: DESPESAS FINANCEIRAS
A19: 5 | B19: L - LUCRO BRUTO | C19: =D19*($I$11+C15+C16+C17+C18) -> 339724.8 | D19: 0.07 | F19: =IF(AND(D19>=G19,D19<=I19),"OK","DIFERE") -> OK | G19: 0.0616 | H19: 0.074 | I19: 0.0896 | J19: L | K19: LUCRO BRUTO
A20: 6 | B20: I - IMPOSTOS | C20: =D20*$I$11*(1+D27) -> 310970.74 | D20: =SUM(D21:D24) -> 0.0565 | J20: I | K20: IMPOSTOS
A21: 6.1 | B21: PIS | D21: 0.0065
A22: 6.2 | B22: COFINS | D22: 0.03
A23: 6.3 | B23: ISS (CONFORME LEGISLAÇÃO MUNICIPAL) | D23: 0.02
A24: 6.4 | B24: CONTRIB.PREV. SOBRE REC. BRUTA - CPRB | D24: 0
A25: TOTAL DO BDI (R$) | C25: =SUM(C15:C20) -> 931555.35 | F25: Parâmetros do Acórdão 2.622/2013 - Plenário
A26: PREÇO DE VENDA (R$) | C26: =C25+I11 -> 5503907 | F26: Sem CPRB | G26: 0.2034 | H26: 0.2212 | I26: 0.25
A27: BDI (%) | D27: =(((1+$D15+$D16+$D17)*(1+$D18)*(1+$D19)/(1-$D20)))-1 -> 0.2037366 | E27: =IF(AND($D27>=$G27,$D27<=$I27),"OK","DIFERE") -> OK | F27: Com CPRB | G27: =((G26+1))/(1-$D$24)-1 -> 0.2034 | H27: =((H26+1))/(1-$D$24)-1 -> 0.2212 | I27: =((I26+1))/(1-$D$24)-1 -> 0.25
B30: COMPOSIÇÃO DE BDI PARA EQUIPAMENTOS E SERVIÇOS DE NATUREZA ESPECÍFICA
A32: CUSTO TOTAL NATUREZA ESPECÍFICA (R$): | I32: ='FOLHA FECHAMENTO'!$E$24 -> 1075290.9
A33: ITEM | B33: DISCRIMINAÇÃO | C33: VALOR (R$) | D33: TAXA (%) | E33: OBSERVAÇÃO | F33: SITUAÇÃO DO INTERVALO ADMISSIVEL | G33: PARCELAS DO BDI (%)
G34: 1 Quartil | H34: Médio | I34: 3 Quartil
A35: 1 | B35: AC - ADMINISTRAÇÃO CENTRAL | C35: =D35*$I$32 -> 17204.655 | D35: 0.016 | F35: =IF(AND(D35>=G35,D35<=I35),"OK","DIFERE") -> OK | G35: 0.015 | H35: 0.0345 | I35: 0.0449 | J35: AC | K35: ADMINISTRAÇÃO CENTRAL
A36: 2 | B36: SG - SEGUROS + GARANTIA | C36: =D36*$I$32 -> 3225.8728 | D36: 0.003 | F36: =IF(AND(D36>=G36,D36<=I36),"OK","DIFERE") -> OK | G36: 0.003 | H36: 0.0048 | I36: 0.0082 | J36: SG | K36: SEGUROS + GARANTIA
A37: 3 | B37: R - RISCOS | C37: =D37*$I$32 -> 6021.6292 | D37: 0.0056 | F37: =IF(AND(D37>=G37,D37<=I37),"OK","DIFERE") -> OK | G37: 0.0056 | H37: 0.0085 | I37: 0.0089 | J37: R | K37: RISCOS
A38: 4 | B38: DF - DESPESAS FINANCEIRAS | C38: =D38*($I$32+C35+C36+C37) -> 9364.8162 | D38: 0.0085 | F38: =IF(AND(D38>=G38,D38<=I38),"OK","DIFERE") -> OK | G38: 0.0085 | H38: 0.0085 | I38: 0.0111 | J38: DF | K38: DESPESAS FINANCEIRAS
A39: 5 | B39: L - LUCRO BRUTO | C39: =D39*($I$32+C35+C36+C37+C38) -> 39999.885 | D39: 0.036 | F39: =IF(AND(D39>=G39,D39<=I39),"OK","DIFERE") -> OK | G39: 0.035 | H39: 0.0511 | I39: 0.0622 | J39: L | K39: LUCRO BRUTO
A40: 6 | B40: I - IMPOSTOS | C40: =D40*$I$32*(1+D47) -> 43607.093 | D40: =SUM(D41:D44) -> 0.0365 | J40: I | K40: IMPOSTOS
A41: 6.1 | B41: PIS | D41: 0.0065
A42: 6.2 | B42: COFINS | D42: 0.03
A43: 6.3 | B43: ISS (CONFORME LEGISLAÇÃO MUNICIPAL) | D43: 0
A44: 6.4 | B44: CONTRIB.PREV. SOBRE REC. BRUTA - CPRB | D44: 0
A45: TOTAL DO BDI (R$) | C45: =SUM(C35:C40) -> 119423.95 | F45: Parâmetros do Acórdão 2.622/2013 - Plenário
A46: PREÇO DE VENDA (R$) | C46: =C45+I32 -> 1194714.9 | F46: Sem CPRB | G46: 0.111 | H46: 0.1402 | I46: 0.168
A47: BDI (%) | D47: =(((1+$D35+$D36+$D37)*(1+$D38)*(1+$D39)/(1-$D40)))-1 -> 0.11106199 | E47: =IF(AND($D47>=$G47,$D47<=$I47),"OK","DIFERE") -> OK | F47: Com CPRB | G47: =((G46+1))/(1-$D$44)-1 -> 0.111 | H47: =((H46+1))/(1-$D$44)-1 -> 0.1402 | I47: =((I46+1))/(1-$D$44)-1 -> 0.168
E49: Equação Acordão TCU 2.622/2013 - Plenário
A53: Onde:
A54: AC: taxa de administração central;
A55: S: taxa de seguros;
...

Sheet RESUMO
C7: ENDEREÇO: | D7: =IF(DADOS!D14<>"",DADOS!D14," ") -> RUA DO SOL, S/N - BAIRRO DO SOL - IMBAU/PR 84250-000 | G7: DATA: | H7: =IF(DADOS!$D$20<>"",DADOS!$D$20," ") -> 46142
C8: MUNICÍPIO: | D8: =IF(DADOS!$D$16<>"",DADOS!$D$16," ") -> IMBAÚ | G8: TIPO DE OBRA/SERVIÇO: | H8: =IF('FOLHA FECHAMENTO'!K10<>"",'FOLHA FECHAMENTO'!K10," ") -> CONSTRUÇÃO
C9: OBRA: | D9: =IF(DADOS!D12<>"",DADOS!D12," ") -> PRONTO ATENDIMENTO MUNICIPAL | G9: RESP. TÉCNICO: | H9: =IF(DADOS!$D$24<>"",DADOS!$D$24," ") -> Erick William da Silva Damaceno
C10: ÓRGÃO PROP.: | D10: =IF(DADOS!M12<>"",DADOS!M12," ") -> SESA | G10: BDI: | H10: =IF('FOLHA FECHAMENTO'!G23<>"",'FOLHA FECHAMENTO'!G23," ") -> 0.2037366 | I10: BDI DIFERENCIADO: | J10: =IF('FOLHA FECHAMENTO'!$G$24<>"",'FOLHA FECHAMENTO'!G24," ") -> 0.11106199
B12: ITEM | C12: DESCRIÇÃO | F12: SEM BDI | I12: TOTAL COM BDI | J12: %
F13: MATERIAL | G13: MÃO DE OBRA | H13: TOTAL
C14: CONSTRUÇÃO EDIFICAÇÃO PADRÃO
B15: 1 | C15: =IF($B15<>"",VLOOKUP($B15,PLANILHA_SINTÉTICA!$E:$P,3,0),"") -> ADMINISTRAÇÃO LOCAL | F15: =IF($B15<>"",VLOOKUP($B15,PLANILHA_SINTÉTICA!$E:$P,9,0),"") -> 6517 | G15: =IF($B15<>"",VLOOKUP($B15,PLANILHA_SINTÉTICA!$E:$P,10,0),"") -> 172946 | H15: =IF($B15<>"",VLOOKUP($B15,PLANILHA_SINTÉTICA!$E:$P,12,0),"") -> 179463 | I15: =IF($B15<>"",(1+$H$10)*$H15," ") -> 216026.18 | J15: =IF($B15<>"",IF(OR($B15="",H15=0),0,$I15/$I$51),"") -> 0.032249347
B16: 2 | C16: =IF($B16<>"",VLOOKUP($B16,PLANILHA_SINTÉTICA!$E:$P,3,0),"") -> SERVIÇOS PRELIMINARES | F16: =IF($B16<>"",VLOOKUP($B16,PLANILHA_SINTÉTICA!$E:$P,9,0),"") -> 21162.82 | G16: =IF($B16<>"",VLOOKUP($B16,PLANILHA_SINTÉTICA!$E:$P,10,0),"") -> 10513.74 | H16: =IF($B16<>"",VLOOKUP($B16,PLANILHA_SINTÉTICA!$E:$P,12,0),"") -> 31676.56 | I16: =IF($B16<>"",(1+$H$10)*$H16," ") -> 38130.234 | J16: =IF($B16<>"",IF(OR($B16="",H16=0),0,$I16/$I$51),"") -> 0.0056922506
B17: 3 | C17: =IF($B17<>"",VLOOKUP($B17,PLANILHA_SINTÉTICA!$E:$P,3,0),"") -> MOVIMENTO DE TERRA | F17: =IF($B17<>"",VLOOKUP($B17,PLANILHA_SINTÉTICA!$E:$P,9,0),"") -> 4527.82 | G17: =IF($B17<>"",VLOOKUP($B17,PLANILHA_SINTÉTICA!$E:$P,10,0),"") -> 7211.91 | H17: =IF($B17<>"",VLOOKUP($B17,PLANILHA_SINTÉTICA!$E:$P,12,0),"") -> 11739.73 | I17: =IF($B17<>"",(1+$H$10)*$H17," ") -> 14131.543 | J17: =IF($B17<>"",IF(OR($B17="",H17=0),0,$I17/$I$51),"") -> 0.0021096194
B18: 4 | C18: =IF($B18<>"",VLOOKUP($B18,PLANILHA_SINTÉTICA!$E:$P,3,0),"") -> FUNDAÇÃO | F18: =IF($B18<>"",VLOOKUP($B18,PLANILHA_SINTÉTICA!$E:$P,9,0),"") -> 108118.09 | G18: =IF($B18<>"",VLOOKUP($B18,PLANILHA_SINTÉTICA!$E:$P,10,0),"") -> 29889.93 | H18: =IF($B18<>"",VLOOKUP($B18,PLANILHA_SINTÉTICA!$E:$P,12,0),"") -> 138008.02 | I18: =IF($B18<>"",(1+$H$10)*$H18," ") -> 166125.3 | J18: =IF($B18<>"",IF(OR($B18="",H18=0),0,$I18/$I$51),"") -> 0.024799923
B19: 5 | C19: =IF($B19<>"",VLOOKUP($B19,PLANILHA_SINTÉTICA!$E:$P,3,0),"") -> SUPRAESTRUTURA | F19: =IF($B19<>"",VLOOKUP($B19,PLANILHA_SINTÉTICA!$E:$P,9,0),"") -> 339164.7 | G19: =IF($B19<>"",VLOOKUP($B19,PLANILHA_SINTÉTICA!$E:$P,10,0),"") -> 98037.71 | H19: =IF($B19<>"",VLOOKUP($B19,PLANILHA_SINTÉTICA!$E:$P,12,0),"") -> 437202.41 | I19: =IF($B19<>"",(1+$H$10)*$H19," ") -> 526276.54 | J19: =IF($B19<>"",IF(OR($B19="",H19=0),0,$I19/$I$51),"") -> 0.078564898
B20: 6 | C20: =IF($B20<>"",VLOOKUP($B20,PLANILHA_SINTÉTICA!$E:$P,3,0),"") -> ALVENARIAS - VEDAÇÃO | F20: =IF($B20<>"",VLOOKUP($B20,PLANILHA_SINTÉTICA!$E:$P,9,0),"") -> 247317.62 | G20: =IF($B20<>"",VLOOKUP($B20,PLANILHA_SINTÉTICA!$E:$P,10,0),"") -> 42380.72 | H20: =IF($B20<>"",VLOOKUP($B20,PLANILHA_SINTÉTICA!$E:$P,12,0),"") -> 289698.34 | I20: =IF($B20<>"",(1+$H$10)*$H20," ") -> 348720.49 | J20: =IF($B20<>"",IF(OR($B20="",H20=0),0,$I20/$I$51),"") -> 0.052058543
B21: 7 | C21: =IF($B21<>"",VLOOKUP($B21,PLANILHA_SINTÉTICA!$E:$P,3,0),"") -> COBERTURA | F21: =IF($B21<>"",VLOOKUP($B21,PLANILHA_SINTÉTICA!$E:$P,9,0),"") -> 247254.12 | G21: =IF($B21<>"",VLOOKUP($B21,PLANILHA_SINTÉTICA!$E:$P,10,0),"") -> 24844.66 | H21: =IF($B21<>"",VLOOKUP($B21,PLANILHA_SINTÉTICA!$E:$P,12,0),"") -> 272098.78 | I21: =IF($B21<>"",(1+$H$10)*$H21," ") -> 327535.26 | J21: =IF($B21<>"",IF(OR($B21="",H21=0),0,$I21/$I$51),"") -> 0.048895917
B22: 8 | C22: =IF($B22<>"",VLOOKUP($B22,PLANILHA_SINTÉTICA!$E:$P,3,0),"") -> IMPERMEABILIZAÇÃO E ISOLAMENTOS | F22: =IF($B22<>"",VLOOKUP($B22,PLANILHA_SINTÉTICA!$E:$P,9,0),"") -> 18538.39 | G22: =IF($B22<>"",VLOOKUP($B22,PLANILHA_SINTÉTICA!$E:$P,10,0),"") -> 10601.63 | H22: =IF($B22<>"",VLOOKUP($B22,PLANILHA_SINTÉTICA!$E:$P,12,0),"") -> 29140.02 | I22: =IF($B22<>"",(1+$H$10)*$H22," ") -> 35076.908 | J22: =IF($B22<>"",IF(OR($B22="",H22=0),0,$I22/$I$51),"") -> 0.0052364366
B23: 9 | C23: =IF($B23<>"",VLOOKUP($B23,PLANILHA_SINTÉTICA!$E:$P,3,0),"") -> REVESTIMENTOS | F23: =IF($B23<>"",VLOOKUP($B23,PLANILHA_SINTÉTICA!$E:$P,9,0),"") -> 281805.12 | G23: =IF($B23<>"",VLOOKUP($B23,PLANILHA_SINTÉTICA!$E:$P,10,0),"") -> 114370.09 | H23: =IF($B23<>"",VLOOKUP($B23,PLANILHA_SINTÉTICA!$E:$P,12,0),"") -> 396175.21 | I23: =IF($B23<>"",(1+$H$10)*$H23," ") -> 476890.6 | J23: =IF($B23<>"",IF(OR($B23="",H23=0),0,$I23/$I$51),"") -> 0.071192345
B24: 10 | C24: =IF($B24<>"",VLOOKUP($B24,PLANILHA_SINTÉTICA!$E:$P,3,0),"") -> ESQUADRIAS | F24: =IF($B24<>"",VLOOKUP($B24,PLANILHA_SINTÉTICA!$E:$P,9,0),"") -> 260494.23 | G24: =IF($B24<>"",VLOOKUP($B24,PLANILHA_SINTÉTICA!$E:$P,10,0),"") -> 44365.75 | H24: =IF($B24<>"",VLOOKUP($B24,PLANILHA_SINTÉTICA!$E:$P,12,0),"") -> 304859.98 | I24: =IF($B24<>"",(1+$H$10)*$H24," ") -> 366971.11 | J24: =IF($B24<>"",IF(OR($B24="",H24=0),0,$I24/$I$51),"") -> 0.054783077
B25: 11 | C25: =IF($B25<>"",VLOOKUP($B25,PLANILHA_SINTÉTICA!$E:$P,3,0),"") -> PINTURAS | F25: =IF($B25<>"",VLOOKUP($B25,PLANILHA_SINTÉTICA!$E:$P,9,0),"") -> 55477.31 | G25: =IF($B25<>"",VLOOKUP($B25,PLANILHA_SINTÉTICA!$E:$P,10,0),"") -> 52205.7 | H25: =IF($B25<>"",VLOOKUP($B25,PLANILHA_SINTÉTICA!$E:$P,12,0),"") -> 107683.01 | I25: =IF($B25<>"",(1+$H$10)*$H25," ") -> 129621.98 | J25: =IF($B25<>"",IF(OR($B25="",H25=0),0,$I25/$I$51),"") -> 0.019350544
B26: 12 | C26: =IF($B26<>"",VLOOKUP($B26,PLANILHA_SINTÉTICA!$E:$P,3,0),"") -> DIVERSOS | F26: =IF($B26<>"",VLOOKUP($B26,PLANILHA_SINTÉTICA!$E:$P,9,0),"") -> 191282.5 | G26: =IF($B26<>"",VLOOKUP($B26,PLANILHA_SINTÉTICA!$E:$P,10,0),"") -> 20714.89 | H26: =IF($B26<>"",VLOOKUP($B26,PLANILHA_SINTÉTICA!$E:$P,12,0),"") -> 211997.39 | I26: =IF($B26<>"",(1+$H$10)*$H26," ") -> 255189.02 | J26: =IF($B26<>"",IF(OR($B26="",H26=0),0,$I26/$I$51),"") -> 0.038095749
... B32: 18 | C32: =IF($B32<>"",VLOOKUP($B32,PLANILHA_SINTÉTICA!$E:$P,3,0),"") -> SERVIÇOS FINAIS | F32: =IF($B32<>"",VLOOKUP($B32,PLANILHA_SINTÉTICA!$E:$P,9,0),"") -> 3444.54 | G32: =IF($B32<>"",VLOOKUP($B32,PLANILHA_SINTÉTICA!$E:$P,10,0),"") -> 3701.39 | H32: =IF($B32<>"",VLOOKUP($B32,PLANILHA_SINTÉTICA!$E:$P,12,0),"") -> 7145.93 | I32: =IF($B32<>"",(1+$H$10)*$H32," ") -> 8601.8174 | J32: =IF($B32<>"",IF(OR($B32="",H32=0),0,$I32/$I$51),"") -> 0.0012841175
C33: IMPLANTAÇÃO
B34: 19 | C34: =IF($B34<>"",VLOOKUP($B34,PLANILHA_SINTÉTICA!$E:$P,3,0),"") -> MOVIMENTO DE TERRA | F34: =IF($B34<>"",VLOOKUP($B34,PLANILHA_SINTÉTICA!$E:$P,9,0),"") -> 56550.56 | G34: =IF($B34<>"",VLOOKUP($B34,PLANILHA_SINTÉTICA!$E:$P,10,0),"") -> 10005.83 | H34: =IF($B34<>"",VLOOKUP($B34,PLANILHA_SINTÉTICA!$E:$P,12,0),"") -> 66556.39 | I34: =IF($B34<>"",(1+$H$10)*$H34," ") -> 80116.362 | J34: =IF($B34<>"",IF(OR($B34="",H34=0),0,$I34/$I$51),"") -> 0.011960126
B35: 20 | C35: =IF($B35<>"",VLOOKUP($B35,PLANILHA_SINTÉTICA!$E:$P,3,0),"") -> MUROS | F35: =IF($B35<>"",VLOOKUP($B35,PLANILHA_SINTÉTICA!$E:$P,9,0),"") -> 381535.55 | G35: =IF($B35<>"",VLOOKUP($B35,PLANILHA_SINTÉTICA!$E:$P,10,0),"") -> 84575.02 | H35: =IF($B35<>"",VLOOKUP($B35,PLANILHA_SINTÉTICA!$E:$P,12,0),"") -> 466110.57 | I35: =IF($B35<>"",(1+$H$10)*$H35," ") -> 561074.35 | J35: =IF($B35<>"",IF(OR($B35="",H35=0),0,$I35/$I$51),"") -> 0.083759669
B36: 21 | C36: =IF($B36<>"",VLOOKUP($B36,PLANILHA_SINTÉTICA!$E:$P,3,0),"") -> CALÇADA EXTERNA | F36: =IF($B36<>"",VLOOKUP($B36,PLANILHA_SINTÉTICA!$E:$P,9,0),"") -> 186369.53 | G36: =IF($B36<>"",VLOOKUP($B36,PLANILHA_SINTÉTICA!$E:$P,10,0),"") -> 35638.19 | H36: =IF($B36<>"",VLOOKUP($B36,PLANILHA_SINTÉTICA!$E:$P,12,0),"") -> 222007.72 | I36: =IF($B36<>"",(1+$H$10)*$H36," ") -> 267238.82 | J36: =IF($B36<>"",IF(OR($B36="",H36=0),0,$I36/$I$51),"") -> 0.039894597
B37: 22 | C37: =IF($B37<>"",VLOOKUP($B37,PLANILHA_SINTÉTICA!$E:$P,3,0),"") -> INSTALAÇÃO ELÉTRICA - (POSTO TRANSFORMAÇÃO, INFRA PARA CABEAMENTO CAT) | F37: =IF($B37<>"",VLOOKUP($B37,PLANILHA_SINTÉTICA!$E:$P,9,0),"") -> 62137.88 | G37: =IF($B37<>"",VLOOKUP($B37,PLANILHA_SINTÉTICA!$E:$P,10,0),"") -> 10509.5 | H37: =IF($B37<>"",VLOOKUP($B37,PLANILHA_SINTÉTICA!$E:$P,12,0),"") -> 72647.38 | I37: =IF($B37<>"",(1+$H$10)*$H37," ") -> 87448.31 | J37: =IF($B37<>"",IF(OR($B37="",H37=0),0,$I37/$I$51),"") -> 0.013054672
B38: 23 | C38: =IF($B38<>"",VLOOKUP($B38,PLANILHA_SINTÉTICA!$E:$P,3,0),"") -> ESQUADRIAS | F38: =IF($B38<>"",VLOOKUP($B38,PLANILHA_SINTÉTICA!$E:$P,9,0),"") -> 11340.58 | G38: =IF($B38<>"",VLOOKUP($B38,PLANILHA_SINTÉTICA!$E:$P,10,0),"") -> 1790.4 | H38: =IF($B38<>"",VLOOKUP($B38,PLANILHA_SINTÉTICA!$E:$P,12,0),"") -> 13130.98 | I38: =IF($B38<>"",(1+$H$10)*$H38," ") -> 15806.241 | J38: =IF($B38<>"",IF(OR($B38="",H38=0),0,$I38/$I$51),"") -> 0.0023596258
B39: 27 | C39: =IF($B39<>"",VLOOKUP($B39,PLANILHA_SINTÉTICA!$E:$P,3,0),"") -> PAISAGISMO, SINALIZAÇÃO VIÁRIA E MOBILIÁRIO URBANO | F39: =IF($B39<>"",VLOOKUP($B39,PLANILHA_SINTÉTICA!$E:$P,9,0),"") -> 29173.31 | G39: =IF($B39<>"",VLOOKUP($B39,PLANILHA_SINTÉTICA!$E:$P,10,0),"") -> 10829.59 | H39: =IF($B39<>"",VLOOKUP($B39,PLANILHA_SINTÉTICA!$E:$P,12,0),"") -> 40002.9 | I39: =IF($B39<>"",(1+$H$10)*$H39," ") -> 48152.955 | J39: =IF($B39<>"",IF(OR($B39="",H39=0),0,$I39/$I$51),"") -> 0.0071884868
B40: 28 | C40: =IF($B40<>"",VLOOKUP($B40,PLANILHA_SINTÉTICA!$E:$P,3,0),"") -> CANTEIRO DE OBRAS - BARRACÕES | F40: =IF($B40<>"",VLOOKUP($B40,PLANILHA_SINTÉTICA!$E:$P,9,0),"") -> 77254.73 | G40: =IF($B40<>"",VLOOKUP($B40,PLANILHA_SINTÉTICA!$E:$P,10,0),"") -> 16097.24 | H40: =IF($B40<>"",VLOOKUP($B40,PLANILHA_SINTÉTICA!$E:$P,12,0),"") -> 93351.97 | I40: =IF($B40<>"",(1+$H$10)*$H40," ") -> 112371.18 | J40: =IF($B40<>"",IF(OR($B40="",H40=0),0,$I40/$I$51),"") -> 0.016775269
B41: 31 | C41: =IF($B41<>"",VLOOKUP($B41,PLANILHA_SINTÉTICA!$E:$P,3,0),"") -> SISTEMA DE TRATAMENTO DE EFLUENTES | F41: =IF($B41<>"",VLOOKUP($B41,PLANILHA_SINTÉTICA!$E:$P,9,0),"") -> 13857.64 | G41: =IF($B41<>"",VLOOKUP($B41,PLANILHA_SINTÉTICA!$E:$P,10,0),"") -> 1792.96 | H41: =IF($B41<>"",VLOOKUP($B41,PLANILHA_SINTÉTICA!$E:$P,12,0),"") -> 15650.6 | I41: =IF($B41<>"",(1+$H$10)*$H41," ") -> 18839.2 | J41: =IF($B41<>"",IF(OR($B41="",H41=0),0,$I41/$I$51),"") -> 0.0028123994
D42: TOTAL (R$) SERVIÇOS | F42: =SUMIF(F15:F41,">0",F15:F41) -> 3448257.8 | G42: =SUMIF(G15:G41,">0",G15:G41) -> 1124093.9 | H42: =SUMIF(H15:H41,">0",H15:H41) -> 4572351.6 | I42: =SUMIF(I15:I41,">0",I15:I41) -> 5503907 | J42: =SUMIF(J15:J41,">0",J15:J41) -> 0.82164766
C43: RESUMO DOS SERVIÇOS DE NATUREZA ESPECÍFICA
C44: IMPLANTAÇÃO | F44: =IF($B44<>"",VLOOKUP($B44,PLANILHA_SINTÉTICA!$E:$P,9,0),"") | G44: =IF($B44<>"",VLOOKUP($B44,PLANILHA_SINTÉTICA!$E:$P,10,0),"") | H44: =IF($B44<>"",VLOOKUP($B44,PLANILHA_SINTÉTICA!$E:$P,12,0),"") | I44: =IF($B44<>"",(1+$J$10)*$H44," ") | J44: =IF($B44<>"",IF(OR($B44="",H44=0),0,$I44/$I$51),"")
B45: 24 | C45: =IF($B45<>"",VLOOKUP($B45,PLANILHA_SINTÉTICA!$E:$P,3,0),"") -> GRUPO GERADOR | F45: =IF($B45<>"",VLOOKUP($B45,PLANILHA_SINTÉTICA!$E:$P,9,0),"") -> 174370.05 | G45: =IF($B45<>"",VLOOKUP($B45,PLANILHA_SINTÉTICA!$E:$P,10,0),"") -> 0 | H45: =IF($B45<>"",VLOOKUP($B45,PLANILHA_SINTÉTICA!$E:$P,12,0),"") -> 174370.05 | I45: =IF($B45<>"",(1+$J$10)*$H45," ") -> 193735.93 | J45: =IF($B45<>"",IF(OR($B45="",H45=0),0,$I45/$I$51),"") -> 0.02892176
B46: 25 | C46: =IF($B46<>"",VLOOKUP($B46,PLANILHA_SINTÉTICA!$E:$P,3,0),"") -> EQUIPAMENTOS CABEAMENTO ESTRUTURADO | F46: =IF($B46<>"",VLOOKUP($B46,PLANILHA_SINTÉTICA!$E:$P,9,0),"") -> 41801.59 | G46: =IF($B46<>"",VLOOKUP($B46,PLANILHA_SINTÉTICA!$E:$P,10,0),"") -> 8260.98 | H46: =IF($B46<>"",VLOOKUP($B46,PLANILHA_SINTÉTICA!$E:$P,12,0),"") -> 50062.57 | I46: =IF($B46<>"",(1+$J$10)*$H46," ") -> 55622.619 | J46: =IF($B46<>"",IF(OR($B46="",H46=0),0,$I46/$I$51),"") -> 0.0083035914
B47: 26 | C47: =IF($B47<>"",VLOOKUP($B47,PLANILHA_SINTÉTICA!$E:$P,3,0),"") -> EQUIPAMENTOS CHAMADA DE ENFERMAGEM | F47: =IF($B47<>"",VLOOKUP($B47,PLANILHA_SINTÉTICA!$E:$P,9,0),"") -> 5029.54 | G47: =IF($B47<>"",VLOOKUP($B47,PLANILHA_SINTÉTICA!$E:$P,10,0),"") -> 736.15 | H47: =IF($B47<>"",VLOOKUP($B47,PLANILHA_SINTÉTICA!$E:$P,12,0),"") -> 5765.69 | I47: =IF($B47<>"",(1+$J$10)*$H47," ") -> 6406.039 | J47: =IF($B47<>"",IF(OR($B47="",H47=0),0,$I47/$I$51),"") -> 0.00095632194
B48: 29 | C48: =IF($B48<>"",VLOOKUP($B48,PLANILHA_SINTÉTICA!$E:$P,3,0),"") -> INSTALAÇÃO DE CLIMATIZAÇÃO - EQUIPAMENTOS (FANCOIL, UTAS, VENTILADORES, EVAPORADORES, CONDENSADORES, COMANDO) | F48: =IF($B48<>"",VLOOKUP($B48,PLANILHA_SINTÉTICA!$E:$P,9,0),"") -> 674639.26 | G48: =IF($B48<>"",VLOOKUP($B48,PLANILHA_SINTÉTICA!$E:$P,10,0),"") -> 41725.3 | H48: =IF($B48<>"",VLOOKUP($B48,PLANILHA_SINTÉTICA!$E:$P,12,0),"") -> 716364.56 | I48: =IF($B48<>"",(1+$J$10)*$H48," ") -> 795925.43 | J48: =IF($B48<>"",IF(OR($B48="",H48=0),0,$I48/$I$51),"") -> 0.11881928
B49: 30 | C49: =IF($B49<>"",VLOOKUP($B49,PLANILHA_SINTÉTICA!$E:$P,3,0),"") -> INSTALAÇÃO DE GASES MEDICIAIS - EQUIPAMENTOS | F49: =IF($B49<>"",VLOOKUP($B49,PLANILHA_SINTÉTICA!$E:$P,9,0),"") -> 127182.5 | G49: =IF($B49<>"",VLOOKUP($B49,PLANILHA_SINTÉTICA!$E:$P,10,0),"") -> 1545.56 | H49: =IF($B49<>"",VLOOKUP($B49,PLANILHA_SINTÉTICA!$E:$P,12,0),"") -> 128728.06 | I49: =IF($B49<>"",(1+$J$10)*$H49," ") -> 143024.85 | J49: =IF($B49<>"",IF(OR($B49="",H49=0),0,$I49/$I$51),"") -> 0.021351385
D50: TOTAL (R$) NATUREZA ESPECIFICA | F50: =SUMIF(F44:F49,">0",F44:F49) -> 1023022.9 | G50: =SUMIF(G44:G49,">0",G44:G49) -> 52267.99 | H50: =SUMIF(H44:H49,">0",H44:H49) -> 1075290.9 | I50: =SUMIF(I44:I49,">0",I44:I49) -> 1194714.9 | J50: =SUMIF(J44:J49,">0",J44:J49) -> 0.17835234
B51: TOTAL (R$) GERAL DA OBRA | F51: =F42+F50 -> 4471280.7 | G51: =G42+G50 -> 1176361.8 | H51: =H42+H50 -> 5647642.5 | I51: =I42+I50 -> 6698621.8 | J51: =J42+J50 -> 1
B52: PERCENTAGEM (%) | F52: =IF(H51=0,0,F51/$H$51) -> 0.79170745 | G52: =IF(H51=0,0,G51/$H$51) -> 0.20829255 | H52: =F52+G52 -> 1 | I52: - | J52: -
...

Sheet SERVIÇOS
C1: SERVIÇOS DE EDIFICAÇÕES - NÃO DESONERADA RESOLUÇÃO SECID N° 027/2025 Referência SINAPI: FEVEREIRO de 2025 - Vigência: MARÇO de 2025
A2: GRUPO | B2: CODIGO | C2: DESCRIÇÃO DO SERVIÇO | D2: UNID. MEDIDA | E2: CUSTOS
E3: MATERIAL | F3: MÃO DE OBRA | G3: TOTAL
A5: Acessibilidade | B5: 104658 | C5: PISO PODOTÁTIL DE ALERTA OU DIRECIONAL, DE CONCRETO, ASSENTADO SOBRE ARGAMASSA. AF_03/2024 | D5: M2 | E5: 104.37 | F5: 42.6 | G5: 146.97
A6: Acessibilidade | B6: 105002 | C6: RAMPA DE ACESSIBILIDADE EM CONCRETO MOLDADO IN LOCO, EM CALÇADA NOVA COM LARGURA MAIOR OU IGUAL À 3,00 M, FCK 25MPA, COM PISO PODOTÁTIL. AF_03/2024 | D6: UN | E6: 447.96 | F6: 315.03 | G6: 762.99
A7: Acessibilidade | B7: 105004 | C7: RAMPA DE ACESSIBILIDADE EM CONCRETO MOLDADO IN LOCO, EM CALÇADA NOVA COM LARGURA MENOR À 3,00 M, FCK 25MPA, COM PISO PODOTÁTIL. AF_03/2024 | D7: M2 | E7: 76.35 | F7: 54.51 | G7: 130.86
A8: Acessibilidade | B8: 105003 | C8: RAMPA DE ACESSIBILIDADE EM CONCRETO MOLDADO IN LOCO, EM CALÇADA PRÉ EXISTENTE COM LARGURA MAIOR OU IGUAL À 3,00 M, FCK 25MPA, COM PISO PODOTÁTIL. AF_03/2024 | D8: UN | E8: 679.48 | F8: 618.21 | G8: 1297.69
A9: Acessibilidade | B9: 105005 | C9: RAMPA DE ACESSIBILIDADE EM CONCRETO MOLDADO IN LOCO, EM CALÇADA PRÉ EXISTENTE COM LARGURA MENOR À 3,00 M, FCK 25MPA, COM PISO PODOTÁTIL. AF_03/2024 | D9: M2 | E9: 119.21 | F9: 110.64 | G9: 229.85
A10: Acessibilidade | B10: 105000 | C10: RAMPA DE ACESSIBILIDADE PARA ACESSO A EDIFICAÇÕES COM INCLINAÇÃO DE 8,33% EM CONCRETO MOLDADO IN LOCO, COM LARGURA DE 1,20M, FCK 25MPA, NÃO ARMADA, COM JUNTA A CADA 2M COM CORTE À SECO. AF_03/2024 | D10: M | E10: 996.55 | F10: 529.32 | G10: 1525.87
A11: Acessibilidade | B11: 105001 | C11: RAMPA DE ACESSIBILIDADE PARA ACESSO A EDIFICAÇÕES COM INCLINAÇÃO DE 8,33% EM CONCRETO MOLDADO IN LOCO, COM LARGURA DE 1,50M, FCK 25MPA, NÃO ARMADA, COM JUNTA A CADA 2M COM CORTE À SECO. AF_03/2024 | D11: M | E11: 1020.82 | F11: 534.59 | G11: 1555.41
A12: Alvenaria Estrutural - Blocos Cerâmicos | B12: 89306 | C12: ALVENARIA ESTRUTURAL DE BLOCOS CERÂMICOS 14X19X29, (ESPESSURA DE 14 CM), UTILIZANDO COLHER DE PEDREIRO E ARGAMASSA DE ASSENTAMENTO COM PREPARO EM BETONEIRA. AF_03/2023 | D12: M2 | E12: 60.79 | F12: 47.33 | G12: 108.12
A13: Alvenaria Estrutural - Blocos Cerâmicos | B13: 89307 | C13: ALVENARIA ESTRUTURAL DE BLOCOS CERÂMICOS 14X19X29, (ESPESSURA DE 14 CM), UTILIZANDO COLHER DE PEDREIRO E ARGAMASSA DE ASSENTAMENTO COM PREPARO MANUAL. AF_03/2023 | D13: M2 | E13: 61.86 | F13: 49.05 | G13: 110.91
A14: Alvenaria Estrutural - Blocos Cerâmicos | B14: 89290 | C14: ALVENARIA ESTRUTURAL DE BLOCOS CERÂMICOS 14X19X29, (ESPESSURA DE 14 CM), UTILIZANDO PALHETA E ARGAMASSA DE ASSENTAMENTO COM PREPARO EM BETONEIRA. AF_03/2023 | D14: M2 | E14: 53.82 | F14: 33.98 | G14: 87.8
A15: Alvenaria Estrutural - Blocos Cerâmicos | B15: 89291 | C15: ALVENARIA ESTRUTURAL DE BLOCOS CERÂMICOS 14X19X29, (ESPESSURA DE 14 CM), UTILIZANDO PALHETA E ARGAMASSA DE ASSENTAMENTO COM PREPARO MANUAL. AF_03/2023 | D15: M2 | E15: 54.61 | F15: 35.27 | G15: 89.88
A16: Alvenaria Estrutural - Blocos Cerâmicos | B16: 89298 | C16: ALVENARIA ESTRUTURAL DE BLOCOS CERÂMICOS 14X19X39, (ESPESSURA DE 14 CM), UTILIZANDO COLHER DE PEDREIRO E ARGAMASSA DE ASSENTAMENTO COM PREPARO EM BETONEIRA. AF_03/2023 | D16: M2 | E16: 56.34 | F16: 35.1 | G16: 91.44
... A7801: Válvulas e Registros para Sistemas Prediais | B7801: 103017 | C7801: VÁLVULA DE RETENÇÃO, DE BRONZE, PÉ COM CRIVOS, ROSCÁVEL, 4" - FORNECIMENTO E INSTALAÇÃO. AF_08/2021 | D7801: UN | E7801: 1003.56 | F7801: 17.56 | G7801: 1021.12

Sheet INSUMOS
B1: INSUMOS DE EDIFICAÇÕES - NÃO DESONERADA RESOLUÇÃO SECID N° 027/2025 Referência SINAPI: FEVEREIRO de 2025 - Vigência: MARÇO de 2025
A2: CODIGO | B2: DESCRICAO DO INSUMO | C2: UNID. MEDIDA | D2: R$/UN
A3: 11270 | B3: ABRACADEIRA DE LATAO PARA FIXACAO DE CABO PARA-RAIO, DIMENSOES 32 X 24 X 24 MM | C3: UN | D3: 2.34
A4: 412 | B4: ABRACADEIRA DE NYLON PARA AMARRACAO DE CABOS, COMPRIMENTO DE *230* X *7,6* MM | C4: UN | D4: 1.02
A5: 414 | B5: ABRACADEIRA DE NYLON PARA AMARRACAO DE CABOS, COMPRIMENTO DE 100 X 2,5 MM | C5: UN | D5: 0.06
A6: 410 | B6: ABRACADEIRA DE NYLON PARA AMARRACAO DE CABOS, COMPRIMENTO DE 150 X *3,6* MM | C6: UN | D6: 0.15
A7: 411 | B7: ABRACADEIRA DE NYLON PARA AMARRACAO DE CABOS, COMPRIMENTO DE 200 X *4,6* MM | C7: UN | D7: 0.2
A8: 408 | B8: ABRACADEIRA DE NYLON PARA AMARRACAO DE CABOS, COMPRIMENTO DE 390 X *4,6* MM | C8: UN | D8: 0.99
A9: 39131 | B9: ABRACADEIRA EM ACO PARA AMARRACAO DE ELETRODUTOS, TIPO D, COM 1 1/2" E CUNHA DE FIXACAO | C9: UN | D9: 4.59
A10: 394 | B10: ABRACADEIRA EM ACO PARA AMARRACAO DE ELETRODUTOS, TIPO D, COM 1 1/2" E PARAFUSO DE FIXACAO | C10: UN | D10: 4.65
A11: 39130 | B11: ABRACADEIRA EM ACO PARA AMARRACAO DE ELETRODUTOS, TIPO D, COM 1 1/4" E CUNHA DE FIXACAO | C11: UN | D11: 4.19
A12: 395 | B12: ABRACADEIRA EM ACO PARA AMARRACAO DE ELETRODUTOS, TIPO D, COM 1 1/4" E PARAFUSO DE FIXACAO | C12: UN | D12: 4.48
A13: 39129 | B13: ABRACADEIRA EM ACO PARA AMARRACAO DE ELETRODUTOS, TIPO D, COM 1" E CUNHA DE FIXACAO | C13: UN | D13: 2.58
A14: 393 | B14: ABRACADEIRA EM ACO PARA AMARRACAO DE ELETRODUTOS, TIPO D, COM 1" E PARAFUSO DE FIXACAO | C14: UN | D14: 2.7
... A3382: 41096 | B3382: VIGIA DIURNO (MENSALISTA) | C3382: MES | D3382: 3755.13

Sheet PLANILHA_SINTÉTICA
A1: 1 | H1: PLANILHA DE SERVIÇOS SINTÉTICA NÃO DESONERADA
A2: =1+A1 -> 2 | G2: SECRETARIA DE ESTADO DAS CIDADES | M2: PROTOCOLO Nº: | N2: =IF('FOLHA FECHAMENTO'!K12<>"",'FOLHA FECHAMENTO'!K12," ")
A3: =1+A2 -> 3 | G3: DIRETORIA DE EDIFICAÇÕES | H3: ENDEREÇO: | I3: =IF(DADOS!D14<>"",DADOS!D14," ") -> RUA DO SOL, S/N - BAIRRO DO SOL - IMBAU/PR 84250-000 | M3: ORGÃO: | N3: =IF(DADOS!M12<>"",DADOS!M12," ") -> SESA | AC3: Nº de COLUNAS
A4: =1+A3 -> 4 | H4: MUNICIPIO: | I4: =IF(DADOS!$D$16<>"",DADOS!$D$16," ") -> IMBAÚ | M4: TIPO DE OBRA/SERVIÇO: | N4: =IF('FOLHA FECHAMENTO'!K10<>"",'FOLHA FECHAMENTO'!K10," ") -> CONSTRUÇÃO | Z4: TOTAL MEDIDO
A5: =1+A4 -> 5 | G5: TABELAS DE REFERÊNCIA: SINAPI/PR (FEVEREIRO/2025) E SECID (MARÇO/2025) NÃO DESONERADA | H5: LEVANTAMENTO Nº: | J5: =IF('FOLHA FECHAMENTO'!C15<>"",'FOLHA FECHAMENTO'!C15," ") -> REV00 | M5: ART N°: | N5: =IF(DADOS!D30<>"",DADOS!D30," ") -> 1720261230534 | U5: =((2+$AC$5)-COLUMNS(U$7:$Z$7))/2&"ª" -> 1ª | W5: =((2+$AC$5)-COLUMNS(W$7:$Z$7))/2&"ª" -> 2ª | Y5: =((2+$AC$5)-COLUMNS(Y$7:$Z$7))/2&"ª" -> 3ª | Z5: ACUMULADO | AC5: =COLUMNS($Y7:$AD7) -> 6
A6: =1+A5 -> 6 | G6: =IF(DADOS!D12<>"",DADOS!D12," ") -> PRONTO ATENDIMENTO MUNICIPAL | H6: RESPONSÁVEL TÉCNICO: | J6: =IF(DADOS!D24<>"",DADOS!D24," ") -> Erick William da Silva Damaceno | M6: REG. CREA: | N6: =IF(DADOS!D28<>"",DADOS!D28," ") -> 211052/D | T6: MEDIÇÃO | V6: MEDIÇÃO | X6: MEDIÇÃO | Z6: 1ª | AA6: MEDIÇÃO
A7: =1+A6 -> 7 | T7: DATA: | U7: xx/xx/xxxx | V7: DATA: | W7: xx/xx/xxxx | X7: DATA: | Y7: xx/xx/xxxx | Z7: DATA: | AA7: =HLOOKUP(Z6,$T$5:$Z$8,3) -> xx/xx/xxxx | AD7: VALOR R$ A MEDIR / DIFERENÇA DE TRUNCARONDAMENTO
A8: =1+A7 -> 8 | E8: ITEM | F8: CÓDIGO DO SERVIÇO | G8: DESCRIÇÃO DO SERVIÇO | H8: UNIDADE DE MEDIDA | I8: QUANTI DADE | J8: MATERIAL | K8: MÃO DE OBRA | L8: CUSTO UNITÁRIO | M8: MATERIAL | N8: MÃO DE OBRA | O8: CUSTO TOTAL | P8: SUBTOTAL | T8: QUANT. | U8: CUSTO | V8: QUANT. | W8: CUSTO | X8: QUANT. | Y8: CUSTO | Z8: QUANT. | AA8: CUSTO | AC8: QUANTIDADE A MEDIR
A9: =1+A8 -> 9 | G9: CONSTRUÇÃO EDIFICAÇÃO PADRÃO | U9: =IF(OR(T9="",$O9=""),"",(T9/$I9)*$O9) | W9: =IF(OR(V9="",$O9=""),"",(V9/$I9)*$O9) | Y9: =IF(OR(X9="",$O9=""),"",(X9/$I9)*$O9) | Z9: =SUMIF($T$8:Y$1018,"QUANT.",T9:Y9) -> 0 | AA9: =SUMIF($T$8:$Y$1018,"CUSTO",T9:Y9) -> 0 | AB9: =IF(F9<>"",IF(AA9=0,"MEDIR",IF(O9-AA9=0,"OK",IF(O9-AA9>0,"MEDIR","ALERTA!"))),"") | AC9: =IF(Z9="",0,I9-Z9) -> 0 | AD9: =IF(AA9="",0,O9-AA9) -> 0
A10: =1+A9 -> 10 | C10: =+E10 -> 1 | E10: 1 | G10: ADMINISTRAÇÃO LOCAL | M10: =TRUNC(SUMIF(M11,">0",M11),2) -> 6517 | N10: =TRUNC(SUMIF(N11,">0",N11),2) -> 172946 | P10: =SUMIF(O11,">0",O11) -> 179463 | U10: =IF(OR(T10="",$O10=""),"",(T10/$I10)*$O10) | W10: =IF(OR(V10="",$O10=""),"",(V10/$I10)*$O10) | Y10: =IF(OR(X10="",$O10=""),"",(X10/$I10)*$O10) | Z10: =SUMIF($T$8:Y$1018,"QUANT.",T10:Y10) -> 0 | AA10: =SUMIF($T$8:$Y$1018,"CUSTO",T10:Y10) -> 0 | AB10: =IF(F10<>"",IF(AA10=0,"MEDIR",IF(O10-AA10=0,"OK",IF(O10-AA10>0,"MEDIR","ALERTA!"))),"") | AC10: =IF(Z10="",0,I10-Z10) -> 0 | AD10: =IF(AA10="",0,O10-AA10) -> 0
A11: =1+A10 -> 11 | C11: =+C10 -> 1 | D11: =1+D10 -> 1 | E11: =C11&"."&D11 -> 1.1 | F11: C100002 | G11: =IF($F11="","",IFERROR(VLOOKUP($F11,SERVIÇOS!$B:$G,2,0),IFERROR(VLOOKUP($F11,'COMPOSIÇÕES COMPLEMENTARES '!$D:$L,2,0),IFERROR(VLOOKUP($F11,INSUMOS!$A:$D,2,0),"")))) -> ADMINISTRAÇÃO DE OBRA - EQUIPE DE APOIO | H11: =IF($F11="","",IFERROR(VLOOKUP($F11,SERVIÇOS!$B:$G,3,0),IFERROR(VLOOKUP($F11,'COMPOSIÇÕES COMPLEMENTARES '!$D:$L,3,0),IFERROR(VLOOKUP($F11,INSUMOS!$A:$D,3,0),"")))) -> % | I11: 100 | J11: =IF($F11="","",IFERROR(VLOOKUP($F11,SERVIÇOS!$B:$G,4,0),IFERROR(VLOOKUP($F11,'COMPOSIÇÕES COMPLEMENTARES '!$D:$L,6,0),IFERROR(VLOOKUP($F11,INSUMOS!$A:$D,4,0),"")))) -> 65.17 | K11: =IF($F11="","",IFERROR(VLOOKUP($F11,SERVIÇOS!$B:$G,5,0),IFERROR(VLOOKUP($F11,'COMPOSIÇÕES COMPLEMENTARES '!$D:$L,7,0),0))) -> 1729.46 | L11: =IF(I11="","",J11+K11) -> 1794.63 | M11: =IF(I11="","",TRUNC((I11*J11),2)) -> 6517 | N11: =IF(I11="","",TRUNC((I11*K11),2)) -> 172946 | O11: =IF(I11="","",TRUNC((M11+N11),2)) -> 179463 | U11: =IF(OR(T11="",$O11=""),"",(T11/$I11)*$O11) | W11: =IF(OR(V11="",$O11=""),"",(V11/$I11)*$O11) | Y11: =IF(OR(X11="",$O11=""),"",(X11/$I11)*$O11) | Z11: =SUMIF($T$8:Y$1018,"QUANT.",T11:Y11) -> 0 | AA11: =SUMIF($T$8:$Y$1018,"CUSTO",T11:Y11) -> 0 | AB11: =IF(F11<>"",IF(AA11=0,"MEDIR",IF(O11-AA11=0,"OK",IF(O11-AA11>0,"MEDIR","ALERTA!"))),"") -> MEDIR | AC11: =IF(Z11="",0,I11-Z11) -> 100 | AD11: =IF(AA11="",0,O11-AA11) -> 179463
A12: =1+A11 -> 12 | C12: =+E12 -> 2 | E12: 2 | G12: SERVIÇOS PRELIMINARES | L12: =IF(I12="","",J12+K12) | M12: =TRUNC(SUMIF(M13:M20,">0",M13:M20),2) -> 21162.82 | N12: =TRUNC(SUMIF(N13:N20,">0",N13:N20),2) -> 10513.74 | P12: =SUMIF(O13:O20,">0",O13:O20) -> 31676.56 | U12: =IF(OR(T12="",$O12=""),"",(T12/$I12)*$O12) | W12: =IF(OR(V12="",$O12=""),"",(V12/$I12)*$O12) | Y12: =IF(OR(X12="",$O12=""),"",(X12/$I12)*$O12) | Z12: =SUMIF($T$8:Y$1018,"QUANT.",T12:Y12) -> 0 | AA12: =SUMIF($T$8:$Y$1018,"CUSTO",T12:Y12) -> 0 | AB12: =IF(F12<>"",IF(AA12=0,"MEDIR",IF(O12-AA12=0,"OK",IF(O12-AA12>0,"MEDIR","ALERTA!"))),"") | AC12: =IF(Z12="",0,I12-Z12) -> 0 | AD12: =IF(AA12="",0,O12-AA12) -> 0
A13: =1+A12 -> 13 | C13: =+E13 -> 2.1 | E13: 2.1 | G13: PLACA DE OBRAS - LOCAÇÃO DE OBRA - TAPUME - ANDAIMES - FACHADEIRO | L13: =IF(I13="","",J13+K13) | U13: =IF(OR(T13="",$O13=""),"",(T13/$I13)*$O13) | W13: =IF(OR(V13="",$O13=""),"",(V13/$I13)*$O13) | Y13: =IF(OR(X13="",$O13=""),"",(X13/$I13)*$O13) | Z13: =SUMIF($T$8:Y$1018,"QUANT.",T13:Y13) -> 0 | AA13: =SUMIF($T$8:$Y$1018,"CUSTO",T13:Y13) -> 0 | AB13: =IF(F13<>"",IF(AA13=0,"MEDIR",IF(O13-AA13=0,"OK",IF(O13-AA13>0,"MEDIR","ALERTA!"))),"") | AC13: =IF(Z13="",0,I13-Z13) -> 0 | AD13: =IF(AA13="",0,O13-AA13) -> 0
A14: =1+A13 -> 14 | C14: =+C13 -> 2.1 | D14: =1+D13 -> 1 | E14: =C14&"."&D14 -> 2.1.1 | F14: C100001 | G14: =IF($F14="","",IFERROR(VLOOKUP($F14,SERVIÇOS!$B:$G,2,0),IFERROR(VLOOKUP($F14,'COMPOSIÇÕES COMPLEMENTARES '!$D:$L,2,0),IFERROR(VLOOKUP($F14,INSUMOS!$A:$D,2,0),"")))) -> PLACA DE OBRA EM CHAPA DE ACO GALVANIZADO | H14: =IF($F14="","",IFERROR(VLOOKUP($F14,SERVIÇOS!$B:$G,3,0),IFERROR(VLOOKUP($F14,'COMPOSIÇÕES COMPLEMENTARES '!$D:$L,3,0),IFERROR(VLOOKUP($F14,INSUMOS!$A:$D,3,0),"")))) -> M2 | I14: 2.5 | J14: =IF($F14="","",IFERROR(VLOOKUP($F14,SERVIÇOS!$B:$G,4,0),IFERROR(VLOOKUP($F14,'COMPOSIÇÕES COMPLEMENTARES '!$D:$L,6,0),IFERROR(VLOOKUP($F14,INSUMOS!$A:$D,4,0),"")))) -> 468.7 | K14: =IF($F14="","",IFERROR(VLOOKUP($F14,SERVIÇOS!$B:$G,5,0),IFERROR(VLOOKUP($F14,'COMPOSIÇÕES COMPLEMENTARES '!$D:$L,7,0),0))) -> 67.2 | L14: =IF(I14="","",J14+K14) -> 535.9 | M14: =IF(I14="","",TRUNC((I14*J14),2)) -> 1171.75 | N14: =IF(I14="","",TRUNC((I14*K14),2)) -> 168 | O14: =IF(I14="","",TRUNC((M14+N14),2)) -> 1339.75 | U14: =IF(OR(T14="",$O14=""),"",(T14/$I14)*$O14) | W14: =IF(OR(V14="",$O14=""),"",(V14/$I14)*$O14) | Y14: =IF(OR(X14="",$O14=""),"",(X14/$I14)*$O14) | Z14: =SUMIF($T$8:Y$1018,"QUANT.",T14:Y14) -> 0 | AA14: =SUMIF($T$8:$Y$1018,"CUSTO",T14:Y14) -> 0 | AB14: =IF(F14<>"",IF(AA14=0,"MEDIR",IF(O14-AA14=0,"OK",IF(O14-AA14>0,"MEDIR","ALERTA!"))),"") -> MEDIR | AC14: =IF(Z14="",0,I14-Z14) -> 2.5 | AD14: =IF(AA14="",0,O14-AA14) -> 1339.75
A15: =1+A14 -> 15 | C15: =+C14 -> 2.1 | D15: =1+D14 -> 2 | E15: =C15&"."&D15 -> 2.1.2 | F15: C100020 | G15: =IF($F15="","",IFERROR(VLOOKUP($F15,SERVIÇOS!$B:$G,2,0),IFERROR(VLOOKUP($F15,'COMPOSIÇÕES COMPLEMENTARES '!$D:$L,2,0),IFERROR(VLOOKUP($F15,INSUMOS!$A:$D,2,0),"")))) -> LOCAÇÃO CONVENCIONAL DE OBRA, ATRAVÉS DE GABARITO DE TABUAS CORRIDAS PONTALETADAS, COM REAPROVEITAMENTO DE 3 VEZES | H15: =IF($F15="","",IFERROR(VLOOKUP($F15,SERVIÇOS!$B:$G,3,0),IFERROR(VLOOKUP($F15,'COMPOSIÇÕES COMPLEMENTARES '!$D:$L,3,0),IFERROR(VLOOKUP($F15,INSUMOS!$A:$D,3,0),"")))) -> M2 | I15: 755.45 | J15: =IF($F15="","",IFERROR(VLOOKUP($F15,SERVIÇOS!$B:$G,4,0),IFERROR(VLOOKUP($F15,'COMPOSIÇÕES COMPLEMENTARES '!$D:$L,6,0),IFERROR(VLOOKUP($F15,INSUMOS!$A:$D,4,0),"")))) -> 6.7 | K15: =IF($F15="","",IFERROR(VLOOKUP($F15,SERVIÇOS!$B:$G,5,0),IFERROR(VLOOKUP($F15,'COMPOSIÇÕES COMPLEMENTARES '!$D:$L,7,0),0))) -> 4.68 | L15: =IF(I15="","",J15+K15) -> 11.38 | M15: =IF(I15="","",TRUNC((I15*J15),2)) -> 5061.51 | N15: =IF(I15="","",TRUNC((I15*K15),2)) -> 3535.5 | O15: =IF(I15="","",TRUNC((M15+N15),2)) -> 8597.01 | U15: =IF(OR(T15="",$O15=""),"",(T15/$I15)*$O15) | W15: =IF(OR(V15="",$O15=""),"",(V15/$I15)*$O15) | Y15: =IF(OR(X15="",$O15=""),"",(X15/$I15)*$O15) | Z15: =SUMIF($T$8:Y$1018,"QUANT.",T15:Y15) -> 0 | AA15: =SUMIF($T$8:$Y$1018,"CUSTO",T15:Y15) -> 0 | AB15: =IF(F15<>"",IF(AA15=0,"MEDIR",IF(O15-AA15=0,"OK",IF(O15-AA15>0,"MEDIR","ALERTA!"))),"") -> MEDIR | AC15: =IF(Z15="",0,I15-Z15) -> 755.45 | AD15: =IF(AA15="",0,O15-AA15) -> 8597.01
A16: =1+A15 -> 16 | C16: =+C15 -> 2.1 | D16: =1+D15 -> 3 | E16: =C16&"."&D16 -> 2.1.3 | F16: 98459 | G16: =IF($F16="","",IFERROR(VLOOKUP($F16,SERVIÇOS!$B:$G,2,0),IFERROR(VLOOKUP($F16,'COMPOSIÇÕES COMPLEMENTARES '!$D:$L,2,0),IFERROR(VLOOKUP($F16,INSUMOS!$A:$D,2,0),"")))) -> TAPUME COM TELHA METÁLICA. AF_03/2024 | H16: =IF($F16="","",IFERROR(VLOOKUP($F16,SERVIÇOS!$B:$G,3,0),IFERROR(VLOOKUP($F16,'COMPOSIÇÕES COMPLEMENTARES '!$D:$L,3,0),IFERROR(VLOOKUP($F16,INSUMOS!$A:$D,3,0),"")))) -> M2 | I16: 197.8 | J16: =IF($F16="","",IFERROR(VLOOKUP($F16,SERVIÇOS!$B:$G,4,0),IFERROR(VLOOKUP($F16,'COMPOSIÇÕES COMPLEMENTARES '!$D:$L,6,0),IFERROR(VLOOKUP($F16,INSUMOS!$A:$D,4,0),"")))) -> 62.82 | K16: =IF($F16="","",IFERROR(VLOOKUP($F16,SERVIÇOS!$B:$G,5,0),IFERROR(VLOOKUP($F16,'COMPOSIÇÕES COMPLEMENTARES '!$D:$L,7,0),0))) -> 32.06 | L16: =IF(I16="","",J16+K16) -> 94.88 | M16: =IF(I16="","",TRUNC((I16*J16),2)) -> 12425.79 | N16: =IF(I16="","",TRUNC((I16*K16),2)) -> 6341.46 | O16: =IF(I16="","",TRUNC((M16+N16),2)) -> 18767.25 | U16: =IF(OR(T16="",$O16=""),"",(T16/$I16)*$O16) | W16: =IF(OR(V16="",$O16=""),"",(V16/$I16)*$O16) | Y16: =IF(OR(X16="",$O16=""),"",(X16/$I16)*$O16) | Z16: =SUMIF($T$8:Y$1018,"QUANT.",T16:Y16) -> 0 | AA16: =SUMIF($T$8:$Y$1018,"CUSTO",T16:Y16) -> 0 | AB16: =IF(F16<>"",IF(AA16=0,"MEDIR",IF(O16-AA16=0,"OK",IF(O16-AA16>0,"MEDIR","ALERTA!"))),"") -> MEDIR | AC16: =IF(Z16="",0,I16-Z16) -> 197.8 | AD16: =IF(AA16="",0,O16-AA16) -> 18767.25
A17: =1+A16 -> 17 | C17: =+E17 -> 2.2 | E17: 2.2 | G17: LIGAÇÃO E INSTALAÇÕES PROVISÓRIAS ÁGUA | L17: =IF(I17="","",J17+K17) | U17: =IF(OR(T17="",$O17=""),"",(T17/$I17)*$O17) | W17: =IF(OR(V17="",$O17=""),"",(V17/$I17)*$O17) | Y17: =IF(OR(X17="",$O17=""),"",(X17/$I17)*$O17) | Z17: =SUMIF($T$8:Y$1018,"QUANT.",T17:Y17) -> 0 | AA17: =SUMIF($T$8:$Y$1018,"CUSTO",T17:Y17) -> 0 | AB17: =IF(F17<>"",IF(AA17=0,"MEDIR",IF(O17-AA17=0,"OK",IF(O17-AA17>0,"MEDIR","ALERTA!"))),"") | AC17: =IF(Z17="",0,I17-Z17) -> 0 | AD17: =IF(AA17="",0,O17-AA17) -> 0
A18: =1+A17 -> 18 | C18: =+C17 -> 2.2 | D18: =1+D17 -> 1 | E18: =C18&"."&D18 -> 2.2.1 | F18: 95635 | G18: =IF($F18="","",IFERROR(VLOOKUP($F18,SERVIÇOS!$B:$G,2,0),IFERROR(VLOOKUP($F18,'COMPOSIÇÕES COMPLEMENTARES '!$D:$L,2,0),IFERROR(VLOOKUP($F18,INSUMOS!$A:$D,2,0),"")))) -> KIT CAVALETE PARA MEDIÇÃO DE ÁGUA - ENTRADA PRINCIPAL, EM PVC 25 MM (3/4") - FORNECIMENTO E INSTALAÇÃO (EXCLUSIVE HIDRÔMETRO). AF_03/2024 | H18: =IF($F18="","",IFERROR(VLOOKUP($F18,SERVIÇOS!$B:$G,3,0),IFERROR(VLOOKUP($F18,'COMPOSIÇÕES COMPLEMENTARES '!$D:$L,3,0),IFERROR(VLOOKUP($F18,INSUMOS!$A:$D,3,0),"")))) -> UN | I18: 1 | J18: =IF($F18="","",IFERROR(VLOOKUP($F18,SERVIÇOS!$B:$G,4,0),IFERROR(VLOOKUP($F18,'COMPOSIÇÕES COMPLEMENTARES '!$D:$L,6,0),IFERROR(VLOOKUP($F18,INSUMOS!$A:$D,4,0),"")))) -> 144.9 | K18: =IF($F18="","",IFERROR(VLOOKUP($F18,SERVIÇOS!$B:$G,5,0),IFERROR(VLOOKUP($F18,'COMPOSIÇÕES COMPLEMENTARES '!$D:$L,7,0),0))) -> 72.46 | L18: =IF(I18="","",J18+K18) -> 217.36 | M18: =IF(I18="","",TRUNC((I18*J18),2)) -> 144.9 | N18: =IF(I18="","",TRUNC((I18*K18),2)) -> 72.46 | O18: =IF(I18="","",TRUNC((M18+N18),2)) -> 217.36 | U18: =IF(OR(T18="",$O18=""),"",(T18/$I18)*$O18) | W18: =IF(OR(V18="",$O18=""),"",(V18/$I18)*$O18) | Y18: =IF(OR(X18="",$O18=""),"",(X18/$I18)*$O18) | Z18: =SUMIF($T$8:Y$1018,"QUANT.",T18:Y18) -> 0 | AA18: =SUMIF($T$8:$Y$1018,"CUSTO",T18:Y18) -> 0 | AB18: =IF(F18<>"",IF(AA18=0,"MEDIR",IF(O18-AA18=0,"OK",IF(O18-AA18>0,"MEDIR","ALERTA!"))),"") -> MEDIR | AC18: =IF(Z18="",0,I18-Z18) -> 1 | AD18: =IF(AA18="",0,O18-AA18) -> 217.36
A19: =1+A18 -> 19 | C19: =+E19 -> 2.3 | E19: 2.3 | G19: LIGAÇÃO PROVISÓRIA ELÉTRICA | U19: =IF(OR(T19="",$O19=""),"",(T19/$I19)*$O19) | W19: =IF(OR(V19="",$O19=""),"",(V19/$I19)*$O19) | Y19: =IF(OR(X19="",$O19=""),"",(X19/$I19)*$O19) | Z19: =SUMIF($T$8:Y$1018,"QUANT.",T19:Y19) -> 0 | AA19: =SUMIF($T$8:$Y$1018,"CUSTO",T19:Y19) -> 0 | AB19: =IF(F19<>"",IF(AA19=0,"MEDIR",IF(O19-AA19=0,"OK",IF(O19-AA19>0,"MEDIR","ALERTA!"))),"") | AC19: =IF(Z19="",0,I19-Z19) -> 0 | AD19: =IF(AA19="",0,O19-AA19) -> 0
A20: =1+A19 -> 20 | C20: =+C19 -> 2.3 | D20: =1+D19 -> 1 | E20: =C20&"."&D20 -> 2.3.1 | F20: C100025 | G20: =IF($F20="","",IFERROR(VLOOKUP($F20,SERVIÇOS!$B:$G,2,0),IFERROR(VLOOKUP($F20,'COMPOSIÇÕES COMPLEMENTARES '!$D:$L,2,0),IFERROR(VLOOKUP($F20,INSUMOS!$A:$D,2,0),"")))) -> ENTRADA PROVISORIA DE ENERGIA ELETRICA AÉREA TRIFASICA 40A EM POSTE DE MADEIRA | H20: =IF($F20="","",IFERROR(VLOOKUP($F20,SERVIÇOS!$B:$G,3,0),IFERROR(VLOOKUP($F20,'COMPOSIÇÕES COMPLEMENTARES '!$D:$L,3,0),IFERROR(VLOOKUP($F20,INSUMOS!$A:$D,3,0),"")))) -> CJ | I20: 1 | J20: =IF($F20="","",IFERROR(VLOOKUP($F20,SERVIÇOS!$B:$G,4,0),IFERROR(VLOOKUP($F20,'COMPOSIÇÕES COMPLEMENTARES '!$D:$L,6,0),IFERROR(VLOOKUP($F20,INSUMOS!$A:$D,4,0),"")))) -> 2358.87 | K20: =IF($F20="","",IFERROR(VLOOKUP($F20,SERVIÇOS!$B:$G,5,0),IFERROR(VLOOKUP($F20,'COMPOSIÇÕES COMPLEMENTARES '!$D:$L,7,0),0))) -> 396.32 | L20: =IF(I20="","",J20+K20) -> 2755.19 | M20: =IF(I20="","",TRUNC((I20*J20),2)) -> 2358.87 | N20: =IF(I20="","",TRUNC((I20*K20),2)) -> 396.32 | O20: =IF(I20="","",TRUNC((M20+N20),2)) -> 2755.19 | U20: =IF(OR(T20="",$O20=""),"",(T20/$I20)*$O20) | W20: =IF(OR(V20="",$O20=""),"",(V20/$I20)*$O20) | Y20: =IF(OR(X20="",$O20=""),"",(X20/$I20)*$O20) | Z20: =SUMIF($T$8:Y$1018,"QUANT.",T20:Y20) -> 0 | AA20: =SUMIF($T$8:$Y$1018,"CUSTO",T20:Y20) -> 0 | AB20: =IF(F20<>"",IF(AA20=0,"MEDIR",IF(O20-AA20=0,"OK",IF(O20-AA20>0,"MEDIR","ALERTA!"))),"") -> MEDIR | AC20: =IF(Z20="",0,I20-Z20) -> 1 | AD20: =IF(AA20="",0,O20-AA20) -> 2755.19
A21: =1+A20 -> 21 | C21: =+E21 -> 3 | E21: 3 | G21: MOVIMENTO DE TERRA | M21: =TRUNC(SUMIF(M22:M27,">0",M22:M27),2) -> 4527.82 | N21: =TRUNC(SUMIF(N22:N27,">0",N22:N27),2) -> 7211.91 | P21: =SUMIF(O22:O27,">0",O22:O27) -> 11739.73 | U21: =IF(OR(T21="",$O21=""),"",(T21/$I21)*$O21) | W21: =IF(OR(V21="",$O21=""),"",(V21/$I21)*$O21) | Y21: =IF(OR(X21="",$O21=""),"",(X21/$I21)*$O21) | Z21: =SUMIF($T$8:Y$1018,"QUANT.",T21:Y21) -> 0 | AA21: =SUMIF($T$8:$Y$1018,"CUSTO",T21:Y21) -> 0 | AB21: =IF(F21<>"",IF(AA21=0,"MEDIR",IF(O21-AA21=0,"OK",IF(O21-AA21>0,"MEDIR","ALERTA!"))),"") | AC21: =IF(Z21="",0,I21-Z21) -> 0 | AD21: =IF(AA21="",0,O21-AA21) -> 0
A22: =1+A21 -> 22 | C22: =+E22 -> 3.1 | E22: 3.1 | G22: FUNDAÇÕES | U22: =IF(OR(T22="",$O22=""),"",(T22/$I22)*$O22) | W22: =IF(OR(V22="",$O22=""),"",(V22/$I22)*$O22) | Y22: =IF(OR(X22="",$O22=""),"",(X22/$I22)*$O22) | Z22: =SUMIF($T$8:Y$1018,"QUANT.",T22:Y22) -> 0 | AA22: =SUMIF($T$8:$Y$1018,"CUSTO",T22:Y22) -> 0 | AB22: =IF(F22<>"",IF(AA22=0,"MEDIR",IF(O22-AA22=0,"OK",IF(O22-AA22>0,"MEDIR","ALERTA!"))),"") | AC22: =IF(Z22="",0,I22-Z22) -> 0 | AD22: =IF(AA22="",0,O22-AA22) -> 0
A23: =1+A22 -> 23 | C23: =+C22 -> 3.1 | D23: =1+D22 -> 1 | E23: =C23&"."&D23 -> 3.1.1 | F23: 93358 | G23: =IF($F23="","",IFERROR(VLOOKUP($F23,SERVIÇOS!$B:$G,2,0),IFERROR(VLOOKUP($F23,'COMPOSIÇÕES COMPLEMENTARES '!$D:$L,2,0),IFERROR(VLOOKUP($F23,INSUMOS!$A:$D,2,0),"")))) -> ESCAVAÇÃO MANUAL DE VALA. AF_09/2024 | H23: =IF($F23="","",IFERROR(VLOOKUP($F23,SERVIÇOS!$B:$G,3,0),IFERROR(VLOOKUP($F23,'COMPOSIÇÕES COMPLEMENTARES '!$D:$L,3,0),IFERROR(VLOOKUP($F23,INSUMOS!$A:$D,3,0),"")))) -> M3 | I23: 69.43 | J23: =IF($F23="","",IFERROR(VLOOKUP($F23,SERVIÇOS!$B:$G,4,0),IFERROR(VLOOKUP($F23,'COMPOSIÇÕES COMPLEMENTARES '!$D:$L,6,0),IFERROR(VLOOKUP($F23,INSUMOS!$A:$D,4,0),"")))) -> 36.37 | K23: =IF($F23="","",IFERROR(VLOOKUP($F23,SERVIÇOS!$B:$G,5,0),IFERROR(VLOOKUP($F23,'COMPOSIÇÕES COMPLEMENTARES '!$D:$L,7,0),0))) -> 77.2 | L23: =IF(I23="","",J23+K23) -> 113.57 | M23: =IF(I23="","",TRUNC((I23*J23),2)) -> 2525.16 | N23: =IF(I23="","",TRUNC((I23*K23),2)) -> 5359.99 | O23: =IF(I23="","",TRUNC((M23+N23),2)) -> 7885.15 | U23: =IF(OR(T23="",$O23=""),"",(T23/$I23)*$O23) | W23: =IF(OR(V23="",$O23=""),"",(V23/$I23)*$O23) | Y23: =IF(OR(X23="",$O23=""),"",(X23/$I23)*$O23) | Z23: =SUMIF($T$8:Y$1018,"QUANT.",T23:Y23) -> 0 | AA23: =SUMIF($T$8:$Y$1018,"CUSTO",T23:Y23) -> 0 | AB23: =IF(F23<>"",IF(AA23=0,"MEDIR",IF(O23-AA23=0,"OK",IF(O23-AA23>0,"MEDIR","ALERTA!"))),"") -> MEDIR | AC23: =IF(Z23="",0,I23-Z23) -> 69.43 | AD23: =IF(AA23="",0,O23-AA23) -> 7885.15
A24: =1+A23 -> 24 | C24: =+C23 -> 3.1 | D24: =1+D23 -> 2 | E24: =C24&"."&D24 -> 3.1.2 | F24: 101616 | G24: =IF($F24="","",IFERROR(VLOOKUP($F24,SERVIÇOS!$B:$G,2,0),IFERROR(VLOOKUP($F24,'COMPOSIÇÕES COMPLEMENTARES '!$D:$L,2,0),IFERROR(VLOOKUP($F24,INSUMOS!$A:$D,2,0),"")))) -> PREPARO DE FUNDO DE VALA COM LARGURA MENOR QUE 1,5 M (ACERTO DO SOLO NATURAL). AF_08/2020 | H24: =IF($F24="","",IFERROR(VLOOKUP($F24,SERVIÇOS!$B:$G,3,0),IFERROR(VLOOKUP($F24,'COMPOSIÇÕES COMPLEMENTARES '!$D:$L,3,0),IFERROR(VLOOKUP($F24,INSUMOS!$A:$D,3,0),"")))) -> M2 | I24: 140.51 | J24: =IF($F24="","",IFERROR(VLOOKUP($F24,SERVIÇOS!$B:$G,4,0),IFERROR(VLOOKUP($F24,'COMPOSIÇÕES COMPLEMENTARES '!$D:$L,6,0),IFERROR(VLOOKUP($F24,INSUMOS!$A:$D,4,0),"")))) -> 2.46 | K24: =IF($F24="","",IFERROR(VLOOKUP($F24,SERVIÇOS!$B:$G,5,0),IFERROR(VLOOKUP($F24,'COMPOSIÇÕES COMPLEMENTARES '!$D:$L,7,0),0))) -> 5.96 | L24: =IF(I24="","",J24+K24) -> 8.42 | M24: =IF(I24="","",TRUNC((I24*J24),2)) -> 345.65 | N24: =IF(I24="","",TRUNC((I24*K24),2)) -> 837.43 | O24: =IF(I24="","",TRUNC((M24+N24),2)) -> 1183.08 | U24: =IF(OR(T24="",$O24=""),"",(T24/$I24)*$O24) | W24: =IF(OR(V24="",$O24=""),"",(V24/$I24)*$O24) | Y24: =IF(OR(X24="",$O24=""),"",(X24/$I24)*$O24) | Z24: =SUMIF($T$8:Y$1018,"QUANT.",T24:Y24) -> 0 | AA24: =SUMIF($T$8:$Y$1018,"CUSTO",T24:Y24) -> 0 | AB24: =IF(F24<>"",IF(AA24=0,"MEDIR",IF(O24-AA24=0,"OK",IF(O24-AA24>0,"MEDIR","ALERTA!"))),"") -> MEDIR | AC24: =IF(Z24="",0,I24-Z24) -> 140.51 | AD24: =IF(AA24="",0,O24-AA24) -> 1183.08
A25: =1+A24 -> 25 | C25: =+C24 -> 3.1 | D25: =1+D24 -> 3 | E25: =C25&"."&D25 -> 3.1.3 | F25: 93382 | G25: =IF($F25="","",IFERROR(VLOOKUP($F25,SERVIÇOS!$B:$G,2,0),IFERROR(VLOOKUP($F25,'COMPOSIÇÕES COMPLEMENTARES '!$D:$L,2,0),IFERROR(VLOOKUP($F25,INSUMOS!$A:$D,2,0),"")))) -> REATERRO MANUAL DE VALAS, COM COMPACTADOR DE SOLOS DE PERCUSSÃO. AF_08/2023 | H25: =IF($F25="","",IFERROR(VLOOKUP($F25,SERVIÇOS!$B:$G,3,0),IFERROR(VLOOKUP($F25,'COMPOSIÇÕES COMPLEMENTARES '!$D:$L,3,0),IFERROR(VLOOKUP($F25,INSUMOS!$A:$D,3,0),"")))) -> M3 | I25: 35.84 | J25: =IF($F25="","",IFERROR(VLOOKUP($F25,SERVIÇOS!$B:$G,4,0),IFERROR(VLOOKUP($F25,'COMPOSIÇÕES COMPLEMENTARES '!$D:$L,6,0),IFERROR(VLOOKUP($F25,INSUMOS!$A:$D,4,0),"")))) -> 12.29 | K25: =IF($F25="","",IFERROR(VLOOKUP($F25,SERVIÇOS!$B:$G,5,0),IFERROR(VLOOKUP($F25,'COMPOSIÇÕES COMPLEMENTARES '!$D:$L,7,0),0))) -> 20.78 | L25: =IF(I25="","",J25+K25) -> 33.07 | M25: =IF(I25="","",TRUNC((I25*J25),2)) -> 440.47 | N25: =IF(I25="","",TRUNC((I25*K25),2)) -> 744.75 | O25: =IF(I25="","",TRUNC((M25+N25),2)) -> 1185.22 | U25: =IF(OR(T25="",$O25=""),"",(T25/$I25)*$O25) | W25: =IF(OR(V25="",$O25=""),"",(V25/$I25)*$O25) | Y25: =IF(OR(X25="",$O25=""),"",(X25/$I25)*$O25) | Z25: =SUMIF($T$8:Y$1018,"QUANT.",T25:Y25) -> 0 | AA25: =SUMIF($T$8:$Y$1018,"CUSTO",T25:Y25) -> 0 | AB25: =IF(F25<>"",IF(AA25=0,"MEDIR",IF(O25-AA25=0,"OK",IF(O25-AA25>0,"MEDIR","ALERTA!"))),"") -> MEDIR | AC25: =IF(Z25="",0,I25-Z25) -> 35.84 | AD25: =IF(AA25="",0,O25-AA25) -> 1185.22
A26: =1+A25 -> 26 | C26: =+C25 -> 3.1 | D26: =1+D25 -> 4 | E26: =C26&"."&D26 -> 3.1.4 | F26: 100981 | G26: =IF($F26="","",IFERROR(VLOOKUP($F26,SERVIÇOS!$B:$G,2,0),IFERROR(VLOOKUP($F26,'COMPOSIÇÕES COMPLEMENTARES '!$D:$L,2,0),IFERROR(VLOOKUP($F26,INSUMOS!$A:$D,2,0),"")))) -> CARGA, MANOBRA E DESCARGA DE ENTULHO EM CAMINHÃO BASCULANTE 6 M³ - CARGA COM ESCAVADEIRA HIDRÁULICA (CAÇAMBA DE 0,80 M³ / 111 HP) E DESCARGA LIVRE (UNIDADE: M3). AF_07/2020 | H26: =IF($F26="","",IFERROR(VLOOKUP($F26,SERVIÇOS!$B:$G,3,0),IFERROR(VLOOKUP($F26,'COMPOSIÇÕES COMPLEMENTARES '!$D:$L,3,0),IFERROR(VLOOKUP($F26,INSUMOS!$A:$D,3,0),"")))) -> M3 | I26: 33.59 | J26: =IF($F26="","",IFERROR(VLOOKUP($F26,SERVIÇOS!$B:$G,4,0),IFERROR(VLOOKUP($F26,'COMPOSIÇÕES COMPLEMENTARES '!$D:$L,6,0),IFERROR(VLOOKUP($F26,INSUMOS!$A:$D,4,0),"")))) -> 8.24 | K26: =IF($F26="","",IFERROR(VLOOKUP($F26,SERVIÇOS!$B:$G,5,0),IFERROR(VLOOKUP($F26,'COMPOSIÇÕES COMPLEMENTARES '!$D:$L,7,0),0))) -> 1.99 | L26: =IF(I26="","",J26+K26) -> 10.23 | M26: =IF(I26="","",TRUNC((I26*J26),2)) -> 276.78 | N26: =IF(I26="","",TRUNC((I26*K26),2)) -> 66.84 | O26: =IF(I26="","",TRUNC((M26+N26),2)) -> 343.62 | U26: =IF(OR(T26="",$O26=""),"",(T26/$I26)*$O26) | W26: =IF(OR(V26="",$O26=""),"",(V26/$I26)*$O26) | Y26: =IF(OR(X26="",$O26=""),"",(X26/$I26)*$O26) | Z26: =SUMIF($T$8:Y$1018,"QUANT.",T26:Y26) -> 0 | AA26: =SUMIF($T$8:$Y$1018,"CUSTO",T26:Y26) -> 0 | AB26: =IF(F26<>"",IF(AA26=0,"MEDIR",IF(O26-AA26=0,"OK",IF(O26-AA26>0,"MEDIR","ALERTA!"))),"") -> MEDIR | AC26: =IF(Z26="",0,I26-Z26) -> 33.59 | AD26: =IF(AA26="",0,O26-AA26) -> 343.62
A27: =1+A26 -> 27 | C27: =+C26 -> 3.1 | D27: =1+D26 -> 5 | E27: =C27&"."&D27 -> 3.1.5 | F27: 97914 | G27: =IF($F27="","",IFERROR(VLOOKUP($F27,SERVIÇOS!$B:$G,2,0),IFERROR(VLOOKUP($F27,'COMPOSIÇÕES COMPLEMENTARES '!$D:$L,2,0),IFERROR(VLOOKUP($F27,INSUMOS!$A:$D,2,0),"")))) -> TRANSPORTE COM CAMINHÃO BASCULANTE DE 6 M³, EM VIA URBANA PAVIMENTADA, DMT ATÉ 30 KM (UNIDADE: M3XKM). AF_07/2020 | H27: =IF($F27="","",IFERROR(VLOOKUP($F27,SERVIÇOS!$B:$G,3,0),IFERROR(VLOOKUP($F27,'COMPOSIÇÕES COMPLEMENTARES '!$D:$L,3,0),IFERROR(VLOOKUP($F27,INSUMOS!$A:$D,3,0),"")))) -> M3XKM | I27: 355.97 | J27: =IF($F27="","",IFERROR(VLOOKUP($F27,SERVIÇOS!$B:$G,4,0),IFERROR(VLOOKUP($F27,'COMPOSIÇÕES COMPLEMENTARES '!$D:$L,6,0),IFERROR(VLOOKUP($F27,INSUMOS!$A:$D,4,0),"")))) -> 2.64 | K27: =IF($F27="","",IFERROR(VLOOKUP($F27,SERVIÇOS!$B:$G,5,0),IFERROR(VLOOKUP($F27,'COMPOSIÇÕES COMPLEMENTARES '!$D:$L,7,0),0))) -> 0.57 | L27: =IF(I27="","",J27+K27) -> 3.21 | M27: =IF(I27="","",TRUNC((I27*J27),2)) -> 939.76 | N27: =IF(I27="","",TRUNC((I27*K27),2)) -> 202.9 | O27: =IF(I27="","",TRUNC((M27+N27),2)) -> 1142.66 | U27: =IF(OR(T27="",$O27=""),"",(T27/$I27)*$O27) | W27: =IF(OR(V27="",$O27=""),"",(V27/$I27)*$O27) | Y27: =IF(OR(X27="",$O27=""),"",(X27/$I27)*$O27) | Z27: =SUMIF($T$8:Y$1018,"QUANT.",T27:Y27) -> 0 | AA27: =SUMIF($T$8:$Y$1018,"CUSTO",T27:Y27) -> 0 | AB27: =IF(F27<>"",IF(AA27=0,"MEDIR",IF(O27-AA27=0,"OK",IF(O27-AA27>0,"MEDIR","ALERTA!"))),"") -> MEDIR | AC27: =IF(Z27="",0,I27-Z27) -> 355.97 | AD27: =IF(AA27="",0,O27-AA27) -> 1142.66
A28: =1+A27 -> 28 | C28: =+E28 -> 4 | E28: 4 | G28: FUNDAÇÃO | M28: =TRUNC(SUMIF(M29:M47,">0",M29:M47),2) -> 108118.09 | N28: =TRUNC(SUMIF(N29:N47,">0",N29:N47),2) -> 29889.93 | P28: =SUMIF(O29:O47,">0",O29:O47) -> 138008.02 | U28: =IF(OR(T28="",$O28=""),"",(T28/$I28)*$O28) | W28: =IF(OR(V28="",$O28=""),"",(V28/$I28)*$O28) | Y28: =IF(OR(X28="",$O28=""),"",(X28/$I28)*$O28) | Z28: =SUMIF($T$8:Y$1018,"QUANT.",T28:Y28) -> 0 | AA28: =SUMIF($T$8:$Y$1018,"CUSTO",T28:Y28) -> 0 | AB28: =IF(F28<>"",IF(AA28=0,"MEDIR",IF(O28-AA28=0,"OK",IF(O28-AA28>0,"MEDIR","ALERTA!"))),"") | AC28: =IF(Z28="",0,I28-Z28) -> 0 | AD28: =IF(AA28="",0,O28-AA28) -> 0
A29: =1+A28 -> 29 | C29: =+E29 -> 4.1 | E29: 4.1 | G29: ESTACAS | U29: =IF(OR(T29="",$O29=""),"",(T29/$I29)*$O29) | W29: =IF(OR(V29="",$O29=""),"",(V29/$I29)*$O29) | Y29: =IF(OR(X29="",$O29=""),"",(X29/$I29)*$O29) | Z29: =SUMIF($T$8:Y$1018,"QUANT.",T29:Y29) -> 0 | AA29: =SUMIF($T$8:$Y$1018,"CUSTO",T29:Y29) -> 0 | AB29: =IF(F29<>"",IF(AA29=0,"MEDIR",IF(O29-AA29=0,"OK",IF(O29-AA29>0,"MEDIR","ALERTA!"))),"") | AC29: =IF(Z29="",0,I29-Z29) -> 0 | AD29: =IF(AA29="",0,O29-AA29) -> 0
A30: =1+A29 -> 30 | C30: =+C29 -> 4.1 | D30: =1+D29 -> 1 | E30: =C30&"."&D30 -> 4.1.1 | F30: C5089 | G30: =IF($F30="","",IFERROR(VLOOKUP($F30,SERVIÇOS!$B:$G,2,0),IFERROR(VLOOKUP($F30,'COMPOSIÇÕES COMPLEMENTARES '!$D:$L,2,0),IFERROR(VLOOKUP($F30,INSUMOS!$A:$D,2,0),"")))) -> ESTACA ESCAVADA MECANICAMENTE, SEM FLUIDO ESTABILIZANTE, COM 30CM DE DIÂMETRO, INCLUSO MOBILIZAÇÃO E DESMOBILIZAÇÃO | H30: =IF($F30="","",IFERROR(VLOOKUP($F30,SERVIÇOS!$B:$G,3,0),IFERROR(VLOOKUP($F30,'COMPOSIÇÕES COMPLEMENTARES '!$D:$L,3,0),IFERROR(VLOOKUP($F30,INSUMOS!$A:$D,3,0),"")))) -> M | I30: 341.5 | J30: =IF($F30="","",IFERROR(VLOOKUP($F30,SERVIÇOS!$B:$G,4,0),IFERROR(VLOOKUP($F30,'COMPOSIÇÕES COMPLEMENTARES '!$D:$L,6,0),IFERROR(VLOOKUP($F30,INSUMOS!$A:$D,4,0),"")))) -> 59.72 | K30: =IF($F30="","",IFERROR(VLOOKUP($F30,SERVIÇOS!$B:$G,5,0),IFERROR(VLOOKUP($F30,'COMPOSIÇÕES COMPLEMENTARES '!$D:$L,7,0),0))) -> 8.67 | L30: =IF(I30="","",J30+K30) -> 68.39 | M30: =IF(I30="","",TRUNC((I30*J30),2)) -> 20394.38 | N30: =IF(I30="","",TRUNC((I30*K30),2)) -> 2960.8 | O30: =IF(I30="","",TRUNC((M30+N30),2)) -> 23355.18 | U30: =IF(OR(T30="",$O30=""),"",(T30/$I30)*$O30) | W30: =IF(OR(V30="",$O30=""),"",(V30/$I30)*$O30) | Y30: =IF(OR(X30="",$O30=""),"",(X30/$I30)*$O30) | Z30: =SUMIF($T$8:Y$1018,"QUANT.",T30:Y30) -> 0 | AA30: =SUMIF($T$8:$Y$1018,"CUSTO",T30:Y30) -> 0 | AB30: =IF(F30<>"",IF(AA30=0,"MEDIR",IF(O30-AA30=0,"OK",IF(O30-AA30>0,"MEDIR","ALERTA!"))),"") -> MEDIR | AC30: =IF(Z30="",0,I30-Z30) -> 341.5 | AD30: =IF(AA30="",0,O30-AA30) -> 23355.18
A31: =1+A30 -> 31 | C31: =+C30 -> 4.1 | D31: =1+D30 -> 2 | E31: =C31&"."&D31 -> 4.1.2 | F31: C5014 | G31: =IF($F31="","",IFERROR(VLOOKUP($F31,SERVIÇOS!$B:$G,2,0),IFERROR(VLOOKUP($F31,'COMPOSIÇÕES COMPLEMENTARES '!$D:$L,2,0),IFERROR(VLOOKUP($F31,INSUMOS!$A:$D,2,0),"")))) -> CONCRETO USINADO BOMBEÁVEL FCK=30MPA, SLUMP 240, INCLUSIVE LANÇAMENTO EM ESTACAS | H31: =IF($F31="","",IFERROR(VLOOKUP($F31,SERVIÇOS!$B:$G,3,0),IFERROR(VLOOKUP($F31,'COMPOSIÇÕES COMPLEMENTARES '!$D:$L,3,0),IFERROR(VLOOKUP($F31,INSUMOS!$A:$D,3,0),"")))) -> M3 | I31: 24.14 | J31: =IF($F31="","",IFERROR(VLOOKUP($F31,SERVIÇOS!$B:$G,4,0),IFERROR(VLOOKUP($F31,'COMPOSIÇÕES COMPLEMENTARES '!$D:$L,6,0),IFERROR(VLOOKUP($F31,INSUMOS!$A:$D,4,0),"")))) -> 559.38 | K31: =IF($F31="","",IFERROR(VLOOKUP($F31,SERVIÇOS!$B:$G,5,0),IFERROR(VLOOKUP($F31,'COMPOSIÇÕES COMPLEMENTARES '!$D:$L,7,0),0))) -> 0 | L31: =IF(I31="","",J31+K31) -> 559.38 | M31: =IF(I31="","",TRUNC((I31*J31),2)) -> 13503.43 | N31: =IF(I31="","",TRUNC((I31*K31),2)) -> 0 | O31: =IF(I31="","",TRUNC((M31+N31),2)) -> 13503.43 | U31: =IF(OR(T31="",$O31=""),"",(T31/$I31)*$O31) | W31: =IF(OR(V31="",$O31=""),"",(V31/$I31)*$O31) | Y31: =IF(OR(X31="",$O31=""),"",(X31/$I31)*$O31) | Z31: =SUMIF($T$8:Y$1018,"QUANT.",T31:Y31) -> 0 | AA31: =SUMIF($T$8:$Y$1018,"CUSTO",T31:Y31) -> 0 | AB31: =IF(F31<>"",IF(AA31=0,"MEDIR",IF(O31-AA31=0,"OK",IF(O31-AA31>0,"MEDIR","ALERTA!"))),"") -> MEDIR | AC31: =IF(Z31="",0,I31-Z31) -> 24.14 | AD31: =IF(AA31="",0,O31-AA31) -> 13503.43
A32: =1+A31 -> 32 | C32: =+C31 -> 4.1 | D32: =1+D31 -> 3 | E32: =C32&"."&D32 -> 4.1.3 | F32: 95601 | G32: =IF($F32="","",IFERROR(VLOOKUP($F32,SERVIÇOS!$B:$G,2,0),IFERROR(VLOOKUP($F32,'COMPOSIÇÕES COMPLEMENTARES '!$D:$L,2,0),IFERROR(VLOOKUP($F32,INSUMOS!$A:$D,2,0),"")))) -> ARRASAMENTO MECANICO DE ESTACA DE CONCRETO ARMADO, DIAMETROS DE ATÉ 40 CM. AF_05/2021 | H32: =IF($F32="","",IFERROR(VLOOKUP($F32,SERVIÇOS!$B:$G,3,0),IFERROR(VLOOKUP($F32,'COMPOSIÇÕES COMPLEMENTARES '!$D:$L,3,0),IFERROR(VLOOKUP($F32,INSUMOS!$A:$D,3,0),"")))) -> UN | I32: 110 | J32: =IF($F32="","",IFERROR(VLOOKUP($F32,SERVIÇOS!$B:$G,4,0),IFERROR(VLOOKUP($F32,'COMPOSIÇÕES COMPLEMENTARES '!$D:$L,6,0),IFERROR(VLOOKUP($F32,INSUMOS!$A:$D,4,0),"")))) -> 6.93 | K32: =IF($F32="","",IFERROR(VLOOKUP($F32,SERVIÇOS!$B:$G,5,0),IFERROR(VLOOKUP($F32,'COMPOSIÇÕES COMPLEMENTARES '!$D:$L,7,0),0))) -> 15.7 | L32: =IF(I32="","",J32+K32) -> 22.63 | M32: =IF(I32="","",TRUNC((I32*J32),2)) -> 762.3 | N32: =IF(I32="","",TRUNC((I32*K32),2)) -> 1727 | O32: =IF(I32="","",TRUNC((M32+N32),2)) -> 2489.3 | U32: =IF(OR(T32="",$O32=""),"",(T32/$I32)*$O32) | W32: =IF(OR(V32="",$O32=""),"",(V32/$I32)*$O32) | Y32: =IF(OR(X32="",$O32=""),"",(X32/$I32)*$O32) | Z32: =SUMIF($T$8:Y$1018,"QUANT.",T32:Y32) -> 0 | AA32: =SUMIF($T$8:$Y$1018,"CUSTO",T32:Y32) -> 0 | AB32: =IF(F32<>"",IF(AA32=0,"MEDIR",IF(O32-AA32=0,"OK",IF(O32-AA32>0,"MEDIR","ALERTA!"))),"") -> MEDIR | AC32: =IF(Z32="",0,I32-Z32) -> 110 | AD32: =IF(AA32="",0,O32-AA32) -> 2489.3
