Workbook

Sheet BDI NÃO DES.
A1: PREFEITURA MUNICIPAL DE JAQUEIRA
A4: OBRA : REFORMA DA QUADRA DO DISTRITO DE FREI CANECA | R4: Jaqueira , Abril/2026
A5: LOCAL : DISTRITO DE FREI CANECA – JAQUEIRA – PERNAMBUCO
A10: CALCULO DA COMPOSIÇÃO DO BDI - NÃO DESONERADO
A11: COMPONENTES | B11: VALORES | C11: Análise | F11: INTERVALOS
C12: EDIFÍCIOS | F12: EDIFÍCIOS | I12: RODOVIAS | L12: ÁGUA E ESGOTO | O12: ENERGIA ELÉTRICA | R12: PORTUÁRIAS | U12: EQUIPAMENTOS | IU12: EDIFÍCIOS
A13: ADMINISTRAÇÃO CENTRAL | B13: 0.04 | C13: =IF($C$12=$F$12,F13,IF($C$12=$I$12,I13,IF($C$12=$L$12,L13,IF($C$12=$O$12,O13,IF($C$12=$R$12,R13,IF($C$12=$U$12,U13,FALSE)))))) -> 0.03 | D13: A | E13: =IF($C$12=$F$12,H13,IF($C$12=$I$12,K13,IF($C$12=$L$12,N13,IF($C$12=$O$12,Q13,IF($C$12=$R$12,T13,IF($C$12=$U$12,W13,FALSE)))))) -> 0.055 | F13: 0.03 | G13: A | H13: 0.055 | I13: 0.038 | J13: A | K13: 0.0467 | L13: 0.0343 | M13: A | N13: 0.0671 | O13: 0.0529 | P13: A | Q13: 0.0793 | R13: 0.04 | S13: A | T13: 0.0785 | U13: 0.015 | V13: A | W13: 0.0449 | IU13: RODOVIAS
A14: SEGURO E GARANTIA | B14: 0.008 | C14: =IF($C$12=$F$12,F14,IF($C$12=$I$12,I14,IF($C$12=$L$12,L14,IF($C$12=$O$12,O14,IF($C$12=$R$12,R14,IF($C$12=$U$12,U14,FALSE)))))) -> 0.008 | D14: A | E14: =IF($C$12=$F$12,H14,IF($C$12=$I$12,K14,IF($C$12=$L$12,N14,IF($C$12=$O$12,Q14,IF($C$12=$R$12,T14,IF($C$12=$U$12,W14,FALSE)))))) -> 0.01 | F14: 0.008 | G14: A | H14: 0.01 | I14: 0.0032 | J14: A | K14: 0.0074 | L14: 0.0028 | M14: A | N14: 0.0075 | O14: 0.0025 | P14: A | Q14: 0.0056 | R14: 0.0081 | S14: A | T14: 0.0199 | U14: 0.003 | V14: A | W14: 0.0082 | IU14: ÁGUA E ESGOTO
A15: RISCO | B15: 0.0127 | C15: =IF($C$12=$F$12,F15,IF($C$12=$I$12,I15,IF($C$12=$L$12,L15,IF($C$12=$O$12,O15,IF($C$12=$R$12,R15,IF($C$12=$U$12,U15,FALSE)))))) -> 0.0097 | D15: A | E15: =IF($C$12=$F$12,H15,IF($C$12=$I$12,K15,IF($C$12=$L$12,N15,IF($C$12=$O$12,Q15,IF($C$12=$R$12,T15,IF($C$12=$U$12,W15,FALSE)))))) -> 0.0127 | F15: 0.0097 | G15: A | H15: 0.0127 | I15: 0.005 | J15: A | K15: 0.0097 | L15: 0.01 | M15: A | N15: 0.0174 | O15: 0.01 | P15: A | Q15: 0.0197 | R15: 0.0146 | S15: A | T15: 0.0316 | U15: 0.0056 | V15: A | W15: 0.0089 | IU15: ENERGIA ELÉTRICA
A16: DESPESAS FINANCEIRAS | B16: 0.0123 | C16: =IF($C$12=$F$12,F16,IF($C$12=$I$12,I16,IF($C$12=$L$12,L16,IF($C$12=$O$12,O16,IF($C$12=$R$12,R16,IF($C$12=$U$12,U16,FALSE)))))) -> 0.0059 | D16: A | E16: =IF($C$12=$F$12,H16,IF($C$12=$I$12,K16,IF($C$12=$L$12,N16,IF($C$12=$O$12,Q16,IF($C$12=$R$12,T16,IF($C$12=$U$12,W16,FALSE)))))) -> 0.0139 | F16: 0.0059 | G16: A | H16: 0.0139 | I16: 0.0102 | J16: A | K16: 0.0121 | L16: 0.0094 | M16: A | N16: 0.0117 | O16: 0.0101 | P16: A | Q16: 0.0111 | R16: 0.0094 | S16: A | T16: 0.0133 | U16: 0.0085 | V16: A | W16: 0.0111 | IU16: PORTUÁRIAS
A17: LUCRO/REMUNERAÇÃO | B17: 0.07 | C17: =IF($C$12=$F$12,F17,IF($C$12=$I$12,I17,IF($C$12=$L$12,L17,IF($C$12=$O$12,O17,IF($C$12=$R$12,R17,IF($C$12=$U$12,U17,FALSE)))))) -> 0.0616 | D17: A | E17: =IF($C$12=$F$12,H17,IF($C$12=$I$12,K17,IF($C$12=$L$12,N17,IF($C$12=$O$12,Q17,IF($C$12=$R$12,T17,IF($C$12=$U$12,W17,FALSE)))))) -> 0.0896 | F17: 0.0616 | G17: A | H17: 0.0896 | I17: 0.0664 | J17: A | K17: 0.0869 | L17: 0.0674 | M17: A | N17: 0.094 | O17: 0.08 | P17: A | Q17: 0.0951 | R17: 0.0714 | S17: A | T17: 0.1043 | U17: 0.035 | V17: A | W17: 0.0622 | IU17: EQUIPAMENTOS
A18: PIS | B18: 0.0065 | C18: 0.0065
A19: COFINS | B19: 0.03 | C19: 0.03
A20: ISS | B20: 0.025 | C20: ATÉ | D20: 0.05
A21: CPRB | C21: 0.036 | F21: INTERVALOS DE BDI SEM DESONERAÇÃO (ZERAR O CPRB) | IU21: 0
A22: BDI | B22: =((1+B13+B14+B15)*(1+B16)*(1+B17)/(1-(B18+B19+B20+B21)))-1 -> 0.22419699 | IU22: 0.02
B24: FÓRMULA
A29: _____________________________________________
A30: ADALBERTO QUEIROZ DA SILVA NETO
A31: ENGENHEIRO CIVIL - CREA 29.759 D/PE
A35: _____________________________________________
A36: RIDETE CELLIBE PELLEGRINO DE MACEDO OLIVEIRA
A37: PREFEITA

Sheet BDI DES
A1: PREFEITURA MUNICIPAL DE JAQUEIRA
A4: OBRA : REFORMA DA QUADRA DO DISTRITO DE FREI CANECA | R4: Jaqueira , Abril/2026
A5: LOCAL : DISTRITO DE FREI CANECA – JAQUEIRA – PERNAMBUCO
A10: CALCULO DA COMPOSIÇÃO DO BDI - DESONERADO
A11: COMPONENTES | B11: VALORES | C11: Análise | F11: INTERVALOS
C12: EDIFÍCIOS | F12: EDIFÍCIOS | I12: RODOVIAS | L12: ÁGUA E ESGOTO | O12: ENERGIA ELÉTRICA | R12: PORTUÁRIAS | U12: EQUIPAMENTOS | IU12: EDIFÍCIOS
A13: ADMINISTRAÇÃO CENTRAL | B13: 0.04 | C13: =IF($C$12=$F$12,F13,IF($C$12=$I$12,I13,IF($C$12=$L$12,L13,IF($C$12=$O$12,O13,IF($C$12=$R$12,R13,IF($C$12=$U$12,U13,FALSE)))))) -> 0.03 | D13: A | E13: =IF($C$12=$F$12,H13,IF($C$12=$I$12,K13,IF($C$12=$L$12,N13,IF($C$12=$O$12,Q13,IF($C$12=$R$12,T13,IF($C$12=$U$12,W13,FALSE)))))) -> 0.055 | F13: 0.03 | G13: A | H13: 0.055 | I13: 0.038 | J13: A | K13: 0.0467 | L13: 0.0343 | M13: A | N13: 0.0671 | O13: 0.0529 | P13: A | Q13: 0.0793 | R13: 0.04 | S13: A | T13: 0.0785 | U13: 0.015 | V13: A | W13: 0.0449 | IU13: RODOVIAS
A14: SEGURO E GARANTIA | B14: 0.008 | C14: =IF($C$12=$F$12,F14,IF($C$12=$I$12,I14,IF($C$12=$L$12,L14,IF($C$12=$O$12,O14,IF($C$12=$R$12,R14,IF($C$12=$U$12,U14,FALSE)))))) -> 0.008 | D14: A | E14: =IF($C$12=$F$12,H14,IF($C$12=$I$12,K14,IF($C$12=$L$12,N14,IF($C$12=$O$12,Q14,IF($C$12=$R$12,T14,IF($C$12=$U$12,W14,FALSE)))))) -> 0.01 | F14: 0.008 | G14: A | H14: 0.01 | I14: 0.0032 | J14: A | K14: 0.0074 | L14: 0.0028 | M14: A | N14: 0.0075 | O14: 0.0025 | P14: A | Q14: 0.0056 | R14: 0.0081 | S14: A | T14: 0.0199 | U14: 0.003 | V14: A | W14: 0.0082 | IU14: ÁGUA E ESGOTO
A15: RISCO | B15: 0.0127 | C15: =IF($C$12=$F$12,F15,IF($C$12=$I$12,I15,IF($C$12=$L$12,L15,IF($C$12=$O$12,O15,IF($C$12=$R$12,R15,IF($C$12=$U$12,U15,FALSE)))))) -> 0.0097 | D15: A | E15: =IF($C$12=$F$12,H15,IF($C$12=$I$12,K15,IF($C$12=$L$12,N15,IF($C$12=$O$12,Q15,IF($C$12=$R$12,T15,IF($C$12=$U$12,W15,FALSE)))))) -> 0.0127 | F15: 0.0097 | G15: A | H15: 0.0127 | I15: 0.005 | J15: A | K15: 0.0097 | L15: 0.01 | M15: A | N15: 0.0174 | O15: 0.01 | P15: A | Q15: 0.0197 | R15: 0.0146 | S15: A | T15: 0.0316 | U15: 0.0056 | V15: A | W15: 0.0089 | IU15: ENERGIA ELÉTRICA
A16: DESPESAS FINANCEIRAS | B16: 0.0123 | C16: =IF($C$12=$F$12,F16,IF($C$12=$I$12,I16,IF($C$12=$L$12,L16,IF($C$12=$O$12,O16,IF($C$12=$R$12,R16,IF($C$12=$U$12,U16,FALSE)))))) -> 0.0059 | D16: A | E16: =IF($C$12=$F$12,H16,IF($C$12=$I$12,K16,IF($C$12=$L$12,N16,IF($C$12=$O$12,Q16,IF($C$12=$R$12,T16,IF($C$12=$U$12,W16,FALSE)))))) -> 0.0139 | F16: 0.0059 | G16: A | H16: 0.0139 | I16: 0.0102 | J16: A | K16: 0.0121 | L16: 0.0094 | M16: A | N16: 0.0117 | O16: 0.0101 | P16: A | Q16: 0.0111 | R16: 0.0094 | S16: A | T16: 0.0133 | U16: 0.0085 | V16: A | W16: 0.0111 | IU16: PORTUÁRIAS
A17: LUCRO/REMUNERAÇÃO | B17: 0.07 | C17: =IF($C$12=$F$12,F17,IF($C$12=$I$12,I17,IF($C$12=$L$12,L17,IF($C$12=$O$12,O17,IF($C$12=$R$12,R17,IF($C$12=$U$12,U17,FALSE)))))) -> 0.0616 | D17: A | E17: =IF($C$12=$F$12,H17,IF($C$12=$I$12,K17,IF($C$12=$L$12,N17,IF($C$12=$O$12,Q17,IF($C$12=$R$12,T17,IF($C$12=$U$12,W17,FALSE)))))) -> 0.0896 | F17: 0.0616 | G17: A | H17: 0.0896 | I17: 0.0664 | J17: A | K17: 0.0869 | L17: 0.0674 | M17: A | N17: 0.094 | O17: 0.08 | P17: A | Q17: 0.0951 | R17: 0.0714 | S17: A | T17: 0.1043 | U17: 0.035 | V17: A | W17: 0.0622 | IU17: EQUIPAMENTOS
A18: PIS | B18: 0.0065 | C18: 0.0065
A19: COFINS | B19: 0.03 | C19: 0.03
A20: ISS | B20: 0.025 | C20: ATÉ | D20: 0.05
A21: CPRB | B21: 0.036 | C21: 0.036 | F21: INTERVALOS DE BDI SEM DESONERAÇÃO (ZERAR O CPRB) | IU21: 0
A22: BDI | B22: =((1+B13+B14+B15)*(1+B16)*(1+B17)/(1-(B18+B19+B20+B21)))-1 -> 0.27302922 | IU22: 0.02
B24: FÓRMULA
A29: _______________________________________
A30: ADALBERTO QUEIROZ DA SILVA NETO
A31: ENGENHEIRO CIVIL - CREA 29.759 D/PE
A35: _____________________________________________
A36: RIDETE CELLIBE PELLEGRINO DE MACEDO OLIVEIRA
A37: PREFEITA

Sheet P COMPARATIVA
A1: PREFEITURA MUNICIPAL DE JAQUEIRA
A5: PLANILHA COMPARATIVA - NÃO DESONERADA X DESONERADA
A7: OBRA : REFORMA DA QUADRA DO DISTRITO DE FREI CANECA
A8: LOCAL : DISTRITO DE FREI CANECA - JAQUEIRA - PERNAMBUCO | K8: Jaqueira, 8 de abril de 2026
A14: ITEM | B14: FONTE | C14: CÓDIGO | D14: DESCRIÇÃO | E14: UN | F14: QUANT. | G14: PLANILHA NÃO DESONERADA SINAPI 02/2026 - BDI 22,42% | K14: PLANILHA DESONERADA SINAPI 02/2026 - BDI 27,30%
G15: VALOR UNIT. S/BDI | H15: VALOR UNIT. C/BDI | I15: VALOR TOTAL S/BDI | J15: VALOR TOTAL C/BDI | K15: VALOR UNIT. S/BDI | L15: VALOR UNIT. C/BDI | M15: VALOR TOTAL S/BDI | N15: VALOR TOTAL C/BDI
A16: I | D16: REFORMA DA QUADRA DO DISTRITO DE FREI CANECA
A17: 1 | D17: CANTEIRO DE OBRAS | I17: =SUM(I18:I19) -> 2812.62 | J17: =SUM(J18:J19) -> 3443.16 | M17: =M18 -> 2798.1 | N17: =N18 -> 3561.96
A18: 1.1 | B18: SINAPI - 02/2026 | C18: 103689 | D18: FORNECIMENTO E INSTALAÇÃO DE PLACA DE OBRA COM CHAPA GALVANIZADA E ESTRUTURA DE MADEIRA. AF_03/2022_PS | E18: M² | F18: 6 | G18: 468.77 | H18: =TRUNC((G18*1.2242),2) -> 573.86 | I18: =TRUNC((G18*F18),2) -> 2812.62 | J18: =TRUNC((H18*F18),2) -> 3443.16 | K18: 466.35 | L18: =TRUNC((K18*1.273),2) -> 593.66 | M18: =TRUNC((K18*F18),2) -> 2798.1 | N18: =TRUNC((L18*F18),2) -> 3561.96
D19: TOTAL=3,00X2,00 = 6,00M²
A20: 2 | D20: SERVIÇOS PRELIMINARES | I20: =SUM(I21:I26) -> 287.78 | J20: =SUM(J21:J26) -> 352.28 | M20: =SUM(M21:M26) -> 276.42 | N20: =SUM(N21:N26) -> 351.88
A21: 2.1 | B21: SINAPI - 02/2026 | C21: 97622 | D21: DEMOLIÇÃO DE ALVENARIA DE BLOCO FURADO, DE FORMA MANUAL, SEM REAPROVEITAMENTO. AF_09/2023 | E21: M³ | F21: 1.8 | G21: 63.85 | H21: =TRUNC((G21*1.2242),2) -> 78.16 | I21: =TRUNC((G21*F21),2) -> 114.93 | J21: =TRUNC((H21*F21),2) -> 140.68 | K21: 60.46 | L21: =TRUNC((K21*1.273),2) -> 76.96 | M21: =TRUNC((K21*F21),2) -> 108.82 | N21: =TRUNC((L21*F21),2) -> 138.52
D22: ALTERAÇÃO DE ENTRADAS=(1,5*0,27*0,5)+(0,35*0,27*0,5) = 0,25M³
D23: ESPERA DO ALAMBRADO=((10+10+13+13)*0,27*0,25*0,5)=1,55M³
D24: TOTAL=0,25+1,55 = 1,80M³
A25: 2.2 | B25: SINAPI - 02/2026 | C25: 104790 | D25: DEMOLIÇÃO DE PISO DE CONCRETO SIMPLES, DE FORMA MECANIZADA COM MARTELETE, SEM REAPROVEITAMENTO. AF_09/2023 | E25: M³ | F25: 1.64 | G25: 105.4 | H25: =TRUNC((G25*1.2242),2) -> 129.03 | I25: =TRUNC((G25*F25),2) -> 172.85 | J25: =TRUNC((H25*F25),2) -> 211.6 | K25: 102.2 | L25: =TRUNC((K25*1.273),2) -> 130.1 | M25: =TRUNC((K25*F25),2) -> 167.6 | N25: =TRUNC((L25*F25),2) -> 213.36
D26: DEMOLIÇÃO DE PISO PARA COLOCAÇÃO DE DRENO=(29,4*0,4*0,07)*2 = 1,64M³
A27: 3 | D27: MOVIMENTO DE TERRAS | I27: =SUM(I28:I30) -> 893.01 | J27: =SUM(J28:J30) -> 1093.18 | M27: =SUM(M28:M30) -> 846.27 | N27: =SUM(N28:N30) -> 1077.26
A28: 3.1 | B28: SINAPI - 02/2026 | C28: 93358 | D28: ESCAVAÇÃO MANUAL DE VALA. AF_09/2024 | E28: M3 | F28: 9.31 | G28: 95.92 | H28: =TRUNC((G28*1.2242),2) -> 117.42 | I28: =TRUNC((G28*F28),2) -> 893.01 | J28: =TRUNC((H28*F28),2) -> 1093.18 | K28: 90.9 | L28: =TRUNC((K28*1.273),2) -> 115.71 | M28: =TRUNC((K28*F28),2) -> 846.27 | N28: =TRUNC((L28*F28),2) -> 1077.26
D29: ESCAVAÇÃO PARA COLOCAÇÃO DE DRENO=(29,4*0,4*0,33)*2 = 7,76M³
D30: ESCAVAÇÃO PARA BLOCOS DE ANCORAGEM DO ALAMBRADO=((10+10+13+13)*0,27*0,25*0,5) = 1,55M³
D31: TOTAL=7,76+1,55 = 9,31M³
A32: 4 | D32: BLOCOS DE ANCORAGEM | I32: =SUM(I33:I36) -> 3877.03 | J32: =SUM(J33:J36) -> 4746.21 | M32: =SUM(M33:M36) -> 3757.62 | N32: =SUM(N33:N36) -> 4783.35
A33: 4.1 | B33: SINAPI - 02/2026 | C33: 96616 | D33: LASTRO DE CONCRETO MAGRO, APLICADO EM BLOCOS DE COROAMENTO OU SAPATAS. | E33: M3 | F33: 2.48 | G33: 894.56 | H33: =TRUNC((G33*1.2242),2) -> 1095.12 | I33: =TRUNC((G33*F33),2) -> 2218.5 | J33: =TRUNC((H33*F33),2) -> 2715.89 | K33: 874 | L33: =TRUNC((K33*1.273),2) -> 1112.6 | M33: =TRUNC((K33*F33),2) -> 2167.52 | N33: =TRUNC((L33*F33),2) -> 2759.24
D34: ENGASTAMENTO DO ALAMBRADO=((10+10+13+13)*0,27*0,25*0,8) = 2,48M³
A35: 4.2 | B35: SINAPI - 02/2026 | C35: 96535 | D35: FABRICAÇÃO, MONTAGEM E DESMONTAGEM DE FÔRMA PARA SAPATA, EM MADEIRA SERRADA, E=25 MM, 4 UTILIZAÇÕES. AF_01/2024 | E35: M2 | F35: 11.5 | G35: 144.22 | H35: =TRUNC((G35*1.2242),2) -> 176.55 | I35: =TRUNC((G35*F35),2) -> 1658.53 | J35: =TRUNC((H35*F35),2) -> 2030.32 | K35: 138.27 | L35: =TRUNC((K35*1.273),2) -> 176.01 | M35: =TRUNC((K35*F35),2) -> 1590.1 | N35: =TRUNC((L35*F35),2) -> 2024.11
D36: FORMA ANCORAGEM=((10+10+13+13)*0,25*0,5)*2 =11,50M²
A37: 5 | D37: ALVENARIAS | I37: =I38 -> 50.38 | J37: =J38 -> 61.67 | M37: =M38 -> 48.99 | N37: =N38 -> 62.37
A38: 5.1 | B38: SINAPI - 02/2026 | C38: 103326 | D38: ALVENARIA DE VEDAÇÃO DE BLOCOS CERÂMICOS FURADOS NA VERTICAL DE 19X19X39 CM (ESPESSURA 19 CM) E ARGAMASSA DE ASSENTAMENTO COM PREPARO EM BETONEIRA. AF_12/2021 | E38: M2 | F38: 0.58 | G38: 86.87 | H38: =TRUNC((G38*1.2242),2) -> 106.34 | I38: =TRUNC((G38*F38),2) -> 50.38 | J38: =TRUNC((H38*F38),2) -> 61.67 | K38: 84.48 | L38: =TRUNC((K38*1.273),2) -> 107.54 | M38: =TRUNC((K38*F38),2) -> 48.99 | N38: =TRUNC((L38*F38),2) -> 62.37
D39: ALTERAÇÃO DA ENTRADA=1,16*0,5 = 0,58M²
A40: 6 | D40: DRENAGEM | I40: =SUM(I41:I46) -> 8754.71 | J40: =SUM(J41:J46) -> 10717.21 | M40: =SUM(M41:M45) -> 8673.09 | N40: =SUM(N41:N45) -> 11040.29
A41: 6.1 | B41: SINAPI - 02/2026 | C41: 102668 | D41: DRENO SUBSUPERFICIAL (SEÇÃO 0,40 X 0,40 M), COM TUBO DE PVC CORRUGADO RÍGIDO PERFURADO, DN 100 MM, ENCHIMENTO COM BRITA, ENVOLVIDO COM MANTA GEOTÊXTIL. AF_07/2021 | E41: M | F41: 58.8 | G41: 105.37 | H41: =TRUNC((G41*1.2242),2) -> 128.99 | I41: =TRUNC((G41*F41),2) -> 6195.75 | J41: =TRUNC((H41*F41),2) -> 7584.61 | K41: 104.79 | L41: =TRUNC((K41*1.273),2) -> 133.39 | M41: =TRUNC((K41*F41),2) -> 6161.65 | N41: =TRUNC((L41*F41),2) -> 7843.33
D42: TOTAL=29,4*2 = 58,80M
A43: 6.2 | B43: SINAPI - 02/2026 | C43: 99253 | D43: CAIXA ENTERRADA HIDRÁULICA RETANGULAR EM ALVENARIA COM TIJOLOS CERÂMICOS MACIÇOS, DIMENSÕES INTERNAS: 0,6X0,6X0,6 M PARA REDE DE DRENAGEM. A F_12/2020 | E43: UND | F43: 2 | G43: 567.89 | H43: =TRUNC((G43*1.2242),2) -> 695.21 | I43: =TRUNC((G43*F43),2) -> 1135.78 | J43: =TRUNC((H43*F43),2) -> 1390.42 | K43: 548.87 | L43: =TRUNC((K43*1.273),2) -> 698.71 | M43: =TRUNC((K43*F43),2) -> 1097.74 | N43: =TRUNC((L43*F43),2) -> 1397.42
D44: TOTAL = 2 UND
A45: 6.3 | B45: SINAPI - 02/2026 | C45: 89580 | D45: TUBO PVC, SÉRIE R, ÁGUA PLUVIAL, DN 150 MM, FORNECIDO E INSTALADO EM CONDUTORES VERTICAIS DE ÁGUAS PLUVIAIS. AF_06/2022 | E45: M | F45: 23.7 | G45: 60.05 | H45: =TRUNC((G45*1.2242),2) -> 73.51 | I45: =TRUNC((G45*F45),2) -> 1423.18 | J45: =TRUNC((H45*F45),2) -> 1742.18 | K45: 59.65 | L45: =TRUNC((K45*1.273),2) -> 75.93 | M45: =TRUNC((K45*F45),2) -> 1413.7 | N45: =TRUNC((L45*F45),2) -> 1799.54
D46: TOTAL=17,7+6 = 23,70M
A47: 7 | D47: SISTEMA DE PISO | I47: =SUM(I48:I53) -> 70318.16 | J47: =SUM(J48:J53) -> 86081.99 | M47: =SUM(M48:M52) -> 70083.32 | N47: =SUM(N48:N52) -> 89217.62
A48: 7.1 | B48: COTAÇÃO | C48: 1 | D48: GRAMA SINTÉTICA ESPORTIVA PARA FUTEBOL EM POLIETILENO, COM ALTURA MINIMA DE 50MM (FORNECIMENTO E COLOCAÇÃO) | E48: M2 | F48: 540.96 | G48: 95 | H48: 116.3 | I48: =TRUNC((G48*F48),2) -> 51391.2 | J48: =TRUNC((H48*F48),2) -> 62913.64 | K48: 95 | L48: 120.94 | M48: =TRUNC((K48*F48),2) -> 51391.2 | N48: =TRUNC((L48*F48),2) -> 65423.7
D49: TOTAL=18,4*29,4 = 540,96M²
...

Sheet MEM CALC.
A1: PREFEITURA MUNICIPAL DE JAQUEIRA
A5: MEMÓRIA DE CÁLCULO
A7: OBRA : REFORMA DA QUADRA DO DISTRITO DE FREI CANECA
A8: LOCAL : DISTRITO DE FREI CANECA - JAQUEIRA - PERNAMBUCO
A13: ITEM | B13: FONTE | C13: CÓDIGO | D13: DESCRIÇÃO | E13: UN | F13: QUANT.
A15: I | D15: REFORMA DA QUADRA DO DISTRITO DE FREI CANECA
A16: 1 | D16: CANTEIRO DE OBRAS
A17: 1.1 | B17: SINAPI - 02/2026 | C17: 103689 | D17: FORNECIMENTO E INSTALAÇÃO DE PLACA DE OBRA COM CHAPA GALVANIZADA E ESTRUTURA DE MADEIRA. AF_03/2022_PS | E17: M² | F17: 6
D18: TOTAL=3,00X2,00 = 6,00M²
A19: 2 | D19: SERVIÇOS PRELIMINARES
A20: 2.1 | B20: SINAPI - 02/2026 | C20: 97622 | D20: DEMOLIÇÃO DE ALVENARIA DE BLOCO FURADO, DE FORMA MANUAL, SEM REAPROVEITAMENTO. AF_09/2023 | E20: M³ | F20: 1.8
D21: ALTERAÇÃO DE ENTRADAS=(1,5*0,27*0,5)+(0,35*0,27*0,5) = 0,25M³
D22: ESPERA DO ALAMBRADO=((10+10+13+13)*0,27*0,25*0,5)=1,55M³
D23: TOTAL=0,25+1,55 = 1,80M³
A24: 2.2 | B24: SINAPI - 02/2026 | C24: 104790 | D24: DEMOLIÇÃO DE PISO DE CONCRETO SIMPLES, DE FORMA MECANIZADA COM MARTELETE, SEM REAPROVEITAMENTO. AF_09/2023 | E24: M³ | F24: 1.64
D25: DEMOLIÇÃO DE PISO PARA COLOCAÇÃO DE DRENO=(29,4*0,4*0,07)*2 = 1,64M³
A26: 3 | D26: MOVIMENTO DE TERRAS
A27: 3.1 | B27: SINAPI - 02/2026 | C27: 93358 | D27: ESCAVAÇÃO MANUAL DE VALA. AF_09/2024 | E27: M3 | F27: 9.31
D28: ESCAVAÇÃO PARA COLOCAÇÃO DE DRENO=(29,4*0,4*0,33)*2 = 7,76M³
D29: ESCAVAÇÃO PARA BLOCOS DE ANCORAGEM DO ALAMBRADO=((10+10+13+13)*0,27*0,25*0,5) = 1,55M³
D30: TOTAL=7,76+1,55 = 9,31M³
A31: 4 | D31: BLOCOS DE ANCORAGEM
A32: 4.1 | B32: SINAPI - 02/2026 | C32: 96616 | D32: LASTRO DE CONCRETO MAGRO, APLICADO EM BLOCOS DE COROAMENTO OU SAPATAS. | E32: M3 | F32: 2.48
D33: ENGASTAMENTO DO ALAMBRADO=((10+10+13+13)*0,27*0,25*0,8) = 2,48M³
A34: 4.2 | B34: SINAPI - 02/2026 | C34: 96535 | D34: FABRICAÇÃO, MONTAGEM E DESMONTAGEM DE FÔRMA PARA SAPATA, EM MADEIRA SERRADA, E=25 MM, 4 UTILIZAÇÕES. AF_01/2024 | E34: M2 | F34: 11.5
D35: FORMA ANCORAGEM=((10+10+13+13)*0,25*0,5)*2 =11,50M²
A36: 5 | D36: ALVENARIAS
A37: 5.1 | B37: SINAPI - 02/2026 | C37: 103326 | D37: ALVENARIA DE VEDAÇÃO DE BLOCOS CERÂMICOS FURADOS NA VERTICAL DE 19X19X39 CM (ESPESSURA 19 CM) E ARGAMASSA DE ASSENTAMENTO COM PREPARO EM BETONEIRA. AF_12/2021 | E37: M2 | F37: 0.58
D38: ALTERAÇÃO DA ENTRADA=1,16*0,5 = 0,58M²
A39: 6 | D39: DRENAGEM
A40: 6.1 | B40: SINAPI - 02/2026 | C40: 102668 | D40: DRENO SUBSUPERFICIAL (SEÇÃO 0,40 X 0,40 M), COM TUBO DE PVC CORRUGADO RÍGIDO PERFURADO, DN 100 MM, ENCHIMENTO COM BRITA, ENVOLVIDO COM MANTA GEOTÊXTIL. AF_07/2021 | E40: M | F40: 58.8
D41: TOTAL=29,4*2 = 58,80M
A42: 6.2 | B42: SINAPI - 02/2026 | C42: 99253 | D42: CAIXA ENTERRADA HIDRÁULICA RETANGULAR EM ALVENARIA COM TIJOLOS CERÂMICOS MACIÇOS, DIMENSÕES INTERNAS: 0,6X0,6X0,6 M PARA REDE DE DRENAGEM. A F_12/2020 | E42: UND | F42: 2
D43: TOTAL = 2 UND
A44: 6.3 | B44: SINAPI - 02/2026 | C44: 89580 | D44: TUBO PVC, SÉRIE R, ÁGUA PLUVIAL, DN 150 MM, FORNECIDO E INSTALADO EM CONDUTORES VERTICAIS DE ÁGUAS PLUVIAIS. AF_06/2022 | E44: M | F44: 23.7
D45: TOTAL=17,7+6 = 23,70M
A46: 7 | D46: SISTEMA DE PISO
A47: 7.1 | B47: COTAÇÃO | C47: 1 | D47: GRAMA SINTÉTICA ESPORTIVA PARA FUTEBOL EM POLIETILENO, COM ALTURA MINIMA DE 50MM (FORNECIMENTO E COLOCAÇÃO) | E47: M2 | F47: 540.96
D48: TOTAL=18,4*29,4 = 540,96M²
A49: 7.2 | B49: SINAPI - 02/2026 | C49: 94273 | D49: ASSENTAMENTO DE GUIA (MEIO-FIO) EM TRECHO RETO, CONFECCIONADA EM CONCRETO PRÉ-FABRICADO, DIMENSÕES 100X15X13X30 CM (COMPRIMENTO X BASE INFERIOR X BASE SUPERIOR X ALTURA). AF_01/2024 | E49: M | F49: 13.8
...

Sheet PO LICITAÇÃO
A1: PREFEITURA MUNICIPAL DE JAQUEIRA
A5: PLANILHA ORÇAMENTÁRIA - LICITAÇÃO
A7: OBRA : REFORMA DA QUADRA DO DISTRITO DE FREI CANECA
A8: LOCAL : DISTRITO DE FREI CANECA - JAQUEIRA - PERNAMBUCO | H8: DATA BASE: SINAPI 02/2026
H9: BDI = 22,42%
A12: ITEM | B12: FONTE | C12: CÓDIGO | D12: DESCRIÇÃO | E12: UN | F12: QUANT. | G12: PLANILHA NÃO DESONERADA SINAPI 02/2026 - BDI 22,42%
G13: VALOR UNIT. S/BDI | H13: VALOR UNIT. C/BDI | I13: VALOR TOTAL S/BDI | J13: VALOR TOTAL C/BDI
A14: I | D14: REFORMA DA QUADRA DO DISTRITO DE FREI CANECA
A15: 1 | D15: CANTEIRO DE OBRAS | I15: =SUM(I16:I17) -> 2812.62 | J15: =SUM(J16:J17) -> 3443.16
A16: 1.1 | B16: SINAPI - 02/2026 | C16: 103689 | D16: FORNECIMENTO E INSTALAÇÃO DE PLACA DE OBRA COM CHAPA GALVANIZADA E ESTRUTURA DE MADEIRA. AF_03/2022_PS | E16: M² | F16: 6 | G16: 468.77 | H16: =TRUNC((G16*1.2242),2) -> 573.86 | I16: =TRUNC((G16*F16),2) -> 2812.62 | J16: =TRUNC((H16*F16),2) -> 3443.16
D17: TOTAL=3,00X2,00 = 6,00M²
A18: 2 | D18: SERVIÇOS PRELIMINARES | I18: =SUM(I19:I24) -> 287.78 | J18: =SUM(J19:J24) -> 352.28
A19: 2.1 | B19: SINAPI - 02/2026 | C19: 97622 | D19: DEMOLIÇÃO DE ALVENARIA DE BLOCO FURADO, DE FORMA MANUAL, SEM REAPROVEITAMENTO. AF_09/2023 | E19: M³ | F19: 1.8 | G19: 63.85 | H19: =TRUNC((G19*1.2242),2) -> 78.16 | I19: =TRUNC((G19*F19),2) -> 114.93 | J19: =TRUNC((H19*F19),2) -> 140.68
D20: ALTERAÇÃO DE ENTRADAS=(1,5*0,27*0,5)+(0,35*0,27*0,5) = 0,25M³
D21: ESPERA DO ALAMBRADO=((10+10+13+13)*0,27*0,25*0,5)=1,55M³
D22: TOTAL=0,25+1,55 = 1,80M³
A23: 2.2 | B23: SINAPI - 02/2026 | C23: 104790 | D23: DEMOLIÇÃO DE PISO DE CONCRETO SIMPLES, DE FORMA MECANIZADA COM MARTELETE, SEM REAPROVEITAMENTO. AF_09/2023 | E23: M³ | F23: 1.64 | G23: 105.4 | H23: =TRUNC((G23*1.2242),2) -> 129.03 | I23: =TRUNC((G23*F23),2) -> 172.85 | J23: =TRUNC((H23*F23),2) -> 211.6
D24: DEMOLIÇÃO DE PISO PARA COLOCAÇÃO DE DRENO=(29,4*0,4*0,07)*2 = 1,64M³
A25: 3 | D25: MOVIMENTO DE TERRAS | I25: =SUM(I26:I28) -> 893.01 | J25: =SUM(J26:J28) -> 1093.18
A26: 3.1 | B26: SINAPI - 02/2026 | C26: 93358 | D26: ESCAVAÇÃO MANUAL DE VALA. AF_09/2024 | E26: M3 | F26: 9.31 | G26: 95.92 | H26: =TRUNC((G26*1.2242),2) -> 117.42 | I26: =TRUNC((G26*F26),2) -> 893.01 | J26: =TRUNC((H26*F26),2) -> 1093.18
D27: ESCAVAÇÃO PARA COLOCAÇÃO DE DRENO=(29,4*0,4*0,33)*2 = 7,76M³
D28: ESCAVAÇÃO PARA BLOCOS DE ANCORAGEM DO ALAMBRADO=((10+10+13+13)*0,27*0,25*0,5) = 1,55M³
D29: TOTAL=7,76+1,55 = 9,31M³
A30: 4 | D30: BLOCOS DE ANCORAGEM | I30: =SUM(I31:I34) -> 3877.03 | J30: =SUM(J31:J34) -> 4746.21
A31: 4.1 | B31: SINAPI - 02/2026 | C31: 96616 | D31: LASTRO DE CONCRETO MAGRO, APLICADO EM BLOCOS DE COROAMENTO OU SAPATAS. | E31: M3 | F31: 2.48 | G31: 894.56 | H31: =TRUNC((G31*1.2242),2) -> 1095.12 | I31: =TRUNC((G31*F31),2) -> 2218.5 | J31: =TRUNC((H31*F31),2) -> 2715.89
D32: ENGASTAMENTO DO ALAMBRADO=((10+10+13+13)*0,27*0,25*0,8) = 2,48M³
A33: 4.2 | B33: SINAPI - 02/2026 | C33: 96535 | D33: FABRICAÇÃO, MONTAGEM E DESMONTAGEM DE FÔRMA PARA SAPATA, EM MADEIRA SERRADA, E=25 MM, 4 UTILIZAÇÕES. AF_01/2024 | E33: M2 | F33: 11.5 | G33: 144.22 | H33: =TRUNC((G33*1.2242),2) -> 176.55 | I33: =TRUNC((G33*F33),2) -> 1658.53 | J33: =TRUNC((H33*F33),2) -> 2030.32
D34: FORMA ANCORAGEM=((10+10+13+13)*0,25*0,5)*2 =11,50M²
A35: 5 | D35: ALVENARIAS | I35: =I36 -> 50.38 | J35: =J36 -> 61.67
A36: 5.1 | B36: SINAPI - 02/2026 | C36: 103326 | D36: ALVENARIA DE VEDAÇÃO DE BLOCOS CERÂMICOS FURADOS NA VERTICAL DE 19X19X39 CM (ESPESSURA 19 CM) E ARGAMASSA DE ASSENTAMENTO COM PREPARO EM BETONEIRA. AF_12/2021 | E36: M2 | F36: 0.58 | G36: 86.87 | H36: =TRUNC((G36*1.2242),2) -> 106.34 | I36: =TRUNC((G36*F36),2) -> 50.38 | J36: =TRUNC((H36*F36),2) -> 61.67
D37: ALTERAÇÃO DA ENTRADA=1,16*0,5 = 0,58M²
A38: 6 | D38: DRENAGEM | I38: =SUM(I39:I44) -> 8754.71 | J38: =SUM(J39:J44) -> 10717.21
A39: 6.1 | B39: SINAPI - 02/2026 | C39: 102668 | D39: DRENO SUBSUPERFICIAL (SEÇÃO 0,40 X 0,40 M), COM TUBO DE PVC CORRUGADO RÍGIDO PERFURADO, DN 100 MM, ENCHIMENTO COM BRITA, ENVOLVIDO COM MANTA GEOTÊXTIL. AF_07/2021 | E39: M | F39: 58.8 | G39: 105.37 | H39: =TRUNC((G39*1.2242),2) -> 128.99 | I39: =TRUNC((G39*F39),2) -> 6195.75 | J39: =TRUNC((H39*F39),2) -> 7584.61
D40: TOTAL=29,4*2 = 58,80M
A41: 6.2 | B41: SINAPI - 02/2026 | C41: 99253 | D41: CAIXA ENTERRADA HIDRÁULICA RETANGULAR EM ALVENARIA COM TIJOLOS CERÂMICOS MACIÇOS, DIMENSÕES INTERNAS: 0,6X0,6X0,6 M PARA REDE DE DRENAGEM. A F_12/2020 | E41: UND | F41: 2 | G41: 567.89 | H41: =TRUNC((G41*1.2242),2) -> 695.21 | I41: =TRUNC((G41*F41),2) -> 1135.78 | J41: =TRUNC((H41*F41),2) -> 1390.42
D42: TOTAL = 2 UND
A43: 6.3 | B43: SINAPI - 02/2026 | C43: 89580 | D43: TUBO PVC, SÉRIE R, ÁGUA PLUVIAL, DN 150 MM, FORNECIDO E INSTALADO EM CONDUTORES VERTICAIS DE ÁGUAS PLUVIAIS. AF_06/2022 | E43: M | F43: 23.7 | G43: 60.05 | H43: =TRUNC((G43*1.2242),2) -> 73.51 | I43: =TRUNC((G43*F43),2) -> 1423.18 | J43: =TRUNC((H43*F43),2) -> 1742.18
D44: TOTAL=17,7+6 = 23,70M
A45: 7 | D45: SISTEMA DE PISO | I45: =SUM(I46:I51) -> 70318.16 | J45: =SUM(J46:J51) -> 86081.99
A46: 7.1 | B46: COTAÇÃO | C46: 1 | D46: GRAMA SINTÉTICA ESPORTIVA PARA FUTEBOL EM POLIETILENO, COM ALTURA MINIMA DE 50MM (FORNECIMENTO E COLOCAÇÃO) | E46: M2 | F46: 540.96 | G46: 95 | H46: 116.3 | I46: =TRUNC((G46*F46),2) -> 51391.2 | J46: =TRUNC((H46*F46),2) -> 62913.64
...

Sheet ENCARGOS
A1: PREFEITURA MUNICIPAL DE JAQUEIRA
A3: COMPOSIÇÃO DE ENCARGOS SOCIAIS SOBRE A MÃO DE OBRA
A6: OBRA : REFORMA DA QUADRA DO DISTRITO DE FREI CANECA
A7: LOCAL : DISTRITO DE FREI CANECA - JAQUEIRA - PERNAMBUCO
A12: CÓDIGO | B12: DESCRIÇÃO | C12: COM DESONERAÇÃO | E12: SEM DESONERAÇÃO
C13: HORISTA | D13: MENSALISTA | E13: HORISTA | F13: MENSALISTA
C14: % | D14: % | E14: % | F14: %
A15: GRUPO A
A16: A1 | B16: INSS | C16: 0 | D16: 0 | E16: 0.2 | F16: 0.2
A17: A2 | B17: SESI | C17: 0.015 | D17: 0.015 | E17: 0.015 | F17: 0.015
A18: A3 | B18: SENAI | C18: 0.01 | D18: 0.01 | E18: 0.01 | F18: 0.01
A19: A4 | B19: INCRA | C19: 0.002 | D19: 0.002 | E19: 0.002 | F19: 0.002
A20: A5 | B20: SEBRAE | C20: 0.006 | D20: 0.006 | E20: 0.006 | F20: 0.006
A21: A6 | B21: SALÁRIO EDUCAÇÃO | C21: 0.025 | D21: 0.025 | E21: 0.025 | F21: 0.025
A22: A7 | B22: SEGURO CONTRA ACIDENTES DE TRABALHO | C22: 0.03 | D22: 0.03 | E22: 0.03 | F22: 0.03
A23: A8 | B23: FGTS | C23: 0.08 | D23: 0.08 | E23: 0.08 | F23: 0.08
A24: A9 | B24: SECONCI | C24: 0 | D24: 0 | E24: 0 | F24: 0
A25: A | B25: TOTAL | C25: =SUM(C16:C24) -> 0.168 | D25: =SUM(D16:D24) -> 0.168 | E25: =SUM(E16:E24) -> 0.368 | F25: =SUM(F16:F24) -> 0.368
A27: GRUPO B
A28: B1 | B28: REPOUSO SEMANAL REMUNERADO | C28: 0.2168 | D28: NÃO INCIDE | E28: 0.2168 | F28: NÃO INCIDE
A29: B2 | B29: FERIADOS | C29: 0 | D29: NÃO INCIDE | E29: 0 | F29: NÃO INCIDE
A30: B3 | B30: AUXILIO - ENFERMIDADE | C30: 0.0083 | D30: 0.0077 | E30: 0.0083 | F30: 0.0077
A31: B4 | B31: 13º SALÁRIO | C31: 0.1106 | D31: 0.0833 | E31: 0.1106 | F31: 0.0833
A32: B5 | B32: LICENÇA PATERNIDADE | C32: 0.0006 | D32: 0.0008 | E32: 0.0006 | F32: 0.0008
A33: B6 | B33: FALTAS JUSTIFICADAS | C33: 0.0074 | D33: 0.0056 | E33: 0.0074 | F33: 0.0056
A34: B7 | B34: DIAS DE CHUVA | C34: 0.0198 | D34: NÃO INCIDE | E34: 0.0198 | F34: NÃO INCIDE
A35: B8 | B35: AUXÍLO ACIDENTES DE TRABALHO | C35: 0.0017 | D35: 0.0013 | E35: 0.0017 | F35: 0.0013
A36: B9 | B36: FÉRIAS GOZADAS | C36: 0.1474 | D36: 0.1111 | E36: 0.1474 | F36: 0.1111
A37: B10 | B37: SALÁRIO MATERNIDADE | C37: 0.0004 | D37: 0.0003 | E37: 0.0004 | F37: 0.0003
A38: B | B38: TOTAL | C38: =SUM(C28:C37) -> 0.513 | D38: =SUM(D28:D37) -> 0.2101 | E38: =SUM(E28:E37) -> 0.513 | F38: =SUM(F28:F37) -> 0.2101
A40: GRUPO C
A41: C1 | B41: AVISO PRÉVIO INDENIZADO | C41: 0 | D41: 0 | E41: 0 | F41: 0
A42: C2 | B42: AVISO PRÉVIO TRABALHADO | C42: 0.0011 | D42: 0.0009 | E42: 0.0011 | F42: 0.0009
A43: C3 | B43: FÉRIAS INDENIZADAS | C43: 0.0291 | D43: 0.022 | E43: 0.0291 | F43: 0.022
A44: C4 | B44: DEPÓSITO RESCISÃO SEM JUSTA CAUSA | C44: 0.0283 | D44: 0.0214 | E44: 0.0283 | F44: 0.0214
A45: C5 | B45: INDENIZAÇÃO ADICIONAL | C45: 0.004 | D45: 0.0031 | E45: 0.004 | F45: 0.0031
A46: C | B46: TOTAL | C46: =SUM(C41:C45) -> 0.0625 | D46: =SUM(D41:D45) -> 0.0474 | E46: =SUM(E41:E45) -> 0.0625 | F46: =SUM(F41:F45) -> 0.0474
A48: GRUPO D
A49: D1 | B49: REINCIDÊNCIA DE GRUPO A SOBRE GRUPO B | C49: 0.0807 | D49: 0.0301 | E49: 0.1768 | F49: 0.0659
A50: D2 | B50: REINCIDÊNCIA DE GRUPO A SOBRE AVISO PRÉVIO TRABALHADO E REINCIDÊNCIA DO FGTS SOBRE AVISO PRÉVIO INDENIZADO | C50: 0.004 | D50: 0.0031 | E50: 0.0042 | F50: 0.0032
...

Sheet CRONO
A1: PREFEITURA MUNICIPAL DE JAQUEIRA
A8: CRONOGRAMA FÍSICO-FINANCEIRO
A11: OBRA : REFORMA DA QUADRA DO DISTRITO DE FREI CANECA
A12: LOCAL : DISTRITO DE FREI CANECA - JAQUEIRA - PERNAMBUCO
A17: ITEM | B17: SERVIÇOS | C17: TOTAL | D17: INC. | E17: CRONOGRAMA FÍSICO-FINANCEIRO
C18: (R$) | D18: % | E18: MÊS 1 | I18: MÊS 2 | M18: MÊS 3 | Q18: MÊS 4 | U18: Acumulado
E19: R$ | I19: R$ | M19: R$ | Q19: R$
A20: 1 | B20: REFORMA DA QUADRA DO DISTRITO DE FREI CANECA | U20: =SUM(U22:U43) -> 183046.38
A22: 1 | B22: CANTEIRO DE OBRAS | C22: ='PO LICITAÇÃO'!J15 -> 3443.16 | D22: =C22/C50 -> 0.018810315 | E22: =C22 -> 3443.16 | U22: =C22 -> 3443.16
A24: 2 | B24: =[1]Resumo!$B$20 -> SERVIÇOS PRELIMINARES | C24: ='PO LICITAÇÃO'!J18 -> 352.28 | D24: =C24/C50 -> 0.0019245396 | E24: =C24 -> 352.28 | U24: =SUM(E24:T24) -> 352.28
A26: 3 | B26: MOVIMENTO DE TERRAS | C26: ='PO LICITAÇÃO'!J25 -> 1093.18 | D26: =C26/C50 -> 0.0059721476 | E26: =C26 -> 1093.18 | U26: =SUM(E26:T26) -> 1093.18
A28: 4 | B28: BLOCOS DE ANCORAGEM | C28: ='PO LICITAÇÃO'!J30 -> 4746.21 | D28: =C28/C50 -> 0.025929002 | E28: =C28 -> 4746.21 | U28: =SUM(E28:T28) -> 4746.21
A30: 5 | B30: =[1]Resumo!$B$28 -> ALVENARIAS | C30: ='PO LICITAÇÃO'!J35 -> 61.67 | D30: =C30/C50 -> 0.00033690915 | E30: =C30 -> 61.67 | U30: =SUM(E30:T30) -> 61.67
A32: 6 | B32: =[1]Resumo!$B$30 -> DRENAGEM | C32: ='PO LICITAÇÃO'!J38 -> 10717.21 | D32: =C32/C50 -> 0.05854915 | E32: =C32 -> 10717.21 | U32: =SUM(E32:T32) -> 10717.21
A34: 7 | B34: =[1]Resumo!$B$32 -> SISTEMA DE PISO | C34: ='PO LICITAÇÃO'!J45 -> 86081.99 | D34: =C34/C50 -> 0.4702742 | E34: =E58-E22-E24-E26-E28-E30-E32 -> 25347.89 | I34: =I58 -> 45761.6 | M34: =C34-E34-I34 -> 14972.5 | U34: =SUM(E34:T34) -> 86081.99
A36: 8 | B36: ='[1]PLANILHA ORÇAMENTÁRIA'!D64 -> REVESTIMENTO DE PAREDES | C36: ='PO LICITAÇÃO'!J52 -> 917.02 | D36: =C36/C52 -> 0.0050097686 | M36: =C36 -> 917.02 | U36: =SUM(E36:T36) -> 917.02
A38: 9 | B38: =[1]Resumo!$B$36 -> INSTALAÇÕES ELÉTRICAS | C38: ='PO LICITAÇÃO'!J57 -> 16760.07 | D38: =C38/C54 -> 0.091561876 | M38: =C38 -> 16760.07 | U38: =SUM(E38:T38) -> 16760.07
A40: 10 | B40: =[1]Resumo!$B$38 -> PINTURA | C40: ='PO LICITAÇÃO'!J76 -> 6910.03 | D40: =C40/C50 -> 0.037750159 | M40: =C40 -> 6910.03 | U40: =SUM(E40:T40) -> 6910.03
A42: 11 | B42: =[1]Resumo!$B$40 -> SERVIÇOS COMPLEMENTARES | C42: ='PO LICITAÇÃO'!J83 -> 51963.56 | D42: =C42/C50 -> 0.28388193 | M42: =M58-M34-M36-M38-M40 -> 6201.98 | Q42: =C42-M42 -> 45761.58 | U42: =SUM(E42:T42) -> 51963.56
U44: =SUM(E44:T44) -> 0
U46: =SUM(E46:T46) -> 0
U48: =SUM(E48:T48) -> 0
B50: TOTAL FINANCEIRO | C50: =SUM(C22:C49) -> 183046.38 | D50: =SUM(D22:D49) -> 1 | E50: =E22+E24+E26+E28+E30+E32+E34+E36+E38+E40+E42 -> 45761.6 | I50: =I22+I24+I26+I28+I30+I32+I34+I36+I38+I40+I42 -> 45761.6 | M50: =M22+M24+M26+M28+M30+M32+M34+M36+M38+M40+M42 -> 45761.6 | Q50: =Q22+Q24+Q26+Q28+Q30+Q32+Q34+Q36+Q38+Q40+Q42 -> 45761.58 | U50: =SUM(U22:U49) -> 183046.38
B52: TOTAL FINANCEIRO ACUMULADO | C52: =C50 -> 183046.38 | D52: =D50 -> 1 | E52: =E50 -> 45761.6 | I52: =I50+E52 -> 91523.2 | M52: =M50+I52 -> 137284.8 | Q52: =Q50+M52 -> 183046.38 | U52: =U50 -> 183046.38
B54: TOTAL FISICO ACUMULADO | C54: =C52 -> 183046.38 | D54: =D52 -> 1 | E54: =E52/C50 -> 0.25000003 | I54: =I52/C50 -> 0.50000005 | M54: =M52/C50 -> 0.75000008 | Q54: =Q52/C50 -> 1 | U54: 1
A56: PRAZO DE EXECUÇÃO : 4 (QUATRO) MESES
C58: =C50/4 -> 45761.595 | E58: 45761.6 | I58: 45761.6 | M58: 45761.6 | Q58: 45761.58
U60: =U50*0.75 -> 137284.79
A61: _________________________________________
A62: ADALBERTO QUEIROZ DA SILVA NETO
A63: ENGENHEIRO CIVIL - CREA 29.759 D/PE

Sheet COTAÇÃO
A1: PREFEITURA MUNICIPAL DE JAQUEIRA
A5: MAPA DE COTAÇÃO
A7: OBRA : REFORMA DA QUADRA DO DISTRITO DE FREI CANECA
A8: LOCAL : DISTRITO DE FREI CANECA - JAQUEIRA - PERNAMBUCO
A12: ITEM | B12: DESCRIÇÃO | C12: QUANT | D12: UND | E12: COTAÇÃO 01 | F12: COTAÇÃO 02 | H12: COTAÇÃO 03
B15: REFORMA DA QUADRA DO DISTRITO DE FREI CANECA | E15: GF ESPORTES | F15: BGS BIRA | H15: TOPFIELD
A17: 1 | B17: GRAMA SINTÉTICA ESPORTIVA PARA FUTEBOL EM POLIETILENO, COM ALTURA MINIMA DE 50MM (FORNECIMENTO E COLOCAÇÃO) | C17: 760 | D17: M² | E17: 69300 | F17: 76000 | H17: 72200
A28: TOTAL | H28: =SUM(H16:H26) -> 72200
C30: BDI | E30: CALCULO | F30: VALOR TOTAL | G30: QUANTIDADE(M²) | H30: VALOR UNITÁRIO
A31: VALOR NÂO DESONERADO | C31: 0.2242 | E31: 72.200*1,2242 | F31: 88388 | G31: 760 | H31: =F31/G31 -> 116.3
A32: VALOR DESONERADO | C32: 0.273 | E32: 72.200*1,273 | F32: 91910.6 | G32: 760 | H32: =F32/G32 -> 120.935
E34: VALOR SEM BDI =72200/760 = R$ 95,00/M²
A40: _____________________________________________
A41: ADALBERTO QUEIROZ DA SILVA NETO
A42: ENGENHEIRO CIVIL - CREA 29.759 D/PE

Sheet DADOS
A1: NOME | B1: =OFFSET(#REF!,MATCH(A1,#REF!,0),0) -> #REF!
A2: CNPJ | B2: =OFFSET(#REF!,MATCH(A2,#REF!,0),0) -> #REF!
A3: ENDEREÇO | B3: =OFFSET(#REF!,MATCH(A3,#REF!,0),0) -> #REF!
A4: BAIRRO | B4: =OFFSET(#REF!,MATCH(A4,#REF!,0),0) -> #REF!
A5: CIDADE | B5: =OFFSET(#REF!,MATCH(A5,#REF!,0),0) -> #REF!
A6: UF | B6: =OFFSET(#REF!,MATCH(A6,#REF!,0),0) -> #REF!
A7: CEP | B7: =OFFSET(#REF!,MATCH(A7,#REF!,0),0) -> #REF!
A8: DDD/FONE1 | B8: =OFFSET(#REF!,MATCH(A8,#REF!,0),0) -> #REF!
A9: DDD/FONE2 | B9: =OFFSET(#REF!,MATCH(A9,#REF!,0),0) -> #REF!
A10: CONTA CORRENTE | B10: =OFFSET(#REF!,MATCH(A10,#REF!,0),0) -> #REF!
A11: BANCO | B11: =OFFSET(#REF!,MATCH(A11,#REF!,0),0) -> #REF!
A12: AGÊNCIA | B12: =OFFSET(#REF!,MATCH(A12,#REF!,0),0) -> #REF!
... A56: 9. INVESTIMENTO TOTAL (7+8): | B56: =OFFSET(#REF!,MATCH(A56,#REF!,0),0) -> #REF!
