Workbook

Sheet PLANILHA
B1: SECRETARIA DE ESTADO DE EDUCAÇÃO - SUPERINTENDÊNCIA DE INFRAESTRUTURA E LOGÍSTICA - DIRETORIA DE GESTÃO DE PARCERIAS E FISCALIZAÇÃO - PLANILHA DE SERVIÇOS - SEM DESONERAÇÃO
A2: ESCOLA ESTADUAL / MUNICIPAL: JOSÉ PETRONILHO | C2: COD ESCOLA: | E2: 31076911 | F2: S.R.E.: | G2: 20ª SRE MANHUAÇU
A3: MUNICÍPIO: LUISBURGO-MG | C3: ISS | D3: 0.05 | E3: SERVIÇOS: | F3: CONSTRUÇÃO / AMPLIAÇÃO / REFORMA
A4: ITEM | B4: DESCRIÇÃO | C4: UN | D4: ANALISADO | G4: =G290 -> 441218.23 | H4: LOCAL DE INTERVENÇÃO
D5: QUANT. | E5: P. UNIT. (S/BDI) | F5: P. UNIT. (C/BDI) | G5: P. TOTAL (C/BDI) | H5: MEMÓRIA DE CALCULO
A6: 010000 | B6: INSTALAÇÃO DOS SERVIÇOS DE ENGENHARIA
A7: 010003 | B7: Fornecimento e colocação de placa dos serviços de engenharia em chapa galvanizada (3,00 X 1,50m) - Governo do Estado - (Ampliação e / ou Reforma acima de R$ 30.000,00) | C7: UN | D7: 1 | E7: 1230.21 | F7: =E7*(1+C$289) -> 1530.7503 | G7: =D7*F7 -> 1530.7503
B8: Será medido por unidade de placa instalada (UN). O item remunera as placas de obras que deverão ser confeccionadas em chapa galvanizada 0,26. As chapas serão afixadas com rebites 540 e parafusos 3/8, em uma estrutura metálica com viga U 2” enrijecida e Metalon 20x20. O suporte para a instalação deverá ser em Eucalipto Autoclavado. As placas serão pintadas na frente e no verso com fundo anticorrosivo e tinta automotiva. FORMATO: 3,00 x 1,50m. O tamanho da placa é definido em função do local da sua instalação e/ou do valor dos serviços acima de R$ 30.000,00, obedecendo à proporção de 6,00 x 3,00m e o manual de identidade visual do Governo de Minas. | H8: 1 unidade
C9: SUB-TOTAL = | G9: =SUM(G7:G8) -> 1530.7503
A10: 020000 | B10: DEMOLIÇÕES E REMOÇÕES
A11: 020003 | B11: Demolição de alvenaria de elevação em tijolo comum ou elemento vazado, incluindo o revestimento. | C11: M3 | D11: =1.46*2.5*0.17+0.3*2.5*0.17+2.5*1.2*0.17 -> 1.258 | E11: 106.5 | F11: =E11*(1+C$289) -> 132.51795 | G11: =D11*F11 -> 166.70758
B12: Será medido pelo volume real demolido, aferido antes da demolição (m³). O item remunera o fornecimento da mão-de-obra necessária e ferramentas adequadas para a execução dos serviços: desmonte, demolição, fragmentação de elementos em alvenaria de elevação em tijolo comum ou elemento vazado, manualmente; a seleção e acomodação manual do entulho em lotes. A execução dos serviços deverá cumprir todas as exigências e determinações previstas na legislação: Resolução nº 307, de 5 de julho de 2002, pelo Conselho Nacional do Meio Ambiente ( CONAMA ), NBR 15112, NBR 15113, NBR 15114 e outras vigentes à época da execução dos serviços. | H12: Paredes do banheiro = 1,46 X 2,50 X 0,17 Aumento da porta do banheiro = 0,30 x 2,50 x 0,17 Abertura de Janela = 2,50 x 1,20 x 0,17
A14: 020004 | B14: Demolição de revestimento cerâmico incluindo base | C14: M² | D14: =(24.52+22.6+15.28+19.42)*1.7+(2.46+11.93+7.82+3.56+1.61+2.3+1.61+3.56+9.16+5.04+1.5+4.75)*1.25+15.7*2.8 -> 252.179 | E14: 21.08 | F14: =E14*(1+C$289) -> 26.229844 | G14: =D14*F14 -> 6614.6158
B15: Será medido por área real de revestimento cerâmico, inclusive a base, demolido, aferida antes da demolição (m²). O item remunera o fornecimento da mão-de-obra necessária e ferramentas adequadas para a execução dos serviços: demolição, fragmentação de revestimentos cerâmicos, inclusive a base de assentamento, manualmente; a seleção e acomodação manual do entulho em lotes. A execução dos serviços deverá cumprir todas as exigências e determinações previstas na legislação: Resolução nº 307, de 5 de julho de 2002, pelo Conselho Nacional do Meio Ambiente ( CONAMA ), NBR 15112, NBR 15113, NBR 15114 e outras vigentes à época da execução do serviços. | H15: Barrado de Cerâmica (Salas) Perímetro do ambiente x 1,25 de altura) = (24,52+22,60+15,28+19,42) x 1,70 Circulação: (2,46+11,93+7,82+3,56+1,61+2,30+1,61+3,56+9,16+5,04+1,50+4,75) x 1,25 Cozinha = 15,70 x 2,80
A17: 020008 | B17: Demolição de cobertura de telha cerâmica com reaproveitamento | C17: M² | D17: =(18.6*11.62)*1.08+(5.29*2)*1.05 -> 244.53156 | E17: 24.68 | F17: =E17*(1+C$289) -> 30.709324 | G17: =D17*F17 -> 7509.3989
B18: Será medido pela área de cobertura em projeção horizontal (m²), com os acréscimos: a) 5% para cobertura de 18% a 27% de inclinação; b) 8% para cobertura de 28% a 38% de inclinação; c) 12% para cobertura de 39% a 50% de inclinação. O item remunera o fornecimento da mão-de-obra necessária para a retirada completa das telhas de cerâmica, inclusive elementos de fixação, a seleção e a guarda das peças reaproveitáveis. Remunera também; a carga, o transporte o descarregamento; a seleção e acomodação manual do entulho das peças não reaproveitadas em lotes. A execução dos serviços deverá cumprir todas as exigências e determinações previstas na legislação: Resolução nº 307, de 5 de julho de 2002, pelo Conselho Nacional do Meio Ambiente ( CONAMA ), NBR 15112, NBR 15113, NBR 15114 e outras vigentes à época da execução dos serviços. | H18: Edificação Principal = (18,60 x 11,62) x 1,08 Acesso ao lado da igreja = (5,29 x 2,00) x 1,05
A20: 020010 | B20: Demolição de cobertura de telha ondulada de fibrocimento, com reaproveitamento, transporte e empilhamento | C20: M² | D20: =8.05*4.38 -> 35.259 | E20: 13.09 | F20: =E20*(1+C$289) -> 16.287887 | G20: =D20*F20 -> 574.29461
B21: Será medido pela área de cobertura em projeção horizontal (m²): O item remunera o fornecimento da mão-de-obra necessária para a retirada completa das telhas ondulada de fibrocimento, inclusive elementos de fixação, a seleção e a guarda das peças reaproveitáveis. Remunera também; a carga, o transporte o descarregamento; a seleção e acomodação manual do entulho das peças não reaproveitadas em lotes. A execução dos serviços deverá cumprir todas as exigências e determinações previstas na legislação: Resolução nº 307, de 5 de julho de 2002, pelo Conselho Nacional do Meio Ambiente ( CONAMA ), NBR 15112, NBR 15113, NBR 15114 e outras vigentes à época da execução dos serviços. | H21: Refeitório (8,05 x 4,38)
A23: 020014 | B23: Demolição de estrutura de madeira para telhado de telha cerâmica sem reaproveitamento, inclusive transporte e empilhamento | C23: M² | D23: =35.26+244.53 -> 279.79 | E23: 10.31 | F23: =E23*(1+C$289) -> 12.828733 | G23: =D23*F23 -> 3589.3512
B24: Será medido pela área de cobertura em projeção horizontal (m²). O item remunera o fornecimento da mão-de-obra necessária para a retirada completa da estrutura de madeira, para telhas cerâmicas, a seleção e a guarda das peças possíveis de serem reaproveitáveis. Remunera também; a carga, o transporte o descarregamento; a seleção e acomodação manual do entulho das peças não reaproveitadas em lotes. A execução dos serviços deverá cumprir todas as exigências e determinações previstas na legislação: Resolução nº 307, de 5 de julho de 2002, pelo Conselho Nacional do Meio Ambiente ( CONAMA ), NBR 15112, NBR 15113, NBR 15114 e outras vigentes à época da execução dos serviços. | H24: Igual área do telhado = 35,26+244,53
A26: 020022 | B26: Demolição de piso cimentado inclusive a base sobre lastro de concreto. | C26: M² | D26: 24 | E26: 18.07 | F26: =E26*(1+C$289) -> 22.484501 | G26: =D26*F26 -> 539.62802
B27: Será medido por área real de piso cimentado, inclusive a base, demolido, medida no projeto ou aferida antes da demolição (m²). O item remunera o fornecimento da mão-de-obra necessária e ferramentas adequadas para a execução dos serviços: demolição, fragmentação de pisos cimentados, inclusive a base de assentamento, manualmente; a seleção e acomodação manual do entulho em lotes. A execução dos serviços deverá cumprir todas as exigências e determinações previstas na legislação: Resolução nº 307, de 5 de julho de 2002, pelo Conselho Nacional do Meio Ambiente ( CONAMA ), NBR 15112, NBR 15113, NBR 15114 e outras vigentes à época da execução dos serviços. | H27: Acesso externo (bloquetes) = 24m²
A29: 020023 | B29: Demolição de piso cerâmico inclusive a base sobre lastro de concreto. | C29: M² | D29: =35.67+31.55+13.1+23.54+14.21+(2.46*4.75)+(0.96*5.04)+(7.82*1.84)+((3.56+1.84)*2.3)+1.57*2+13.15+18.83 -> 196.5222 | E29: 16.87 | F29: =E29*(1+C$289) -> 20.991341 | G29: =D29*F29 -> 4125.2645
B30: Será medido por área real de revestimento cerâmico, inclusive a base, demolido, medida no projeto ou aferida antes da demolição (m²). O item remunera o fornecimento da mão-de-obra necessária e ferramentas adequadas para a execução dos serviços: demolição, fragmentação de revestimentos cerâmicos, inclusive a base de assentamento, manualmente; a seleção e acomodação manual do entulho em lotes. A execução dos serviços deverá cumprir todas as exigências e determinações previstas na legislação: Resolução nº 307, de 5 de julho de 2002, pelo Conselho Nacional do Meio Ambiente ( CONAMA ), NBR 15112, NBR 15113, NBR 15114 e outras vigentes à época da execução dos serviços. | H30: Piso (Área dos ambientes-Salas e Cozinha) = 35,67+31,55+13,10+23,54+14,21 Circulação: (2,46 x 4,75) + (0,96 x 5,04) + (7,82 x 1,84) + ((3,56+1,84) x 2,30) Banheiros: 1,57+1,57 Acesso externo: 13,15 Refeitório: 18,83
A32: 020027 | B32: Remoção de portas, janelas e grades metálicas, inclusive caixilhos | C32: M² | D32: =6*2.5*1.2+2.15*1.8+6*2.5*1.2+0.75*1.1+1.55*2.65+1*2.15+0.9*1.65+0.8*0.95 -> 49.1975 | E32: 18.93 | F32: =E32*(1+C$289) -> 23.554599 | G32: =D32*F32 -> 1158.8274
B33: Será medido pela área da esquadria retirada (m²). O item remunera o fornecimento da mão-de-obra necessária para a retirada completa de esquadrias metálicas e acessórios, em geral; a seleção e a guarda das peças reaproveitáveis. Remunera também; a carga, o transporte o descarregamento; a seleção e acomodação manual do entulho das peças não reaproveitadas em lotes. A execução dos serviços deverá cumprir todas as exigências e determinações previstas na legislação: Resolução nº 307, de 5 de julho de 2002, pelo Conselho Nacional do Meio Ambiente ( CONAMA ), NBR 15112, NBR 15113, NBR 15114 e outras vigentes à época da execução dos serviços. | H33: Janelas 2,50 x 1,20 = 6 unidades Gradil Fundos = 2,15 x 1,80 Grades Janelas = 6 x 2,50 x 1,20 Portão Refeitório = 0,75 x 1,10 Portão Fundos = 1,55 x 2,65 Portão acesso = 1,00 x 2,15 Gradil Frontal = 0,90 x 1,65 Janela Guichê = 0,80 x 0,95
A35: 020031 | B35: Retirada de folha de porta ou folha de janela de madeira. | C35: M² | D35: =7*0.8*2.1 -> 11.76 | E35: 9.21 | F35: =E35*(1+C$289) -> 11.460003 | G35: =D35*F35 -> 134.76964
B36: Será medido por área retirada (m²). O item remunera o fornecimento de mão-de-obra necessária para a retirada de folha de esquadria em madeira, a seleção e a guarda das peças reaproveitáveis. Remunera também; a carga, o transporte o descarregamento; a seleção e acomodação manual do entulho das peças não reaproveitadas em lotes. A execução dos serviços deverá cumprir todas as exigências e determinações previstas na legislação: Resolução nº 307, de 5 de julho de 2002, pelo Conselho Nacional do Meio Ambiente ( CONAMA ), NBR 15112, NBR 15113, NBR 15114 e outras vigentes à época da execução dos serviços. | H36: Porta da cozinha = 1 x 0,80 x 2,10 Portas das salas = 4 x 0,80 x 2,10 Portas dos banheiros = 2 x 0,80 x 2,10
A38: 020032 | B38: Remoção de marcos chumbados de madeira, alisares e acessórios | C38: UN | D38: 7 | E38: 18.46 | F38: =E38*(1+C$289) -> 22.969778 | G38: =D38*F38 -> 160.78845
B39: Será medido pelo unidade de peças retiradas (un). O item remunera o fornecimento de mão-de-obra necessária para a retirada de batentes com guarnição e peças lineares em madeira, chumbados; remunera também a seleção e a guarda das peças reaproveitáveis, a carga, o transporte o descarregamento; a seleção e acomodação manual do entulho das peças não reaproveitadas em lotes. A execução dos serviços deverá cumprir todas as exigências e determinações previstas na legislação: Resolução nº 307, de 5 de julho de 2002, pelo Conselho Nacional do Meio Ambiente ( CONAMA ), NBR 15112, NBR 15113, NBR 15114 e outras vigentes à época da execução dos serviços. | H39: Porta da cozinha = 1 unidade Portas das salas = 4 unidade Portas dos banheiros = 2 unidades
A41: 020035 | B41: Remoção de louças (lavatório, pia, tanque, vaso sanitário) | C41: UN | D41: 9 | E41: 43.83 | F41: =E41*(1+C$289) -> 54.537669 | G41: =D41*F41 -> 490.83902
B42: Será medido pela quantidade real de louças com provável reaproveitamento ou não, inclusive sistema de fixação medida no projeto ou aferida antes da demolição (un). O item remunera o fornecimento da mão-de-obra necessária e ferramentas adequadas para a execução dos serviços: remoção de louças e sistema de fixação, fragmentação das unidades sem possibilidade de reaproveitamento e a seleção e acomodação do restante, separação manual do entulho em lotes. A execução dos serviços deverá cumprir todas as exigências e determinações previstas na legislação: Resolução nº 307, de 5 de julho de 2002, pelo Conselho Nacional do Meio Ambiente ( CONAMA ), NBR 15112, NBR 15113, NBR 15114 e outras vigentes à época da execução dos serviços. | H42: Tanques = 6 unidades vasos = 2 unidades Chuveiro = 1 unidade
A44: 020100 | B44: Demolição de forro
B45: Será medido por área real de forro demolido, inclusive sistema de fixação, aferida antes da demolição (m²). O item remunera o fornecimento da mão-de-obra necessária e ferramentas adequadas para a execução dos serviços: demolição, fragmentação de forro, inclusive o sistema de fixação, manualmente; a seleção e acomodação manual do entulho em lotes. A execução dos serviços deverá cumprir todas as exigências e determinações previstas na legislação: Resolução nº 307, de 5 de julho de 2002, pelo Conselho Nacional do Meio Ambiente ( CONAMA ), NBR 15112, NBR 15113, NBR 15114 e outras vigentes à época da execução dos serviços. | H45: Área dos ambientes = 35,67+31,55+11,69+13,10+19,52+12,42+14,21+23,54
A47: 020103 | B47: Forro de PVC. | C47: M² | D47: =35.67+31.55+11.69+13.1+19.52+12.42+14.21+23.54 -> 161.7 | E47: 6.39 | F47: =E47*(1+C$289) -> 7.951077 | G47: =D47*F47 -> 1285.6892
C48: SUB-TOTAL = | G48: =SUM(G10:G47) -> 26350.174
A49: 040000 | B49: SONDAGEM, FUNDAÇÕES, MUROS E CONTENÇÕES
A50: 040005 | B50: Contrapiso não estrutural impermeabilizado, E=5 cm | C50: M2 | D50: =1.91+1.84+3.36 -> 7.11 | E50: 61.51 | F50: =E50*(1+C$289) -> 76.536893 | G50: =D50*F50 -> 544.17731
B51: Será medido pela área onde será executado, na espessura mínima de 5cm (m²). O item remunera o fornecimento de cimento, areia, pedra britada nº 1, 2, e a mão-de-obra necessária para o apiloamento do terreno e execução do lastro. | H51: Banheiros = 1,91+1,84+3,36
C52: SUB-TOTAL = | G52: =SUM(G50:G51) -> 544.17731
A53: 070000 | B53: COBERTURA E FORRO
A54: 070100 | B54: Fornecimento, transporte e colocação de telhas, tipo:
A56: 070105 | B56: Cerâmica Colonial, inclinação 35% (m²= área de projeção do telhado x 1,08) | C56: M2 | D56: =8.05*4.89*1.08+11.62*18.6*1.08+11.62*3*1.05 -> 312.53922 | E56: 134.96 | F56: =E56*(1+C$289) -> 167.93073 | G56: =D56*F56 -> 52484.939
B57: Será medido pela área de cobertura em projeção horizontal (m²) com os acréscimos: A) 5% para coberturas de 18% a 27% de inclinação; B) 8% para coberturas de 28% a 38% de inclinação; C) 12% para coberturas de 39% a 50% de inclinação. O item remunera o fornecimento das telhas, materiais, acessórios e a mão-de-obra necessária para a colocação, fixação e emboçamento das telhas. | H57: Refeitório = 8,05 x 4,89 x 1,08 Edificação Principal = 11,62 x 18,60 x 1,08 Acesso = 11,62 x 3,00 x 1,05
A59: 070200 | B59: Fornecimento, transporte e colocação de cumeeira e espigão:
A60: 070201 | B60: Para telha cerâmica referência 3 unidades / m | C60: M | D60: =8.21*4+6.98+8.05 -> 47.87 | E60: 35.47 | F60: =E60*(1+C$289) -> 44.135321 | G60: =D60*F60 -> 2112.7578
B61: Será medido pelo comprimento executado (m). O item remunera o fornecimento das peças de cumeeiras e ou espigão, materiais acessórios e a mão-de-obra necessária para o assentamento e emboçamento das peças. | H61: Telhado principal = (8,21 x 4) + 6,98 Refeitório = 8,05
A63: 070400 | B63: Instalação de Calhas e rufos:
B64: Será medido por comprimento instalado (m). Os itens remuneram o fornecimento e instalação de calhas ou rufos em chapa galvanizada nº 24, com desenvolvimento descrito no item, inclusive materiais acessórios para emendas, junção em outras peças, vedação e fixação.
A66: 070403 | B66: Calha de chapa galvanizada, nº 24 desenvolvimento 60 cm | C66: M | D66: =8.05+11.62 -> 19.67 | E66: 81.24 | F66: =E66*(1+C$289) -> 101.08693 | G66: =D66*F66 -> 1988.38 | H66: Lateral do Refeitório = 8,05 Telhado do acesso = 11,62
A67: 070500 | B67: Condutor de água pluvial e buzinotes
B68: Será medido por comprimento instalado (m). O item remunera o fornecimento de materiais e mão de obra para instalação de tubo na cor branca (condutores) verticais e executadas com PVC reforçado com as juntas com bolsa e anel de borracha, inclusive materiais acessórios para emendas, suportes, junção em outras peças, vedação e fixação.
A70: 070502 | B70: Condutor de água (tubo de PVC branco, com conexões, ponta bolsa e virola, diâmetro da seção 100mm) | C70: M | D70: 9 | E70: 84.45 | F70: =E70*(1+C$289) -> 105.08114 | G70: =D70*F70 -> 945.73022 | H70: Calha do telhado de acesso = 3m Calha do telhado do refeitório = 6m
A72: 070600 | B72: Fornecimento, transporte e execução de engradamento:
B73: Será medido pela área de projeção horizontal da cobertura (m²). O item remunera o fornecimento de: madeira seca maciça, referência Cupiúba, Paraju ou outra madeira classificada conforme a resistência à compressão paralela às fibras de acordo com a NBR 7190 / 97 e a Legislação Brasileira vigente, livre de esmagamentos, isenta de defeitos como nós, fendas ou rachaduras, arqueamento, sinais de deterioração por insetos ou fungos, desbitolamento, ou qualquer outro defeito que comprometa a resistência da madeira; ferragem específica para estrutura abrangendo chapas, estribos, braçadeiras, chumbadores, pregos, parafusos e porcas em aço com acabamento galvanizado a fogo; materiais acessórios, conforme determinações do projeto; equipamentos e a mão-de-obra necessária para a confecção e montagem de estrutura completa em tesouras com vãos conforme abaixo, para cobertura em telhas cerâmicas ou de concreto, constituída por: armação principal em treliças paralelas ( tesouras ) e trama com com terças, caibros e ripas, nas dimensões conforme projeto e determinações da NBR 7190 / 97.
A75: 070601 | B75: Estrutura de madeira tesourada p/ telha cerâmica ou de concreto, vão de até 7,00m | C75: M2 | D75: 312.54 | E75: 367.72 | F75: =E75*(1+C$289) -> 457.554 | G75: =D75*F75 -> 143003.93 | H75: Área de telhado = 312,54
A77: 070700 | B77: Fornecimento, transporte e colocação de forro:
A78: 070703 | B78: Forro de PVC em painéis lineares encaixados entre si e fixados em estrutura de aço (Metalon), dimensões 200x6000 mm | C78: M2 | D78: =35.67+31.55+8.44+13.1+19.52+23.54+14.21+3.66+1.91+1.84+22.47+3.36 -> 179.27 | E78: 73.61 | F78: =E78*(1+C$289) -> 91.592923 | G78: =D78*F78 -> 16419.863
B79: Será medido por área de forro instalado (m²). O item remunera o fornecimento e instalação de forro alveolar extrudado, em lâminas de PVC rígido, auto extinguível, imune à corrosão, resistente a álcool e materiais de limpeza, constituído por: lâminas com largura de 200 mm e espessuras de 8 a 10 mm, estrutura de sustentação primária, em tubos de aço (Metalon) de 20 x 20 mm, espessura de 1,0 mm, com espaçamento máximo de: 500 mm, estrutura de sustentação secundária em perfil cartola de 1 1/4" x 5/8", espessura de 0,7 mm, com espaçamento máximo de: 1000 mm, materiais acessórios para fixação. | H79: 35,67+31,55+8,44+13,10+19,52+23,54+14,21+3,66+1,91+1,84+22,47+3,36
C80: SUB-TOTAL = | G80: =SUM(G55:G79) -> 216955.6
A81: 080000 | B81: INSTALAÇÕES HIDRÁULICAS
A82: 080100 | B82: Fornecimento e instalação de:
A83: 080102 | B83: Torneira de pressão metálica com arejador, cromada, para uso em tanques. | C83: UN | D83: 1 | E83: 66.21 | F83: =E83*(1+C$289) -> 82.385103 | G83: =D83*F83 -> 82.385103
B84: Será medido por unidade de torneira instalada (un). O item remunera o fornecimento e instalação de torneira curta com rosca, para uso geral, em latão fundido cromado de 1/2" ou 3/4"; inclusive materiais acessórios necessários à instalação e ligação à rede de água. | H84: 1 TANQUE EXTERNO
A86: 080103 | B86: Torneira de pressão metálica para pia de cozinha e laboratórios, bica móvel, de mesa / parede | C86: UN | D86: 2 | E86: 162.36 | F86: =E86*(1+C$289) -> 202.02455 | G86: =D86*F86 -> 404.0491
B87: Será medido por unidade de torneira instalada (un). O item remunera o fornecimento e instalação de torneira para pia com bica móvel e arejador, para instalação em parede ou mesa, em latão fundido cromado de 3/4" ou 1/2"; inclusive materiais acessórios necessários à instalação e ligação à rede de água. | H87: 2 PIAS COZINHA
A89: 080200 | B89: Fornecimento e instalação de:
A90: 080204 | B90: Grelha metálica c/ porta grelha para caixa sifonada, inox, com fecho giratório 15 x 15 cm | C90: UN | D90: 3 | E90: 36.82 | F90: =E90*(1+C$289) -> 45.815126 | G90: =D90*F90 -> 137.44538
B91: Será medido por unidade instalada (un). O item remunera o fornecimento da mão-de-obra, inclusive materiais acessórios, necessários para a instalação de grelha metálica inox com caixilho. | H91: 3 BANHEIROS
A93: 080207 | B93: Lavatório de louça, sem coluna completa para fixação direta. | C93: UN | D93: 3 | E93: 582.8 | F93: =E93*(1+C$289) -> 725.17804 | G93: =D93*F93 -> 2175.5341
B94: Será medido por unidade instalada (un). O item remunera o fornecimento e a instalação do lavatório constituído por: lavatório de louça sem coluna; torneira de mesa para lavatório acabamento em latão cromado de 1/2", sifão cromado de 1" x 1 1/2"; tubo de ligação cromado com canopla; válvula metálica de 1" para ligação ao sifão, um par de parafusos com bucha para fixação do lavatório, materiais acessórios necessários para sua instalação e ligação à rede de esgoto. | H94: 3 BANHEIROS
A96: 080209 | B96: Vaso sanitário com caixa acoplada branca. | C96: UN | D96: 2 | E96: 546.19 | F96: =E96*(1+C$289) -> 679.62422 | G96: =D96*F96 -> 1359.2484
B97: 1) Será medido por unidade (conjunto) instalado (un). O item remunera o fornecimento do conjunto de bacia sifonada em louça e caixa acoplada conforme as normas vigentes NBR 15097 e NBR 15099. Remunera também: bolsa de borracha; anel de borracha de expansão de 4"; tubo de ligação com canopla, parafusos niquelados; massa para fixação e assentamento da base; materiais acessórios e a mão-de-obra necessária para a instalação e ligação às redes de água e esgoto. | H97: 2 BANHEIRO COMUM
A99: 080212 | B99: Vaso sanitário sifonado convencional para PCD sem furo frontal com louça branca sem assento, incluso conjunto de ligação para bacia sanitária ajustável - fornecimento e instalação | C99: UN | D99: 1 | E99: 785.98 | F99: =E99*(1+C$289) -> 977.99491 | G99: =D99*F99 -> 977.99491
B100: Será medido por unidade instalada (un). O item remunera o fornecimento da bacia sifonada de louça para atendimento PCD sem furo frontal. com altura mínima sem assento de 43cm. Remunera também: bolsa de borracha; anel de borracha de expansão de 4"; tubo de ligação com canopla, parafusos niquelados; massa para fixação e assentamento da base; materiais acessórios e a mão-de-obra necessária para a instalação e ligação às redes de água e esgoto. | H100: 1 BANHEIRO PCD
A102: 080400 | B102: Fornecimento e instalação de registro de gaveta com e sem acabamento:
B103: Será medido por unidade de registro instalado (un). O item remunera o fornecimento e instalação de registro de gaveta em latão fundido, diâmetro e acabamento como especificado, inclusive materiais acessórios e de vedação.
A105: 080407 | B105: Com canopla diâmetro 25mm (3/4") - (acabamento cromado) | C105: UN | D105: 2 | E105: 89.57 | F105: =E105*(1+C$289) -> 111.45195 | G105: =D105*F105 -> 222.9039 | H105: BANHEIROS = 1 UNIDADE REFEITÓRIO = 1 UNIDADE
A107: 080600 | B107: Fornecimento, transporte e instalação de:
A109: 080700 | B109: Fornecimento, transporte e instalação da rede de água fria em tubo em PVC:
B110: Será medido por comprimento (m): O item remunera o fornecimento e instalação de tubos de PVC rígido soldável ou roscável de diâmetro especificado; para rede de água fria, inclusive conexões e materiais acessórios; abertura e fechamento de rasgos, para tubulações embutidas; ou escavação e reaterro apiloado de valas com profundidade média de 60 cm, para tubulações enterradas; ou fixação por grampos ou presilhas quando a tubulação for aparente.
A112: 080705 | B112: Tubo PVC soldável 25mm (com conexões), incluindo serviços de rasgo e enchimento de rasgo em alvenaria com argamassa para passagem de tubulação | C112: M | D112: 55 | E112: 29.21 | F112: =E112*(1+C$289) -> 36.346003 | G112: =D112*F112 -> 1999.0302 | H112: Média de 5M por ponto hidraulico VASO = 3 LAVATORIO = 6 TANQUE = 1 CHUVEIRO = 1
A114: 080706 | B114: Tubo PVC soldável 32mm (com conexões), incluindo serviços de rasgo e enchimento de rasgo em alvenaria com argamassa para passagem de tubulação | C114: M | D114: 5 | E114: 38.75 | F114: =E114*(1+C$289) -> 48.216625 | G114: =D114*F114 -> 241.08312 | H114: Barrilete até reservatório
A116: 080900 | B116: Dispenser em plástico ABS
A117: 080901 | B117: Saboneteira tipo dispenser, para refil de 800ml | C117: UN | D117: 4 | E117: 65.19 | F117: =E117*(1+C$289) -> 81.115917 | G117: =D117*F117 -> 324.46367
B118: Será medido por unidade de saboneteira instalada (un). O item remunera o fornecimento de saboneteira tipo dispenser, constituída por reservatório em plástico ABS, para refil de 800 ml de sabão líquido tipo gel, materiais acessórios e a mão-de-obra necessária para a instalação da saboneteira; não remunera o fornecimento do refil. | H118: BANHEIROS = 3 ESCOVÁRIO = 1
A120: 080903 | B120: Dispenser toalheiro em ABS para folhas de papel | C120: UN | D120: 7 | E120: 73.61 | F120: =E120*(1+C$289) -> 91.592923 | G120: =D120*F120 -> 641.15046
B121: Será medido por unidade de dispenser toalheiro instalado (un). O item remunera o fornecimento e instalação do porta-papel de parede (dispenser toalheiro), em plástico ABS branco, com fecho de segurança, para papel com duas, ou três dobras, inclusive material de fixação. | H121: PAPEL TOALHA: BANHEIROS = 3 ESCOVÁRIO = 1 PAPEL HIGIÊNICO: BANHEIROS = 3
A123: 081100 | B123: Outros (Fornecimento e instalação):
A124: 081108 | B124: Lavatório de louça de embutir (cuba), com torneira de pressão e acessórios. | C124: UN | D124: 3 | E124: 496.38 | F124: =E124*(1+C$289) -> 617.64563 | G124: =D124*F124 -> 1852.9369
B125: Será medido por unidade instalada (un). O item remunera o fornecimento e instalação da cuba de louça de embutir para lavatório, torneira de mesa para lavatório acabamento em latão cromado de 1/2", sifão cromado de 1" x 1 1/2"; tubo de ligação cromado com canopla; válvula metálica de 1" para ligação ao sifão, materiais acessórios necessários para sua instalação em bancadas e ligação à rede de esgoto. | H125: SOMENTE CUBA (BANCADA EM ITEM A PARTE) ESCOVÁRIOS = 3
C126: SUB-TOTAL = | G126: =SUM(G83:G125) -> 10418.225
A127: 090000 | B127: INSTALAÇÕES SANITÁRIAS
A128: 090300 | B128: Fornecimento, transporte e instalação de tubulação em PVC esgoto diâmetros descritos:
B129: Será medido por comprimento de tubulação executada (m). Os itens a seguir remunera o fornecimento e instalação de tubos de PVC rígido, diâmetro nominal de especificado com ponta e bolsa e anel de borracha; para esgoto domiciliar, inclusive conexões e materiais acessórios; abertura e fechamento de rasgos, para tubulações embutidas; ou escavação e reaterro apiloado de valas com profundidade média de 60 cm, para tubulações enterradas; ou fixação por grampos ou presilhas quando a tubulação for aparente.
A131: 090301 | B131: Diâmetro de 40 mm | C131: M | D131: =6*2+3 -> 15 | E131: 23.04 | F131: =E131*(1+C$289) -> 28.668672 | G131: =D131*F131 -> 430.03008 | H131: ATÉ 2 M POR LAVATÓRIO ATÉ A CAIXA SIFONADA = 6 X 2 3 M POR AMBIENTE (PARA VENTILAÇÃO ESCOVÁRIO) = 3
A133: 090302 | B133: Diâmetro de 50 mm | C133: M | D133: =4*3+2+3*3 -> 23 | E133: 28.63 | F133: =E133*(1+C$289) -> 35.624309 | G133: =D133*F133 -> 819.35911 | H133: ATÉ 3 M POR CAIXA SIFONADA ATÉ A REDE = 4 X 3 ATÉ 2M POR TANQUE = 2 3M POR AMBIENTE (PARA VENTILAÇÃO DE BANHEIROS) = 3 X 3
A135: 090304 | B135: Diâmetro de 100 mm | C135: M | D135: 15 | E135: 40.23 | F135: =E135*(1+C$289) -> 50.058189 | G135: =D135*F135 -> 750.87283 | H135: 5M POR VASO ATÉ A CAIXA
A137: 090400 | B137: Outros:
A138: 090406 | B138: Tanque de louça com coluna | C138: UN | D138: 1 | E138: 516.92 | F138: =E138*(1+C$289) -> 643.20356 | G138: =D138*F138 -> 643.20356
...

Sheet CRONOGRAMA
B1: PREFEITURA MUNICIPAL DE LUISBURGO Rua Orlando Muniz de Carvalho, n.º 59, Centro - CEP:36923-000 LUISBURGO – MINAS GERAIS Tel: 33 33787000 - CNPJ 01615423/0001-89
A4: CRONOGRAMA FÍSICO-FINANCEIRO
B5: ESCOLA ESTADUAL / MUNICIPAL: JOSÉ PETRONILHO | I5: SRE: 20ª SER MANHUAÇU
B6: MUNICÍPIO / DISTRITO: LUISBURGO-MG | I6: ENDEREÇO: CÓRREGO DA FORTALEZA
B7: SERVIÇOS: CONSTRUÇÃO / AMPLIAÇÃO / REFORMA
A8: ITEM | B8: DESCRIÇÃO | C8: TOTAL GERAL (C/ BDI) | D8: % INC. | E8: 1º MÊS | G8: 2º MÊS | I8: 3º MÊS | K8: 4º MÊS | M8: 5º MÊS | O8: 6º MÊS | Q8: TOTAL
E9: % | F9: VALOR | G9: % | H9: VALOR | I9: % | J9: VALOR | K9: % | L9: VALOR | M9: % | N9: VALOR | O9: % | P9: VALOR
A10: 1 | B10: =PLANILHA!B6 -> INSTALAÇÃO DOS SERVIÇOS DE ENGENHARIA | C10: =PLANILHA!G9 -> 1530.7503 | D10: =C10/$C$30 -> 0.0034693723 | E10: 1 | F10: =C10*E10 -> 1530.7503 | H10: =C10*G10 -> 0 | J10: =C10*I10 -> 0 | L10: =C10*K10 -> 0 | N10: =C10*M10 -> 0 | P10: =C10*O10 -> 0 | Q10: =F10+H10+J10+L10+N10+P10 -> 1530.7503 | S10: =IF(Q10=C10,"ok","erro") -> ok
A11: 2 | B11: =PLANILHA!B10 -> DEMOLIÇÕES E REMOÇÕES | C11: =PLANILHA!G48 -> 26350.174 | D11: =C11/$C$30 -> 0.059721409 | E11: 1 | F11: =C11*E11 -> 26350.174 | H11: =C11*G11 -> 0 | J11: =C11*I11 -> 0 | L11: =C11*K11 -> 0 | N11: =C11*M11 -> 0 | P11: =C11*O11 -> 0 | Q11: =F11+H11+J11+L11+N11+P11 -> 26350.174 | S11: =IF(Q11=C11,"ok","erro") -> ok
A12: 4 | B12: =PLANILHA!B49 -> SONDAGEM, FUNDAÇÕES, MUROS E CONTENÇÕES | C12: =PLANILHA!G52 -> 544.17731 | D12: =C12/$C$30 -> 0.0012333518 | F12: =C12*E12 -> 0 | G12: 0.5 | H12: =C12*G12 -> 272.08865 | I12: 0.5 | J12: =C12*I12 -> 272.08865 | L12: =C12*K12 -> 0 | N12: =C12*M12 -> 0 | P12: =C12*O12 -> 0 | Q12: =F12+H12+J12+L12+N12+P12 -> 544.17731 | S12: =IF(Q12=C12,"ok","erro") -> ok
A13: 7 | B13: =PLANILHA!B53 -> COBERTURA E FORRO | C13: =PLANILHA!G80 -> 216955.6 | D13: =C13/$C$30 -> 0.49171948 | F13: =C13*E13 -> 0 | G13: 0.5 | H13: =C13*G13 -> 108477.8 | I13: 0.5 | J13: =C13*I13 -> 108477.8 | L13: =C13*K13 -> 0 | N13: =C13*M13 -> 0 | P13: =C13*O13 -> 0 | Q13: =F13+H13+J13+L13+N13+P13 -> 216955.6 | S13: =IF(Q13=C13,"ok","erro") -> ok
A14: 8 | B14: =PLANILHA!B81 -> INSTALAÇÕES HIDRÁULICAS | C14: =PLANILHA!G126 -> 10418.225 | D14: =C14/$C$30 -> 0.023612409 | F14: =C14*E14 -> 0 | H14: =C14*G14 -> 0 | I14: 0.5 | J14: =C14*I14 -> 5209.1126 | K14: 0.5 | L14: =C14*K14 -> 5209.1126 | N14: =C14*M14 -> 0 | P14: =C14*O14 -> 0 | Q14: =F14+H14+J14+L14+N14+P14 -> 10418.225 | S14: =IF(Q14=C14,"ok","erro") -> ok
A15: 9 | B15: =PLANILHA!B127 -> INSTALAÇÕES SANITÁRIAS | C15: =PLANILHA!G144 -> 3062.5458 | D15: =C15/$C$30 -> 0.0069411136 | F15: =C15*E15 -> 0 | H15: =C15*G15 -> 0 | I15: 0.5 | J15: =C15*I15 -> 1531.2729 | K15: 0.5 | L15: =C15*K15 -> 1531.2729 | N15: =C15*M15 -> 0 | P15: =C15*O15 -> 0 | Q15: =F15+H15+J15+L15+N15+P15 -> 3062.5458 | S15: =IF(Q15=C15,"ok","erro") -> ok
A16: 10 | B16: =PLANILHA!B145 -> INSTALAÇÃO ELÉTRICA | C16: =PLANILHA!G158 -> 1598.4278 | D16: =C16/$C$30 -> 0.0036227601 | F16: =C16*E16 -> 0 | H16: =C16*G16 -> 0 | J16: =C16*I16 -> 0 | K16: 0.5 | L16: =C16*K16 -> 799.21389 | M16: 0.5 | N16: =C16*M16 -> 799.21389 | P16: =C16*O16 -> 0 | Q16: =F16+H16+J16+L16+N16+P16 -> 1598.4278 | S16: =IF(Q16=C16,"ok","erro") -> ok
A17: 11 | B17: =PLANILHA!B159 -> ESQUADRIAS DE MADEIRA | C17: =PLANILHA!G169 -> 17509.454 | D17: =C17/$C$30 -> 0.039684339 | F17: =C17*E17 -> 0 | H17: =C17*G17 -> 0 | J17: =C17*I17 -> 0 | K17: 0.6 | L17: =C17*K17 -> 10505.672 | M17: 0.4 | N17: =C17*M17 -> 7003.7815 | P17: =C17*O17 -> 0 | Q17: =F17+H17+J17+L17+N17+P17 -> 17509.454 | S17: =IF(Q17=C17,"ok","erro") -> ok
A18: 12 | B18: =PLANILHA!B170 -> ESQUADRIAS METÁLICAS | C18: =PLANILHA!G189 -> 48950.112 | D18: =C18/$C$30 -> 0.11094309 | F18: =C18*E18 -> 0 | H18: =C18*G18 -> 0 | J18: =C18*I18 -> 0 | K18: 0.5 | L18: =C18*K18 -> 24475.056 | M18: 0.3 | N18: =C18*M18 -> 14685.034 | O18: 0.2 | P18: =C18*O18 -> 9790.0225 | Q18: =F18+H18+J18+L18+N18+P18 -> 48950.112 | S18: =IF(Q18=C18,"ok","erro") -> ok
A19: 13 | B19: =PLANILHA!B190 -> FERRAGENS | C19: =PLANILHA!G195 -> 1350.1153 | D19: =C19/$C$30 -> 0.0030599717 | F19: =C19*E19 -> 0 | H19: =C19*G19 -> 0 | J19: =C19*I19 -> 0 | L19: =C19*K19 -> 0 | N19: =C19*M19 -> 0 | O19: 1 | P19: =C19*O19 -> 1350.1153 | Q19: =F19+H19+J19+L19+N19+P19 -> 1350.1153 | S19: =IF(Q19=C19,"ok","erro") -> ok
A20: 14 | B20: =PLANILHA!B196 -> REVESTIMENTO | C20: =PLANILHA!G204 -> 36615.767 | D20: =C20/$C$30 -> 0.082987885 | F20: =C20*E20 -> 0 | H20: =C20*G20 -> 0 | J20: =C20*I20 -> 0 | K20: 0.6 | L20: =C20*K20 -> 21969.46 | M20: 0.4 | N20: =C20*M20 -> 14646.307 | P20: =C20*O20 -> 0 | Q20: =F20+H20+J20+L20+N20+P20 -> 36615.767 | S20: =IF(Q20=C20,"ok","erro") -> ok
A21: 15 | B21: =PLANILHA!B205 -> PISOS E RODAPÉS | C21: =PLANILHA!G220 -> 33761.812 | D21: =C21/$C$30 -> 0.076519532 | F21: =C21*E21 -> 0 | H21: =C21*G21 -> 0 | J21: =C21*I21 -> 0 | K21: 0.5 | L21: =C21*K21 -> 16880.906 | M21: 0.4 | N21: =C21*M21 -> 13504.725 | O21: 0.1 | P21: =C21*O21 -> 3376.1812 | Q21: =F21+H21+J21+L21+N21+P21 -> 33761.812 | S21: =IF(Q21=C21,"ok","erro") -> ok
A22: 16 | B22: =PLANILHA!B221 -> VIDROS | C22: =PLANILHA!G226 -> 417.07692 | D22: =C22/$C$30 -> 0.00094528488 | F22: =C22*E22 -> 0 | H22: =C22*G22 -> 0 | J22: =C22*I22 -> 0 | L22: =C22*K22 -> 0 | N22: =C22*M22 -> 0 | O22: 1 | P22: =C22*O22 -> 417.07692 | Q22: =F22+H22+J22+L22+N22+P22 -> 417.07692 | S22: =IF(Q22=C22,"ok","erro") -> ok
A23: 17 | B23: =PLANILHA!B227 -> PINTURA | C23: =PLANILHA!G238 -> 16584.611 | D23: =C23/$C$30 -> 0.037588227 | F23: =C23*E23 -> 0 | H23: =C23*G23 -> 0 | J23: =C23*I23 -> 0 | L23: =C23*K23 -> 0 | N23: =C23*M23 -> 0 | O23: 1 | P23: =C23*O23 -> 16584.611 | Q23: =F23+H23+J23+L23+N23+P23 -> 16584.611 | S23: =IF(Q23=C23,"ok","erro") -> ok
A24: 18 | B24: =PLANILHA!B239 -> BANCADAS, PRATELEIRAS E DIVISÓRIAS | C24: =PLANILHA!G248 -> 10476.888 | D24: =C24/$C$30 -> 0.023745366 | F24: =C24*E24 -> 0 | H24: =C24*G24 -> 0 | J24: =C24*I24 -> 0 | L24: =C24*K24 -> 0 | M24: 1 | N24: =C24*M24 -> 10476.888 | P24: =C24*O24 -> 0 | Q24: =F24+H24+J24+L24+N24+P24 -> 10476.888 | S24: =IF(Q24=C24,"ok","erro") -> ok
A25: 19 | B25: =PLANILHA!B249 -> DIVERSOS | C25: =PLANILHA!G264 -> 4988.4111 | D25: =C25/$C$30 -> 0.011305995 | F25: =C25*E25 -> 0 | H25: =C25*G25 -> 0 | J25: =C25*I25 -> 0 | L25: =C25*K25 -> 0 | M25: 0.6 | N25: =C25*M25 -> 2993.0467 | O25: 0.4 | P25: =C25*O25 -> 1995.3645 | Q25: =F25+H25+J25+L25+N25+P25 -> 4988.4111 | S25: =IF(Q25=C25,"ok","erro") -> ok
A26: 23 | B26: =PLANILHA!B265 -> LIMPEZA | C26: =PLANILHA!G271 -> 2854.8154 | D26: =C26/$C$30 -> 0.0064703025 | F26: =C26*E26 -> 0 | H26: =C26*G26 -> 0 | J26: =C26*I26 -> 0 | L26: =C26*K26 -> 0 | N26: =C26*M26 -> 0 | O26: 1 | P26: =C26*O26 -> 2854.8154 | Q26: =F26+H26+J26+L26+N26+P26 -> 2854.8154 | S26: =IF(Q26=C26,"ok","erro") -> ok
A27: 24 | B27: =PLANILHA!B272 -> LEVANTAMENTOS, E PROJETOS | C27: =PLANILHA!G278 -> 3255.0641 | D27: =C27/$C$30 -> 0.007377447 | F27: =C27*E27 -> 0 | H27: =C27*G27 -> 0 | J27: =C27*I27 -> 0 | K27: 1 | L27: =C27*K27 -> 3255.0641 | N27: =C27*M27 -> 0 | P27: =C27*O27 -> 0 | Q27: =F27+H27+J27+L27+N27+P27 -> 3255.0641 | S27: =IF(Q27=C27,"ok","erro") -> ok
A28: 26 | B28: =PLANILHA!B279 -> OUTROS | C28: =PLANILHA!G286 -> 3994.2026 | D28: =C28/$C$30 -> 0.0090526692 | F28: =C28*E28 -> 0 | H28: =C28*G28 -> 0 | J28: =C28*I28 -> 0 | K28: 0.3 | L28: =C28*K28 -> 1198.2608 | N28: =C28*M28 -> 0 | O28: 0.7 | P28: =C28*O28 -> 2795.9418 | Q28: =F28+H28+J28+L28+N28+P28 -> 3994.2026 | S28: =IF(Q28=C28,"ok","erro") -> ok
A29: TOTAL MENSAL | E29: =F29/C30 -> 0.063190782 | F29: =SUM(F10:F28) -> 27880.925 | G29: =H29/C30 -> 0.24647641 | H29: =SUM(H10:H27) -> 108749.89 | I29: =J29/C30 -> 0.26175318 | J29: =SUM(J10:J27) -> 115490.27 | K29: =L29/C30 -> 0.19180023 | L29: =SUM(L10:L27) -> 84625.759 | M29: =N29/C30 -> 0.14529997 | N29: =SUM(N10:N27) -> 64108.996 | O29: =P29/C30 -> 0.082426755 | P29: =SUM(P10:P27) -> 36368.187 | Q29: =SUM(Q10:Q28) -> 441218.23
A30: TOTAL ACUMULADO | C30: =SUM(C10:C28) -> 441218.23 | D30: =SUM(D10:D29) -> 1 | E30: =F30/C30 -> 0.063190782 | F30: =F29 -> 27880.925 | G30: =H30/C30 -> 0.3096672 | H30: =F30+H29 -> 136630.81 | I30: =J30/C30 -> 0.57142037 | J30: =H30+J29 -> 252121.08 | K30: =L30/C30 -> 0.7632206 | L30: =J30+L29 -> 336746.84 | M30: =N30/C30 -> 0.90852058 | N30: =L30+N29 -> 400855.84 | O30: =P30/C30 -> 0.99094733 | P30: =N30+P29 -> 437224.02 | Q30: =Q29 -> 441218.23 | S30: =IF(Q30=C30,"ok","erro") -> ok
A31: LOCAL / DATA: LUISBURGO, 13 DE MAIO DE 2026
A32: RESPONSÁVEL TÉCNICO: NAYARA HELENA FIALHO OLIVEIRA
A33: REPRESENTANTE LEGAL: ALAIR FIGUEIREDO DE ASSUNÇÃO JUNIOR
