Workbook
Name ___sub1: #REF!
Name ___sub2: #REF!
Name ___sub3: #REF!
Name _PP1: #REF!
Name _sub1: #REF!
Name _sub2: #REF!
Name _sub3: #REF!
Name a: #REF!
Name AREA: #REF!
Name B: #REF!
Name BDI: #REF!
Name dad: #REF!
Name dede: #REF!
Name DSDS: #REF!
Name ersdcefgbrnghrbgbrgfbgfwbvbfgvwfv: #REF!
Name Excel_BuiltIn_Print_Area_2: #REF!
Name Excel_BuiltIn_Print_Area_2_1: #REF!
Name Excel_BuiltIn_Print_Area_2_1_1: #REF!
Name Excel_BuiltIn_Print_Area_2_1_1_1: #REF!
Name Excel_BuiltIn_Print_Area_4: #REF!
Name fsdsd: #REF!
Name fsfsf: #REF!
Name GRELHA: #REF!
Name leosde: #REF!
Name nao: #REF!
Name obra: #REF!
Name obra1: #REF!
Name obra2: #REF!
Name obra3: #REF!
Name obra4: #REF!
Name obra5: #REF!
Name OPERAÇAO: #REF!
Name P.1: #REF!
Name P.10: #REF!
Name P.11: #REF!
Name P.12: #REF!
Name P.13: #REF!
Name P.14: #REF!
Name P.15: #REF!
Name P.2: #REF!
Name P.3: #REF!
Name P.4: #REF!
Name P.5: #REF!
Name P.6: #REF!
Name P.7: #REF!
Name P.8: #REF!
Name P.9: #REF!
Name PLANIILHA: #REF!
Name PP1.1: #REF!
Name PP1.10: #REF!
Name PP1.11: #REF!
Name PP1.12: #REF!
Name PP1.13: #REF!
Name PP1.14: #REF!
Name PP1.15: #REF!
Name PP1.16: #REF!
Name PP1.2: #REF!
Name PP1.3: #REF!
Name PP1.4: #REF!
Name PP1.5: #REF!

Sheet Planilha Orcamentária
A2: PLANILHA ORÇAMENTÁRIA DE CUSTOS
A3: PREFEITURA MUNICIPAL DE TABAÍ - RS | E3: RESP. TECNICO: | G3: JOÃO GUILHERME DA SILVA PEREIRA
A4: OBRA: | B4: REFORMA EDIFICAÇÃO DA E.M.E.F. CARLOS GOMES | E4: ART: | H4: 14120783
A5: DESCRIÇÃO : | B5: ELABORAÇÃO DE PROJETOS, PLANILHA ORÇAMENTARIA, CRONOGRAMA, BDI, MEMORIAL DESCRITIVO E DEMAIS ARQUIVOS NECESSÁRIOS PARA REFORMA EDIFICAÇÃO DA E.M.E.F. CARLOS GOMES, MUNICIPIO DE TABAI/RS | E5: PREFEITO MUNICIPAL: | G5: ANDERSON DE AZEVEDO VARGAS
A6: LOCAL: | B6: RUA 28 DE DEZEZEMBRO, nº. 1590 - BAIRRO CENTRO - TABAÍ/RS | E6: DATA: | H6: 46097
A7: REGIÃO/MÊS DE REFERÊNCIA: | B7: SINAPI RS – FEVEREIRO/2026 NÃO DESONERADO, BASE PLEO RS FEVEREIRO/2026 NÃO DESONERADO | E7: FORMA DE EXECUÇÃO: | G7: ( ) | H7: DIRETA | I7: ( X ) | J7: INDIRETA
A8: COMPOSIÇÃO/DEMONSTRATIVO DE BDI - EM ANEXO | G8: % ISS MUNICIPAL: | H8: 0.03 | I8: BDI: | J8: 0.2631
A10: ITEM | B10: CÓDIGO | C10: DESCRIÇÃO | D10: FONTE | F10: QUANT. | G10: PREÇO UNITÁRIO R$ | I10: PREÇO TOTAL R$
G11: SEM BDI | H11: COM BDI | I11: SEM BDI | J11: COM BDI
B12: =B4 -> REFORMA EDIFICAÇÃO DA E.M.E.F. CARLOS GOMES | I12: =ROUND(SUM(I71+I42+I28+I38+I16+I13+I61+I47+I54+I66+I75+I86+I95),2) -> 138256.05 | J12: =ROUND(SUM(J71+J42+J28+J38+J16+J13+J61+J47+J54+J66+J75+J86+J95),2) -> 174633.7
A13: 1 | B13: SERVIÇOS PRELIMINARES | I13: =ROUND(SUM(I14),2) -> 2067.66 | J13: =ROUND(SUM(J14),2) -> 2611.67
A14: 1.1 | B14: 103689 | C14: FORNECIMENTO E INSTALAÇÃO DE PLACA DE OBRA COM CHAPA GALVANIZADA E ESTRUTURA DE MADEIRA. AF_03/2022_PS | D14: SINAPI | E14: M2 | F14: 4.5 | G14: 459.48 | H14: =ROUND(SUM(G14*(1+$J$8)),2) -> 580.37 | I14: =ROUND(SUM(F14*G14),2) -> 2067.66 | J14: =ROUND(SUM(F14*H14),2) -> 2611.67
A16: 2 | B16: RECUPERAÇÃO DA FUNDAÇÃO | I16: =ROUND(SUM(I17:I26),2) -> 3535.67 | J16: =ROUND(SUM(J17:J26),2) -> 4465.84
A17: 2.1 | B17: 100899 | C17: ESTACA ESCAVADA MECANICAMENTE, SEM FLUIDO ESTABILIZANTE, COM 25CM DE DIÂMETRO, CONCRETO LANÇADO MANUALMENTE (EXCLUSIVE MOBILIZAÇÃO E DESMOBILIZAÇÃO). AF_01/2020 | D17: SINAPI | E17: M | F17: 2 | G17: 91.12 | H17: =ROUND(SUM(G17*(1+$J$8)),2) -> 115.09 | I17: =ROUND(SUM(F17*G17),2) -> 182.24 | J17: =ROUND(SUM(F17*H17),2) -> 230.18
A18: 2.2 | B18: 96523 | C18: ESCAVAÇÃO MANUAL PARA BLOCO DE COROAMENTO OU SAPATA (INCLUINDO ESCAVAÇÃO PARA COLOCAÇÃO DE FÔRMAS). AF_01/2024 | D18: SINAPI | E18: M3 | F18: 0.5 | G18: 98.13 | H18: =ROUND(SUM(G18*(1+$J$8)),2) -> 123.95 | I18: =ROUND(SUM(F18*G18),2) -> 49.07 | J18: =ROUND(SUM(F18*H18),2) -> 61.98
A19: 2.3 | B19: 96546 | C19: ARMAÇÃO DE BLOCO UTILIZANDO AÇO CA-50 DE 10 MM - MONTAGEM. AF_01/2024 | D19: SINAPI | E19: KG | F19: 8 | G19: 10.85 | H19: =ROUND(SUM(G19*(1+$J$8)),2) -> 13.7 | I19: =ROUND(SUM(F19*G19),2) -> 86.8 | J19: =ROUND(SUM(F19*H19),2) -> 109.6
A20: 2.4 | B20: 92269 | C20: FABRICAÇÃO DE FÔRMA PARA PILARES E ESTRUTURAS SIMILARES, EM MADEIRA SERRADA, E=25 MM. AF_09/2020 | D20: SINAPI | E20: M2 | F20: 5 | G20: 118.55 | H20: =ROUND(SUM(G20*(1+$J$8)),2) -> 149.74 | I20: =ROUND(SUM(F20*G20),2) -> 592.75 | J20: =ROUND(SUM(F20*H20),2) -> 748.7
A21: 2.5 | B21: 92762 | C21: ARMAÇÃO DE PILAR OU VIGA DE ESTRUTURA CONVENCIONAL DE CONCRETO ARMADO UTILIZANDO AÇO CA-50 DE 10,0 MM - MONTAGEM. AF_06/2022 | D21: SINAPI | E21: KG | F21: 16 | G21: 9.63 | H21: =ROUND(SUM(G21*(1+$J$8)),2) -> 12.16 | I21: =ROUND(SUM(F21*G21),2) -> 154.08 | J21: =ROUND(SUM(F21*H21),2) -> 194.56
A22: 2.6 | B22: 92800 | C22: CORTE E DOBRA DE AÇO CA-60, DIÂMETRO DE 5,0 MM. AF_06/2022 | D22: SINAPI | E22: KG | F22: 6 | G22: 9.99 | H22: =ROUND(SUM(G22*(1+$J$8)),2) -> 12.62 | I22: =ROUND(SUM(F22*G22),2) -> 59.94 | J22: =ROUND(SUM(F22*H22),2) -> 75.72
A23: 2.7 | B23: 94965 | C23: CONCRETO FCK = 25MPA, TRAÇO 1:2,3:2,7 (EM MASSA SECA DE CIMENTO/ AREIA MÉDIA/ BRITA 1) - PREPARO MECÂNICO COM BETONEIRA 400 L. AF_05/2021 | D23: SINAPI | E23: M3 | F23: 0.82 | G23: 548.57 | H23: =ROUND(SUM(G23*(1+$J$8)),2) -> 692.9 | I23: =ROUND(SUM(F23*G23),2) -> 449.83 | J23: =ROUND(SUM(F23*H23),2) -> 568.18
A24: 2.8 | B24: 103670 | C24: LANÇAMENTO COM USO DE BALDES, ADENSAMENTO E ACABAMENTO DE CONCRETO EM ESTRUTURAS. AF_02/2022 | D24: SINAPI | E24: M3 | F24: 0.82 | G24: 305.74 | H24: =ROUND(SUM(G24*(1+$J$8)),2) -> 386.18 | I24: =ROUND(SUM(F24*G24),2) -> 250.71 | J24: =ROUND(SUM(F24*H24),2) -> 316.67
A25: 2.9 | B25: 97631 | C25: DEMOLIÇÃO DE ARGAMASSAS, DE FORMA MANUAL, SEM REAPROVEITAMENTO. AF_09/2023 | D25: SINAPI | E25: M2 | F25: 5 | G25: 60.15 | H25: =ROUND(SUM(G25*(1+$J$8)),2) -> 75.98 | I25: =ROUND(SUM(F25*G25),2) -> 300.75 | J25: =ROUND(SUM(F25*H25),2) -> 379.9
A26: 2.10 | B26: 87775 | C26: EMBOÇO OU MASSA ÚNICA EM ARGAMASSA TRAÇO 1:2:8, PREPARO MECÂNICO COM BETONEIRA 400 L, APLICADA MANUALMENTE EM PANOS DE FACHADA COM PRESENÇA DE VÃOS, ESPESSURA DE 25 MM. AF_08/2022 | D26: SINAPI | E26: M2 | F26: 5 | G26: 281.9 | H26: =ROUND(SUM(G26*(1+$J$8)),2) -> 356.07 | I26: =ROUND(SUM(F26*G26),2) -> 1409.5 | J26: =ROUND(SUM(F26*H26),2) -> 1780.35
A28: 3 | B28: REFORMA DOS SANITÁRIOS | I28: =ROUND(SUM(I29:I36),2) -> 21321.73 | J28: =ROUND(SUM(J29:J36),2) -> 26931.63
A29: 3.1 | B29: 104790 | C29: DEMOLIÇÃO DE PISO DE CONCRETO SIMPLES, DE FORMA MECANIZADA COM MARTELETE, SEM REAPROVEITAMENTO. AF_09/2023 | D29: SINAPI | E29: M3 | F29: =F31*0.05 -> 1.4 | G29: 119.67 | H29: =ROUND(SUM(G29*(1+$J$8)),2) -> 151.16 | I29: =ROUND(SUM(F29*G29),2) -> 167.54 | J29: =ROUND(SUM(F29*H29),2) -> 211.62
B30: 96622 | C30: LASTRO COM MATERIAL GRANULAR, APLICADO EM PISOS OU LAJES SOBRE SOLO, ESPESSURA DE 5 CM. AF_01/2024 | D30: SINAPI | E30: M3 | F30: 2 | G30: 205.61 | H30: =ROUND(SUM(G30*(1+$J$8)),2) -> 259.71 | I30: =ROUND(SUM(F30*G30),2) -> 411.22 | J30: =ROUND(SUM(F30*H30),2) -> 519.42
A31: 3.2 | B31: 87690 | C31: CONTRAPISO EM ARGAMASSA TRAÇO 1:4 (CIMENTO E AREIA), PREPARO MECÂNICO COM BETONEIRA 400 L, APLICADO EM ÁREAS SECAS SOBRE LAJE, NÃO ADERIDO, ACABAMENTO NÃO REFORÇADO, ESPESSURA 5CM. AF_07/2021 | D31: SINAPI | E31: M2 | F31: 28 | G31: 53.87 | H31: =ROUND(SUM(G31*(1+$J$8)),2) -> 68.04 | I31: =ROUND(SUM(F31*G31),2) -> 1508.36 | J31: =ROUND(SUM(F31*H31),2) -> 1905.12
A32: 3.3 | B32: 86888 | C32: VASO SANITÁRIO SIFONADO COM CAIXA ACOPLADA LOUÇA BRANCA - TUBULAÇÕES E CONEXÕES - FORNECIMENTO E INSTALAÇÃO. AF_01/2020 | D32: SINAPI | E32: UND | F32: 5 | G32: 554.54 | H32: =ROUND(SUM(G32*(1+$J$8)),2) -> 700.44 | I32: =ROUND(SUM(F32*G32),2) -> 2772.7 | J32: =ROUND(SUM(F32*H32),2) -> 3502.2
A33: 3.4 | B33: 87257 | C33: REVESTIMENTO CERÂMICO PARA PISO COM PLACAS TIPO ESMALTADA EXTRA DE DIMENSÕES 60X60 CM APLICADA EM AMBIENTES DE ÁREA MAIOR QUE 10 M2. AF_02/2023_PE | D33: SINAPI | E33: M2 | F33: 32 | G33: 67.48 | H33: =ROUND(SUM(G33*(1+$J$8)),2) -> 85.23 | I33: =ROUND(SUM(F33*G33),2) -> 2159.36 | J33: =ROUND(SUM(F33*H33),2) -> 2727.36
A34: 3.5 | B34: 87275 | C34: REVESTIMENTO CERÂMICO PARA PAREDES INTERNAS COM PLACAS TIPO ESMALTADA EXTRA DE DIMENSÕES 33X45 CM APLICADAS A MEIA ALTURA DAS PAREDES. AF_02/2023_PE | D34: SINAPI | E34: M2 | F34: 80 | G34: 76.19 | H34: =ROUND(SUM(G34*(1+$J$8)),2) -> 96.24 | I34: =ROUND(SUM(F34*G34),2) -> 6095.2 | J34: =ROUND(SUM(F34*H34),2) -> 7699.2
A35: 3.6 | B35: 100866 | C35: BARRA DE APOIO RETA, EM ACO INOX POLIDO, COMPRIMENTO 60CM, FIXADA NA PAREDE - FORNECIMENTO E INSTALAÇÃO. AF_01/2020 | D35: SINAPI | E35: UND | F35: 4 | G35: 402.65 | H35: =ROUND(SUM(G35*(1+$J$8)),2) -> 508.59 | I35: =ROUND(SUM(F35*G35),2) -> 1610.6 | J35: =ROUND(SUM(F35*H35),2) -> 2034.36
A36: 3.7 | B36: 90793 | C36: KIT DE PORTA-PRONTA DE MADEIRA EM ACABAMENTO MELAMÍNICO BRANCO, FOLHA PESADA OU SUPERPESADA, 90X210CM, FIXAÇÃO COM PREENCHIMENTO TOTAL DE ESPUMA EXPANSIVA - FORNECIMENTO E INSTALAÇÃO. AF_10/2025 | D36: SINAPI | E36: UND | F36: 5 | G36: 1319.35 | H36: =ROUND(SUM(G36*(1+$J$8)),2) -> 1666.47 | I36: =ROUND(SUM(F36*G36),2) -> 6596.75 | J36: =ROUND(SUM(F36*H36),2) -> 8332.35
A38: 4 | B38: SUBSTITUIÇÃO DE PORTAS EXTERNAS | I38: =ROUND(SUM(I39:I40),2) -> 26128.43 | J38: =ROUND(SUM(J39:J40),2) -> 33002.99
A39: 4.1 | B39: 104218 | C39: EMBOÇO OU MASSA ÚNICA EM ARGAMASSA TRAÇO 1:2:8, PREPARO MANUAL, APLICADA MANUALMENTE EM PANOS DE FACHADA COM PRESENÇA DE VÃOS, ESPESSURA DE 25 MM, ACESSO POR ANDAIME. AF_08/2022 | D39: SINAPI | E39: M2 | F39: 12 | G39: 55.71 | H39: =ROUND(SUM(G39*(1+$J$8)),2) -> 70.37 | I39: =ROUND(SUM(F39*G39),2) -> 668.52 | J39: =ROUND(SUM(F39*H39),2) -> 844.44
A40: 4.2 | B40: 91341 | C40: PORTA EM ALUMÍNIO DE ABRIR TIPO VENEZIANA COM GUARNIÇÃO, FIXAÇÃO COM PARAFUSOS - FORNECIMENTO E INSTALAÇÃO. AF_10/2025 | D40: SINAPI | E40: M2 | F40: 28.5 | G40: 893.33 | H40: =ROUND(SUM(G40*(1+$J$8)),2) -> 1128.37 | I40: =ROUND(SUM(F40*G40),2) -> 25459.91 | J40: =ROUND(SUM(F40*H40),2) -> 32158.55
A42: 5 | B42: RECUPERAÇÃO DOS BEIRAIS | I42: =ROUND(SUM(I43:I45),2) -> 11362.7 | J42: =ROUND(SUM(J43:J45),2) -> 14352.9
A43: 5.1 | B43: 22135 | C43: DEMOLICAO DE FORRO DE TABUAS CORRIDAS | D43: PLEO | E43: M2 | F43: 110 | G43: 5.55 | H43: =ROUND(SUM(G43*(1+$J$8)),2) -> 7.01 | I43: =ROUND(SUM(F43*G43),2) -> 610.5 | J43: =ROUND(SUM(F43*H43),2) -> 771.1
A44: 5.2 | B44: 92806 | C44: FORRO EM RÉGUAS DE PVC, FRISADO, PARA AMBIENTES RESIDENCIAIS, INCLUSIVE ESTRUTURA UNIDIRECIONAL DE FIXAÇÃO. AF_08/2023_PS | D44: SINAPI | E44: M2 | F44: 110 | G44: 74.56 | H44: =ROUND(SUM(G44*(1+$J$8)),2) -> 94.18 | I44: =ROUND(SUM(F44*G44),2) -> 8201.6 | J44: =ROUND(SUM(F44*H44),2) -> 10359.8
A45: 5.3 | B45: 96121 | C45: ACABAMENTOS PARA FORRO (RODA-FORRO EM PERFIL METÁLICO E PLÁSTICO). AF_08/2023 | D45: SINAPI | E45: M | F45: 180 | G45: 14.17 | H45: =ROUND(SUM(G45*(1+$J$8)),2) -> 17.9 | I45: =ROUND(SUM(F45*G45),2) -> 2550.6 | J45: =ROUND(SUM(F45*H45),2) -> 3222
A47: 6 | B47: REVESTIMENTO CERÂMICO | I47: =ROUND(SUM(I48:I52),2) -> 27229.94 | J47: =ROUND(SUM(J48:J52),2) -> 34392.48
A48: 6.1 | B48: 104789 | C48: DEMOLIÇÃO DE PISO DE CONCRETO SIMPLES, DE FORMA MANUAL, SEM REAPROVEITAMENTO. AF_09/2023 | D48: SINAPI | E48: M3 | F48: 6 | G48: 211.05 | H48: =ROUND(SUM(G48*(1+$J$8)),2) -> 266.58 | I48: =ROUND(SUM(F48*G48),2) -> 1266.3 | J48: =ROUND(SUM(F48*H48),2) -> 1599.48
A49: 6.2 | B49: 97634 | C49: DEMOLIÇÃO DE REVESTIMENTO CERÂMICO, DE FORMA MECANIZADA COM MARTELETE, SEM REAPROVEITAMENTO. AF_09/2023 | D49: SINAPI | E49: M2 | F49: 210 | G49: 3.74 | H49: =ROUND(SUM(G49*(1+$J$8)),2) -> 4.72 | I49: =ROUND(SUM(F49*G49),2) -> 785.4 | J49: =ROUND(SUM(F49*H49),2) -> 991.2
A50: 6.3 | B50: 96622 | C50: LASTRO COM MATERIAL GRANULAR, APLICADO EM PISOS OU LAJES SOBRE SOLO, ESPESSURA DE 5 CM. AF_01/2024 | D50: SINAPI | E50: M3 | F50: 6 | G50: 205.61 | H50: =ROUND(SUM(G50*(1+$J$8)),2) -> 259.71 | I50: =ROUND(SUM(F50*G50),2) -> 1233.66 | J50: =ROUND(SUM(F50*H50),2) -> 1558.26
A51: 6.4 | B51: 101747 | C51: PISO EM CONCRETO 20 MPA PREPARO MECÂNICO, ESPESSURA 7CM. AF_09/2020 | D51: SINAPI | E51: M2 | F51: 102 | G51: 82.59 | H51: =ROUND(SUM(G51*(1+$J$8)),2) -> 104.32 | I51: =ROUND(SUM(F51*G51),2) -> 8424.18 | J51: =ROUND(SUM(F51*H51),2) -> 10640.64
A52: 6.5 | B52: 87257 | C52: REVESTIMENTO CERÂMICO PARA PISO COM PLACAS TIPO ESMALTADA DE DIMENSÕES 60X60 CM APLICADA EM AMBIENTES DE ÁREA MAIOR QUE 10 M2. AF_02/2023_PE | D52: SINAPI | E52: M2 | F52: 230 | G52: 67.48 | H52: =ROUND(SUM(G52*(1+$J$8)),2) -> 85.23 | I52: =ROUND(SUM(F52*G52),2) -> 15520.4 | J52: =ROUND(SUM(F52*H52),2) -> 19602.9
A54: 7 | B54: PINTURA EXTERNA | I54: =ROUND(SUM(I55:I59),2) -> 15134.85 | J54: =ROUND(SUM(J55:J59),2) -> 19117.1
A55: 7.1 | B55: 97631 | C55: DEMOLIÇÃO DE ARGAMASSAS, DE FORMA MANUAL, SEM REAPROVEITAMENTO. AF_09/2023 | D55: SINAPI | E55: M2 | F55: 15 | G55: 12.03 | H55: =ROUND(SUM(G55*(1+$J$8)),2) -> 15.2 | I55: =ROUND(SUM(F55*G55),2) -> 180.45 | J55: =ROUND(SUM(F55*H55),2) -> 228
A56: 7.2 | B56: 98561 | C56: IMPERMEABILIZAÇÃO DE PAREDES COM ARGAMASSA DE CIMENTO E AREIA, COM ADITIVO IMPERMEABILIZANTE, E = 2CM. AF_06/2018 | D56: SINAPI | E56: M2 | F56: 15 | G56: 46.66 | H56: =ROUND(SUM(G56*(1+$J$8)),2) -> 58.94 | I56: =ROUND(SUM(F56*G56),2) -> 699.9 | J56: =ROUND(SUM(F56*H56),2) -> 884.1
A57: 7.3 | B57: 592053 | C57: PREPARARAÇÃO DE PAREDES EXTERNAS E VARREDURA | D57: PLEO | E57: M2 | F57: 650 | G57: 1.22 | H57: =ROUND(SUM(G57*(1+$J$8)),2) -> 1.54 | I57: =ROUND(SUM(F57*G57),2) -> 793 | J57: =ROUND(SUM(F57*H57),2) -> 1001
A58: 7.4 | B58: 88415 | C58: APLICAÇÃO MANUAL DE FUNDO SELADOR ACRÍLICO EM PAREDES EXTERNAS DE CASAS. AF_03/2024 | D58: SINAPI | E58: M2 | F58: 650 | G58: 4.34 | H58: =ROUND(SUM(G58*(1+$J$8)),2) -> 5.48 | I58: =ROUND(SUM(F58*G58),2) -> 2821 | J58: =ROUND(SUM(F58*H58),2) -> 3562
A59: 7.5 | B59: 95626 | C59: APLICAÇÃO MANUAL DE TINTA LÁTEX ACRÍLICA EM PAREDE EXTERNAS DE CASAS, DUAS DEMÃOS. AF_03/2024 | D59: SINAPI | E59: M2 | F59: 650 | G59: 16.37 | H59: =ROUND(SUM(G59*(1+$J$8)),2) -> 20.68 | I59: =ROUND(SUM(F59*G59),2) -> 10640.5 | J59: =ROUND(SUM(F59*H59),2) -> 13442
A61: 8 | B61: PINTURA INTERNA | I61: =ROUND(SUM(I62:I64),2) -> 17324.7 | J61: =ROUND(SUM(J62:J64),2) -> 21883
A62: 8.1 | B62: 592053 | C62: PREPARARAÇÃO DE PAREDES EXTERNAS E VARREDURA | D62: PLEO | E62: M2 | F62: 790 | G62: 1.22 | H62: =ROUND(SUM(G62*(1+$J$8)),2) -> 1.54 | I62: =ROUND(SUM(F62*G62),2) -> 963.8 | J62: =ROUND(SUM(F62*H62),2) -> 1216.6
A63: 8.2 | B63: 88415 | C63: APLICAÇÃO MANUAL DE FUNDO SELADOR ACRÍLICO EM PAREDES EXTERNAS DE CASAS. AF_03/2024 | D63: SINAPI | E63: M2 | F63: 790 | G63: 4.34 | H63: =ROUND(SUM(G63*(1+$J$8)),2) -> 5.48 | I63: =ROUND(SUM(F63*G63),2) -> 3428.6 | J63: =ROUND(SUM(F63*H63),2) -> 4329.2
A64: 8.3 | B64: 95626 | C64: APLICAÇÃO MANUAL DE TINTA LÁTEX ACRÍLICA EM PAREDE EXTERNAS DE CASAS, DUAS DEMÃOS. AF_03/2024 | D64: SINAPI | E64: M2 | F64: 790 | G64: 16.37 | H64: =ROUND(SUM(G64*(1+$J$8)),2) -> 20.68 | I64: =ROUND(SUM(F64*G64),2) -> 12932.3 | J64: =ROUND(SUM(F64*H64),2) -> 16337.2
A66: 9 | B66: PINTURA ESQUADRIAS | I66: =ROUND(SUM(I68:I69),2) -> 1840.2 | J66: =ROUND(SUM(J68:J69),2) -> 2324.4
A67: 9.1 | B67: 1 | C67: VEDAÇÃO DE ESQUADRIAS BASCULANTES METÁLICAS COM SELANTE A BASE DE POLIURETANO (PU) PARA JUNTAS DIVERSAS | D67: PRÓPRIA | E67: M | F67: 20 | G67: =Plan1!G8 -> 18.363 | H67: =ROUND(SUM(G67*(1+$J$8)),2) -> 23.19 | I67: =ROUND(SUM(F67*G67),2) -> 367.26 | J67: =ROUND(SUM(F67*H67),2) -> 463.8
A68: 9.2 | B68: 100717 | C68: LIXAMENTO MANUAL EM SUPERFÍCIES METÁLICAS EM OBRA. AF_01/2020 | D68: SINAPI | E68: M2 | F68: 30 | G68: 10.06 | H68: =ROUND(SUM(G68*(1+$J$8)),2) -> 12.71 | I68: =ROUND(SUM(F68*G68),2) -> 301.8 | J68: =ROUND(SUM(F68*H68),2) -> 381.3
A69: 9.3 | B69: 100758 | C69: PINTURA COM TINTA ALQUÍDICA DE ACABAMENTO (ESMALTE SINTÉTICO ACETINADO) APLICADA A ROLO OU PINCEL SOBRE SUPERFÍCIES METÁLICAS (EXCETO PERFIL) EXECUTADO EM OBRA (02 DEMÃOS). AF_01/2020 | D69: SINAPI | E69: M2 | F69: 30 | G69: 51.28 | H69: =ROUND(SUM(G69*(1+$J$8)),2) -> 64.77 | I69: =ROUND(SUM(F69*G69),2) -> 1538.4 | J69: =ROUND(SUM(F69*H69),2) -> 1943.1
A71: 10 | B71: PINTURA PISO DO PÁTIO | I71: =ROUND(SUM(I72:I73),2) -> 6167.5 | J71: =ROUND(SUM(J72:J73),2) -> 7792.5
A72: 10.1 | B72: 102488 | C72: PREPARO DO PISO CIMENTADO PARA PINTURA - LIXAMENTO E LIMPEZA. AF_05/2021 | D72: SINAPI | E72: UND | F72: 250 | G72: 3.67 | H72: =ROUND(SUM(G72*(1+$J$8)),2) -> 4.64 | I72: =ROUND(SUM(F72*G72),2) -> 917.5 | J72: =ROUND(SUM(F72*H72),2) -> 1160
A73: 10.2 | B73: 102492 | C73: PINTURA DE PISO COM TINTA ACRÍLICA, APLICAÇÃO MANUAL, 3 DEMÃOS, INCLUSO FUNDO PREPARADOR. AF_05/2021 | D73: SINAPI | E73: UND | F73: 250 | G73: 21 | H73: =ROUND(SUM(G73*(1+$J$8)),2) -> 26.53 | I73: =ROUND(SUM(F73*G73),2) -> 5250 | J73: =ROUND(SUM(F73*H73),2) -> 6632.5
A75: 11 | B75: ELÉTRICA SALA DE INFORMÁTICA | I75: =ROUND(SUM(I76:I84),2) -> 3096.81 | J75: =ROUND(SUM(J76:J84),2) -> 3911.11
A76: 11.1 | B76: 104475 | C76: COMPOSICAO PARAMÉTRICA DE PONTO ELÉTRICO DE TOMADA DE USO GERAL 2P+T (10A/250V) EM EDIFÍCIO RESIDENCIAL COM ELETRODUTO EMBUTIDO EM RASGOS NAS PAREDES, INCLUSO TOMADA, ELETRODUTO, CABO, RASGO, QUEBRA E CHUMBAMENTO. AF_11/2022 | D76: SINAPI | E76: UND | F76: 7 | G76: 156.05 | H76: =ROUND(SUM(G76*(1+$J$8)),2) -> 197.11 | I76: =ROUND(SUM(F76*G76),2) -> 1092.35 | J76: =ROUND(SUM(F76*H76),2) -> 1379.77
A77: 11.2 | B77: 104473 | C77: COMPOSICAO PARAMÉTRICA DE PONTO ELÉTRICO DE ILUMINAÇÃO, COM INTERRUPTOR SIMPLES, EM EDIFÍCIO RESIDENCIAL COM ELETRODUTO EMBUTIDO EM RASGOS NAS PAREDES, INCLUSO TOMADA, ELETRODUTO, CABO, RASGO E CHUMBAMENTO (SEM LUMINÁRIA E LÂMPADA). AF_11/2022 | D77: SINAPI | E77: UND | F77: 2 | G77: 183.35 | H77: =ROUND(SUM(G77*(1+$J$8)),2) -> 231.59 | I77: =ROUND(SUM(F77*G77),2) -> 366.7 | J77: =ROUND(SUM(F77*H77),2) -> 463.18
A78: 11.3 | C78: LUMINÁRIA TIPO SPOT, DE EMBUTIR, COM 1 LÂMPADA LED PAR20 - FORNECIMENTO E INSTALAÇÃO. AF_09/2024 (105546) | D78: SINAPI | E78: UND | F78: 2 | G78: 20.19 | H78: =ROUND(SUM(G78*(1+$J$8)),2) -> 25.5 | I78: =ROUND(SUM(F78*G78),2) -> 40.38 | J78: =ROUND(SUM(F78*H78),2) -> 51
A79: 11.4 | B79: 91871 | C79: ELETRODUTO RÍGIDO ROSCÁVEL, PVC, DN 25 MM (3/4"), PARA CIRCUITOS TERMINAIS, INSTALADO EM PAREDE - FORNECIMENTO E INSTALAÇÃO. AF_03/2023 | D79: SINAPI | E79: M | F79: 20 | G79: 16.74 | H79: =ROUND(SUM(G79*(1+$J$8)),2) -> 21.14 | I79: =ROUND(SUM(F79*G79),2) -> 334.8 | J79: =ROUND(SUM(F79*H79),2) -> 422.8
A80: 11.5 | B80: 91926 | C80: CABO DE COBRE FLEXÍVEL ISOLADO, 2,5 MM², ANTI-CHAMA 450/750 V, PARA CIRCUITOS TERMINAIS - FORNECIMENTO E INSTALAÇÃO. AF_03/2023 | D80: SINAPI | E80: M | F80: 100 | G80: 4.5 | H80: =ROUND(SUM(G80*(1+$J$8)),2) -> 5.68 | I80: =ROUND(SUM(F80*G80),2) -> 450 | J80: =ROUND(SUM(F80*H80),2) -> 568
A81: 11.6 | B81: 91930 | C81: CABO DE COBRE FLEXÍVEL ISOLADO, 6 MM², ANTI-CHAMA 450/750 V, PARA CIRCUITOSTERMINAIS - FORNECIMENTO E INSTALAÇÃO. AF_12/2015 | D81: SINAPI | E81: M | F81: 60 | G81: 9.73 | H81: =ROUND(SUM(G81*(1+$J$8)),2) -> 12.29 | I81: =ROUND(SUM(F81*G81),2) -> 583.8 | J81: =ROUND(SUM(F81*H81),2) -> 737.4
A82: 11.7 | B82: 74130/2 | C82: DISJUNTOR TERMOMAGNETICO MONOPOLAR PADRAO NEMA (AMERICANO) 35 A 50A 240V, FORNECIMENTO E INSTALACAO | D82: SINAPI | E82: UND | F82: 4 | G82: 22.7 | H82: =ROUND(SUM(G82*(1+$J$8)),2) -> 28.67 | I82: =ROUND(SUM(F82*G82),2) -> 90.8 | J82: =ROUND(SUM(F82*H82),2) -> 114.68
A83: 11.8 | B83: 101891 | C83: DISJUNTOR MONOPOLAR TIPO NEMA, CORRENTE NOMINAL DE 35 ATÉ 50A - FORNECIMENTO E INSTALAÇÃO. AF_07/2025 | D83: SINAPI | E83: UND | F83: 1 | G83: 27.45 | H83: =ROUND(SUM(G83*(1+$J$8)),2) -> 34.67 | I83: =ROUND(SUM(F83*G83),2) -> 27.45 | J83: =ROUND(SUM(F83*H83),2) -> 34.67
A84: 11.9 | B84: 101876 | C84: QUADRO DE DISTRIBUIÇÃO DE ENERGIA EM PVC, DE EMBUTIR, SEM BARRAMENTO, PARA 6 DISJUNTORES - FORNECIMENTO E INSTALAÇÃO. AF_10/2020 | D84: SINAPI | E84: UND | F84: 1 | G84: 110.53 | H84: =ROUND(SUM(G84*(1+$J$8)),2) -> 139.61 | I84: =ROUND(SUM(F84*G84),2) -> 110.53 | J84: =ROUND(SUM(F84*H84),2) -> 139.61
A86: 12 | B86: BASE PARA RESERVATÓRIO | I86: =ROUND(SUM(I87:I93),2) -> 2250.15 | J86: =ROUND(SUM(J87:J93),2) -> 2842.14
A87: 12.1 | B87: 96523 | C87: ESCAVAÇÃO MANUAL PARA BLOCO DE COROAMENTO OU SAPATA (INCLUINDO ESCAVAÇÃO PARA COLOCAÇÃO DE FÔRMAS). AF_01/2024 | D87: SINAPI | E87: M3 | F87: 1 | G87: 98.13 | H87: =ROUND(SUM(G87*(1+$J$8)),2) -> 123.95 | I87: =ROUND(SUM(F87*G87),2) -> 98.13 | J87: =ROUND(SUM(F87*H87),2) -> 123.95
A88: 12.2 | B88: 92269 | C88: FABRICAÇÃO DE FÔRMA PARA PILARES E ESTRUTURAS SIMILARES, EM MADEIRA SERRADA, E=25 MM. AF_09/2020 | D88: SINAPI | E88: M2 | F88: 6 | G88: 118.55 | H88: =ROUND(SUM(G88*(1+$J$8)),2) -> 149.74 | I88: =ROUND(SUM(F88*G88),2) -> 711.3 | J88: =ROUND(SUM(F88*H88),2) -> 898.44
A89: 12.3 | B89: 92762 | C89: ARMAÇÃO DE PILAR OU VIGA DE ESTRUTURA CONVENCIONAL DE CONCRETO ARMADO UTILIZANDO AÇO CA-50 DE 10,0 MM - MONTAGEM. AF_06/2022 | D89: SINAPI | E89: KG | F89: 15 | G89: 11.03 | H89: =ROUND(SUM(G89*(1+$J$8)),2) -> 13.93 | I89: =ROUND(SUM(F89*G89),2) -> 165.45 | J89: =ROUND(SUM(F89*H89),2) -> 208.95
A90: 12.4 | B90: 94965 | C90: CONCRETO FCK = 25MPA, TRAÇO 1:2,3:2,7 (EM MASSA SECA DE CIMENTO/ AREIA MÉDIA/ BRITA 1) - PREPARO MECÂNICO COM BETONEIRA 400 L. AF_05/2021 | D90: SINAPI | E90: M3 | F90: 1 | G90: 548.57 | H90: =ROUND(SUM(G90*(1+$J$8)),2) -> 692.9 | I90: =ROUND(SUM(F90*G90),2) -> 548.57 | J90: =ROUND(SUM(F90*H90),2) -> 692.9
A91: 12.5 | B91: 103670 | C91: LANÇAMENTO COM USO DE BALDES, ADENSAMENTO E ACABAMENTO DE CONCRETO EM ESTRUTURAS. AF_02/2022 | D91: SINAPI | E91: M3 | F91: 1 | G91: 305.74 | H91: =ROUND(SUM(G91*(1+$J$8)),2) -> 386.18 | I91: =ROUND(SUM(F91*G91),2) -> 305.74 | J91: =ROUND(SUM(F91*H91),2) -> 386.18
A92: 12.6 | B92: 89449 | C92: TUBO, PVC, SOLDÁVEL, DE 50MM, INSTALADO EM PRUMADA DE ÁGUA - FORNECIMENTO E INSTALAÇÃO. AF_06/2022 | D92: SINAPI | E92: M | F92: 12 | G92: 21.64 | H92: =ROUND(SUM(G92*(1+$J$8)),2) -> 27.33 | I92: =ROUND(SUM(F92*G92),2) -> 259.68 | J92: =ROUND(SUM(F92*H92),2) -> 327.96
A93: 12.7 | B93: 89402 | C93: TUBO, PVC, SOLDÁVEL, DE 25MM, INSTALADO EM RAMAL DE DISTRIBUIÇÃO DE ÁGUA - FORNECIMENTO E INSTALAÇÃO. AF_06/2022 | D93: SINAPI | E93: M | F93: 12 | G93: 13.44 | H93: =ROUND(SUM(G93*(1+$J$8)),2) -> 16.98 | I93: =ROUND(SUM(F93*G93),2) -> 161.28 | J93: =ROUND(SUM(F93*H93),2) -> 203.76
A95: 13 | B95: REMOÇÃO DO ENTULHO | I95: =ROUND(SUM(I96:I97),2) -> 795.71 | J95: =ROUND(SUM(J96:J97),2) -> 1005.94
A96: 13.1 | B96: 100982 | C96: CARGA, MANOBRA E DESCARGA DE ENTULHO EM CAMINHÃO BASCULANTE 10 M³ - CARGA COM ESCAVADEIRA HIDRÁULICA (CAÇAMBA DE 0,80 M³ / 111 HP) E DESCARGA LIVRE (UNIDADE: M3). AF_07/2020 | D96: SINAPI | E96: M3 | F96: 38.5 | G96: 9.53 | H96: =ROUND(SUM(G96*(1+$J$8)),2) -> 12.04 | I96: =ROUND(SUM(F96*G96),2) -> 366.91 | J96: =ROUND(SUM(F96*H96),2) -> 463.54
A97: 13.2 | B97: 95875 | C97: TRANSPORTE COM CAMINHÃO BASCULANTE DE 10 M³, EM VIA URBANA PAVIMENTADA, DMT ATÉ 30 KM (UNIDADE: M3XKM). AF_07/2020 | D97: SINAPI | E97: M3XKM | F97: 160 | G97: 2.68 | H97: =ROUND(SUM(G97*(1+$J$8)),2) -> 3.39 | I97: =ROUND(SUM(F97*G97),2) -> 428.8 | J97: =ROUND(SUM(F97*H97),2) -> 542.4
A99: TOTAL | I99: =ROUND(SUM(I42+I28+I16+I71+I13+I61+I47+I54+I38+I66+I75+I86+I95),2) -> 138256.05 | J99: =ROUND(SUM(J42+J28+J16+J71+J13+J61+J47+J54+J38+J66+J75+J86+J95),2) -> 174633.7
C102: Tabaí, | D102: 16 março de 2026
C110: =G3 -> JOÃO GUILHERME DA SILVA PEREIRA | E110: =G5 -> ANDERSON DE AZEVEDO VARGAS
C111: ENGENHEIRO CIVIL - CREA RS 237837 | E111: PREFEITO MUNICIPAL DE TABAÍ-RS

Sheet Cronograma
A2: CRONOGRAMA FÍSICO-FINANCEIRO
A4: ='Planilha Orcamentária'!A3:D3 -> PREFEITURA MUNICIPAL DE TABAÍ - RS | E4: RESP. TECNICO: | F4: ='Planilha Orcamentária'!G3 -> JOÃO GUILHERME DA SILVA PEREIRA
A5: OBRA: | B5: ='Planilha Orcamentária'!B4:D4 -> REFORMA EDIFICAÇÃO DA E.M.E.F. CARLOS GOMES | E5: ART: | F5: ='Planilha Orcamentária'!H4 -> 14120783
A6: DESCRIÇÃO : | B6: ELABORAÇÃO DE PROJETOS, PLANILHA ORÇAMENTARIA, CRONOGRAMA, BDI, MEMORIAL DESCRITIVO E DEMAIS ARQUIVOS NECESSÁRIOS PARA A CONSTRUÇÃO DE PONTE EM CONCRETO ARMADO, NA COMUNIDADE DE TABOADO, NO MUNICIPIO DE SÃO FRANCISCO-MG | E6: PREFEITO MUNICIPAL: | F6: ='Planilha Orcamentária'!G5 -> ANDERSON DE AZEVEDO VARGAS
A7: LOCAL: | B7: ='Planilha Orcamentária'!B6:D6 -> RUA 28 DE DEZEZEMBRO, nº. 1590 - BAIRRO CENTRO - TABAÍ/RS | E7: DATA: | F7: ='Planilha Orcamentária'!H6 -> 46097
A8: REGIÃO/MÊS DE REFERÊNCIA: | B8: ='Planilha Orcamentária'!B7:D7 -> SINAPI RS – FEVEREIRO/2026 NÃO DESONERADO, BASE PLEO RS FEVEREIRO/2026 NÃO DESONERADO | E8: FORMA DE EXECUÇÃO: | G8: ( X ) | H8: INDIRETA
A9: COMPOSIÇÃO/DEMONSTRATIVO DE BDI - EM ANEXO | E9: % ISS MUNICIPAL: | F9: 0.03 | G9: BDI: | H9: ='Planilha Orcamentária'!J8 -> 0.2631
A10: ='Planilha Orcamentária'!A4 -> OBRA: | B10: ETAPAS/DESCRIÇÃO | C10: FÍSICO/ FINANCEIRO | D10: TOTAL ETAPAS | E10: PREVISÃO DE EXECUÇÃO DAS OBRAS: 3 MESES
E12: MÊS 1 | F12: MÊS 2 | G12: TOTAL | H12: TOTAL
A13: ='Planilha Orcamentária'!A13 -> 1 | B13: ='Planilha Orcamentária'!B13:H13 -> SERVIÇOS PRELIMINARES | C13: Físico % | D13: =D14/$D$40 -> 0.014955132 | E13: 1 | F13: 0 | G13: 0 | H13: =E13+F13+G13 -> 1
C14: Financeiro | D14: ='Planilha Orcamentária'!J14 -> 2611.67 | E14: =ROUND(E13*$D$14,2) -> 2611.67 | F14: =ROUND(F13*$D$14,2) -> 0 | G14: =ROUND(G13*$D$14,2) -> 0 | H14: =E14+F14+G14 -> 2611.67
A15: ='Planilha Orcamentária'!A16 -> 2 | B15: ='Planilha Orcamentária'!B16:H16 -> RECUPERAÇÃO DA FUNDAÇÃO | C15: Físico % | D15: =D16/$D$40 -> 0.025572613 | E15: 1 | F15: 0 | G15: 0 | H15: =E15+F15+G15 -> 1
C16: Financeiro | D16: ='Planilha Orcamentária'!J16 -> 4465.84 | E16: =E15*$D$16 -> 4465.84 | F16: =F15*$D$16 -> 0 | G16: =G15*$D$16 -> 0 | H16: =E16+F16+G16 -> 4465.84
A17: ='Planilha Orcamentária'!A28 -> 3 | B17: ='Planilha Orcamentária'!B28:H28 -> REFORMA DOS SANITÁRIOS | C17: Físico % | D17: =D18/$D$40 -> 0.15421783 | E17: 0.5 | F17: 0.5 | G17: 0 | H17: =E17+F17+G17 -> 1
C18: Financeiro | D18: ='Planilha Orcamentária'!J28 -> 26931.63 | E18: =E17*$D$18 -> 13465.815 | F18: =F17*$D$18 -> 13465.815 | G18: =G17*$D$18 -> 0 | H18: =E18+F18+G18 -> 26931.63
A19: ='Planilha Orcamentária'!A38 -> 4 | B19: ='Planilha Orcamentária'!B38:H38 -> SUBSTITUIÇÃO DE PORTAS EXTERNAS | C19: Físico % | D19: =D20/$D$40 -> 0.18898408 | E19: 0.4 | F19: 0.4 | G19: 0.2 | H19: =E19+F19+G19 -> 1
C20: Financeiro | D20: ='Planilha Orcamentária'!J38 -> 33002.99 | E20: =E19*$D$20 -> 13201.196 | F20: =F19*$D$20 -> 13201.196 | G20: =G19*$D$20 -> 6600.598 | H20: =E20+F20+G20 -> 33002.99
A21: ='Planilha Orcamentária'!A42 -> 5 | B21: ='Planilha Orcamentária'!B42:H42 -> RECUPERAÇÃO DOS BEIRAIS | C21: Físico % | D21: =D22/$D$40 -> 0.082188604 | E21: 0.4 | F21: 0.3 | G21: 0.3 | H21: =E21+F21+G21 -> 1
C22: Financeiro | D22: ='Planilha Orcamentária'!J42 -> 14352.9 | E22: =E21*$D$22 -> 5741.16 | F22: =F21*$D$22 -> 4305.87 | G22: =G21*$D$22 -> 4305.87 | H22: =E22+F22+G22 -> 14352.9
A23: ='Planilha Orcamentária'!A47 -> 6 | B23: ='Planilha Orcamentária'!B47:H47 -> REVESTIMENTO CERÂMICO | C23: Físico % | D23: =D24/$D$40 -> 0.19694068 | E23: 0.4 | F23: 0.4 | G23: 0.2 | H23: =E23+F23+G23 -> 1
C24: Financeiro | D24: ='Planilha Orcamentária'!J47 -> 34392.48 | E24: =E23*$D$24 -> 13756.992 | F24: =F23*$D$24 -> 13756.992 | G24: =G23*$D$24 -> 6878.496 | H24: =E24+F24+G24 -> 34392.48
A25: ='Planilha Orcamentária'!A54 -> 7 | B25: ='Planilha Orcamentária'!B54:H54 -> PINTURA EXTERNA | C25: Físico % | D25: =D26/$D$40 -> 0.10946971 | E25: 0.3 | F25: 0.5 | G25: 0.2 | H25: =E25+F25+G25 -> 1
C26: Financeiro | D26: ='Planilha Orcamentária'!J54 -> 19117.1 | E26: =E25*$D$26 -> 5735.13 | F26: =F25*$D$26 -> 9558.55 | G26: =G25*$D$26 -> 3823.42 | H26: =E26+F26+G26 -> 19117.1
A27: ='Planilha Orcamentária'!A61 -> 8 | B27: ='Planilha Orcamentária'!B61:H61 -> PINTURA INTERNA | C27: Físico % | D27: =D28/$D$40 -> 0.125308 | E27: 0.3 | F27: 0.4 | G27: 0.3 | H27: =E27+F27+G27 -> 1
C28: Financeiro | D28: ='Planilha Orcamentária'!J61 -> 21883 | E28: =E27*$D$28 -> 6564.9 | F28: =F27*$D$28 -> 8753.2 | G28: =G27*$D$28 -> 6564.9 | H28: =E28+F28+G28 -> 21883
A29: ='Planilha Orcamentária'!A66 -> 9 | B29: ='Planilha Orcamentária'!B66:H66 -> PINTURA ESQUADRIAS | C29: Físico % | D29: =D30/$D$40 -> 0.013310146 | E29: 0.2 | F29: 0.4 | G29: 0.4 | H29: =E29+F29+G29 -> 1
C30: Financeiro | D30: ='Planilha Orcamentária'!J66 -> 2324.4 | E30: =E29*$D$30 -> 464.88 | F30: =F29*$D$30 -> 929.76 | G30: =G29*$D$30 -> 929.76 | H30: =E30+F30+G30 -> 2324.4
A31: ='Planilha Orcamentária'!A71 -> 10 | B31: ='Planilha Orcamentária'!B71 -> PINTURA PISO DO PÁTIO | C31: Físico % | D31: =D32/$D$40 -> 0.044621972 | E31: 0.2 | F31: 0.3 | G31: 0.5 | H31: =E31+F31+G31 -> 1
C32: Financeiro | D32: ='Planilha Orcamentária'!J71 -> 7792.5 | E32: =E31*$D$32 -> 1558.5 | F32: =F31*$D$32 -> 2337.75 | G32: =G31*$D$32 -> 3896.25 | H32: =E32+F32+G32 -> 7792.5
A33: ='Planilha Orcamentária'!A75 -> 11 | B33: ='Planilha Orcamentária'!B75:H75 -> ELÉTRICA SALA DE INFORMÁTICA | C33: Físico % | D33: =D34/$D$40 -> 0.022396078 | E33: 0.5 | F33: 0.5 | G33: 0 | H33: =E33+F33+G33 -> 1
C34: Financeiro | D34: ='Planilha Orcamentária'!J75 -> 3911.11 | E34: =E33*$D$34 -> 1955.555 | F34: =F33*$D$34 -> 1955.555 | G34: =G33*$D$34 -> 0 | H34: =E34+F34+G34 -> 3911.11
A35: ='Planilha Orcamentária'!A86 -> 12 | B35: ='Planilha Orcamentária'!B86:H86 -> BASE PARA RESERVATÓRIO | C35: Físico % | D35: =D36/$D$40 -> 0.016274866 | E35: 0 | F35: 0.5 | G35: 0.5 | H35: =E35+F35+G35 -> 1
C36: Financeiro | D36: ='Planilha Orcamentária'!J86 -> 2842.14 | E36: =E35*$D$36 -> 0 | F36: =F35*$D$36 -> 1421.07 | G36: =G35*$D$36 -> 1421.07 | H36: =E36+F36+G36 -> 2842.14
A37: ='Planilha Orcamentária'!A95 -> 13 | B37: ='Planilha Orcamentária'!B95:H95 -> REMOÇÃO DO ENTULHO | C37: Físico % | D37: =D38/$D$40 -> 0.0057602857 | E37: 0.2 | F37: 0.3 | G37: 0.5 | H37: =E37+F37+G37 -> 1
C38: Financeiro | D38: ='Planilha Orcamentária'!J95 -> 1005.94 | E38: =E37*$D$38 -> 201.188 | F38: =F37*$D$38 -> 301.782 | G38: =G37*$D$38 -> 502.97 | H38: =E38+F38+G38 -> 1005.94
A39: TOTAL | C39: Físico % | D39: =ROUND(SUM(D27+D25+D23++D19+D21+D17+D15+D13+D29+D33+D35+D37+D31),2) -> 1 | E39: =E40/$D$40 -> 0.39925186 | F39: =F40/$D$40 -> 0.40076766 | G39: =G40/$D$40 -> 0.19998047 | H39: =E39+F39+G39 -> 1
C40: Financeiro | D40: =ROUND(SUM(D14+D16+D18+D20+D22+D24+D26+D28+D30+D34+D36+D38+D32),2) -> 174633.7 | E40: =ROUND(SUM(E32+E14+E16+E18+E20+E22+E24+E26+E28+E30+E34+E36+E38),2) -> 69722.83 | F40: =ROUND(SUM(F14+F16+F18+F32+F20+F22+F24+F26+F28+F30+F34+F36+F38),2) -> 69987.54 | G40: =ROUND(SUM(G14+G16+G18+G32+G20+G22+G24+G26+G28+G30+G34+G36+G38),2) -> 34923.33 | H40: =SUM(E40:G40) -> 174633.7
C43: ='Planilha Orcamentária'!C102 -> Tabaí, | D43: ='Planilha Orcamentária'!D102:F102 -> 16 março de 2026
B51: ='Planilha Orcamentária'!C110 -> JOÃO GUILHERME DA SILVA PEREIRA | D51: ='Planilha Orcamentária'!G5 -> ANDERSON DE AZEVEDO VARGAS
B52: ='Planilha Orcamentária'!C111 -> ENGENHEIRO CIVIL - CREA RS 237837 | D52: PREFEITO MUNICIPAL DE TABAÍ-RS

Sheet Plan1
A1: FORMAÇÃO DE COMPOSIÇÕES
A3: 1 | B3: VEDAÇÃO DE ESQUADRIAS BASCULANTES METÁLICAS
A4: Tipo | B4: Código | C4: Nome | D4: Custo Unitário | E4: quantidade | F4: Unidade | G4: Custo Total
A5: C | B5: 88316 | C5: SERVENTE COM ENCARGOS COMPLEMENTARES | D5: 30.84 | E5: 0.1 | F5: H | G5: =D5*E5 -> 3.084 | H5: =D5*E5 -> 3.084
A6: C | B6: 88309 | C6: PEDREIRO COM ENCARGOS COMPLEMENTARES | D6: 35.58 | E6: 0.15 | F6: H | G6: =D6*E6 -> 5.337
A7: EU | B7: 142 | C7: SELANTE ELÁSTICO MONOCOMPONENTE A BASE DE POLIURETANO (PU) PARA JUNTAS DIVERSAS | D7: 33.14 | E7: 0.3 | F7: 310 ml | G7: =D7*E7 -> 9.942
G8: =SUM(G5:G7) -> 18.363
