Workbook

Sheet Planilha Orçamentaria
A1: PREFEITURA MUNICIPAL DE ORIZÂNIA - ESTADO DE MINAS GERAIS CNPJ: 01.616.271/0001-39
A2: PLANILHA ORÇAMENTÁRIA DE CUSTOS
A3: PREFEITURA MUNICIPAL DE ORIZÂNIA - MG
A4: SERVIÇO: Fornecimento e aplicação de concreto usinado. | F4: DATA: 27/03/2024
A5: Endereço: Municipio de Orizânia/MG. | E5: ISS: | F5: 0.03 | G5: FORMA DE EXECUÇÃO:
A6: REGIÃO/MÊS DE REFERÊNCIA: SETOP MG 08/2023 - CPOS São Paulo 05/2023 - Orse Sergipe 05/2023 (Desonerado) | E6: ( ) | F6: DIRETA | G6: ( x ) | H6: INDIRETA
A7: PRAZO DE EXECUÇÃO: 365 dias | G7: BDI: | H7: 0.2864
A8: ITEM | B8: CODIGO | C8: DESCRIÇÃO | D8: UNIDADE | E8: QUANT. | F8: PREÇO UNITÁRIO S/ BDI | G8: PREÇO UNITÁRIO C/ BDI | H8: PREÇO UNITÁRIO LICITADO | I8: PREÇO TOTAL | J8: PREÇO LICITADO
A9: 1.0 | C9: SERVIÇOS PRELIMINARES | I9: =I10 -> 1700.79 | J9: =J10 -> 1190.55
A10: 1.1 | B10: ED-28427 | C10: FORNECIMENTO E COLOCAÇÃO DE PLACA DE OBRA EM CHAPA GALVANIZADA #26, ESP. 0,45MM, DIMENSÃO (3X1,5)M, PLOTADA COM ADESIVO VINÍLICO, AFIXADA COM REBITES 4,8X40MM, EM ESTRUTURA METÁLICA DE METALON 20X20MM, ESP. 1,25MM, INCLUSIVE SUPORTE EM EUCALIPTO AUTOCLAVADO PINTADO COM TINTA PVA DUAS (2) DEMÃOS | D10: Und | E10: 1 | F10: 1313.86 | G10: =F10*1.2945 -> 1700.79 | H10: =G10*0.7 -> 1190.55 | I10: =G10*E10 -> 1700.79 | J10: =I10*0.7 -> 1190.55
A11: 1 | I11: =I79+I80+I81+I82 -> 1570642.5 | J11: =J12+J13+J14+J15+J16+J17+J20+J21+J22+J18+J19 -> 1242.08
C12: ESTRUTURA (IÇAMENTO DE TRELIÇAS E TRAVESSAS) | J12: =H12*E12 -> 0
A13: 1.2 | B13: ED-50362 | C13: MAO DE OBRA DE SOLDADOR INDUSTRIAL, INCL USIVE ENCARGOS SOCIAIS DESONERADOS | D13: H | E13: 56 | F13: 18.25 | G13: =F13*1.286 -> 23.47 | H13: =G13*0.945 -> 22.18 | I13: =G13*E13 -> 1314.32 | J13: =H13*E13 -> 1242.08
A14: 1.3 | B14: ED-51133 | C14: MAO DE OBRA DE AJUDANTE DE SOLDADOR, INC LUSIVE ENCARGOS SOCIAIS DESONERADOS | D14: M³ | F14: 19.17 | G14: =F14*1.286 -> 24.65 | H14: =G14*0.945 -> 23.29 | I14: =G14*E14 -> 0 | J14: =H14*E14 -> 0
A15: 1.4 | B15: SETOP ED-48493 | C15: MAO DE OBRA DE MONTADOR A (MONTAGEM DE E STRUTURAS METALICAS), INCLUSIVE ENCARGOS SOCIAIS DESONERADOS | D15: M² | F15: 9.63 | G15: =F15*1.2868 -> 12.39 | H15: =G15*0.945 -> 11.71 | I15: =G15*E15 -> 0 | J15: =I15*0.7 -> 0
A16: 1.5 | B16: SETOP ED-48462 | C16: MAO DE OBRA DE ENCARREGADO DE MONTAGEM, INCLUSIVE ENCARGOS SOCIAIS DESONERADOS | D16: M² | F16: 14.45 | G16: =F16*1.2868 -> 18.59 | H16: =G16*0.945 -> 17.57 | I16: =G16*E16 -> 0 | J16: =I16*0.7 -> 0
A17: 1.6 | B17: SETOP ED-48514 | C17: REMOÇÃO DE TELHA CERÂMICA COLONIAL OU FRANCESA PARA REAPROVEITAMENTO, INCLUSIVE AFASTAMENTO E EMPILHAMENTO | D17: M² | F17: 16.06 | G17: =F17*1.2868 -> 20.67 | H17: =G17*0.945 -> 19.53 | I17: =G17*E17 -> 0 | J17: =I17*0.7 -> 0
A18: 1.7 | B18: SETOP ED-48457 | C18: DEMOLIÇÃO DE ENGRADAMENTO DE TELHA CERÂMICA PARA REAPROVEITAMENTO | D18: M² | F18: 19.68 | G18: =F18*1.2868 -> 25.32 | H18: =G18*0.945 -> 23.93 | I18: =G18*E18 -> 0 | J18: =I18*0.7 -> 0
A19: 1.8 | B19: SETOP ED-48438 | C19: REMOÇÃO DE CALHA GALVANIZADA OU PVC, INCLUSIVE AFASTAMENTO | D19: M | F19: 6.42 | G19: =F19*1.2868 -> 8.26 | H19: =G19*0.945 -> 7.81 | I19: =G19*E19 -> 0 | J19: =I19*0.7 -> 0
A20: 1.8 | B20: SETOP ED-48501 | C20: DEMOLIÇÃO DE REBOCO, COM ESPESSURA DE ATÉ 55MM, INCLUSIVE AFASTAMENTO | D20: M² | F20: 11.24 | G20: =F20*1.2868 -> 14.46 | H20: =G20*0.945 -> 13.66 | I20: =G20*E20 -> 0 | J20: =I20*0.7 -> 0
A21: 1.9 | B21: SETOP ED-48436 | C21: DEMOLIÇÃO DE ALVENARIA DE TIJOLO CERÂMICO SEM APROVEITAMENTO DO MATERIAL, INCLUSIVE AFASTAMENTO | D21: M³ | F21: 96.37 | G21: =F21*1.2868 -> 124.01 | H21: =G21*0.945 -> 117.19 | I21: =G21*E21 -> 0 | J21: =I21*0.7 -> 0
A22: 1.10 | B22: SETOP ED-48450 | C22: DEMOLIÇÃO DE DIVISÓRIA DE PEDRAS (MÁRMORE, GRANITO, ARDÓSIA, MARMORITE), INCLUSIVE AFASTAMENTO | D22: M² | F22: 37.1 | G22: =F22*1.2868 -> 47.74 | H22: =G22*0.945 -> 45.11 | I22: =G22*E22 -> 0 | J22: =I22*0.7 -> 0
A23: 2 | C23: MEIO FIO, SARJETAS E PASSEIOS | I23: =I24+I25+I26 -> 0 | J23: =J24+J25+J26 -> 0
A24: 2.1 | B24: RO-40624 | C24: Sarjeta de concreto em aterro, tipo DR.SCA-x/y. Largura = 80 cm tipo 50/30 (Execução, incluindo escavação, ornecimento e transporte de todos os materiais) | D24: M | F24: 75.49 | G24: =F24*1.286 -> 97.08 | H24: =G24*0.945 -> 91.74 | I24: =G24*E24 -> 0 | J24: =H24*E24 -> 0
A25: 2.2 | B25: RO-40638 | C25: Meio-fio de concreto, tipo DR.MF-01 (Execução, incluindo escavação, fornecimento e transporte de todos os materiais) | D25: M | F25: 48.94 | G25: =F25*1.286 -> 62.94 | H25: =G25*0.945 -> 59.48 | I25: =G25*E25 -> 0 | J25: =H25*E25 -> 0
A26: 2.3 | B26: ED-51145 | C26: PASSEIOS DE CONCRETO E = 6 CM, FCK = 10 MPA, JUNTA SECA | D26: M² | F26: 52.36 | G26: =F26*1.286 -> 67.33 | H26: =G26*0.945 -> 63.63 | I26: =G26*E26 -> 0 | J26: =H26*E26 -> 0
A27: 3 | C27: ALVENARIA | G27: =F27*1.2868 -> 0 | H27: =G27*0.945 -> 0 | I27: =I28+I29+I30+I32+I31 -> 0 | J27: =J28+J29+J30+J32+J31 -> 0
A28: 3.1 | B28: SETOP ED-48231 | C28: ALVENARIA DE VEDAÇÃO COM TIJOLO CERÂMICO FURADO, ESP. 9CM, PARA REVESTIMENTO, INCLUSIVE ARGAMASSA PARA ASSENTAMENTO | D28: m² | F28: 36.08 | G28: =F28*1.2868 -> 46.43 | H28: =G28*0.945 -> 43.88 | I28: =G28*E28 -> 0 | J28: =I28*0.7 -> 0
A29: 3.2 | B29: SETOP ED-50730 | C29: CHAPISCO COM ARGAMASSA, TRAÇO 1:2:3 (CIMENTO, AREIA E PEDRISCO), APLICADO COM COLHER, ESP. 5MM, PREPARO MECÂNICO | D29: m² | F29: 9.72 | G29: =F29*1.2868 -> 12.51 | H29: =G29*0.945 -> 11.82 | I29: =G29*E29 -> 0 | J29: =I29*0.7 -> 0
A30: 3.3 | B30: SETOP ED-50760 | C30: REBOCO COM ARGAMASSA, TRAÇO 1:2:9 (CIMENTO, CAL E AREIA), COM ADITIVO IMPERMEABILIZANTE, ESP. 20MM, APLICAÇÃO MANUAL, PREPARO MECÂNICO | D30: m³ | F30: 29.09 | G30: =F30*1.2868 -> 37.43 | H30: =G30*0.945 -> 35.37 | I30: =G30*E30 -> 0 | J30: =I30*0.7 -> 0
A31: 4.4 | B31: SETOP ED-50408 | C31: MURO DIVISÓRIO TIJOLO FURADO E = 10 CM, REBOCADO E PINTADO A LATEX H = 2,20 A 2,50 M, INCLUSIVE SAPATA DE CONCRETO ARMADO FCK = 15 MPA, 50 X 55 CM | D31: m | F31: 755.13 | G31: =F31*1.2868 -> 971.7 | H31: =G31*0.945 -> 918.26 | I31: =G31*E31 -> 0 | J31: =I31*0.7 -> 0
A32: 4.5 | B32: SETOP ED-50474 | C32: EMASSAMENTO EM PAREDE COM MASSA ACRÍLICA, DUAS (2) DEMÃOS, INCLUSIVE LIXAMENTO PARA PINTURA | D32: m³ | F32: 15.99 | G32: =F32*1.2868 -> 20.58 | H32: =G32*0.945 -> 19.45 | I32: =G32*E32 -> 0 | J32: =I32*0.7 -> 0
A33: 4 | C33: PISOS, REVESTIMENTOS E DIVISORIAS | G33: =F33*1.2868 -> 0 | H33: =G33*0.945 -> 0 | I33: =I34+I35+I36+I37+I38 -> -0.04 | J33: =J34+J35+J36+J37+J38 -> -0.03
A34: 4.1 | B34: SETOP ED-50735 | C34: CONTRAPISO DESEMPENADO COM ARGAMASSA, TRAÇO 1:3 (CIMENTO E AREIA), ESP. 50MM | D34: m² | F34: 42.79 | G34: =F34*1.2868 -> 55.06 | H34: =G34*0.945 -> 52.03 | I34: =G34*E34 -> 0 | J34: =I34*0.7 -> 0
A35: 4.2 | B35: SETOP ED-50542 | C35: REVESTIMENTO COM CERÂMICA APLICADO EM PISO, ACABAMENTO ESMALTADO, AMBIENTE INTERNO, PADRÃO EXTRA, DIMENSÃO DA PEÇA ATÉ 2025 CM2, PEI V, ASSENTAMENTO COM ARGAMASSA INDUSTRIALIZADA, INCLUSIVE REJUNTAMENTO | D35: m² | F35: 72.23 | G35: =F35*1.2868 -> 92.95 | H35: =G35*0.945 -> 87.84 | I35: =G35*E35 -> 0 | J35: =I35*0.7 -> 0
A36: 4.3 | B36: SETOP ED-9081 | C36: REVESTIMENTO COM CERÂMICA APLICADO EM PAREDE, ACABAMENTO ESMALTADO, AMBIENTE INTERNO/EXTERNO, PADRÃO EXTRA, DIMENSÃO DA PEÇA ATÉ 2025 CM2, PEI III, ASSENTAMENTO COM ARGAMASSA INDUSTRIALIZADA, INCLUSIVE REJUNTAMENTO | D36: m² | F36: 56.8 | G36: =F36*1.2868 -> 73.09 | H36: =G36*0.945 -> 69.07 | I36: =G36*E36-0.04 -> -0.04 | J36: =I36*0.7 -> -0.03
A37: 4.4 | B37: SETOP ED-51002 | C37: SOLEIRA DE GRANITO CINZA ANDORINHA E = 2 CM | D37: m² | F37: 245.64 | G37: =F37*1.2868 -> 316.09 | H37: =G37*0.945 -> 298.71 | I37: =G37*E37 -> 0 | J37: =I37*0.7 -> 0
A38: 4.5 | B38: SETOP ED-48533 | C38: DIVISÓRIA EM GRANITO CINZA ANDORINHA E = 3 CM, INCLUSIVE FERRAGENS EM LATÃO CROMADO | D38: m³ | F38: 541.04 | G38: =F38*1.2868 -> 696.21 | H38: =G38*0.945 -> 657.92 | I38: =G38*E38 -> 0 | J38: =I38*0.7 -> 0
A39: 5 | C39: ESQUADRIAS | G39: =F39*1.2868 -> 0 | H39: =G39*0.945 -> 0 | I39: =I40+I42+I46+I41+I43+I44+I45 -> 0 | J39: =J40+J41+J42+J46+J43+J44+J45 -> 0
A40: 5.1 | B40: SETOP ED-49605 | C40: PORTA EM MADEIRA DE LEI ESPECIAL COMPLETA 80 X 210 CM | D40: Und | F40: 711.67 | G40: =F40*1.2868 -> 915.78 | H40: =G40*0.945 -> 865.41 | I40: =G40*E40 -> 0 | J40: =I40*0.7 -> 0
...

Sheet Composições
A1: PREFEITURA MUNICIPAL DE ORIZÂNIA - ESTADO DE MINAS GERAIS CNPJ: 01.616.271/0001-39
A2: Composição - ED-9054
A3: Código | C3: ED-9054
A4: Descrição | C4: FORNECIMENTO DE CONCRETO ESTRUTURAL, USINADO BOMBEADO, AUTO-ADENSÁVEL, COM FCK 30MPA, INCLUSIVE LANÇAMENTO E ACABAMENTO
A5: Data | C5: 08/2023
A6: Estado | C6: Minas Gerais
A7: Região | C7: Central
A8: Tipo
A9: Unidade | C9: m³
A11: Valor com Desoneração | C11: 783,63
B12: codigo | C12: Descrição | D12: Tipo | E12: Unidade | F12: Valor sem Desoneração | G12: Valor com Desoneração | H12: Coeficiente | I12: Valor sem Desoneração | J12: Valor com Desoneração
A13: C | B13: MATED-11301 | C13: CONCRETO DOSADO EM CENTRAL AUTO-ADENSÁVEL (RESISTÊNCIA: 30,0MPA| BRITA: 0|SLUMP FLOW: 660- 750MM|CLASSE: CLASSE SF2) | D13: Material | E13: m³ | F13: 679,2 | G13: 679,2 | H13: 1,05 | I13: 713,16 | J13: 713,16
A14: C | B14: MATED-12059 | C14: TAXA DE BOMBEAMENTO DE CONCRETO | D14: Material | E14: m³ | F14: 57,38 | G14: 57,38 | H14: 1,0 | I14: 57,38 | J14: 57,38
A15: C | B15: ED-9058 | C15: APLICAÇÃO DE CONCRETO AUTO-ADENSÁVEL EM ESTRUTURA, INCLUSIVE ESPALHAMENTO, ADENSAMENTO E ACABAMENTO | E15: m³ | F15: 14,65 | G15: 13,09 | H15: 1,0 | I15: 14,65 | J15: 13,09
A17: Composição CPOS-CDHU - 54.08.010
A18: Código | C18: 54.08.010
A19: Descrição | C19: Fibra em polipropileno (macrofibra), resistência residual 4,3+-0,3 Mpa
A20: Data | C20: 05/2023
A21: Estado | C21: São Paulo
A22: Tipo
A23: Unidade | C23: KG
A25: Valor com Desoneração | C25: 49,59
B26: codigo | C26: Descrição | D26: Tipo | E26: Unidade | F26: Valor sem Desoneração | G26: Valor com Desoneração | H26: Coeficiente | I26: Valor sem Desoneração | J26: Valor com Desoneração
A27: I | B27: B.01.000.010146 | C27: Servente | D27: Mão de Obra | E27: H | F27: 20,36 | G27: 17,64 | H27: 0,9756 | I27: 19,86 | J27: 17,20
A28: I | B28: R.03.000.028049 | C28: Macrofibra estrutural polipropileno, resistência à tração >= 500MPa, E>=5 Gpa, título até 5dtex, tenacidade mín. 5cN/dtex, deformação até 5cN/dtex e até 40%, perda massa por alcalinidade < 5%; ref. Politex Neomatex ou equivalente | D28: Material | E28: KG | F28: 32,38 | G28: 32,38 | H28: 1,0 | I28: 32,38 | J28: 32,38
A30: Composição ORSE - 8411
A31: Código | C31: 8411
A32: Descrição | C32: Polimento de piso cimentado - R1
A33: Data | C33: 05/2023
A34: Estado | C34: Sergipe
A35: Tipo | C35: Pisos : Cimentados, em Concreto Simples, tipo Tech-Stone e de Alta Resistência
A36: Unidade | C36: m²
A38: Valor com Desoneração | C38: 28,00
B39: codigo | C39: Descrição | D39: Tipo | E39: Unidade | F39: Valor sem Desoneração | G39: Valor com Desoneração | H39: Coeficiente | I39: Valor sem Desoneração | J39: Valor com Desoneração
A40: I | B40: 8704 | C40: Polimento de piso m2 | D40: Serviços | E40: m² | F40: 28,00 | G40: 28,00 | H40: 1,0 | I40: 28,00 | J40: 28,00
A42: Composição CPOS-CDHU - 11.20.050
A43: Código | C43: 11.20.050
A44: Descrição | C44: Corte de junta de dilatação, com serra de disco diamantado para pisos
A45: Data | C45: 05/2023
A46: Estado | C46: São Paulo
...

Sheet BDI
A1: PREFEITURA MUNICIPAL DE ORIZÂNIA - ESTADO DE MINAS GERAIS CNPJ: 01.616.271/0001-39
A16: DEMONSTRATIVO DO BDI - COM DESONERAÇÃO - OBRA RODOVIÁRIA
A18: BDI (CONFORME ACÓRDÃO Nº 2622/13 e LEI Nº 13.161 DE 31/08/15)
A19: DISCRIMINAÇÃO DAS PARCELAS | B19: SIG. (1) | C19: CONSTRUÇÃO DE RODOVIAS E FERROVIAS | J19: INC. (6)
C20: ISS (2) | G20: DIFERENCIADO
C21: 0.02 | D21: 0.03 | E21: 0.04 | F21: 0.05 | G21: MATERIAL (5) | H21: SERVIÇO TERCEIRIZADO (4) (ISS=5%) | I21: EQUIPAMENTO (3) (ISS=5%)
A22: CUSTO DIRETO | B22: CD | C22: 1 | D22: 1 | E22: 1 | F22: 1 | G22: 1 | H22: 1 | I22: 1
A23: ADMINISTRAÇÃO CENTRAL | B23: AC | C23: 0.0467 | D23: 0.0467 | E23: 0.0467 | F23: 0.0467 | G23: 0.0342 | H23: 0.0401 | I23: 0.0342 | J23: CD
A24: LUCRO BRUTO | B24: L | C24: 0.0753 | D24: 0.0753 | E24: 0.0753 | F24: 0.0753 | G24: 0.0494 | H24: 0.0664 | I24: 0.0494 | J24: CD
A25: DESPESAS FINANCEIRAS | B25: DF | C25: 0.0093 | D25: 0.0093 | E25: 0.0093 | F25: 0.0093 | G25: 0.0093 | H25: 0.0093 | I25: 0.0093 | J25: CD
A26: SEGUROS, GARANTIAS E RISCO | C26: =SUM(C27:C28) -> 0.0171 | D26: =SUM(D27:D28) -> 0.0171 | E26: =SUM(E27:E28) -> 0.0171 | F26: =SUM(F27:F28) -> 0.0171 | G26: =SUM(G27:G28) -> 0.0129 | H26: =SUM(H27:H28) -> 0.0082 | I26: =SUM(I27:I28) -> 0.0129 | J26: CD
A27: SEGUROS + GARANTIAS | B27: S | C27: 0.0074 | D27: 0.0074 | E27: 0.0074 | F27: 0.0074 | G27: 0.0053 | H27: 0.0032 | I27: 0.0053 | J27: CD
A28: RISCO(*) | B28: R | C28: 0.0097 | D28: 0.0097 | E28: 0.0097 | F28: 0.0097 | G28: 0.0076 | H28: 0.005 | I28: 0.0076 | J28: CD
A29: TRIBUTOS | B29: I | C29: =SUM(C30:C32) -> 0.0505 | D29: =SUM(D30:D32) -> 0.0575 | E29: =SUM(E30:E32) -> 0.0645 | F29: =SUM(F30:F32) -> 0.0715 | G29: =SUM(G30:G32) -> 0.0365 | H29: =SUM(H30:H32) -> 0.0615 | I29: =SUM(I30:I32) -> 0.0615 | J29: PV
A30: ISS | B30: ISS(2) | C30: 0.014 | D30: 0.021 | E30: 0.028 | F30: 0.035 | G30: - | H30: 0.025 | I30: 0.025 | J30: PV
A31: PIS | B31: PIS | C31: 0.0065 | D31: 0.0065 | E31: 0.0065 | F31: 0.0065 | G31: 0.0065 | H31: 0.0065 | I31: 0.0065 | J31: PV
A32: COFINS | B32: - | C32: 0.03 | D32: 0.03 | E32: 0.03 | F32: 0.03 | G32: 0.03 | H32: 0.03 | I32: 0.03 | J32: PV
A33: CPRB | B33: INSS | C33: 0.045 | D33: 0.045 | E33: 0.045 | F33: 0.045 | G33: 0.045 | H33: 0.045 | I33: 0.045 | J33: PV
A35: FÓRMULA DO BDI | C35: (1 + (AC + S + G + R)) x (1 + DF) x (1 + L)
C36: (1 - (I + CPRB))
A37: BDI (NUMERADOR) | C37: =(1+(C23+C26))*(1+C25)*(1+C24)-1 -> 0.1545 | D37: =(1+(D23+D26))*(1+D25)*(1+D24)-1 -> 0.1545 | E37: =(1+(E23+E26))*(1+E25)*(1+E24)-1 -> 0.1545 | F37: =(1+(F23+F26))*(1+F25)*(1+F24)-1 -> 0.1545 | G37: =(1+(G23+G26))*(1+G25)*(1+G24)-1 -> 0.109 | H37: =(1+(H23+H26))*(1+H25)*(1+H24)-1 -> 0.1283 | I37: =(1+(I23+I26))*(1+I25)*(1+I24)-1 -> 0.109
A38: BDI (DENOMINADOR) | C38: =(1-(C29+C33)) -> 0.9045 | D38: =(1-(D29+D33)) -> 0.8975 | E38: =(1-(E29+E33)) -> 0.8905 | F38: =(1-(F29+F33)) -> 0.8835 | G38: =(1-(G29+G33)) -> 0.9185 | H38: =(1-(H29+H33)) -> 0.8935 | I38: =(1-(I29+I33)) -> 0.8935
A39: BDI | C39: =(1+C37)/C38-1 -> 0.2764 | D39: =(1+D37)/D38-1 -> 0.2864 | E39: =(1+E37)/E38-1 -> 0.2965 | F39: =(1+F37)/F38-1 -> 0.3067 | G39: =(1+G37)/G38-1 -> 0.2074 | H39: =(1+H37)/H38-1 -> 0.2628 | I39: =(1+I37)/I38-1 -> 0.2412
A41: OBSERVAÇÕES
A42: (1) SIGLA. (2) INCIDÊNCIA DE ISS EM 70% DO PREÇO DE VENDA, COM PERCENTUAIS DE 2%, 3%, 4% E 5%. (3) BDI DIFERENCIADO A SER APLICADO EM LOCAÇÃO DE CUSTO HORÁRIO DE EQUIPAMENTO. (4) BDI DIFERENCIADO A SER APLICADO PARA SERVIÇOS TERCEIRIZADOS. (5) BDI DIFERENCIADO A SER APLICADO PARA FORNECIMENTO DE MATERIAL BETUMINOSO E MATERIAL DE JAZIDA. (6) INCIDÊNCIA.

Sheet 1° BM 
A1: PREFEITURA MUNICIPAL DE ORIZÂNIA - ESTADO DE MINAS GERAIS CNPJ: 01.616.271/0001-39
A2: BOLETIM DE MEDIÇÃO
A3: PREFEITURA MUNICIPAL DE ORIZÂNIA - MG | H3: PAC: | L3: DATA DE EMISSÃO: | N3: Medição n°: | P3: Folha n°:
A4: ='Planilha Orçamentaria'!A4:E4 -> SERVIÇO: Fornecimento e aplicação de concreto usinado. | F4: PERÍODO DE EXECUÇÃO: 09/11/2020 a 12/01/2021 | H4: Pregão Presencial: | N4: 1
A5: ='Planilha Orçamentaria'!A5:D5 -> Endereço: Municipio de Orizânia/MG. | E5: ISS: | F5: 0.03 | G5: Licitação n°: | H5: Ata de registro de preço: | L5: O.F. PARCIAL : | N5: PERÍODO DE EXECUÇÃO:
A6: ='Planilha Orçamentaria'!A6:D6 -> REGIÃO/MÊS DE REFERÊNCIA: SETOP MG 08/2023 - CPOS São Paulo 05/2023 - Orse Sergipe 05/2023 (Desonerado) | E6: ( ) | F6: DIRETA | G6: ( x ) | H6: Valor CT/TA: | L6: Saldo Anterior: | N6: Esta medição: | P6: Saldo:
G7: BDI: | L7: =H7 -> 0 | P7: =L7-N7 -> 0
A8: ITEM | C8: DESCRIÇÃO | D8: UNIDADE | H8: PREÇO UNITÁRIO LICITADO | J8: QUANT. PREVISTA | K8: QUANTIDADES EXECUTADAS | N8: UNID. | O8: VALOR UNIT. | P8: VALORES EXECUTADOS
B9: REFERÊNCIA | E9: QUANT. | F9: PREÇO UNITÁRIO S/ BDI | G9: PREÇO UNITÁRIO C/ BDI | I9: PREÇO LICITADO | K9: Anterior | L9: No Periodo | M9: Acumulado | P9: No período | Q9: Acumulado
A15: ='Planilha Orçamentaria'!A14 -> 1.3 | B15: SETOP ED-48467 | C15: ='Planilha Orçamentaria'!C14 -> MAO DE OBRA DE AJUDANTE DE SOLDADOR, INC LUSIVE ENCARGOS SOCIAIS DESONERADOS | D15: Und | E15: 30 | F15: 53.2 | G15: =F15*1.2777 -> 67.97 | H15: =G15*0.7 -> 47.58 | I15: =H15*E15 -> 1427.4 | J15: ='Planilha Orçamentaria'!E14 -> 0 | L15: ='Planilha Orçamentaria'!E14 -> 0 | M15: =L15+K15 -> 0 | N15: Und | O15: ='Planilha Orçamentaria'!H14 -> 23.29 | P15: ='Planilha Orçamentaria'!J14 -> 0 | Q15: ='Planilha Orçamentaria'!J14 -> 0
A16: ='Planilha Orçamentaria'!A15 -> 1.4 | B16: SETOP ED-48493 | C16: REMOÇÃO DE PORTA OU JANELA INCLUSIVE MARCO E ALIZAR, INCLUSIVE AFASTAMENTO E EMPILHAMENTO | D16: M² | E16: 38.48 | F16: 9.63 | G16: =F16*1.2777 -> 12.3 | H16: =G16*0.7 -> 8.61 | I16: =H16*E16 -> 331.31 | J16: ='Planilha Orçamentaria'!E15 -> 0 | L16: =J16 -> 0 | M16: =L16+K16 -> 0 | N16: M² | O16: =H16 -> 8.61 | P16: ='Planilha Orçamentaria'!J15 -> 0 | Q16: ='Planilha Orçamentaria'!J15 -> 0
A17: ='Planilha Orçamentaria'!A16 -> 1.5 | B17: SETOP ED-48462 | C17: DEMOLIÇÃO DE FORRO DE PERFIS EXCLUSIVE ESTRUTURA DE SUSTENTAÇÃO COM AFASTAMENTO E EMPILHAMENTO | D17: M² | E17: 368 | F17: 14.45 | G17: =F17*1.2777 -> 18.46 | H17: =G17*0.7 -> 12.92 | I17: =H17*E17 -> 4754.56 | J17: ='Planilha Orçamentaria'!E16 -> 0 | L17: =J17 -> 0 | M17: =L17+K17 -> 0 | N17: M² | O17: =H17 -> 12.92 | P17: ='Planilha Orçamentaria'!J16 -> 0 | Q17: ='Planilha Orçamentaria'!J16 -> 0
A18: ='Planilha Orçamentaria'!A17 -> 1.6 | B18: SETOP ED-48514 | C18: REMOÇÃO DE TELHA CERÂMICA COLONIAL OU FRANCESA PARA REAPROVEITAMENTO, INCLUSIVE AFASTAMENTO E EMPILHAMENTO | D18: M² | E18: =352.1+117.61 -> 469.71 | F18: 16.06 | G18: =F18*1.2777 -> 20.52 | H18: =G18*0.7 -> 14.36 | I18: =H18*E18 -> 6745.04 | J18: ='Planilha Orçamentaria'!E17 -> 0 | L18: =J18 -> 0 | M18: =L18+K18 -> 0 | N18: M² | O18: =H18 -> 14.36 | P18: ='Planilha Orçamentaria'!J17 -> 0 | Q18: ='Planilha Orçamentaria'!J17 -> 0
A19: ='Planilha Orçamentaria'!A18 -> 1.7 | B19: SETOP ED-48457 | C19: DEMOLIÇÃO DE ENGRADAMENTO DE TELHA CERÂMICA PARA REAPROVEITAMENTO | D19: M² | E19: 255 | F19: 19.68 | G19: =F19*1.2777 -> 25.15 | H19: =G19*0.7 -> 17.61 | I19: =H19*E19 -> 4490.55 | J19: ='Planilha Orçamentaria'!E18 -> 0 | L19: =J19 -> 0 | M19: =L19+K19 -> 0 | N19: M² | O19: =H19 -> 17.61 | P19: ='Planilha Orçamentaria'!J18 -> 0 | Q19: ='Planilha Orçamentaria'!J18 -> 0
A20: ='Planilha Orçamentaria'!A19 -> 1.8 | B20: SETOP ED-48438 | C20: REMOÇÃO DE CALHA GALVANIZADA OU PVC, INCLUSIVE AFASTAMENTO | D20: M | E20: 45 | F20: 6.42 | G20: =F20*1.2777 -> 8.2 | H20: =G20*0.7 -> 5.74 | I20: =H20*E20 -> 258.3 | J20: ='Planilha Orçamentaria'!E19 -> 0 | L20: =J20 -> 0 | M20: =L20+K20 -> 0 | N20: M | O20: =H20 -> 5.74 | P20: ='Planilha Orçamentaria'!J19 -> 0 | Q20: ='Planilha Orçamentaria'!J19 -> 0
A21: ='Planilha Orçamentaria'!A20 -> 1.8 | B21: SETOP ED-48501 | C21: DEMOLIÇÃO DE REBOCO, COM ESPESSURA DE ATÉ 55MM, INCLUSIVE AFASTAMENTO | D21: M² | E21: =E31 -> 2101.03 | F21: 11.24 | G21: =F21*1.2777 -> 14.36 | H21: =G21*0.7 -> 10.05 | I21: =H21*E21 -> 21115.35 | J21: ='Planilha Orçamentaria'!E20 -> 0 | L21: =J21 -> 0 | M21: =L21+K21 -> 0 | N21: M² | O21: =H21 -> 10.05 | P21: ='Planilha Orçamentaria'!J20 -> 0 | Q21: ='Planilha Orçamentaria'!J20 -> 0
A22: ='Planilha Orçamentaria'!A21 -> 1.9 | B22: SETOP ED-48436 | C22: DEMOLIÇÃO DE ALVENARIA DE TIJOLO CERÂMICO SEM APROVEITAMENTO DO MATERIAL, INCLUSIVE AFASTAMENTO | D22: M³ | E22: 52.23 | F22: 96.37 | G22: =F22*1.2777 -> 123.13 | H22: =G22*0.7 -> 86.19 | I22: =H22*E22 -> 4501.7 | J22: ='Planilha Orçamentaria'!E21 -> 0 | L22: =J22 -> 0 | M22: =L22+K22 -> 0 | N22: M³ | O22: =H22 -> 86.19 | P22: ='Planilha Orçamentaria'!J21 -> 0 | Q22: ='Planilha Orçamentaria'!J21 -> 0
A23: ='Planilha Orçamentaria'!A22 -> 1.10 | B23: SETOP ED-48450 | C23: DEMOLIÇÃO DE DIVISÓRIA DE PEDRAS (MÁRMORE, GRANITO, ARDÓSIA, MARMORITE), INCLUSIVE AFASTAMENTO | D23: M² | E23: 5.53 | F23: 37.1 | G23: =F23*1.2777 -> 47.4 | H23: =G23*0.7 -> 33.18 | I23: =H23*E23 -> 183.49 | J23: ='Planilha Orçamentaria'!E22 -> 0 | L23: =J23 -> 0 | M23: =L23+K23 -> 0 | N23: M² | O23: =H23 -> 33.18 | P23: ='Planilha Orçamentaria'!J22 -> 0 | Q23: ='Planilha Orçamentaria'!J22 -> 0
A24: ='Planilha Orçamentaria'!A23 -> 2 | C24: ='Planilha Orçamentaria'!C23 -> MEIO FIO, SARJETAS E PASSEIOS | P24: =P25+P26+P27 -> 0 | Q24: =Q25+Q26+Q27 -> 0
A25: ='Planilha Orçamentaria'!A24 -> 2.1 | B25: SETOP ED-51133 | C25: ='Planilha Orçamentaria'!C24 -> Sarjeta de concreto em aterro, tipo DR.SCA-x/y. Largura = 80 cm tipo 50/30 (Execução, incluindo escavação, ornecimento e transporte de todos os materiais) | D25: M³ | E25: 114.25 | F25: 28.2 | G25: =F25*1.2777 -> 36.03 | H25: =G25*0.7 -> 25.22 | I25: =H25*E25 -> 2881.39 | J25: ='Planilha Orçamentaria'!E24 -> 0 | L25: ='Planilha Orçamentaria'!E24 -> 0 | M25: =L25+K25 -> 0 | N25: M³ | O25: ='Planilha Orçamentaria'!H24 -> 91.74 | P25: ='Planilha Orçamentaria'!J24 -> 0 | Q25: ='Planilha Orçamentaria'!J24 -> 0
A26: ='Planilha Orçamentaria'!A25 -> 2.2 | B26: SETOPED-51125 | C26: ='Planilha Orçamentaria'!C25 -> Meio-fio de concreto, tipo DR.MF-01 (Execução, incluindo escavação, fornecimento e transporte de todos os materiais) | D26: M³ | E26: =E25 -> 114.25 | F26: 30 | G26: =F26*1.2777 -> 38.33 | H26: =G26*0.7 -> 26.83 | I26: =H26*E26 -> 3065.33 | J26: ='Planilha Orçamentaria'!E25 -> 0 | L26: ='Planilha Orçamentaria'!E25 -> 0 | M26: =L26+K26 -> 0 | N26: M³ | O26: ='Planilha Orçamentaria'!H25 -> 59.48 | P26: ='Planilha Orçamentaria'!J25 -> 0 | Q26: ='Planilha Orçamentaria'!J25 -> 0
A27: ='Planilha Orçamentaria'!A26 -> 2.3 | B27: SETOP RO-43886 | C27: ='Planilha Orçamentaria'!C26 -> PASSEIOS DE CONCRETO E = 6 CM, FCK = 10 MPA, JUNTA SECA | D27: M³ | E27: =E25 -> 114.25 | F27: 6.5 | G27: =F27*1.2777 -> 8.31 | H27: =G27*0.7 -> 5.82 | I27: =H27*E27 -> 664.94 | J27: ='Planilha Orçamentaria'!E26 -> 0 | L27: =J27 -> 0 | M27: =L27+K27 -> 0 | N27: M³ | O27: ='Planilha Orçamentaria'!H26 -> 63.63 | P27: ='Planilha Orçamentaria'!J26 -> 0 | Q27: ='Planilha Orçamentaria'!J26 -> 0
A28: ='Planilha Orçamentaria'!A27 -> 3 | C28: ALVENARIA | P28: =P29+P30+P31+P33 -> 0 | Q28: =Q29+Q30+Q31+Q33+Q32 -> 0
A29: ='Planilha Orçamentaria'!A28 -> 3.1 | B29: SETOP ED-48231 | C29: ALVENARIA DE VEDAÇÃO COM TIJOLO CERÂMICO FURADO, ESP. 9CM, PARA REVESTIMENTO, INCLUSIVE ARGAMASSA PARA ASSENTAMENTO | D29: m² | E29: 115 | F29: 36.08 | G29: =F29*1.2777 -> 46.1 | H29: =G29*0.7 -> 32.27 | I29: =H29*E29 -> 3711.05 | J29: ='Planilha Orçamentaria'!E28 -> 0 | L29: =J29 -> 0 | M29: =L29+K29 -> 0 | N29: m² | O29: =H29 -> 32.27 | P29: ='Planilha Orçamentaria'!J28 -> 0 | Q29: ='Planilha Orçamentaria'!J28 -> 0
A30: ='Planilha Orçamentaria'!A29 -> 3.2 | B30: SETOP ED-50730 | C30: CHAPISCO COM ARGAMASSA, TRAÇO 1:2:3 (CIMENTO, AREIA E PEDRISCO), APLICADO COM COLHER, ESP. 5MM, PREPARO MECÂNICO | D30: m² | E30: 254 | F30: 9.72 | G30: =F30*1.2777 -> 12.42 | H30: =G30*0.7 -> 8.69 | I30: =H30*E30 -> 2207.26 | J30: ='Planilha Orçamentaria'!E29 -> 0 | L30: =J30 -> 0 | M30: =L30+K30 -> 0 | N30: m² | O30: =H30 -> 8.69 | P30: ='Planilha Orçamentaria'!J29 -> 0 | Q30: ='Planilha Orçamentaria'!J29 -> 0
A31: ='Planilha Orçamentaria'!A30 -> 3.3 | B31: SETOP ED-50760 | C31: REBOCO COM ARGAMASSA, TRAÇO 1:2:9 (CIMENTO, CAL E AREIA), COM ADITIVO IMPERMEABILIZANTE, ESP. 20MM, APLICAÇÃO MANUAL, PREPARO MECÂNICO | D31: m³ | E31: =138.06+(0.3*E68) -> 2101.03 | F31: 29.09 | G31: =F31*1.2777 -> 37.17 | H31: =G31*0.7 -> 26.02 | I31: =H31*E31 -> 54668.8 | J31: ='Planilha Orçamentaria'!E30 -> 0 | L31: =J31 -> 0 | M31: =L31+K31 -> 0 | N31: m³ | O31: =H31 -> 26.02 | P31: ='Planilha Orçamentaria'!J30 -> 0 | Q31: ='Planilha Orçamentaria'!J30 -> 0
A32: ='Planilha Orçamentaria'!A31 -> 4.4 | C32: =#REF! -> #REF! | H32: =G32*0.7 -> 0 | J32: ='Planilha Orçamentaria'!E31 -> 0 | L32: =J32 -> 0 | M32: =L32+K32 -> 0 | N32: m | O32: =H32 -> 0 | P32: ='Planilha Orçamentaria'!J31 -> 0 | Q32: ='Planilha Orçamentaria'!J31 -> 0
A33: ='Planilha Orçamentaria'!A32 -> 4.5 | B33: SETOP ED-50474 | C33: EMASSAMENTO EM PAREDE COM MASSA ACRÍLICA, DUAS (2) DEMÃOS, INCLUSIVE LIXAMENTO PARA PINTURA | D33: m³ | E33: 254 | F33: 15.99 | G33: =F33*1.2777 -> 20.43 | H33: =G33*0.7 -> 14.3 | I33: =H33*E33 -> 3632.2 | J33: ='Planilha Orçamentaria'!E32 -> 0 | L33: =J33 -> 0 | M33: =L33+K33 -> 0 | N33: m³ | O33: =H33 -> 14.3 | P33: ='Planilha Orçamentaria'!J32 -> 0 | Q33: =M33*O33 -> 0
A34: ='Planilha Orçamentaria'!A33 -> 4 | C34: PISOS, REVESTIMENTOS E DIVISORIAS | P34: =P35+P36+P37+P38+P39 -> 15542.84 | Q34: =Q35+Q36+Q37+Q38+Q39 -> 15542.84
A35: ='Planilha Orçamentaria'!A34 -> 4.1 | B35: SETOP ED-50735 | C35: CONTRAPISO DESEMPENADO COM ARGAMASSA, TRAÇO 1:3 (CIMENTO E AREIA), ESP. 50MM | D35: m² | E35: =E36 -> 890.66 | F35: 42.79 | G35: =F35*1.2777 -> 54.67 | H35: =G35*0.7 -> 38.27 | I35: =H35*E35 -> 34085.56 | J35: ='Planilha Orçamentaria'!E34 -> 0 | L35: =J35 -> 0 | M35: =L35+K35 -> 0 | N35: m² | O35: =H35 -> 38.27 | P35: ='Planilha Orçamentaria'!J34 -> 0 | Q35: ='Planilha Orçamentaria'!J34 -> 0
A36: ='Planilha Orçamentaria'!A35 -> 4.2 | B36: SETOP ED-50542 | C36: REVESTIMENTO COM CERÂMICA APLICADO EM PISO, ACABAMENTO ESMALTADO, AMBIENTE INTERNO, PADRÃO EXTRA, DIMENSÃO DA PEÇA ATÉ 2025 CM2, PEI V, ASSENTAMENTO COM ARGAMASSA INDUSTRIALIZADA, INCLUSIVE REJUNTAMENTO | D36: m² | E36: 890.66 | F36: 72.23 | G36: =F36*1.2777 -> 92.29 | H36: =G36*0.7 -> 64.6 | I36: =H36*E36 -> 57536.64 | J36: ='Planilha Orçamentaria'!E35 -> 0 | L36: =J36 -> 0 | M36: =L36+K36 -> 0 | N36: m² | O36: =H36 -> 64.6 | P36: ='Planilha Orçamentaria'!J35 -> 0 | Q36: ='Planilha Orçamentaria'!J35 -> 0
A37: ='Planilha Orçamentaria'!A36 -> 4.3 | B37: SETOP ED-9081 | C37: REVESTIMENTO COM CERÂMICA APLICADO EM PAREDE, ACABAMENTO ESMALTADO, AMBIENTE INTERNO/EXTERNO, PADRÃO EXTRA, DIMENSÃO DA PEÇA ATÉ 2025 CM2, PEI III, ASSENTAMENTO COM ARGAMASSA INDUSTRIALIZADA, INCLUSIVE REJUNTAMENTO | D37: m² | E37: 186 | F37: 56.8 | G37: =F37*1.2777 -> 72.57 | H37: =G37*0.7 -> 50.8 | I37: =H37*E37 -> 9448.8 | J37: ='Planilha Orçamentaria'!E36 -> 0 | L37: =J37 -> 0 | M37: =L37+K37 -> 0 | N37: m² | O37: =H37 -> 50.8 | P37: ='Planilha Orçamentaria'!J36 -> -0.03 | Q37: ='Planilha Orçamentaria'!J36 -> -0.03
A38: ='Planilha Orçamentaria'!A37 -> 4.4 | B38: SETOP ED-51002 | C38: SOLEIRA DE GRANITO CINZA ANDORINHA E = 2 CM | D38: m² | E38: 16.5 | F38: 245.64 | G38: =F38*1.2777 -> 313.85 | H38: =G38*0.7 -> 219.7 | I38: =H38*E38 -> 3625.05 | J38: ='Planilha Orçamentaria'!E37 -> 0 | L38: =J38 -> 0 | M38: =L38+K38 -> 0 | N38: m² | O38: =H38 -> 219.7 | P38: ='Planilha Orçamentaria'!J37 -> 0 | Q38: ='Planilha Orçamentaria'!J37 -> 0
A39: ='Planilha Orçamentaria'!A38 -> 4.5 | B39: SETOP ED-48533 | C39: DIVISÓRIA EM GRANITO CINZA ANDORINHA E = 3 CM, INCLUSIVE FERRAGENS EM LATÃO CROMADO | D39: m³ | E39: 42 | F39: 541.04 | G39: =F39*1.2777 -> 691.29 | H39: =G39*0.7 -> 483.9 | I39: =H39*E39 -> 20323.8 | J39: ='Planilha Orçamentaria'!E38 -> 0 | L39: 32.12 | M39: =L39+K39 -> 32.12 | N39: m³ | O39: =H39 -> 483.9 | P39: =L39*H39 -> 15542.87 | Q39: =P39 -> 15542.87
A40: ='Planilha Orçamentaria'!A39 -> 5 | C40: ESQUADRIAS | P40: =P41+P42+P43+P44+P45+P47+P46 -> 0 | Q40: =Q41+Q42+Q43+Q44+Q45+Q47+Q46 -> 0
A41: ='Planilha Orçamentaria'!A40 -> 5.1 | B41: SETOP ED-49605 | C41: PORTA EM MADEIRA DE LEI ESPECIAL COMPLETA 80 X 210 CM | D41: Und | E41: 16 | F41: 711.67 | G41: =F41*1.2777 -> 909.3 | H41: =G41*0.7 -> 636.51 | I41: =H41*E41 -> 10184.16 | J41: ='Planilha Orçamentaria'!E40 -> 0 | L41: =J41 -> 0 | M41: =L41+K41 -> 0 | N41: Und | O41: =H41 -> 636.51 | P41: ='Planilha Orçamentaria'!J40 -> 0 | Q41: ='Planilha Orçamentaria'!J40 -> 0
A42: ='Planilha Orçamentaria'!A41 -> 5.2 | B42: SETOP ED-49591 | C42: MARCO EM MADEIRA DE LEI PARA PINTURA, L = 14 CM, 80 X 210 CM | D42: Und | E42: 16 | F42: 170.69 | G42: =F42*1.2777 -> 218.09 | H42: =G42*0.7 -> 152.66 | I42: =H42*E42 -> 2442.56 | J42: ='Planilha Orçamentaria'!E41 -> 0 | L42: =J42 -> 0 | M42: =L42+K42 -> 0 | N42: Und | O42: =H42 -> 152.66 | P42: ='Planilha Orçamentaria'!J41 -> 0 | Q42: ='Planilha Orçamentaria'!J41 -> 0
A43: ='Planilha Orçamentaria'!A42 -> 5.3 | B43: SETOP ED-7576 | C43: FORNECIMENTO E ASSENTAMENTO DE PORTA EM ALUMÍNIO, TIPO VENEZIANA, DE ABRIR, ACABAMENTO ANODIZADO NATURAL, INCLUSIVE FECHADURA E MARCO | D43: M² | E43: 11.4 | F43: 521.95 | G43: =F43*1.2777 -> 666.9 | H43: =G43*0.7 -> 466.83 | I43: =H43*E43 -> 5321.86 | J43: ='Planilha Orçamentaria'!E42 -> 0 | M43: =L43+K43 -> 0 | N43: M² | O43: =H43 -> 466.83
A44: ='Planilha Orçamentaria'!A43 -> 5.4 | B44: SETOP ED-50986 | C44: PORTÃO EM TUBO GALVANIZADO 2 1/2" COM TELA FIO 12 # 1/2" | D44: M³ | E44: =(3*2.5)+(2.1*0.9)+(4*2.5) -> 19.39 | F44: 355.92 | G44: =F44*1.2777 -> 454.76 | H44: =G44*0.7 -> 318.33 | I44: =H44*E44 -> 6172.42 | J44: ='Planilha Orçamentaria'!E43 -> 0 | L44: =J44 -> 0 | M44: =L44+K44 -> 0 | N44: M³ | O44: =H44 -> 318.33 | P44: ='Planilha Orçamentaria'!J43 -> 0 | Q44: ='Planilha Orçamentaria'!J43 -> 0
A45: ='Planilha Orçamentaria'!A44 -> 5.5 | B45: SETOP ED-50896 | C45: GF2 - (340 X 165 CM ) GRADE FIXA PARA PROTEÇÃO DE JANELAS, EM BARRA DE FERRO QUADRADO DE 1/2" E QUADRO DE FERRO CHATO DE 1/2"X 1/8", COLOCADA | D45: Und | E45: 7 | F45: 1422.02 | G45: =F45*1.2777 -> 1816.91 | H45: =G45*0.7 -> 1271.84 | I45: =H45*E45 -> 8902.88 | J45: ='Planilha Orçamentaria'!E44 -> 0 | L45: =J45 -> 0 | M45: =L45+K45 -> 0 | N45: Und | O45: =H45 -> 1271.84 | P45: ='Planilha Orçamentaria'!J44 -> 0 | Q45: ='Planilha Orçamentaria'!J44 -> 0
...

Sheet Cronograma
A1: PREFEITURA MUNICIPAL DE ORIZÂNIA - ESTADO DE MINAS GERAIS CNPJ: 01.616.271/0001-39
A5: CRONOGRAMA FÍSICO-FINANCEIRO
A6: ='[1]Planilha à executar'!$A$6:$E$6 -> PREFEITURA: Prefeitura Municipal de Orizânia/MG | D6: ='Planilha Orçamentaria'!A5:D5 -> 0 | I6: DATA: 07/04/2023
A7: ='Planilha Orçamentaria'!A4:E4 -> SERVIÇO: Fornecimento e aplicação de concreto usinado. | I7: PRAZO DA OBRA: 03 meses
A8: ITEM | B8: CÓDIGO | C8: ETAPAS/DESCRIÇÃO | D8: FÍSICO/ FINANCEIRO | E8: TOTAL ETAPAS | F8: MÊS 1 | G8: MÊS 2 | H8: MÊS 3 | I8: MÊS 4 | J8: MÊS 5 | K8: MÊS 6
A9: ='[2]Planilha à executar'!A13 -> 1 | D9: Físico % | E9: =E10/E32 -> #REF! | G9: 1
D10: Financeiro | E10: ='Planilha Orçamentaria'!I11 -> 1570642.5 | G10: =G9*$E$10 -> 1570642.5
A11: 2 | C11: ='Planilha Orçamentaria'!#REF! -> #REF! | D11: Físico % | E11: =E12/E32 -> #REF! | H11: 1
D12: Financeiro | E12: ='Planilha Orçamentaria'!#REF! -> #REF! | H12: =H11*$E$12 -> #REF!
A13: 3 | C13: ='Planilha Orçamentaria'!#REF! -> #REF! | D13: Físico % | E13: =E31-E11-E9 -> #REF! | F13: 1
D14: Financeiro | E14: ='Planilha Orçamentaria'!#REF! -> #REF! | F14: =F13*$E$14 -> #REF!
D15: Físico %
D16: Financeiro | F16: =F15*$E$14 -> #REF! | G16: =G15*$E$14 -> #REF! | H16: =H15*$E$14 -> #REF!
D17: Físico %
D18: Financeiro | F18: =F17*$E$18 -> 0 | G18: =G17*$E$18 -> 0 | H18: =H17*$E$18 -> 0
D19: Físico %
D20: Financeiro | F20: =F19*$E$20 -> 0 | G20: =G19*$E$20 -> 0 | H20: =H19*$E$20 -> 0
D21: Físico %
D22: Financeiro | F22: =F21*$E$22 -> 0 | G22: =G21*$E$22 -> 0 | H22: =H21*$E$22 -> 0
D23: Físico %
D24: Financeiro | F24: =F23*$E$24 -> 0 | G24: =G23*$E$24 -> 0 | H24: =H23*$E$24 -> 0
D25: Físico %
D26: Financeiro | F26: =F25*$E$26 -> 0 | G26: =G25*$E$26 -> 0 | H26: =H25*$E$26 -> 0
D27: Físico %
D28: Financeiro | F28: =F27*$E$28 -> 0 | G28: =G27*$E$28 -> 0 | H28: =H27*$E$28 -> 0
D29: Físico %
D30: Financeiro | F30: =F29*$E$30 -> 0 | G30: =G29*$E$30 -> 0 | H30: =H29*$E$30 -> 0
A31: TOTAL | D31: Físico % | E31: 1 | F31: =E13 -> #REF! | G31: =G32/E32 -> #REF! | H31: =E11 -> #REF!
D32: Financeiro | E32: =E14+E12+E10 -> #REF! | F32: =F14 -> #REF! | G32: =G10 -> 1570642.5 | H32: =H12 -> #REF!
E35: ='[1]Planilha à executar'!E35:F35 -> CREA MG 212.406/D | H35: Observações:
B36: ='[1]Planilha à executar'!C36 -> Geovane Cardoso Oliveira- Engenheiro Civil | E36: CREA
B39: ='[1]Planilha à executar'!C40 -> Jonia Leite Filho- Prefeito Municipal
