Workbook
Name Fonte: 'MM CALC'!#REF!
Name Fonte: 'PLAN ORÇ'!$I1
Name nao: #REF!
Name nao: #REF!

Sheet PLAN ORÇ
D1: PREFEITURA MUNICIPAL DE VERMELHO NOVO ESTADO DE MINAS GERAIS RUA PREFEITO WILSON DAMIÃO, Nº 48 A CEP 35359-000 - VERMELHO NOVO/MG
A3: PLANILHA ORÇAMENTÁRIA DE CUSTOS
A5: PREFEITURA MUNICIPAL DE VERMELHO NOVO MG | E5: ='MM CALC'!E3 -> DATA: XX/XX/XXXX | F5: 45566
A6: ='MM CALC'!A4 -> OBRA: CONSTRUÇÃO DE CAPELA VELÓRIO - M A-01 (uma sala de vigília) | B6: CONSTRUÇÃO DE SALA E REFORMA DE BANHEIROS
A7: ='MM CALC'!A5 -> LOCAL: RUA/AVENIDA XXXXX, Nº XXX, BAIRRO XXX - CIDADE XXXX, MINAS GERAIS | B7: RUA PAULO LOPES N°10 CENTRO VERMELHO NOVO MG | E7: FORMA DE EXECUÇÃO: | G7: Adotado BDI "CONSTRUÇÃO DE EDIFÍCIOS" da planilha de preços SEINFRA/REGIÃA LESTE AGOSTO 23 SEM DESONERAÇÃO | I7: ISS 5%
A8: REGIÃO/MÊS DE REFERÊNCIA: SEINFRA/REGIÃO LESTE 08/2023 SEM DESONERAÇÃO | E8: ( ) | F8: DIRETA
A9: PRAZO DE EXECUÇÃO: 1 MÊS | E9: ( X ) | F9: INDIRETA | G9: BDI = | H9: 0.2459
A11: ITEM | B11: FONTE | C11: CDIGO | D11: DESCRIÇÃO | E11: UND. | F11: QUANT. | G11: UNITÁRIO S/ BDI | H11: UNITÁRIO C/ BDI | I11: TOTAL
I12: -
A13: ='MM CALC'!A9 -> 1 | D13: ='MM CALC'!D9 -> SERVIÇOS PRELIMINARES | H13: SUBTOTAL | I13: =SUM(I14:I14) -> 1739.49
A14: ='MM CALC'!A10 -> 1.1 | B14: ='MM CALC'!B10 -> SEINFRA | C14: ='MM CALC'!C10 -> ED-28427 | D14: ='MM CALC'!D10 -> FORNECIMENTO E COLOCAÇÃO DE PLACA DE OBRA EM CHAPA GALVANIZADA #26, ESP. 0,45MM, DIMENSÃO (3X1,5)M, PLOTADA COM ADESIVO VINÍLICO, AFIXADA COM REBITES 4,8X40MM, EM ESTRUTURA METÁLICA DE METALON 20X20MM, ESP. 1,25MM, INCLUSIVE SUPORTE EM EUCALIPTO AUTOCLAVADO PINTADO COM TINTA PVA DUAS (2) DEMÃOS | E14: ='MM CALC'!E10 -> u | F14: ='MM CALC'!F10 -> 1 | G14: 1396.17 | H14: =ROUND(G14+(G14*$H$9),2) -> 1739.49 | I14: =ROUND((F14*H14),2) -> 1739.49
A15: ='MM CALC'!A11 -> 2 | D15: ='MM CALC'!D11 -> DEMOLIÇÃO E REMOÇÃO | H15: SUBTOTAL | I15: =SUM(I16:I27) -> 51413.22
A16: ='MM CALC'!A18 -> 3.1 | D16: ='MM CALC'!D18 -> ALVENARIAS/REVESTIMENTOS/FORRO
A17: 2.1.1 | B17: ='MM CALC'!B14 -> SEINFRA | C17: ED-48480 | D17: DEMOLIÇÃO MANUAL DE PISO CERÂMICO OU LADRILHO HIDRÁULICO, INCLUSIVE AFASTAMENTO E EMPILHAMENTO, EXCLUSIVE DEMOLIÇÃO DE CONTRAPISO, TRANSPORTE E RETIRADA DO MATERIAL DEMOLIDO | E17: m² | F17: ='MM CALC'!F13 -> 160.53 | G17: 16.36 | H17: =ROUND(G17+(G17*$H$9),2) -> 20.38 | I17: =ROUND((F17*H17),2) -> 3271.6
A18: 2.1.2 | B18: SEINFRA | C18: ED-48436 | D18: DEMOLIÇÃO MANUAL DE ALVENARIA DE TIJOLO CERÂMICO MACIÇO, INCLUSIVE AFASTAMENTO E EMPILHAMENTO, EXCLUSIVE TRANSPORTE E RETIRADA DO MATERIAL DEMOLIDO | E18: m³ | F18: ='MM CALC'!F14 -> 1.8735 | G18: 150.03 | H18: =ROUND(G18+(G18*$H$9),2) -> 186.92 | I18: =ROUND((F18*H18),2) -> 350.19
A19: 2.1.3 | B19: sinap | C19: 97650 | D19: REMOÇÃO DE TRAMA DE MADEIRA PARA COBERTURA, DE FORMA MANUAL, SEM REAPROVEITAMENTO. AF_09/2023 | E19: ='MM CALC'!E16 -> m² | F19: ='MM CALC'!F16 -> 50.09 | G19: 7.48 | H19: =ROUND(G19+(G19*$H$9),2) -> 9.32 | I19: =ROUND((F19*H19),2) -> 466.84
A20: 2.1.4 | B20: ='MM CALC'!B17 -> SEINFRA | C20: ED-48512 | D20: REMOÇÃO MANUAL DE TELHA EM FIBROCIMENTO, TIPO ONDULADA, COM REAPROVEITAMENTO, INCLUSIVE AFASTAMENTO E EMPILHAMENTO, EXCLUSIVE TRANSPORTE E RETIRADA DO MATERIAL REMOVIDO NÃO REAPROVEITÁVEL | E20: ='MM CALC'!E17 -> m² | F20: 50.09 | G20: 31.865 | H20: =ROUND(G20+(G20*$H$9),2) -> 39.7 | I20: =ROUND((F20*H20),2) -> 1988.57
A21: 2.1.5 | B21: SEINFRA | C21: ED-28348 | D21: REMOÇÃO MANUAL DE DIVISÓRIA EM PEDRA (MÁRMORE, GRANITO, ARDÓSIA, MARMORITE, ETC.), COM REAPROVEITAMENTO, INCLUSIVE RASGO EM ALVENARIA, REMOÇÃO DE ACESSÓRIOS DE FIXAÇÃO, AFASTAMENTO E EMPILHAMENTO, EXCLUSIVE TRANSPORTE E RETIRADA DO MATERIAL REMOVIDO NÃO REAPROVEITÁVEL | E21: M² | F21: ='MM CALC'!F17 -> 17 | G21: 44.31 | H21: =ROUND(G21+(G21*$H$9),2) -> 55.21 | I21: =ROUND((F21*H21),2) -> 938.57
D22: ALVENARIAS/REVESTIMENTOS/FORRO
A23: ='MM CALC'!A19 -> 3.1.1 | B23: ='MM CALC'!B19 -> SEINFRA | C23: ED-48232 | D23: ='MM CALC'!D19 -> ALVENARIA DE VEDAÇÃO COM TIJOLO CERÂMICO FURADO, ESP. 14CM, PARA REVESTIMENTO, INCLUSIVE ARGAMASSA PARA ASSENTAMENTO | E23: ='MM CALC'!E19 -> m² | F23: ='MM CALC'!F19 -> 87.01 | G23: 66.06 | H23: =ROUND(G23+(G23*$H$9),2) -> 82.3 | I23: =ROUND((F23*H23),2) -> 7160.92
A24: ='MM CALC'!A20 -> 3.1.2 | B24: ='MM CALC'!B20 -> SEINFRA | C24: ='MM CALC'!C20 -> ED-50727 | D24: CHAPISCO COM ARGAMASSA, TRAÇO 1:3 (CIMENTO E AREIA), ESP. 5MM, APLICADO EM ALVENARIA/ESTRUTURA DE CONCRETO COM COLHER, PREPARO MECÂNICO | E24: ='MM CALC'!E20 -> m² | F24: ='MM CALC'!F20 -> 173.92 | G24: 9.25 | H24: =ROUND(G24+(G24*$H$9),2) -> 11.52 | I24: =ROUND((F24*H24),2) -> 2003.56
A25: ='MM CALC'!A21 -> 3.1.3 | B25: ='MM CALC'!B21 -> SEINFRA | C25: ='MM CALC'!C21 -> ED-50762 | D25: ='MM CALC'!D21 -> REVESTIMENTO COM ARGAMASSA EM CAMADA ÚNICA, APLICADO EM PAREDE, TRAÇO 1:3 (CIMENTO E AREIA), ESP. 20MM, APLICAÇÃO MANUAL, PREPARO MECÂNICO | E25: ='MM CALC'!E21 -> m² | F25: ='MM CALC'!F21 -> 173.92 | G25: 31.86 | H25: =ROUND(G25+(G25*$H$9),2) -> 39.69 | I25: =ROUND((F25*H25),2) -> 6902.88
A26: ='MM CALC'!A22 -> 3.1.4 | B26: ='MM CALC'!B22 -> SEINFRA | C26: ='MM CALC'!C22 -> ED-48533 | D26: DIVISÓRIA EM GRANITO CINZA ANDORINHA, ESP. 3CM, INCLUSIVE INSTALAÇÃO, FERRAGENS EM LATÃO CROMADO E ACESSÓRIOS | E26: ='MM CALC'!E22 -> m² | F26: ='MM CALC'!F22 -> 29 | G26: 694.61 | H26: =ROUND(G26+(G26*$H$9),2) -> 865.41 | I26: =ROUND((F26*H26),2) -> 25096.89
A27: ='MM CALC'!A23 -> 3.1.5 | B27: ='MM CALC'!B23 -> SEINFRA | C27: ED-49686 | D27: ='MM CALC'!D23 -> FORRO EM CHAPA DE GESSO ACARTONADA, ESP. 12,5MM, COM FIXAÇÃO DO TIPO ESTRUTURADA EM PERFIL METÁLICO, EXCLUSIVE PERFIL TABICA, SANCA E MOLDURA, INCLUSIVE ACESSÓRIOS E FIXAÇÃO | E27: ='MM CALC'!E23 -> m² | F27: ='MM CALC'!F23 -> 40 | G27: 64.88 | H27: =ROUND(G27+(G27*$H$9),2) -> 80.83 | I27: =ROUND((F27*H27),2) -> 3233.2
A28: ='MM CALC'!A24 -> 4.1 | D28: ='MM CALC'!D24 -> PISOS | H28: SUBTOTAL | I28: =I29+I30+I32+I31 -> 25735.48
A29: ='MM CALC'!A25 -> 4.1.1 | B29: ='MM CALC'!B25 -> SEINFRA | C29: ='MM CALC'!C25 -> ED-50568 | D29: ='MM CALC'!D25 -> CONTRAPISO DESEMPENADO COM ARGAMASSA, TRAÇO 1:3 ( CIMENTO E AREIA), ESP. 30MM | E29: ='MM CALC'!E25 -> m² | F29: ='MM CALC'!F25 -> 42.4 | G29: 42.99 | H29: =ROUND(G29+(G29*$H$9),2) -> 53.56 | I29: =ROUND((F29*H29),2) -> 2270.94
A30: ='MM CALC'!A26 -> 4.1.2 | B30: ='MM CALC'!B26 -> SEINFRA | C30: ='MM CALC'!C26 -> ED-50542 | D30: ='MM CALC'!D26 -> REVESTIMENTO COM CERÂMICA APLICADO EM PISO, ACABAMENTO ESMALTADO, AMBIENTE INTERNO, PADRÃO EXTRA, DIMENSÃO DA PEÇA ATÉ 2025 CM2, PEI V, ASSENTAMENTO COM ARGAMASSA INDUSTRIALIZADA, INCLUSIVE REJUNTAMENTO | E30: ='MM CALC'!E26 -> m² | F30: ='MM CALC'!F26 -> 90.5 | G30: 91.15 | H30: =ROUND(G30+(G30*$H$9),2) -> 113.56 | I30: =ROUND((F30*H30),2) -> 10277.18
A31: ='MM CALC'!A27 -> 0 | B31: ='MM CALC'!B27 -> 0 | C31: ='MM CALC'!C27 -> 0 | D31: ='MM CALC'!D27 -> 0 | E31: ='MM CALC'!E27 -> 0 | G31: 12.41 | H31: =ROUND(G31+(G31*$H$9),2) -> 15.46 | I31: =ROUND((F31*H31),2) -> 0
A32: ='MM CALC'!A28 -> 4.1.3 | B32: ='MM CALC'!B28 -> SEINFRA | C32: ='MM CALC'!C28 -> ED-9081 | D32: ='MM CALC'!D28 -> REVESTIMENTO COM CERÂMICA APLICADO EM PAREDE, ACABAMENTO ESMALTADO, AMBIENTE INTERNO/EXTERNO, PADRÃO EXTRA, DIMENSÃO DA PEÇA ATÉ 2025 CM2, PEIIII, ASSENTAMENTO COM ARGAMASSA INDUSTRIALIZADA, INCLUSIVE REJUNTAMENTO | E32: ='MM CALC'!E28 -> m² | F32: ='MM CALC'!F28 -> 143.45 | G32: 73.79 | H32: =ROUND(G32+(G32*$H$9),2) -> 91.93 | I32: =ROUND((F32*H32),2) -> 13187.36
A33: ='MM CALC'!A29 -> 5.1 | D33: ='MM CALC'!D29 -> PINTURA | H33: SUBTOTAL | I33: =I34+I36+I35 -> 7590.56
A34: ='MM CALC'!A30 -> 5.1.1 | B34: ='MM CALC'!B30 -> SEINFRA | C34: ='MM CALC'!C30 -> ED-50451 | D34: ='MM CALC'!D30 -> PINTURA ACRÍLICA EM PAREDE, DUAS (2) DEMÃOS, EXCLUSIVE SELADOR ACRÍLICO E MASSA ACRÍLICA/CORRIDA (PVA) | E34: ='MM CALC'!E30 -> m² | F34: ='MM CALC'!F30 -> 283.08 | G34: 15.14 | H34: =ROUND(G34+(G34*$H$9),2) -> 18.86 | I34: =ROUND((F34*H34),2) -> 5338.89
A35: ='MM CALC'!A31 -> 5.1.2 | B35: ='MM CALC'!B31 -> SEINFRA | C35: ED-50454 | D35: PINTURA ACRÍLICA EM TETO, TRÊS (3) DEMÃOS, EXCLUSIVE SELADOR ACRÍLICO E MASSA ACRÍLICA/CORRIDA (PVA) | E35: m2 | F35: ='MM CALC'!F31 -> 47.78 | G35: 22.21 | H35: =ROUND(G35+(G35*$H$9),2) -> 27.67 | I35: =ROUND((F35*H35),2) -> 1322.07
A36: ='MM CALC'!A32 -> 5.1.3 | B36: ='MM CALC'!B32 -> SEINFRA | C36: ='MM CALC'!C32 -> ED-50485 | D36: EMASSAMENTO EM FORRO DE GESSO COM MASSA ACRÍLICA, UMA (1) DEMÃO, INCLUSIVE LIXAMENTO PARA PINTURA | E36: ='MM CALC'!E32 -> m² | F36: ='MM CALC'!F32 -> 40 | G36: 18.65 | H36: =ROUND(G36+(G36*$H$9),2) -> 23.24 | I36: =ROUND((F36*H36),2) -> 929.6
A37: ='MM CALC'!A33 -> 6.1 | D37: ='MM CALC'!D33 -> ESQUADRIAS E ACESSÓRIOS | H37: SUBTOTAL | I37: =I38+I39+I40+I41+I42+I43+I44+I45+I46+I47+I48 -> 36931.16
A38: ='MM CALC'!A34 -> 6.1.1 | B38: ='MM CALC'!B34 -> SEINFRA | C38: ='MM CALC'!C34 -> ED-50954 | D38: ='MM CALC'!D34 -> VIDRO TEMPERADO TRANSPARENTE INCOLOR, ESP. 6MM, INCLUSIVE FIXAÇÃO E VEDAÇÃO COM GUARNIÇÃO/GAXETA DE BORRACHA NEOPRENE, FORNECIMENTO E INSTALAÇÃO, EXCLUSIVE CAIXILHO/PERFIL | E38: ='MM CALC'!E34 -> m² | F38: ='MM CALC'!F34 -> 9 | G38: 232.94 | H38: =ROUND(G38+(G38*$H$9),2) -> 290.22 | I38: =ROUND((F38*H38),2) -> 2611.98
A42: ='MM CALC'!A38 -> 6.1.2 | B42: ='MM CALC'!B38 -> SEINFRA | C42: ED-2552 | D42: LAVATÓRIO DE LOUÇA BRANCA SEM COLUNA, TAMANHO MÉDIO, INCLUSIVE ACESSÓRIOS DE FIXAÇÃO, VÁLVULA DE ESCOAMENTO DE METAL COM ACABAMENTO CROMADO, SIFÃO DE METAL TIPO COPO COM ACABAMENTO CROMADO, FORNECIMENTO, INSTALAÇÃO E REJUNTA | E42: ='MM CALC'!E38 -> u | F42: ='MM CALC'!F38 -> 12 | G42: 388.44 | H42: =ROUND(G42+(G42*$H$9),2) -> 483.96 | I42: =ROUND((F42*H42),2) -> 5807.52
A43: ='MM CALC'!A39 -> 6.1.3 | B43: ='MM CALC'!B39 -> sinap | C43: ='MM CALC'!C39 -> 91341 | D43: ='MM CALC'!D39 -> PORTA EM ALUMÍNIO DE ABRIR TIPO VENEZIANA COM GUARNIÇÃO, FIXAÇÃO COM PARAFUSOS - FORNECIMENTO E INSTALAÇÃO. AF_12/2019 | E43: M² | F43: ='MM CALC'!F39 -> 12.54 | G43: 663.6 | H43: =ROUND(G43+(G43*$H$9),2) -> 826.78 | I43: =ROUND((F43*H43),2) -> 10367.82
A44: ='MM CALC'!A40 -> 6.1.4 | B44: ='MM CALC'!B40 -> SEINFRA | C44: ='MM CALC'!C40 -> ED-50285 | D44: ='MM CALC'!D40 -> MICTÓRIO COLETIVO, EM AÇO INOXIDÁVEL, TIPO AISI 304, CHAPA 22, COM DESENVOLVIMENTO DE 1 METRO, INCLUSIVE VÁLVULA DE ESCOAMENTO DE METAL NA COR CROMADA, SIFÃO DE METAL TIPO COPO NA COR CROMADA, FORNECIMENTO E INSTALAÇÃO | E44: ='MM CALC'!E40 -> u | F44: ='MM CALC'!F40 -> 1 | G44: 1020.23 | H44: =ROUND(G44+(G44*$H$9),2) -> 1271.1 | I44: =ROUND((F44*H44),2) -> 1271.1
A45: ='MM CALC'!A41 -> 6.1.5 | B45: ='MM CALC'!B41 -> SEINFRA | C45: ='MM CALC'!C41 -> ED-50330 | D45: ='MM CALC'!D41 -> TORNEIRA METÁLICA PARA LAVATÓRIO, ACABAMENTO CROMADO, COM AREJADOR, APLICAÇÃO DE MESA, INCLUSIVE ENGATE FLEXÍVEL METÁLICO, FORNECIMENTO E INSTALAÇÃO | E45: ='MM CALC'!E41 -> u | F45: ='MM CALC'!F41 -> 12 | G45: 132.77 | H45: =ROUND(G45+(G45*$H$9),2) -> 165.42 | I45: =ROUND((F45*H45),2) -> 1985.04
A47: ='MM CALC'!A43 -> 6.1.6 | B47: ='MM CALC'!B43 -> SEINFRA | C47: ='MM CALC'!C43 -> ED-50297 | D47: ='MM CALC'!D43 -> BACIA SANITÁRIA (VASO) DE LOUÇA COM CAIXA ACOPLADA, COR BRANCA, INCLUSIVE ACESSÓRIOS DE FIXAÇÃO/VEDAÇÃO, ENGATE FLEXÍVEL METÁLICO, FORNECIMENTO, INSTALAÇÃO E REJUNTAMENTO | E47: ='MM CALC'!E43 -> u | F47: ='MM CALC'!F43 -> 14 | G47: 526.77 | H47: =ROUND(G47+(G47*$H$9),2) -> 656.3 | I47: =ROUND((F47*H47),2) -> 9188.2
A48: ='MM CALC'!A44 -> 6.1.7 | B48: ='MM CALC'!B44 -> SEINFRA | C48: ED-49602 | D48: ='MM CALC'!D44 -> PORTA DE ABRIR, MADEIRA DE LEI PRANCHETA PARA PINTURA COMPLETA 80 X 210 CM, COM FERRAGENS EM FERRO LATONADO | E48: ='MM CALC'!E44 -> u | F48: ='MM CALC'!F44 -> 5 | G48: 914.92 | H48: =ROUND(G48+(G48*$H$9),2) -> 1139.9 | I48: =ROUND((F48*H48),2) -> 5699.5
A49: ='MM CALC'!A45 -> 7.1 | D49: ='MM CALC'!D45 -> INSTALAÇÕES ELÉTRICAS | H49: SUBTOTAL | I49: =I50+I51+I52+I53+I54+I55 -> 3814.1
A50: ='MM CALC'!A46 -> 7.1.1 | B50: ='MM CALC'!B46 -> SBC | C50: ='MM CALC'!C46 -> 07/2023 SBC 060987 | D50: ='MM CALC'!D46 -> LUMINARIA PAINEL PLAFON LED 12W 3000K 17cm BRILIA 438237 | E50: ='MM CALC'!E46 -> u | F50: ='MM CALC'!F46 -> 3 | G50: 90.07 | H50: =ROUND(G50+(G50*$H$9),2) -> 112.22 | I50: =ROUND((F50*H50),2) -> 336.66
A51: ='MM CALC'!A47 -> 7.1.2 | B51: ='MM CALC'!C47 -> ED-50227 | C51: ED-50227 | D51: PONTO DE INTERRUPTOR, INCLUINDO ELETRODUTO DE PVC RÍGIDO E CAIXA COM ESPELHO | E51: U | F51: ='MM CALC'!F47 -> 2 | G51: 239.83 | H51: =ROUND(G51+(G51*$H$9),2) -> 298.8 | I51: =ROUND((F51*H51),2) -> 597.6
A52: ='MM CALC'!A48 -> 7.1.3 | B52: ='MM CALC'!B48 -> SEINFRA | C52: ='MM CALC'!C48 -> ED-50232 | D52: ='MM CALC'!D48 -> PONTO DE TOMADA DE EMBUTIR, INCLUINDO ELETRODUTO DE PVC RÍGIDO E CAIXA COM ESPELHO | E52: ='MM CALC'!E48 -> u | F52: ='MM CALC'!F48 -> 8 | G52: 288.93 | H52: =ROUND(G52+(G52*$H$9),2) -> 359.98 | I52: =ROUND((F52*H52),2) -> 2879.84
A53: ='MM CALC'!A49 -> 0 | B53: ='MM CALC'!B49 -> 0 | C53: ='MM CALC'!C49 -> 0 | D53: ='MM CALC'!D49 -> 0 | E53: ='MM CALC'!E49 -> 0 | F53: ='MM CALC'!F49 -> 0
A54: ='MM CALC'!A50 -> 0 | B54: ='MM CALC'!B50 -> 0 | C54: ='MM CALC'!C50 -> 0 | D54: ='MM CALC'!D50 -> 0 | E54: ='MM CALC'!E50 -> 0 | F54: ='MM CALC'!F50 -> 0
A55: ='MM CALC'!A51 -> 0 | B55: ='MM CALC'!B51 -> 0 | C55: ='MM CALC'!C51 -> 0 | D55: ='MM CALC'!D51 -> 0 | E55: ='MM CALC'!E51 -> 0 | F55: ='MM CALC'!F51 -> 0
A56: ='MM CALC'!A52 -> 8.1 | D56: ='MM CALC'!D52 -> INSTALAÇÕES HIDROSSANITÁRIAS | H56: SUBTOTAL | I56: =SUM(I57:I62) -> 12431.59
A57: ='MM CALC'!A53 -> 8.1 | B57: ='MM CALC'!B53 -> SEINFRA | C57: ='MM CALC'!C53 -> ED-50221 | D57: ='MM CALC'!D53 -> PONTO DE ÁGUA FRIA EMBUTIDO, INCLUINDO TUBO DE PVC RÍGIDO SOLDÁVEL E CONEXÕES | E57: ='MM CALC'!E53 -> u | F57: ='MM CALC'!F53 -> 27 | G57: 136.25 | H57: =ROUND(G57+(G57*$H$9),2) -> 169.75 | I57: =ROUND((F57*H57),2) -> 4583.25
A59: ='MM CALC'!A55 -> 8.2 | B59: ='MM CALC'!B55 -> SEINFRA | C59: ='MM CALC'!C55 -> ED-50225 | D59: ='MM CALC'!D55 -> PONTO DE ESGOTO, INCLUINDO TUBO DE PVC RÍGIDO SOLDÁVEL DE 100 MM E CONEXÕES (VASO SANITÁRIO) | E59: ='MM CALC'!E55 -> u | F59: ='MM CALC'!F55 -> 14 | G59: 305.6 | H59: =ROUND(G59+(G59*$H$9),2) -> 380.75 | I59: =ROUND((F59*H59),2) -> 5330.5
A60: ='MM CALC'!A56 -> 8.3 | B60: ='MM CALC'!B56 -> SEINFRA | C60: ='MM CALC'!C56 -> ED-50223 | D60: ='MM CALC'!D56 -> PONTO DE ESGOTO, INCLUINDO TUBO DE PVC RÍGIDO SOLDÁVEL DE 40 MM E CONEXÕES (LAVATÓRIOS, MICTÓRIOS, RALOS SIFONADOS, ETC.) | E60: ='MM CALC'!E56 -> u | F60: ='MM CALC'!F56 -> 13 | G60: 155.45 | H60: =ROUND(G60+(G60*$H$9),2) -> 193.68 | I60: =ROUND((F60*H60),2) -> 2517.84
A69: 9.1 | D69: COBERTURA/VIGAS/PILARES/LIMPEZA DE OBRA | H69: SUBTOTAL | I69: =I70+I71+I72+I73+I74+I75+I76+I77 -> 19506.07
A70: 9.1.1 | B70: SINAP | C70: 92539 | D70: TRAMA DE MADEIRA COMPOSTA POR RIPAS, CAIBROS E TERÇAS PARA TELHADOS DE ATÉ 2 ÁGUAS PARA TELHA DE ENCAIXE DE CERÂMICA OU DE CONCRETO, INCLUSO TRANSPORTE VERTICAL. AF_07/2019 | E70: M2 | F70: ='MM CALC'!F63 -> 61.12 | G70: 96.35 | H70: =ROUND(G70+(G70*$H$9),2) -> 120.04 | I70: =ROUND((F70*H70),2) -> 7336.84
A71: 9.1.2 | B71: SINAP | C71: 94443 | D71: TELHAMENTO COM TELHA CERÂMICA DE ENCAIXE, TIPO ROMANA, COM MAIS DE 2 ÁGUAS, INCLUSO TRANSPORTE VERTICAL. AF_07/2019 | E71: M2 | F71: ='MM CALC'!F64 -> 61.12 | G71: 49.94 | H71: =ROUND(G71+(G71*$H$9),2) -> 62.22 | I71: =ROUND((F71*H71),2) -> 3802.89
A72: 9.1.3 | B72: SEINFRA | C72: ED-49787 | D72: FORNECIMENTO DE CONCRETO ESTRUTURAL, PREPARADO EM OBRA COM BETONEIRA, COM FCK 25 MPA, INCLUSIVE LANÇAMENTO, ADENSAMENTO E ACABAMENTO (FUNDAÇÃO) | E72: M3 | F72: ='MM CALC'!F65 -> 2.21 | G72: 718.43 | H72: =ROUND(G72+(G72*$H$9),2) -> 895.09 | I72: =ROUND((F72*H72),2) -> 1978.15
A73: 9.1.4 | B73: SEINFRA | C73: ED-49643 | D73: FÔRMA E DESFORMA DE TÁBUA E SARRAFO, REAPROVEITAMENTO (3X), EXCLUSIVE ESCORAMENTO | E73: M2 | F73: ='MM CALC'!F66 -> 18.333333 | G73: 57.73 | H73: =ROUND(G73+(G73*$H$9),2) -> 71.93 | I73: =ROUND((F73*H73),2) -> 1318.72
A74: 9.1.5 | B74: SEINFRA | C74: ED-48298 | D74: CORTE, DOBRA E MONTAGEM DE AÇO CA-50/60 | E74: M2 | F74: ='MM CALC'!F67 -> 176.8 | G74: 11.89 | H74: =ROUND(G74+(G74*$H$9),2) -> 14.81 | I74: =ROUND((F74*H74),2) -> 2618.41
A75: 9.1.6 | B75: SEINFRA | C75: ED-9906 | D75: VERGA OU CONTRAVERGA EM CONCRETO ESTRUTURAL PARA VÃOS ACIMA DE 150CM, PREPARADO EM OBRA COM BETONEIRA, CONTROLE "A", COM FCK 20 MPA, MOLDADA IN LOCO, INCLUSIVE ARMAÇÃO | E75: M2 | F75: ='MM CALC'!F68 -> 0.3 | G75: 3011.49 | H75: =ROUND(G75+(G75*$H$9),2) -> 3752.02 | I75: =ROUND((F75*H75),2) -> 1125.61
A76: 9.1.7 | B76: SEINFRA | C76: ED-506621 | D76: CALHA EM CHAPA GALVANIZADA, ESP. 0,5MM (GSG-26), COM DESENVOLVIMENTO DE 40CM, INCLUSIVE IÇAMENTO MANUAL VERTICAL | E76: M2 | F76: ='MM CALC'!F69 -> 7.67 | G76: 55.2 | H76: =ROUND(G76+(G76*$H$9),2) -> 68.77 | I76: =ROUND((F76*H76),2) -> 527.47
A77: 9.1.8 | B77: SEINFRA | C77: ED-50266 | D77: LIMPEZA FINAL PARA ENTREGA DA OBRA | E77: M2 | F77: 89.16 | G77: 7.18 | H77: =ROUND(G77+(G77*$H$9),2) -> 8.95 | I77: =ROUND((F77*H77),2) -> 797.98
G78: TOTAL OBRA | I78: =I13+I15+I28+I33+I37+I49+I56+I63+I69 -> 159161.67
D79: ___________________________________________________ | G79: ___________________________________________________
D80: ='MM CALC'!D71 -> José Gilson Moreira | G80: ='MM CALC'!G71 -> clecius vinicius pinto
D81: ='MM CALC'!D72 -> Engenheiro Civil CREA nº 247.171/D | G81: ='MM CALC'!G72 -> Prefeito Municipal de Vermelho novo

Sheet MM CALC
A1: MEMÓRIA DE CÁLCULO
A3: PREFEITURA MUNICIPAL DE VERMELHO NOVO MG | E3: DATA: XX/XX/XXXX | F3: 45566
A4: OBRA: CONSTRUÇÃO DE CAPELA VELÓRIO - M A-01 (uma sala de vigília) | B4: CONSTRUÇÃO DE SALA E REFORMA DE BANHEIROS
A5: LOCAL: RUA/AVENIDA XXXXX, Nº XXX, BAIRRO XXX - CIDADE XXXX, MINAS GERAIS | B5: RUA PAULO LOPES N°10 CENTRO VERMELHO NOVO MG
A7: ITEM | B7: FONTE | C7: CÓDIGO | D7: DESCRIÇÃO | E7: UND. | F7: QUANT. | G7: FÓRMULA/MEMÓRIA
A8: -
A9: 1 | D9: SERVIÇOS PRELIMINARES
A10: 1.1 | B10: SEINFRA | C10: ED-28427 | D10: FORNECIMENTO E COLOCAÇÃO DE PLACA DE OBRA EM CHAPA GALVANIZADA #26, ESP. 0,45MM, DIMENSÃO (3X1,5)M, PLOTADA COM ADESIVO VINÍLICO, AFIXADA COM REBITES 4,8X40MM, EM ESTRUTURA METÁLICA DE METALON 20X20MM, ESP. 1,25MM, INCLUSIVE SUPORTE EM EUCALIPTO AUTOCLAVADO PINTADO COM TINTA PVA DUAS (2) DEMÃOS | E10: u | F10: 1 | G10: uma unidade
A11: 2 | D11: DEMOLIÇÃO E REMOÇÃO
A12: 2.1 | D12: ALVENARIAS/REVESTIMENTOS
A13: 2.1.1 | B13: SEINFRA | C13: ED-48480 | D13: DEMOLIÇÃO MANUAL DE PISO CERÂMICO OU LADRILHO HIDRÁULICO, INCLUSIVE AFASTAMENTO E EMPILHAMENTO, EXCLUSIVE DEMOLIÇÃO DE CONTRAPISO, TRANSPORTE E RETIRADA DO MATERIAL DEMOLIDO | E13: m² | F13: =47.58+112.95 -> 160.53 | G13: AFERIDO EM PROJETO POR MEIO DO SOFTWARE. OBS MEMORIA AUXILIAR EM ANEXO
A14: 2.1.2 | B14: SEINFRA | C14: ED-48436 | D14: DEMOLIÇÃO MANUAL DE ALVENARIA DE TIJOLO CERÂMICO MACIÇO, INCLUSIVE AFASTAMENTO E EMPILHAMENTO, EXCLUSIVE TRANSPORTE E RETIRADA DO MATERIAL DEMOLIDO | E14: m³ | F14: =12.49*0.15 -> 1.8735 | G14: AFERIDO EM PROJETO POR MEIO DO SOFTWARE. OBS MEMORIA AUXILIAR EM ANEXO 12,79x0,15=1,87m³
A15: 2.1.3 | B15: sinap | C15: 97650 | D15: REMOÇÃO DE TRAMA DE MADEIRA PARA COBERTURA, DE FORMA MANUAL, SEM REAPROVEITAMENTO. AF_09/2023 | E15: m² | F15: 50.09 | G15: AFERIDO EM PROJETO POR MEIO DO SOFTWARE. OBS MEMORIA AUXILIAR EM ANEXO
A16: 2.1.4 | B16: SEINFRA | C16: ED-48512 | D16: REMOÇÃO MANUAL DE TELHA EM FIBROCIMENTO, TIPO ONDULADA, COM REAPROVEITAMENTO, INCLUSIVE AFASTAMENTO E EMPILHAMENTO, EXCLUSIVE TRANSPORTE E RETIRADA DO MATERIAL REMOVIDO NÃO REAPROVEITÁVEL | E16: m² | F16: =F15 -> 50.09 | G16: AFERIDO EM PROJETO POR MEIO DO SOFTWARE. OBS MEMORIA AUXILIAR EM ANEXO
A17: 2.1.5 | B17: SEINFRA | C17: ED-28348 | D17: REMOÇÃO MANUAL DE DIVISÓRIA EM PEDRA (MÁRMORE, GRANITO, ARDÓSIA, MARMORITE, ETC.), COM REAPROVEITAMENTO, INCLUSIVE RASGO EM ALVENARIA, REMOÇÃO DE ACESSÓRIOS DE FIXAÇÃO, AFASTAMENTO E EMPILHAMENTO, EXCLUSIVE TRANSPORTE E RETIRADA DO MATERIAL REMOVIDO NÃO REAPROVEITÁVEL | E17: m² | F17: 17 | G17: AFERIDO EM PROJETO POR MEIO DO SOFTWARE. OBS MEMORIA AUXILIAR EM ANEXO
A18: 3.1 | D18: ALVENARIAS/REVESTIMENTOS/FORRO
A19: 3.1.1 | B19: SEINFRA | C19: ED-48232 | D19: ALVENARIA DE VEDAÇÃO COM TIJOLO CERÂMICO FURADO, ESP. 14CM, PARA REVESTIMENTO, INCLUSIVE ARGAMASSA PARA ASSENTAMENTO | E19: m² | F19: 87.01 | G19: AFERIDO EM PROJETO POR MEIO DO SOFTWARE. OBS MEMORIA AUXILIAR EM ANEXO
A20: 3.1.2 | B20: SEINFRA | C20: ED-50727 | D20: CHAPISCO COM ARGAMASSA, TRAÇO 1:3 (CIMENTO E AREIA), ESP. 5MM, APLICADO EM ALVENARIA/ESTRUTURA DE CONCRETO COM COLHER, PREPARO MECÂNICO | E20: m² | F20: 173.92 | G20: AFERIDO EM PROJETO POR MEIO DO SOFTWARE. OBS MEMORIA AUXILIAR EM ANEXO
A21: 3.1.3 | B21: SEINFRA | C21: ED-50762 | D21: REVESTIMENTO COM ARGAMASSA EM CAMADA ÚNICA, APLICADO EM PAREDE, TRAÇO 1:3 (CIMENTO E AREIA), ESP. 20MM, APLICAÇÃO MANUAL, PREPARO MECÂNICO | E21: m² | F21: 173.92 | G21: AFERIDO EM PROJETO POR MEIO DO SOFTWARE. OBS MEMORIA AUXILIAR EM ANEXO
A22: 3.1.4 | B22: SEINFRA | C22: ED-48533 | D22: DIVISÓRIA EM GRANITO CINZA ANDORINHA, ESP. 3CM, INCLUSIVE INSTALAÇÃO, FERRAGENS EM LATÃO CROMADO E ACESSÓRIOS | E22: m² | F22: 29 | G22: AFERIDO EM PROJETO POR MEIO DO SOFTWARE. OBS MEMORIA AUXILIAR EM ANEXO
A23: 3.1.5 | B23: SEINFRA | C23: ED-49686 | D23: FORRO EM CHAPA DE GESSO ACARTONADA, ESP. 12,5MM, COM FIXAÇÃO DO TIPO ESTRUTURADA EM PERFIL METÁLICO, EXCLUSIVE PERFIL TABICA, SANCA E MOLDURA, INCLUSIVE ACESSÓRIOS E FIXAÇÃO | E23: m² | F23: 40 | G23: AFERIDO EM PROJETO POR MEIO DO SOFTWARE. OBS MEMORIA AUXILIAR EM ANEXO
A24: 4.1 | D24: PISOS
A25: 4.1.1 | B25: SEINFRA | C25: ED-50568 | D25: CONTRAPISO DESEMPENADO COM ARGAMASSA, TRAÇO 1:3 ( CIMENTO E AREIA), ESP. 30MM | E25: m² | F25: 42.4 | G25: AFERIDO EM PROJETO POR MEIO DO SOFTWARE. OBS MEMORIA AUXILIAR EM ANEXO
A26: 4.1.2 | B26: SEINFRA | C26: ED-50542 | D26: REVESTIMENTO COM CERÂMICA APLICADO EM PISO, ACABAMENTO ESMALTADO, AMBIENTE INTERNO, PADRÃO EXTRA, DIMENSÃO DA PEÇA ATÉ 2025 CM2, PEI V, ASSENTAMENTO COM ARGAMASSA INDUSTRIALIZADA, INCLUSIVE REJUNTAMENTO | E26: m² | F26: =47.5+43 -> 90.5 | G26: AFERIDO EM PROJETO POR MEIO DO SOFTWARE. OBS MEMORIA AUXILIAR EM ANEXO
A28: 4.1.3 | B28: SEINFRA | C28: ED-9081 | D28: REVESTIMENTO COM CERÂMICA APLICADO EM PAREDE, ACABAMENTO ESMALTADO, AMBIENTE INTERNO/EXTERNO, PADRÃO EXTRA, DIMENSÃO DA PEÇA ATÉ 2025 CM2, PEIIII, ASSENTAMENTO COM ARGAMASSA INDUSTRIALIZADA, INCLUSIVE REJUNTAMENTO | E28: m² | F28: 143.45 | G28: AFERIDO EM PROJETO POR MEIO DO SOFTWARE. OBS MEMORIA AUXILIAR EM ANEXO
A29: 5.1 | D29: PINTURA
A30: 5.1.1 | B30: SEINFRA | C30: ED-50451 | D30: PINTURA ACRÍLICA EM PAREDE, DUAS (2) DEMÃOS, EXCLUSIVE SELADOR ACRÍLICO E MASSA ACRÍLICA/CORRIDA (PVA) | E30: m² | F30: 283.08 | G30: AFERIDO EM PROJETO POR MEIO DO SOFTWARE. OBS MEMORIA AUXILIAR EM ANEXO
A31: 5.1.2 | B31: SEINFRA | C31: ED-50454 | D31: PINTURA ACRÍLICA EM TETO, TRÊS (3) DEMÃOS, EXCLUSIVE SELADOR ACRÍLICO E MASSA ACRÍLICA/CORRIDA (PVA) | E31: m2 | F31: 47.78 | G31: AFERIDO EM PROJETO POR MEIO DO SOFTWARE. OBS MEMORIA AUXILIAR EM ANEXO
A32: 5.1.3 | B32: SEINFRA | C32: ED-50485 | D32: EMASSAMENTO EM FORRO DE GESSO COM MASSA ACRÍLICA, UMA (1) DEMÃO, INCLUSIVE LIXAMENTO PARA PINTURA | E32: m² | F32: 40 | G32: AFERIDO EM PROJETO POR MEIO DO SOFTWARE. OBS MEMORIA AUXILIAR EM ANEXO
A33: 6.1 | D33: ESQUADRIAS E ACESSÓRIOS
A34: 6.1.1 | B34: SEINFRA | C34: ED-50954 | D34: VIDRO TEMPERADO TRANSPARENTE INCOLOR, ESP. 6MM, INCLUSIVE FIXAÇÃO E VEDAÇÃO COM GUARNIÇÃO/GAXETA DE BORRACHA NEOPRENE, FORNECIMENTO E INSTALAÇÃO, EXCLUSIVE CAIXILHO/PERFIL | E34: m² | F34: =1.5*1.5*4 -> 9 | G34: >(1,5x1,5x4=9 m2
A38: 6.1.2 | B38: SEINFRA | C38: ED-2552 | D38: LAVATÓRIO DE LOUÇA BRANCA SEM COLUNA, TAMANHO MÉDIO, INCLUSIVE ACESSÓRIOS DE FIXAÇÃO, VÁLVULA DE ESCOAMENTO DE METAL COM ACABAMENTO CROMADO, SIFÃO DE METAL TIPO COPO COM ACABAMENTO CROMADO, FORNECIMENTO, INSTALAÇÃO E REJUNTA | E38: u | F38: 12 | G38: AFERIDO EM PROJETO POR MEIO DO SOFTWARE. OBS MEMORIA AUXILIAR EM ANEXO
A39: 6.1.3 | B39: sinap | C39: 91341 | D39: PORTA EM ALUMÍNIO DE ABRIR TIPO VENEZIANA COM GUARNIÇÃO, FIXAÇÃO COM PARAFUSOS - FORNECIMENTO E INSTALAÇÃO. AF_12/2019 | E39: M | F39: =((10*1.65*0.6)+(1.65*0.8*2)) -> 12.54 | G39: >>=((10*1,65*0,6)+(1,65*0,8*2)) AFERIDO EM PROJETO POR MEIO DO SOFTWARE
A40: 6.1.4 | B40: SEINFRA | C40: ED-50285 | D40: MICTÓRIO COLETIVO, EM AÇO INOXIDÁVEL, TIPO AISI 304, CHAPA 22, COM DESENVOLVIMENTO DE 1 METRO, INCLUSIVE VÁLVULA DE ESCOAMENTO DE METAL NA COR CROMADA, SIFÃO DE METAL TIPO COPO NA COR CROMADA, FORNECIMENTO E INSTALAÇÃO | E40: u | F40: 1 | G40: AFERIDO EM PROJETO POR MEIO DO SOFTWARE. OBS MEMORIA AUXILIAR EM ANEXO
A41: 6.1.5 | B41: SEINFRA | C41: ED-50330 | D41: TORNEIRA METÁLICA PARA LAVATÓRIO, ACABAMENTO CROMADO, COM AREJADOR, APLICAÇÃO DE MESA, INCLUSIVE ENGATE FLEXÍVEL METÁLICO, FORNECIMENTO E INSTALAÇÃO | E41: u | F41: 12 | G41: AFERIDO EM PROJETO POR MEIO DO SOFTWARE. OBS MEMORIA AUXILIAR EM ANEXO
A43: 6.1.6 | B43: SEINFRA | C43: ED-50297 | D43: BACIA SANITÁRIA (VASO) DE LOUÇA COM CAIXA ACOPLADA, COR BRANCA, INCLUSIVE ACESSÓRIOS DE FIXAÇÃO/VEDAÇÃO, ENGATE FLEXÍVEL METÁLICO, FORNECIMENTO, INSTALAÇÃO E REJUNTAMENTO | E43: u | F43: 14 | G43: AFERIDO EM PROJETO POR MEIO DO SOFTWARE. OBS MEMORIA AUXILIAR EM ANEXO
A44: 6.1.7 | B44: SEINFRA | C44: ED-49602 | D44: PORTA DE ABRIR, MADEIRA DE LEI PRANCHETA PARA PINTURA COMPLETA 80 X 210 CM, COM FERRAGENS EM FERRO LATONADO | E44: u | F44: 5 | G44: AFERIDO EM PROJETO POR MEIO DO SOFTWARE. OBS MEMORIA AUXILIAR EM ANEXO
A45: 7.1 | D45: INSTALAÇÕES ELÉTRICAS
A46: 7.1.1 | B46: SBC | C46: 07/2023 SBC 060987 | D46: LUMINARIA PAINEL PLAFON LED 12W 3000K 17cm BRILIA 438237 | E46: u | F46: 3 | G46: AFERIDO EM PROJETO POR MEIO DO SOFTWARE. OBS MEMORIA AUXILIAR EM ANEXO
A47: 7.1.2 | B47: SEINFRA | C47: ED-50227 | D47: PONTO DE INTERRUPTOR, INCLUINDO ELETRODUTO DE PVC RÍGIDO E CAIXA COM ESPELHO | E47: u | F47: 2 | G47: AFERIDO EM PROJETO POR MEIO DO SOFTWARE. OBS MEMORIA AUXILIAR EM ANEXO
A48: 7.1.3 | B48: SEINFRA | C48: ED-50232 | D48: PONTO DE TOMADA DE EMBUTIR, INCLUINDO ELETRODUTO DE PVC RÍGIDO E CAIXA COM ESPELHO | E48: u | F48: 8 | G48: AFERIDO EM PROJETO POR MEIO DO SOFTWARE. OBS MEMORIA AUXILIAR EM ANEXO
A52: 8.1 | D52: INSTALAÇÕES HIDROSSANITÁRIAS
A53: 8.1 | B53: SEINFRA | C53: ED-50221 | D53: PONTO DE ÁGUA FRIA EMBUTIDO, INCLUINDO TUBO DE PVC RÍGIDO SOLDÁVEL E CONEXÕES | E53: u | F53: 27 | G53: AFERIDO EM PROJETO POR MEIO DO SOFTWARE
A55: 8.2 | B55: SEINFRA | C55: ED-50225 | D55: PONTO DE ESGOTO, INCLUINDO TUBO DE PVC RÍGIDO SOLDÁVEL DE 100 MM E CONEXÕES (VASO SANITÁRIO) | E55: u | F55: 14 | G55: AFERIDO EM PROJETO POR MEIO DO SOFTWARE. OBS MEMORIA AUXILIAR EM ANEXO
A56: 8.3 | B56: SEINFRA | C56: ED-50223 | D56: PONTO DE ESGOTO, INCLUINDO TUBO DE PVC RÍGIDO SOLDÁVEL DE 40 MM E CONEXÕES (LAVATÓRIOS, MICTÓRIOS, RALOS SIFONADOS, ETC.) | E56: u | F56: 13 | G56: AFERIDO EM PROJETO POR MEIO DO SOFTWARE. OBS MEMORIA AUXILIAR EM ANEXO
A62: 9.1 | D62: COBERTURA/VIGAS/PILARES/LIMPEZA DE OBRA
A63: 9.1.1 | B63: SINAP | C63: 92539 | D63: TRAMA DE MADEIRA COMPOSTA POR RIPAS, CAIBROS E TERÇAS PARA TELHADOS DE ATÉ 2 ÁGUAS PARA TELHA DE ENCAIXE DE CERÂMICA OU DE CONCRETO, INCLUSO TRANSPORTE VERTICAL. AF_07/2019 | E63: m² | F63: 61.12 | G63: AFERIDO EM PROJETO POR MEIO DO SOFTWARE. OBS MEMORIA AUXILIAR EM ANEXO
A64: 9.1.2 | B64: SINAP | C64: 94443 | D64: TELHAMENTO COM TELHA CERÂMICA DE ENCAIXE, TIPO ROMANA, COM MAIS DE 2 ÁGUAS, INCLUSO TRANSPORTE VERTICAL. AF_07/2019O | E64: m² | F64: 61.12 | G64: AFERIDO EM PROJETO POR MEIO DO SOFTWARE. OBS MEMORIA AUXILIAR EM ANEXO | H64: 9.81
A65: 9.1.3 | B65: SEINFRA | C65: ED-49787 | D65: FORNECIMENTO DE CONCRETO ESTRUTURAL, PREPARADO EM OBRA COM BETONEIRA, COM FCK 25 MPA, INCLUSIVE LANÇAMENTO, ADENSAMENTO E ACABAMENTO (FUNDAÇÃO) | E65: m3 | F65: =0.85+1.36 -> 2.21 | G65: AFERIDO EM PROJETO POR MEIO DO SOFTWARE. PILARES =0,85M³ E VIGAS 1,36 M³ CONFORME PROJETO
A66: 9.1.4 | B66: SEINFRA | C66: ED-49643 | D66: FÔRMA E DESFORMA DE TÁBUA E SARRAFO, REAPROVEITAMENTO (3X), EXCLUSIVE ESCORAMENTO | E66: m2 | F66: =(18+37)/3 -> 18.333333 | G66: AFERIDO EM PROJETO POR MEIO DO SOFTWARE. PILARES =18 M2 VIGAS 37 M2 REPROVEITAMENTO 3 VEZES
A67: 9.1.5 | B67: SEINFRA | C67: ED-48298 | D67: CORTE, DOBRA E MONTAGEM DE AÇO CA-50/60 | E67: KG | F67: =F65*80 -> 176.8 | G67: volume de concreto X 80 kg/m³ (taxa de armadura) -
A68: 9.1.6 | B68: SEINFRA | C68: ED-9906 | D68: VERGA OU CONTRAVERGA EM CONCRETO ESTRUTURAL PARA VÃOS ACIMA DE 150CM, PREPARADO EM OBRA COM BETONEIRA, CONTROLE "A", COM FCK 20 MPA, MOLDADA IN LOCO, INCLUSIVE ARMAÇÃO | E68: m³ | F68: 0.3 | G68: AFERIDO EM PROJETO POR MEIO DO SOFTWARE. VERGA E CONTRAVERGA=0.30 m³
A69: 9.1.7 | B69: SEINFRA | C69: ED-50662 | D69: CALHA EM CHAPA GALVANIZADA, ESP. 0,5MM (GSG-26), COM DESENVOLVIMENTO DE 40CM, INCLUSIVE IÇAMENTO MANUAL VERTICAL | E69: m | F69: 7.67 | G69: AFERIDO EM PROJETO POR MEIO DO SOFTWARE. OBS MEMORIA AUXILIAR EM ANEXO
A70: 9.1.8 | C70: ED-50266 | D70: LIMPEZA FINAL PARA ENTREGA DA OBRA | E70: M2 | F70: 89.16 | G70: AFERIDO EM PROJETO POR MEIO DO SOFTWARE. OBS MEMORIA AUXILIAR EM ANEXO
D71: José Gilson Moreira | G71: clecius vinicius pinto
D72: Engenheiro Civil CREA nº 247.171/D | G72: Prefeito Municipal de Vermelho novo
