Workbook
Name ___sub1: #REF!
Name ___sub2: #REF!
Name ___sub3: #REF!
Name _sub1: #REF!
Name _sub2: #REF!
Name _sub3: #REF!
Name a: #REF!
Name AREA: #REF!
Name B: #REF!
Name BDI: #REF!
Name DOLAR: [1]INSUMOS!$G$8
Name ersdcefgbrnghrbgbrgfbgfwbvbfgvwfv: #REF!
Name Excel_BuiltIn_Print_Area_2: #REF!
Name Excel_BuiltIn_Print_Area_2_1: #REF!
Name Excel_BuiltIn_Print_Area_2_1_1: #REF!
Name Excel_BuiltIn_Print_Area_2_1_1_1: #REF!
Name Excel_BuiltIn_Print_Area_4: #REF!
Name leosde: #REF!
Name NCOMPOSICOES: 7
Name NCOTACOES: 15
Name obra: #REF!
Name obra1: #REF!
Name obra2: #REF!
Name obra3: #REF!
Name obra4: #REF!
Name obra5: #REF!
Name P.1: #REF!
Name P.10: #REF!
Name P.11: #REF!
Name P.12: #REF!
Name P.13: #REF!
Name P.14: #REF!
Name P.15: #REF!
Name P.2: #REF!
Name P.3: #REF!
Name P.4: #REF!
Name P.5: #REF!
Name P.6: #REF!
Name P.7: #REF!
Name P.8: #REF!
Name P.9: #REF!
Name Pedreiro_de_acabamento: [1]INSUMOS!$B$11
Name PP1.1: #REF!
Name PP1.10: #REF!
Name PP1.11: #REF!
Name PP1.12: #REF!
Name PP1.13: #REF!
Name PP1.14: #REF!
Name PP1.15: #REF!
Name PP1.2: #REF!
Name PP1.3: #REF!
Name PP1.4: #REF!
Name PP1.5: #REF!
Name PP1.6: #REF!
Name PP1.7: #REF!
Name PP1.8: #REF!
Name PP1.9: #REF!
Name T.1: #REF!
Name T.10: #REF!
Name T.11: #REF!

Sheet Planilha Orcamentária
A2: PLANILHA ORÇAMENTÁRIA DE CUSTOS
A3: PREFEITURA MUNICIPAL DE VERMELHO NOVO | E3: FOLHA N º: | G3: 01/03.
A4: OBRA: Execução de pavimentação no Córrego da Mamixa | E4: DATA: | G4: 45802
A5: Plano de Ação: 09032026-096000 / 2026 | E5: Programa: 09032026
A6: LOCAL: ocalizado no Córrego da Mamixa, zona rural do Município de Vermelho Novo – MG. | E6: FORMA DE EXECUÇÃO:
A7: REGIÃO/MÊS DE REFERÊNCIA: SICOR 01/2025 - SEM DESONERAÇÃO - SINAP 04/2026 - SEM DESONERAÇÃO SICRO/MG - 01/2026; SEM DESONERAÇÃO | E7: ( ) | F7: DIRETA | G7: ( X ) | H7: INDIRETA
A8: COMPOSIÇÃO/DEMONSTRATIVO DE BDI - EM ANEXO | E8: % ISS MUNICIPAL: | F8: 0.05 | G8: BDI: | H8: 0.231
A10: ITEM | B10: CÓDIGO | C10: DESCRIÇÃO | D10: UNIDADE | E10: QUANTIDADE | F10: PREÇO UNITÁRIO S/ BDI | G10: PREÇO UNITÁRIO C/ BDI | H10: PREÇO TOTAL
B13: META I | C13: CALÇAMENTO DE SERRA - BLOQUETES SEXTAVADOS ESPESSURA 8,0CM
A14: 1 | B14: IIO-001 | C14: INSTALAÇÕES INICIAIS DA OBRA | F14: SUBTOTAL | H14: =H15 -> 1485.47
A15: 1.1 | B15: ED-28427 | C15: FORNECIMENTO E COLOCAÇÃO DE PLACA DE OBRA EM CHAPA GALVANIZADA #26, ESP. 0,45MM, DIMENSÃO (3X1,5)M, PLOTADA COM ADESIVO VINÍLICO, AFIXADA COM REBITES 4,8X40MM, EM ESTRUTURA METÁLICA DE METALON 20X20MM, ESP. 1,25MM, INCLUSIVE SUPORTE EM EUCALIPTO AUTOCLAVADO PINTADO COM TINTA PVA DUAS (2) DEMÃOS | D15: UN | E15: 1 | F15: 1206.72 | G15: =ROUND(F15+(F15*$H$8),2) -> 1485.47 | H15: =ROUND((E15*G15),2) -> 1485.47
A16: 2 | C16: CALÇAMENTO DE VIA | F16: SUBTOTAL | H16: =SUM(H18:H22) -> 562360.72
A17: 2.1 | B17: 4011209 | C17: Regularização do subleito - 100% Proctor intermediário | D17: M2 | E17: ='Memória de Cálculo'!E11 -> 2975.15 | F17: 1.83 | G17: =ROUND(F17+(F17*$H$8),2) -> 2.25 | H17: =ROUND((E17*G17),2) -> 6694.09
A18: 2.1 | B18: SINAPI-94273 | C18: ASSENTAMENTO DE GUIA (MEIO-FIO) EM TRECHO RETO, CONFECCIONADA EM CONCRETO PRÉ-FABRICADO, DIMENSÕES 100X15X13X30 CM (COMPRIMENTO X BASE INFERIOR X BASE SUPERIOR X ALTURA), PARA VIAS URBANAS (USO VIÁRIO). AF_06/2016 | D18: M | E18: ='Memória de Cálculo'!E12 -> 1379.91 | F18: 68.44 | G18: =ROUND(F18+(F18*$H$8),2) -> 84.25 | H18: =ROUND((E18*G18),2) -> 116257.42
A19: 2.2 | B19: ED-8914 | C19: EXECUÇÃO DE PAVIMENTO COM PISO INTERTRAVADO, TIPO SEXTAVADO, ESP. 8CM, COM FCK DE 35MPA, INCLUSIVE COLCHÃO DE AREIA, ESP. 6CM, PARA ASSENTAMENTO, COMPACTAÇÃO MECANIZADA, CARGA E DESCARGA MECÂNICA EM CAMINHÃO, EXCLUSIVE TRANSPORTE DE PISO INTERTRAVADO | D19: M2 | E19: ='Memória de Cálculo'!E13 -> 2623.2 | F19: 104.16 | G19: =ROUND(F19+(F19*$H$8),2) -> 128.22 | H19: =ROUND((E19*G19),2) -> 336346.7
A20: 2.3 | B20: SINAPI-94287 | C20: EXECUÇÃO DE SARJETA DE CONCRETO USINADO, MOLDADA IN LOCO EM TRECHO RETO, 30 CM BASE X 10 CM ALTURA. AF_06/2016 | D20: M | E20: ='Memória de Cálculo'!E14 -> 1186.41 | F20: 37.63 | G20: =ROUND(F20+(F20*$H$8),2) -> 46.32 | H20: =ROUND((E20*G20),2) -> 54954.51
A21: 2.4 | B21: SINAPI-95429 | C21: TRANSPORTE COM CAMINHÃO BASCULANTE DE 18 M³, EM VIA URBANA EM REVESTIMENTO PRIMÁRIO. AF_07/2020 | D21: TXKM | E21: ='Memória de Cálculo'!E15 -> 30787.693 | F21: 1.45 | G21: =ROUND(F21+(F21*$H$8),2) -> 1.78 | H21: =ROUND((E21*G21),2) -> 54802.09
C23: TOTAL | H23: =H14+H16 -> 563846.19
C26: JOSÉ GILSON MOREIRA
C27: CREA/MG Nº: MG 247.171/D
C30: Prefeito Municipal
C31: CLECIUS VINICIUS PINTO

Sheet Memória de Cálculo
A2: MEMÓRIA DE CÁLCULO DE QUANTITATIVOS
A3: PREFEITURA MUNICIPAL DE VERMELHO NOVO MG
A4: ='Planilha Orcamentária'!A4 -> OBRA: Execução de pavimentação no Córrego da Mamixa | E4: FOLHA N º: | F4: 02/03.
A5: ='Planilha Orcamentária'!A6 -> LOCAL: ocalizado no Córrego da Mamixa, zona rural do Município de Vermelho Novo – MG. | E5: DATA: | F5: 46167
A7: ITEM | B7: CÓDIGO | C7: DESCRIÇÃO | D7: UNIDADE | E7: QUANTIDADE | F7: FÓRMULA DO CÁLCULO
A8: ='[2]Planilha Orçamentária'!A14 -> 1 | C8: ='[2]Planilha Orçamentária'!C14 -> INSTALAÇÕES INICIAIS DA OBRA
A9: 1.1 | B9: ='Planilha Orcamentária'!B15 -> ED-28427 | C9: FORNECIMENTO E COLOCAÇÃO DE PLACA DE OBRA EM CHAPA GALVANIZADA #26, ESP. 0,45MM, DIMENSÃO (3X1,5)M, PLOTADA COM ADESIVO VINÍLICO, AFIXADA COM REBITES 4,8X40MM, EM ESTRUTURA METÁLICA DE METALON 20X20MM, ESP. 1,25MM, INCLUSIVE SUPORTE EM EUCALIPTO AUTOCLAVADO PINTADO COM TINTA PVA DUAS (2) DEMÃOS | D9: ='Planilha Orcamentária'!D15 -> UN | E9: ='Planilha Orcamentária'!E15 -> 1 | F9: 1,00 unidade conforme padrão exigido
A10: 2 | C10: ='Planilha Orcamentária'!C16 -> CALÇAMENTO DE VIA
A11: ='Planilha Orcamentária'!A16 -> 2 | B11: ='Planilha Orcamentária'!B17 -> 4011209 | C11: ='Planilha Orcamentária'!C17 -> Regularização do subleito - 100% Proctor intermediário | D11: m2 | E11: 2975.15 | F11: #VALUE! | I11: =417.53+493.83+335.46+112.14+12.8+6.73+9.97+5.88+5.45+5.71+4.65+5.74+5.38+5.24+5.2+5.19+5.43+4.84+4.84+7+6.45+6.54+5.94+6.91+13.85+9.09+9.89+10.44+8.35+7.68+6.13+6.68+6.29+5.26+4.57+4.61+5.19+5.52+5.72+5.34 +5.08+4.63+4.54+4.82+5.19+5.35+5.25+4.88 -> 1639.2
A12: ='Planilha Orcamentária'!A18 -> 2.1 | B12: ='Planilha Orcamentária'!B18 -> SINAPI-94273 | C12: ='Planilha Orcamentária'!C18 -> ASSENTAMENTO DE GUIA (MEIO-FIO) EM TRECHO RETO, CONFECCIONADA EM CONCRETO PRÉ-FABRICADO, DIMENSÕES 100X15X13X30 CM (COMPRIMENTO X BASE INFERIOR X BASE SUPERIOR X ALTURA), PARA VIAS URBANAS (USO VIÁRIO). AF_06/2016 | D12: ='Planilha Orcamentária'!D18 -> M | E12: =4.13+4.34+0.3+4.25+4.26+4.48+4.73+7.86+4.94+4.12+5.25+5.52+5.34+4.9+4.8+5.03+4.53+4.6+5.61+6.25+5.75+4.72+4.8+4.58+4.81+4.65+4.34+4.85+5.61+6.82+5.01+5.29+5.67+5.52+6.53+5.34+4.87+1195.51 -> 1379.91 | F12: Somatória dos meios-fios e travamentos=4,13+4,34+0,3+4,25+4,26+4,48+4,73+7,86+4,94+4,12+5,25+5,52+5,34+4,9+4,8+5,03+4,53+4,6+5,61+6,25+5,75+4,72+4,8+4,58+4,81+4,65+4,34+4,85+5,61+6,82+5,01+5,29+5,67+5,52+6,53+5,34+4,87+1195,51 | L12: =4.13+4.34+0.3+4.25+4.26+4.48+4.73+7.86+4.94+4.12+5.25+5.52+5.34+4.9+4.8+5.03+4.53+4.6+5.61+6.25+5.75+4.72+4.8+4.58+4.81+4.65+4.34+4.85+5.61+6.82+5.01+5.29+5.67+5.52+6.53+5.34+4.86+6.16+8.85+7+6.25+6.21+5.28+4.7+4.92+4.98+5.08+5.31+5.24+5.36 -> 259.73
A13: ='Planilha Orcamentária'!A19 -> 2.2 | B13: ='Planilha Orcamentária'!B19 -> ED-8914 | C13: ='Planilha Orcamentária'!C19 -> EXECUÇÃO DE PAVIMENTO COM PISO INTERTRAVADO, TIPO SEXTAVADO, ESP. 8CM, COM FCK DE 35MPA, INCLUSIVE COLCHÃO DE AREIA, ESP. 6CM, PARA ASSENTAMENTO, COMPACTAÇÃO MECANIZADA, CARGA E DESCARGA MECÂNICA EM CAMINHÃO, EXCLUSIVE TRANSPORTE DE PISO INTERTRAVADO | D13: ='Planilha Orcamentária'!D19 -> M2 | E13: 2623.2 | F13: #VALUE!
A14: ='Planilha Orcamentária'!A20 -> 2.3 | B14: ='Planilha Orcamentária'!B20 -> SINAPI-94287 | C14: ='Planilha Orcamentária'!C20 -> EXECUÇÃO DE SARJETA DE CONCRETO USINADO, MOLDADA IN LOCO EM TRECHO RETO, 30 CM BASE X 10 CM ALTURA. AF_06/2016 | D14: ='Planilha Orcamentária'!D20 -> M | E14: =591.58+594.83 -> 1186.41 | F14: conforme projeto | K14: =(((4379.66*0.08*2400)/1000)*40)+(((0.15+0.13)/2*0.3*1596.91)*2400)/1000*40 -> 40074.53
A15: ='Planilha Orcamentária'!A21 -> 2.4 | B15: ='Planilha Orcamentária'!B21 -> SINAPI-95429 | C15: ='Planilha Orcamentária'!C21 -> TRANSPORTE COM CAMINHÃO BASCULANTE DE 18 M³, EM VIA URBANA EM REVESTIMENTO PRIMÁRIO. AF_07/2020 | D15: ='Planilha Orcamentária'!D21 -> TXKM | E15: =(((2623.2*0.08*2400)/1000)*47.9)+(((0.15+0.13)/2*0.3*1379.91)*2400)/1000*47.9 -> 30787.693 | F15: Peso do bloquete = (Área do calçamento x espessura do bloquete x massa específica) 1000 x km; Peso do meio-fio = {[(B+b)/2xhxH] x massa específica}/1000 x km; [(2.623,20x0,08x2400)/1000]x47,9 + {[(0,15+0,13)/2x0,30x1379,91]x2400}/1000x47,9 = 30.787,69TXKM
C17: JOSÉ GILSON MOREIRA
C18: CREA/MG Nº: MG 247.171/D
C22: Prefeito Municipal
C23: CLECIUS VINICIUS PINTO

Sheet Cronograma
A2: CRONOGRAMA FÍSICO-FINANCEIRO
A3: ='Planilha Orcamentária'!A3 -> PREFEITURA MUNICIPAL DE VERMELHO NOVO | C3: VALOR DO CONVÊNIO: | D3: =D14 -> 563846.19 | E3: DATA: | G3: 46167 | I3: FOLHA Nº: 03/03
A4: ='Planilha Orcamentária'!A4 -> OBRA: Execução de pavimentação no Córrego da Mamixa | E4: PREVISÃO DE EXECUÇÃO DAS OBRAS: 3 MESES
A5: ='Planilha Orcamentária'!A6 -> LOCAL: ocalizado no Córrego da Mamixa, zona rural do Município de Vermelho Novo – MG.
A6: ITENS | B6: ETAPAS/DESCRIÇÃO | C6: FÍSICO/ FINANCEIRO | D6: TOTAL ETAPAS | E6: MÊS 1 | G6: MÊS 2 | I6: MÊS 3 | K6: MÊS 4
A7: ='Planilha Orcamentária'!A11 -> 0 | B7: ='Planilha Orcamentária'!C14 -> INSTALAÇÕES INICIAIS DA OBRA | C7: Físico % | D7: =D8/$D$14 -> 0.0026345305 | E7: 1
C8: Financeiro | D8: ='Planilha Orcamentária'!H14 -> 1485.47 | E8: =E7*$D$8 -> 1485.47
A9: ='Planilha Orcamentária'!A16 -> 2 | B9: ='Planilha Orcamentária'!C16 -> CALÇAMENTO DE VIA | C9: Físico % | E9: 0.6 | G9: 0.2 | I9: 0.2 | K9: 0
C10: Financeiro | D10: ='Planilha Orcamentária'!H16 -> 562360.72 | E10: =E9*$D$10 -> 337416.43 | G10: =G9*$D10 -> 112472.14 | I10: =I9*$D$10 -> 112472.14 | K10: =K9*$D$10 -> 0
A11: 3 | B11: ='Planilha Orcamentária'!#REF! -> #REF! | C11: Físico % | E11: 0.932 | G11: 0.068
C12: Financeiro | E12: =E11*$D$12 -> 0 | G12: =G11*$D$12 -> 0
A13: TOTAL | C13: Físico % | D13: =D9+D7+D11 -> 0.0026345305 | E13: =E14/$D$14 -> 0.60105381 | G13: =G14/$D$14 -> 0.19947309 | I13: =I14/$D$14 -> 0.19947309 | K13: =K14/$D$14 -> 0
C14: Financeiro | D14: =D10+D8+D12 -> 563846.19 | E14: =E8+E10+E12 -> 338901.9 | G14: =G12+G10 -> 112472.14 | I14: =I10 -> 112472.14 | K14: =K10 -> 0
B20: ='Memória de Cálculo'!C17 -> JOSÉ GILSON MOREIRA | L20: =SUM(E13:J13) -> 1
B21: ='Memória de Cálculo'!C18 -> CREA/MG Nº: MG 247.171/D | L21: =SUM(E14:K14) -> 563846.19
B26: ='Memória de Cálculo'!C22 -> Prefeito Municipal
B27: ='Memória de Cálculo'!C23 -> CLECIUS VINICIUS PINTO
