Workbook

Sheet Planilha1
C1: MUNICIPIO DE MUITOS CAPÕES
C2: Obra: Pavimentação Trecho Avenida Progresso - Muitos Capões/RS | H2: Março_2024
C3: Base: SINAPI/RS - FEV/24 SICRO - OUT/23
C4: Encargos Sociais: HORISTA - 112,88% MENSALISTA - 69,79% | D4: BDI: 20,60%
A5: PLANILHA ORÇAMENTÁRIA
A6: Item | B6: Fonte | C6: Macrosserviço / Serviço | D6: Qtd. | E6: Und. | F6: Custo Unitário | G6: BDI | H6: Preço Unitário | I6: Preço Total
A7: Total: | I7: 769926.87
A8: 1 | C8: Serviços Preliminares | I8: 3134.77
A9: 1.1 | B9: SINAPI - 103689 | C9: FORNECIMENTO E INSTALAÇÃO DE PLACA DE OBRA COM CHAPA GALVANIZADA E ESTRUTURA DE MADEIRA. AF_03/2022_PS | D9: 4.5 | E9: M2 | F9: 308.81 | G9: 0.206 | H9: 372.42 | I9: 1675.89
A10: 1.2 | B10: SINAPI - 99064 | C10: LOCAÇÃO DE PAVIMENTAÇÃO. AF_10/2018 | D10: 171 | E10: M | F10: 0.56 | G10: 0.206 | H10: 0.68 | I10: 116.28
A11: 1.3 | B11: SINAPI - 99063 | C11: LOCAÇÃO DE REDE DE ÁGUA OU ESGOTO. AF_10/2018 | D11: 245 | E11: M | F11: 4.54 | G11: 0.206 | H11: 5.48 | I11: 1342.6
A12: 2 | C12: Terraplanagem | I12: 37318.19
A13: 2.1 | B13: SINAPI - 101231 | C13: ESCAVAÇÃO VERTICAL PARA INFRAESTRUTURA, COM CARGA, DESCARGA E TRANSPORTE DE SOLO DE 1ª CATEGORIA, COM ESCAVADEIRA HIDRÁULICA (CAÇAMBA: 0,8 M³ / 111 HP), FROTA DE 3 CAMINHÕES BASCULANTES DE 18 M³, DMT ATÉ 1 KM E VELOCIDADE MÉDIA14 KM/H. AF_05/2020 | D13: 919.15 | E13: M3 | F13: 11.23 | G13: 0.206 | H13: 13.54 | I13: 12445.29
A14: 2.2 | B14: SINAPI - 101150 | C14: ESCAVAÇÃO HORIZONTAL, INCLUINDO ESCARIFICAÇÃO, CARGA, DESCARGA E TRANSPORTE EM SOLO DE 2A CATEGORIA COM TRATOR DE ESTEIRAS (150HP/LÂMINA: 3,18M3) E CAMINHÃO BASCULANTE DE 14M3, DMT ATÉ 200M. AF_07/2020 | D14: 306.38 | E14: M3 | F14: 20.15 | G14: 0.206 | H14: 24.3 | I14: 7445.03
A15: 2.3 | B15: sicro5502744 | C15: ESCAVAÇÃO, CARGA E TRANSPORTE DE MATERIAL DE 3º CATEGORIA DE 400 a 600m -CAMINHO DE SERVIÇO EM LEITO NATURAL COM CAMINHÃO BASCULANTE DE 12 m 3 | D15: 306.38 | E15: M3 | F15: 41.67 | G15: 0.206 | H15: 50.25 | I15: 15395.6
A16: 2.4 | B16: SINAPI - 96385 | C16: EXECUÇÃO E COMPACTAÇÃO DE ATERRO COM SOLO PREDOMINANTEMENTE ARGILOSO - EXCLUSIVE SOLO, ESCAVAÇÃO, CARGA E TRANSPORTE. AF_11/2019 | D16: 137.13 | E16: M3 | F16: 12.29 | G16: 0.206 | H16: 14.82 | I16: 2032.27
A17: 3 | C17: Drenagem | I17: 153946.21
A18: 3.1 | B18: SINAPI - 90091 | C18: ESCAVAÇÃO MECANIZADA DE VALA COM PROF. ATÉ 1,5 M (MÉDIA MONTANTE E JUSANTE/UMA COMPOSIÇÃO POR TRECHO), ESCAVADEIRA (0,8 M3), LARG. DE 1,5 M A 2,5 M, EM SOLO DE 1A CATEGORIA, LOCAIS COM BAIXO NÍVEL DE INTERFERÊNCIA. AF_02/2021 | D18: 177.38 | E18: M3 | F18: 6.7 | G18: 0.206 | H18: 8.08 | I18: 1433.23
A19: 3.2 | B19: SINAPI - 102306 | C19: ESCAVAÇÃO MECANIZADA DE VALA COM PROF. ATÉ 1,5 M (MÉDIA MONTANTE E JUSANTE/UMA COMPOSIÇÃO POR TRECHO), ESCAVADEIRA (0,8 M3),LARG. ATÉ 1,5 M, EM SOLO DE 2A CATEGORIA, EM LOCAIS COM ALTO NÍVEL DE INTERFERÊNCIA. AF_02/2021 | D19: 59.12 | E19: M3 | F19: 17.44 | G19: 0.206 | H19: 21.03 | I19: 1243.29
A20: 3.3 | B20: SINAPI - 92210 | C20: TUBO DE CONCRETO PARA REDES COLETORAS DE ÁGUAS PLUVIAIS, DIÂMETRO DE 400 MM, JUNTA RÍGIDA, INSTALADO EM LOCAL COM BAIXO NÍVEL DE INTERFERÊNCIAS - FORNECIMENTO E ASSENTAMENTO. AF_12/2015 | D20: 45 | E20: M | F20: 176.9 | G20: 0.206 | H20: 213.34 | I20: 9600.3
A21: 3.4 | B21: sicro 5502970 | C21: Escavação de vala em material de 3º categoria-resistencia a compressão de 70 a 90 mpa-com escavadeira e rompedor hidraulico 1700 kg | D21: 59.12 | E21: M3 | F21: 59.01 | G21: 0.206 | H21: 71.17 | I21: 4207.57
A22: 3.5 | B22: SINAPI - 92212 | C22: TUBO DE CONCRETO PARA REDES COLETORAS DE ÁGUAS PLUVIAIS, DIÂMETRO DE 600 MM, JUNTA RÍGIDA, INSTALADO EM LOCAL COM BAIXO NÍVEL DE INTERFERÊNCIAS - FORNECIMENTO E ASSENTAMENTO. AF_12/2015 | D22: 200 | E22: M | F22: 314.82 | G22: 0.206 | H22: 379.67 | I22: 75934
A23: 3.6 | B23: SINAPI - 93367 | C23: REATERRO MECANIZADO DE VALA COM ESCAVADEIRA HIDRÁULICA (CAPACIDADE DA CAÇAMBA: 0,8 M³/POTÊNCIA: 111 HP), LARGURA DE 1,5 A 2,5 M, PROFUNDIDADE ATÉ 1,5 M, COM SOLO (SEM SUBSTITUIÇÃO) DE 1ª CATEGORIA, COM COMPACTADOR DE SOLOS DE PERCUSSÃO. AF_08/2023 | D23: 236.5 | E23: M3 | F23: 25.97 | G23: 0.206 | H23: 31.32 | I23: 7407.18
A24: 3.7 | B24: Composição - comp06 | C24: CAIXA COM GRELHA SIMPLES RETANGULAR, EM ALVENARIA COM TIJOLOS CERÂMICOS MACIÇOS, DIMENSÕES INTERNAS: 0,80X0,8X1,40 M. TUBULAÇÃO | D24: 4 | E24: UN | F24: 1968.48 | G24: 0.206 | H24: 2373.99 | I24: 9495.96
A25: 3.8 | B25: SINAPI - 94273 | C25: ASSENTAMENTO DE GUIA (MEIO-FIO) EM TRECHO RETO, CONFECCIONADA EM CONCRETO PRÉ-FABRICADO, DIMENSÕES 100X15X13X30 CM (COMPRIMENTO X BASE INFERIOR X BASE SUPERIOR X ALTURA). AF_01/2024 | D25: 657.8 | E25: M | F25: 47.8 | G25: 0.206 | H25: 57.65 | I25: 37922.17
A26: 3.9 | B26: SINAPI - 94274 | C26: ASSENTAMENTO DE GUIA (MEIO-FIO) EM TRECHO CURVO, CONFECCIONADA EM CONCRETO PRÉ-FABRICADO, DIMENSÕES 100X15X13X30 CM (COMPRIMENTO X BASE INFERIOR X BASE SUPERIOR X ALTURA). AF_01/2024 | D26: 36.93 | E26: M | F26: 50.58 | G26: 0.206 | H26: 61 | I26: 2252.73
A27: 3.10 | B27: Composição - Comp 08 | C27: CAIXA COM GRELHA SIMPLES RETANGULAR, EM ALVENARIA COM TIJOLOS CERAMICOS MAÇIÇOS, DIMENSÕES INTERNAS 0,5 X 0,8 X1M | D27: 3 | E27: UN | F27: 1229.9 | G27: 0.206 | H27: 1483.26 | I27: 4449.78
A28: 4 | C28: Pavimentação | I28: 462324.21
A29: 4.1 | B29: SINAPI - 100576 | C29: REGULARIZAÇÃO E COMPACTAÇÃO DE SUBLEITO DE SOLO PREDOMINANTEMENTE ARGILOSO. AF_11/2019 | D29: 2625 | E29: M2 | F29: 2.69 | G29: 0.206 | H29: 3.24 | I29: 8505
A30: 4.2 | B30: SINAPI - 96400 | C30: EXECUÇÃO E COMPACTAÇÃO DE BASE E OU SUB BASE PARA PAVIMENTAÇÃO DE MACADAME SECO - EXCLUSIVE CARGA E TRANSPORTE. AF_11/2019 | D30: 525 | E30: M3 | F30: 121.88 | G30: 0.206 | H30: 146.99 | I30: 77169.75
A31: 4.3 | B31: SINAPI - 95876 | C31: TRANSPORTE COM CAMINHÃO BASCULANTE DE 14 M³, EM VIA URBANA PAVIMENTADA, DMT ATÉ 30 KM (UNIDADE: M3XKM). AF_07/2020 | D31: 15750 | E31: M3XKM | F31: 2.26 | G31: 0.206 | H31: 2.73 | I31: 42997.5
A32: 4.4 | B32: SINAPI - 93593 | C32: TRANSPORTE COM CAMINHÃO BASCULANTE DE 14 M³, EM VIA URBANA PAVIMENTADA, ADICIONAL PARA DMT EXCEDENTE A 30 KM (UNIDADE: M3XKM). AF_07/2020 | D32: 2625 | E32: M3XKM | F32: 0.91 | G32: 0.206 | H32: 1.1 | I32: 2887.5
A33: 4.5 | B33: SINAPI - 96396 | C33: EXECUÇÃO E COMPACTAÇÃO DE BASE E OU SUB BASE PARA PAVIMENTAÇÃO DE BRITA GRADUADA SIMPLES - EXCLUSIVE CARGA E TRANSPORTE. AF_11/2019 | D33: 393.75 | E33: M3 | F33: 133.91 | G33: 0.206 | H33: 161.5 | I33: 63590.63
A34: 4.6 | B34: SINAPI - 95876 | C34: TRANSPORTE COM CAMINHÃO BASCULANTE DE 14 M³, EM VIA URBANA PAVIMENTADA, DMT ATÉ 30 KM (UNIDADE: M3XKM). AF_07/2020 | D34: 11812.5 | E34: M3XKM | F34: 2.26 | G34: 0.206 | H34: 2.73 | I34: 32248.13
A35: 4.7 | B35: SINAPI - 93593 | C35: TRANSPORTE COM CAMINHÃO BASCULANTE DE 14 M³, EM VIA URBANA PAVIMENTADA, ADICIONAL PARA DMT EXCEDENTE A 30 KM (UNIDADE: M3XKM). AF_07/2020 | D35: 1968.75 | E35: M3XKM | F35: 0.91 | G35: 0.206 | H35: 1.1 | I35: 2165.63
A36: 4.8 | B36: Composição - Comp 01 | C36: EXECUÇÃO DE IMPRIMAÇÃO COM ASFALTO DILUÍDO CM-30 | D36: 2625 | E36: M2 | F36: 7.45 | G36: 0.206 | H36: 8.98 | I36: 23572.5
A37: 4.9 | B37: Composição - comp 02 | C37: EXECUÇÃO DE PINTURA DE LIGAÇÃO COM EMULSÃO ASFÁLTICA RR-2C | D37: 2625 | E37: M2 | F37: 2.54 | G37: 0.206 | H37: 3.06 | I37: 8032.5
A38: 4.10 | B38: Composição - comp04 | C38: EXECUÇÃO DE PAVIMENTO COM APLICAÇÃO DE CONCRETO ASFÁLTICO, CAMADA DE ROLAMENTO - EXCLUSIVE TRANSPORTE | D38: 131.25 | E38: M3 | F38: 1198.35 | G38: 0.206 | H38: 1445.21 | I38: 189683.81
A39: 4.11 | B39: SINAPI - 95876 | C39: TRANSPORTE COM CAMINHÃO BASCULANTE DE 14 M³, EM VIA URBANA PAVIMENTADA, DMT ATÉ 30 KM (UNIDADE: M3XKM). AF_07/2020 | D39: 3937.5 | E39: M3XKM | F39: 2.26 | G39: 0.206 | H39: 2.73 | I39: 10749.38
A40: 4.12 | B40: SINAPI - 93593 | C40: TRANSPORTE COM CAMINHÃO BASCULANTE DE 14 M³, EM VIA URBANA PAVIMENTADA, ADICIONAL PARA DMT EXCEDENTE A 30 KM (UNIDADE: M3XKM). AF_07/2020 | D40: 656.25 | E40: M3XKM | F40: 0.91 | G40: 0.206 | H40: 1.1 | I40: 721.88
...

Sheet Planilha2
D2: CRONOGRAMA FÍSICO FINANCEIRO
D3: =[1]CAPA!B2 -> EMPREENDIMENTO: PAVIMENTAÇÃO, DRENAGEM E SINALIZAÇÃO DE VIAS URBANAS
D4: trecho da Avenida Progresso
D5: PROPONENTE: Município de Muitos Capões / RS
D7: REFERÊNCIA: SINAPI/RS : FEV / 2024
B9: ATIVIDADE | C9: PERÍODO
I10: TOTAL
C11: 30 dias | D11: 60 dias | E11: 90 dias | F11: 120 dias | G11: 150 dias | H11: 180 dias
B12: =Planilha1!C8 -> Serviços Preliminares | C12: 1 | D12: 0 | E12: 0 | F12: 0 | G12: 0 | H12: 0 | I12: =SUM(C12:H12) -> 1
C13: =C12*K13 -> 3134.77 | D13: =[1]CAPA!$D$16*D12 -> 0 | E13: =[1]CAPA!$D$16*E12 -> 0 | F13: =[1]CAPA!$D$16*F12 -> 0 | G13: =[1]CAPA!$D$16*G12 -> 0 | H13: =[1]CAPA!$D$16*H12 -> 0 | I13: =SUM(C13:H13) -> 3134.77 | K13: =Planilha1!I8 -> 3134.77
B15: =Planilha1!C12 -> Terraplanagem | C15: 0.5 | D15: 0.5 | E15: 0 | F15: 0 | G15: 0 | H15: 0 | I15: =SUM(C15:H15) -> 1
C16: =C15*K16 -> 18659.095 | D16: =D15*K16 -> 18659.095 | E16: =[1]CAPA!$D$17*E15 -> 0 | F16: =[1]CAPA!$D$17*F15 -> 0 | G16: =[1]CAPA!$D$17*G15 -> 0 | H16: =[1]CAPA!$D$17*H15 -> 0 | I16: =SUM(C16:H16) -> 37318.19 | K16: =Planilha1!I12 -> 37318.19
B18: =Planilha1!C17 -> Drenagem | C18: 0.3 | D18: 0.7 | E18: 0 | F18: 0 | G18: 0 | H18: 0 | I18: =SUM(C18:H18) -> 1
C19: =C18*K19 -> 46183.863 | D19: =D18*K19 -> 107762.35 | E19: =[1]CAPA!$D$18*E18 -> 0 | F19: =[1]CAPA!$D$18*F18 -> 0 | G19: =[1]CAPA!$D$18*G18 -> 0 | H19: =[1]CAPA!$D$18*H18 -> 0 | I19: =SUM(C19:H19) -> 153946.21 | K19: =Planilha1!I17 -> 153946.21
B21: =Planilha1!C28 -> Pavimentação | C21: 0 | D21: 0.5 | E21: 0.5 | F21: 0 | G21: 0 | H21: 0 | I21: =SUM(C21:H21) -> 1
C22: =[1]CAPA!$D$19*C21 -> 0 | D22: =D21*K22 -> 231162.11 | E22: =E21*K22 -> 231162.11 | F22: =[1]CAPA!$D$19*F21 -> 0 | G22: =[1]CAPA!$D$19*G21 -> 0 | H22: =[1]CAPA!$D$19*H21 -> 0 | I22: =SUM(C22:H22) -> 462324.21 | K22: =Planilha1!I28 -> 462324.21
B24: =Planilha1!C41 -> Passeios e Regularizações | C24: 0 | D24: 0.3 | E24: 0.7 | F24: 0 | G24: 0 | H24: 0 | I24: =SUM(C24:H24) -> 1
C25: =[1]CAPA!$D$20*C24 -> 0 | D25: =D24*K25 -> 22882.284 | E25: =E24*K25 -> 53391.996 | F25: =[1]CAPA!$D$20*F24 -> 0 | G25: =[1]CAPA!$D$20*G24 -> 0 | H25: =[1]CAPA!$D$20*H24 -> 0 | I25: =SUM(C25:H25) -> 76274.28 | K25: =Planilha1!I41 -> 76274.28
B27: =Planilha1!C45 -> Sinalizações | C27: 0 | D27: 0 | E27: 1 | F27: 0 | G27: 0 | H27: 0 | I27: =SUM(C27:H27) -> 1
C28: =[1]CAPA!$D$20*C27 -> 0 | D28: =[1]CAPA!$D$20*D27 -> 0 | E28: =E27*K28 -> 11197.57 | F28: =[1]CAPA!$D$20*F27 -> 0 | G28: =[1]CAPA!$D$20*G27 -> 0 | H28: =[1]CAPA!$D$20*H27 -> 0 | I28: =SUM(C28:H28) -> 11197.57 | K28: =Planilha1!I45 -> 11197.57
B30: =Planilha1!C52 -> Administração da Obra | C30: 0.33 | D30: 0.33 | E30: 0.34 | F30: 0 | G30: 0 | H30: 0 | I30: =SUM(C30:H30) -> 1
C31: =C30*K31 -> 6526.9314 | D31: =D30*K31 -> 6526.9314 | E31: =E30*K31 -> 6724.7172 | F31: =[1]CAPA!$D$20*F30 -> 0 | G31: =[1]CAPA!$D$20*G30 -> 0 | H31: =[1]CAPA!$D$20*H30 -> 0 | I31: =SUM(C31:H31) -> 19778.58 | K31: =Planilha1!I52 -> 19778.58
B33: =Planilha1!C54 -> Mobilização | C33: 1 | D33: 0 | E33: 0 | F33: 0 | G33: 0 | H33: 0 | I33: =SUM(C33:H33) -> 1
C34: =C33*K34 -> 2976.53 | D34: =[1]CAPA!$D$20*D33 -> 0 | E34: =[1]CAPA!$D$20*E33 -> 0 | F34: =[1]CAPA!$D$20*F33 -> 0 | G34: =[1]CAPA!$D$20*G33 -> 0 | H34: =[1]CAPA!$D$20*H33 -> 0 | I34: =SUM(C34:H34) -> 2976.53 | K34: =Planilha1!I54 -> 2976.53
B36: =Planilha1!C56 -> Desmobilização | C36: 0 | D36: 0 | E36: 1 | F36: 0 | G36: 0 | H36: 0 | I36: =SUM(C36:H36) -> 1
C37: =[1]CAPA!$D$21*C36 -> 0 | D37: =[1]CAPA!$D$21*D36 -> 0 | E37: =E36*K37 -> 2976.53 | F37: =[1]CAPA!$D$21*F36 -> 0 | G37: =[1]CAPA!$D$21*G36 -> 0 | H37: =[1]CAPA!$D$21*H36 -> 0 | I37: =SUM(C37:H37) -> 2976.53 | K37: =Planilha1!I56 -> 2976.53
B39: TOTAL | C39: =SUM(C13,C16,C19,C22,C25,C28,C31,C34,C37) -> 77481.189 | D39: =SUM(D13,D16,D19,D22,D25,D28,D31,D34,D37) -> 386992.76 | E39: =SUM(E13,E16,E19,E22,E25,E28,E31,E34,E37) -> 305452.92 | F39: =SUM(F13+F16+F19+F22+F37) -> 0 | G39: =SUM(G13+G16+G19+G22+G37) -> 0 | H39: =SUM(H13+H16+H19+H22+H37+H25) -> 0 | I39: =SUM(I13,I16,I19,I22,I25,I28,I31,I34,I37) -> 769926.87
K40: =SUM(K13:K38) -> 769926.87 | M40: =SUM(C39:E40) -> 769926.87
C43: Muitos Capões - RS, março de 2024
C45: Eng° Civil José Luiz de Santo
C46: crea-rs 55.899
