Workbook

Sheet RESUMO
B7: Obra: | C7: FHNIS | D7: Data Base: | E7: Jul./2025 - Não Des.
B8: Local: | C8: MS | D8: Data: | E8: 45965
B9: Área (m²): | C9: 51.53 | D9: BDI: | E9: 0.2222
B10: UH: | C10: 20
B11: Obs.: | C11: Fundação em sapata corrida; Estrutura de cobertura em Madeira; Piso e Forro em toda UH; Fossa e Sumidouro; Mureta para Hidrômetro e Padrão de Energia
B13: RESUMO
B15: ITEM | C15: DESCRIÇÃO | E15: TOTAL
B16: 1 | C16: =VLOOKUP(B16,PLANILHA!$B:$L,3,0) -> SERVIÇOS PRELIMINARES | E16: =VLOOKUP(B16,PLANILHA!$B:$K,10,0) -> 35497.56
B17: 2 | C17: =VLOOKUP(B17,PLANILHA!$B:$L,3,0) -> SERVIÇOS EM TERRA | E17: =VLOOKUP(B17,PLANILHA!$B:$K,10,0) -> 32109.46
B18: 3 | C18: =VLOOKUP(B18,PLANILHA!$B:$L,3,0) -> FUNDAÇÕES (ESTACA, BLOCOS E VIGA BALDRAME) | E18: =VLOOKUP(B18,PLANILHA!$B:$K,10,0) -> 287494.25
B19: 4 | C19: =VLOOKUP(B19,PLANILHA!$B:$L,3,0) -> SUPRAESTRUTURA (PILARES, ESPERAS E VIGA DE RESPALDO) | E19: =VLOOKUP(B19,PLANILHA!$B:$K,10,0) -> 235620.08
B20: 5 | C20: =VLOOKUP(B20,PLANILHA!$B:$L,3,0) -> ALVENARIA DE ELEVAÇÃO | E20: =VLOOKUP(B20,PLANILHA!$B:$K,10,0) -> 260081.39
B21: 6 | C21: =VLOOKUP(B21,PLANILHA!$B:$L,3,0) -> ESTRUTURA DE COBERTURA - MADEIRA | E21: =VLOOKUP(B21,PLANILHA!$B:$K,10,0) -> 253831.97
B22: 7 | C22: =VLOOKUP(B22,PLANILHA!$B:$L,3,0) -> COBERTURA | E22: =VLOOKUP(B22,PLANILHA!$B:$K,10,0) -> 99750.36
B23: 8 | C23: =VLOOKUP(B23,PLANILHA!$B:$L,3,0) -> ESQUADRIAS | E23: =VLOOKUP(B23,PLANILHA!$B:$K,10,0) -> 203979.27
B24: 9 | C24: =VLOOKUP(B24,PLANILHA!$B:$L,3,0) -> REVESTIMENTOS | E24: =VLOOKUP(B24,PLANILHA!$B:$K,10,0) -> 297713.94
B25: 10 | C25: =VLOOKUP(B25,PLANILHA!$B:$L,3,0) -> PINTURA | E25: =VLOOKUP(B25,PLANILHA!$B:$K,10,0) -> 104047.35
B26: 11 | C26: =VLOOKUP(B26,PLANILHA!$B:$L,3,0) -> FORRO | E26: =VLOOKUP(B26,PLANILHA!$B:$K,10,0) -> 112168.05
B27: 12 | C27: =VLOOKUP(B27,PLANILHA!$B:$L,3,0) -> VIDROS | E27: =VLOOKUP(B27,PLANILHA!$B:$K,10,0) -> 20278.27
... B34: 19 | C34: =VLOOKUP(B34,PLANILHA!$B:$L,3,0) -> ADMINISTRAÇÃO LOCAL | E34: =VLOOKUP(B34,PLANILHA!$B:$K,10,0) -> 131334.12
B36: CUSTO TOTAL DA OBRA | E36: =SUM(E16:E35) -> 2758016.9 | G36: =E36=PLANILHA!K192 -> TRUE
B42: _________________________
B43: RESPONSÁVEL TÉCNICO
B44: Leonardo da Rosa Walz
B45: CREA MS 65.212

Sheet PLANILHA
M2: TCU
M3: 0.05
C7: Obra: | D7: =RESUMO!C7 -> FHNIS | J7: Data Base: | K7: =RESUMO!E7 -> Jul./2025 - Não Des.
C8: Local: | D8: =RESUMO!C8 -> MS | J8: Data: | K8: =RESUMO!E8 -> 45965
C9: Área (m²): | D9: =RESUMO!C9 -> 51.53 | J9: BDI: | K9: =RESUMO!E9 -> 0.2222
C10: UH: | D10: =RESUMO!C10 -> 20
C11: Obs.: | D11: =RESUMO!C11 -> Fundação em sapata corrida; Estrutura de cobertura em Madeira; Piso e Forro em toda UH; Fossa e Sumidouro; Mureta para Hidrômetro e Padrão de Energia
B13: PLANILHA ORÇAMENTÁRIA | M13: VERIFICAÇÃO PLANILHA
B14: ITEM | C14: REFERÊNCIA SINAPI / AGEHAB / AGESUL | D14: DESCRIÇÃO | E14: UNID. | F14: QUANT. | G14: QUANT. 1 UH | H14: ="CUSTO UNITÁRIO SEM BDI - "&K7 -> CUSTO UNITÁRIO SEM BDI - Jul./2025 - Não Des. | I14: ="CUSTO UNITÁRIO SEM BDI "&L7 -> CUSTO UNITÁRIO SEM BDI | J14: CUSTO UNITÁRIO | K14: TOTAL | M14: =SUMIF(H15:H190,"CUSTO TOTAL DO ITEM",K15:K190) -> 2758016.9 | N14: =SUM(K15:K191)/2 -> 2758016.9 | O14: =M14=N14 -> TRUE
B15: 1 | D15: SERVIÇOS PRELIMINARES | H15: CUSTO TOTAL DO ITEM | K15: =SUM(K16:K22) -> 35497.56
B16: 1.1 | C16: 98519 | D16: =VLOOKUP(C16,'SINAPI-COMP'!$B:$E,2,FALSE) -> REVOLVIMENTO E LIMPEZA MANUAL DE SOLO. AF_07/2024 | E16: =VLOOKUP(C16,'SINAPI-COMP'!$B:$E,3,FALSE) -> M2 | F16: =G16*$D$10 -> 1030.6 | G16: =VLOOKUP(B16,MECALC!$B:$H,7,0) -> 51.53 | H16: =VLOOKUP(C16,'SINAPI-COMP'!$B:$E,4,FALSE) -> 3.6 | I16: =H16 -> 3.6 | J16: =TRUNC(I16*(1+$K$9),2) -> 4.39 | K16: =TRUNC(J16*F16,2) -> 4524.33 | P16: =K16/K$192 -> 0.0016404287
B17: 1.2 | C17: 010100000 | D17: =VLOOKUP(C17,COMPOSIÇÕES!$B:$H,2,0) -> LOCAÇÃO CONVENCIONAL DE OBRA ATRAVÉS DE GABARITO DE TÁBUAS CORRIDAS PONTALETADAS, COM REAPROVEITAMENTO DE 3 VEZES | E17: =VLOOKUP(C17,COMPOSIÇÕES!$B:$H,3,0) -> M2 | F17: =G17*$D$10 -> 1030.6 | G17: =VLOOKUP(B17,MECALC!$B:$H,7,0) -> 51.53 | H17: =VLOOKUP(C17,COMPOSIÇÕES!$B:$H,7,FALSE) -> 6.91 | I17: =H17 -> 6.91 | J17: =TRUNC(I17*(1+$K$9),2) -> 8.44 | K17: =TRUNC(J17*F17,2) -> 8698.26 | P17: =K17/K$192 -> 0.0031538096
B18: 1.3 | C18: 010100004 | D18: =VLOOKUP(C18,COMPOSIÇÕES!$B:$H,2,0) -> LOCAÇÃO DE CONTAINER PARA DEPÓSITO DE (2,30 X 6,00M), ALT. 2,50M, SEM DIVISÓRIAS INTERNAS E SEM SANITÁRIO, EXC. TRANSP./CARGA/DESCARGA | E18: =VLOOKUP(C18,COMPOSIÇÕES!$B:$H,3,0) -> MÊS | F18: =G18 -> 18 | G18: =VLOOKUP(B18,MECALC!$B:$H,7,0) -> 18 | H18: =VLOOKUP(C18,COMPOSIÇÕES!$B:$H,7,FALSE) -> 662.1 | I18: =H18 -> 662.1 | J18: =TRUNC(I18*(1+$K$9),2) -> 809.21 | K18: =TRUNC(J18*F18,2) -> 14565.78 | L18: --- Alterar a quant. 1UH conforme o cronograma | P18: =K18/K$192 -> 0.0052812513
B19: 1.4 | C19: 103689 | D19: =VLOOKUP(C19,'SINAPI-COMP'!$B:$E,2,FALSE) -> FORNECIMENTO E INSTALAÇÃO DE PLACA DE OBRA COM CHAPA GALVANIZADA E ESTRUTURA DE MADEIRA. AF_03/2022_PS | E19: =VLOOKUP(C19,'SINAPI-COMP'!$B:$E,3,FALSE) -> M2 | F19: =G19 -> 8 | G19: =VLOOKUP(B19,MECALC!$B:$H,7,0) -> 8 | H19: =VLOOKUP(C19,'SINAPI-COMP'!$B:$E,4,FALSE) -> 456.23 | I19: =H19 -> 456.23 | J19: =TRUNC(I19*(1+$K$9),2) -> 557.6 | K19: =TRUNC(J19*F19,2) -> 4460.8 | L19: --- Verificar se for pulverizado, remover o serviço | P19: =K19/K$192 -> 0.001617394
B20: 1.5 | C20: 011399003 | D20: =VLOOKUP(C20,COMPOSIÇÕES!$B:$H,2,0) -> INSTALAÇÃO PROVISÓRIA DE ÁGUA E ESGOTO P/ CANTEIRO DE OBRA | E20: =VLOOKUP(C20,COMPOSIÇÕES!$B:$H,3,0) -> UN | F20: =G20 -> 1 | G20: =VLOOKUP(B20,MECALC!$B:$H,7,0) -> 1 | H20: =VLOOKUP(C20,COMPOSIÇÕES!$B:$H,7,FALSE) -> 1459.43 | I20: =H20 -> 1459.43 | J20: =TRUNC(I20*(1+$K$9),2) -> 1783.71 | K20: =TRUNC(J20*F20,2) -> 1783.71 | P20: =K20/K$192 -> 0.00064673644
B21: 1.6 | C21: 011299000 | D21: =VLOOKUP(C21,COMPOSIÇÕES!$B:$H,2,0) -> INSTALAÇÃO/LIGAÇÃO PROVISÓRIA DE ENERGIA ELÉTRICA DE BAIXA TENSÃO | E21: =VLOOKUP(C21,COMPOSIÇÕES!$B:$H,3,0) -> UN | F21: =G21 -> 1 | G21: =VLOOKUP(B21,MECALC!$B:$H,7,0) -> 1 | H21: =VLOOKUP(C21,COMPOSIÇÕES!$B:$H,7,FALSE) -> 1198.4 | I21: =H21 -> 1198.4 | J21: =TRUNC(I21*(1+$K$9),2) -> 1464.68 | K21: =TRUNC(J21*F21,2) -> 1464.68 | P21: =K21/K$192 -> 0.00053106274
P22: =K22/K$192 -> 0
B23: 2 | D23: SERVIÇOS EM TERRA | H23: CUSTO TOTAL DO ITEM | K23: =SUM(K24:K25) -> 32109.46
B24: 2.1 | C24: 401001126 | D24: ATERRO MANUAL EM CAMADAS DE 20 CM, UMIDECIDAS E FORTEMENTE APILOADAS, COM AQUISICAO DE TERRA | E24: M3 | F24: =G24*$D$10 -> 206.2 | G24: =VLOOKUP(B24,MECALC!$B:$H,7,0) -> 10.31 | H24: 127.41 | I24: =H24 -> 127.41 | J24: =TRUNC(I24*(1+$K$9),2) -> 155.72 | K24: =TRUNC(J24*F24,2) -> 32109.46 | P24: =K24/K$192 -> 0.011642228
P25: =K25/K$192 -> 0
B26: 3 | D26: FUNDAÇÕES (ESTACA, BLOCOS E VIGA BALDRAME) | H26: CUSTO TOTAL DO ITEM | K26: =SUM(K27:K41) -> 287494.25
B27: 3.1 | C27: 93358 | D27: =VLOOKUP(C27,'SINAPI-COMP'!$B:$E,2,FALSE) -> ESCAVAÇÃO MANUAL DE VALA. AF_09/2024 | E27: =VLOOKUP(C27,'SINAPI-COMP'!$B:$E,3,FALSE) -> M3 | F27: =G27*$D$10 -> 85.6 | G27: =VLOOKUP(B27,MECALC!$B:$H,7,0) -> 4.28 | H27: =VLOOKUP(C27,'SINAPI-COMP'!$B:$E,4,FALSE) -> 82.24 | I27: =H27 -> 82.24 | J27: =TRUNC(I27*(1+$K$9),2) -> 100.51 | K27: =TRUNC(J27*F27,2) -> 8603.65 | P27: =K27/K$192 -> 0.0031195059
B28: 3.2 | C28: 96617 | D28: =VLOOKUP(C28,'SINAPI-COMP'!$B:$E,2,FALSE) -> LASTRO DE CONCRETO MAGRO, APLICADO EM BLOCOS DE COROAMENTO OU SAPATAS, ESPESSURA DE 3 CM. AF_01/2024 | E28: =VLOOKUP(C28,'SINAPI-COMP'!$B:$E,3,FALSE) -> M2 | F28: =G28*$D$10 -> 41.6 | G28: =VLOOKUP(B28,MECALC!$B:$H,7,0) -> 2.08 | H28: =VLOOKUP(C28,'SINAPI-COMP'!$B:$E,4,FALSE) -> 18.84 | I28: =H28 -> 18.84 | J28: =TRUNC(I28*(1+$K$9),2) -> 23.02 | K28: =TRUNC(J28*F28,2) -> 957.63 | P28: =K28/K$192 -> 0.00034721688
B29: 3.3 | C29: 92760 | D29: =VLOOKUP(C29,'SINAPI-COMP'!$B:$E,2,FALSE) -> ARMAÇÃO DE PILAR OU VIGA DE ESTRUTURA CONVENCIONAL DE CONCRETO ARMADO UTILIZANDO AÇO CA-50 DE 6,3 MM - MONTAGEM. AF_06/2022 | E29: =VLOOKUP(C29,'SINAPI-COMP'!$B:$E,3,FALSE) -> KG | F29: =G29*$D$10 -> 805.8 | G29: =VLOOKUP(B29,MECALC!$B:$H,7,0) -> 40.29 | H29: =VLOOKUP(C29,'SINAPI-COMP'!$B:$E,4,FALSE) -> 13.03 | I29: =H29 -> 13.03 | J29: =TRUNC(I29*(1+$K$9),2) -> 15.92 | K29: =TRUNC(J29*F29,2) -> 12828.33 | P29: =K29/K$192 -> 0.0046512877
B30: 3.4 | C30: 94971 | D30: =VLOOKUP(C30,'SINAPI-COMP'!$B:$E,2,FALSE) -> CONCRETO FCK = 25MPA, TRAÇO 1:2,3:2,7 (EM MASSA SECA DE CIMENTO/ AREIA MÉDIA/ BRITA 1) - PREPARO MECÂNICO COM BETONEIRA 600 L. AF_05/2021 | E30: =VLOOKUP(C30,'SINAPI-COMP'!$B:$E,3,FALSE) -> M3 | F30: =G30*$D$10 -> 13.4 | G30: =VLOOKUP(B30,MECALC!$B:$H,7,0) -> 0.67 | H30: =VLOOKUP(C30,'SINAPI-COMP'!$B:$E,4,FALSE) -> 492.23 | I30: =H30 -> 492.23 | J30: =TRUNC(I30*(1+$K$9),2) -> 601.6 | K30: =TRUNC(J30*F30,2) -> 8061.44 | P30: =K30/K$192 -> 0.0029229118
B31: 3.5 | C31: 103670 | D31: =VLOOKUP(C31,'SINAPI-COMP'!$B:$E,2,FALSE) -> LANÇAMENTO COM USO DE BALDES, ADENSAMENTO E ACABAMENTO DE CONCRETO EM ESTRUTURAS. AF_02/2022 | E31: =VLOOKUP(C31,'SINAPI-COMP'!$B:$E,3,FALSE) -> M3 | F31: =G31*$D$10 -> 13.4 | G31: =VLOOKUP(B31,MECALC!$B:$H,7,0) -> 0.67 | H31: =VLOOKUP(C31,'SINAPI-COMP'!$B:$E,4,FALSE) -> 281.31 | I31: =H31 -> 281.31 | J31: =TRUNC(I31*(1+$K$9),2) -> 343.81 | K31: =TRUNC(J31*F31,2) -> 4607.05 | P31: =K31/K$192 -> 0.0016704213
B32: 3.6 | C32: 93382 | D32: =VLOOKUP(C32,'SINAPI-COMP'!$B:$E,2,FALSE) -> REATERRO MANUAL DE VALAS, COM COMPACTADOR DE SOLOS DE PERCUSSÃO. AF_08/2023 | E32: =VLOOKUP(C32,'SINAPI-COMP'!$B:$E,3,FALSE) -> M3 | F32: =G32*$D$10 -> 64.2 | G32: =VLOOKUP(B32,MECALC!$B:$H,7,0) -> 3.21 | H32: =VLOOKUP(C32,'SINAPI-COMP'!$B:$E,4,FALSE) -> 25.29 | I32: =H32 -> 25.29 | J32: =TRUNC(I32*(1+$K$9),2) -> 30.9 | K32: =TRUNC(J32*F32,2) -> 1983.78 | P32: =K32/K$192 -> 0.00071927769
B33: 3.7 | C33: 96537 | D33: =VLOOKUP(C33,'SINAPI-COMP'!$B:$E,2,FALSE) -> FABRICAÇÃO, MONTAGEM E DESMONTAGEM DE FÔRMA PARA BLOCO DE COROAMENTO, EM CHAPA DE MADEIRA COMPENSADA RESINADA, E=17 MM, 2 UTILIZAÇÕES. AF_01/2024 | E33: =VLOOKUP(C33,'SINAPI-COMP'!$B:$E,3,FALSE) -> M2 | F33: =G33*$D$10 -> 208 | G33: =VLOOKUP(B33,MECALC!$B:$H,7,0) -> 10.4 | H33: =VLOOKUP(C33,'SINAPI-COMP'!$B:$E,4,FALSE) -> 173.55 | I33: =H33 -> 173.55 | J33: =TRUNC(I33*(1+$K$9),2) -> 212.11 | K33: =TRUNC(J33*F33,2) -> 44118.88 | P33: =K33/K$192 -> 0.015996595
B34: 3.8 | C34: 101173 | D34: =VLOOKUP(C34,'SINAPI-COMP'!$B:$E,2,FALSE) -> ESTACA BROCA DE CONCRETO, DIÂMETRO DE 20CM, ESCAVAÇÃO MANUAL COM TRADO CONCHA, COM ARMADURA DE ARRANQUE. AF_05/2020 | E34: =VLOOKUP(C34,'SINAPI-COMP'!$B:$E,3,FALSE) -> M | F34: =G34*$D$10 -> 1100 | G34: =VLOOKUP(B34,MECALC!$B:$H,7,0) -> 55 | H34: =VLOOKUP(C34,'SINAPI-COMP'!$B:$E,4,FALSE) -> 58.86 | I34: =H34 -> 58.86 | J34: =TRUNC(I34*(1+$K$9),2) -> 71.93 | K34: =TRUNC(J34*F34,2) -> 79123 | P34: =K34/K$192 -> 0.028688367
B35: 3.9 | C35: 96617 | D35: =VLOOKUP(C35,'SINAPI-COMP'!$B:$E,2,FALSE) -> LASTRO DE CONCRETO MAGRO, APLICADO EM BLOCOS DE COROAMENTO OU SAPATAS, ESPESSURA DE 3 CM. AF_01/2024 | E35: =VLOOKUP(C35,'SINAPI-COMP'!$B:$E,3,FALSE) -> M2 | F35: =G35*$D$10 -> 295.6 | G35: =VLOOKUP(B35,MECALC!$B:$H,7,0) -> 14.78 | H35: =VLOOKUP(C35,'SINAPI-COMP'!$B:$E,4,FALSE) -> 18.84 | I35: =H35 -> 18.84 | J35: =TRUNC(I35*(1+$K$9),2) -> 23.02 | K35: =TRUNC(J35*F35,2) -> 6804.71 | P35: =K35/K$192 -> 0.0024672474
B36: 3.10 | C36: 94971 | D36: =VLOOKUP(C36,'SINAPI-COMP'!$B:$E,2,FALSE) -> CONCRETO FCK = 25MPA, TRAÇO 1:2,3:2,7 (EM MASSA SECA DE CIMENTO/ AREIA MÉDIA/ BRITA 1) - PREPARO MECÂNICO COM BETONEIRA 600 L. AF_05/2021 | E36: =VLOOKUP(C36,'SINAPI-COMP'!$B:$E,3,FALSE) -> M3 | F36: =G36*$D$10 -> 46.6 | G36: =VLOOKUP(B36,MECALC!$B:$H,7,0) -> 2.33 | H36: =VLOOKUP(C36,'SINAPI-COMP'!$B:$E,4,FALSE) -> 492.23 | I36: =H36 -> 492.23 | J36: =TRUNC(I36*(1+$K$9),2) -> 601.6 | K36: =TRUNC(J36*F36,2) -> 28034.56 | P36: =K36/K$192 -> 0.010164753
B37: 3.11 | C37: 103670 | D37: =VLOOKUP(C37,'SINAPI-COMP'!$B:$E,2,FALSE) -> LANÇAMENTO COM USO DE BALDES, ADENSAMENTO E ACABAMENTO DE CONCRETO EM ESTRUTURAS. AF_02/2022 | E37: =VLOOKUP(C37,'SINAPI-COMP'!$B:$E,3,FALSE) -> M3 | F37: =G37*$D$10 -> 58.8 | G37: =VLOOKUP(B37,MECALC!$B:$H,7,0) -> 2.94 | H37: =VLOOKUP(C37,'SINAPI-COMP'!$B:$E,4,FALSE) -> 281.31 | I37: =H37 -> 281.31 | J37: =TRUNC(I37*(1+$K$9),2) -> 343.81 | K37: =TRUNC(J37*F37,2) -> 20216.02 | P37: =K37/K$192 -> 0.0073299117
B38: 3.12 | C38: 98555 | D38: =VLOOKUP(C38,'SINAPI-COMP'!$B:$E,2,FALSE) -> IMPERMEABILIZAÇÃO DE SUPERFÍCIE COM ARGAMASSA POLIMÉRICA / MEMBRANA ACRÍLICA, 3 DEMÃOS. AF_09/2023 | E38: =VLOOKUP(C38,'SINAPI-COMP'!$B:$E,3,FALSE) -> M2 | F38: =G38*$D$10 -> 739 | G38: =VLOOKUP(B38,MECALC!$B:$H,7,0) -> 36.95 | H38: =VLOOKUP(C38,'SINAPI-COMP'!$B:$E,4,FALSE) -> 29.89 | I38: =H38 -> 29.89 | J38: =TRUNC(I38*(1+$K$9),2) -> 36.53 | K38: =TRUNC(J38*F38,2) -> 26995.67 | P38: =K38/K$192 -> 0.0097880729
B39: 3.13 | C39: 92759 | D39: =VLOOKUP(C39,'SINAPI-COMP'!$B:$E,2,FALSE) -> ARMAÇÃO DE PILAR OU VIGA DE ESTRUTURA CONVENCIONAL DE CONCRETO ARMADO UTILIZANDO AÇO CA-60 DE 5,0 MM - MONTAGEM. AF_06/2022 | E39: =VLOOKUP(C39,'SINAPI-COMP'!$B:$E,3,FALSE) -> KG | F39: =G39*$D$10 -> 758.6 | G39: =VLOOKUP(B39,MECALC!$B:$H,7,0) -> 37.93 | H39: =VLOOKUP(C39,'SINAPI-COMP'!$B:$E,4,FALSE) -> 13.74 | I39: =H39 -> 13.74 | J39: =TRUNC(I39*(1+$K$9),2) -> 16.79 | K39: =TRUNC(J39*F39,2) -> 12736.89
B40: 3.14 | C40: 92762 | D40: =VLOOKUP(C40,'SINAPI-COMP'!$B:$E,2,FALSE) -> ARMAÇÃO DE PILAR OU VIGA DE ESTRUTURA CONVENCIONAL DE CONCRETO ARMADO UTILIZANDO AÇO CA-50 DE 10,0 MM - MONTAGEM. AF_06/2022 | E40: =VLOOKUP(C40,'SINAPI-COMP'!$B:$E,3,FALSE) -> KG | F40: =G40*$D$10 -> 2419.6 | G40: =VLOOKUP(B40,MECALC!$B:$H,7,0) -> 120.98 | H40: =VLOOKUP(C40,'SINAPI-COMP'!$B:$E,4,FALSE) -> 10.97 | I40: =H40 -> 10.97 | J40: =TRUNC(I40*(1+$K$9),2) -> 13.4 | K40: =TRUNC(J40*F40,2) -> 32422.64
P41: =K41/K$192 -> 0
B42: 4 | D42: SUPRAESTRUTURA (PILARES, ESPERAS E VIGA DE RESPALDO) | H42: CUSTO TOTAL DO ITEM | K42: =SUM(K43:K51) -> 235620.08
B43: 4.1 | C43: 010601002 | D43: =VLOOKUP(C43,COMPOSIÇÕES!$B:$H,2,0) -> FABRICAÇÃO, MONTAGEM E DESMONTAGEM DE FÔRMA PARA PILARES E VIGAS, EM MADEIRA SERRADA, E=25 MM, 4 UTILIZAÇÕES | E43: =VLOOKUP(C43,COMPOSIÇÕES!$B:$H,3,0) -> M2 | F43: =G43*$D$10 -> 827.6 | G43: =VLOOKUP(B43,MECALC!$B:$H,7,0) -> 41.38 | H43: =VLOOKUP(C43,COMPOSIÇÕES!$B:$H,7,FALSE) -> 92.92 | I43: =H43 -> 92.92 | J43: =TRUNC(I43*(1+$K$9),2) -> 113.56 | K43: =TRUNC(J43*F43,2) -> 93982.25 | P43: =K43/K$192 -> 0.034076024
B44: 4.2 | C44: 92273 | D44: =VLOOKUP(C44,'SINAPI-COMP'!$B:$E,2,FALSE) -> FABRICAÇÃO DE ESCORAS DO TIPO PONTALETE, EM MADEIRA, PARA PÉ-DIREITO SIMPLES. AF_09/2020 | E44: =VLOOKUP(C44,'SINAPI-COMP'!$B:$E,3,FALSE) -> M | F44: =G44*$D$10 -> 192 | G44: =VLOOKUP(B44,MECALC!$B:$H,7,0) -> 9.6 | H44: =VLOOKUP(C44,'SINAPI-COMP'!$B:$E,4,FALSE) -> 13.74 | I44: =H44 -> 13.74 | J44: =TRUNC(I44*(1+$K$9),2) -> 16.79 | K44: =TRUNC(J44*F44,2) -> 3223.68 | P44: =K44/K$192 -> 0.0011688398
B45: 4.3 | C45: 94971 | D45: =VLOOKUP(C45,'SINAPI-COMP'!$B:$E,2,FALSE) -> CONCRETO FCK = 25MPA, TRAÇO 1:2,3:2,7 (EM MASSA SECA DE CIMENTO/ AREIA MÉDIA/ BRITA 1) - PREPARO MECÂNICO COM BETONEIRA 600 L. AF_05/2021 | E45: =VLOOKUP(C45,'SINAPI-COMP'!$B:$E,3,FALSE) -> M3 | F45: =G45*$D$10 -> 47.6 | G45: =VLOOKUP(B45,MECALC!$B:$H,7,0) -> 2.38 | H45: =VLOOKUP(C45,'SINAPI-COMP'!$B:$E,4,FALSE) -> 492.23 | I45: =H45 -> 492.23 | J45: =TRUNC(I45*(1+$K$9),2) -> 601.6 | K45: =TRUNC(J45*F45,2) -> 28636.16 | P45: =K45/K$192 -> 0.010382881
...

Sheet MECALC
C7: Obra: | D7: =RESUMO!C7 -> FHNIS
C8: Local: | D8: =RESUMO!C8 -> MS | F8: Data: | G8: =RESUMO!E8 -> 45965
C9: Área (m²): | D9: =RESUMO!C9 -> 51.53
C10: UH: | D10: =RESUMO!C10 -> 20
B12: MEMÓRIA DE CÁLCULO
B13: ITEM | C13: REFERÊNCIA SINAPI / AGEHAB / AGESUL | D13: DESCRIÇÃO | E13: CÁLCULO PARA 01 UNIDADE HABITACIONAL | F13: UNID. | G13: ="QUANT. P/ "&D10&"UH" -> QUANT. P/ 20UH | H13: QUANT. 1UH
B14: 1 | D14: =VLOOKUP(B14,PLANILHA!$B:$K,3,0) -> SERVIÇOS PRELIMINARES
B15: 1.1 | C15: =VLOOKUP(B15,PLANILHA!$B:$K,2,0) -> 98519 | D15: =VLOOKUP(B15,PLANILHA!$B:$K,3,0) -> REVOLVIMENTO E LIMPEZA MANUAL DE SOLO. AF_07/2024 | E15: Área da Unidade Habitacional = 51,53m² | F15: =VLOOKUP(B15,PLANILHA!$B:$K,4,0) -> M2 | G15: =H15*$D$10 -> 1030.6 | H15: 51.53 | I15: =G15=VLOOKUP(B15,PLANILHA!$B:$K,5,0) -> TRUE
B16: 1.2 | C16: =VLOOKUP(B16,PLANILHA!$B:$K,2,0) -> 010100000 | D16: =VLOOKUP(B16,PLANILHA!$B:$K,3,0) -> LOCAÇÃO CONVENCIONAL DE OBRA ATRAVÉS DE GABARITO DE TÁBUAS CORRIDAS PONTALETADAS, COM REAPROVEITAMENTO DE 3 VEZES | F16: =VLOOKUP(B16,PLANILHA!$B:$K,4,0) -> M2 | G16: =H16*$D$10 -> 1030.6 | H16: 51.53 | I16: =G16=VLOOKUP(B16,PLANILHA!$B:$K,5,0) -> TRUE
B17: 1.3 | C17: =VLOOKUP(B17,PLANILHA!$B:$K,2,0) -> 010100004 | D17: =VLOOKUP(B17,PLANILHA!$B:$K,3,0) -> LOCAÇÃO DE CONTAINER PARA DEPÓSITO DE (2,30 X 6,00M), ALT. 2,50M, SEM DIVISÓRIAS INTERNAS E SEM SANITÁRIO, EXC. TRANSP./CARGA/DESCARGA | E17: Container para depósito, 2,30m x 6,00m x h=2,50m | F17: =VLOOKUP(B17,PLANILHA!$B:$K,4,0) -> MÊS | G17: =H17 -> 18 | H17: 18 | I17: =G17=VLOOKUP(B17,PLANILHA!$B:$K,5,0) -> TRUE | J17: --- Alterar a [QUANT. P/ 1UH] conforme o cronograma
B18: 1.4 | C18: =VLOOKUP(B18,PLANILHA!$B:$K,2,0) -> 103689 | D18: =VLOOKUP(B18,PLANILHA!$B:$K,3,0) -> FORNECIMENTO E INSTALAÇÃO DE PLACA DE OBRA COM CHAPA GALVANIZADA E ESTRUTURA DE MADEIRA. AF_03/2022_PS | E18: Placa de obra 2,00m x 4,00m = 8,00m² | F18: =VLOOKUP(B18,PLANILHA!$B:$K,4,0) -> M2 | G18: =H18 -> 8 | H18: 8 | I18: =G18=VLOOKUP(B18,PLANILHA!$B:$K,5,0) -> TRUE | J18: --- Verificar se for pulverizado, remover o serviço
B19: 1.5 | C19: =VLOOKUP(B19,PLANILHA!$B:$K,2,0) -> 011399003 | D19: =VLOOKUP(B19,PLANILHA!$B:$K,3,0) -> INSTALAÇÃO PROVISÓRIA DE ÁGUA E ESGOTO P/ CANTEIRO DE OBRA | E19: Instalação provisória 1un. | F19: =VLOOKUP(B19,PLANILHA!$B:$K,4,0) -> UN | G19: =H19 -> 1 | H19: 1 | I19: =G19=VLOOKUP(B19,PLANILHA!$B:$K,5,0) -> TRUE
B20: 1.6 | C20: =VLOOKUP(B20,PLANILHA!$B:$K,2,0) -> 011299000 | D20: =VLOOKUP(B20,PLANILHA!$B:$K,3,0) -> INSTALAÇÃO/LIGAÇÃO PROVISÓRIA DE ENERGIA ELÉTRICA DE BAIXA TENSÃO | F20: =VLOOKUP(B20,PLANILHA!$B:$K,4,0) -> UN | G20: =H20 -> 1 | H20: 1 | I20: =G20=VLOOKUP(B20,PLANILHA!$B:$K,5,0) -> TRUE
B22: 2 | D22: =VLOOKUP(B22,PLANILHA!$B:$K,3,0) -> SERVIÇOS EM TERRA
B23: 2.1 | C23: =VLOOKUP(B23,PLANILHA!$B:$K,2,0) -> 401001126 | D23: =VLOOKUP(B23,PLANILHA!$B:$K,3,0) -> ATERRO MANUAL EM CAMADAS DE 20 CM, UMIDECIDAS E FORTEMENTE APILOADAS, COM AQUISICAO DE TERRA | E23: Área da UH * 0,20 cm aterro (51,53*0,20) | F23: =VLOOKUP(B23,PLANILHA!$B:$K,4,0) -> M3 | G23: =H23*$D$10 -> 206.2 | H23: 10.31 | I23: =G23=VLOOKUP(B23,PLANILHA!$B:$K,5,0) -> TRUE
B25: 3 | D25: =VLOOKUP(B25,PLANILHA!$B:$K,3,0) -> FUNDAÇÕES (ESTACA, BLOCOS E VIGA BALDRAME)
B26: 3.1 | C26: =VLOOKUP(B26,PLANILHA!$B:$K,2,0) -> 93358 | D26: =VLOOKUP(B26,PLANILHA!$B:$K,3,0) -> ESCAVAÇÃO MANUAL DE VALA. AF_09/2024 | E26: 13 blocos * 0,4 * 0,4 * 0,4 + 49,26 (baldrame) * 0,20 * 0,35 | F26: =VLOOKUP(B26,PLANILHA!$B:$K,4,0) -> M3 | G26: =H26*$D$10 -> 85.6 | H26: 4.28 | I26: =G26=VLOOKUP(B26,PLANILHA!$B:$K,5,0) -> TRUE
B27: 3.2 | C27: =VLOOKUP(B27,PLANILHA!$B:$K,2,0) -> 96617 | D27: =VLOOKUP(B27,PLANILHA!$B:$K,3,0) -> LASTRO DE CONCRETO MAGRO, APLICADO EM BLOCOS DE COROAMENTO OU SAPATAS, ESPESSURA DE 3 CM. AF_01/2024 | E27: 13 blocos * 0,4 cm * 0,4 | F27: =VLOOKUP(B27,PLANILHA!$B:$K,4,0) -> M2 | G27: =H27*$D$10 -> 41.6 | H27: 2.08 | I27: =G27=VLOOKUP(B27,PLANILHA!$B:$K,5,0) -> TRUE
B28: 3.3 | C28: =VLOOKUP(B28,PLANILHA!$B:$K,2,0) -> 92760 | D28: =VLOOKUP(B28,PLANILHA!$B:$K,3,0) -> ARMAÇÃO DE PILAR OU VIGA DE ESTRUTURA CONVENCIONAL DE CONCRETO ARMADO UTILIZANDO AÇO CA-50 DE 6,3 MM - MONTAGEM. AF_06/2022 | E28: (0,35 * 4 lados * 9 aneis + 0,05 cm) * 13 blocos *0,245 kg/m | F28: =VLOOKUP(B28,PLANILHA!$B:$K,4,0) -> KG | G28: =H28*$D$10 -> 805.8 | H28: 40.29 | I28: =G28=VLOOKUP(B28,PLANILHA!$B:$K,5,0) -> TRUE
B29: 3.4 | C29: =VLOOKUP(B29,PLANILHA!$B:$K,2,0) -> 94971 | D29: =VLOOKUP(B29,PLANILHA!$B:$K,3,0) -> CONCRETO FCK = 25MPA, TRAÇO 1:2,3:2,7 (EM MASSA SECA DE CIMENTO/ AREIA MÉDIA/ BRITA 1) - PREPARO MECÂNICO COM BETONEIRA 600 L. AF_05/2021 | E29: (80% * 0,4 * 0,4 * 0,4) * 13 | F29: =VLOOKUP(B29,PLANILHA!$B:$K,4,0) -> M3 | G29: =H29*$D$10 -> 13.4 | H29: 0.67 | I29: =G29=VLOOKUP(B29,PLANILHA!$B:$K,5,0) -> TRUE
B30: 3.5 | C30: =VLOOKUP(B30,PLANILHA!$B:$K,2,0) -> 103670 | D30: =VLOOKUP(B30,PLANILHA!$B:$K,3,0) -> LANÇAMENTO COM USO DE BALDES, ADENSAMENTO E ACABAMENTO DE CONCRETO EM ESTRUTURAS. AF_02/2022 | E30: Lançamento conforme o concreto = 0,6144m³ | F30: =VLOOKUP(B30,PLANILHA!$B:$K,4,0) -> M3 | G30: =H30*$D$10 -> 13.4 | H30: =H29 -> 0.67 | I30: =G30=VLOOKUP(B30,PLANILHA!$B:$K,5,0) -> TRUE
B31: 3.6 | C31: =VLOOKUP(B31,PLANILHA!$B:$K,2,0) -> 93382 | D31: =VLOOKUP(B31,PLANILHA!$B:$K,3,0) -> REATERRO MANUAL DE VALAS, COM COMPACTADOR DE SOLOS DE PERCUSSÃO. AF_08/2023 | E31: 75% da escavação | F31: =VLOOKUP(B31,PLANILHA!$B:$K,4,0) -> M3 | G31: =H31*$D$10 -> 64.2 | H31: =0.75*H26 -> 3.21 | I31: =G31=VLOOKUP(B31,PLANILHA!$B:$K,5,0) -> TRUE
B32: 3.7 | C32: =VLOOKUP(B32,PLANILHA!$B:$K,2,0) -> 96537 | D32: =VLOOKUP(B32,PLANILHA!$B:$K,3,0) -> FABRICAÇÃO, MONTAGEM E DESMONTAGEM DE FÔRMA PARA BLOCO DE COROAMENTO, EM CHAPA DE MADEIRA COMPENSADA RESINADA, E=17 MM, 2 UTILIZAÇÕES. AF_01/2024 | E32: 0,4*4*13 / 2 usos = 9,6 | F32: =VLOOKUP(B32,PLANILHA!$B:$K,4,0) -> M2 | G32: =H32*$D$10 -> 208 | H32: 10.4 | I32: =G32=VLOOKUP(B32,PLANILHA!$B:$K,5,0) -> TRUE
B33: 3.8 | C33: =VLOOKUP(B33,PLANILHA!$B:$K,2,0) -> 101173 | D33: =VLOOKUP(B33,PLANILHA!$B:$K,3,0) -> ESTACA BROCA DE CONCRETO, DIÂMETRO DE 20CM, ESCAVAÇÃO MANUAL COM TRADO CONCHA, COM ARMADURA DE ARRANQUE. AF_05/2020 | E33: 13 * 4 metros + 1 * 3 metros | F33: =VLOOKUP(B33,PLANILHA!$B:$K,4,0) -> M | G33: =H33*$D$10 -> 1100 | H33: 55 | I33: =G33=VLOOKUP(B33,PLANILHA!$B:$K,5,0) -> TRUE
B34: 3.9 | C34: =VLOOKUP(B34,PLANILHA!$B:$K,2,0) -> 96617 | D34: =VLOOKUP(B34,PLANILHA!$B:$K,3,0) -> LASTRO DE CONCRETO MAGRO, APLICADO EM BLOCOS DE COROAMENTO OU SAPATAS, ESPESSURA DE 3 CM. AF_01/2024 | E34: Baldrame: 49,26 * 0,3 | F34: =VLOOKUP(B34,PLANILHA!$B:$K,4,0) -> M2 | G34: =H34*$D$10 -> 295.6 | H34: 14.78 | I34: =G34=VLOOKUP(B34,PLANILHA!$B:$K,5,0) -> TRUE
B35: 3.10 | C35: =VLOOKUP(B35,PLANILHA!$B:$K,2,0) -> 94971 | D35: =VLOOKUP(B35,PLANILHA!$B:$K,3,0) -> CONCRETO FCK = 25MPA, TRAÇO 1:2,3:2,7 (EM MASSA SECA DE CIMENTO/ AREIA MÉDIA/ BRITA 1) - PREPARO MECÂNICO COM BETONEIRA 600 L. AF_05/2021 | E35: Baldrame: 0,15*0,3*49,26 + 5% | F35: =VLOOKUP(B35,PLANILHA!$B:$K,4,0) -> M3 | G35: =H35*$D$10 -> 46.6 | H35: 2.33 | I35: =G35=VLOOKUP(B35,PLANILHA!$B:$K,5,0) -> TRUE
B36: 3.11 | C36: =VLOOKUP(B36,PLANILHA!$B:$K,2,0) -> 103670 | D36: =VLOOKUP(B36,PLANILHA!$B:$K,3,0) -> LANÇAMENTO COM USO DE BALDES, ADENSAMENTO E ACABAMENTO DE CONCRETO EM ESTRUTURAS. AF_02/2022 | E36: Lançamento conforme o concreto = 2,94m³ | F36: =VLOOKUP(B36,PLANILHA!$B:$K,4,0) -> M3 | G36: =H36*$D$10 -> 58.8 | H36: 2.94 | I36: =G36=VLOOKUP(B36,PLANILHA!$B:$K,5,0) -> TRUE
B37: 3.12 | C37: =VLOOKUP(B37,PLANILHA!$B:$K,2,0) -> 98555 | D37: =VLOOKUP(B37,PLANILHA!$B:$K,3,0) -> IMPERMEABILIZAÇÃO DE SUPERFÍCIE COM ARGAMASSA POLIMÉRICA / MEMBRANA ACRÍLICA, 3 DEMÃOS. AF_09/2023 | E37: Área superior da viga baldrame (49,26*0,15) + Área área lateral da viga baldrame (2*49,26*0,3) | F37: =VLOOKUP(B37,PLANILHA!$B:$K,4,0) -> M2 | G37: =H37*$D$10 -> 739 | H37: 36.95 | I37: =G37=VLOOKUP(B37,PLANILHA!$B:$K,5,0) -> TRUE
B38: 3.13 | C38: =VLOOKUP(B38,PLANILHA!$B:$K,2,0) -> 92759 | D38: =VLOOKUP(B38,PLANILHA!$B:$K,3,0) -> ARMAÇÃO DE PILAR OU VIGA DE ESTRUTURA CONVENCIONAL DE CONCRETO ARMADO UTILIZANDO AÇO CA-60 DE 5,0 MM - MONTAGEM. AF_06/2022 | E38: 49,26 m de baldrame/0,20 (espaçam. Entre estribos)*0,154 kg/m (peso linear) | F38: =VLOOKUP(B38,PLANILHA!$B:$K,4,0) -> KG | G38: =H38*$D$10 -> 758.6 | H38: 37.93 | I38: =G38=VLOOKUP(B38,PLANILHA!$B:$K,5,0) -> TRUE
B39: 3.14 | C39: =VLOOKUP(B39,PLANILHA!$B:$K,2,0) -> 92762 | D39: =VLOOKUP(B39,PLANILHA!$B:$K,3,0) -> ARMAÇÃO DE PILAR OU VIGA DE ESTRUTURA CONVENCIONAL DE CONCRETO ARMADO UTILIZANDO AÇO CA-50 DE 10,0 MM - MONTAGEM. AF_06/2022 | E39: 49,26 m de baldrame * 4 barras 10mm * 0,614 kg/m (peso linear) | F39: =VLOOKUP(B39,PLANILHA!$B:$K,4,0) -> KG | G39: =H39*$D$10 -> 2419.6 | H39: 120.98 | I39: =G39=VLOOKUP(B39,PLANILHA!$B:$K,5,0) -> TRUE
B41: 4 | D41: =VLOOKUP(B41,PLANILHA!$B:$K,3,0) -> SUPRAESTRUTURA (PILARES, ESPERAS E VIGA DE RESPALDO)
B42: 4.1 | C42: =VLOOKUP(B42,PLANILHA!$B:$K,2,0) -> 010601002 | D42: =VLOOKUP(B42,PLANILHA!$B:$K,3,0) -> FABRICAÇÃO, MONTAGEM E DESMONTAGEM DE FÔRMA PARA PILARES E VIGAS, EM MADEIRA SERRADA, E=25 MM, 4 UTILIZAÇÕES | E42: Área de forma: Pilares = ((0,50m x 2,40m x 11und)+(0,80m x 2,90m x 2und)) + Vigas = (94,16m x 0,25m) | F42: =VLOOKUP(B42,PLANILHA!$B:$K,4,0) -> M2 | G42: =H42*$D$10 -> 827.6 | H42: 41.38 | I42: =G42=VLOOKUP(B42,PLANILHA!$B:$K,5,0) -> TRUE
B43: 4.2 | C43: =VLOOKUP(B43,PLANILHA!$B:$K,2,0) -> 92273 | D43: =VLOOKUP(B43,PLANILHA!$B:$K,3,0) -> FABRICAÇÃO DE ESCORAS DO TIPO PONTALETE, EM MADEIRA, PARA PÉ-DIREITO SIMPLES. AF_09/2020 | E43: Escoramento para Viga de Respaldo, indicado no projeto estrutural = 2,40m x 4und = 9,60m | F43: =VLOOKUP(B43,PLANILHA!$B:$K,4,0) -> M | G43: =H43*$D$10 -> 192 | H43: 9.6 | I43: =G43=VLOOKUP(B43,PLANILHA!$B:$K,5,0) -> TRUE
B44: 4.3 | C44: =VLOOKUP(B44,PLANILHA!$B:$K,2,0) -> 94971 | D44: =VLOOKUP(B44,PLANILHA!$B:$K,3,0) -> CONCRETO FCK = 25MPA, TRAÇO 1:2,3:2,7 (EM MASSA SECA DE CIMENTO/ AREIA MÉDIA/ BRITA 1) - PREPARO MECÂNICO COM BETONEIRA 600 L. AF_05/2021 | E44: Concreto para pilares e viga de respaldo: Pilares ((0,12m x 0,3m x 2,40m x 11und) + (0,20m x 0,20m x 2,90m x 2und) + Vigas = (48,58*0,1*0,2) + 10% | F44: =VLOOKUP(B44,PLANILHA!$B:$K,4,0) -> M3 | G44: =H44*$D$10 -> 47.6 | H44: 2.38 | I44: =G44=VLOOKUP(B44,PLANILHA!$B:$K,5,0) -> TRUE
B45: 4.4 | C45: =VLOOKUP(B45,PLANILHA!$B:$K,2,0) -> 103670 | D45: =VLOOKUP(B45,PLANILHA!$B:$K,3,0) -> LANÇAMENTO COM USO DE BALDES, ADENSAMENTO E ACABAMENTO DE CONCRETO EM ESTRUTURAS. AF_02/2022 | E45: Lançamento conforme o concreto = 2,38m³ | F45: =VLOOKUP(B45,PLANILHA!$B:$K,4,0) -> M3 | G45: =H45*$D$10 -> 47.6 | H45: 2.38 | I45: =G45=VLOOKUP(B45,PLANILHA!$B:$K,5,0) -> TRUE
B46: 4.5 | C46: =VLOOKUP(B46,PLANILHA!$B:$K,2,0) -> 92759 | D46: =VLOOKUP(B46,PLANILHA!$B:$K,3,0) -> ARMAÇÃO DE PILAR OU VIGA DE ESTRUTURA CONVENCIONAL DE CONCRETO ARMADO UTILIZANDO AÇO CA-60 DE 5,0 MM - MONTAGEM. AF_06/2022 | E46: Quantidade conforme projeto estrutural em kg | F46: =VLOOKUP(B46,PLANILHA!$B:$K,4,0) -> KG | G46: =H46*$D$10 -> 1112 | H46: 55.6 | I46: =G46=VLOOKUP(B46,PLANILHA!$B:$K,5,0) -> TRUE
B47: 4.6 | C47: =VLOOKUP(B47,PLANILHA!$B:$K,2,0) -> 92761 | D47: =VLOOKUP(B47,PLANILHA!$B:$K,3,0) -> ARMAÇÃO DE PILAR OU VIGA DE ESTRUTURA CONVENCIONAL DE CONCRETO ARMADO UTILIZANDO AÇO CA-50 DE 8,0 MM - MONTAGEM. AF_06/2022 | F47: =VLOOKUP(B47,PLANILHA!$B:$K,4,0) -> KG | G47: =H47*$D$10 -> 1756 | H47: 87.8 | I47: =G47=VLOOKUP(B47,PLANILHA!$B:$K,5,0) -> TRUE
B48: 4.7 | C48: =VLOOKUP(B48,PLANILHA!$B:$K,2,0) -> 92762 | D48: =VLOOKUP(B48,PLANILHA!$B:$K,3,0) -> ARMAÇÃO DE PILAR OU VIGA DE ESTRUTURA CONVENCIONAL DE CONCRETO ARMADO UTILIZANDO AÇO CA-50 DE 10,0 MM - MONTAGEM. AF_06/2022 | F48: =VLOOKUP(B48,PLANILHA!$B:$K,4,0) -> KG | G48: =H48*$D$10 -> 1957 | H48: 97.85
B49: 4.8 | C49: =VLOOKUP(B49,PLANILHA!$B:$K,2,0) -> 010603002 | D49: =VLOOKUP(B49,PLANILHA!$B:$K,3,0) -> VERGA E CONTRAVERGA EM CONCRETO COM TRELIÇA DE 12CM | E49: Quantidade conforme projeto estrutural em metro | F49: =VLOOKUP(B49,PLANILHA!$B:$K,4,0) -> M | G49: =H49*$D$10 -> 502 | H49: 25.1 | I49: =G49=VLOOKUP(B49,PLANILHA!$B:$K,5,0) -> TRUE
B51: 5 | D51: =VLOOKUP(B51,PLANILHA!$B:$K,3,0) -> ALVENARIA DE ELEVAÇÃO
...

Sheet COMPOSIÇÕES
B7: Obra: | C7: =RESUMO!C7 -> FHNIS | G7: Data Base: | H7: =RESUMO!E7 -> Jul./2025 - Não Des.
B8: Local: | C8: =RESUMO!C8 -> MS | G8: Data: | H8: =RESUMO!E8 -> 45965
B9: Área (m²): | C9: =RESUMO!C9 -> 51.53
B11: COMPOSIÇÕES | J11: VERIFICAÇÃO COMPOSIÇÕES
B12: REFERÊNCIA SINAPI / AGEHAB / AGESUL | C12: DESCRIÇÃO | D12: UNID. | E12: COEFICIENTE | F12: ="CUSTO UNITÁRIO SEM BDI - "&H7 -> CUSTO UNITÁRIO SEM BDI - Jul./2025 - Não Des. | G12: CUSTO UNITÁRIO | H12: TOTAL | J12: =H13+H21+H24+H40+H47+H53+H62+H66+H72+H83+H90+H102+H108+H114+H118+H122+H126+H145+H152+H159+H165+H173+H188+H199+H205+H213+H221+H236+H249+H256+H263+H96 -> 121679.45 | K12: =SUM(H13:H264)/2 -> 121679.45 | L12: =J12=K12 -> TRUE
B13: 010100000 | C13: LOCAÇÃO CONVENCIONAL DE OBRA ATRAVÉS DE GABARITO DE TÁBUAS CORRIDAS PONTALETADAS, COM REAPROVEITAMENTO DE 3 VEZES | D13: M2 | H13: =SUM(H14:H19) -> 6.91
B14: 43132 | C14: =VLOOKUP(B14,'SINAPI-INS'!$B:$F,2,FALSE) -> ARAME RECOZIDO 16 BWG, D = 1,65 MM (0,016 KG/M) OU 18 BWG, D = 1,25 MM (0,01 KG/M) | D14: =VLOOKUP(B14,'SINAPI-INS'!$B:$F,3,FALSE) -> KG | E14: 0.02 | F14: =VLOOKUP(B14,'SINAPI-INS'!$B:$F,5,FALSE) -> 19.78 | G14: =IF(F14=0,VLOOKUP(B14,'SINAPI-INS'!$B:$G,6,FALSE),F14) -> 19.78 | H14: =TRUNC(E14*G14,2) -> 0.39
B15: 4491 | C15: =VLOOKUP(B15,'SINAPI-INS'!$B:$F,2,FALSE) -> PONTALETE *7,5 X 7,5* CM EM PINUS, MISTA OU EQUIVALENTE DA REGIAO - BRUTA | D15: =VLOOKUP(B15,'SINAPI-INS'!$B:$F,3,FALSE) -> M | E15: 0.12 | F15: =VLOOKUP(B15,'SINAPI-INS'!$B:$F,5,FALSE) -> 7.23 | G15: =IF(F15=0,VLOOKUP(B15,'SINAPI-INS'!$B:$G,6,FALSE),F15) -> 7.23 | H15: =TRUNC(E15*G15,2) -> 0.86
B16: 5061 | C16: =VLOOKUP(B16,'SINAPI-INS'!$B:$F,2,FALSE) -> PREGO DE ACO POLIDO COM CABECA 18 X 27 (2 1/2 X 10) | D16: =VLOOKUP(B16,'SINAPI-INS'!$B:$F,3,FALSE) -> KG | E16: 0.01 | F16: =VLOOKUP(B16,'SINAPI-INS'!$B:$F,5,FALSE) -> 19.9 | G16: =IF(F16=0,VLOOKUP(B16,'SINAPI-INS'!$B:$G,6,FALSE),F16) -> 19.9 | H16: =TRUNC(E16*G16,2) -> 0.19
B17: 10567 | C17: =VLOOKUP(B17,'SINAPI-INS'!$B:$F,2,FALSE) -> TABUA *2,5 X 23* CM EM PINUS, MISTA OU EQUIVALENTE DA REGIAO - BRUTA | D17: =VLOOKUP(B17,'SINAPI-INS'!$B:$F,3,FALSE) -> M | E17: 0.1067 | F17: =VLOOKUP(B17,'SINAPI-INS'!$B:$F,5,FALSE) -> 8.18 | G17: =IF(F17=0,VLOOKUP(B17,'SINAPI-INS'!$B:$G,6,FALSE),F17) -> 8.18 | H17: =TRUNC(E17*G17,2) -> 0.87
B18: 88262 | C18: =VLOOKUP(B18,'SINAPI-COMP'!$B:$G,2,FALSE) -> CARPINTEIRO DE FORMAS COM ENCARGOS COMPLEMENTARES | D18: =VLOOKUP(B18,'SINAPI-COMP'!$B:$G,3,FALSE) -> H | E18: 0.1 | F18: =VLOOKUP(B18,'SINAPI-COMP'!$B:$G,4,FALSE) -> 25.37 | G18: =F18 -> 25.37 | H18: =TRUNC(E18*G18,2) -> 2.53
B19: 88316 | C19: =VLOOKUP(B19,'SINAPI-COMP'!$B:$G,2,FALSE) -> SERVENTE COM ENCARGOS COMPLEMENTARES | D19: =VLOOKUP(B19,'SINAPI-COMP'!$B:$G,3,FALSE) -> H | E19: 0.1 | F19: =VLOOKUP(B19,'SINAPI-COMP'!$B:$G,4,FALSE) -> 20.79 | G19: =F19 -> 20.79 | H19: =TRUNC(E19*G19,2) -> 2.07
B21: 010100004 | C21: LOCAÇÃO DE CONTAINER PARA DEPÓSITO DE (2,30 X 6,00M), ALT. 2,50M, SEM DIVISÓRIAS INTERNAS E SEM SANITÁRIO, EXC. TRANSP./CARGA/DESCARGA | D21: MÊS | H21: =SUM(H22) -> 662.1
B22: 10776 | C22: =VLOOKUP(B22,'SINAPI-INS'!$B:$F,2,FALSE) -> LOCACAO DE CONTAINER 2,30 X 6,00 M, ALT. 2,50 M, PARA ESCRITORIO, SEM DIVISORIAS INTERNAS E SEM SANITARIO (NAO INCLUI MOBILIZACAO/DESMOBILIZACAO) | D22: =VLOOKUP(B22,'SINAPI-INS'!$B:$F,3,FALSE) -> MES | E22: 1 | F22: =VLOOKUP(B22,'SINAPI-INS'!$B:$F,5,FALSE) -> 0 | G22: =IF(F22=0,VLOOKUP(B22,'SINAPI-INS'!$B:$G,6,FALSE),F22) -> 662.1 | H22: =TRUNC(E22*G22,2) -> 662.1
B24: 011399003 | C24: INSTALAÇÃO PROVISÓRIA DE ÁGUA E ESGOTO P/ CANTEIRO DE OBRA | D24: UN | H24: =SUM(H25:H38) -> 1459.43
B25: 370 | C25: =VLOOKUP(B25,'SINAPI-INS'!$B:$F,2,FALSE) -> AREIA MEDIA - POSTO JAZIDA/FORNECEDOR (RETIRADO NA JAZIDA, SEM TRANSPORTE) | D25: =VLOOKUP(B25,'SINAPI-INS'!$B:$F,3,FALSE) -> M3 | E25: 0.0189 | F25: =VLOOKUP(B25,'SINAPI-INS'!$B:$F,5,FALSE) -> 87 | G25: =IF(F25=0,VLOOKUP(B25,'SINAPI-INS'!$B:$G,6,FALSE),F25) -> 87 | H25: =TRUNC(E25*G25,2) -> 1.64
B26: 10420 | C26: =VLOOKUP(B26,'SINAPI-INS'!$B:$F,2,FALSE) -> BACIA SANITARIA (VASO) CONVENCIONAL, DE LOUCA BRANCA, SIFAO APARENTE, SAIDA VERTICAL (SEM ASSENTO) | D26: =VLOOKUP(B26,'SINAPI-INS'!$B:$F,3,FALSE) -> UN | E26: 0.0232 | F26: =VLOOKUP(B26,'SINAPI-INS'!$B:$F,5,FALSE) -> 218 | G26: =IF(F26=0,VLOOKUP(B26,'SINAPI-INS'!$B:$G,6,FALSE),F26) -> 218 | H26: =TRUNC(E26*G26,2) -> 5.05
B27: 34637 | C27: =VLOOKUP(B27,'SINAPI-INS'!$B:$F,2,FALSE) -> CAIXA D'AGUA / RESERVATORIO EM POLIETILENO, 500 LITROS, COM TAMPA | D27: =VLOOKUP(B27,'SINAPI-INS'!$B:$F,3,FALSE) -> UN | E27: 0.0232 | F27: =VLOOKUP(B27,'SINAPI-INS'!$B:$F,5,FALSE) -> 280.66 | G27: =IF(F27=0,VLOOKUP(B27,'SINAPI-INS'!$B:$G,6,FALSE),F27) -> 280.66 | H27: =TRUNC(E27*G27,2) -> 6.51
B28: 1030 | C28: =VLOOKUP(B28,'SINAPI-INS'!$B:$F,2,FALSE) -> CAIXA DE DESCARGA PLASTICA PARA BACIA / VASO SANITARIO, EXTERNA, CAPACIDADE 9 LITROS, PUXADOR FIO DE NYLON, NAO INCLUSO CANO, BOLSA, ENGATE | D28: =VLOOKUP(B28,'SINAPI-INS'!$B:$F,3,FALSE) -> UN | E28: 0.0232 | F28: =VLOOKUP(B28,'SINAPI-INS'!$B:$F,5,FALSE) -> 48.57 | G28: =IF(F28=0,VLOOKUP(B28,'SINAPI-INS'!$B:$G,6,FALSE),F28) -> 48.57 | H28: =TRUNC(E28*G28,2) -> 1.12
B29: 14439 | C29: =VLOOKUP(B29,'SINAPI-INS'!$B:$F,2,FALSE) -> PONTALETE ROLICO SEM TRATAMENTO, D = 8 A 11 CM, H = 6 M, EM EUCALIPTO OU EQUIVALENTE DA REGIAO - BRUTA (PARA ESCORAMENTO) | D29: =VLOOKUP(B29,'SINAPI-INS'!$B:$F,3,FALSE) -> M | E29: 25 | F29: =VLOOKUP(B29,'SINAPI-INS'!$B:$F,5,FALSE) -> 7.15 | G29: =IF(F29=0,VLOOKUP(B29,'SINAPI-INS'!$B:$G,6,FALSE),F29) -> 7.15 | H29: =TRUNC(E29*G29,2) -> 178.75
B30: 20247 | C30: =VLOOKUP(B30,'SINAPI-INS'!$B:$F,2,FALSE) -> PREGO DE ACO POLIDO COM CABECA 15 X 15 (1 1/4 X 13) | D30: =VLOOKUP(B30,'SINAPI-INS'!$B:$F,3,FALSE) -> KG | E30: 1 | F30: =VLOOKUP(B30,'SINAPI-INS'!$B:$F,5,FALSE) -> 22.41 | G30: =IF(F30=0,VLOOKUP(B30,'SINAPI-INS'!$B:$G,6,FALSE),F30) -> 22.41 | H30: =TRUNC(E30*G30,2) -> 22.41
B31: 6189 | C31: =VLOOKUP(B31,'SINAPI-INS'!$B:$F,2,FALSE) -> TABUA NAO APARELHADA *2,5 X 30* CM, EM MACARANDUBA/MASSARANDUBA, ANGELIM OU EQUIVALENTE DA REGIAO - BRUTA | D31: =VLOOKUP(B31,'SINAPI-INS'!$B:$F,3,FALSE) -> M | E31: 8 | F31: =VLOOKUP(B31,'SINAPI-INS'!$B:$F,5,FALSE) -> 28.25 | G31: =IF(F31=0,VLOOKUP(B31,'SINAPI-INS'!$B:$G,6,FALSE),F31) -> 28.25 | H31: =TRUNC(E31*G31,2) -> 226
B32: 7258 | C32: =VLOOKUP(B32,'SINAPI-INS'!$B:$F,2,FALSE) -> TIJOLO CERAMICO MACICO COMUM DE *5 X 10 X 20* CM (L X A X C) | D32: =VLOOKUP(B32,'SINAPI-INS'!$B:$F,3,FALSE) -> UN | E32: 30 | F32: =VLOOKUP(B32,'SINAPI-INS'!$B:$F,5,FALSE) -> 0.65 | G32: =IF(F32=0,VLOOKUP(B32,'SINAPI-INS'!$B:$G,6,FALSE),F32) -> 0.65 | H32: =TRUNC(E32*G32,2) -> 19.5
B33: 9836 | C33: =VLOOKUP(B33,'SINAPI-INS'!$B:$F,2,FALSE) -> TUBO PVC SERIE NORMAL, DN 100 MM, PARA ESGOTO PREDIAL (NBR 5688) | D33: =VLOOKUP(B33,'SINAPI-INS'!$B:$F,3,FALSE) -> M | E33: 5 | F33: =VLOOKUP(B33,'SINAPI-INS'!$B:$F,5,FALSE) -> 15.58 | G33: =IF(F33=0,VLOOKUP(B33,'SINAPI-INS'!$B:$G,6,FALSE),F33) -> 15.58 | H33: =TRUNC(E33*G33,2) -> 77.9
B34: 9868 | C34: =VLOOKUP(B34,'SINAPI-INS'!$B:$F,2,FALSE) -> TUBO PVC, SOLDAVEL, DE 25 MM, AGUA FRIA (NBR-5648) | D34: =VLOOKUP(B34,'SINAPI-INS'!$B:$F,3,FALSE) -> M | E34: 30 | F34: =VLOOKUP(B34,'SINAPI-INS'!$B:$F,5,FALSE) -> 4.57 | G34: =IF(F34=0,VLOOKUP(B34,'SINAPI-INS'!$B:$G,6,FALSE),F34) -> 4.57 | H34: =TRUNC(E34*G34,2) -> 137.1
B35: 88262 | C35: =VLOOKUP(B35,'SINAPI-COMP'!$B:$G,2,FALSE) -> CARPINTEIRO DE FORMAS COM ENCARGOS COMPLEMENTARES | D35: =VLOOKUP(B35,'SINAPI-COMP'!$B:$G,3,FALSE) -> H | E35: 8 | F35: =VLOOKUP(B35,'SINAPI-COMP'!$B:$G,4,FALSE) -> 25.37 | G35: =F35 -> 25.37 | H35: =TRUNC(E35*G35,2) -> 202.96
B36: 88267 | C36: =VLOOKUP(B36,'SINAPI-COMP'!$B:$G,2,FALSE) -> ENCANADOR OU BOMBEIRO HIDRÁULICO COM ENCARGOS COMPLEMENTARES | D36: =VLOOKUP(B36,'SINAPI-COMP'!$B:$G,3,FALSE) -> H | E36: 8 | F36: =VLOOKUP(B36,'SINAPI-COMP'!$B:$G,4,FALSE) -> 25.71 | G36: =F36 -> 25.71 | H36: =TRUNC(E36*G36,2) -> 205.68
B37: 88309 | C37: =VLOOKUP(B37,'SINAPI-COMP'!$B:$G,2,FALSE) -> PEDREIRO COM ENCARGOS COMPLEMENTARES | D37: =VLOOKUP(B37,'SINAPI-COMP'!$B:$G,3,FALSE) -> H | E37: 8 | F37: =VLOOKUP(B37,'SINAPI-COMP'!$B:$G,4,FALSE) -> 25.75 | G37: =F37 -> 25.75 | H37: =TRUNC(E37*G37,2) -> 206
B38: 88316 | C38: =VLOOKUP(B38,'SINAPI-COMP'!$B:$G,2,FALSE) -> SERVENTE COM ENCARGOS COMPLEMENTARES | D38: =VLOOKUP(B38,'SINAPI-COMP'!$B:$G,3,FALSE) -> H | E38: 8.12 | F38: =VLOOKUP(B38,'SINAPI-COMP'!$B:$G,4,FALSE) -> 20.79 | G38: =F38 -> 20.79 | H38: =TRUNC(E38*G38,2) -> 168.81
B40: 011299000 | C40: INSTALAÇÃO/LIGAÇÃO PROVISÓRIA DE ENERGIA ELÉTRICA DE BAIXA TENSÃO | D40: UN | H40: =SUM(H41:H45) -> 1198.4
B41: 1008 | C41: =VLOOKUP(B41,'SINAPI-INS'!$B:$F,2,FALSE) -> CABO DE COBRE, RIGIDO, CLASSE 2, ISOLACAO EM PVC/A, ANTICHAMA BWF-B, 1 CONDUTOR, 450/750 V, SECAO NOMINAL 6 MM2 | D41: =VLOOKUP(B41,'SINAPI-INS'!$B:$F,3,FALSE) -> M | E41: 27 | F41: =VLOOKUP(B41,'SINAPI-INS'!$B:$F,5,FALSE) -> 6.2 | G41: =IF(F41=0,VLOOKUP(B41,'SINAPI-INS'!$B:$G,6,FALSE),F41) -> 6.2 | H41: =TRUNC(E41*G41,2) -> 167.4
B42: 1062 | C42: =VLOOKUP(B42,'SINAPI-INS'!$B:$F,2,FALSE) -> CAIXA INTERNA/EXTERNA DE MEDICAO PARA 1 MEDIDOR TRIFASICO, COM VISOR, EM CHAPA DE ACO 18 USG (PADRAO DA CONCESSIONARIA LOCAL) | D42: =VLOOKUP(B42,'SINAPI-INS'!$B:$F,3,FALSE) -> UN | E42: 1 | F42: =VLOOKUP(B42,'SINAPI-INS'!$B:$F,5,FALSE) -> 0 | G42: =IF(F42=0,VLOOKUP(B42,'SINAPI-INS'!$B:$G,6,FALSE),F42) -> 223.26 | H42: =TRUNC(E42*G42,2) -> 223.26
B43: 7701 | C43: =VLOOKUP(B43,'SINAPI-INS'!$B:$F,2,FALSE) -> TUBO ACO GALVANIZADO COM COSTURA, CLASSE MEDIA, DN 2.1/2", E = *3,65* MM, PESO *6,51* KG/M (NBR 5580) | D43: =VLOOKUP(B43,'SINAPI-INS'!$B:$F,3,FALSE) -> M | E43: 6 | F43: =VLOOKUP(B43,'SINAPI-INS'!$B:$F,5,FALSE) -> 0 | G43: =IF(F43=0,VLOOKUP(B43,'SINAPI-INS'!$B:$G,6,FALSE),F43) -> 92.24 | H43: =TRUNC(E43*G43,2) -> 553.44
B44: 88264 | C44: =VLOOKUP(B44,'SINAPI-COMP'!$B:$G,2,FALSE) -> ELETRICISTA COM ENCARGOS COMPLEMENTARES | D44: =VLOOKUP(B44,'SINAPI-COMP'!$B:$G,3,FALSE) -> H | E44: 7.5 | F44: =VLOOKUP(B44,'SINAPI-COMP'!$B:$G,4,FALSE) -> 29.75 | G44: =F44 -> 29.75 | H44: =TRUNC(E44*G44,2) -> 223.12
B45: 88316 | C45: =VLOOKUP(B45,'SINAPI-COMP'!$B:$G,2,FALSE) -> SERVENTE COM ENCARGOS COMPLEMENTARES | D45: =VLOOKUP(B45,'SINAPI-COMP'!$B:$G,3,FALSE) -> H | E45: 1.5 | F45: =VLOOKUP(B45,'SINAPI-COMP'!$B:$G,4,FALSE) -> 20.79 | G45: =F45 -> 20.79 | H45: =TRUNC(E45*G45,2) -> 31.18
B47: 010603000 | C47: CANALETA CONCRETO 14X19X39 (ESPESSURA DE 14CM) E ARGAMASSA DE ASSENTAMENTO COM PREPARO EM BETONEIRA | D47: M2 | H47: =SUM(H48:H51) -> 103.19
B48: 38597 | C48: =VLOOKUP(B48,'SINAPI-INS'!$B:$F,2,FALSE) -> CANALETA DE CONCRETO ESTRUTURAL 14 X 19 X 39 CM, FBK 4,5 MPA (NBR 6136) | D48: =VLOOKUP(B48,'SINAPI-INS'!$B:$F,3,FALSE) -> UN | E48: 13.66 | F48: =VLOOKUP(B48,'SINAPI-INS'!$B:$F,5,FALSE) -> 5.71 | G48: =F48 -> 5.71 | H48: =TRUNC(E48*G48,2) -> 77.99
B49: 87292 | C49: =VLOOKUP(B49,'SINAPI-COMP'!$B:$G,2,FALSE) -> ARGAMASSA TRAÇO 1:2:8 (EM VOLUME DE CIMENTO, CAL E AREIA MÉDIA ÚMIDA) PARA EMBOÇO/MASSA ÚNICA/ASSENTAMENTO DE ALVENARIA DE VEDAÇÃO, PREPARO MECÂNICO COM BETONEIRA 400 L. AF_08/2019 | D49: =VLOOKUP(B49,'SINAPI-COMP'!$B:$G,3,FALSE) -> M3 | E49: 0.0104 | F49: =VLOOKUP(B49,'SINAPI-COMP'!$B:$G,4,FALSE) -> 585.83 | G49: =F49 -> 585.83 | H49: =TRUNC(E49*G49,2) -> 6.09
B50: 88309 | C50: =VLOOKUP(B50,'SINAPI-COMP'!$B:$G,2,FALSE) -> PEDREIRO COM ENCARGOS COMPLEMENTARES | D50: =VLOOKUP(B50,'SINAPI-COMP'!$B:$G,3,FALSE) -> H | E50: 0.46 | F50: =VLOOKUP(B50,'SINAPI-COMP'!$B:$G,4,FALSE) -> 25.75 | G50: =F50 -> 25.75 | H50: =TRUNC(E50*G50,2) -> 11.84
B51: 88316 | C51: =VLOOKUP(B51,'SINAPI-COMP'!$B:$G,2,FALSE) -> SERVENTE COM ENCARGOS COMPLEMENTARES | D51: =VLOOKUP(B51,'SINAPI-COMP'!$B:$G,3,FALSE) -> H | E51: 0.35 | F51: =VLOOKUP(B51,'SINAPI-COMP'!$B:$G,4,FALSE) -> 20.79 | G51: =F51 -> 20.79 | H51: =TRUNC(E51*G51,2) -> 7.27
...

Sheet COTAÇÕES
B7: Obra: | C7: =RESUMO!C7 -> FHNIS
B8: Local: | C8: =RESUMO!C8 -> MS | F8: Data: | G8: =RESUMO!E8 -> 45965
B9: Área (m²): | C9: =RESUMO!C9 -> 51.53
B11: COTAÇÕES
B12: REFERÊNCIA | C12: DESCRIÇÃO | D12: UNID. | E12: EMPRESA 1 | F12: EMPRESA 2 | G12: EMPRESA 3 | H12: MEDIANA
B13: 021102000 | C13: JANELA DE AÇO DE CORRER, 100X120CM. VENEZIANA, SEM VIDROS | D13: UN | E13: ALVORADA | F13: LEROY | G13: SERTÃO | H13: =MEDIAN(E14:G14) -> 542.74
E14: 542.74 | F14: 447.94 | G14: 699
B15: 021301000 | C15: CAIXA HIDRÔMETRO SANESUL | D15: UN | E15: MAMACONSTRU | F15: SANTRI | G15: WANDERSON | H15: =MEDIAN(E16:G16) -> 165.75
E16: 156 | F16: 231 | G16: 165.75
B17: 021304000 | C17: VÁLVULA DE RETENÇÃO PARA ESGOTO - D=100MM | D17: UN | E17: ALVORADA | F17: LEROY | G17: SERTÃO | H17: =MEDIAN(E18:G18) -> 117.9
E18: 120.25 | F18: 117.9 | G18: 92

Sheet CRONOGRAMA (18M)
B7: Obra: | C7: =RESUMO!C7 -> FHNIS | G7: Data Base: | H7: =RESUMO!E7 -> Jul./2025 - Não Des.
B8: Local: | C8: =RESUMO!C8 -> MS | G8: Data: | H8: =RESUMO!E8 -> 45965
B9: Área (m²): | C9: =RESUMO!C9 -> 51.53 | G9: BDI: | H9: =RESUMO!E9 -> 0.2222
B11: CRONOGRAMA FÍSICO FINANCEIRO
B13: ITEM | C13: DESCRIÇÃO | D13: VALOR DO SERVIÇO | E13: % | F13: PERÍODO 120 DIAS | J13: PERÍODO 120 DIAS | N13: PERÍODO 120 DIAS | R13: PERÍODO 120 DIAS | V13: PERÍODO 60 DIAS | W13: PERÍODO 120 DIAS
F14: 30 DIAS | G14: 60 DIAS | H14: 90 DIAS | I14: 120 DIAS | J14: 150 DIAS | K14: 180 DIAS | L14: 210 DIAS | M14: 240 DIAS | N14: 270 DIAS | O14: 300 DIAS | P14: 330 DIAS | Q14: 360 DIAS | R14: 390 DIAS | S14: 420 DIAS | T14: 450 DIAS | U14: 480 DIAS | V14: 510 DIAS | W14: 540 DIAS
B15: 1 | C15: =VLOOKUP(B15,PLANILHA!$B:$L,3,0) -> SERVIÇOS PRELIMINARES | D15: =VLOOKUP(B15,PLANILHA!$B:$L,10,0) -> 35497.56 | E15: =D15/$D$53 -> 0.012870683 | F15: 0.2 | J15: 0.25 | N15: 0.25 | R15: 0.25 | V15: 0.05
F16: =TRUNC($D$15*F15,2) -> 7099.51 | G16: =TRUNC($D$15*G15,2) -> 0 | H16: =TRUNC($D$15*H15,2) -> 0 | I16: =TRUNC($D$15*I15,2) -> 0 | J16: =TRUNC($D$15*J15,2) -> 8874.39 | K16: =TRUNC($D$15*K15,2) -> 0 | L16: =TRUNC($D$15*L15,2) -> 0 | M16: =TRUNC($D$15*M15,2) -> 0 | ... U16: =TRUNC($D$15*U15,2) -> 0 | V16: =TRUNC($D$15*V15,2)+0.01 -> 1774.88 | W16: =TRUNC($D$15*W15,2) -> 0 | X16: =SUM(F16:W16) -> 35497.56 | Y16: =X16=D15 -> TRUE | Z16: =D15-X16 -> 0
B17: 2 | C17: =VLOOKUP(B17,PLANILHA!$B:$L,3,0) -> SERVIÇOS EM TERRA | D17: =VLOOKUP(B17,PLANILHA!$B:$L,10,0) -> 32109.46 | E17: =D17/$D$53 -> 0.011642228 | F17: 1 | Z17: =D16-X17 -> 0
F18: =TRUNC($D$17*F17,2) -> 32109.46 | G18: =TRUNC($D$17*G17,2) -> 0 | H18: =TRUNC($D$17*H17,2) -> 0 | I18: =TRUNC($D$17*I17,2) -> 0 | J18: =TRUNC($D$17*J17,2) -> 0 | K18: =TRUNC($D$17*K17,2) -> 0 | L18: =TRUNC($D$17*L17,2) -> 0 | M18: =TRUNC($D$17*M17,2) -> 0 | ... W18: =TRUNC($D$17*W17,2) -> 0 | X18: =SUM(F18:W18) -> 32109.46 | Y18: =X18=D17 -> TRUE | Z18: =D17-X18 -> 0
B19: 3 | C19: =VLOOKUP(B19,PLANILHA!$B:$L,3,0) -> FUNDAÇÕES (ESTACA, BLOCOS E VIGA BALDRAME) | D19: =VLOOKUP(B19,PLANILHA!$B:$L,10,0) -> 287494.25 | E19: =D19/$D$53 -> 0.10423948 | F19: 0.2 | J19: 0.2 | N19: 0.2 | R19: 0.25 | T19: 0.1 | V19: 0.05 | Z19: =D18-X19 -> 0
F20: =TRUNC($D$19*F19,2) -> 57498.85 | G20: =TRUNC($D$19*G19,2) -> 0 | H20: =TRUNC($D$19*H19,2) -> 0 | I20: =TRUNC($D$19*I19,2) -> 0 | J20: =TRUNC($D$19*J19,2) -> 57498.85 | K20: =TRUNC($D$19*K19,2) -> 0 | L20: =TRUNC($D$19*L19,2) -> 0 | M20: =TRUNC($D$19*M19,2) -> 0 | ... U20: =TRUNC($D$19*U19,2) -> 0 | V20: =TRUNC($D$19*V19,2)+0.04 -> 14374.75 | W20: =TRUNC($D$19*W19,2) -> 0 | X20: =SUM(F20:W20) -> 287494.28 | Y20: =X20=D19 -> FALSE | Z20: =D19-X20 -> -0.03
B21: 4 | C21: =VLOOKUP(B21,PLANILHA!$B:$L,3,0) -> SUPRAESTRUTURA (PILARES, ESPERAS E VIGA DE RESPALDO) | D21: =VLOOKUP(B21,PLANILHA!$B:$L,10,0) -> 235620.08 | E21: =D21/$D$53 -> 0.085430979 | F21: 0.07 | G21: 0.07 | H21: 0.07 | J21: 0.07 | K21: 0.08 | L21: 0.08 | N21: 0.07 | O21: 0.08 | P21: 0.08 | R21: 0.07 | S21: 0.08 | T21: 0.08 | V21: 0.05 | W21: 0.05 | Z21: =D20-X21 -> 0
F22: =TRUNC($D$21*F21,2)+0.02 -> 16493.42 | G22: =TRUNC($D$21*G21,2) -> 16493.4 | H22: =TRUNC($D$21*H21,2) -> 16493.4 | I22: =TRUNC($D$21*I21,2) -> 0 | J22: =TRUNC($D$21*J21,2) -> 16493.4 | K22: =TRUNC($D$21*K21,2) -> 18849.6 | L22: =TRUNC($D$21*L21,2) -> 18849.6 | M22: =TRUNC($D$21*M21,2) -> 0 | N22: =TRUNC($D$21*N21,2) -> 16493.4 | ... U22: =TRUNC($D$21*U21,2) -> 0 | V22: =TRUNC($D$21*V21,2)+0.06 -> 11781.06 | W22: =TRUNC($D$21*W21,2)+0.03 -> 11781.03 | X22: =SUM(F22:W22) -> 235620.11 | Y22: =X22=D21 -> FALSE | Z22: =D21-X22 -> -0.03
B23: 5 | C23: =VLOOKUP(B23,PLANILHA!$B:$L,3,0) -> ALVENARIA DE ELEVAÇÃO | D23: =VLOOKUP(B23,PLANILHA!$B:$L,10,0) -> 260081.39 | E23: =D23/$D$53 -> 0.094300145 | F23: 0.16 | G23: 0.03 | H23: 0.03 | J23: 0.16 | K23: 0.03 | L23: 0.03 | N23: 0.16 | O23: 0.03 | P23: 0.03 | R23: 0.16 | S23: 0.05 | T23: 0.05 | V23: 0.04 | W23: 0.04 | Z23: =D22-X23 -> 0
F24: =TRUNC($D$23*F23,2)+0.01 -> 41613.03 | G24: =TRUNC($D$23*G23,2) -> 7802.44 | H24: =TRUNC($D$23*H23,2) -> 7802.44 | I24: =TRUNC($D$23*I23,2) -> 0 | J24: =TRUNC($D$23*J23,2) -> 41613.02 | K24: =TRUNC($D$23*K23,2) -> 7802.44 | L24: =TRUNC($D$23*L23,2) -> 7802.44 | M24: =TRUNC($D$23*M23,2) -> 0 | N24: =TRUNC($D$23*N23,2) -> 41613.02 | ... V24: =TRUNC($D$23*V23,2) -> 10403.25 | W24: =TRUNC($D$23*W23,2)+0.04 -> 10403.29 | X24: =SUM(F24:W24) -> 260081.39 | Y24: =X24=D23 -> TRUE | Z24: =D23-X24 -> 0
B25: 6 | C25: =VLOOKUP(B25,PLANILHA!$B:$L,3,0) -> ESTRUTURA DE COBERTURA - MADEIRA | D25: =VLOOKUP(B25,PLANILHA!$B:$L,10,0) -> 253831.97 | E25: =D25/$D$53 -> 0.092034234 | F25: 0.16 | G25: 0.03 | H25: 0.03 | J25: 0.16 | K25: 0.03 | L25: 0.03 | N25: 0.16 | O25: 0.03 | P25: 0.03 | R25: 0.16 | S25: 0.05 | T25: 0.05 | V25: 0.04 | W25: 0.04 | Z25: =D24-X25 -> 0
F26: =TRUNC($D$25*F25,2)+0.01 -> 40613.12 | G26: =TRUNC($D$25*G25,2) -> 7614.95 | H26: =TRUNC($D$25*H25,2) -> 7614.95 | I26: =TRUNC($D$25*I25,2) -> 0 | J26: =TRUNC($D$25*J25,2) -> 40613.11 | K26: =TRUNC($D$25*K25,2) -> 7614.95 | L26: =TRUNC($D$25*L25,2) -> 7614.95 | M26: =TRUNC($D$25*M25,2) -> 0 | N26: =TRUNC($D$25*N25,2) -> 40613.11 | ... V26: =TRUNC($D$25*V25,2) -> 10153.27 | W26: =TRUNC($D$25*W25,2)+0.1 -> 10153.37 | X26: =SUM(F26:W26) -> 253831.97 | Y26: =X26=D25 -> TRUE | Z26: =D25-X26 -> 0
B27: 7 | C27: =VLOOKUP(B27,PLANILHA!$B:$L,3,0) -> COBERTURA | D27: =VLOOKUP(B27,PLANILHA!$B:$L,10,0) -> 99750.36 | E27: =D27/$D$53 -> 0.036167422 | G27: 0.1 | H27: 0.1 | K27: 0.1 | L27: 0.1 | O27: 0.1 | P27: 0.15 | S27: 0.15 | T27: 0.1 | V27: 0.05 | W27: 0.05 | Z27: =D26-X27 -> 0
F28: =TRUNC($D$27*F27,2) -> 0 | G28: =TRUNC($D$27*G27,2)+0.01 -> 9975.04 | H28: =TRUNC($D$27*H27,2) -> 9975.03 | I28: =TRUNC($D$27*I27,2) -> 0 | J28: =TRUNC($D$27*J27,2) -> 0 | K28: =TRUNC($D$27*K27,2) -> 9975.03 | L28: =TRUNC($D$27*L27,2) -> 9975.03 | M28: =TRUNC($D$27*M27,2) -> 0 | N28: =TRUNC($D$27*N27,2) -> 0 | O28: =TRUNC($D$27*O27,2) -> 9975.03 | ... V28: =TRUNC($D$27*V27,2) -> 4987.51 | W28: =TRUNC($D$27*W27,2)+0.05 -> 4987.56 | X28: =SUM(F28:W28) -> 99750.36 | Y28: =X28=D27 -> TRUE | Z28: =D27-X28 -> 0
B29: 8 | C29: =VLOOKUP(B29,PLANILHA!$B:$L,3,0) -> ESQUADRIAS | D29: =VLOOKUP(B29,PLANILHA!$B:$L,10,0) -> 203979.27 | E29: =D29/$D$53 -> 0.073958674 | G29: 0.07 | H29: 0.1 | I29: 0.03 | K29: 0.07 | L29: 0.1 | M29: 0.03 | O29: 0.07 | P29: 0.1 | Q29: 0.08 | S29: 0.07 | T29: 0.1 | U29: 0.08 | V29: 0.05 | W29: 0.05 | Z29: =D28-X29 -> 0
F30: =TRUNC($D$29*F29,2) -> 0 | G30: =TRUNC($D$29*G29,2)+0.01 -> 14278.55 | H30: =TRUNC($D$29*H29,2) -> 20397.92 | I30: =TRUNC($D$29*I29,2) -> 6119.37 | J30: =TRUNC($D$29*J29,2) -> 0 | K30: =TRUNC($D$29*K29,2) -> 14278.54 | L30: =TRUNC($D$29*L29,2) -> 20397.92 | M30: =TRUNC($D$29*M29,2) -> 6119.37 | N30: =TRUNC($D$29*N29,2) -> 0 | O30: =TRUNC($D$29*O29,2) -> 14278.54 | ... V30: =TRUNC($D$29*V29,2) -> 10198.96 | W30: =TRUNC($D$29*W29,2)+0.08 -> 10199.04 | X30: =SUM(F30:W30) -> 203979.27 | Y30: =X30=D29 -> TRUE | Z30: =D29-X30 -> 0
B31: 9 | C31: =VLOOKUP(B31,PLANILHA!$B:$L,3,0) -> REVESTIMENTOS | D31: =VLOOKUP(B31,PLANILHA!$B:$L,10,0) -> 297713.94 | E31: =D31/$D$53 -> 0.10794493 | G31: 0.08 | H31: 0.1 | I31: 0.02 | K31: 0.08 | L31: 0.1 | M31: 0.03 | O31: 0.08 | P31: 0.1 | Q31: 0.03 | S31: 0.1 | T31: 0.1 | U31: 0.1 | V31: 0.05 | W31: 0.03 | Z31: =D30-X31 -> 0
F32: =TRUNC($D$31*F31,2) -> 0 | G32: =TRUNC($D$31*G31,2)+0.01 -> 23817.12 | H32: =TRUNC($D$31*H31,2) -> 29771.39 | I32: =TRUNC($D$31*I31,2) -> 5954.27 | J32: =TRUNC($D$31*J31,2) -> 0 | K32: =TRUNC($D$31*K31,2) -> 23817.11 | L32: =TRUNC($D$31*L31,2) -> 29771.39 | M32: =TRUNC($D$31*M31,2) -> 8931.41 | N32: =TRUNC($D$31*N31,2) -> 0 | O32: =TRUNC($D$31*O31,2) -> 23817.11 | ... V32: =TRUNC($D$31*V31,2) -> 14885.69 | W32: =TRUNC($D$31*W31,2)+0.07 -> 8931.48 | X32: =SUM(F32:W32) -> 297713.94 | Y32: =X32=D31 -> TRUE | Z32: =D31-X32 -> 0
B33: 10 | C33: =VLOOKUP(B33,PLANILHA!$B:$L,3,0) -> PINTURA | D33: =VLOOKUP(B33,PLANILHA!$B:$L,10,0) -> 104047.35 | E33: =D33/$D$53 -> 0.037725422 | I33: 0.2 | M33: 0.2 | Q33: 0.2 | U33: 0.2 | V33: 0.1 | W33: 0.1 | Z33: =D32-X33 -> 0
F34: =TRUNC($D$33*F33,2) -> 0 | G34: =TRUNC($D$33*G33,2) -> 0 | H34: =TRUNC($D$33*H33,2) -> 0 | I34: =TRUNC($D$33*I33,2) -> 20809.47 | J34: =TRUNC($D$33*J33,2) -> 0 | K34: =TRUNC($D$33*K33,2) -> 0 | L34: =TRUNC($D$33*L33,2) -> 0 | M34: =TRUNC($D$33*M33,2) -> 20809.47 | ... V34: =TRUNC($D$33*V33,2) -> 10404.73 | W34: =TRUNC($D$33*W33,2)+0.01 -> 10404.74 | X34: =SUM(F34:W34) -> 104047.35 | Y34: =X34=D33 -> TRUE | Z34: =D33-X34 -> 0
B35: 11 | C35: =VLOOKUP(B35,PLANILHA!$B:$L,3,0) -> FORRO | D35: =VLOOKUP(B35,PLANILHA!$B:$L,10,0) -> 112168.05 | E35: =D35/$D$53 -> 0.04066982 | H35: 0.13 | I35: 0.08 | L35: 0.13 | M35: 0.08 | P35: 0.13 | Q35: 0.08 | T35: 0.14 | U35: 0.09 | V35: 0.08 | W35: 0.06 | Z35: =D34-X35 -> 0
F36: =TRUNC($D$35*F35,2) -> 0 | G36: =TRUNC($D$35*G35,2) -> 0 | H36: =TRUNC($D$35*H35,2)+0.01 -> 14581.85 | I36: =TRUNC($D$35*I35,2) -> 8973.44 | J36: =TRUNC($D$35*J35,2) -> 0 | K36: =TRUNC($D$35*K35,2) -> 0 | L36: =TRUNC($D$35*L35,2) -> 14581.84 | M36: =TRUNC($D$35*M35,2) -> 8973.44 | N36: =TRUNC($D$35*N35,2) -> 0 | O36: =TRUNC($D$35*O35,2) -> 0 | P36: =TRUNC($D$35*P35,2) -> 14581.84 | ... V36: =TRUNC($D$35*V35,2) -> 8973.44 | W36: =TRUNC($D$35*W35,2)+0.04 -> 6730.12 | X36: =SUM(F36:W36) -> 112168.05 | Y36: =X36=D35 -> TRUE | Z36: =D35-X36 -> 0
B37: 12 | C37: =VLOOKUP(B37,PLANILHA!$B:$L,3,0) -> VIDROS | D37: =VLOOKUP(B37,PLANILHA!$B:$L,10,0) -> 20278.27 | E37: =D37/$D$53 -> 0.0073524822 | H37: 0.16 | I37: 0.04 | L37: 0.16 | M37: 0.04 | P37: 0.16 | Q37: 0.04 | T37: 0.16 | U37: 0.04 | V37: 0.1 | W37: 0.1 | Z37: =D36-X37 -> 0
F38: =TRUNC($D$37*F37,2) -> 0 | G38: =TRUNC($D$37*G37,2) -> 0 | H38: =TRUNC($D$37*H37,2)+0.01 -> 3244.53 | I38: =TRUNC($D$37*I37,2) -> 811.13 | J38: =TRUNC($D$37*J37,2) -> 0 | K38: =TRUNC($D$37*K37,2) -> 0 | L38: =TRUNC($D$37*L37,2) -> 3244.52 | M38: =TRUNC($D$37*M37,2) -> 811.13 | N38: =TRUNC($D$37*N37,2) -> 0 | O38: =TRUNC($D$37*O37,2) -> 0 | P38: =TRUNC($D$37*P37,2) -> 3244.52 | ... V38: =TRUNC($D$37*V37,2) -> 2027.82 | W38: =TRUNC($D$37*W37,2)-0.06 -> 2027.76 | X38: =SUM(F38:W38)+0.08 -> 20278.27 | Y38: =X38=D37 -> TRUE | Z38: =D37-X38 -> 0
B39: 13 | C39: =VLOOKUP(B39,PLANILHA!$B:$L,3,0) -> PAVIMENTAÇÃO | D39: =VLOOKUP(B39,PLANILHA!$B:$L,10,0) -> 149830 | E39: =D39/$D$53 -> 0.054325266 | H39: 0.16 | I39: 0.06 | L39: 0.16 | M39: 0.06 | P39: 0.16 | Q39: 0.06 | T39: 0.16 | U39: 0.06 | V39: 0.06 | W39: 0.06 | Z39: =D38-X39 -> 0
F40: =TRUNC($D$39*F39,2) -> 0 | G40: =TRUNC($D$39*G39,2) -> 0 | H40: =TRUNC($D$39*H39,2)+0.01 -> 23972.81 | I40: =TRUNC($D$39*I39,2) -> 8989.8 | J40: =TRUNC($D$39*J39,2) -> 0 | K40: =TRUNC($D$39*K39,2) -> 0 | L40: =TRUNC($D$39*L39,2) -> 23972.8 | M40: =TRUNC($D$39*M39,2) -> 8989.8 | N40: =TRUNC($D$39*N39,2) -> 0 | O40: =TRUNC($D$39*O39,2) -> 0 | P40: =TRUNC($D$39*P39,2) -> 23972.8 | ... V40: =TRUNC($D$39*V39,2) -> 8989.8 | W40: =TRUNC($D$39*W39,2)-0.01 -> 8989.79 | X40: =SUM(F40:W40) -> 149830 | Y40: =X40=D39 -> TRUE | Z40: =D39-X40 -> 0
B41: 14 | C41: =VLOOKUP(B41,PLANILHA!$B:$L,3,0) -> INSTALAÇÃO ELÉTRICA | D41: =VLOOKUP(B41,PLANILHA!$B:$L,10,0) -> 218808.4 | E41: =D41/$D$53 -> 0.079335411 | G41: 0.07 | H41: 0.07 | I41: 0.1 | K41: 0.07 | L41: 0.07 | M41: 0.1 | O41: 0.06 | P41: 0.06 | Q41: 0.1 | S41: 0.06 | T41: 0.06 | U41: 0.1 | V41: 0.04 | W41: 0.04 | Z41: =D40-X41 -> 0
F42: =TRUNC($D$41*F41,2) -> 0 | G42: =TRUNC($D$41*G41,2) -> 15316.58 | H42: =TRUNC($D$41*H41,2) -> 15316.58 | I42: =TRUNC($D$41*I41,2) -> 21880.84 | J42: =TRUNC($D$41*J41,2) -> 0 | K42: =TRUNC($D$41*K41,2) -> 15316.58 | L42: =TRUNC($D$41*L41,2) -> 15316.58 | M42: =TRUNC($D$41*M41,2) -> 21880.84 | ... V42: =TRUNC($D$41*V41,2) -> 8752.33 | W42: =TRUNC($D$41*W41,2)+0.06 -> 8752.39 | X42: =SUM(F42:W42) -> 218808.4 | Y42: =X42=D41 -> TRUE | Z42: =D41-X42 -> 0
B43: 15 | C43: =VLOOKUP(B43,PLANILHA!$B:$L,3,0) -> INSTALAÇÃO HIDRÁULICA | D43: =VLOOKUP(B43,PLANILHA!$B:$L,10,0) -> 54237.2 | E43: =D43/$D$53 -> 0.01966529 | G43: 0.07 | H43: 0.09 | I43: 0.04 | K43: 0.07 | L43: 0.09 | M43: 0.04 | O43: 0.07 | P43: 0.09 | Q43: 0.04 | S43: 0.07 | T43: 0.09 | U43: 0.04 | V43: 0.1 | W43: 0.1 | Z43: =D42-X43 -> 0
F44: =TRUNC($D$43*F43,2) -> 0 | G44: =TRUNC($D$43*G43,2)+0.02 -> 3796.62 | H44: =TRUNC($D$43*H43,2) -> 4881.34 | I44: =TRUNC($D$43*I43,2) -> 2169.48 | J44: =TRUNC($D$43*J43,2) -> 0 | K44: =TRUNC($D$43*K43,2) -> 3796.6 | L44: =TRUNC($D$43*L43,2) -> 4881.34 | M44: =TRUNC($D$43*M43,2) -> 2169.48 | N44: =TRUNC($D$43*N43,2) -> 0 | O44: =TRUNC($D$43*O43,2) -> 3796.6 | ... V44: =TRUNC($D$43*V43,2) -> 5423.72 | W44: =TRUNC($D$43*W43,2)+0.06 -> 5423.78 | X44: =SUM(F44:W44) -> 54237.2 | Y44: =X44=D43 -> TRUE | Z44: =D43-X44 -> 0
B45: 16 | C45: =VLOOKUP(B45,PLANILHA!$B:$L,3,0) -> INSTALAÇÃO SANITÁRIA | D45: =VLOOKUP(B45,PLANILHA!$B:$L,10,0) -> 166635.82 | E45: =D45/$D$53 -> 0.06041871 | G45: 0.07 | H45: 0.1 | I45: 0.03 | K45: 0.07 | L45: 0.1 | M45: 0.03 | O45: 0.07 | P45: 0.1 | Q45: 0.03 | S45: 0.07 | T45: 0.1 | U45: 0.03 | V45: 0.1 | W45: 0.1 | Z45: =D44-X45 -> 0
F46: =TRUNC($D$45*F45,2) -> 0 | G46: =TRUNC($D$45*G45,2)+0.01 -> 11664.51 | H46: =TRUNC($D$45*H45,2) -> 16663.58 | I46: =TRUNC($D$45*I45,2) -> 4999.07 | J46: =TRUNC($D$45*J45,2) -> 0 | K46: =TRUNC($D$45*K45,2) -> 11664.5 | L46: =TRUNC($D$45*L45,2) -> 16663.58 | M46: =TRUNC($D$45*M45,2) -> 4999.07 | N46: =TRUNC($D$45*N45,2) -> 0 | O46: =TRUNC($D$45*O45,2) -> 11664.5 | ... V46: =TRUNC($D$45*V45,2) -> 16663.58 | W46: =TRUNC($D$45*W45,2)+0.05 -> 16663.63 | X46: =SUM(F46:W46) -> 166635.82 | Y46: =X46=D45 -> TRUE | Z46: =D45-X46 -> 0
B47: 17 | C47: =VLOOKUP(B47,PLANILHA!$B:$L,3,0) -> EQUIPAMENTOS HIDROSSANITÁRIOS | D47: =VLOOKUP(B47,PLANILHA!$B:$L,10,0) -> 59400.18 | E47: =D47/$D$53 -> 0.02153728 | G47: 0.07 | H47: 0.07 | I47: 0.06 | K47: 0.07 | L47: 0.07 | M47: 0.06 | O47: 0.07 | P47: 0.07 | Q47: 0.06 | S47: 0.07 | T47: 0.07 | U47: 0.06 | V47: 0.1 | W47: 0.1 | Z47: =D46-X47 -> 0
F48: =TRUNC($D$47*F47,2) -> 0 | G48: =TRUNC($D$47*G47,2)+0.01 -> 4158.02 | H48: =TRUNC($D$47*H47,2) -> 4158.01 | I48: =TRUNC($D$47*I47,2) -> 3564.01 | J48: =TRUNC($D$47*J47,2) -> 0 | K48: =TRUNC($D$47*K47,2) -> 4158.01 | L48: =TRUNC($D$47*L47,2) -> 4158.01 | M48: =TRUNC($D$47*M47,2) -> 3564.01 | N48: =TRUNC($D$47*N47,2) -> 0 | O48: =TRUNC($D$47*O47,2) -> 4158.01 | ... V48: =TRUNC($D$47*V47,2) -> 5940.01 | W48: =TRUNC($D$47*W47,2)+0.03 -> 5940.04 | X48: =SUM(F48:W48) -> 59400.18 | Y48: =X48=D47 -> TRUE | Z48: =D47-X48 -> 0
...

Sheet CRONOGRAMA (6M)
B7: Obra: | C7: =RESUMO!C7 -> FHNIS | I7: Data Base: | J7: =RESUMO!E7 -> Jul./2025 - Não Des.
B8: Local: | C8: =RESUMO!C8 -> MS | I8: Data: | J8: =RESUMO!E8 -> 45965
B9: Área (m²): | C9: =RESUMO!C9 -> 51.53 | I9: BDI: | J9: =RESUMO!E9 -> 0.2222
B11: CRONOGRAMA FÍSICO FINANCEIRO
B13: ITEM | C13: DESCRIÇÃO | D13: VALOR DO SERVIÇO | E13: % | F13: PERÍODO 180 DIAS
F14: 30 DIAS | G14: 60 DIAS | H14: 90 DIAS | I14: 120 DIAS | J14: 150 DIAS | K14: 180 DIAS
B15: 1 | C15: =VLOOKUP(B15,PLANILHA!$B:$L,3,0) -> SERVIÇOS PRELIMINARES | D15: =VLOOKUP(B15,PLANILHA!$B:$L,10,0) -> 35497.56 | E15: =D15/$D$53 -> 0.012870683 | F15: 0.4 | G15: 0.1 | H15: 0.15 | I15: 0.15 | J15: 0.1 | K15: 0.1
F16: =TRUNC($D$15*F15,2) -> 14199.02 | G16: =TRUNC($D$15*G15,2) -> 3549.75 | H16: =TRUNC($D$15*H15,2) -> 5324.63 | I16: =TRUNC($D$15*I15,2) -> 5324.63 | J16: =TRUNC($D$15*J15,2) -> 3549.75 | K16: =TRUNC($D$15*K15,2) -> 3549.75 | L16: =SUM(F16:K16) -> 35497.53 | M16: =L16=D15 -> FALSE
B17: 2 | C17: =VLOOKUP(B17,PLANILHA!$B:$L,3,0) -> SERVIÇOS EM TERRA | D17: =VLOOKUP(B17,PLANILHA!$B:$L,10,0) -> 32109.46 | E17: =D17/$D$53 -> 0.011642228 | F17: 0.6 | G17: 0.4
F18: =TRUNC($D$17*F17,2) -> 19265.67 | G18: =TRUNC($D$17*G17,2) -> 12843.78 | H18: =TRUNC($D$17*H17,2) -> 0 | I18: =TRUNC($D$17*I17,2) -> 0 | J18: =TRUNC($D$17*J17,2) -> 0 | K18: =TRUNC($D$17*K17,2) -> 0 | L18: =SUM(F18:K18) -> 32109.45 | M18: =L18=D17 -> FALSE
B19: 3 | C19: =VLOOKUP(B19,PLANILHA!$B:$L,3,0) -> FUNDAÇÕES (ESTACA, BLOCOS E VIGA BALDRAME) | D19: =VLOOKUP(B19,PLANILHA!$B:$L,10,0) -> 287494.25 | E19: =D19/$D$53 -> 0.10423948 | F19: 0.4 | G19: 0.4 | H19: 0.2
F20: =TRUNC($D$19*F19,2) -> 114997.7 | G20: =TRUNC($D$19*G19,2) -> 114997.7 | H20: =TRUNC($D$19*H19,2) -> 57498.85 | I20: =TRUNC($D$19*I19,2) -> 0 | J20: =TRUNC($D$19*J19,2) -> 0 | K20: =TRUNC($D$19*K19,2) -> 0 | L20: =SUM(F20:K20) -> 287494.25 | M20: =L20=D19 -> TRUE
B21: 4 | C21: =VLOOKUP(B21,PLANILHA!$B:$L,3,0) -> SUPRAESTRUTURA (PILARES, ESPERAS E VIGA DE RESPALDO) | D21: =VLOOKUP(B21,PLANILHA!$B:$L,10,0) -> 235620.08 | E21: =D21/$D$53 -> 0.085430979 | F21: 0.2 | G21: 0.2 | H21: 0.4 | I21: 0.2
F22: =TRUNC($D$21*F21,2) -> 47124.01 | G22: =TRUNC($D$21*G21,2) -> 47124.01 | H22: =TRUNC($D$21*H21,2) -> 94248.03 | I22: =TRUNC($D$21*I21,2) -> 47124.01 | J22: =TRUNC($D$21*J21,2) -> 0 | K22: =TRUNC($D$21*K21,2) -> 0 | L22: =SUM(F22:K22) -> 235620.06 | M22: =L22=D21 -> FALSE
B23: 5 | C23: =VLOOKUP(B23,PLANILHA!$B:$L,3,0) -> ALVENARIA DE ELEVAÇÃO | D23: =VLOOKUP(B23,PLANILHA!$B:$L,10,0) -> 260081.39 | E23: =D23/$D$53 -> 0.094300145 | G23: 0.4 | H23: 0.4 | I23: 0.2
F24: =TRUNC($D$23*F23,2) -> 0 | G24: =TRUNC($D$23*G23,2) -> 104032.55 | H24: =TRUNC($D$23*H23,2) -> 104032.55 | I24: =TRUNC($D$23*I23,2) -> 52016.27 | J24: =TRUNC($D$23*J23,2) -> 0 | K24: =TRUNC($D$23*K23,2) -> 0 | L24: =SUM(F24:K24) -> 260081.37 | M24: =L24=D23 -> FALSE
B25: 6 | C25: =VLOOKUP(B25,PLANILHA!$B:$L,3,0) -> ESTRUTURA DE COBERTURA - MADEIRA | D25: =VLOOKUP(B25,PLANILHA!$B:$L,10,0) -> 253831.97 | E25: =D25/$D$53 -> 0.092034234 | H25: 0.2 | I25: 0.4 | J25: 0.4
F26: =TRUNC($D$25*F25,2) -> 0 | G26: =TRUNC($D$25*G25,2) -> 0 | H26: =TRUNC($D$25*H25,2) -> 50766.39 | I26: =TRUNC($D$25*I25,2) -> 101532.78 | J26: =TRUNC($D$25*J25,2) -> 101532.78 | K26: =TRUNC($D$25*K25,2) -> 0 | L26: =SUM(F26:K26) -> 253831.95 | M26: =L26=D25 -> FALSE
B27: 7 | C27: =VLOOKUP(B27,PLANILHA!$B:$L,3,0) -> COBERTURA | D27: =VLOOKUP(B27,PLANILHA!$B:$L,10,0) -> 99750.36 | E27: =D27/$D$53 -> 0.036167422 | G27: 0.1 | H27: 0.1 | I27: 0.4 | J27: 0.4
F28: =TRUNC($D$27*F27,2) -> 0 | G28: =TRUNC($D$27*G27,2) -> 9975.03 | H28: =TRUNC($D$27*H27,2) -> 9975.03 | I28: =TRUNC($D$27*I27,2) -> 39900.14 | J28: =TRUNC($D$27*J27,2) -> 39900.14 | K28: =TRUNC($D$27*K27,2) -> 0 | L28: =SUM(F28:K28) -> 99750.34 | M28: =L28=D27 -> FALSE
B29: 8 | C29: =VLOOKUP(B29,PLANILHA!$B:$L,3,0) -> ESQUADRIAS | D29: =VLOOKUP(B29,PLANILHA!$B:$L,10,0) -> 203979.27 | E29: =D29/$D$53 -> 0.073958674 | G29: 0.1 | H29: 0.2 | I29: 0.3 | J29: 0.3 | K29: 0.1
F30: =TRUNC($D$29*F29,2) -> 0 | G30: =TRUNC($D$29*G29,2) -> 20397.92 | H30: =TRUNC($D$29*H29,2) -> 40795.85 | I30: =TRUNC($D$29*I29,2) -> 61193.78 | J30: =TRUNC($D$29*J29,2) -> 61193.78 | K30: =TRUNC($D$29*K29,2) -> 20397.92 | L30: =SUM(F30:K30) -> 203979.25 | M30: =L30=D29 -> FALSE
B31: 9 | C31: =VLOOKUP(B31,PLANILHA!$B:$L,3,0) -> REVESTIMENTOS | D31: =VLOOKUP(B31,PLANILHA!$B:$L,10,0) -> 297713.94 | E31: =D31/$D$53 -> 0.10794493 | H31: 0.2 | I31: 0.3 | J31: 0.5
F32: =TRUNC($D$31*F31,2) -> 0 | G32: =TRUNC($D$31*G31,2) -> 0 | H32: =TRUNC($D$31*H31,2) -> 59542.78 | I32: =TRUNC($D$31*I31,2) -> 89314.18 | J32: =TRUNC($D$31*J31,2) -> 148856.97 | K32: =TRUNC($D$31*K31,2) -> 0 | L32: =SUM(F32:K32) -> 297713.93 | M32: =L32=D31 -> FALSE
B33: 10 | C33: =VLOOKUP(B33,PLANILHA!$B:$L,3,0) -> PINTURA | D33: =VLOOKUP(B33,PLANILHA!$B:$L,10,0) -> 104047.35 | E33: =D33/$D$53 -> 0.037725422 | J33: 0.3 | K33: 0.7
