Workbook
Name __________________ABR95: [1]Consultoria!#REF!
Name __________________ABR95: [1]Consultoria!#REF!
Name __________________ABR95: [1]Consultoria!#REF!
Name __________________ABR96: [1]Consultoria!#REF!
Name __________________ABR96: [1]Consultoria!#REF!
Name __________________ABR96: [1]Consultoria!#REF!
Name __________________ABR97: [1]Consultoria!#REF!
Name __________________ABR97: [1]Consultoria!#REF!
Name __________________ABR98: [1]Consultoria!#REF!
Name __________________ABR98: [1]Consultoria!#REF!
Name __________________ABR99: [1]Consultoria!#REF!
Name __________________ABR99: [1]Consultoria!#REF!
Name __________________AGO95: [1]Consultoria!#REF!
Name __________________AGO96: [1]Consultoria!#REF!
Name __________________AGO97: [1]Consultoria!#REF!
Name __________________AGO98: [1]Consultoria!#REF!
Name __________________AGO99: [1]Consultoria!#REF!
Name __________________DEZ94: [1]Consultoria!#REF!
Name __________________DEZ95: [1]Consultoria!#REF!
Name __________________DEZ96: [1]Consultoria!#REF!
Name __________________DEZ97: [1]Consultoria!#REF!
Name __________________DEZ98: [1]Consultoria!#REF!
Name __________________DEZ99: [1]Consultoria!#REF!
Name __________________FEV95: [1]Consultoria!#REF!
Name __________________FEV96: [1]Consultoria!#REF!
Name __________________FEV97: [1]Consultoria!#REF!
Name __________________FEV98: [1]Consultoria!#REF!
Name __________________FEV99: [1]Consultoria!#REF!
Name __________________JAN95: [1]Consultoria!#REF!
Name __________________JAN96: [1]Consultoria!#REF!
Name __________________JAN97: [1]Consultoria!#REF!
Name __________________JAN98: [1]Consultoria!#REF!
Name __________________JAN99: [1]Consultoria!#REF!
Name __________________JUL95: [1]Consultoria!#REF!
Name __________________JUL96: [1]Consultoria!#REF!
Name __________________JUL97: [1]Consultoria!#REF!
Name __________________JUL98: [1]Consultoria!#REF!
Name __________________JUL99: [1]Consultoria!#REF!
Name __________________JUN95: [1]Consultoria!#REF!
Name __________________JUN96: [1]Consultoria!#REF!
Name __________________JUN97: [1]Consultoria!#REF!
Name __________________JUN98: [1]Consultoria!#REF!
Name __________________JUN99: [1]Consultoria!#REF!
Name __________________MAI95: [1]Consultoria!#REF!
Name __________________MAI96: [1]Consultoria!#REF!
Name __________________MAI97: [1]Consultoria!#REF!
Name __________________MAI98: [1]Consultoria!#REF!
Name __________________MAI99: [1]Consultoria!#REF!
Name __________________MAR95: [1]Consultoria!#REF!
Name __________________MAR96: [1]Consultoria!#REF!
Name __________________MAR97: [1]Consultoria!#REF!
Name __________________MAR98: [1]Consultoria!#REF!
Name __________________MAR99: [1]Consultoria!#REF!
Name __________________NOV94: [1]Consultoria!#REF!
Name __________________NOV95: [1]Consultoria!#REF!
Name __________________NOV96: [1]Consultoria!#REF!
Name __________________NOV97: [1]Consultoria!#REF!
Name __________________NOV98: [1]Consultoria!#REF!
Name __________________NOV99: [1]Consultoria!#REF!
Name __________________OUT94: [1]Consultoria!#REF!

Sheet CAPA
A1: GABINETES DOS VEREADORES DE ARAGARÇAS - GO
A5: DOCUMENTOS ANEXOS
A7: OBRA: | B7: GABINETES DOS VEREADORES DE ARAGARÇAS - GO
A8: LOCAL: | B8: Rua José de Barros Souza, 09. Setor Centro Administrativo, Aragarças-GO.
A9: DATA: | B9: =TODAY() -> 46071
A12: ANEXO I - RESUMO
A13: ANEXO II - PLANILHA ORÇAMENTÁRIA
A14: ANEXO III - PRANILHA ANALÍTICA
A15: ANEXO IV - MEMORIAL DE CÁLCULO
A16: ANEXO V - COMPOSIÇÕES PRÓPRIAS
A17: ANEXO VI - BDI CONSTRUÇÃO
A18: ANEXO VII - CURVA ABC
A19: ANEXO VIII - CRONOGRAMA FÍSICO-FINANCEIRO (CFF)
I23: Aragarças GO, 24 de novembro de 2025

Sheet I-RESUMO
A1: =CAPA!A1 -> GABINETES DOS VEREADORES DE ARAGARÇAS - GO | K1: HORA | L1: MÊS
J2: DESONERADO | K2: 0.8847 | L2: 0.4862
J3: NÃO DESONERADO | K3: 1.1888 | L3: 0.7268
A6: OBRA: | B6: =CAPA!B7 -> GABINETES DOS VEREADORES DE ARAGARÇAS - GO | E6: REFERÊNCIA: | F6: SINAPI GO 9/2025
A7: LOCAL: | B7: =CAPA!B8 -> Rua José de Barros Souza, 09. Setor Centro Administrativo, Aragarças-GO. | F7: GOINFRA CIVIL (AGETOP) 8/2025
A8: DATA: | B8: =TODAY() -> 46071 | F8: SICRO3 GO 7/2025
E9: ENCARGOS | F9: NÃO DESONERADO
E10: BDI CONSTRUÇÃO: | F10: ='VI-BDI CONSTRUÇÃO'!K49 -> 0.252
A12: =CAPA!A12 -> ANEXO I - RESUMO
A13: MACRO SERVIÇO | B13: SERVIÇOS | C13: VALOR TOTAL SEM BDI (R$) | D13: VALOR PARCELA BDI (R$) | E13: VALOR TOTAL COM BDI (R$) | F13: PERCENTUAL
A14: 1 | B14: =VLOOKUP(A14,'II-PO'!$A$16:$M$295,5,0) -> ADMINISTRAÇÃO E CONTROLE | C14: =VLOOKUP(A14,'II-PO'!$A$16:$M$295,11,0) -> 66474.15 | D14: =VLOOKUP(A14,'II-PO'!$A$16:$M$295,12,0) -> 16751.48 | E14: =C14+D14 -> 83225.63 | F14: =E14/$E$34 -> 0.069120852
A15: 2 | B15: =VLOOKUP(A15,'II-PO'!$A$16:$M$295,5,0) -> SERVIÇOS PRELIMINARES E CANTEIROS DE OBRAS | C15: =VLOOKUP(A15,'II-PO'!$A$16:$M$295,11,0) -> 32405.04 | D15: =VLOOKUP(A15,'II-PO'!$A$16:$M$295,12,0) -> 8162.36 | E15: =C15+D15 -> 40567.4 | F15: =E15/$E$34 -> 0.033692184
A16: 3 | B16: =VLOOKUP(A16,'II-PO'!$A$16:$M$295,5,0) -> MOVIMENTAÇÃO DE TERRA | C16: =VLOOKUP(A16,'II-PO'!$A$16:$M$295,11,0) -> 3979.98 | D16: =VLOOKUP(A16,'II-PO'!$A$16:$M$295,12,0) -> 997.41 | E16: =C16+D16 -> 4977.39 | F16: =E16/$E$34 -> 0.00413384
A17: 4 | B17: =VLOOKUP(A17,'II-PO'!$A$16:$M$295,5,0) -> INFRAESTRUTURA | C17: =VLOOKUP(A17,'II-PO'!$A$16:$M$295,11,0) -> 75577.51 | D17: =VLOOKUP(A17,'II-PO'!$A$16:$M$295,12,0) -> 19037.15 | E17: =C17+D17 -> 94614.66 | F17: =E17/$E$34 -> 0.078579711
A18: 5 | B18: =VLOOKUP(A18,'II-PO'!$A$16:$M$295,5,0) -> SUPERESTRUTURAS | C18: =VLOOKUP(A18,'II-PO'!$A$16:$M$295,11,0) -> 136758.37 | D18: =VLOOKUP(A18,'II-PO'!$A$16:$M$295,12,0) -> 34450.32 | E18: =C18+D18 -> 171208.69 | F18: =E18/$E$34 -> 0.14219286
A19: 6 | B19: =VLOOKUP(A19,'II-PO'!$A$16:$M$295,5,0) -> ALVENARIAS E FECHAMENTOS | C19: =VLOOKUP(A19,'II-PO'!$A$16:$M$295,11,0) -> 118377.22 | D19: =VLOOKUP(A19,'II-PO'!$A$16:$M$295,12,0) -> 29810.98 | E19: =C19+D19 -> 148188.2 | F19: =E19/$E$34 -> 0.1230738
A20: 7 | B20: =VLOOKUP(A20,'II-PO'!$A$16:$M$295,5,0) -> PISOS | C20: =VLOOKUP(A20,'II-PO'!$A$16:$M$295,11,0) -> 91322.72 | D20: =VLOOKUP(A20,'II-PO'!$A$16:$M$295,12,0) -> 23002.6 | E20: =C20+D20 -> 114325.32 | F20: =E20/$E$34 -> 0.09494988
A21: 8 | B21: =VLOOKUP(A21,'II-PO'!$A$16:$M$295,5,0) -> IMPERMEABILIZAÇÃO | C21: =VLOOKUP(A21,'II-PO'!$A$16:$M$295,11,0) -> 11059.03 | D21: =VLOOKUP(A21,'II-PO'!$A$16:$M$295,12,0) -> 2786.53 | E21: =C21+D21 -> 13845.56 | F21: =E21/$E$34 -> 0.011499065
A22: 9 | B22: =VLOOKUP(A22,'II-PO'!$A$16:$M$295,5,0) -> ESQUADRIAS | C22: =VLOOKUP(A22,'II-PO'!$A$16:$M$295,11,0) -> 49495.72 | D22: =VLOOKUP(A22,'II-PO'!$A$16:$M$295,12,0) -> 12472.6 | E22: =C22+D22 -> 61968.32 | F22: =E22/$E$34 -> 0.051466154
A23: 10 | B23: =VLOOKUP(A23,'II-PO'!$A$16:$M$295,5,0) -> PINTURA | C23: =VLOOKUP(A23,'II-PO'!$A$16:$M$295,11,0) -> 53827.11 | D23: =VLOOKUP(A23,'II-PO'!$A$16:$M$295,12,0) -> 13538.54 | E23: =C23+D23 -> 67365.65 | F23: =E23/$E$34 -> 0.055948764
A24: 11 | B24: =VLOOKUP(A24,'II-PO'!$A$16:$M$295,5,0) -> COBERTURA | C24: =VLOOKUP(A24,'II-PO'!$A$16:$M$295,11,0) -> 129502.74 | D24: =VLOOKUP(A24,'II-PO'!$A$16:$M$295,12,0) -> 32633.61 | E24: =C24+D24 -> 162136.35 | F24: =E24/$E$34 -> 0.13465807
A25: 12 | B25: =VLOOKUP(A25,'II-PO'!$A$16:$M$295,5,0) -> FORRO | C25: =VLOOKUP(A25,'II-PO'!$A$16:$M$295,11,0) -> 59904.56 | D25: =VLOOKUP(A25,'II-PO'!$A$16:$M$295,12,0) -> 15082.63 | E25: =C25+D25 -> 74987.19 | F25: =E25/$E$34 -> 0.062278633
... A30: 17 | B30: =VLOOKUP(A30,'II-PO'!$A$16:$M$295,5,0) -> FINALIZAÇÃO E LIMPEZA DE OBRA | C30: =VLOOKUP(A30,'II-PO'!$A$16:$M$295,11,0) -> 6567.19 | D30: =VLOOKUP(A30,'II-PO'!$A$16:$M$295,12,0) -> 1632.11 | E30: =C30+D30 -> 8199.3 | F30: =E30/$E$34 -> 0.0068097124
A32: TOTAL SEM BDI | E32: =SUM(C14:C30) -> 961827.9
A33: PARCELA REFERENTE AO BDI | E33: =SUM(D14:D30) -> 242231.76
A34: TOTAL COM BDI | E34: =SUM(E14:E30) -> 1204059.7
E38: Aragarças GO, 24 de novembro de 2025

Sheet II-PO
A1: ='I-RESUMO'!A1 -> GABINETES DOS VEREADORES DE ARAGARÇAS - GO
A10: OBRA: | B10: ='I-RESUMO'!$B$6 -> GABINETES DOS VEREADORES DE ARAGARÇAS - GO | K10: REFERÊNCIA: | L10: ='I-RESUMO'!F6 -> SINAPI GO 9/2025
A11: LOCAL: | B11: ='I-RESUMO'!$B$7 -> Rua José de Barros Souza, 09. Setor Centro Administrativo, Aragarças-GO. | L11: ='I-RESUMO'!F7 -> GOINFRA CIVIL (AGETOP) 8/2025
A12: DATA: | B12: =TODAY() -> 46071 | L12: ='I-RESUMO'!F8 -> SICRO3 GO 7/2025
K13: ENCARGOS | L13: ='I-RESUMO'!$F$9 -> NÃO DESONERADO
K14: BDI CONSTRUÇÃO: | L14: ='VI-BDI CONSTRUÇÃO'!K49 -> 0.252
A16: =CAPA!A13 -> ANEXO II - PLANILHA ORÇAMENTÁRIA
A17: Serviço | B17: Referência | C17: Base | D17: Tipo | E17: Descrição | F17: Und. | G17: Quant. | H17: BDI | I17: Valor Unit s/ BDI | J17: Valor Unit c/ BDI | K17: Total sem BDI | L17: Parcela do BDI | M17: Total c/ BDI
A18: 1 | E18: ADMINISTRAÇÃO E CONTROLE | K18: =K19 -> 66474.15 | L18: =L19 -> 16751.48 | M18: =M19 -> 83225.63
A19: 1.1 | B19: {=INDEX('III-PA'!$B$18:$B$2661,1+MATCH(_xlfn.CONCAT(" ",'II-PO'!A19," "),'III-PA'!$A$18:$A$2661,0))} -> COMP CIVIL 01 | C19: {=INDEX('III-PA'!$C$18:$C$2661,1+MATCH(_xlfn.CONCAT(" ",A19," "),'III-PA'!$A$18:$A$2661,0))} -> Próprio | D19: {=INDEX('III-PA'!$A$18:$A$2661,1+MATCH(_xlfn.CONCAT(" ",A19," "),'III-PA'!$A$18:$A$2661,0))} -> Composição | E19: {=INDEX('III-PA'!$D$18:$D$2661,1+MATCH(_xlfn.CONCAT(" ",A19," "),'III-PA'!$A$18:$A$2661,0))} -> ADMINISTRAÇÃO LOCAL DA OBRA | F19: {=INDEX('III-PA'!$G$18:$G$2661,1+MATCH(_xlfn.CONCAT(" ",A19," "),'III-PA'!$A$18:$A$2661,0))} -> %CT | G19: =VLOOKUP(A19,'IV-MEMORIAL'!$A$17:$N$2203,14,0) -> 1 | H19: =$L$14 -> 0.252 | I19: {=INDEX('III-PA'!$I$18:$I$2661,1+MATCH(_xlfn.CONCAT(" ",A19," "),'III-PA'!$A$18:$A$2661,0))} -> 66474.15 | J19: =TRUNC(I19*(1+H19),2) -> 83225.63 | K19: =TRUNC(I19*G19,2) -> 66474.15 | L19: =M19-K19 -> 16751.48 | M19: =TRUNC(G19*J19,2) -> 83225.63
A20: 2 | E20: SERVIÇOS PRELIMINARES E CANTEIROS DE OBRAS | K20: =SUM(K21:K27) -> 32405.04 | L20: =SUM(L21:L27) -> 8162.36 | M20: =SUM(M21:M27) -> 40567.4
A21: 2.1 | B21: {=INDEX('III-PA'!$B$18:$B$2661,1+MATCH(_xlfn.CONCAT(" ",'II-PO'!A21," "),'III-PA'!$A$18:$A$2661,0))} -> 103689 | C21: {=INDEX('III-PA'!$C$18:$C$2661,1+MATCH(_xlfn.CONCAT(" ",A21," "),'III-PA'!$A$18:$A$2661,0))} -> SINAPI | D21: {=INDEX('III-PA'!$A$18:$A$2661,1+MATCH(_xlfn.CONCAT(" ",A21," "),'III-PA'!$A$18:$A$2661,0))} -> Composição | E21: {=INDEX('III-PA'!$D$18:$D$2661,1+MATCH(_xlfn.CONCAT(" ",A21," "),'III-PA'!$A$18:$A$2661,0))} -> FORNECIMENTO E INSTALAÇÃO DE PLACA DE OBRA COM CHAPA GALVANIZADA E ESTRUTURA DE MADEIRA. AF_03/2022_PS | F21: {=INDEX('III-PA'!$G$18:$G$2661,1+MATCH(_xlfn.CONCAT(" ",A21," "),'III-PA'!$A$18:$A$2661,0))} -> m² | G21: =VLOOKUP(A21,'IV-MEMORIAL'!$A$17:$N$2203,14,0) -> 4.5 | H21: =$L$14 -> 0.252 | I21: {=INDEX('III-PA'!$I$18:$I$2661,1+MATCH(_xlfn.CONCAT(" ",A21," "),'III-PA'!$A$18:$A$2661,0))} -> 465.73 | J21: =TRUNC(I21*(1+H21),2) -> 583.09 | K21: =TRUNC(I21*G21,2) -> 2095.78 | L21: =M21-K21 -> 528.12 | M21: =TRUNC(G21*J21,2) -> 2623.9
A22: 2.2 | B22: {=INDEX('III-PA'!$B$18:$B$2661,1+MATCH(_xlfn.CONCAT(" ",'II-PO'!A22," "),'III-PA'!$A$18:$A$2661,0))} -> 020231 | C22: {=INDEX('III-PA'!$C$18:$C$2661,1+MATCH(_xlfn.CONCAT(" ",A22," "),'III-PA'!$A$18:$A$2661,0))} -> AGETOP CIVIL | D22: {=INDEX('III-PA'!$A$18:$A$2661,1+MATCH(_xlfn.CONCAT(" ",A22," "),'III-PA'!$A$18:$A$2661,0))} -> Composição | E22: {=INDEX('III-PA'!$D$18:$D$2661,1+MATCH(_xlfn.CONCAT(" ",A22," "),'III-PA'!$A$18:$A$2661,0))} -> LOCAÇÃO DE CONTAINER COM REVESTIMENTO INTERNO, PARA ESCRITÓRIO SEM SANITÁRIOS 6,00 X 2,40 M, INCLUSIVE APARELHO DE AR CONDICIONADO E MOBILIÁRIO (EXCLUSO MOBILIZAÇÃO / DESMOBILIZAÇÃO) | F22: {=INDEX('III-PA'!$G$18:$G$2661,1+MATCH(_xlfn.CONCAT(" ",A22," "),'III-PA'!$A$18:$A$2661,0))} -> mes | G22: =VLOOKUP(A22,'IV-MEMORIAL'!$A$17:$N$2203,14,0) -> 5 | H22: =$L$14 -> 0.252 | I22: {=INDEX('III-PA'!$I$18:$I$2661,1+MATCH(_xlfn.CONCAT(" ",A22," "),'III-PA'!$A$18:$A$2661,0))} -> 2364.59 | J22: =TRUNC(I22*(1+H22),2) -> 2960.46 | K22: =TRUNC(I22*G22,2) -> 11822.95 | L22: =M22-K22 -> 2979.35 | M22: =TRUNC(G22*J22,2) -> 14802.3
A23: 2.3 | B23: {=INDEX('III-PA'!$B$18:$B$2661,1+MATCH(_xlfn.CONCAT(" ",'II-PO'!A23," "),'III-PA'!$A$18:$A$2661,0))} -> 020232 | C23: {=INDEX('III-PA'!$C$18:$C$2661,1+MATCH(_xlfn.CONCAT(" ",A23," "),'III-PA'!$A$18:$A$2661,0))} -> AGETOP CIVIL | D23: {=INDEX('III-PA'!$A$18:$A$2661,1+MATCH(_xlfn.CONCAT(" ",A23," "),'III-PA'!$A$18:$A$2661,0))} -> Composição | E23: {=INDEX('III-PA'!$D$18:$D$2661,1+MATCH(_xlfn.CONCAT(" ",A23," "),'III-PA'!$A$18:$A$2661,0))} -> LOCAÇÃO DE CONTAINER SANITÁRIO MISTO 6,00 X 2,40 M, COM 3 VASOS, 6 CHUVEIROS, LAVATÓRIO E MICTÓRIO (EXCLUSO MOBILIZAÇÃO / DESMOBILIZAÇÃO) | F23: {=INDEX('III-PA'!$G$18:$G$2661,1+MATCH(_xlfn.CONCAT(" ",A23," "),'III-PA'!$A$18:$A$2661,0))} -> mes | G23: =VLOOKUP(A23,'IV-MEMORIAL'!$A$17:$N$2203,14,0) -> 5 | H23: =$L$14 -> 0.252 | I23: {=INDEX('III-PA'!$I$18:$I$2661,1+MATCH(_xlfn.CONCAT(" ",A23," "),'III-PA'!$A$18:$A$2661,0))} -> 1325.95 | J23: =TRUNC(I23*(1+H23),2) -> 1660.08 | K23: =TRUNC(I23*G23,2) -> 6629.75 | L23: =M23-K23 -> 1670.65 | M23: =TRUNC(G23*J23,2) -> 8300.4
A24: 2.4 | B24: {=INDEX('III-PA'!$B$18:$B$2661,1+MATCH(_xlfn.CONCAT(" ",'II-PO'!A24," "),'III-PA'!$A$18:$A$2661,0))} -> 020230 | C24: {=INDEX('III-PA'!$C$18:$C$2661,1+MATCH(_xlfn.CONCAT(" ",A24," "),'III-PA'!$A$18:$A$2661,0))} -> AGETOP CIVIL | D24: {=INDEX('III-PA'!$A$18:$A$2661,1+MATCH(_xlfn.CONCAT(" ",A24," "),'III-PA'!$A$18:$A$2661,0))} -> Composição | E24: {=INDEX('III-PA'!$D$18:$D$2661,1+MATCH(_xlfn.CONCAT(" ",A24," "),'III-PA'!$A$18:$A$2661,0))} -> LOCAÇÃO DE CONTAINER SEM REVESTIMENTO INTERNO PARA ALMOXARIFADO / DEPÓSITO 6,00 X 2,40 M, INCLUSIVE MOBILIÁRIO (EXCLUSO MOBILIZAÇÃO / DESMOBILIZAÇÃO) | F24: {=INDEX('III-PA'!$G$18:$G$2661,1+MATCH(_xlfn.CONCAT(" ",A24," "),'III-PA'!$A$18:$A$2661,0))} -> MÊS | G24: =VLOOKUP(A24,'IV-MEMORIAL'!$A$17:$N$2203,14,0) -> 5 | H24: =$L$14 -> 0.252 | I24: {=INDEX('III-PA'!$I$18:$I$2661,1+MATCH(_xlfn.CONCAT(" ",A24," "),'III-PA'!$A$18:$A$2661,0))} -> 1135.26 | J24: =TRUNC(I24*(1+H24),2) -> 1421.34 | K24: =TRUNC(I24*G24,2) -> 5676.3 | L24: =M24-K24 -> 1430.4 | M24: =TRUNC(G24*J24,2) -> 7106.7
A25: 2.5 | B25: {=INDEX('III-PA'!$B$18:$B$2661,1+MATCH(_xlfn.CONCAT(" ",'II-PO'!A25," "),'III-PA'!$A$18:$A$2661,0))} -> 030119 | C25: {=INDEX('III-PA'!$C$18:$C$2661,1+MATCH(_xlfn.CONCAT(" ",A25," "),'III-PA'!$A$18:$A$2661,0))} -> AGETOP CIVIL | D25: {=INDEX('III-PA'!$A$18:$A$2661,1+MATCH(_xlfn.CONCAT(" ",A25," "),'III-PA'!$A$18:$A$2661,0))} -> Composição | E25: {=INDEX('III-PA'!$D$18:$D$2661,1+MATCH(_xlfn.CONCAT(" ",A25," "),'III-PA'!$A$18:$A$2661,0))} -> CARGA, MANOBRA E DESCARGA DE CONTAINER | F25: {=INDEX('III-PA'!$G$18:$G$2661,1+MATCH(_xlfn.CONCAT(" ",A25," "),'III-PA'!$A$18:$A$2661,0))} -> un | G25: =VLOOKUP(A25,'IV-MEMORIAL'!$A$17:$N$2203,14,0) -> 6 | H25: =$L$14 -> 0.252 | I25: {=INDEX('III-PA'!$I$18:$I$2661,1+MATCH(_xlfn.CONCAT(" ",A25," "),'III-PA'!$A$18:$A$2661,0))} -> 45.58 | J25: =TRUNC(I25*(1+H25),2) -> 57.06 | K25: =TRUNC(I25*G25,2) -> 273.48 | L25: =M25-K25 -> 68.88 | M25: =TRUNC(G25*J25,2) -> 342.36
A26: 2.6 | B26: {=INDEX('III-PA'!$B$18:$B$2661,1+MATCH(_xlfn.CONCAT(" ",'II-PO'!A26," "),'III-PA'!$A$18:$A$2661,0))} -> 98525 | C26: {=INDEX('III-PA'!$C$18:$C$2661,1+MATCH(_xlfn.CONCAT(" ",A26," "),'III-PA'!$A$18:$A$2661,0))} -> SINAPI | D26: {=INDEX('III-PA'!$A$18:$A$2661,1+MATCH(_xlfn.CONCAT(" ",A26," "),'III-PA'!$A$18:$A$2661,0))} -> Composição | E26: {=INDEX('III-PA'!$D$18:$D$2661,1+MATCH(_xlfn.CONCAT(" ",A26," "),'III-PA'!$A$18:$A$2661,0))} -> LIMPEZA MECANIZADA DE CAMADA VEGETAL, VEGETAÇÃO E PEQUENAS ÁRVORES (DIÂMETRO DE TRONCO MENOR QUE 0,20 M), COM TRATOR DE ESTEIRAS. AF_03/2024 | F26: {=INDEX('III-PA'!$G$18:$G$2661,1+MATCH(_xlfn.CONCAT(" ",A26," "),'III-PA'!$A$18:$A$2661,0))} -> m² | G26: =VLOOKUP(A26,'IV-MEMORIAL'!$A$17:$N$2203,14,0) -> 459 | H26: =$L$14 -> 0.252 | I26: {=INDEX('III-PA'!$I$18:$I$2661,1+MATCH(_xlfn.CONCAT(" ",A26," "),'III-PA'!$A$18:$A$2661,0))} -> 0.66 | J26: =TRUNC(I26*(1+H26),2) -> 0.82 | K26: =TRUNC(I26*G26,2) -> 302.94 | L26: =M26-K26 -> 73.44 | M26: =TRUNC(G26*J26,2) -> 376.38
A27: 2.7 | B27: {=INDEX('III-PA'!$B$18:$B$2661,1+MATCH(_xlfn.CONCAT(" ",'II-PO'!A27," "),'III-PA'!$A$18:$A$2661,0))} -> 99059 | C27: {=INDEX('III-PA'!$C$18:$C$2661,1+MATCH(_xlfn.CONCAT(" ",A27," "),'III-PA'!$A$18:$A$2661,0))} -> SINAPI | D27: {=INDEX('III-PA'!$A$18:$A$2661,1+MATCH(_xlfn.CONCAT(" ",A27," "),'III-PA'!$A$18:$A$2661,0))} -> Composição | E27: {=INDEX('III-PA'!$D$18:$D$2661,1+MATCH(_xlfn.CONCAT(" ",A27," "),'III-PA'!$A$18:$A$2661,0))} -> LOCAÇÃO CONVENCIONAL DE OBRA, UTILIZANDO GABARITO DE TÁBUAS CORRIDAS PONTALETADAS A CADA 2,00M - 2 UTILIZAÇÕES. AF_03/2024 | F27: {=INDEX('III-PA'!$G$18:$G$2661,1+MATCH(_xlfn.CONCAT(" ",A27," "),'III-PA'!$A$18:$A$2661,0))} -> M | G27: =VLOOKUP(A27,'IV-MEMORIAL'!$A$17:$N$2203,14,0) -> 88 | H27: =$L$14 -> 0.252 | I27: {=INDEX('III-PA'!$I$18:$I$2661,1+MATCH(_xlfn.CONCAT(" ",A27," "),'III-PA'!$A$18:$A$2661,0))} -> 63.68 | J27: =TRUNC(I27*(1+H27),2) -> 79.72 | K27: =TRUNC(I27*G27,2) -> 5603.84 | L27: =M27-K27 -> 1411.52 | M27: =TRUNC(G27*J27,2) -> 7015.36
A28: 3 | E28: MOVIMENTAÇÃO DE TERRA | K28: =SUM(K29:K31) -> 3979.98 | L28: =SUM(L29:L31) -> 997.41 | M28: =SUM(M29:M31) -> 4977.39
A29: 3.1 | B29: {=INDEX('III-PA'!$B$18:$B$2661,1+MATCH(_xlfn.CONCAT(" ",'II-PO'!A29," "),'III-PA'!$A$18:$A$2661,0))} -> 100575 | C29: {=INDEX('III-PA'!$C$18:$C$2661,1+MATCH(_xlfn.CONCAT(" ",A29," "),'III-PA'!$A$18:$A$2661,0))} -> SINAPI | D29: {=INDEX('III-PA'!$A$18:$A$2661,1+MATCH(_xlfn.CONCAT(" ",A29," "),'III-PA'!$A$18:$A$2661,0))} -> Composição | E29: {=INDEX('III-PA'!$D$18:$D$2661,1+MATCH(_xlfn.CONCAT(" ",A29," "),'III-PA'!$A$18:$A$2661,0))} -> REGULARIZAÇÃO DE SUPERFÍCIES COM MOTONIVELADORA. AF_09/2024 | F29: {=INDEX('III-PA'!$G$18:$G$2661,1+MATCH(_xlfn.CONCAT(" ",A29," "),'III-PA'!$A$18:$A$2661,0))} -> m² | G29: =VLOOKUP(A29,'IV-MEMORIAL'!$A$17:$N$2203,14,0) -> 459 | H29: =$L$14 -> 0.252 | I29: {=INDEX('III-PA'!$I$18:$I$2661,1+MATCH(_xlfn.CONCAT(" ",A29," "),'III-PA'!$A$18:$A$2661,0))} -> 0.55 | J29: =TRUNC(I29*(1+H29),2) -> 0.68 | K29: =TRUNC(I29*G29,2) -> 252.45 | L29: =M29-K29 -> 59.67 | M29: =TRUNC(G29*J29,2) -> 312.12
A30: 3.2 | B30: {=INDEX('III-PA'!$B$18:$B$2661,1+MATCH(_xlfn.CONCAT(" ",'II-PO'!A30," "),'III-PA'!$A$18:$A$2661,0))} -> 101136 | C30: {=INDEX('III-PA'!$C$18:$C$2661,1+MATCH(_xlfn.CONCAT(" ",A30," "),'III-PA'!$A$18:$A$2661,0))} -> SINAPI | D30: {=INDEX('III-PA'!$A$18:$A$2661,1+MATCH(_xlfn.CONCAT(" ",A30," "),'III-PA'!$A$18:$A$2661,0))} -> Composição | E30: {=INDEX('III-PA'!$D$18:$D$2661,1+MATCH(_xlfn.CONCAT(" ",A30," "),'III-PA'!$A$18:$A$2661,0))} -> ESCAVAÇÃO HORIZONTAL, INCLUINDO CARGA, DESCARGA E TRANSPORTE EM SOLO DE 1A CATEGORIA COM TRATOR DE ESTEIRAS (170HP/LÂMINA: 5,20M3) E CAMINHÃO BASCULANTE DE 10M3, DMT ATÉ 200M. AF_07/2020 | F30: {=INDEX('III-PA'!$G$18:$G$2661,1+MATCH(_xlfn.CONCAT(" ",A30," "),'III-PA'!$A$18:$A$2661,0))} -> m³ | G30: =VLOOKUP(A30,'IV-MEMORIAL'!$A$17:$N$2203,14,0) -> 137.7 | H30: =$L$14 -> 0.252 | I30: {=INDEX('III-PA'!$I$18:$I$2661,1+MATCH(_xlfn.CONCAT(" ",A30," "),'III-PA'!$A$18:$A$2661,0))} -> 13.61 | J30: =TRUNC(I30*(1+H30),2) -> 17.03 | K30: =TRUNC(I30*G30,2) -> 1874.09 | L30: =M30-K30 -> 470.94 | M30: =TRUNC(G30*J30,2) -> 2345.03
A31: 3.3 | B31: {=INDEX('III-PA'!$B$18:$B$2661,1+MATCH(_xlfn.CONCAT(" ",'II-PO'!A31," "),'III-PA'!$A$18:$A$2661,0))} -> 105558 | C31: {=INDEX('III-PA'!$C$18:$C$2661,1+MATCH(_xlfn.CONCAT(" ",A31," "),'III-PA'!$A$18:$A$2661,0))} -> SINAPI | D31: {=INDEX('III-PA'!$A$18:$A$2661,1+MATCH(_xlfn.CONCAT(" ",A31," "),'III-PA'!$A$18:$A$2661,0))} -> Composição | E31: {=INDEX('III-PA'!$D$18:$D$2661,1+MATCH(_xlfn.CONCAT(" ",A31," "),'III-PA'!$A$18:$A$2661,0))} -> EXECUÇÃO E COMPACTAÇÃO DE CAMADA FINAL DE ATERRO (100% DE ENERGIA DO PROCTOR NORMAL) COM SOLO PREDOMINANTEMENTE ARGILOSO, EM CAMADAS COM ESPESSURA DE 15 CM - EXCLUSIVE ESCAVAÇÃO, CARGA E TRANSPORTE E SOLO. AF_09/2024 | F31: {=INDEX('III-PA'!$G$18:$G$2661,1+MATCH(_xlfn.CONCAT(" ",A31," "),'III-PA'!$A$18:$A$2661,0))} -> m³ | G31: =VLOOKUP(A31,'IV-MEMORIAL'!$A$17:$N$2203,14,0) -> 137.7 | H31: =$L$14 -> 0.252 | I31: {=INDEX('III-PA'!$I$18:$I$2661,1+MATCH(_xlfn.CONCAT(" ",A31," "),'III-PA'!$A$18:$A$2661,0))} -> 13.46 | J31: =TRUNC(I31*(1+H31),2) -> 16.85 | K31: =TRUNC(I31*G31,2) -> 1853.44 | L31: =M31-K31 -> 466.8 | M31: =TRUNC(G31*J31,2) -> 2320.24
A32: 4 | E32: INFRAESTRUTURA | K32: =K33+K37+K45 -> 75577.51 | L32: =L33+L37+L45 -> 19037.15 | M32: =M33+M37+M45 -> 94614.66
A33: 4.1 | E33: ESTACA | K33: =SUM(K34:K36) -> 32032.86 | L33: =SUM(L34:L36) -> 8069.23 | M33: =SUM(M34:M36) -> 40102.09
A34: 4.1.1 | B34: {=INDEX('III-PA'!$B$18:$B$2661,1+MATCH(_xlfn.CONCAT(" ",'II-PO'!A34," "),'III-PA'!$A$18:$A$2661,0))} -> 95584 | C34: {=INDEX('III-PA'!$C$18:$C$2661,1+MATCH(_xlfn.CONCAT(" ",A34," "),'III-PA'!$A$18:$A$2661,0))} -> SINAPI | D34: {=INDEX('III-PA'!$A$18:$A$2661,1+MATCH(_xlfn.CONCAT(" ",A34," "),'III-PA'!$A$18:$A$2661,0))} -> Composição | E34: {=INDEX('III-PA'!$D$18:$D$2661,1+MATCH(_xlfn.CONCAT(" ",A34," "),'III-PA'!$A$18:$A$2661,0))} -> MONTAGEM DE ARMADURA TRANSVERSAL DE ESTACAS DE SEÇÃO CIRCULAR, DIÂMETRO = 6,30 MM. AF_09/2021_PS | F34: {=INDEX('III-PA'!$G$18:$G$2661,1+MATCH(_xlfn.CONCAT(" ",A34," "),'III-PA'!$A$18:$A$2661,0))} -> KG | G34: =VLOOKUP(A34,'IV-MEMORIAL'!$A$17:$N$2203,14,0) -> 36.21 | H34: =$L$14 -> 0.252 | I34: {=INDEX('III-PA'!$I$18:$I$2661,1+MATCH(_xlfn.CONCAT(" ",A34," "),'III-PA'!$A$18:$A$2661,0))} -> 13.2 | J34: =TRUNC(I34*(1+H34),2) -> 16.52 | K34: =TRUNC(I34*G34,2) -> 477.97 | L34: =M34-K34 -> 120.21 | M34: =TRUNC(G34*J34,2) -> 598.18
A35: 4.1.2 | B35: {=INDEX('III-PA'!$B$18:$B$2661,1+MATCH(_xlfn.CONCAT(" ",'II-PO'!A35," "),'III-PA'!$A$18:$A$2661,0))} -> 95577 | C35: {=INDEX('III-PA'!$C$18:$C$2661,1+MATCH(_xlfn.CONCAT(" ",A35," "),'III-PA'!$A$18:$A$2661,0))} -> SINAPI | D35: {=INDEX('III-PA'!$A$18:$A$2661,1+MATCH(_xlfn.CONCAT(" ",A35," "),'III-PA'!$A$18:$A$2661,0))} -> Composição | E35: {=INDEX('III-PA'!$D$18:$D$2661,1+MATCH(_xlfn.CONCAT(" ",A35," "),'III-PA'!$A$18:$A$2661,0))} -> MONTAGEM DE ARMADURA DE ESTACAS, DIÂMETRO = 10,0 MM. AF_09/2021_PS | F35: {=INDEX('III-PA'!$G$18:$G$2661,1+MATCH(_xlfn.CONCAT(" ",A35," "),'III-PA'!$A$18:$A$2661,0))} -> KG | G35: =VLOOKUP(A35,'IV-MEMORIAL'!$A$17:$N$2203,14,0) -> 388.41 | H35: =$L$14 -> 0.252 | I35: {=INDEX('III-PA'!$I$18:$I$2661,1+MATCH(_xlfn.CONCAT(" ",A35," "),'III-PA'!$A$18:$A$2661,0))} -> 9.51 | J35: =TRUNC(I35*(1+H35),2) -> 11.9 | K35: =TRUNC(I35*G35,2) -> 3693.77 | L35: =M35-K35 -> 928.3 | M35: =TRUNC(G35*J35,2) -> 4622.07
A36: 4.1.3 | B36: {=INDEX('III-PA'!$B$18:$B$2661,1+MATCH(_xlfn.CONCAT(" ",'II-PO'!A36," "),'III-PA'!$A$18:$A$2661,0))} -> 100901 | C36: {=INDEX('III-PA'!$C$18:$C$2661,1+MATCH(_xlfn.CONCAT(" ",A36," "),'III-PA'!$A$18:$A$2661,0))} -> Próprio | D36: {=INDEX('III-PA'!$A$18:$A$2661,1+MATCH(_xlfn.CONCAT(" ",A36," "),'III-PA'!$A$18:$A$2661,0))} -> Composição | E36: {=INDEX('III-PA'!$D$18:$D$2661,1+MATCH(_xlfn.CONCAT(" ",A36," "),'III-PA'!$A$18:$A$2661,0))} -> ESTACA BROCA DE CONCRETO, DIÂMETRO DE 30CM, ESCAVAÇÃO MANUAL COM TRADO CONCHA, SEM ARMADURA DE ARRANQUE. AF_05/2020 (REF.: SINAPI 101175) | F36: {=INDEX('III-PA'!$G$18:$G$2661,1+MATCH(_xlfn.CONCAT(" ",A36," "),'III-PA'!$A$18:$A$2661,0))} -> M | G36: =VLOOKUP(A36,'IV-MEMORIAL'!$A$17:$N$2203,14,0) -> 252 | H36: =$L$14 -> 0.252 | I36: {=INDEX('III-PA'!$I$18:$I$2661,1+MATCH(_xlfn.CONCAT(" ",A36," "),'III-PA'!$A$18:$A$2661,0))} -> 110.56 | J36: =TRUNC(I36*(1+H36),2) -> 138.42 | K36: =TRUNC(I36*G36,2) -> 27861.12 | L36: =M36-K36 -> 7020.72 | M36: =TRUNC(G36*J36,2) -> 34881.84
A37: 4.2 | E37: BLOCOS DE COROAMENTO | K37: =SUM(K38:K44) -> 15738.12 | L37: =SUM(L38:L44) -> 3964.71 | M37: =SUM(M38:M44) -> 19702.83
A38: 4.2.1 | B38: {=INDEX('III-PA'!$B$18:$B$2661,1+MATCH(_xlfn.CONCAT(" ",'II-PO'!A38," "),'III-PA'!$A$18:$A$2661,0))} -> 96544 | C38: {=INDEX('III-PA'!$C$18:$C$2661,1+MATCH(_xlfn.CONCAT(" ",A38," "),'III-PA'!$A$18:$A$2661,0))} -> SINAPI | D38: {=INDEX('III-PA'!$A$18:$A$2661,1+MATCH(_xlfn.CONCAT(" ",A38," "),'III-PA'!$A$18:$A$2661,0))} -> Composição | E38: {=INDEX('III-PA'!$D$18:$D$2661,1+MATCH(_xlfn.CONCAT(" ",A38," "),'III-PA'!$A$18:$A$2661,0))} -> ARMAÇÃO DE BLOCO UTILIZANDO AÇO CA-50 DE 6,3 MM - MONTAGEM. AF_01/2024 | F38: {=INDEX('III-PA'!$G$18:$G$2661,1+MATCH(_xlfn.CONCAT(" ",A38," "),'III-PA'!$A$18:$A$2661,0))} -> KG | G38: =VLOOKUP(A38,'IV-MEMORIAL'!$A$17:$N$2203,14,0) -> 65.36 | H38: =$L$14 -> 0.252 | I38: {=INDEX('III-PA'!$I$18:$I$2661,1+MATCH(_xlfn.CONCAT(" ",A38," "),'III-PA'!$A$18:$A$2661,0))} -> 17.48 | J38: =TRUNC(I38*(1+H38),2) -> 21.88 | K38: =TRUNC(I38*G38,2) -> 1142.49 | L38: =M38-K38 -> 287.58 | M38: =TRUNC(G38*J38,2) -> 1430.07
A39: 4.2.2 | B39: {=INDEX('III-PA'!$B$18:$B$2661,1+MATCH(_xlfn.CONCAT(" ",'II-PO'!A39," "),'III-PA'!$A$18:$A$2661,0))} -> 96546 | C39: {=INDEX('III-PA'!$C$18:$C$2661,1+MATCH(_xlfn.CONCAT(" ",A39," "),'III-PA'!$A$18:$A$2661,0))} -> SINAPI | D39: {=INDEX('III-PA'!$A$18:$A$2661,1+MATCH(_xlfn.CONCAT(" ",A39," "),'III-PA'!$A$18:$A$2661,0))} -> Composição | E39: {=INDEX('III-PA'!$D$18:$D$2661,1+MATCH(_xlfn.CONCAT(" ",A39," "),'III-PA'!$A$18:$A$2661,0))} -> ARMAÇÃO DE BLOCO UTILIZANDO AÇO CA-50 DE 10 MM - MONTAGEM. AF_01/2024 | F39: {=INDEX('III-PA'!$G$18:$G$2661,1+MATCH(_xlfn.CONCAT(" ",A39," "),'III-PA'!$A$18:$A$2661,0))} -> KG | G39: =VLOOKUP(A39,'IV-MEMORIAL'!$A$17:$N$2203,14,0) -> 54.37 | H39: =$L$14 -> 0.252 | I39: {=INDEX('III-PA'!$I$18:$I$2661,1+MATCH(_xlfn.CONCAT(" ",A39," "),'III-PA'!$A$18:$A$2661,0))} -> 13.23 | J39: =TRUNC(I39*(1+H39),2) -> 16.56 | K39: =TRUNC(I39*G39,2) -> 719.31 | L39: =M39-K39 -> 181.05 | M39: =TRUNC(G39*J39,2) -> 900.36
A40: 4.2.3 | B40: {=INDEX('III-PA'!$B$18:$B$2661,1+MATCH(_xlfn.CONCAT(" ",'II-PO'!A40," "),'III-PA'!$A$18:$A$2661,0))} -> 94971 | C40: {=INDEX('III-PA'!$C$18:$C$2661,1+MATCH(_xlfn.CONCAT(" ",A40," "),'III-PA'!$A$18:$A$2661,0))} -> SINAPI | D40: {=INDEX('III-PA'!$A$18:$A$2661,1+MATCH(_xlfn.CONCAT(" ",A40," "),'III-PA'!$A$18:$A$2661,0))} -> Composição | E40: {=INDEX('III-PA'!$D$18:$D$2661,1+MATCH(_xlfn.CONCAT(" ",A40," "),'III-PA'!$A$18:$A$2661,0))} -> CONCRETO FCK = 25MPA, TRAÇO 1:2,3:2,7 (EM MASSA SECA DE CIMENTO/ AREIA MÉDIA/ BRITA 1) - PREPARO MECÂNICO COM BETONEIRA 600 L. AF_05/2021 | F40: {=INDEX('III-PA'!$G$18:$G$2661,1+MATCH(_xlfn.CONCAT(" ",A40," "),'III-PA'!$A$18:$A$2661,0))} -> m³ | G40: =VLOOKUP(A40,'IV-MEMORIAL'!$A$17:$N$2203,14,0) -> 7.9 | H40: =$L$14 -> 0.252 | I40: {=INDEX('III-PA'!$I$18:$I$2661,1+MATCH(_xlfn.CONCAT(" ",A40," "),'III-PA'!$A$18:$A$2661,0))} -> 526.74 | J40: =TRUNC(I40*(1+H40),2) -> 659.47 | K40: =TRUNC(I40*G40,2) -> 4161.24 | L40: =M40-K40 -> 1048.57 | M40: =TRUNC(G40*J40,2) -> 5209.81
A41: 4.2.4 | B41: {=INDEX('III-PA'!$B$18:$B$2661,1+MATCH(_xlfn.CONCAT(" ",'II-PO'!A41," "),'III-PA'!$A$18:$A$2661,0))} -> 103670 | C41: {=INDEX('III-PA'!$C$18:$C$2661,1+MATCH(_xlfn.CONCAT(" ",A41," "),'III-PA'!$A$18:$A$2661,0))} -> SINAPI | D41: {=INDEX('III-PA'!$A$18:$A$2661,1+MATCH(_xlfn.CONCAT(" ",A41," "),'III-PA'!$A$18:$A$2661,0))} -> Composição | E41: {=INDEX('III-PA'!$D$18:$D$2661,1+MATCH(_xlfn.CONCAT(" ",A41," "),'III-PA'!$A$18:$A$2661,0))} -> LANÇAMENTO COM USO DE BALDES, ADENSAMENTO E ACABAMENTO DE CONCRETO EM ESTRUTURAS. AF_02/2022 | F41: {=INDEX('III-PA'!$G$18:$G$2661,1+MATCH(_xlfn.CONCAT(" ",A41," "),'III-PA'!$A$18:$A$2661,0))} -> m³ | G41: =VLOOKUP(A41,'IV-MEMORIAL'!$A$17:$N$2203,14,0) -> 7.9 | H41: =$L$14 -> 0.252 | I41: {=INDEX('III-PA'!$I$18:$I$2661,1+MATCH(_xlfn.CONCAT(" ",A41," "),'III-PA'!$A$18:$A$2661,0))} -> 324.68 | J41: =TRUNC(I41*(1+H41),2) -> 406.49 | K41: =TRUNC(I41*G41,2) -> 2564.97 | L41: =M41-K41 -> 646.3 | M41: =TRUNC(G41*J41,2) -> 3211.27
A42: 4.2.5 | B42: {=INDEX('III-PA'!$B$18:$B$2661,1+MATCH(_xlfn.CONCAT(" ",'II-PO'!A42," "),'III-PA'!$A$18:$A$2661,0))} -> 96521 | C42: {=INDEX('III-PA'!$C$18:$C$2661,1+MATCH(_xlfn.CONCAT(" ",A42," "),'III-PA'!$A$18:$A$2661,0))} -> SINAPI | D42: {=INDEX('III-PA'!$A$18:$A$2661,1+MATCH(_xlfn.CONCAT(" ",A42," "),'III-PA'!$A$18:$A$2661,0))} -> Composição | E42: {=INDEX('III-PA'!$D$18:$D$2661,1+MATCH(_xlfn.CONCAT(" ",A42," "),'III-PA'!$A$18:$A$2661,0))} -> ESCAVAÇÃO MECANIZADA PARA BLOCO DE COROAMENTO OU SAPATA COM RETROESCAVADEIRA (INCLUINDO ESCAVAÇÃO PARA COLOCAÇÃO DE FÔRMAS). AF_01/2024 | F42: {=INDEX('III-PA'!$G$18:$G$2661,1+MATCH(_xlfn.CONCAT(" ",A42," "),'III-PA'!$A$18:$A$2661,0))} -> m³ | G42: =VLOOKUP(A42,'IV-MEMORIAL'!$A$17:$N$2203,14,0) -> 33.26 | H42: =$L$14 -> 0.252 | I42: {=INDEX('III-PA'!$I$18:$I$2661,1+MATCH(_xlfn.CONCAT(" ",A42," "),'III-PA'!$A$18:$A$2661,0))} -> 41.43 | J42: =TRUNC(I42*(1+H42),2) -> 51.87 | K42: =TRUNC(I42*G42,2) -> 1377.96 | L42: =M42-K42 -> 347.23 | M42: =TRUNC(G42*J42,2) -> 1725.19
A43: 4.2.6 | B43: {=INDEX('III-PA'!$B$18:$B$2661,1+MATCH(_xlfn.CONCAT(" ",'II-PO'!A43," "),'III-PA'!$A$18:$A$2661,0))} -> 050903 | C43: {=INDEX('III-PA'!$C$18:$C$2661,1+MATCH(_xlfn.CONCAT(" ",A43," "),'III-PA'!$A$18:$A$2661,0))} -> AGETOP CIVIL | D43: {=INDEX('III-PA'!$A$18:$A$2661,1+MATCH(_xlfn.CONCAT(" ",A43," "),'III-PA'!$A$18:$A$2661,0))} -> Composição | E43: {=INDEX('III-PA'!$D$18:$D$2661,1+MATCH(_xlfn.CONCAT(" ",A43," "),'III-PA'!$A$18:$A$2661,0))} -> REATERRO COM APILOAMENTO MANUAL (BLOCOS/SAPATAS) | F43: {=INDEX('III-PA'!$G$18:$G$2661,1+MATCH(_xlfn.CONCAT(" ",A43," "),'III-PA'!$A$18:$A$2661,0))} -> m³ | G43: =VLOOKUP(A43,'IV-MEMORIAL'!$A$17:$N$2203,14,0) -> 24.95 | H43: =$L$14 -> 0.252 | I43: {=INDEX('III-PA'!$I$18:$I$2661,1+MATCH(_xlfn.CONCAT(" ",A43," "),'III-PA'!$A$18:$A$2661,0))} -> 34.35 | J43: =TRUNC(I43*(1+H43),2) -> 43 | K43: =TRUNC(I43*G43,2) -> 857.03 | L43: =M43-K43 -> 215.82 | M43: =TRUNC(G43*J43,2) -> 1072.85
A44: 4.2.7 | B44: {=INDEX('III-PA'!$B$18:$B$2661,1+MATCH(_xlfn.CONCAT(" ",'II-PO'!A44," "),'III-PA'!$A$18:$A$2661,0))} -> 96534 | C44: {=INDEX('III-PA'!$C$18:$C$2661,1+MATCH(_xlfn.CONCAT(" ",A44," "),'III-PA'!$A$18:$A$2661,0))} -> SINAPI | D44: {=INDEX('III-PA'!$A$18:$A$2661,1+MATCH(_xlfn.CONCAT(" ",A44," "),'III-PA'!$A$18:$A$2661,0))} -> Composição | E44: {=INDEX('III-PA'!$D$18:$D$2661,1+MATCH(_xlfn.CONCAT(" ",A44," "),'III-PA'!$A$18:$A$2661,0))} -> FABRICAÇÃO, MONTAGEM E DESMONTAGEM DE FÔRMA PARA BLOCO DE COROAMENTO, EM MADEIRA SERRADA, E=25 MM, 4 UTILIZAÇÕES. AF_01/2024 | F44: {=INDEX('III-PA'!$G$18:$G$2661,1+MATCH(_xlfn.CONCAT(" ",A44," "),'III-PA'!$A$18:$A$2661,0))} -> m² | G44: =VLOOKUP(A44,'IV-MEMORIAL'!$A$17:$N$2203,14,0) -> 56 | H44: =$L$14 -> 0.252 | I44: {=INDEX('III-PA'!$I$18:$I$2661,1+MATCH(_xlfn.CONCAT(" ",A44," "),'III-PA'!$A$18:$A$2661,0))} -> 87.77 | J44: =TRUNC(I44*(1+H44),2) -> 109.88 | K44: =TRUNC(I44*G44,2) -> 4915.12 | L44: =M44-K44 -> 1238.16 | M44: =TRUNC(G44*J44,2) -> 6153.28
A45: 4.3 | E45: VIGAS BALDRAMES | K45: =SUM(K46:K53) -> 27806.53 | L45: =SUM(L46:L53) -> 7003.21 | M45: =SUM(M46:M53) -> 34809.74
A46: 4.3.1 | B46: {=INDEX('III-PA'!$B$18:$B$2661,1+MATCH(_xlfn.CONCAT(" ",'II-PO'!A46," "),'III-PA'!$A$18:$A$2661,0))} -> 104916 | C46: {=INDEX('III-PA'!$C$18:$C$2661,1+MATCH(_xlfn.CONCAT(" ",A46," "),'III-PA'!$A$18:$A$2661,0))} -> SINAPI | D46: {=INDEX('III-PA'!$A$18:$A$2661,1+MATCH(_xlfn.CONCAT(" ",A46," "),'III-PA'!$A$18:$A$2661,0))} -> Composição | E46: {=INDEX('III-PA'!$D$18:$D$2661,1+MATCH(_xlfn.CONCAT(" ",A46," "),'III-PA'!$A$18:$A$2661,0))} -> ARMAÇÃO DE SAPATA ISOLADA, VIGA BALDRAME E SAPATA CORRIDA UTILIZANDO AÇO CA-60 DE 5 MM - MONTAGEM. AF_01/2024 | F46: {=INDEX('III-PA'!$G$18:$G$2661,1+MATCH(_xlfn.CONCAT(" ",A46," "),'III-PA'!$A$18:$A$2661,0))} -> KG | G46: =VLOOKUP(A46,'IV-MEMORIAL'!$A$17:$N$2203,14,0) -> 131.01 | H46: =$L$14 -> 0.252 | I46: {=INDEX('III-PA'!$I$18:$I$2661,1+MATCH(_xlfn.CONCAT(" ",A46," "),'III-PA'!$A$18:$A$2661,0))} -> 16.46 | J46: =TRUNC(I46*(1+H46),2) -> 20.6 | K46: =TRUNC(I46*G46,2) -> 2156.42 | L46: =M46-K46 -> 542.38 | M46: =TRUNC(G46*J46,2) -> 2698.8
A47: 4.3.2 | B47: {=INDEX('III-PA'!$B$18:$B$2661,1+MATCH(_xlfn.CONCAT(" ",'II-PO'!A47," "),'III-PA'!$A$18:$A$2661,0))} -> 104918 | C47: {=INDEX('III-PA'!$C$18:$C$2661,1+MATCH(_xlfn.CONCAT(" ",A47," "),'III-PA'!$A$18:$A$2661,0))} -> SINAPI | D47: {=INDEX('III-PA'!$A$18:$A$2661,1+MATCH(_xlfn.CONCAT(" ",A47," "),'III-PA'!$A$18:$A$2661,0))} -> Composição | E47: {=INDEX('III-PA'!$D$18:$D$2661,1+MATCH(_xlfn.CONCAT(" ",A47," "),'III-PA'!$A$18:$A$2661,0))} -> ARMAÇÃO DE SAPATA ISOLADA, VIGA BALDRAME E SAPATA CORRIDA UTILIZANDO AÇO CA-50 DE 8 MM - MONTAGEM. AF_01/2024 | F47: {=INDEX('III-PA'!$G$18:$G$2661,1+MATCH(_xlfn.CONCAT(" ",A47," "),'III-PA'!$A$18:$A$2661,0))} -> KG | G47: =VLOOKUP(A47,'IV-MEMORIAL'!$A$17:$N$2203,14,0) -> 180.32 | H47: =$L$14 -> 0.252 | I47: {=INDEX('III-PA'!$I$18:$I$2661,1+MATCH(_xlfn.CONCAT(" ",A47," "),'III-PA'!$A$18:$A$2661,0))} -> 13.39 | J47: =TRUNC(I47*(1+H47),2) -> 16.76 | K47: =TRUNC(I47*G47,2) -> 2414.48 | L47: =M47-K47 -> 607.68 | M47: =TRUNC(G47*J47,2) -> 3022.16
A48: 4.3.3 | B48: {=INDEX('III-PA'!$B$18:$B$2661,1+MATCH(_xlfn.CONCAT(" ",'II-PO'!A48," "),'III-PA'!$A$18:$A$2661,0))} -> 104919 | C48: {=INDEX('III-PA'!$C$18:$C$2661,1+MATCH(_xlfn.CONCAT(" ",A48," "),'III-PA'!$A$18:$A$2661,0))} -> SINAPI | D48: {=INDEX('III-PA'!$A$18:$A$2661,1+MATCH(_xlfn.CONCAT(" ",A48," "),'III-PA'!$A$18:$A$2661,0))} -> Composição | E48: {=INDEX('III-PA'!$D$18:$D$2661,1+MATCH(_xlfn.CONCAT(" ",A48," "),'III-PA'!$A$18:$A$2661,0))} -> ARMAÇÃO DE SAPATA ISOLADA, VIGA BALDRAME E SAPATA CORRIDA UTILIZANDO AÇO CA-50 DE 10 MM - MONTAGEM. AF_01/2024 | F48: {=INDEX('III-PA'!$G$18:$G$2661,1+MATCH(_xlfn.CONCAT(" ",A48," "),'III-PA'!$A$18:$A$2661,0))} -> KG | G48: =VLOOKUP(A48,'IV-MEMORIAL'!$A$17:$N$2203,14,0) -> 121.45 | H48: =$L$14 -> 0.252 | I48: {=INDEX('III-PA'!$I$18:$I$2661,1+MATCH(_xlfn.CONCAT(" ",A48," "),'III-PA'!$A$18:$A$2661,0))} -> 11.8 | J48: =TRUNC(I48*(1+H48),2) -> 14.77 | K48: =TRUNC(I48*G48,2) -> 1433.11 | L48: =M48-K48 -> 360.7 | M48: =TRUNC(G48*J48,2) -> 1793.81
A49: 4.3.4 | B49: {=INDEX('III-PA'!$B$18:$B$2661,1+MATCH(_xlfn.CONCAT(" ",'II-PO'!A49," "),'III-PA'!$A$18:$A$2661,0))} -> 94971 | C49: {=INDEX('III-PA'!$C$18:$C$2661,1+MATCH(_xlfn.CONCAT(" ",A49," "),'III-PA'!$A$18:$A$2661,0))} -> SINAPI | D49: {=INDEX('III-PA'!$A$18:$A$2661,1+MATCH(_xlfn.CONCAT(" ",A49," "),'III-PA'!$A$18:$A$2661,0))} -> Composição | E49: {=INDEX('III-PA'!$D$18:$D$2661,1+MATCH(_xlfn.CONCAT(" ",A49," "),'III-PA'!$A$18:$A$2661,0))} -> CONCRETO FCK = 25MPA, TRAÇO 1:2,3:2,7 (EM MASSA SECA DE CIMENTO/ AREIA MÉDIA/ BRITA 1) - PREPARO MECÂNICO COM BETONEIRA 600 L. AF_05/2021 | F49: {=INDEX('III-PA'!$G$18:$G$2661,1+MATCH(_xlfn.CONCAT(" ",A49," "),'III-PA'!$A$18:$A$2661,0))} -> m³ | G49: =VLOOKUP(A49,'IV-MEMORIAL'!$A$17:$N$2203,14,0) -> 11.05 | H49: =$L$14 -> 0.252 | I49: {=INDEX('III-PA'!$I$18:$I$2661,1+MATCH(_xlfn.CONCAT(" ",A49," "),'III-PA'!$A$18:$A$2661,0))} -> 526.74 | J49: =TRUNC(I49*(1+H49),2) -> 659.47 | K49: =TRUNC(I49*G49,2) -> 5820.47 | L49: =M49-K49 -> 1466.67 | M49: =TRUNC(G49*J49,2) -> 7287.14
...

Sheet III-PA
A1: ='IV-MEMORIAL'!A1 -> GABINETES DOS VEREADORES DE ARAGARÇAS - GO
A10: OBRA: | B10: ='I-RESUMO'!$B$6 -> GABINETES DOS VEREADORES DE ARAGARÇAS - GO | H10: REFERÊNCIA: | I10: ='II-PO'!L10 -> SINAPI GO 9/2025
A11: LOCAL: | B11: ='I-RESUMO'!$B$7 -> Rua José de Barros Souza, 09. Setor Centro Administrativo, Aragarças-GO. | I11: ='II-PO'!L11 -> GOINFRA CIVIL (AGETOP) 8/2025
A12: DATA: | B12: =TODAY() -> 46071 | I12: ='II-PO'!L12 -> SICRO3 GO 7/2025
H13: ENCARGOS | I13: ='I-RESUMO'!$F$9 -> NÃO DESONERADO
H14: BDI CONSTRUÇÃO: | I14: ='I-RESUMO'!$F$10 -> 0.252
A16: =CAPA!A14 -> ANEXO III - PRANILHA ANALÍTICA
A18: 1.1 | B18: Código | C18: Banco | D18: Descrição | E18: Tipo | G18: Und | H18: Quant. | I18: Valor Unit | J18: Total
A19: Composição | B19: COMP CIVIL 01 | C19: Próprio | D19: ADMINISTRAÇÃO LOCAL DA OBRA | E19: CANT - CANTEIRO DE OBRAS | G19: %CT | H19: 1 | I19: 66474.15 | J19: 66474.15
A20: Composição Auxiliar | B20: 100306 | C20: SINAPI | D20: ENGENHEIRO CIVIL PLENO COM ENCARGOS COMPLEMENTARES | E20: SEDI - SERVIÇOS DIVERSOS | G20: H | H20: 165 | I20: 133.2 | J20: 21978
A21: Composição Auxiliar | B21: 94295 | C21: SINAPI | D21: MESTRE DE OBRAS COM ENCARGOS COMPLEMENTARES | E21: Livro SINAPI: Cálculos e Parâmetros | G21: MES | H21: 5 | I21: 8899.23 | J21: 44496.15
E22: MO sem LS => | F22: 63379.2 | G22: LS => | H22: 0 | I22: MO com LS => | J22: 63379.2
E23: Valor do BDI => | F23: 0 | H23: Valor com BDI => | J23: 66474.15
G24: Quant. => | H24: 1,00 | I24: Preço Total => | J24: 66474.15
A26: 2 | D26: SERVIÇOS PRELIMINARES E CANTEIROS DE OBRAS | J26: 32405.04
A27: 2.1 | B27: Código | C27: Banco | D27: Descrição | E27: Tipo | G27: Und | H27: Quant. | I27: Valor Unit | J27: Total
A28: Composição | B28: 103689 | C28: SINAPI | D28: FORNECIMENTO E INSTALAÇÃO DE PLACA DE OBRA COM CHAPA GALVANIZADA E ESTRUTURA DE MADEIRA. AF_03/2022_PS | E28: Sinalização Vertical Viária | G28: m² | H28: 1 | I28: 465.73 | J28: 465.73
A29: Composição Auxiliar | B29: 88316 | C29: SINAPI | D29: SERVENTE COM ENCARGOS COMPLEMENTARES | E29: Livro SINAPI: Cálculos e Parâmetros | G29: H | H29: 1.1186 | I29: 22.42 | J29: 25.07
A30: Composição Auxiliar | B30: 102234 | C30: SINAPI | D30: PINTURA IMUNIZANTE PARA MADEIRA, 2 DEMÃOS. AF_01/2021 | E30: Pintura em Madeira | G30: m² | H30: 0.5 | I30: 22.95 | J30: 11.47
A31: Composição Auxiliar | B31: 88262 | C31: SINAPI | D31: CARPINTEIRO DE FORMAS COM ENCARGOS COMPLEMENTARES | E31: Livro SINAPI: Cálculos e Parâmetros | G31: H | H31: 0.3729 | I31: 31.69 | J31: 11.81
A32: Insumo | B32: 00005069 | C32: SINAPI | D32: PREGO DE ACO POLIDO COM CABECA 17 X 27 (2 1/2 X 11) | E32: Material | G32: KG | H32: 0.0132 | I32: 20.68 | J32: 0.27
A33: Insumo | B33: 00005065 | C33: SINAPI | D33: PREGO DE ACO POLIDO COM CABECA 10 X 10 (7/8 X 17) | E33: Material | G33: KG | H33: 0.0113 | I33: 38.6 | J33: 0.43
A34: Insumo | B34: 00004509 | C34: SINAPI | D34: SARRAFO *2,5 X 10* CM EM PINUS, MISTA OU EQUIVALENTE DA REGIAO - BRUTA | E34: Material | G34: M | H34: 3.2083 | I34: 5.2 | J34: 16.68
A35: Insumo | B35: 00004813 | C35: SINAPI | D35: PLACA DE OBRA (PARA CONSTRUCAO CIVIL) EM CHAPA GALVANIZADA *N. 22*, ADESIVADA, DE *2,4 X 1,2* M (SEM POSTES PARA FIXACAO) | E35: Material | G35: m² | H35: 1 | I35: 400 | J35: 400
E36: MO sem LS => | F36: 31.4 | G36: LS => | H36: 0 | I36: MO com LS => | J36: 31.4
E37: Valor do BDI => | F37: 0 | H37: Valor com BDI => | J37: 465.73
G38: Quant. => | H38: 4,50 | I38: Preço Total => | J38: 2095.78
A40: 2.2 | B40: Código | C40: Banco | D40: Descrição | E40: Tipo | G40: Und | H40: Quant. | I40: Valor Unit | J40: Total
A41: Composição | B41: 020231 | C41: AGETOP CIVIL | D41: LOCAÇÃO DE CONTAINER COM REVESTIMENTO INTERNO, PARA ESCRITÓRIO SEM SANITÁRIOS 6,00 X 2,40 M, INCLUSIVE APARELHO DE AR CONDICIONADO E MOBILIÁRIO (EXCLUSO MOBILIZAÇÃO / DESMOBILIZAÇÃO) | E41: 202 | G41: mes | H41: 1 | I41: 2364.59 | J41: 2364.59
A42: Insumo | B42: 5005 | C42: AGETOP CIVIL | D42: LOCAÇÃO DE CONTAINER COM REVESTIMENTO INTERNO, PARA ESCRITÓRIO SEM SANITÁRIOS 6,00 X 2,40 M, INCLUSIVE APARELHO DE AR CONDICIONADO E MOBILIÁRIO (EXCLUSO MOBILIZAÇÃO / DESMOBILIZAÇÃO) | E42: Material | G42: MÊS | H42: 1 | I42: 2364.59 | J42: 2364.59
E43: MO sem LS => | F43: 0 | G43: LS => | H43: 0 | I43: MO com LS => | J43: 0
E44: Valor do BDI => | F44: 0 | H44: Valor com BDI => | J44: 2364.59
G45: Quant. => | H45: 5,00 | I45: Preço Total => | J45: 11822.95
A47: 2.3 | B47: Código | C47: Banco | D47: Descrição | E47: Tipo | G47: Und | H47: Quant. | I47: Valor Unit | J47: Total
A48: Composição | B48: 020232 | C48: AGETOP CIVIL | D48: LOCAÇÃO DE CONTAINER SANITÁRIO MISTO 6,00 X 2,40 M, COM 3 VASOS, 6 CHUVEIROS, LAVATÓRIO E MICTÓRIO (EXCLUSO MOBILIZAÇÃO / DESMOBILIZAÇÃO) | E48: 202 | G48: mes | H48: 1 | I48: 1325.95 | J48: 1325.95
A49: Insumo | B49: 5006 | C49: AGETOP CIVIL | D49: LOCAÇÃO DE CONTAINER SANITÁRIO MISTO 6,00 X 2,40 M, COM 3 VASOS, 6 CHUVEIROS, LAVATÓRIO E MICTÓRIO (EXCLUSO MOBILIZAÇÃO / DESMOBILIZAÇÃO) | E49: Material | G49: MÊS | H49: 1 | I49: 1325.95 | J49: 1325.95
E50: MO sem LS => | F50: 0 | G50: LS => | H50: 0 | I50: MO com LS => | J50: 0
E51: Valor do BDI => | F51: 0 | H51: Valor com BDI => | J51: 1325.95
G52: Quant. => | H52: 5,00 | I52: Preço Total => | J52: 6629.75
A54: 2.4 | B54: Código | C54: Banco | D54: Descrição | E54: Tipo | G54: Und | H54: Quant. | I54: Valor Unit | J54: Total
...

Sheet IV-MEMORIAL
A1: ='II-PO'!A1 -> GABINETES DOS VEREADORES DE ARAGARÇAS - GO
A9: OBRA: | B9: ='I-RESUMO'!$B$6 -> GABINETES DOS VEREADORES DE ARAGARÇAS - GO | K9: REFERÊNCIA: | L9: ='III-PA'!I10 -> SINAPI GO 9/2025
A10: LOCAL: | B10: ='I-RESUMO'!$B$7 -> Rua José de Barros Souza, 09. Setor Centro Administrativo, Aragarças-GO. | L10: ='III-PA'!I11 -> GOINFRA CIVIL (AGETOP) 8/2025
A11: DATA: | B11: =TODAY() -> 46071 | L11: ='III-PA'!I12 -> SICRO3 GO 7/2025
K12: ENCARGOS | L12: ='I-RESUMO'!$F$9 -> NÃO DESONERADO
K13: BDI CONSTRUÇÃO: | L13: ='I-RESUMO'!$F$10 -> 0.252
A15: =CAPA!A15 -> ANEXO IV - MEMORIAL DE CÁLCULO
A17: 1 | B17: ADMINISTRAÇÃO DE OBRAS
A19: 1.1 | B19: =VLOOKUP('IV-MEMORIAL'!A19,'II-PO'!$A$19:$M$295,5,0) -> ADMINISTRAÇÃO LOCAL DA OBRA | N19: =C21 -> 1
B21: Quantidade | C21: 1 | D21: UNID
A23: 2 | B23: SERVIÇOS PRELIMINARES E CANTEIROS DE OBRAS
A25: 2.1 | B25: =VLOOKUP('IV-MEMORIAL'!A25,'II-PO'!$A$19:$M$295,5,0) -> FORNECIMENTO E INSTALAÇÃO DE PLACA DE OBRA COM CHAPA GALVANIZADA E ESTRUTURA DE MADEIRA. AF_03/2022_PS | N25: =C30 -> 4.5
B27: Altura | C27: 1.5 | D27: m
B28: Largura | C28: 3 | D28: m
B30: Quantidade | C30: =C27*C28 -> 4.5 | D30: M2
A32: 2.2 | B32: =VLOOKUP('IV-MEMORIAL'!A32,'II-PO'!$A$19:$M$295,5,0) -> LOCAÇÃO DE CONTAINER COM REVESTIMENTO INTERNO, PARA ESCRITÓRIO SEM SANITÁRIOS 6,00 X 2,40 M, INCLUSIVE APARELHO DE AR CONDICIONADO E MOBILIÁRIO (EXCLUSO MOBILIZAÇÃO / DESMOBILIZAÇÃO) | N32: =C34 -> 5
B34: Quantidade | C34: 5 | D34: MÊS
A36: 2.3 | B36: =VLOOKUP('IV-MEMORIAL'!A36,'II-PO'!$A$19:$M$295,5,0) -> LOCAÇÃO DE CONTAINER SANITÁRIO MISTO 6,00 X 2,40 M, COM 3 VASOS, 6 CHUVEIROS, LAVATÓRIO E MICTÓRIO (EXCLUSO MOBILIZAÇÃO / DESMOBILIZAÇÃO) | N36: =C38 -> 5
B38: Quantidade | C38: 5 | D38: UNID
A40: 2.4 | B40: =VLOOKUP('IV-MEMORIAL'!A40,'II-PO'!$A$19:$M$295,5,0) -> LOCAÇÃO DE CONTAINER SEM REVESTIMENTO INTERNO PARA ALMOXARIFADO / DEPÓSITO 6,00 X 2,40 M, INCLUSIVE MOBILIÁRIO (EXCLUSO MOBILIZAÇÃO / DESMOBILIZAÇÃO) | N40: =C42 -> 5
B42: Quantidade | C42: 5 | D42: UNID
A44: 2.5 | B44: =VLOOKUP('IV-MEMORIAL'!A44,'II-PO'!$A$19:$M$295,5,0) -> CARGA, MANOBRA E DESCARGA DE CONTAINER | N44: =C53 -> 6
B46: Escritório | C46: 1
B47: Sanitário | C47: 1
B48: Almoxarifado | C48: 1
B50: Mobilização | C50: 1
B51: Desmobilização | C51: 1
B53: Quantidade | C53: =SUM(C46:C48)*SUM(C50:C51) -> 6 | D53: UNID
A55: 2.6 | B55: =VLOOKUP('IV-MEMORIAL'!A55,'II-PO'!$A$19:$M$295,5,0) -> LIMPEZA MECANIZADA DE CAMADA VEGETAL, VEGETAÇÃO E PEQUENAS ÁRVORES (DIÂMETRO DE TRONCO MENOR QUE 0,20 M), COM TRATOR DE ESTEIRAS. AF_03/2024 | N55: =C60 -> 459
B57: Largura (m) | C57: =0.15+1.45+13.8+1.45+0.15 -> 17
B58: Comprimento (m) | C58: 27
B60: Quantidade | C60: =TRUNC(C57*C58,2) -> 459 | D60: M²
A62: 2.7 | B62: =VLOOKUP('IV-MEMORIAL'!A62,'II-PO'!$A$19:$M$295,5,0) -> LOCAÇÃO CONVENCIONAL DE OBRA, UTILIZANDO GABARITO DE TÁBUAS CORRIDAS PONTALETADAS A CADA 2,00M - 2 UTILIZAÇÕES. AF_03/2024 | N62: =C67 -> 88
B64: Largura (m) | C64: =0.15+1.45+13.8+1.45+0.15 -> 17
B65: Comprimento (m) | C65: 27
B67: Quantidade | C67: =2*(C65+C64) -> 88 | D67: M
A69: 3 | B69: MOVIMENTAÇÃO DE TERRA
A71: 3.1 | B71: =VLOOKUP('IV-MEMORIAL'!A71,'II-PO'!$A$19:$M$295,5,0) -> REGULARIZAÇÃO DE SUPERFÍCIES COM MOTONIVELADORA. AF_09/2024 | N71: =C76 -> 459
B73: Largura (m) | C73: =0.15+1.45+13.8+1.45+0.15 -> 17
B74: Comprimento (m) | C74: 27
...

Sheet V-COMPOSIÇÕES PRÓPRIAS
A1: ='III-PA'!A1 -> GABINETES DOS VEREADORES DE ARAGARÇAS - GO
A10: OBRA: | B10: ='I-RESUMO'!$B$6 -> GABINETES DOS VEREADORES DE ARAGARÇAS - GO | I10: REFERÊNCIA: | J10: ='IV-MEMORIAL'!L9 -> SINAPI GO 9/2025 | M10: =COUNTIF($M$17:$M$69,L10) -> 0
A11: LOCAL: | B11: ='I-RESUMO'!$B$7 -> Rua José de Barros Souza, 09. Setor Centro Administrativo, Aragarças-GO. | J11: ='IV-MEMORIAL'!L10 -> GOINFRA CIVIL (AGETOP) 8/2025
A12: DATA: | B12: =TODAY() -> 46071 | J12: ='IV-MEMORIAL'!L11 -> SICRO3 GO 7/2025 | M12: =COUNTIF($M$17:$M$69,L12) -> 0
I13: ENCARGOS | J13: ='I-RESUMO'!$F$9 -> NÃO DESONERADO | M13: =M10+M12 -> 0
I14: BDI CONSTRUÇÃO: | J14: ='I-RESUMO'!$F$10 -> 0.252
A16: =CAPA!A16 -> ANEXO V - COMPOSIÇÕES PRÓPRIAS
A17: 1.1 | E17: ADMINISTRAÇÃO E CONTROLE | H17: %CT | I17: 1 | K17: =SUM(K18:K19) -> 66474.15 | L17: =VLOOKUP(A17,'II-PO'!$A$19:$M$295,9,0) -> 66474.15 | M17: =L17=K17 -> TRUE
B18: Composição | C18: SINAPI | D18: 100306 | E18: ENGENHEIRO CIVIL PLENO COM ENCARGOS COMPLEMENTARES | F18: SEDI - SERVICOS DIVERSOS | H18: H | I18: =F22 -> 165 | J18: 133.2 | K18: =TRUNC(I18*J18,2) -> 21978
B19: Composição | C19: SINAPI | D19: 94295 | E19: ENCARREGADO GERAL DE OBRAS COM ENCARGOS COMPLEMENTARES | F19: SEDI - SERVICOS DIVERSOS | H19: MÊS | I19: 5 | J19: 8899.23 | K19: =TRUNC(I19*J19,2) -> 44496.15
B21: ENGENHEIRO | C21: MESES | D21: (DIAS ÚTEIS)/MÊS | E21: HORAS/DIA | F21: HORAS TOTAIS
C22: 5 | D22: 22 | E22: 1.5 | F22: =C22*D22*E22 -> 165
A24: 4.1.3 | E24: ESTACA BROCA DE CONCRETO, DIÂMETRO DE 30CM, ESCAVAÇÃO MANUAL COM TRADO CONCHA, SEM ARMADURA DE ARRANQUE. AF_05/2020 (REF.: SINAPI 101175) | H24: M | I24: 1 | K24: =SUM(K25:K27) -> 110.56 | L24: =VLOOKUP(A24,'II-PO'!$A$19:$M$295,9,0) -> 110.56 | M24: =L24=K24 -> TRUE
B25: Composição | C25: SINAPI | D25: 94971 | E25: CONCRETO FCK = 25MPA, TRAÇO 1:2,3:2,7 (EM MASSA SECA DE CIMENTO/ AREIA MÉDIA/ BRITA 1) - PREPARO MECÂNICO COM BETONEIRA 600 L. AF_05/2021 | H25: M3 | I25: 0.086 | J25: 526.74 | K25: =TRUNC(I25*J25,2) -> 45.29
B26: Composição | C26: SINAPI | D26: 88309 | E26: PEDREIRO COM ENCARGOS COMPLEMENTARES | H26: H | I26: 1.103 | J26: 32.15 | K26: =TRUNC(I26*J26,2) -> 35.46
B27: Composição | C27: SINAPI | D27: 88316 | E27: SERVENTE COM ENCARGOS COMPLEMENTARES | H27: H | I27: 1.33 | J27: 22.42 | K27: =TRUNC(I27*J27,2) -> 29.81
B29: COMPOSIÇÃO MÃE
B30: ESTACA BROCA DE CONCRETO, DIÂMETRO DE 30CM, ESCAVAÇÃO MANUAL COM TRADO CONCHA, COM ARMADURA DE ARRANQUE. AF_05/2020
B31: Banco | C31: Tipo | D31: Código | E31: Descrição | F31: Unidade | G31: Quant. | H31: Custo Unit. | I31: Custo Total
B32: SINAPI | C32: Composição | D32: 94970 | E32: CONCRETO FCK = 20MPA, TRAÇO 1:2,7:3 (EM MASSA SECA DE CIMENTO/ AREIA MÉDIA/ BRITA 1) - PREPARO MECÂNICO COM BETONEIRA 600 L. AF_05/2021 | F32: M3 | G32: 0.086 | H32: 503.29 | I32: 43.28
B33: SINAPI | C33: Composição | D33: 92804 | E33: CORTE E DOBRA DE AÇO CA-50, DIÂMETRO DE 12,5 MM. AF_06/2022 | F33: KG | G33: 2.123 | H33: 6.59 | I33: 13.99
B34: SINAPI | C34: Composição | D34: 88316 | E34: SERVENTE COM ENCARGOS COMPLEMENTARES | F34: H | G34: 1.33 | H34: 22.42 | I34: 29.81
B35: SINAPI | C35: Composição | D35: 88309 | E35: PEDREIRO COM ENCARGOS COMPLEMENTARES | F35: H | G35: 1.103 | H35: 33.15 | I35: 35.46
B37: *Composição modificada para composição que se adeque ao FCK pedido.
B38: **Composição será adicionada em composições a parte, dessa forma, será retirada.
A40: 15.1 | E40: PAINEL EM ACM - ESTRUTURADO (FACHADAS) (REF.: SEDOP 061458) | H40: M2 | I40: 1 | K40: =SUM(K41:K45) -> 413.79 | L40: =VLOOKUP(A40,'II-PO'!$A$19:$M$295,9,0) -> 413.79 | M40: =L40=K40 -> TRUE
B41: Composição | C41: SINAPI | D41: 2692 | E41: AJUDANTE DE ESTRUTURA METÁLICA COM ENCARGOS COMPLEMENTARES | H41: H | I41: 4 | J41: 21.52 | K41: =TRUNC(I41*J41,2) -> 86.08
B42: Composição | C42: SINAPI | D42: 5069 | E42: MONTADOR DE ESTRUTURAS METÁLICAS COM ENCARGOS COMPLEMENTARES | H42: H | I42: 4 | J42: 23.81 | K42: =TRUNC(I42*J42,2) -> 95.24
B43: Insumo | C43: SICRO3 | D43: 97738 | E43: Chapa de alumínio composto (ACM) - E = 3,0 mm | H43: M2 | I43: 1 | J43: 145.1 | K43: =TRUNC(I43*J43,2) -> 145.1
B44: Insumo | C44: AGETOP-CIVIL | D44: 1326 | E44: ESTRUTURA METALICA MR250 / ASTM A36 - COTAÇÃO (FABRICAÇÃO E MONTAGEM) | H44: KG | I44: =ROUND(C68,4) -> 5.1516 | J44: 16.15 | K44: =TRUNC(I44*J44,2) -> 83.19
B45: Insumo | C45: SEDOP | D45: A00098 | E45: Acessórios p/ fixação de painéis | H45: CJ | I45: 1 | J45: 4.18 | K45: =TRUNC(I45*J45,2) -> 4.18
B47: COMPOSIÇÃO MÃE
B48: Painel em ACM - Estruturado (fachadas)
B49: Banco | C49: Tipo | D49: Código | E49: Descrição | F49: Unidade | G49: Quant. | H49: Custo Unit. | I49: Custo Total
B50: SEDOP | C50: Composição | D50: 280020 | E50: MONTADOR COM ENCARGOS COMPLEMENTARES | F50: H | G50: 4 | H50: 29.35 | I50: 117.4
B51: SEDOP | C51: Composição | D51: 280003 | E51: AJUDANTE DE MONTADOR COM ENCARGOS COMPLEMENTARES | F51: H | G51: 4 | H51: 23.63 | I51: 94.52
B52: SEDOP | C52: Insumo | D52: A00098 | E52: Acessórios p/ fixação de painéis | F52: CJ | G52: 1 | H52: 4.18 | I52: 4.18
B53: SEDOP | C53: Insumo | D53: A00097 | E53: Estrutura em metal p/ painéis de fachada | F53: M2 | G53: 1 | H53: 72.72 | I53: 79.72
B54: SEDOP | C54: Insumo | D54: A00096 | E54: Painel em ACM de 4mm | F54: M2 | G54: 1 | H54: 288 | I54: 288
B56: *Insumos e composições atualizados para bancos válidos no local.
...

Sheet VII-CURVA ABC
A1: ='VI-BDI CONSTRUÇÃO'!A1 -> GABINETES DOS VEREADORES DE ARAGARÇAS - GO | S1: Desonerado
S2: Não desonerado
A10: OBRA: | B10: ='I-RESUMO'!$B$6 -> GABINETES DOS VEREADORES DE ARAGARÇAS - GO | F10: REFERÊNCIA: | G10: ='VI-BDI CONSTRUÇÃO'!M10 -> SINAPI GO 9/2025
A11: LOCAL: | B11: ='I-RESUMO'!$B$7 -> Rua José de Barros Souza, 09. Setor Centro Administrativo, Aragarças-GO. | G11: ='VI-BDI CONSTRUÇÃO'!M11 -> GOINFRA CIVIL (AGETOP) 8/2025
A12: DATA: | B12: =TODAY() -> 46071 | G12: ='VI-BDI CONSTRUÇÃO'!M12 -> SICRO3 GO 7/2025
F13: ENCARGOS | G13: ='I-RESUMO'!$F$9 -> NÃO DESONERADO
F14: BDI CONSTRUÇÃO: | G14: ='I-RESUMO'!$F$10 -> 0.252
A16: =CAPA!A18 -> ANEXO VII - CURVA ABC
A17: Serviço | B17: Descrição | C17: Total sem BDI | D17: Parcela do BDI | E17: Total c/ BDI | F17: % DO TOTAL | G17: % ACUMULADO | H17: CLASSIFICAÇÃO
A18: 11.1 | B18: =VLOOKUP(A18,'II-PO'!$A$18:$M$295,5,0) -> TELHAMENTO COM TELHA METÁLICA TERMOACÚSTICA E = 30 MM, COM ATÉ 2 ÁGUAS, INCLUSO IÇAMENTO. AF_07/2019 | C18: =VLOOKUP(A18,'II-PO'!$A$18:$M$295,11,0) -> 70080.4 | D18: =VLOOKUP(A18,'II-PO'!$A$18:$M$295,12,0) -> 17659.41 | E18: =VLOOKUP(A18,'II-PO'!$A$18:$M$295,13,0) -> 87739.81 | F18: =E18/$H$257 -> 0.072869986 | G18: =F18 -> 0.072869986 | H18: =IF(G18<=70%,"A",IF(G18<=90%,"B","C")) -> A
A19: 1.1 | B19: =VLOOKUP(A19,'II-PO'!$A$18:$M$295,5,0) -> ADMINISTRAÇÃO LOCAL DA OBRA | C19: =VLOOKUP(A19,'II-PO'!$A$18:$M$295,11,0) -> 66474.15 | D19: =VLOOKUP(A19,'II-PO'!$A$18:$M$295,12,0) -> 16751.48 | E19: =VLOOKUP(A19,'II-PO'!$A$18:$M$295,13,0) -> 83225.63 | F19: =E19/$H$257 -> 0.069120852 | G19: =G18+F19 -> 0.14199084 | H19: =IF(G19<=70%,"A",IF(G19<=90%,"B","C")) -> A
A20: 5.3.1 | B20: =VLOOKUP(A20,'II-PO'!$A$18:$M$295,5,0) -> LAJE PRÉ-MOLDADA UNIDIRECIONAL, BIAPOIADA, PARA FORRO, ENCHIMENTO EM EPS, VIGOTA TRELIÇADA, ALTURA TOTAL DA LAJE "LT" = 12 CM (ENCHIMENTO+CAPA) = (8+4). AF_08/2025 | C20: =VLOOKUP(A20,'II-PO'!$A$18:$M$295,11,0) -> 60436.05 | D20: =VLOOKUP(A20,'II-PO'!$A$18:$M$295,12,0) -> 15228.68 | E20: =VLOOKUP(A20,'II-PO'!$A$18:$M$295,13,0) -> 75664.73 | F20: =E20/$H$257 -> 0.062841346 | G20: =G19+F20 -> 0.20483218 | H20: =IF(G20<=70%,"A",IF(G20<=90%,"B","C")) -> A
A21: 15.1 | B21: =VLOOKUP(A21,'II-PO'!$A$18:$M$295,5,0) -> PAINEL EM ACM - ESTRUTURADO (FACHADAS) (REF.: SEDOP 061458) | C21: =VLOOKUP(A21,'II-PO'!$A$18:$M$295,11,0) -> 49369.28 | D21: =VLOOKUP(A21,'II-PO'!$A$18:$M$295,12,0) -> 12440.45 | E21: =VLOOKUP(A21,'II-PO'!$A$18:$M$295,13,0) -> 61809.73 | F21: =E21/$H$257 -> 0.051334441 | G21: =G20+F21 -> 0.25616663 | H21: =IF(G21<=70%,"A",IF(G21<=90%,"B","C")) -> A
A22: 7.7 | B22: =VLOOKUP(A22,'II-PO'!$A$18:$M$295,5,0) -> REVESTIMENTO CERÂMICO PARA PISO COM PLACAS TIPO PORCELANATO DE DIMENSÕES 60X60 CM APLICADA EM AMBIENTES DE ÁREA MAIOR QUE 10 M². AF_02/2023_PE | C22: =VLOOKUP(A22,'II-PO'!$A$18:$M$295,11,0) -> 47538.81 | D22: =VLOOKUP(A22,'II-PO'!$A$18:$M$295,12,0) -> 11979.18 | E22: =VLOOKUP(A22,'II-PO'!$A$18:$M$295,13,0) -> 59517.99 | F22: =E22/$H$257 -> 0.049431097 | G22: =G21+F22 -> 0.30559772 | H22: =IF(G22<=70%,"A",IF(G22<=90%,"B","C")) -> A
A23: 6.1 | B23: =VLOOKUP(A23,'II-PO'!$A$18:$M$295,5,0) -> ALVENARIA DE VEDAÇÃO DE BLOCOS CERÂMICOS FURADOS NA HORIZONTAL DE 9X19X29 CM (ESPESSURA 9 CM) E ARGAMASSA DE ASSENTAMENTO COM PREPARO EM BETONEIRA. AF_12/2021 | C23: =VLOOKUP(A23,'II-PO'!$A$18:$M$295,11,0) -> 42011.85 | D23: =VLOOKUP(A23,'II-PO'!$A$18:$M$295,12,0) -> 10586.74 | E23: =VLOOKUP(A23,'II-PO'!$A$18:$M$295,13,0) -> 52598.59 | F23: =E23/$H$257 -> 0.043684372 | G23: =G22+F23 -> 0.34928209 | H23: =IF(G23<=70%,"A",IF(G23<=90%,"B","C")) -> A
A24: 11.4 | B24: =VLOOKUP(A24,'II-PO'!$A$18:$M$295,5,0) -> FABRICAÇÃO E INSTALAÇÃO DE MEIA TESOURA DE MADEIRA NÃO APARELHADA, COM VÃO DE 12 M, PARA TELHA ONDULADA DE FIBROCIMENTO, ALUMÍNIO, PLÁSTICA OU TERMOACÚSTICA, INCLUSO IÇAMENTO. AF_07/2019 | C24: =VLOOKUP(A24,'II-PO'!$A$18:$M$295,11,0) -> 38838.67 | D24: =VLOOKUP(A24,'II-PO'!$A$18:$M$295,12,0) -> 9787.31 | E24: =VLOOKUP(A24,'II-PO'!$A$18:$M$295,13,0) -> 48625.98 | F24: =E24/$H$257 -> 0.040385025 | G24: =G23+F24 -> 0.38966712 | H24: =IF(G24<=70%,"A",IF(G24<=90%,"B","C")) -> A
A25: 12.1 | B25: =VLOOKUP(A25,'II-PO'!$A$18:$M$295,5,0) -> FORRO EM DRYWALL, PARA AMBIENTES COMERCIAIS, INCLUSIVE ESTRUTURA BIRECIONAL DE FIXAÇÃO. AF_08/2023_PS | C25: =VLOOKUP(A25,'II-PO'!$A$18:$M$295,11,0) -> 31502.21 | D25: =VLOOKUP(A25,'II-PO'!$A$18:$M$295,12,0) -> 7935.33 | E25: =VLOOKUP(A25,'II-PO'!$A$18:$M$295,13,0) -> 39437.54 | F25: =E25/$H$257 -> 0.032753809 | G25: =G24+F25 -> 0.42242093 | H25: =IF(G25<=70%,"A",IF(G25<=90%,"B","C")) -> A
A26: 4.1.3 | B26: =VLOOKUP(A26,'II-PO'!$A$18:$M$295,5,0) -> ESTACA BROCA DE CONCRETO, DIÂMETRO DE 30CM, ESCAVAÇÃO MANUAL COM TRADO CONCHA, SEM ARMADURA DE ARRANQUE. AF_05/2020 (REF.: SINAPI 101175) | C26: =VLOOKUP(A26,'II-PO'!$A$18:$M$295,11,0) -> 27861.12 | D26: =VLOOKUP(A26,'II-PO'!$A$18:$M$295,12,0) -> 7020.72 | E26: =VLOOKUP(A26,'II-PO'!$A$18:$M$295,13,0) -> 34881.84 | F26: =E26/$H$257 -> 0.028970192 | G26: =G25+F26 -> 0.45139112 | H26: =IF(G26<=70%,"A",IF(G26<=90%,"B","C")) -> A
A27: 10.3 | B27: =VLOOKUP(A27,'II-PO'!$A$18:$M$295,5,0) -> EMASSAMENTO COM MASSA LÁTEX, APLICAÇÃO EM PAREDE, DUAS DEMÃOS, LIXAMENTO MANUAL. AF_04/2023 | C27: =VLOOKUP(A27,'II-PO'!$A$18:$M$295,11,0) -> 26466.37 | D27: =VLOOKUP(A27,'II-PO'!$A$18:$M$295,12,0) -> 6659.66 | E27: =VLOOKUP(A27,'II-PO'!$A$18:$M$295,13,0) -> 33126.03 | F27: =E27/$H$257 -> 0.027511951 | G27: =G26+F27 -> 0.47890307 | H27: =IF(G27<=70%,"A",IF(G27<=90%,"B","C")) -> A
A28: 7.4 | B28: =VLOOKUP(A28,'II-PO'!$A$18:$M$295,5,0) -> PISO CIMENTADO, TRAÇO 1:3 (CIMENTO E AREIA), ACABAMENTO LISO, ESPESSURA 4,0 CM, PREPARO MECÂNICO DA ARGAMASSA. AF_09/2020 | C28: =VLOOKUP(A28,'II-PO'!$A$18:$M$295,11,0) -> 25838.54 | D28: =VLOOKUP(A28,'II-PO'!$A$18:$M$295,12,0) -> 6509.46 | E28: =VLOOKUP(A28,'II-PO'!$A$18:$M$295,13,0) -> 32348 | F28: =E28/$H$257 -> 0.026865778 | G28: =G27+F28 -> 0.50576885 | H28: =IF(G28<=70%,"A",IF(G28<=90%,"B","C")) -> A
A29: 6.9 | B29: =VLOOKUP(A29,'II-PO'!$A$18:$M$295,5,0) -> EMBOÇO, EM ARGAMASSA TRAÇO 1:2:8, PREPARO MECÂNICO, APLICADO MANUALMENTE EM PAREDES INTERNAS DE AMBIENTES COM ÁREA MAIOR QUE 10M², E = 17,5MM, COM TALISCAS. AF_03/2024 | C29: =VLOOKUP(A29,'II-PO'!$A$18:$M$295,11,0) -> 25835.97 | D29: =VLOOKUP(A29,'II-PO'!$A$18:$M$295,12,0) -> 6503.56 | E29: =VLOOKUP(A29,'II-PO'!$A$18:$M$295,13,0) -> 32339.53 | F29: =E29/$H$257 -> 0.026858744 | G29: =G28+F29 -> 0.53262759 | H29: =IF(G29<=70%,"A",IF(G29<=90%,"B","C")) -> A
A30: 5.2.7 | B30: =VLOOKUP(A30,'II-PO'!$A$18:$M$295,5,0) -> MONTAGEM E DESMONTAGEM DE FÔRMA DE VIGA, ESCORAMENTO COM GARFO DE MADEIRA, PÉ-DIREITO SIMPLES, EM CHAPA DE MADEIRA PLASTIFICADA, 18 UTILIZAÇÕES. AF_09/2020 | C30: =VLOOKUP(A30,'II-PO'!$A$18:$M$295,11,0) -> 22752.16 | D30: =VLOOKUP(A30,'II-PO'!$A$18:$M$295,12,0) -> 5733.51 | E30: =VLOOKUP(A30,'II-PO'!$A$18:$M$295,13,0) -> 28485.67 | F30: =E30/$H$257 -> 0.023658022 | G30: =G29+F30 -> 0.55628562 | H30: =IF(G30<=70%,"A",IF(G30<=90%,"B","C")) -> A
... A253: 13.9.1 | B253: =VLOOKUP(A253,'II-PO'!$A$18:$M$295,5,0) -> CURVA 90 GRAUS, PVC, SOLDÁVEL, DN 25MM, INSTALADO EM PRUMADA DE ÁGUA - FORNECIMENTO E INSTALAÇÃO. AF_06/2022 | C253: =VLOOKUP(A253,'II-PO'!$A$18:$M$295,11,0) -> 8.26 | D253: =VLOOKUP(A253,'II-PO'!$A$18:$M$295,12,0) -> 2.08 | E253: =VLOOKUP(A253,'II-PO'!$A$18:$M$295,13,0) -> 10.34 | F253: =E253/$H$257 -> 8.5876143e-06 | G253: =G252+F253 -> 1 | H253: =IF(G253<=70%,"A",IF(G253<=90%,"B","C")) -> C
A255: TOTAL SEM BDI | H255: =SUM($C$18:$C$253) -> 961827.9
A256: PARCELA REFERENTE AO BDI | H256: =SUM($D$18:$D$253) -> 242231.76
A257: TOTAL COM BDI | H257: =SUM($E$18:$E$253) -> 1204059.7
A259: QUANTIDADE DE ITENS | D259: =SUM(D260:D262) -> 236
A260: ITENS | B260: CLASSE A | C260: 0% - 70% | D260: =COUNTIF($H$18:$H$253,"A") -> 22
B261: CLASSE B | C261: 70% - 90% | D261: =COUNTIF($H$18:$H$253,"B") -> 34
B262: CLASSE C | C262: 90% - 100% | D262: =COUNTIF($H$18:$H$253,"C") -> 180
G273: Aragarças GO, 24 de novembro de 2025

Sheet VI-BDI CONSTRUÇÃO
A1: ='V-COMPOSIÇÕES PRÓPRIAS'!A1 -> GABINETES DOS VEREADORES DE ARAGARÇAS - GO | T1: ALTERNATIVAS | V1: SELECIONADO | W1: 2
T2: 1 | U2: COM DESONERAÇÃO
T3: 2 | U3: SEM DESONERAÇÃO
O9: LIMITES DE BDI | T9: OBRA TIPO | V9: SELECIONADO | W9: 1
A10: OBRA: | B10: ='I-RESUMO'!B6 -> GABINETES DOS VEREADORES DE ARAGARÇAS - GO | L10: REFERÊNCIA: | M10: ='V-COMPOSIÇÕES PRÓPRIAS'!J10 -> SINAPI GO 9/2025 | O10: Alternativa | R10: =W1 -> 2 | T10: 1 | U10: Construção de edifícios. | W10: 1
A11: LOCAL: | B11: ='I-RESUMO'!B7 -> Rua José de Barros Souza, 09. Setor Centro Administrativo, Aragarças-GO. | M11: ='V-COMPOSIÇÕES PRÓPRIAS'!J11 -> GOINFRA CIVIL (AGETOP) 8/2025
A12: DATA: | B12: =TODAY() -> 46071 | M12: ='V-COMPOSIÇÕES PRÓPRIAS'!J12 -> SICRO3 GO 7/2025 | P12: 1º Quartil | Q12: Médio | R12: 2º Quartil | T12: 2 | U12: Construção de rodovias e ferrovias.
L13: ENCARGOS | M13: ='I-RESUMO'!F9 -> NÃO DESONERADO | O13: 1 | P13: =IF($W$1=1,((((((20.34/100)+1)*(1-(5.15/100)))/(1-(9.65/100)))-1)*100),IF($W$1=2,20.34,"SELECT OPT")) -> 20.34 | Q13: =IF($W$1=1,((((((22.12/100)+1)*(1-(6.65/100)))/(1-(11.15/100)))-1)*100),IF($W$1=2,22.12,"SELECT OPT")) -> 22.12 | R13: =IF($W$1=1,((((((25/100)+1)*(1-(8.65/100)))/(1-(13.15/100)))-1)*100),IF($W$1=2,25,"SELECT OPT")) -> 25 | T13: 3 | U13: Saneamento básico.
O14: 2 | P14: =IF($W$1=1,((((((19.6/100)+1)*(1-(5.15/100)))/(1-(9.65/100)))-1)*100),IF($W$1=2,19.6,"SELECT OPT")) -> 19.6 | Q14: =IF($W$1=1,((((((20.97/100)+1)*(1-(6.65/100)))/(1-(11.15/100)))-1)*100),IF($W$1=2,20.97,"SELECT OPT")) -> 20.97 | R14: =IF($W$1=1,((((((24.23/100)+1)*(1-(8.65/100)))/(1-(13.15/100)))-1)*100),IF($W$1=2,24.23,"SELECT OPT")) -> 24.23 | T14: 4 | U14: Estações e redes de energia.
A15: =CAPA!A17 -> ANEXO VI - BDI CONSTRUÇÃO | O15: 3 | P15: =IF($W$1=1,((((((20.76/100)+1)*(1-(5.15/100)))/(1-(9.65/100)))-1)*100),IF($W$1=2,20.76,"SELECT OPT")) -> 20.76 | Q15: =IF($W$1=1,((((((24.18/100)+1)*(1-(6.65/100)))/(1-(11.15/100)))-1)*100),IF($W$1=2,24.18,"SELECT OPT")) -> 24.18 | R15: =IF($W$1=1,((((((26.44/100)+1)*(1-(8.65/100)))/(1-(13.15/100)))-1)*100),IF($W$1=2,26.44,"SELECT OPT")) -> 26.44 | T15: 5 | U15: Obras portuárias, marítmas e fluviais.
A16: Senhor Diretor do Departamento, | O16: 4 | P16: =IF($W$1=1,((((((24/100)+1)*(1-(5.15/100)))/(1-(9.65/100)))-1)*100),IF($W$1=2,24,"SELECT OPT")) -> 24 | Q16: =IF($W$1=1,((((((25.84/100)+1)*(1-(6.65/100)))/(1-(11.15/100)))-1)*100),IF($W$1=2,25.84,"SELECT OPT")) -> 25.84 | R16: =IF($W$1=1,((((((27.86/100)+1)*(1-(8.65/100)))/(1-(13.15/100)))-1)*100),IF($W$1=2,27.86,"SELECT OPT")) -> 27.86 | T16: 6 | U16: Fornecimento de materiais e equipamentos.
