Workbook

Sheet Composição de Custos
B3: DEMSUR - DEPARTAMENTO MUNICIPAL DE SANEAMENTO URBANO
B4: ORÇAMENTO: | C4: PRESTAÇÃO DE SERVIÇO DE MONITORAMENTO E OUTROS SISTEMA DE ABASTECIMENTO DE ÁGUA NO MUNICÍPIO DE MURIAÉ E DISTRITOS | R4: Janeiro/ Fevereiro 2026
B5: LOCAL: | C5: MURIAÉ/MG (SEDE E DISTRITOS)
B6: ESPECIFICAÇÕES TÉCNICAS: | C6: SETOR TÉCNICO DEMSUR | P6: FONTE: Cotação
B7: ITEM | C7: DESCRIÇÃO | D7: ORÇAMENTO 01 | H7: ORÇAMENTO 02 | L7: ORÇAMENTO 03 | P7: MÉDIA
C8: SUPERVISÓRIO E COMANDOS | D8: Unid. | E8: Quant. | F8: Valor Unit. | G8: Valor | H8: Unid. | I8: Quant. | J8: Valor Unit. | K8: Valor | L8: Unid. | M8: Quant. | N8: Valor Unit. | O8: Valor | P8: Unid. | Q8: Quant. | R8: Valor Unit. | S8: Valor
B9: 1 | C9: PRESTAÇAO DE SERVIÇO DE SUPERVISÃO - CENTRO DE OPERAÇAO PARA SISTEMA DE ÁGUA | D9: Mês | E9: 12 | F9: 2273.39 | G9: =F9*E9 -> 27280.68 | H9: Mês | I9: 12 | J9: 2482.54 | K9: =J9*I9 -> 29790.48 | L9: Mês | M9: 12 | N9: 2768.03 | O9: =N9*M9 -> 33216.36 | P9: Mês | Q9: 12 | R9: =AVERAGE(J9,F9,N9) -> 2507.9867 | S9: =Q9*R9 -> 30095.84 | V9: =AVERAGE(N9,J9,R9) -> 2586.1856
B10: 2 | C10: Prestação De Serviço De Monitoramento: Quadro De Acionamento Remoto ETA Gávea - IHM | D10: Mês | E10: 12 | F10: 569.49 | G10: =F10*E10 -> 6833.88 | H10: Mês | I10: 12 | J10: 621.88 | K10: =J10*I10 -> 7462.56 | L10: Mês | M10: 12 | N10: 693.4 | O10: =N10*M10 -> 8320.8 | P10: Mês | Q10: 12 | R10: =AVERAGE(J10,F10,N10) -> 628.25667 | S10: =Q10*R10 -> 7539.08
B11: 3 | C11: Prestação De Serviço De Monitoramento: Quadro De Acionamento Remoto ETA Rio Preto - IHM | D11: Mês | E11: 12 | F11: 569.49 | G11: =F11*E11 -> 6833.88 | H11: Mês | I11: 12 | J11: 621.88 | K11: =J11*I11 -> 7462.56 | L11: Mês | M11: 12 | N11: 693.4 | O11: =N11*M11 -> 8320.8 | P11: Mês | Q11: 12 | R11: =AVERAGE(J11,F11,N11) -> 628.25667 | S11: =Q11*R11 -> 7539.08
C12: PONTOS DE MONITORAMENTO: ELEVATÓRIAS | D12: Unid. | E12: Quant. | F12: Valor Unit. | G12: Valor | H12: Unid. | I12: Quant. | J12: Valor Unit. | K12: Valor | L12: Unid. | M12: Quant. | N12: Valor Unit. | O12: Valor | P12: Unid. | Q12: Quant. | R12: Valor Unit. | S12: Valor
B13: 4 | C13: Prestação De Serviço De Monitoramento: Booster Aeroporto | D13: Mês | E13: 12 | F13: 555.66 | G13: =F13*E13 -> 6667.92 | H13: Mês | I13: 12 | J13: 606.78 | K13: =J13*I13 -> 7281.36 | L13: Mês | M13: 12 | N13: 676.56 | O13: =N13*M13 -> 8118.72 | P13: Mês | Q13: 12 | R13: =AVERAGE(J13,F13,N13) -> 613 | S13: =Q13*R13 -> 7356
B14: 5 | C14: Prestação De Serviço De Monitoramento: Elevatória Captação R. Gloria | D14: Mês | E14: 12 | F14: 617.79 | G14: =F14*E14 -> 7413.48 | H14: Mês | I14: 12 | J14: 674.63 | K14: =J14*I14 -> 8095.56 | L14: Mês | M14: 12 | N14: 752.21 | O14: =N14*M14 -> 9026.52 | P14: Mês | Q14: 12 | R14: =AVERAGE(J14,F14,N14) -> 681.54333 | S14: =Q14*R14 -> 8178.52
B15: 6 | C15: Prestação De Serviço De Monitoramento: Elevatória Edgard Miranda | D15: Mês | E15: 12 | F15: 617.79 | G15: =F15*E15 -> 7413.48 | H15: Mês | I15: 12 | J15: 674.63 | K15: =J15*I15 -> 8095.56 | L15: Mês | M15: 12 | N15: 752.21 | O15: =N15*M15 -> 9026.52 | P15: Mês | Q15: 12 | R15: =AVERAGE(J15,F15,N15) -> 681.54333 | S15: =Q15*R15 -> 8178.52
B16: 7 | C16: Prestação De Serviço De Monitoramento: Elevatória Gaspar | D16: Mês | E16: 12 | F16: 617.79 | G16: =F16*E16 -> 7413.48 | H16: Mês | I16: 12 | J16: 674.63 | K16: =J16*I16 -> 8095.56 | L16: Mês | M16: 12 | N16: 752.21 | O16: =N16*M16 -> 9026.52 | P16: Mês | Q16: 12 | R16: =AVERAGE(J16,F16,N16) -> 681.54333 | S16: =Q16*R16 -> 8178.52
B17: 8 | C17: Prestação De Serviço De Monitoramento: Elevatória João XXIII | D17: Mês | E17: 12 | F17: 617.79 | G17: =F17*E17 -> 7413.48 | H17: Mês | I17: 12 | J17: 674.63 | K17: =J17*I17 -> 8095.56 | L17: Mês | M17: 12 | N17: 752.21 | O17: =N17*M17 -> 9026.52 | P17: Mês | Q17: 12 | R17: =AVERAGE(J17,F17,N17) -> 681.54333 | S17: =Q17*R17 -> 8178.52
B18: 9 | C18: Prestação De Serviço De Monitoramento: Elevatória Major Martinho | D18: Mês | E18: 12 | F18: 617.79 | G18: =F18*E18 -> 7413.48 | H18: Mês | I18: 12 | J18: 674.63 | K18: =J18*I18 -> 8095.56 | L18: Mês | M18: 12 | N18: 752.21 | O18: =N18*M18 -> 9026.52 | P18: Mês | Q18: 12 | R18: =AVERAGE(J18,F18,N18) -> 681.54333 | S18: =Q18*R18 -> 8178.52
B19: 10 | C19: Prestação De Serviço De Monitoramento: Elevatória Praça Lisboa Junior | D19: Mês | E19: 12 | F19: 617.79 | G19: =F19*E19 -> 7413.48 | H19: Mês | I19: 12 | J19: 674.63 | K19: =J19*I19 -> 8095.56 | L19: Mês | M19: 12 | N19: 752.21 | O19: =N19*M19 -> 9026.52 | P19: Mês | Q19: 12 | R19: =AVERAGE(J19,F19,N19) -> 681.54333 | S19: =Q19*R19 -> 8178.52
B20: 11 | C20: Prestação De Serviço De Monitoramento: Elevatória Primavera | D20: Mês | E20: 12 | F20: 617.79 | G20: =F20*E20 -> 7413.48 | H20: Mês | I20: 12 | J20: 674.63 | K20: =J20*I20 -> 8095.56 | L20: Mês | M20: 12 | N20: 752.21 | O20: =N20*M20 -> 9026.52 | P20: Mês | Q20: 12 | R20: =AVERAGE(J20,F20,N20) -> 681.54333 | S20: =Q20*R20 -> 8178.52
B21: 12 | C21: Prestação De Serviço De Monitoramento: Elevatória Captação Rio Preto | D21: Mês | E21: 12 | F21: 617.79 | G21: =F21*E21 -> 7413.48 | H21: Mês | I21: 12 | J21: 674.63 | K21: =J21*I21 -> 8095.56 | L21: Mês | M21: 12 | N21: 752.21 | O21: =N21*M21 -> 9026.52 | P21: Mês | Q21: 12 | R21: =AVERAGE(J21,F21,N21) -> 681.54333 | S21: =Q21*R21 -> 8178.52
B22: 13 | C22: Prestação De Serviço De Monitoramento: Elevatória de Água Conjunto Habitacional Vermelho | D22: Mês | E22: 12 | F22: 617.79 | G22: =F22*E22 -> 7413.48 | H22: Mês | I22: 12 | J22: 674.63 | K22: =J22*I22 -> 8095.56 | L22: Mês | M22: 12 | N22: 752.21 | O22: =N22*M22 -> 9026.52 | P22: Mês | Q22: 12 | R22: =AVERAGE(J22,F22,N22) -> 681.54333 | S22: =Q22*R22 -> 8178.52
B23: 14 | C23: Prestação De Serviço De Monitoramento: Elevatória Dornelas II | D23: Mês | E23: 12 | F23: 617.79 | G23: =F23*E23 -> 7413.48 | H23: Mês | I23: 12 | J23: 674.63 | K23: =J23*I23 -> 8095.56 | L23: Mês | M23: 12 | N23: 752.21 | O23: =N23*M23 -> 9026.52 | P23: Mês | Q23: 12 | R23: =AVERAGE(J23,F23,N23) -> 681.54333 | S23: =Q23*R23 -> 8178.52
B24: 15 | C24: Prestação De Serviço De Monitoramento: Elevatória Joanópolis | D24: Mês | E24: 12 | F24: 617.79 | G24: =F24*E24 -> 7413.48 | H24: Mês | I24: 12 | J24: 674.63 | K24: =J24*I24 -> 8095.56 | L24: Mês | M24: 12 | N24: 752.21 | O24: =N24*M24 -> 9026.52 | P24: Mês | Q24: 12 | R24: =AVERAGE(J24,F24,N24) -> 681.54333 | S24: =Q24*R24 -> 8178.52
... B35: 26 | C35: Prestação De Serviço De Monitoramento: Ponto De Expansão Sist De Agua 05 (Cidade Ou Distrito) para Elevatória de água | D35: Mês | E35: 12 | F35: 617.79 | G35: =F35*E35 -> 7413.48 | H35: Mês | I35: 12 | J35: 674.63 | K35: =J35*I35 -> 8095.56 | L35: Mês | M35: 12 | N35: 752.21 | O35: =N35*M35 -> 9026.52 | P35: Mês | Q35: 12 | R35: =AVERAGE(J35,F35,N35) -> 681.54333 | S35: =Q35*R35 -> 8178.52
C36: PONTOS DE MONITORAMENTO: POÇOS ARTESIANOS | D36: Unid. | E36: Quant. | F36: Valor Unit. | G36: Valor | H36: Unid. | I36: Quant. | J36: Valor Unit. | K36: Valor | L36: Unid. | M36: Quant. | N36: Valor Unit. | O36: Valor | P36: Unid. | Q36: Quant. | R36: Valor Unit. | S36: Valor
B37: 27 | C37: Prestação De Serviço De Monitoramento: Poço Belisário I | D37: Mês | E37: 12 | F37: 496.97 | G37: =F37*E37 -> 5963.64 | H37: Mês | I37: 12 | J37: 542.69 | K37: =J37*I37 -> 6512.28 | L37: Mês | M37: 12 | N37: 605.1 | O37: =N37*M37 -> 7261.2 | P37: Mês | Q37: 12 | R37: =AVERAGE(J37,F37,N37) -> 548.25333 | S37: =Q37*R37 -> 6579.04
B38: 28 | C38: Prestação De Serviço De Monitoramento: Poço Belisário II | D38: Mês | E38: 12 | F38: 496.97 | G38: =F38*E38 -> 5963.64 | H38: Mês | I38: 12 | J38: 542.69 | K38: =J38*I38 -> 6512.28 | L38: Mês | M38: 12 | N38: 605.1 | O38: =N38*M38 -> 7261.2 | P38: Mês | Q38: 12 | R38: =AVERAGE(J38,F38,N38) -> 548.25333 | S38: =Q38*R38 -> 6579.04
B39: 29 | C39: Prestação De Serviço De Monitoramento: Poço Belisário III | D39: Mês | E39: 12 | F39: 496.97 | G39: =F39*E39 -> 5963.64 | H39: Mês | I39: 12 | J39: 542.69 | K39: =J39*I39 -> 6512.28 | L39: Mês | M39: 12 | N39: 605.1 | O39: =N39*M39 -> 7261.2 | P39: Mês | Q39: 12 | R39: =AVERAGE(J39,F39,N39) -> 548.25333 | S39: =Q39*R39 -> 6579.04
B40: 30 | C40: Prestação De Serviço De Monitoramento: Poço Boa Família I | D40: Mês | E40: 12 | F40: 496.97 | G40: =F40*E40 -> 5963.64 | H40: Mês | I40: 12 | J40: 542.69 | K40: =J40*I40 -> 6512.28 | L40: Mês | M40: 12 | N40: 605.1 | O40: =N40*M40 -> 7261.2 | P40: Mês | Q40: 12 | R40: =AVERAGE(J40,F40,N40) -> 548.25333 | S40: =Q40*R40 -> 6579.04
B41: 31 | C41: Prestação De Serviço De Monitoramento: Poço Boa Família IV | D41: Mês | E41: 12 | F41: 496.97 | G41: =F41*E41 -> 5963.64 | H41: Mês | I41: 12 | J41: 542.69 | K41: =J41*I41 -> 6512.28 | L41: Mês | M41: 12 | N41: 605.1 | O41: =N41*M41 -> 7261.2 | P41: Mês | Q41: 12 | R41: =AVERAGE(J41,F41,N41) -> 548.25333 | S41: =Q41*R41 -> 6579.04
B42: 32 | C42: Prestação De Serviço De Monitoramento: Poço Boa Família V | D42: Mês | E42: 12 | F42: 496.97 | G42: =F42*E42 -> 5963.64 | H42: Mês | I42: 12 | J42: 542.69 | K42: =J42*I42 -> 6512.28 | L42: Mês | M42: 12 | N42: 605.1 | O42: =N42*M42 -> 7261.2 | P42: Mês | Q42: 12 | R42: =AVERAGE(J42,F42,N42) -> 548.25333 | S42: =Q42*R42 -> 6579.04
B43: 33 | C43: Prestação De Serviço De Monitoramento: Poço Bom Jesus III | D43: Mês | E43: 12 | F43: 496.97 | G43: =F43*E43 -> 5963.64 | H43: Mês | I43: 12 | J43: 542.69 | K43: =J43*I43 -> 6512.28 | L43: Mês | M43: 12 | N43: 605.1 | O43: =N43*M43 -> 7261.2 | P43: Mês | Q43: 12 | R43: =AVERAGE(J43,F43,N43) -> 548.25333 | S43: =Q43*R43 -> 6579.04
B44: 34 | C44: Prestação De Serviço De Monitoramento: Poço Capetinga I | D44: Mês | E44: 12 | F44: 496.97 | G44: =F44*E44 -> 5963.64 | H44: Mês | I44: 12 | J44: 542.69 | K44: =J44*I44 -> 6512.28 | L44: Mês | M44: 12 | N44: 605.1 | O44: =N44*M44 -> 7261.2 | P44: Mês | Q44: 12 | R44: =AVERAGE(J44,F44,N44) -> 548.25333 | S44: =Q44*R44 -> 6579.04
B45: 35 | C45: Prestação De Serviço De Monitoramento: Poço Itamuri II | D45: Mês | E45: 12 | F45: 496.97 | G45: =F45*E45 -> 5963.64 | H45: Mês | I45: 12 | J45: 542.69 | K45: =J45*I45 -> 6512.28 | L45: Mês | M45: 12 | N45: 605.1 | O45: =N45*M45 -> 7261.2 | P45: Mês | Q45: 12 | R45: =AVERAGE(J45,F45,N45) -> 548.25333 | S45: =Q45*R45 -> 6579.04
B46: 36 | C46: Prestação De Serviço De Monitoramento: Poço Itamuri IV | D46: Mês | E46: 12 | F46: 496.97 | G46: =F46*E46 -> 5963.64 | H46: Mês | I46: 12 | J46: 542.69 | K46: =J46*I46 -> 6512.28 | L46: Mês | M46: 12 | N46: 605.1 | O46: =N46*M46 -> 7261.2 | P46: Mês | Q46: 12 | R46: =AVERAGE(J46,F46,N46) -> 548.25333 | S46: =Q46*R46 -> 6579.04
B47: 37 | C47: Prestação De Serviço De Monitoramento: Poço Macuco I | D47: Mês | E47: 12 | F47: 496.97 | G47: =F47*E47 -> 5963.64 | H47: Mês | I47: 12 | J47: 542.69 | K47: =J47*I47 -> 6512.28 | L47: Mês | M47: 12 | N47: 605.1 | O47: =N47*M47 -> 7261.2 | P47: Mês | Q47: 12 | R47: =AVERAGE(J47,F47,N47) -> 548.25333 | S47: =Q47*R47 -> 6579.04
B48: 38 | C48: Prestação De Serviço De Monitoramento: Poço Macuco IV | D48: Mês | E48: 12 | F48: 496.97 | G48: =F48*E48 -> 5963.64 | H48: Mês | I48: 12 | J48: 542.69 | K48: =J48*I48 -> 6512.28 | L48: Mês | M48: 12 | N48: 605.1 | O48: =N48*M48 -> 7261.2 | P48: Mês | Q48: 12 | R48: =AVERAGE(J48,F48,N48) -> 548.25333 | S48: =Q48*R48 -> 6579.04
... B60: 50 | C60: Prestação De Serviço De Monitoramento: Ponto De Expansão Sist De Agua 04 (Cidade Ou Distrito) para Poço de água | D60: Mês | E60: 12 | F60: 496.97 | G60: =F60*E60 -> 5963.64 | H60: Mês | I60: 12 | J60: 542.69 | K60: =J60*I60 -> 6512.28 | L60: Mês | M60: 12 | N60: 605.1 | O60: =N60*M60 -> 7261.2 | P60: Mês | Q60: 12 | R60: =AVERAGE(J60,F60,N60) -> 548.25333 | S60: =Q60*R60 -> 6579.04
C61: PONTOS DE MONITORAMENTO: RESERVATÓRIOS | D61: Unid. | E61: Quant. | F61: Valor Unit. | G61: Valor | H61: Unid. | I61: Quant. | J61: Valor Unit. | K61: Valor | L61: Unid. | M61: Quant. | N61: Valor Unit. | O61: Valor | P61: Unid. | Q61: Quant. | R61: Valor Unit. | S61: Valor
B62: 51 | C62: Prestação De Serviço De Monitoramento: Reservatório Distrito Industrial | D62: Mês | E62: 12 | F62: 527.93 | G62: =F62*E62 -> 6335.16 | H62: Mês | I62: 12 | J62: 576.5 | K62: =J62*I62 -> 6918 | L62: Mês | M62: 12 | N62: 642.8 | O62: =N62*M62 -> 7713.6 | P62: Mês | Q62: 12 | R62: =AVERAGE(J62,F62,N62) -> 582.41 | S62: =Q62*R62 -> 6988.92
B63: 52 | C63: Prestação De Serviço De Monitoramento: Reservatório Belisário I | D63: Mês | E63: 12 | F63: 527.93 | G63: =F63*E63 -> 6335.16 | H63: Mês | I63: 12 | J63: 576.5 | K63: =J63*I63 -> 6918 | L63: Mês | M63: 12 | N63: 642.8 | O63: =N63*M63 -> 7713.6 | P63: Mês | Q63: 12 | R63: =AVERAGE(J63,F63,N63) -> 582.41 | S63: =Q63*R63 -> 6988.92
...

Sheet Planilha Orçamentária
A1: DEMSUR - DEPARTAMENTO MUNICIPAL DE SANEAMENTO URBANO
A2: ORÇAMENTO: | B2: PRESTAÇÃO DE SERVIÇO DE MONITORAMENTO E OUTROS SISTEMA DE ABASTECIMENTO DE ÁGUA NO MUNICÍPIO DE MURIAÉ E DISTRITOS | F2: Janeiro / Feveiro 2026
A3: LOCAL: | B3: MURIAÉ/MG (SEDE E DISTRITOS)
A4: ESPECIFICAÇÕES TÉCNICAS: | B4: SETOR TÉCNICO DEMSUR | C4: FONTE: Cotação
A5: ITEM | B5: DESCRIÇÃO | C5: MÉDIA
B6: SUPERVISÓRIO E COMANDOS | C6: Unid. | D6: Quant. | E6: Valor Unit. | F6: Valor
A7: 1 | B7: PRESTAÇAO DE SERVIÇO DE SUPERVISÃO - CENTRO DE OPERAÇAO PARA SISTEMA DE ÁGUA | C7: Mês | D7: 12 | E7: 2507.9867 | F7: =D7*E7 -> 30095.84
A8: 2 | B8: Prestação De Serviço De Monitoramento: Quadro De Acionamento Remoto ETA Gávea - IHM | C8: Mês | D8: 12 | E8: 628.25667 | F8: =D8*E8 -> 7539.08
A9: 3 | B9: Prestação De Serviço De Monitoramento: Quadro De Acionamento Remoto ETA Rio Preto - IHM | C9: Mês | D9: 12 | E9: 628.25667 | F9: =D9*E9 -> 7539.08
B10: PONTOS DE MONITORAMENTO: ELEVATÓRIAS | C10: Unid. | D10: Quant. | E10: Valor Unit. | F10: Valor
A11: 4 | B11: Prestação De Serviço De Monitoramento: Booster Aeroporto | C11: Mês | D11: 12 | E11: 613 | F11: =D11*E11 -> 7356
A12: 5 | B12: Prestação De Serviço De Monitoramento: Elevatória Captação R. Gloria | C12: Mês | D12: 12 | E12: 681.54333 | F12: =D12*E12 -> 8178.52
A13: 6 | B13: Prestação De Serviço De Monitoramento: Elevatória Edgard Miranda | C13: Mês | D13: 12 | E13: 681.54333 | F13: =D13*E13 -> 8178.52
A14: 7 | B14: Prestação De Serviço De Monitoramento: Elevatória Gaspar | C14: Mês | D14: 12 | E14: 681.54333 | F14: =D14*E14 -> 8178.52
A15: 8 | B15: Prestação De Serviço De Monitoramento: Elevatória João XXIII | C15: Mês | D15: 12 | E15: 681.54333 | F15: =D15*E15 -> 8178.52
A16: 9 | B16: Prestação De Serviço De Monitoramento: Elevatória Major Martinho | C16: Mês | D16: 12 | E16: 681.54333 | F16: =D16*E16 -> 8178.52
A17: 10 | B17: Prestação De Serviço De Monitoramento: Elevatória Praça Lisboa Junior | C17: Mês | D17: 12 | E17: 681.54333 | F17: =D17*E17 -> 8178.52
A18: 11 | B18: Prestação De Serviço De Monitoramento: Elevatória Primavera | C18: Mês | D18: 12 | E18: 681.54333 | F18: =D18*E18 -> 8178.52
A19: 12 | B19: Prestação De Serviço De Monitoramento: Elevatória Captação Rio Preto | C19: Mês | D19: 12 | E19: 681.54333 | F19: =D19*E19 -> 8178.52
A20: 13 | B20: Prestação De Serviço De Monitoramento: Elevatória de Água Conjunto Habitacional Vermelho | C20: Mês | D20: 12 | E20: 681.54333 | F20: =D20*E20 -> 8178.52
A21: 14 | B21: Prestação De Serviço De Monitoramento: Elevatória Dornelas II | C21: Mês | D21: 12 | E21: 681.54333 | F21: =D21*E21 -> 8178.52
A22: 15 | B22: Prestação De Serviço De Monitoramento: Elevatória Joanópolis | C22: Mês | D22: 12 | E22: 681.54333 | F22: =D22*E22 -> 8178.52
... A33: 26 | B33: Prestação De Serviço De Monitoramento: Ponto De Expansão Sist De Agua 05 (Cidade Ou Distrito) para Elevatória de água | C33: Mês | D33: 12 | E33: 681.54333 | F33: =D33*E33 -> 8178.52
B34: PONTOS DE MONITORAMENTO: POÇOS ARTESIANOS | C34: Unid. | D34: Quant. | E34: Valor Unit. | F34: Valor
A35: 27 | B35: Prestação De Serviço De Monitoramento: Poço Belisário I | C35: Mês | D35: 12 | E35: 548.25333 | F35: =D35*E35 -> 6579.04
A36: 28 | B36: Prestação De Serviço De Monitoramento: Poço Belisário II | C36: Mês | D36: 12 | E36: 548.25333 | F36: =D36*E36 -> 6579.04
A37: 29 | B37: Prestação De Serviço De Monitoramento: Poço Belisário III | C37: Mês | D37: 12 | E37: 548.25333 | F37: =D37*E37 -> 6579.04
A38: 30 | B38: Prestação De Serviço De Monitoramento: Poço Boa Família I | C38: Mês | D38: 12 | E38: 548.25333 | F38: =D38*E38 -> 6579.04
A39: 31 | B39: Prestação De Serviço De Monitoramento: Poço Boa Família IV | C39: Mês | D39: 12 | E39: 548.25333 | F39: =D39*E39 -> 6579.04
A40: 32 | B40: Prestação De Serviço De Monitoramento: Poço Boa Família V | C40: Mês | D40: 12 | E40: 548.25333 | F40: =D40*E40 -> 6579.04
A41: 33 | B41: Prestação De Serviço De Monitoramento: Poço Bom Jesus III | C41: Mês | D41: 12 | E41: 548.25333 | F41: =D41*E41 -> 6579.04
A42: 34 | B42: Prestação De Serviço De Monitoramento: Poço Capetinga I | C42: Mês | D42: 12 | E42: 548.25333 | F42: =D42*E42 -> 6579.04
A43: 35 | B43: Prestação De Serviço De Monitoramento: Poço Itamuri II | C43: Mês | D43: 12 | E43: 548.25333 | F43: =D43*E43 -> 6579.04
A44: 36 | B44: Prestação De Serviço De Monitoramento: Poço Itamuri IV | C44: Mês | D44: 12 | E44: 548.25333 | F44: =D44*E44 -> 6579.04
A45: 37 | B45: Prestação De Serviço De Monitoramento: Poço Macuco I | C45: Mês | D45: 12 | E45: 548.25333 | F45: =D45*E45 -> 6579.04
A46: 38 | B46: Prestação De Serviço De Monitoramento: Poço Macuco IV | C46: Mês | D46: 12 | E46: 548.25333 | F46: =D46*E46 -> 6579.04
... A58: 50 | B58: Prestação De Serviço De Monitoramento: Ponto De Expansão Sist De Agua 04 (Cidade Ou Distrito) para Poço de água | C58: Mês | D58: 12 | E58: 548.25333 | F58: =D58*E58 -> 6579.04
B59: PONTOS DE MONITORAMENTO: RESERVATÓRIOS | C59: Unid. | D59: Quant. | E59: Valor Unit. | F59: Valor
A60: 51 | B60: Prestação De Serviço De Monitoramento: Reservatório Distrito Industrial | C60: Mês | D60: 12 | E60: 582.41 | F60: =D60*E60 -> 6988.92
A61: 52 | B61: Prestação De Serviço De Monitoramento: Reservatório Belisário I | C61: Mês | D61: 12 | E61: 582.41 | F61: =D61*E61 -> 6988.92
...

Sheet Cronograma
G4: CRONOGRAMA FÍSICO-FINANCEIRO GLOBAL
B5: 1 - IDENTIFICAÇÃO: | D5: Prestação de serviços de monitoramento remoto e outros no sistema de abastecimento de água potável | AC5: Data: Fevereiro 2026
B7: Município/MG: MURIAÉ | G7: SERVIÇOS À REALIZAR
B10: ITEM | C10: DISCRIMINAÇÃO DOS SERVIÇOS | E10: VALOR DOS SEVIÇOS | F10: PESO | G10: 1º MÊS | I10: 2º MÊS | K10: 3º MÊS | M10: 4º MÊS | O10: 5º MÊS | Q10: 6º MÊS | S10: 7º MÊS | U10: 8º MÊS | W10: 9º MÊS | Y10: 10º MÊS | AA10: 11º MÊS | AC10: 12º MÊS
F12: % | G12: SIMPL.% | H12: ACUM.% | I12: SIMPL.% | J12: ACUM.% | K12: SIMPL.% | L12: ACUM.% | M12: SIMPL.% | N12: ACUM.% | O12: SIMPL.% | P12: ACUM.% | Q12: SIMPL.% | R12: ACUM.% | S12: SIMPL.% | T12: ACUM.% | U12: SIMPL.% | V12: ACUM.% | W12: SIMPL.% | X12: ACUM.% | Y12: SIMPL.% | Z12: ACUM.% | AA12: SIMPL.% | AB12: ACUM.% | AC12: SIMPL.% | AD12: ACUM.%
B13: 1 | C13: ='Composição de Custos'!C9 -> PRESTAÇAO DE SERVIÇO DE SUPERVISÃO - CENTRO DE OPERAÇAO PARA SISTEMA DE ÁGUA | E13: ='Planilha Orçamentária'!F7 -> 30095.84 | F13: =SUM(E13/$E$120)*100 -> 3.5363567 | G13: =1/12 -> 0.083333333 | H13: =G13 -> 0.083333333 | I13: =1/12 -> 0.083333333 | J13: =I13+H13 -> 0.16666667 | K13: =1/12 -> 0.083333333 | L13: =K13+J13 -> 0.25 | M13: =1/12 -> 0.083333333 | N13: =M13+L13 -> 0.33333333 | O13: =1/12 -> 0.083333333 | P13: =O13+N13 -> 0.41666667 | Q13: =1/12 -> 0.083333333 | R13: =Q13+P13 -> 0.5 | S13: =1/12 -> 0.083333333 | T13: =S13+R13 -> 0.58333333 | U13: =1/12 -> 0.083333333 | V13: =U13+T13 -> 0.66666667 | W13: =1/12 -> 0.083333333 | X13: =W13+V13 -> 0.75 | Y13: =1/12 -> 0.083333333 | Z13: =Y13+X13 -> 0.83333333 | AA13: =1/12 -> 0.083333333 | AB13: =AA13+Z13 -> 0.91666667 | AC13: =1/12 -> 0.083333333 | AD13: =AC13+AB13 -> 1
B14: 2 | C14: ='Composição de Custos'!C10 -> Prestação De Serviço De Monitoramento: Quadro De Acionamento Remoto ETA Gávea - IHM | E14: ='Planilha Orçamentária'!F8 -> 7539.08 | F14: =SUM(E14/$E$120)*100 -> 0.88586583 | G14: =1/12 -> 0.083333333 | H14: =G14 -> 0.083333333 | I14: =1/12 -> 0.083333333 | J14: =I14+H14 -> 0.16666667 | K14: =1/12 -> 0.083333333 | L14: =K14+J14 -> 0.25 | M14: =1/12 -> 0.083333333 | N14: =M14+L14 -> 0.33333333 | O14: =1/12 -> 0.083333333 | P14: =O14+N14 -> 0.41666667 | Q14: =1/12 -> 0.083333333 | R14: =Q14+P14 -> 0.5 | S14: =1/12 -> 0.083333333 | T14: =S14+R14 -> 0.58333333 | U14: =1/12 -> 0.083333333 | V14: =U14+T14 -> 0.66666667 | W14: =1/12 -> 0.083333333 | X14: =W14+V14 -> 0.75 | Y14: =1/12 -> 0.083333333 | Z14: =Y14+X14 -> 0.83333333 | AA14: =1/12 -> 0.083333333 | AB14: =AA14+Z14 -> 0.91666667 | AC14: =1/12 -> 0.083333333 | AD14: =AC14+AB14 -> 1
B15: 3 | C15: ='Composição de Custos'!C11 -> Prestação De Serviço De Monitoramento: Quadro De Acionamento Remoto ETA Rio Preto - IHM | E15: ='Planilha Orçamentária'!F9 -> 7539.08 | F15: =SUM(E15/$E$120)*100 -> 0.88586583 | G15: =1/12 -> 0.083333333 | H15: =G15 -> 0.083333333 | I15: =1/12 -> 0.083333333 | J15: =I15+H15 -> 0.16666667 | K15: =1/12 -> 0.083333333 | L15: =K15+J15 -> 0.25 | M15: =1/12 -> 0.083333333 | N15: =M15+L15 -> 0.33333333 | O15: =1/12 -> 0.083333333 | P15: =O15+N15 -> 0.41666667 | Q15: =1/12 -> 0.083333333 | R15: =Q15+P15 -> 0.5 | S15: =1/12 -> 0.083333333 | T15: =S15+R15 -> 0.58333333 | U15: =1/12 -> 0.083333333 | V15: =U15+T15 -> 0.66666667 | W15: =1/12 -> 0.083333333 | X15: =W15+V15 -> 0.75 | Y15: =1/12 -> 0.083333333 | Z15: =Y15+X15 -> 0.83333333 | AA15: =1/12 -> 0.083333333 | AB15: =AA15+Z15 -> 0.91666667 | AC15: =1/12 -> 0.083333333 | AD15: =AC15+AB15 -> 1
B16: 4 | C16: ='Composição de Custos'!C13 -> Prestação De Serviço De Monitoramento: Booster Aeroporto | E16: ='Planilha Orçamentária'!F11 -> 7356 | F16: =SUM(E16/$E$120)*100 -> 0.86435335 | G16: =1/12 -> 0.083333333 | H16: =G16 -> 0.083333333 | I16: =1/12 -> 0.083333333 | J16: =I16+H16 -> 0.16666667 | K16: =1/12 -> 0.083333333 | L16: =K16+J16 -> 0.25 | M16: =1/12 -> 0.083333333 | N16: =M16+L16 -> 0.33333333 | O16: =1/12 -> 0.083333333 | P16: =O16+N16 -> 0.41666667 | Q16: =1/12 -> 0.083333333 | R16: =Q16+P16 -> 0.5 | S16: =1/12 -> 0.083333333 | T16: =S16+R16 -> 0.58333333 | U16: =1/12 -> 0.083333333 | V16: =U16+T16 -> 0.66666667 | W16: =1/12 -> 0.083333333 | X16: =W16+V16 -> 0.75 | Y16: =1/12 -> 0.083333333 | Z16: =Y16+X16 -> 0.83333333 | AA16: =1/12 -> 0.083333333 | AB16: =AA16+Z16 -> 0.91666667 | AC16: =1/12 -> 0.083333333 | AD16: =AC16+AB16 -> 1
B17: 5 | C17: ='Composição de Custos'!C14 -> Prestação De Serviço De Monitoramento: Elevatória Captação R. Gloria | E17: ='Planilha Orçamentária'!F12 -> 8178.52 | F17: =SUM(E17/$E$120)*100 -> 0.96100206 | G17: =1/12 -> 0.083333333 | H17: =G17 -> 0.083333333 | I17: =1/12 -> 0.083333333 | J17: =I17+H17 -> 0.16666667 | K17: =1/12 -> 0.083333333 | L17: =K17+J17 -> 0.25 | M17: =1/12 -> 0.083333333 | N17: =M17+L17 -> 0.33333333 | O17: =1/12 -> 0.083333333 | P17: =O17+N17 -> 0.41666667 | Q17: =1/12 -> 0.083333333 | R17: =Q17+P17 -> 0.5 | S17: =1/12 -> 0.083333333 | T17: =S17+R17 -> 0.58333333 | U17: =1/12 -> 0.083333333 | V17: =U17+T17 -> 0.66666667 | W17: =1/12 -> 0.083333333 | X17: =W17+V17 -> 0.75 | Y17: =1/12 -> 0.083333333 | Z17: =Y17+X17 -> 0.83333333 | AA17: =1/12 -> 0.083333333 | AB17: =AA17+Z17 -> 0.91666667 | AC17: =1/12 -> 0.083333333 | AD17: =AC17+AB17 -> 1
B18: 6 | C18: ='Composição de Custos'!C15 -> Prestação De Serviço De Monitoramento: Elevatória Edgard Miranda | E18: ='Planilha Orçamentária'!F13 -> 8178.52 | F18: =SUM(E18/$E$120)*100 -> 0.96100206 | G18: =1/12 -> 0.083333333 | H18: =G18 -> 0.083333333 | I18: =1/12 -> 0.083333333 | J18: =I18+H18 -> 0.16666667 | K18: =1/12 -> 0.083333333 | L18: =K18+J18 -> 0.25 | M18: =1/12 -> 0.083333333 | N18: =M18+L18 -> 0.33333333 | O18: =1/12 -> 0.083333333 | P18: =O18+N18 -> 0.41666667 | Q18: =1/12 -> 0.083333333 | R18: =Q18+P18 -> 0.5 | S18: =1/12 -> 0.083333333 | T18: =S18+R18 -> 0.58333333 | U18: =1/12 -> 0.083333333 | V18: =U18+T18 -> 0.66666667 | W18: =1/12 -> 0.083333333 | X18: =W18+V18 -> 0.75 | Y18: =1/12 -> 0.083333333 | Z18: =Y18+X18 -> 0.83333333 | AA18: =1/12 -> 0.083333333 | AB18: =AA18+Z18 -> 0.91666667 | AC18: =1/12 -> 0.083333333 | AD18: =AC18+AB18 -> 1
B19: 7 | C19: ='Composição de Custos'!C16 -> Prestação De Serviço De Monitoramento: Elevatória Gaspar | E19: ='Planilha Orçamentária'!F14 -> 8178.52 | F19: =SUM(E19/$E$120)*100 -> 0.96100206 | G19: =1/12 -> 0.083333333 | H19: =G19 -> 0.083333333 | I19: =1/12 -> 0.083333333 | J19: =I19+H19 -> 0.16666667 | K19: =1/12 -> 0.083333333 | L19: =K19+J19 -> 0.25 | M19: =1/12 -> 0.083333333 | N19: =M19+L19 -> 0.33333333 | O19: =1/12 -> 0.083333333 | P19: =O19+N19 -> 0.41666667 | Q19: =1/12 -> 0.083333333 | R19: =Q19+P19 -> 0.5 | S19: =1/12 -> 0.083333333 | T19: =S19+R19 -> 0.58333333 | U19: =1/12 -> 0.083333333 | V19: =U19+T19 -> 0.66666667 | W19: =1/12 -> 0.083333333 | X19: =W19+V19 -> 0.75 | Y19: =1/12 -> 0.083333333 | Z19: =Y19+X19 -> 0.83333333 | AA19: =1/12 -> 0.083333333 | AB19: =AA19+Z19 -> 0.91666667 | AC19: =1/12 -> 0.083333333 | AD19: =AC19+AB19 -> 1
B20: 8 | C20: ='Composição de Custos'!C17 -> Prestação De Serviço De Monitoramento: Elevatória João XXIII | E20: ='Planilha Orçamentária'!F15 -> 8178.52 | F20: =SUM(E20/$E$120)*100 -> 0.96100206 | G20: =1/12 -> 0.083333333 | H20: =G20 -> 0.083333333 | I20: =1/12 -> 0.083333333 | J20: =I20+H20 -> 0.16666667 | K20: =1/12 -> 0.083333333 | L20: =K20+J20 -> 0.25 | M20: =1/12 -> 0.083333333 | N20: =M20+L20 -> 0.33333333 | O20: =1/12 -> 0.083333333 | P20: =O20+N20 -> 0.41666667 | Q20: =1/12 -> 0.083333333 | R20: =Q20+P20 -> 0.5 | S20: =1/12 -> 0.083333333 | T20: =S20+R20 -> 0.58333333 | U20: =1/12 -> 0.083333333 | V20: =U20+T20 -> 0.66666667 | W20: =1/12 -> 0.083333333 | X20: =W20+V20 -> 0.75 | Y20: =1/12 -> 0.083333333 | Z20: =Y20+X20 -> 0.83333333 | AA20: =1/12 -> 0.083333333 | AB20: =AA20+Z20 -> 0.91666667 | AC20: =1/12 -> 0.083333333 | AD20: =AC20+AB20 -> 1
B21: 9 | C21: ='Composição de Custos'!C18 -> Prestação De Serviço De Monitoramento: Elevatória Major Martinho | E21: ='Planilha Orçamentária'!F16 -> 8178.52 | F21: =SUM(E21/$E$120)*100 -> 0.96100206 | G21: =1/12 -> 0.083333333 | H21: =G21 -> 0.083333333 | I21: =1/12 -> 0.083333333 | J21: =I21+H21 -> 0.16666667 | K21: =1/12 -> 0.083333333 | L21: =K21+J21 -> 0.25 | M21: =1/12 -> 0.083333333 | N21: =M21+L21 -> 0.33333333 | O21: =1/12 -> 0.083333333 | P21: =O21+N21 -> 0.41666667 | Q21: =1/12 -> 0.083333333 | R21: =Q21+P21 -> 0.5 | S21: =1/12 -> 0.083333333 | T21: =S21+R21 -> 0.58333333 | U21: =1/12 -> 0.083333333 | V21: =U21+T21 -> 0.66666667 | W21: =1/12 -> 0.083333333 | X21: =W21+V21 -> 0.75 | Y21: =1/12 -> 0.083333333 | Z21: =Y21+X21 -> 0.83333333 | AA21: =1/12 -> 0.083333333 | AB21: =AA21+Z21 -> 0.91666667 | AC21: =1/12 -> 0.083333333 | AD21: =AC21+AB21 -> 1
B22: 10 | C22: ='Composição de Custos'!C19 -> Prestação De Serviço De Monitoramento: Elevatória Praça Lisboa Junior | E22: ='Planilha Orçamentária'!F17 -> 8178.52 | F22: =SUM(E22/$E$120)*100 -> 0.96100206 | G22: =1/12 -> 0.083333333 | H22: =G22 -> 0.083333333 | I22: =1/12 -> 0.083333333 | J22: =I22+H22 -> 0.16666667 | K22: =1/12 -> 0.083333333 | L22: =K22+J22 -> 0.25 | M22: =1/12 -> 0.083333333 | N22: =M22+L22 -> 0.33333333 | O22: =1/12 -> 0.083333333 | P22: =O22+N22 -> 0.41666667 | Q22: =1/12 -> 0.083333333 | R22: =Q22+P22 -> 0.5 | S22: =1/12 -> 0.083333333 | T22: =S22+R22 -> 0.58333333 | U22: =1/12 -> 0.083333333 | V22: =U22+T22 -> 0.66666667 | W22: =1/12 -> 0.083333333 | X22: =W22+V22 -> 0.75 | Y22: =1/12 -> 0.083333333 | Z22: =Y22+X22 -> 0.83333333 | AA22: =1/12 -> 0.083333333 | AB22: =AA22+Z22 -> 0.91666667 | AC22: =1/12 -> 0.083333333 | AD22: =AC22+AB22 -> 1
B23: 11 | C23: ='Composição de Custos'!C20 -> Prestação De Serviço De Monitoramento: Elevatória Primavera | E23: ='Planilha Orçamentária'!F18 -> 8178.52 | F23: =SUM(E23/$E$120)*100 -> 0.96100206 | G23: =1/12 -> 0.083333333 | H23: =G23 -> 0.083333333 | I23: =1/12 -> 0.083333333 | J23: =I23+H23 -> 0.16666667 | K23: =1/12 -> 0.083333333 | L23: =K23+J23 -> 0.25 | M23: =1/12 -> 0.083333333 | N23: =M23+L23 -> 0.33333333 | O23: =1/12 -> 0.083333333 | P23: =O23+N23 -> 0.41666667 | Q23: =1/12 -> 0.083333333 | R23: =Q23+P23 -> 0.5 | S23: =1/12 -> 0.083333333 | T23: =S23+R23 -> 0.58333333 | U23: =1/12 -> 0.083333333 | V23: =U23+T23 -> 0.66666667 | W23: =1/12 -> 0.083333333 | X23: =W23+V23 -> 0.75 | Y23: =1/12 -> 0.083333333 | Z23: =Y23+X23 -> 0.83333333 | AA23: =1/12 -> 0.083333333 | AB23: =AA23+Z23 -> 0.91666667 | AC23: =1/12 -> 0.083333333 | AD23: =AC23+AB23 -> 1
B24: 12 | C24: ='Composição de Custos'!C21 -> Prestação De Serviço De Monitoramento: Elevatória Captação Rio Preto | E24: ='Planilha Orçamentária'!F19 -> 8178.52 | F24: =SUM(E24/$E$120)*100 -> 0.96100206 | G24: =1/12 -> 0.083333333 | H24: =G24 -> 0.083333333 | I24: =1/12 -> 0.083333333 | J24: =I24+H24 -> 0.16666667 | K24: =1/12 -> 0.083333333 | L24: =K24+J24 -> 0.25 | M24: =1/12 -> 0.083333333 | N24: =M24+L24 -> 0.33333333 | O24: =1/12 -> 0.083333333 | P24: =O24+N24 -> 0.41666667 | Q24: =1/12 -> 0.083333333 | R24: =Q24+P24 -> 0.5 | S24: =1/12 -> 0.083333333 | T24: =S24+R24 -> 0.58333333 | U24: =1/12 -> 0.083333333 | V24: =U24+T24 -> 0.66666667 | W24: =1/12 -> 0.083333333 | X24: =W24+V24 -> 0.75 | Y24: =1/12 -> 0.083333333 | Z24: =Y24+X24 -> 0.83333333 | AA24: =1/12 -> 0.083333333 | AB24: =AA24+Z24 -> 0.91666667 | AC24: =1/12 -> 0.083333333 | AD24: =AC24+AB24 -> 1
B25: 13 | C25: ='Composição de Custos'!C22 -> Prestação De Serviço De Monitoramento: Elevatória de Água Conjunto Habitacional Vermelho | E25: ='Planilha Orçamentária'!F20 -> 8178.52 | F25: =SUM(E25/$E$120)*100 -> 0.96100206 | G25: =1/12 -> 0.083333333 | H25: =G25 -> 0.083333333 | I25: =1/12 -> 0.083333333 | J25: =I25+H25 -> 0.16666667 | K25: =1/12 -> 0.083333333 | L25: =K25+J25 -> 0.25 | M25: =1/12 -> 0.083333333 | N25: =M25+L25 -> 0.33333333 | O25: =1/12 -> 0.083333333 | P25: =O25+N25 -> 0.41666667 | Q25: =1/12 -> 0.083333333 | R25: =Q25+P25 -> 0.5 | S25: =1/12 -> 0.083333333 | T25: =S25+R25 -> 0.58333333 | U25: =1/12 -> 0.083333333 | V25: =U25+T25 -> 0.66666667 | W25: =1/12 -> 0.083333333 | X25: =W25+V25 -> 0.75 | Y25: =1/12 -> 0.083333333 | Z25: =Y25+X25 -> 0.83333333 | AA25: =1/12 -> 0.083333333 | AB25: =AA25+Z25 -> 0.91666667 | AC25: =1/12 -> 0.083333333 | AD25: =AC25+AB25 -> 1
B26: 14 | C26: ='Composição de Custos'!C23 -> Prestação De Serviço De Monitoramento: Elevatória Dornelas II | E26: ='Planilha Orçamentária'!F21 -> 8178.52 | F26: =SUM(E26/$E$120)*100 -> 0.96100206 | G26: =1/12 -> 0.083333333 | H26: =G26 -> 0.083333333 | I26: =1/12 -> 0.083333333 | J26: =I26+H26 -> 0.16666667 | K26: =1/12 -> 0.083333333 | L26: =K26+J26 -> 0.25 | M26: =1/12 -> 0.083333333 | N26: =M26+L26 -> 0.33333333 | O26: =1/12 -> 0.083333333 | P26: =O26+N26 -> 0.41666667 | Q26: =1/12 -> 0.083333333 | R26: =Q26+P26 -> 0.5 | S26: =1/12 -> 0.083333333 | T26: =S26+R26 -> 0.58333333 | U26: =1/12 -> 0.083333333 | V26: =U26+T26 -> 0.66666667 | W26: =1/12 -> 0.083333333 | X26: =W26+V26 -> 0.75 | Y26: =1/12 -> 0.083333333 | Z26: =Y26+X26 -> 0.83333333 | AA26: =1/12 -> 0.083333333 | AB26: =AA26+Z26 -> 0.91666667 | AC26: =1/12 -> 0.083333333 | AD26: =AC26+AB26 -> 1
B27: 15 | C27: ='Composição de Custos'!C24 -> Prestação De Serviço De Monitoramento: Elevatória Joanópolis | E27: ='Planilha Orçamentária'!F22 -> 8178.52 | F27: =SUM(E27/$E$120)*100 -> 0.96100206 | G27: =1/12 -> 0.083333333 | H27: =G27 -> 0.083333333 | I27: =1/12 -> 0.083333333 | J27: =I27+H27 -> 0.16666667 | K27: =1/12 -> 0.083333333 | L27: =K27+J27 -> 0.25 | M27: =1/12 -> 0.083333333 | N27: =M27+L27 -> 0.33333333 | O27: =1/12 -> 0.083333333 | P27: =O27+N27 -> 0.41666667 | Q27: =1/12 -> 0.083333333 | R27: =Q27+P27 -> 0.5 | S27: =1/12 -> 0.083333333 | T27: =S27+R27 -> 0.58333333 | U27: =1/12 -> 0.083333333 | V27: =U27+T27 -> 0.66666667 | W27: =1/12 -> 0.083333333 | X27: =W27+V27 -> 0.75 | Y27: =1/12 -> 0.083333333 | Z27: =Y27+X27 -> 0.83333333 | AA27: =1/12 -> 0.083333333 | AB27: =AA27+Z27 -> 0.91666667 | AC27: =1/12 -> 0.083333333 | AD27: =AC27+AB27 -> 1
... B38: 26 | C38: ='Composição de Custos'!C35 -> Prestação De Serviço De Monitoramento: Ponto De Expansão Sist De Agua 05 (Cidade Ou Distrito) para Elevatória de água | E38: ='Planilha Orçamentária'!F33 -> 8178.52 | F38: =SUM(E38/$E$120)*100 -> 0.96100206 | G38: =1/12 -> 0.083333333 | H38: =G38 -> 0.083333333 | I38: =1/12 -> 0.083333333 | J38: =I38+H38 -> 0.16666667 | K38: =1/12 -> 0.083333333 | L38: =K38+J38 -> 0.25 | M38: =1/12 -> 0.083333333 | N38: =M38+L38 -> 0.33333333 | O38: =1/12 -> 0.083333333 | P38: =O38+N38 -> 0.41666667 | Q38: =1/12 -> 0.083333333 | R38: =Q38+P38 -> 0.5 | S38: =1/12 -> 0.083333333 | T38: =S38+R38 -> 0.58333333 | U38: =1/12 -> 0.083333333 | V38: =U38+T38 -> 0.66666667 | W38: =1/12 -> 0.083333333 | X38: =W38+V38 -> 0.75 | Y38: =1/12 -> 0.083333333 | Z38: =Y38+X38 -> 0.83333333 | AA38: =1/12 -> 0.083333333 | AB38: =AA38+Z38 -> 0.91666667 | AC38: =1/12 -> 0.083333333 | AD38: =AC38+AB38 -> 1
B39: 27 | C39: ='Composição de Custos'!C37 -> Prestação De Serviço De Monitoramento: Poço Belisário I | E39: ='Planilha Orçamentária'!F35 -> 6579.04 | F39: =SUM(E39/$E$120)*100 -> 0.77305808 | G39: =1/12 -> 0.083333333 | H39: =G39 -> 0.083333333 | I39: =1/12 -> 0.083333333 | J39: =I39+H39 -> 0.16666667 | K39: =1/12 -> 0.083333333 | L39: =K39+J39 -> 0.25 | M39: =1/12 -> 0.083333333 | N39: =M39+L39 -> 0.33333333 | O39: =1/12 -> 0.083333333 | P39: =O39+N39 -> 0.41666667 | Q39: =1/12 -> 0.083333333 | R39: =Q39+P39 -> 0.5 | S39: =1/12 -> 0.083333333 | T39: =S39+R39 -> 0.58333333 | U39: =1/12 -> 0.083333333 | V39: =U39+T39 -> 0.66666667 | W39: =1/12 -> 0.083333333 | X39: =W39+V39 -> 0.75 | Y39: =1/12 -> 0.083333333 | Z39: =Y39+X39 -> 0.83333333 | AA39: =1/12 -> 0.083333333 | AB39: =AA39+Z39 -> 0.91666667 | AC39: =1/12 -> 0.083333333 | AD39: =AC39+AB39 -> 1
B40: 28 | C40: ='Composição de Custos'!C38 -> Prestação De Serviço De Monitoramento: Poço Belisário II | E40: ='Planilha Orçamentária'!F36 -> 6579.04 | F40: =SUM(E40/$E$120)*100 -> 0.77305808 | G40: =1/12 -> 0.083333333 | H40: =G40 -> 0.083333333 | I40: =1/12 -> 0.083333333 | J40: =I40+H40 -> 0.16666667 | K40: =1/12 -> 0.083333333 | L40: =K40+J40 -> 0.25 | M40: =1/12 -> 0.083333333 | N40: =M40+L40 -> 0.33333333 | O40: =1/12 -> 0.083333333 | P40: =O40+N40 -> 0.41666667 | Q40: =1/12 -> 0.083333333 | R40: =Q40+P40 -> 0.5 | S40: =1/12 -> 0.083333333 | T40: =S40+R40 -> 0.58333333 | U40: =1/12 -> 0.083333333 | V40: =U40+T40 -> 0.66666667 | W40: =1/12 -> 0.083333333 | X40: =W40+V40 -> 0.75 | Y40: =1/12 -> 0.083333333 | Z40: =Y40+X40 -> 0.83333333 | AA40: =1/12 -> 0.083333333 | AB40: =AA40+Z40 -> 0.91666667 | AC40: =1/12 -> 0.083333333 | AD40: =AC40+AB40 -> 1
B41: 29 | C41: ='Composição de Custos'!C39 -> Prestação De Serviço De Monitoramento: Poço Belisário III | E41: ='Planilha Orçamentária'!F37 -> 6579.04 | F41: =SUM(E41/$E$120)*100 -> 0.77305808 | G41: =1/12 -> 0.083333333 | H41: =G41 -> 0.083333333 | I41: =1/12 -> 0.083333333 | J41: =I41+H41 -> 0.16666667 | K41: =1/12 -> 0.083333333 | L41: =K41+J41 -> 0.25 | M41: =1/12 -> 0.083333333 | N41: =M41+L41 -> 0.33333333 | O41: =1/12 -> 0.083333333 | P41: =O41+N41 -> 0.41666667 | Q41: =1/12 -> 0.083333333 | R41: =Q41+P41 -> 0.5 | S41: =1/12 -> 0.083333333 | T41: =S41+R41 -> 0.58333333 | U41: =1/12 -> 0.083333333 | V41: =U41+T41 -> 0.66666667 | W41: =1/12 -> 0.083333333 | X41: =W41+V41 -> 0.75 | Y41: =1/12 -> 0.083333333 | Z41: =Y41+X41 -> 0.83333333 | AA41: =1/12 -> 0.083333333 | AB41: =AA41+Z41 -> 0.91666667 | AC41: =1/12 -> 0.083333333 | AD41: =AC41+AB41 -> 1
B42: 30 | C42: ='Composição de Custos'!C40 -> Prestação De Serviço De Monitoramento: Poço Boa Família I | E42: ='Planilha Orçamentária'!F38 -> 6579.04 | F42: =SUM(E42/$E$120)*100 -> 0.77305808 | G42: =1/12 -> 0.083333333 | H42: =G42 -> 0.083333333 | I42: =1/12 -> 0.083333333 | J42: =I42+H42 -> 0.16666667 | K42: =1/12 -> 0.083333333 | L42: =K42+J42 -> 0.25 | M42: =1/12 -> 0.083333333 | N42: =M42+L42 -> 0.33333333 | O42: =1/12 -> 0.083333333 | P42: =O42+N42 -> 0.41666667 | Q42: =1/12 -> 0.083333333 | R42: =Q42+P42 -> 0.5 | S42: =1/12 -> 0.083333333 | T42: =S42+R42 -> 0.58333333 | U42: =1/12 -> 0.083333333 | V42: =U42+T42 -> 0.66666667 | W42: =1/12 -> 0.083333333 | X42: =W42+V42 -> 0.75 | Y42: =1/12 -> 0.083333333 | Z42: =Y42+X42 -> 0.83333333 | AA42: =1/12 -> 0.083333333 | AB42: =AA42+Z42 -> 0.91666667 | AC42: =1/12 -> 0.083333333 | AD42: =AC42+AB42 -> 1
B43: 31 | C43: ='Composição de Custos'!C41 -> Prestação De Serviço De Monitoramento: Poço Boa Família IV | E43: ='Planilha Orçamentária'!F39 -> 6579.04 | F43: =SUM(E43/$E$120)*100 -> 0.77305808 | G43: =1/12 -> 0.083333333 | H43: =G43 -> 0.083333333 | I43: =1/12 -> 0.083333333 | J43: =I43+H43 -> 0.16666667 | K43: =1/12 -> 0.083333333 | L43: =K43+J43 -> 0.25 | M43: =1/12 -> 0.083333333 | N43: =M43+L43 -> 0.33333333 | O43: =1/12 -> 0.083333333 | P43: =O43+N43 -> 0.41666667 | Q43: =1/12 -> 0.083333333 | R43: =Q43+P43 -> 0.5 | S43: =1/12 -> 0.083333333 | T43: =S43+R43 -> 0.58333333 | U43: =1/12 -> 0.083333333 | V43: =U43+T43 -> 0.66666667 | W43: =1/12 -> 0.083333333 | X43: =W43+V43 -> 0.75 | Y43: =1/12 -> 0.083333333 | Z43: =Y43+X43 -> 0.83333333 | AA43: =1/12 -> 0.083333333 | AB43: =AA43+Z43 -> 0.91666667 | AC43: =1/12 -> 0.083333333 | AD43: =AC43+AB43 -> 1
B44: 32 | C44: ='Composição de Custos'!C42 -> Prestação De Serviço De Monitoramento: Poço Boa Família V | E44: ='Planilha Orçamentária'!F40 -> 6579.04 | F44: =SUM(E44/$E$120)*100 -> 0.77305808 | G44: =1/12 -> 0.083333333 | H44: =G44 -> 0.083333333 | I44: =1/12 -> 0.083333333 | J44: =I44+H44 -> 0.16666667 | K44: =1/12 -> 0.083333333 | L44: =K44+J44 -> 0.25 | M44: =1/12 -> 0.083333333 | N44: =M44+L44 -> 0.33333333 | O44: =1/12 -> 0.083333333 | P44: =O44+N44 -> 0.41666667 | Q44: =1/12 -> 0.083333333 | R44: =Q44+P44 -> 0.5 | S44: =1/12 -> 0.083333333 | T44: =S44+R44 -> 0.58333333 | U44: =1/12 -> 0.083333333 | V44: =U44+T44 -> 0.66666667 | W44: =1/12 -> 0.083333333 | X44: =W44+V44 -> 0.75 | Y44: =1/12 -> 0.083333333 | Z44: =Y44+X44 -> 0.83333333 | AA44: =1/12 -> 0.083333333 | AB44: =AA44+Z44 -> 0.91666667 | AC44: =1/12 -> 0.083333333 | AD44: =AC44+AB44 -> 1
B45: 33 | C45: ='Composição de Custos'!C43 -> Prestação De Serviço De Monitoramento: Poço Bom Jesus III | E45: ='Planilha Orçamentária'!F41 -> 6579.04 | F45: =SUM(E45/$E$120)*100 -> 0.77305808 | G45: =1/12 -> 0.083333333 | H45: =G45 -> 0.083333333 | I45: =1/12 -> 0.083333333 | J45: =I45+H45 -> 0.16666667 | K45: =1/12 -> 0.083333333 | L45: =K45+J45 -> 0.25 | M45: =1/12 -> 0.083333333 | N45: =M45+L45 -> 0.33333333 | O45: =1/12 -> 0.083333333 | P45: =O45+N45 -> 0.41666667 | Q45: =1/12 -> 0.083333333 | R45: =Q45+P45 -> 0.5 | S45: =1/12 -> 0.083333333 | T45: =S45+R45 -> 0.58333333 | U45: =1/12 -> 0.083333333 | V45: =U45+T45 -> 0.66666667 | W45: =1/12 -> 0.083333333 | X45: =W45+V45 -> 0.75 | Y45: =1/12 -> 0.083333333 | Z45: =Y45+X45 -> 0.83333333 | AA45: =1/12 -> 0.083333333 | AB45: =AA45+Z45 -> 0.91666667 | AC45: =1/12 -> 0.083333333 | AD45: =AC45+AB45 -> 1
B46: 34 | C46: ='Composição de Custos'!C44 -> Prestação De Serviço De Monitoramento: Poço Capetinga I | E46: ='Planilha Orçamentária'!F42 -> 6579.04 | F46: =SUM(E46/$E$120)*100 -> 0.77305808 | G46: =1/12 -> 0.083333333 | H46: =G46 -> 0.083333333 | I46: =1/12 -> 0.083333333 | J46: =I46+H46 -> 0.16666667 | K46: =1/12 -> 0.083333333 | L46: =K46+J46 -> 0.25 | M46: =1/12 -> 0.083333333 | N46: =M46+L46 -> 0.33333333 | O46: =1/12 -> 0.083333333 | P46: =O46+N46 -> 0.41666667 | Q46: =1/12 -> 0.083333333 | R46: =Q46+P46 -> 0.5 | S46: =1/12 -> 0.083333333 | T46: =S46+R46 -> 0.58333333 | U46: =1/12 -> 0.083333333 | V46: =U46+T46 -> 0.66666667 | W46: =1/12 -> 0.083333333 | X46: =W46+V46 -> 0.75 | Y46: =1/12 -> 0.083333333 | Z46: =Y46+X46 -> 0.83333333 | AA46: =1/12 -> 0.083333333 | AB46: =AA46+Z46 -> 0.91666667 | AC46: =1/12 -> 0.083333333 | AD46: =AC46+AB46 -> 1
B47: 35 | C47: ='Composição de Custos'!C45 -> Prestação De Serviço De Monitoramento: Poço Itamuri II | E47: ='Planilha Orçamentária'!F43 -> 6579.04 | F47: =SUM(E47/$E$120)*100 -> 0.77305808 | G47: =1/12 -> 0.083333333 | H47: =G47 -> 0.083333333 | I47: =1/12 -> 0.083333333 | J47: =I47+H47 -> 0.16666667 | K47: =1/12 -> 0.083333333 | L47: =K47+J47 -> 0.25 | M47: =1/12 -> 0.083333333 | N47: =M47+L47 -> 0.33333333 | O47: =1/12 -> 0.083333333 | P47: =O47+N47 -> 0.41666667 | Q47: =1/12 -> 0.083333333 | R47: =Q47+P47 -> 0.5 | S47: =1/12 -> 0.083333333 | T47: =S47+R47 -> 0.58333333 | U47: =1/12 -> 0.083333333 | V47: =U47+T47 -> 0.66666667 | W47: =1/12 -> 0.083333333 | X47: =W47+V47 -> 0.75 | Y47: =1/12 -> 0.083333333 | Z47: =Y47+X47 -> 0.83333333 | AA47: =1/12 -> 0.083333333 | AB47: =AA47+Z47 -> 0.91666667 | AC47: =1/12 -> 0.083333333 | AD47: =AC47+AB47 -> 1
B48: 36 | C48: ='Composição de Custos'!C46 -> Prestação De Serviço De Monitoramento: Poço Itamuri IV | E48: ='Planilha Orçamentária'!F44 -> 6579.04 | F48: =SUM(E48/$E$120)*100 -> 0.77305808 | G48: =1/12 -> 0.083333333 | H48: =G48 -> 0.083333333 | I48: =1/12 -> 0.083333333 | J48: =I48+H48 -> 0.16666667 | K48: =1/12 -> 0.083333333 | L48: =K48+J48 -> 0.25 | M48: =1/12 -> 0.083333333 | N48: =M48+L48 -> 0.33333333 | O48: =1/12 -> 0.083333333 | P48: =O48+N48 -> 0.41666667 | Q48: =1/12 -> 0.083333333 | R48: =Q48+P48 -> 0.5 | S48: =1/12 -> 0.083333333 | T48: =S48+R48 -> 0.58333333 | U48: =1/12 -> 0.083333333 | V48: =U48+T48 -> 0.66666667 | W48: =1/12 -> 0.083333333 | X48: =W48+V48 -> 0.75 | Y48: =1/12 -> 0.083333333 | Z48: =Y48+X48 -> 0.83333333 | AA48: =1/12 -> 0.083333333 | AB48: =AA48+Z48 -> 0.91666667 | AC48: =1/12 -> 0.083333333 | AD48: =AC48+AB48 -> 1
B49: 37 | C49: ='Composição de Custos'!C47 -> Prestação De Serviço De Monitoramento: Poço Macuco I | E49: ='Planilha Orçamentária'!F45 -> 6579.04 | F49: =SUM(E49/$E$120)*100 -> 0.77305808 | G49: =1/12 -> 0.083333333 | H49: =G49 -> 0.083333333 | I49: =1/12 -> 0.083333333 | J49: =I49+H49 -> 0.16666667 | K49: =1/12 -> 0.083333333 | L49: =K49+J49 -> 0.25 | M49: =1/12 -> 0.083333333 | N49: =M49+L49 -> 0.33333333 | O49: =1/12 -> 0.083333333 | P49: =O49+N49 -> 0.41666667 | Q49: =1/12 -> 0.083333333 | R49: =Q49+P49 -> 0.5 | S49: =1/12 -> 0.083333333 | T49: =S49+R49 -> 0.58333333 | U49: =1/12 -> 0.083333333 | V49: =U49+T49 -> 0.66666667 | W49: =1/12 -> 0.083333333 | X49: =W49+V49 -> 0.75 | Y49: =1/12 -> 0.083333333 | Z49: =Y49+X49 -> 0.83333333 | AA49: =1/12 -> 0.083333333 | AB49: =AA49+Z49 -> 0.91666667 | AC49: =1/12 -> 0.083333333 | AD49: =AC49+AB49 -> 1
B50: 38 | C50: ='Composição de Custos'!C48 -> Prestação De Serviço De Monitoramento: Poço Macuco IV | E50: ='Planilha Orçamentária'!F46 -> 6579.04 | F50: =SUM(E50/$E$120)*100 -> 0.77305808 | G50: =1/12 -> 0.083333333 | H50: =G50 -> 0.083333333 | I50: =1/12 -> 0.083333333 | J50: =I50+H50 -> 0.16666667 | K50: =1/12 -> 0.083333333 | L50: =K50+J50 -> 0.25 | M50: =1/12 -> 0.083333333 | N50: =M50+L50 -> 0.33333333 | O50: =1/12 -> 0.083333333 | P50: =O50+N50 -> 0.41666667 | Q50: =1/12 -> 0.083333333 | R50: =Q50+P50 -> 0.5 | S50: =1/12 -> 0.083333333 | T50: =S50+R50 -> 0.58333333 | U50: =1/12 -> 0.083333333 | V50: =U50+T50 -> 0.66666667 | W50: =1/12 -> 0.083333333 | X50: =W50+V50 -> 0.75 | Y50: =1/12 -> 0.083333333 | Z50: =Y50+X50 -> 0.83333333 | AA50: =1/12 -> 0.083333333 | AB50: =AA50+Z50 -> 0.91666667 | AC50: =1/12 -> 0.083333333 | AD50: =AC50+AB50 -> 1
... B62: 50 | C62: ='Composição de Custos'!C60 -> Prestação De Serviço De Monitoramento: Ponto De Expansão Sist De Agua 04 (Cidade Ou Distrito) para Poço de água | E62: ='Planilha Orçamentária'!F58 -> 6579.04 | F62: =SUM(E62/$E$120)*100 -> 0.77305808 | G62: =1/12 -> 0.083333333 | H62: =G62 -> 0.083333333 | I62: =1/12 -> 0.083333333 | J62: =I62+H62 -> 0.16666667 | K62: =1/12 -> 0.083333333 | L62: =K62+J62 -> 0.25 | M62: =1/12 -> 0.083333333 | N62: =M62+L62 -> 0.33333333 | O62: =1/12 -> 0.083333333 | P62: =O62+N62 -> 0.41666667 | Q62: =1/12 -> 0.083333333 | R62: =Q62+P62 -> 0.5 | S62: =1/12 -> 0.083333333 | T62: =S62+R62 -> 0.58333333 | U62: =1/12 -> 0.083333333 | V62: =U62+T62 -> 0.66666667 | W62: =1/12 -> 0.083333333 | X62: =W62+V62 -> 0.75 | Y62: =1/12 -> 0.083333333 | Z62: =Y62+X62 -> 0.83333333 | AA62: =1/12 -> 0.083333333 | AB62: =AA62+Z62 -> 0.91666667 | AC62: =1/12 -> 0.083333333 | AD62: =AC62+AB62 -> 1
B63: 51 | C63: ='Composição de Custos'!C62 -> Prestação De Serviço De Monitoramento: Reservatório Distrito Industrial | E63: ='Planilha Orçamentária'!F60 -> 6988.92 | F63: =SUM(E63/$E$120)*100 -> 0.82122028 | G63: =1/12 -> 0.083333333 | H63: =G63 -> 0.083333333 | I63: =1/12 -> 0.083333333 | J63: =I63+H63 -> 0.16666667 | K63: =1/12 -> 0.083333333 | L63: =K63+J63 -> 0.25 | M63: =1/12 -> 0.083333333 | N63: =M63+L63 -> 0.33333333 | O63: =1/12 -> 0.083333333 | P63: =O63+N63 -> 0.41666667 | Q63: =1/12 -> 0.083333333 | R63: =Q63+P63 -> 0.5 | S63: =1/12 -> 0.083333333 | T63: =S63+R63 -> 0.58333333 | U63: =1/12 -> 0.083333333 | V63: =U63+T63 -> 0.66666667 | W63: =1/12 -> 0.083333333 | X63: =W63+V63 -> 0.75 | Y63: =1/12 -> 0.083333333 | Z63: =Y63+X63 -> 0.83333333 | AA63: =1/12 -> 0.083333333 | AB63: =AA63+Z63 -> 0.91666667 | AC63: =1/12 -> 0.083333333 | AD63: =AC63+AB63 -> 1
B64: 52 | C64: ='Composição de Custos'!C63 -> Prestação De Serviço De Monitoramento: Reservatório Belisário I | E64: ='Planilha Orçamentária'!F61 -> 6988.92 | F64: =SUM(E64/$E$120)*100 -> 0.82122028 | G64: =1/12 -> 0.083333333 | H64: =G64 -> 0.083333333 | I64: =1/12 -> 0.083333333 | J64: =I64+H64 -> 0.16666667 | K64: =1/12 -> 0.083333333 | L64: =K64+J64 -> 0.25 | M64: =1/12 -> 0.083333333 | N64: =M64+L64 -> 0.33333333 | O64: =1/12 -> 0.083333333 | P64: =O64+N64 -> 0.41666667 | Q64: =1/12 -> 0.083333333 | R64: =Q64+P64 -> 0.5 | S64: =1/12 -> 0.083333333 | T64: =S64+R64 -> 0.58333333 | U64: =1/12 -> 0.083333333 | V64: =U64+T64 -> 0.66666667 | W64: =1/12 -> 0.083333333 | X64: =W64+V64 -> 0.75 | Y64: =1/12 -> 0.083333333 | Z64: =Y64+X64 -> 0.83333333 | AA64: =1/12 -> 0.083333333 | AB64: =AA64+Z64 -> 0.91666667 | AC64: =1/12 -> 0.083333333 | AD64: =AC64+AB64 -> 1
B65: 53 | C65: ='Composição de Custos'!C64 -> Prestação De Serviço De Monitoramento: Reservatório Belisário II | E65: ='Planilha Orçamentária'!F62 -> 6988.92 | F65: =SUM(E65/$E$120)*100 -> 0.82122028 | G65: =1/12 -> 0.083333333 | H65: =G65 -> 0.083333333 | I65: =1/12 -> 0.083333333 | J65: =I65+H65 -> 0.16666667 | K65: =1/12 -> 0.083333333 | L65: =K65+J65 -> 0.25 | M65: =1/12 -> 0.083333333 | N65: =M65+L65 -> 0.33333333 | O65: =1/12 -> 0.083333333 | P65: =O65+N65 -> 0.41666667 | Q65: =1/12 -> 0.083333333 | R65: =Q65+P65 -> 0.5 | S65: =1/12 -> 0.083333333 | T65: =S65+R65 -> 0.58333333 | U65: =1/12 -> 0.083333333 | V65: =U65+T65 -> 0.66666667 | W65: =1/12 -> 0.083333333 | X65: =W65+V65 -> 0.75 | Y65: =1/12 -> 0.083333333 | Z65: =Y65+X65 -> 0.83333333 | AA65: =1/12 -> 0.083333333 | AB65: =AA65+Z65 -> 0.91666667 | AC65: =1/12 -> 0.083333333 | AD65: =AC65+AB65 -> 1
B66: 54 | C66: ='Composição de Custos'!C65 -> Prestação De Serviço De Monitoramento: Reservatório Boa Família I | E66: ='Planilha Orçamentária'!F63 -> 6988.92 | F66: =SUM(E66/$E$120)*100 -> 0.82122028 | G66: =1/12 -> 0.083333333 | H66: =G66 -> 0.083333333 | I66: =1/12 -> 0.083333333 | J66: =I66+H66 -> 0.16666667 | K66: =1/12 -> 0.083333333 | L66: =K66+J66 -> 0.25 | M66: =1/12 -> 0.083333333 | N66: =M66+L66 -> 0.33333333 | O66: =1/12 -> 0.083333333 | P66: =O66+N66 -> 0.41666667 | Q66: =1/12 -> 0.083333333 | R66: =Q66+P66 -> 0.5 | S66: =1/12 -> 0.083333333 | T66: =S66+R66 -> 0.58333333 | U66: =1/12 -> 0.083333333 | V66: =U66+T66 -> 0.66666667 | W66: =1/12 -> 0.083333333 | X66: =W66+V66 -> 0.75 | Y66: =1/12 -> 0.083333333 | Z66: =Y66+X66 -> 0.83333333 | AA66: =1/12 -> 0.083333333 | AB66: =AA66+Z66 -> 0.91666667 | AC66: =1/12 -> 0.083333333 | AD66: =AC66+AB66 -> 1
B67: 55 | C67: ='Composição de Custos'!C66 -> Prestação De Serviço De Monitoramento: Reservatório Boa Família II | E67: ='Planilha Orçamentária'!F64 -> 6988.92 | F67: =SUM(E67/$E$120)*100 -> 0.82122028 | G67: =1/12 -> 0.083333333 | H67: =G67 -> 0.083333333 | I67: =1/12 -> 0.083333333 | J67: =I67+H67 -> 0.16666667 | K67: =1/12 -> 0.083333333 | L67: =K67+J67 -> 0.25 | M67: =1/12 -> 0.083333333 | N67: =M67+L67 -> 0.33333333 | O67: =1/12 -> 0.083333333 | P67: =O67+N67 -> 0.41666667 | Q67: =1/12 -> 0.083333333 | R67: =Q67+P67 -> 0.5 | S67: =1/12 -> 0.083333333 | T67: =S67+R67 -> 0.58333333 | U67: =1/12 -> 0.083333333 | V67: =U67+T67 -> 0.66666667 | W67: =1/12 -> 0.083333333 | X67: =W67+V67 -> 0.75 | Y67: =1/12 -> 0.083333333 | Z67: =Y67+X67 -> 0.83333333 | AA67: =1/12 -> 0.083333333 | AB67: =AA67+Z67 -> 0.91666667 | AC67: =1/12 -> 0.083333333 | AD67: =AC67+AB67 -> 1
B68: 56 | C68: ='Composição de Custos'!C67 -> Prestação De Serviço De Monitoramento: Reservatório Bom Jesus I | E68: ='Planilha Orçamentária'!F65 -> 6988.92 | F68: =SUM(E68/$E$120)*100 -> 0.82122028 | G68: =1/12 -> 0.083333333 | H68: =G68 -> 0.083333333 | I68: =1/12 -> 0.083333333 | J68: =I68+H68 -> 0.16666667 | K68: =1/12 -> 0.083333333 | L68: =K68+J68 -> 0.25 | M68: =1/12 -> 0.083333333 | N68: =M68+L68 -> 0.33333333 | O68: =1/12 -> 0.083333333 | P68: =O68+N68 -> 0.41666667 | Q68: =1/12 -> 0.083333333 | R68: =Q68+P68 -> 0.5 | S68: =1/12 -> 0.083333333 | T68: =S68+R68 -> 0.58333333 | U68: =1/12 -> 0.083333333 | V68: =U68+T68 -> 0.66666667 | W68: =1/12 -> 0.083333333 | X68: =W68+V68 -> 0.75 | Y68: =1/12 -> 0.083333333 | Z68: =Y68+X68 -> 0.83333333 | AA68: =1/12 -> 0.083333333 | AB68: =AA68+Z68 -> 0.91666667 | AC68: =1/12 -> 0.083333333 | AD68: =AC68+AB68 -> 1
...
