Workbook
Name BOLETIM: #REF!
Name BOLETIM: #REF!
Name CONTRATO: [1]APONT!$B$5:$G$426
Name Criteria: #REF!
Name Database: #REF!
Name G: #REF!
Name G: #REF!
Name ImgEscudo: INDEX([2]IMAGENS!$B$1:$B$7,MATCH([2]DADOS!$D$8,[2]IMAGENS!$A$1:$A$7,0))
Name ImgEscudo: INDEX([3]IMAGENS!$B$1:$B$15,MATCH([3]DADOS!$D$8,[3]IMAGENS!$A$1:$A$15,0))
Name ORÇAMENTO: [4]!Tabela3[#All]
Name ORÇAMENTO: [3]!Tabela3[#All]
Name Print_Area_MI: #REF!
Name Print_Area_MI: #REF!
Name un: #REF!
Name un: #REF!
Name W: #REF!
Name W: #REF!

Sheet RESUMO
A1: RESUMO POR MÊS
A3: ITEM | B3: DESCRIÇÃO | C3: MÃO DE OBRA | D3: VALOR POR MÊS
A4: 1 | B4: Coleta RSU | C4: 13 | D4: 288889.22
A5: 2 | B5: Coleta Seletiva | C5: 4 | D5: 51658.17
A6: 3 | B6: Varrição | C6: 11 | D6: 60072.01
A7: 4 | B7: Pintura de meio-fio | C7: 5 | D7: 51817.75
A8: 5 | B8: Capinação e coleta de grama | C8: 18 | D8: 154445.45
A9: 6 | B9: Limpeza de Bueiro | C9: 3 | D9: 15879
A10: 7 | B10: Corte, poda de arvore e coleta de entulhos e galhos | C10: 3 | D10: 65452.8
A11: 8 | B11: Educação Ambiental | C11: 1 | D11: 3316.6
B12: TOTAL | C12: 58 | D12: 691531
A14: ITEM | B14: DESCRIÇÃO | C14: MÃO DE OBRA | D14: R$ MÊS
A15: 1 | B15: Coleta RSU-MÃO DE OBRA | C15: 15 | D15: 66847.69
A16: 2 | B16: Varrição | C16: 7 | D16: 57669.13
A17: 3 | B17: Pintura de meio-fio | C17: 5 | D17: 50781.39
A18: 4 | B18: Capinação e coleta de grama | C18: 5 | D18: 154445.45
A19: 5 | B19: Limpeza de Bueiro | C19: 4 | D19: 15462
A20: 6 | B20: Corte, poda de arvore e coleta de entulhos e galhos | C20: 4 | D20: 63735.6
D21: 408941.26
A23: ITEM | B23: DESCRIÇÃO | C23: MÃO DE OBRA | D23: R$ MÊS
A24: 1 | B24: Coleta RSU-Mão de obra e Manutenção | C24: 15 | D24: 160686.81
A25: 2 | B25: Varrição | C25: 7 | D25: 57669.13
A26: 3 | B26: Pintura de meio-fio | C26: 5 | D26: 50781.39
A27: 4 | B27: Capinação e coleta de grama | C27: 5 | D27: 154445.45
A28: 5 | B28: Limpeza de Bueiro | C28: 4 | D28: 15462
A29: 6 | B29: Corte, poda de arvore e coleta de entulhos e galhos | C29: 4 | D29: 63735.6
D30: 502780.38

Sheet ORÇAMENTO DESONERADO
A1: PLANILHA ORÇAMENTÁRIA
A3: CONTRATAÇÃO DE EMPRESA ESPECIALIZADA NA PRESTAÇÃO DE SERVIÇOS DE COLETA DE RESÍDUOS URBANOS, COLETA SELETIVA, LIMPEZA E CONSERVAÇÃO DE VIAS, LOGRADOUROS, PRAÇAS E ESPAÇOS PÚBLICOS, COM PINTURA OU CAIAÇÃO DE MEIO-FIO, PODA DE ÁRVORES E LIMPEZA DE BUEIROS, INCLUINDO O FORNECIMENTO DE CAMINHÕES COM MANUTENÇÃO PREVENTIVA E CORRETIVA, BEM COMO O FORNECIMENTO DE TODOS OS EQUIPAMENTOS, MÁQUINAS, IMPLEMENTOS, VEÍCULOS, FERRAMENTAS, COMBUSTÍVEIS, EQUIPE TÉCNICA, E DEMAIS INSUMOS QUE SE FIZEREM NECESSÁRIOS PARA A EXECUÇÃO INTEGRAL DOS SERVIÇOS. | F3: SINAPI: ABR/2025 - S/ DESONERAÇÃO SBC ABR/2025 - S/ DESONERAÇÃO CONVENÇÃO COLETIVA 2025 - STEAC/MS BDI: SERVIÇO 25,00% | J3: 12
A4: LOCAL: Caarapó - MS
A8: ITEM | B8: DESCRIÇÃO | C8: UNIDADE | D8: QUANTIDADE | E8: V. UNITÁRIO S/ BDI | F8: V. UNITÁRIO C/ BDI | G8: V. TOTAL MENSAL | H8: V. TOTAL ANUAL
A9: 1 | B9: Coleta RSU | C9: MÊS | D9: 1 | E9: 231111.38 | F9: 288889.22 | G9: =D9*F9 -> 288889.22 | H9: =G9*$J$3 -> 3466670.6
A10: 2 | B10: Coleta Seletiva | C10: MÊS | D10: 1 | E10: 41326.54 | F10: 51658.17 | G10: =D10*F10 -> 51658.17 | H10: =G10*$J$3 -> 619898.04
A11: 3 | B11: Varrição | C11: M² | D11: 240288.08 | E11: 0.2 | F11: 0.25 | G11: =D11*F11 -> 60072.019 | H11: =G11*$J$3+0.01 -> 720864.24
A12: 4 | B12: Pintura de meio-fio | C12: M | D12: 103635.5 | E12: 0.40712108 | F12: 0.5 | G12: =D12*F12 -> 51817.75 | H12: =G12*$J$3 -> 621813
A13: 5 | B13: Capinação e coleta de grama | C13: M2 | D13: 671501.98 | E13: 0.18912024 | F13: 0.23 | G13: =D13*F13 -> 154445.45 | H13: =G13*$J$3+0.01 -> 1853345.5
A14: 6 | B14: Limpeza de Bueiro | C14: UND | D14: 60 | E14: 211.72274 | F14: 264.65 | G14: =D14*F14 -> 15879 | H14: =G14*$J$3 -> 190548
A15: 7 | B15: Corte, poda de arvore e coleta de entulhos e galhos | C15: UND | D15: 120 | E15: 436.35882 | F15: 545.44 | G15: =D15*F15 -> 65452.8 | H15: =G15*$J$3 -> 785433.6
A16: 8 | B16: Educação Ambiental | C16: HORAS | D16: 20 | E16: 132.67 | F16: 165.83 | G16: =D16*F16 -> 3316.6 | H16: =G16*$J$3 -> 39799.2
F17: TOTAL | G17: =SUM(G9:G16) -> 691531.01 | H17: =SUM(H9:H16)-0.01 -> 8298372.2
A19: ITEM | B19: DESCRIÇÃO | C19: UNIDADE | D19: QUANTIDADE TOTAL | E19: V. UNITÁRIO S/ BDI | F19: V. UNITÁRIO C/ BDI | G19: V. TOTAL MENSAL | H19: V. TOTAL ANUAL
A20: 1 | B20: Coleta RSU | C20: MÊS | D20: 12
A21: 2 | B21: Coleta Seletiva | C21: MÊS | D21: 12
A22: 3 | B22: Varrição | C22: M² | D22: 2883456.9
A23: 4 | B23: Pintura de meio-fio | C23: M | D23: 1243626
A24: 5 | B24: Capinação e coleta de grama | C24: M2 | D24: 8058023.7
A25: 6 | B25: Limpeza de Bueiro | C25: UND | D25: 720
A26: 7 | B26: Corte, poda de arvore e coleta de entulhos e galhos | C26: UND | D26: 1440
A27: 8 | B27: Educação Ambiental | C27: HORAS | D27: 240
F28: TOTAL
A31: ITEM | B31: DESCRIÇÃO | C31: und | D31: VALOR | E31: mês 1 | F31: mês 2 | G31: mês 3 | H31: mês 4 | I31: mês 5 | J31: mês 6
A32: 1 | B32: Coleta RSU | C32: MÊS | D32: 3466670.6 | E32: 288889.22 | F32: 288889.22 | G32: 288889.22 | H32: 288889.22 | I32: 288889.22 | J32: 288889.22
A33: 2 | B33: Coleta Seletiva | C33: MÊS | D33: 619898.04 | E33: 51658.17 | F33: 51658.17 | G33: 51658.17 | H33: 51658.17 | I33: 51658.17 | J33: 51658.17
A34: 3 | B34: Varrição | C34: M² | D34: 720864.12 | E34: 60072.01 | F34: 60072.01 | G34: 60072.01 | H34: 60072.01 | I34: 60072.01 | J34: 60072.01
A35: 4 | B35: Pintura de meio-fio | C35: M | D35: 621813 | E35: 51817.75 | F35: 51817.75 | G35: 51817.75 | H35: 51817.75 | I35: 51817.75 | J35: 51817.75
A36: 5 | B36: Capinação e coleta de grama | C36: M2 | D36: 1853345.4 | E36: 154445.45 | F36: 154445.45 | G36: 154445.45 | H36: 154445.45 | I36: 154445.45 | J36: 154445.45
A37: 6 | B37: Limpeza de Bueiro | C37: UND | D37: 190548 | E37: 15879 | F37: 15879 | G37: 15879 | H37: 15879 | I37: 15879 | J37: 15879
A38: 7 | B38: Corte, poda de arvore e coleta de entulhos e galhos | C38: UND | D38: 785433.6 | E38: 65452.8 | F38: 65452.8 | G38: 65452.8 | H38: 65452.8 | I38: 65452.8 | J38: 65452.8
A39: 8 | B39: Educação Ambiental | C39: HORAS | D39: 39799.2 | E39: 3316.6 | F39: 3316.6 | G39: 3316.6 | H39: 3316.6 | I39: 3316.6 | J39: 3316.6
D40: 8298372 | E40: 691531 | F40: 691531 | G40: 691531 | H40: 691531 | I40: 691531 | J40: 691531
A41: ITEM | B41: DESCRIÇÃO | C41: und | D41: VALOR | E41: mês 7 | F41: mês 8 | G41: mês 9 | H41: mês 10 | I41: mês 11 | J41: mês 12
A42: 1 | B42: Coleta RSU | C42: MÊS | D42: 3466670.6 | E42: 288889.22 | F42: 288889.22 | G42: 288889.22 | H42: 288889.22 | I42: 288889.22 | J42: 288889.22
A43: 2 | B43: Coleta Seletiva | C43: MÊS | D43: 619898.04 | E43: 51658.17 | F43: 51658.17 | G43: 51658.17 | H43: 51658.17 | I43: 51658.17 | J43: 51658.17
A44: 3 | B44: Varrição | C44: M² | D44: 720864.12 | E44: 60072.01 | F44: 60072.01 | G44: 60072.01 | H44: 60072.01 | I44: 60072.01 | J44: 60072.01
A45: 4 | B45: Pintura de meio-fio | C45: M | D45: 621813 | E45: 51817.75 | F45: 51817.75 | G45: 51817.75 | H45: 51817.75 | I45: 51817.75 | J45: 51817.75
A46: 5 | B46: Capinação e coleta de grama | C46: M2 | D46: 1853345.4 | E46: 154445.45 | F46: 154445.45 | G46: 154445.45 | H46: 154445.45 | I46: 154445.45 | J46: 154445.45
A47: 6 | B47: Limpeza de Bueiro | C47: UND | D47: 190548 | E47: 15879 | F47: 15879 | G47: 15879 | H47: 15879 | I47: 15879 | J47: 15879
...

Sheet CRONOGRAMA
A1: CRONOGRAMA
B2: VALOR TOTAL: | L2: ='ORÇAMENTO DESONERADO'!H17 -> 8298372.2
A3: ITEM | B3: DESCRIÇÃO DOS SERVIÇOS | C3: ( % ) | D3: VALOR ( R$ ) | E3: % Mês 01 | F3: R$ (Mês 01) | G3: % Mês 02 | H3: R$ (Mês 02) | I3: % Mês 03 | J3: R$ (Mês 03) | K3: % Mês 04 | L3: R$ (Mês 04) | M3: % Mês 05 | N3: R$ (Mês 05) | O3: % Mês 06 | P3: R$ (Mês 06) | Q3: % Mês 07 | R3: R$ (Mês 07) | S3: % Mês 08 | T3: R$ (Mês 08) | U3: % Mês 09 | V3: R$ (Mês 09) | W3: % Mês 10 | X3: R$ (Mês 10) | Y3: % Mês 11 | Z3: R$ (Mês 11) | AA3: % Mês 12 | AB3: R$ (Mês 12)
A4: ='ORÇAMENTO DESONERADO'!A9 -> 1 | B4: ='ORÇAMENTO DESONERADO'!B9 -> Coleta RSU | C4: =D4/D12 -> 0.41775309 | D4: ='ORÇAMENTO DESONERADO'!H9 -> 3466670.6 | E4: 0.08 | F4: =E4*D4 -> 277333.65 | G4: 0.08 | H4: =G4*D4 -> 277333.65 | I4: 0.08 | J4: =I4*D4 -> 277333.65 | K4: 0.08 | L4: =K4*D4 -> 277333.65 | M4: 0.08 | N4: =M4*D4 -> 277333.65 | O4: 0.08 | P4: =O4*D4 -> 277333.65 | Q4: 0.08 | R4: =Q4*D4 -> 277333.65 | S4: 0.08 | T4: =S4*D4 -> 277333.65 | U4: 0.08 | V4: =U4*D4 -> 277333.65 | W4: 0.1 | X4: =W4*D4 -> 346667.06 | Y4: 0.08 | Z4: =Y4*D4 -> 277333.65 | AA4: 0.1 | AB4: =AA4*D4 -> 346667.06 | AD4: =AA4+Y4+W4+U4+S4+Q4+O4+M4+K4+I4+G4+E4 -> 1
A5: ='ORÇAMENTO DESONERADO'!A10 -> 2 | B5: ='ORÇAMENTO DESONERADO'!B10 -> Coleta Seletiva | C5: =D5/D12 -> 0.074701161 | D5: ='ORÇAMENTO DESONERADO'!H10 -> 619898.04 | E5: 0.08 | F5: =E5*D5 -> 49591.843 | G5: 0.08 | H5: =G5*D5 -> 49591.843 | I5: 0.08 | J5: =I5*D5 -> 49591.843 | K5: 0.08 | L5: =K5*D5 -> 49591.843 | M5: 0.08 | N5: =M5*D5 -> 49591.843 | O5: 0.08 | P5: =O5*D5 -> 49591.843 | Q5: 0.08 | R5: =Q5*D5 -> 49591.843 | S5: 0.08 | T5: =S5*D5 -> 49591.843 | U5: 0.08 | V5: =U5*D5 -> 49591.843 | W5: 0.1 | X5: =W5*D5 -> 61989.804 | Y5: 0.08 | Z5: =Y5*D5 -> 49591.843 | AA5: 0.1 | AB5: =AA5*D5 -> 61989.804
A6: ='ORÇAMENTO DESONERADO'!A11 -> 3 | B6: ='ORÇAMENTO DESONERADO'!B11 -> Varrição | C6: =D6/D12 -> 0.086868151 | D6: ='ORÇAMENTO DESONERADO'!H11 -> 720864.24 | E6: 0.08 | F6: =E6*D6 -> 57669.139 | G6: 0.08 | H6: =G6*D6 -> 57669.139 | I6: 0.08 | J6: =I6*D6 -> 57669.139 | K6: 0.08 | L6: =K6*D6 -> 57669.139 | M6: 0.08 | N6: =M6*D6 -> 57669.139 | O6: 0.08 | P6: =O6*D6 -> 57669.139 | Q6: 0.08 | R6: =Q6*D6 -> 57669.139 | S6: 0.08 | T6: =S6*D6 -> 57669.139 | U6: 0.08 | V6: =U6*D6 -> 57669.139 | W6: 0.1 | X6: =W6*D6 -> 72086.424 | Y6: 0.08 | Z6: =Y6*D6 -> 57669.139 | AA6: 0.1 | AB6: =AA6*D6 -> 72086.424
A7: ='ORÇAMENTO DESONERADO'!A12 -> 4 | B7: ='ORÇAMENTO DESONERADO'!B12 -> Pintura de meio-fio | C7: =D7/D12 -> 0.074931925 | D7: ='ORÇAMENTO DESONERADO'!H12 -> 621813 | E7: 0.08 | F7: =E7*D7 -> 49745.04 | G7: 0.08 | H7: =G7*D7 -> 49745.04 | I7: 0.08 | J7: =I7*D7 -> 49745.04 | K7: 0.08 | L7: =K7*D7 -> 49745.04 | M7: 0.08 | N7: =M7*D7 -> 49745.04 | O7: 0.08 | P7: =O7*D7 -> 49745.04 | Q7: 0.08 | R7: =Q7*D7 -> 49745.04 | S7: 0.08 | T7: =S7*D7 -> 49745.04 | U7: 0.08 | V7: =U7*D7 -> 49745.04 | W7: 0.1 | X7: =W7*D7 -> 62181.3 | Y7: 0.08 | Z7: =Y7*D7 -> 49745.04 | AA7: 0.1 | AB7: =AA7*D7 -> 62181.3
A8: ='ORÇAMENTO DESONERADO'!A13 -> 5 | B8: ='ORÇAMENTO DESONERADO'!B13 -> Capinação e coleta de grama | C8: =D8/D12 -> 0.22333844 | D8: ='ORÇAMENTO DESONERADO'!H13 -> 1853345.5 | E8: 0.08 | F8: =E8*D8 -> 148267.64 | G8: 0.08 | H8: =G8*D8 -> 148267.64 | I8: 0.08 | J8: =I8*D8 -> 148267.64 | K8: 0.08 | L8: =K8*D8 -> 148267.64 | M8: 0.08 | N8: =M8*D8 -> 148267.64 | O8: 0.08 | P8: =O8*D8 -> 148267.64 | Q8: 0.08 | R8: =Q8*D8 -> 148267.64 | S8: 0.08 | T8: =S8*D8 -> 148267.64 | U8: 0.08 | V8: =U8*D8 -> 148267.64 | W8: 0.1 | X8: =W8*D8 -> 185334.55 | Y8: 0.08 | Z8: =Y8*D8 -> 148267.64 | AA8: 0.1 | AB8: =AA8*D8 -> 185334.55
A9: ='ORÇAMENTO DESONERADO'!A14 -> 6 | B9: ='ORÇAMENTO DESONERADO'!B14 -> Limpeza de Bueiro | C9: =D9/D12 -> 0.022962094 | D9: ='ORÇAMENTO DESONERADO'!H14 -> 190548 | E9: 0.08 | F9: =E9*D9 -> 15243.84 | G9: 0.08 | H9: =G9*D9 -> 15243.84 | I9: 0.08 | J9: =I9*D9 -> 15243.84 | K9: 0.08 | L9: =K9*D9 -> 15243.84 | M9: 0.08 | N9: =M9*D9 -> 15243.84 | O9: 0.08 | P9: =O9*D9 -> 15243.84 | Q9: 0.08 | R9: =Q9*D9 -> 15243.84 | S9: 0.08 | T9: =S9*D9 -> 15243.84 | U9: 0.08 | V9: =U9*D9 -> 15243.84 | W9: 0.1 | X9: =W9*D9 -> 19054.8 | Y9: 0.08 | Z9: =Y9*D9 -> 15243.84 | AA9: 0.1 | AB9: =AA9*D9 -> 19054.8
A10: ='ORÇAMENTO DESONERADO'!A15 -> 7 | B10: ='ORÇAMENTO DESONERADO'!B15 -> Corte, poda de arvore e coleta de entulhos e galhos | C10: =D10/D12 -> 0.094649117 | D10: ='ORÇAMENTO DESONERADO'!H15 -> 785433.6 | E10: 0.08 | F10: =E10*D10 -> 62834.688 | G10: 0.08 | H10: =G10*D10 -> 62834.688 | I10: 0.08 | J10: =I10*D10 -> 62834.688 | K10: 0.08 | L10: =K10*D10 -> 62834.688 | M10: 0.08 | N10: =M10*D10 -> 62834.688 | O10: 0.08 | P10: =O10*D10 -> 62834.688 | Q10: 0.08 | R10: =Q10*D10 -> 62834.688 | S10: 0.08 | T10: =S10*D10 -> 62834.688 | U10: 0.08 | V10: =U10*D10 -> 62834.688 | W10: 0.1 | X10: =W10*D10 -> 78543.36 | Y10: 0.08 | Z10: =Y10*D10 -> 62834.688 | AA10: 0.1 | AB10: =AA10*D10 -> 78543.36
A11: ='ORÇAMENTO DESONERADO'!A16 -> 8 | B11: ='ORÇAMENTO DESONERADO'!B16 -> Educação Ambiental | C11: =D11/D12 -> 0.0047960249 | D11: ='ORÇAMENTO DESONERADO'!H16 -> 39799.2 | E11: 0.08 | F11: =E11*D11 -> 3183.936 | G11: 0.08 | H11: =G11*D11 -> 3183.936 | I11: 0.08 | J11: =I11*D11 -> 3183.936 | K11: 0.08 | L11: =K11*D11 -> 3183.936 | M11: 0.08 | N11: =M11*D11 -> 3183.936 | O11: 0.08 | P11: =O11*D11 -> 3183.936 | Q11: 0.08 | R11: =Q11*D11 -> 3183.936 | S11: 0.08 | T11: =S11*D11 -> 3183.936 | U11: 0.08 | V11: =U11*D11 -> 3183.936 | W11: 0.1 | X11: =W11*D11 -> 3979.92 | Y11: 0.08 | Z11: =Y11*D11 -> 3183.936 | AA11: 0.1 | AB11: =AA11*D11 -> 3979.92
B12: % Simples | C12: =SUM(C4:C11) -> 1 | D12: =SUM(D4:D11)-0.01 -> 8298372.2 | E12: =F14/D12 -> 0.08 | G12: =H14/D12 -> 0.08 | I12: =J14/D12 -> 0.08 | K12: =L14/D12 -> 0.08 | M12: =N14/D12 -> 0.08 | O12: =P14/D12 -> 0.08 | Q12: =R14/D12 -> 0.08 | S12: =T14/D12 -> 0.08 | U12: =V14/D12 -> 0.08 | W12: =X14/D12 -> 0.1 | Y12: =Z14/D12 -> 0.08 | AA12: =AB14/D12 -> 0.1
B13: % Acumulada | E13: =E12 -> 0.08 | G13: =E13+G12 -> 0.16 | I13: =G13+I12 -> 0.24 | K13: =I13+K12 -> 0.32 | M13: =K13+M12 -> 0.4 | O13: =M13+O12 -> 0.48 | Q13: =O13+Q12 -> 0.56 | S13: =Q13+S12 -> 0.64 | U13: =S13+U12 -> 0.72 | W13: =U13+W12 -> 0.82 | Y13: =W13+Y12 -> 0.9 | AA13: =Y13+AA12 -> 1
B14: Total Simples (R$) | F14: =SUM(F4:F11) -> 663869.77 | H14: =SUM(H4:H11) -> 663869.77 | J14: =SUM(J4:J11) -> 663869.77 | L14: =SUM(L4:L11) -> 663869.77 | N14: =SUM(N4:N11) -> 663869.77 | P14: =SUM(P4:P11) -> 663869.77 | R14: =SUM(R4:R11) -> 663869.77 | T14: =SUM(T4:T11) -> 663869.77 | V14: =SUM(V4:V11) -> 663869.77 | X14: =SUM(X4:X11) -> 829837.22 | Z14: =SUM(Z4:Z11) -> 663869.77 | AB14: =SUM(AB4:AB11) -> 829837.22
B15: Total Acumulado (R$) | F15: =F14 -> 663869.77 | H15: =H14+F15 -> 1327739.5 | J15: =J14+H15 -> 1991609.3 | L15: =L14+J15 -> 2655479.1 | N15: =N14+L15 -> 3319348.9 | P15: =P14+N15 -> 3983218.6 | R15: =R14+P15 -> 4647088.4 | T15: =T14+R15 -> 5310958.2 | V15: =V14+T15 -> 5974828 | X15: =X14+V15 -> 6804665.2 | Z15: =Z14+X15 -> 7468535 | AB15: =AB14+Z15-0.01 -> 8298372.2

Sheet Coleta RSU
A1: COLETA RESIDUOS SÓLIDOS
A3: EPIs | B3: Coluna1 | C3: Coluna2 | D3: Coluna3 | E3: Coluna4
B4: MÃO DE OBRA
A5: ITEM | B5: SERVIÇO | C5: QUANTIDADE | D5: V. UNITÁRIO | E5: V. TOTAL
A6: 1 | B6: GARI COLETOR - PISO SALARIAL CONVENÇÃO COLETIVA 2025 - STEAC/MS | C6: 9 | D6: 1599.07 | E6: 14391.63
A7: 2 | B7: ENCARGOS SOCIAIS - MENSALISTAS - 83,39% | C7: 9 | D7: 1333.4645 | E7: 12001.18
A8: 3 | B8: INSALUBRIDADE - 20% | C8: 9 | D8: 319.814 | E8: 2878.32
A9: 4 | B9: AUXILIO ALIMENTAÇÃO CONVENÇÃO COLETIVA 2025 - STEAC/MS | C9: 9 | D9: 360 | E9: 3240
A10: 5 | B10: ENCARREGADO DE ASSEIO E CONSERVAÇÃO CONVENÇÃO COLETIVA 2025 - STEAC/MS | C10: 1 | D10: 1983.99 | E10: 1983.99
A11: 6 | B11: ENCARGOS SOCIAIS - MENSALISTAS - 83,39% | C11: 1 | D11: 1654.4493 | E11: 1654.44
A12: 7 | B12: INSALUBRIDADE - 20% | C12: 1 | D12: 396.798 | E12: 396.79
A13: 8 | B13: AUXILIO ALIMENTAÇÃO CONVENÇÃO COLETIVA 2025 - STEAC/MS | C13: 1 | D13: 360 | E13: 360
A14: 9 | B14: MOTORISTA- PISO SALARIAL CONVENÇÃO COLETIVA 2025 - STEAC/MS | C14: 3 | D14: 2346.41 | E14: 7039.23
A15: 10 | B15: ENCARGOS SOCIAIS - MENSALISTAS - 83,39% | C15: 3 | D15: 1956.6713 | E15: 5870.01
A16: 11 | B16: INSALUBRIDADE - 20% | C16: 3 | D16: 469.282 | E16: 1407.84
A17: 12 | B17: AUXILIO ALIMENTAÇÃO CONVENÇÃO COLETIVA 2025 - STEAC/MS | C17: 3 | D17: 360 | E17: 1080
D18: TOTAL MENSAL | E18: 52303.43
B19: EPIs
A20: ITEM | B20: DESCRIÇÃO | C20: QUANTIDADE | D20: V. UNITÁRIO | E20: V. TOTAL
A21: 1 | B21: LUVA TRICOTADA PIGMENTADA BRANCA CA 36890 SINAPI/12892/ABR-2025 | C21: 9 | D21: 13.88 | E21: 124.92
A22: 2 | B22: PROTETOR AURICULAR SBC/2210/ABR-2025 | C22: 13 | D22: 4.5 | E22: 58.5
A23: 3 | B23: CAPA DE CHUVA SBC/38001ABR-2025 | C23: 10 | D23: 22.8 | E23: 228
A24: 4 | B24: OCULOS DE SEGURANÇA SBC/13767/ABR-2025 | C24: 10 | D24: 17.9 | E24: 179
A25: 5 | B25: RESPIRADOR PFF2 SEM VÁLVULA CA 44527 SBC/7300/DABR-2025 | C25: 13 | D25: 7.5 | E25: 97.5
A26: 6 | B26: BOTA DE SEGURANÇA SINAPI/36145/ABR-2025 | C26: 13 | D26: 74.06 | E26: 962.78
A27: 7 | B27: UNIFORME COM FAIXA REFLETIVA SBC/6565/ABR-2025 | C27: 13 | D27: 90.8 | E27: 1180.4
A28: 8 | B28: BONÉ COTAÇÃO 001 | C28: 13 | D28: 16.37 | E28: 212.81
D29: TOTAL MENSAL | E29: 3043.91
B30: EQUIPAMENTOS E FERRAMENTAS
A31: ITEM | B31: DESCRIÇÃO | C31: QUANTIDADE | D31: V. UNITÁRIO | E31: V. TOTAL
A32: 1 | B32: CAMINHÃO COMPACTADOR 12 M3 SINAPI/ABR/2025 | C32: 610.08 | D32: 288.1 | E32: 175764.04
D33: TOTAL MENSAL | E33: 175764.04
B34: RESUMO DESPESAS
A35: 1 | B35: CUSTO MÃO-DE-OBRA | E35: 52303.43
A36: 2 | B36: CUSTO EPI´S | E36: 3043.91
A37: 3 | B37: CUSTO FERRAMENTAS | E37: 175764.04
D38: V. TOTAL | E38: 231111.38
B39: VALOR DA COMPOSIÇÃO
A40: ITEM | B40: DESCRIÇÃO | C40: Coluna1 | D40: UNIDADE | E40: V. UNITÁRIO
A41: 1 | B41: VALOR TOTAL GERAL DE COLETA RSU | D41: R$ | E41: 231111.38
...

Sheet Coleta Seletiva
A1: COLETA SELETIVA
A3: EPIs | B3: Coluna1 | C3: Coluna2 | D3: Coluna3 | E3: Coluna4 | K3: CRONOGRAMA - COLETA RSU
B4: MÃO DE OBRA | K4: TIPO E LOCAL | L4: HORÁRIO DA COLETA | M4: OBSERVAÇÃO
A5: ITEM | B5: SERVIÇO | C5: QUANTIDADE | D5: V. UNITÁRIO | E5: V. TOTAL | K5: Centro e Avenidas Comerciais | L5: 06h00 às 10h00 | M5: Coleta matutina, antes do comércio abrir
A6: 1 | B6: GARI COLETOR - PISO SALARIAL CONVENÇÃO COLETIVA 2025 - STEAC/MS | C6: 3 | D6: 1599.07 | E6: 4797.21 | K6: Bairros Residenciais | L6: 10h30 às 14h30 | M6: Após o turno da manhã, ainda com boa circulação
A7: 2 | B7: ENCARGOS SOCIAIS - MENSALISTAS - 83,39% | C7: 3 | D7: 1333.4645 | E7: 4000.39 | K7: Grandes Geradores | L7: 13h00 às 17h00 | M7: Coleta no contraturno das atividades comerciais
A8: 3 | B8: INSALUBRIDADE - 20% | C8: 3 | D8: 319.814 | E8: 959.44 | K8: Departamentos Públicos | L8: 07h00 às 11h00 | M8: Preferencialmente no início do expediente
A9: 4 | B9: AUXILIO ALIMENTAÇÃO CONVENÇÃO COLETIVA 2025 - STEAC/MS | C9: 3 | D9: 360 | E9: 1080
A10: 5 | B10: ENCARREGADO DE ASSEIO E CONSERVAÇÃO CONVENÇÃO COLETIVA 2025 - STEAC/MS | D10: 1983.99 | E10: 0
A11: 6 | B11: ENCARGOS SOCIAIS - MENSALISTAS - 83,39% | C11: 0 | D11: 1654.4493 | E11: 0
A12: 7 | B12: INSALUBRIDADE - 20% | C12: 0 | D12: 396.798 | E12: 0
A13: 8 | B13: AUXILIO ALIMENTAÇÃO CONVENÇÃO COLETIVA 2025 - STEAC/MS | C13: 0 | D13: 360 | E13: 0
A14: 6 | B14: MOTORISTA- PISO SALARIAL CONVENÇÃO COLETIVA 2025 - STEAC/MS | C14: 1 | D14: 2346.41 | E14: 2346.41
A15: 7 | B15: ENCARGOS SOCIAIS - MENSALISTAS - 83,39% | C15: 1 | D15: 1956.6713 | E15: 1956.67
A16: 8 | B16: INSALUBRIDADE - 20% | C16: 1 | D16: 469.282 | E16: 469.28
A17: 9 | B17: AUXILIO ALIMENTAÇÃO CONVENÇÃO COLETIVA 2025 - STEAC/MS | C17: 1 | D17: 360 | E17: 360
D18: TOTAL MENSAL | E18: 15969.4
B19: EPIs
A20: ITEM | B20: DESCRIÇÃO | C20: QUANTIDADE | D20: V. UNITÁRIO | E20: V. TOTAL
A21: 1 | B21: LUVA TRICOTADA PIGMENTADA BRANCA CA 36890 SINAPI/12892/ABR-2025 | C21: 3 | D21: 13.88 | E21: 41.64
A22: 2 | B22: PROTETOR AURICULAR SBC/2210/ABR-2025 | C22: 4 | D22: 4.5 | E22: 18
A23: 3 | B23: CAPA DE CHUVA SBC/38001ABR-2025 | C23: 3 | D23: 22.8 | E23: 68.4
A24: 4 | B24: OCULOS DE SEGURANÇA SBC/13767/ABR-2025 | C24: 3 | D24: 17.9 | E24: 53.7
A25: 5 | B25: RESPIRADOR PFF2 SEM VÁLVULA CA 44527 SBC/7300/DABR-2025 | C25: 4 | D25: 7.5 | E25: 30
A26: 6 | B26: BOTA DE SEGURANÇA SINAPI/36145/ABR-2025 | C26: 4 | D26: 74.06 | E26: 296.24
A27: 7 | B27: UNIFORME COM FAIXA REFLETIVA SBC/6565/ABR-2025 | C27: 4 | D27: 90.8 | E27: 363.2
A28: 8 | B28: BONÉ COTAÇÃO 001 | C28: 4 | D28: 16.37 | E28: 65.48
D29: TOTAL MENSAL | E29: 936.66
B30: EQUIPAMENTOS E FERRAMENTAS
A31: ITEM | B31: DESCRIÇÃO | C31: QUANTIDADE | D31: V. UNITÁRIO | E31: V. TOTAL
A32: 1 | B32: CAMINHÃO CARROCERIA COM CAPACIDADE DE 4.000 KG COM GAIOLA - SINAPI/73467/ABR/2025 | C32: 96 | D32: 254.38 | E32: 24420.48
D33: TOTAL MENSAL | E33: 24420.48
B36: RESUMO DESPESA
A37: 1 | B37: CUSTO MÃO-DE-OBRA | E37: 15969.4
A38: 2 | B38: CUSTO EPI´S | E38: 936.66
A39: 3 | B39: CUSTO FERRAMENTAS | E39: 24420.48
D40: V. TOTAL | E40: 41326.54
B41: VALOR DA COMPOSIÇÃO
A42: ITEM | B42: DESCRIÇÃO | C42: Coluna1 | D42: UNIDADE | E42: V. UNITÁRIO
A43: 1 | B43: VALOR TOTAL GERAL DE COLETA SELETIVA | D43: R$ | E43: 41326.54
...

Sheet Seletividade
B1: EMPRESA: | C1: IBANHES & IBANHES ENGENHARIA LTDA
B2: CNPJ: | C2: 26.254.461/0001-84
B3: ENDEREÇO: | C3: AV. HIROSHIMA, 78, VILA NASCENTES - CAMPO GRANDE MS, CEP: 79.032-050
B4: CONTATO: | C4: (67) 99335-3156
B5: EMAIL: | C5: jpm.prestadoradeservicos@gmail.com
B6: RESPONSÁVEL:
B7: CREA:
B8: PROCESSO N°:
B9: TOMADA N°:
B10: BANCO:
B11: AGÊNCIA:
B12: CONTA CORRENTE:
A13: EPIs | B13: Coluna1 | C13: Coluna2 | D13: Coluna3 | E13: Coluna4
B14: MÃO DE OBRA
A15: ITEM | B15: SERVIÇO | C15: QUANTIDADE | D15: V. UNITÁRIO | E15: V. TOTAL
A16: 1 | B16: GARI COLETOR - PISO SALARIAL CONVENÇÃO COLETIVA 2025 - STEAC/MS | C16: 16 | D16: 1535 | E16: =TRUNC(C16*D16,2) -> 24560
A17: 2 | B17: ENCARGOS SOCIAIS - MENSALISTAS - 83,39% | C17: =C16 -> 16 | D17: =D16*0.8339 -> 1280.0365 | E17: =TRUNC(C17*D17,2) -> 20480.58
A18: 3 | B18: INSALUBRIDADE - 20% | C18: =C16 -> 16 | D18: =D16*0.2 -> 307 | E18: =TRUNC(C18*D18,2) -> 4912
A19: 4 | B19: AUXILIO ALIMENTAÇÃO CONVENÇÃO COLETIVA 2025 - STEAC/MS | C19: =C16 -> 16 | D19: 360 | E19: =TRUNC(C19*D19,2) -> 5760
A20: 5 | B20: ENCARREGADO DE ASSEIO E CONSERVAÇÃO CONVENÇÃO COLETIVA 2024 - STEAC/MS | C20: 1 | D20: 1983.99 | E20: =TRUNC(C20*D20,2) -> 1983.99
A21: 6 | B21: ENCARGOS SOCIAIS - MENSALISTAS - 83,39% | C21: =C20 -> 1 | D21: =D20*0.8339 -> 1654.4493 | E21: =TRUNC(C21*D21,2) -> 1654.44
A22: 7 | B22: =B18 -> INSALUBRIDADE - 20% | C22: =C20 -> 1 | D22: =D20*0.2 -> 396.798 | E22: =TRUNC(C22*D22,2) -> 396.79
A23: 8 | B23: =B19 -> AUXILIO ALIMENTAÇÃO CONVENÇÃO COLETIVA 2025 - STEAC/MS | C23: =C20 -> 1 | D23: =D19 -> 360 | E23: =TRUNC(C23*D23,2) -> 360
D24: TOTAL MENSAL | E24: =SUBTOTAL(109,E16:E23) -> 60107.8
B25: EPIs
A26: ITEM | B26: DESCRIÇÃO | C26: QUANTIDADE | D26: V. UNITÁRIO | E26: V. TOTAL
A27: 1 | B27: LUVA TRICOTADA PIGMENTADA BRANCA CA 36890 SINAPI/12892/DEZ-2024 | C27: =C16+C20 -> 17 | D27: 13.43 | E27: =TRUNC(C27*D27,2) -> 228.31
A28: 2 | B28: PROTETOR AURICULAR SBC/2210/DEZ-2024 | C28: =C27 -> 17 | D28: 4.12 | E28: =TRUNC(C28*D28,2) -> 70.04 | G28: 2210
A29: 3 | B29: AVENTAL DE SEGURANÇA DE RASPA DE COURO SINAPI/36150/ABR-2025 | C29: =C16 -> 16 | D29: 45.82 | E29: =TRUNC(C29*D29,2) -> 733.12 | G29: 38001
A30: 4 | B30: OCULOS DE SEGURANÇA SBC/13767/DEZ-2024 | C30: =C29 -> 16 | D30: 17.9 | E30: =TRUNC(C30*D30,2) -> 286.4 | G30: 13767
A31: 5 | B31: RESPIRADOR PFF2 SEM VÁLVULA CA 44527 SBC/7300/DEZ-2024 | C31: =C28 -> 17 | D31: 6 | E31: =TRUNC(C31*D31,2) -> 102 | G31: 7300
A32: 6 | B32: BOTA DE SEGURANÇA SINAPI/36145/DEZ-2024 | C32: =C16+C20 -> 17 | D32: 71.6 | E32: =TRUNC(C32*D32,2) -> 1217.2 | G32: 36145
A33: 7 | B33: UNIFORME COM FAIXA REFLETIVA SBC/6565/DEZ-2024 | C33: =C32 -> 17 | D33: =49+90.71 -> 139.71 | E33: =TRUNC(C33*D33,2) -> 2375.07 | G33: 6565 | H33: 6564
D34: TOTAL MENSAL | E34: =SUBTOTAL(109,E27:E33) -> 5012.14
B35: EQUIPAMENTOS E FERRAMENTAS
A36: ITEM | B36: DESCRIÇÃO | C36: QUANTIDADE | D36: V. UNITÁRIO | E36: V. TOTAL
D38: TOTAL MENSAL | E38: =SUBTOTAL(109,E37:E37) -> 0
B41: RESUMO DESPESAS / EQUIPE
A42: 1 | B42: CUSTO MÃO-DE-OBRA | E42: =E24 -> 60107.8
A43: 2 | B43: CUSTO EPI´S | E43: =E34 -> 5012.14
...

Sheet VARRIÇÃO
A1: EPIs | B1: Coluna1 | C1: Coluna2 | D1: Coluna3 | E1: Coluna4
B3: VARRIÇÃO
B5: MÃO DE OBRA
A6: ITEM | B6: SERVIÇO | C6: QUANTIDADE | D6: V. UNITÁRIO | E6: V. TOTAL
A7: 1 | B7: GARI DE VARRIÇÃO - PISO SALARIAL - CONVENÇÃO COLETIVA 2025 - STEAC/MS | C7: 9 | D7: 1599.07 | E7: 14391.63
A8: 2 | B8: ENCARGOS SOCIAIS - MENSALISTAS - 83,39% | C8: 9 | D8: 1333.4645 | E8: 12001.18
A9: 3 | B9: INSALUBRIDADE - 20% | C9: 9 | D9: 319.814 | E9: 2878.32
A10: 4 | B10: AUXILIO ALIMENTAÇÃO - CONVENÇÃO COLETIVA 2025 - STEAC/MS | C10: 9 | D10: 360 | E10: 3240
A11: 5 | B11: ENCARREGADO DE ASSEIO E CONSERVAÇÃO - PISO SALARIAL - CONVENÇÃO COLETIVA 2025 - STEAC/MS - | C11: 1 | D11: 1983.99 | E11: 1983.99
A12: 6 | B12: ENCARGOS SOCIAIS - MENSALISTAS - 83,39% | C12: 1 | D12: 1654.4493 | E12: 1654.44
A13: 7 | B13: INSALUBRIDADE - 20% | C13: 1 | D13: 396.798 | E13: 396.79
A14: 8 | B14: AUXILIO ALIMENTAÇÃO - CONVENÇÃO COLETIVA 2025 - STEAC/MS | C14: 1 | D14: 360 | E14: 360
A15: 9 | B15: MOTORISTA- PISO SALARIAL - CONVENÇÃO COLETIVA 2025 - STEAC/MS - | C15: 1 | D15: 2346.41 | E15: 2346.41
A16: 10 | B16: ENCARGOS SOCIAIS - MENSALISTAS - 83,39% | C16: 1 | D16: 1956.6713 | E16: 1956.67
A17: 11 | B17: INSALUBRIDADE - 20% | C17: 1 | D17: 469.282 | E17: 469.28
A18: 12 | B18: AUXILIO ALIMENTAÇÃO - CONVENÇÃO COLETIVA 2025 - STEAC/MS | C18: 1 | D18: 360 | E18: 360
D19: TOTAL MENSAL | E19: 42038.71
B20: EPIs
A21: ITEM | B21: DESCRIÇÃO | C21: QUANTIDADE | D21: V. UNITÁRIO | E21: V. TOTAL
A22: 1 | B22: LUVA TRICOTADA PIGMENTADA BRANCA CA 36890 SINAPI/12892/ABR-2025 | C22: 9 | D22: 13.88 | E22: 124.92
A23: 2 | B23: LUVA DE PVC SBC/13796/ABR-2025 | C23: 9 | D23: 19.59 | E23: 176.31
A24: 3 | B24: CAPA DE CHUVA SBC/38001ABR-2025 | C24: 10 | D24: 22.8 | E24: 228
A25: 4 | B25: OCULOS DE SEGURANÇA SBC/13767/ABR-2025 | C25: 10 | D25: 17.9 | E25: 179
A26: 5 | B26: MASCARA DESCARTAVEL SBC/ABR/2025 | C26: 10 | D26: 2.43 | E26: 24.3
A27: 6 | B27: BOTA DE SEGURANÇA SINAPI/36145/ABR-2025 | C27: 11 | D27: 74.06 | E27: 814.66
A28: 7 | B28: UNIFORME COM FAIXA REFLETIVA SBC/6565/ABR-2025 | C28: 11 | D28: 90.8 | E28: 998.8
D29: TOTAL MENSAL | E29: 2545.99
B30: EQUIPAMENTOS E FERRAMENTAS
A31: ITEM | B31: DESCRIÇÃO | C31: QUANTIDADE | D31: V. UNITÁRIO | E31: V. TOTAL
A32: 1 | B32: PÁ COM CABO COTAÇÃO 002 | C32: 3 | D32: 46.9 | E32: 140.7
A33: 2 | B33: PÁ PARA LIXO COTAÇÃO 003 | C33: 4 | D33: 13.8 | E33: 55.2
A34: 3 | B34: ENXADA COM CABO COTAÇÃO 004 | C34: 4 | D34: 78.94 | E34: 315.76
A35: 4 | B35: RASTELO COM CABO COTAÇÃO 005 | C35: 4 | D35: 40.66 | E35: 162.64
A36: 5 | B36: VASSOURÃO COM CABO COTAÇÃO 006 | C36: 4 | D36: 49.35 | E36: 197.4
A37: 6 | B37: SACO DE LIXO 100 L COTAÇÃO 007 | C37: 203.36 | D37: 1.398 | E37: 284.29
A38: 7 | B38: LOTUCAR COTAÇÃO 008 | C38: 3 | D38: 1199 | E38: 3597
D39: TOTAL MENSAL | E39: 4752.99
B40: RESUMO DESPESAS
A41: 1 | B41: CUSTO MÃO-DE-OBRA | E41: 42038.71
A42: 2 | B42: CUSTO EPI´S | E42: 2545.99
...

Sheet CAIAÇÃO
A2: CAIAÇÃO
B4: MÃO DE OBRA
A5: ITEM | B5: DESCRIÇÃO | C5: QUANT. | D5: V. UNITÁRIO | E5: V. TOTAL
A6: 1 | B6: Auxiliar Operacional de Campo - GARI DE CAIAÇÃO - PISO SALARIAL - CONVENÇÃO COLETIVA 2025 - STEAC/MS | C6: 4 | D6: 1599.07 | E6: 6396.28
A7: 2 | B7: ENCARGOS SOCIAIS - MENSALISTAS - 83,39% | C7: 4 | D7: 1333.4645 | E7: 5333.8579
A8: 3 | B8: INSALUBRIDADE - 20% | C8: 4 | D8: 319.814 | E8: 1279.256
A9: 4 | B9: AUXILIO ALIMENTAÇÃO - CONVENÇÃO COLETIVA 2025 - STEAC/MS | C9: 4 | D9: 360 | E9: 1440
A10: 5 | B10: ENCARREGADO DE ASSEIO E CONSERVAÇÃO - PISO SALARIAL - CONVENÇÃO COLETIVA 2025 - STEAC/MS - | C10: 1 | D10: 1983.99 | E10: 1983.99
A11: 6 | B11: ENCARGOS SOCIAIS - MENSALISTAS - 83,39% | C11: 1 | D11: 1654.4493 | E11: 1654.4493
A12: 7 | B12: INSALUBRIDADE - 20% | C12: 1 | D12: 396.798 | E12: 396.798
A13: 8 | B13: AUXILIO ALIMENTAÇÃO - CONVENÇÃO COLETIVA 2025 - STEAC/MS | C13: 1 | D13: 360 | E13: 360
D14: TOTAL MENSAL | E14: 18844.631
B16: EPI´S
A17: ITEM | B17: DESCRIÇÃO | C17: QUANT. | D17: V. UNITÁRIO | E17: V. TOTAL
A18: 1 | B18: LUVA TRICOTADA PIGMENTADA BRANCA CA 36890 SINAPI/12892/ABR-2025 | C18: 4 | D18: 13.88 | E18: 49.52
A19: 2 | B19: LUVA DE PVC SBC/13796/ABR-2025 | C19: 4 | D19: 19.59 | E19: 57
A20: 3 | B20: CAPA DE CHUVA SBC/38001ABR-2025 | C20: 5 | D20: 22.8 | E20: 107.1
A21: 4 | B21: OCULOS DE SEGURANÇA SBC/13767/ABR-2025 | C21: 4 | D21: 17.9 | E21: 107.4
A22: 5 | B22: MASCARA DESCARTAVEL SBC/ABR/2025 | C22: 5 | D22: 2.43 | E22: 13.62
A23: 6 | B23: BOTA DE SEGURANÇA SINAPI/36145/ABR-2025 | C23: 5 | D23: 74.06 | E23: 396.24
A24: 7 | B24: UNIFORME COM FAIXA REFLETIVA SBC/6565/ABR-2025 | C24: 5 | D24: 90.8 | E24: 542.4
D25: TOTAL MENSAL | E25: 1273.28
B27: EQUIPAMENTOS E FERRAMENTAS
A28: ITEM | B28: DESCRIÇÃO | C28: QUANT. | D28: V. UNITÁRIO | E28: V. TOTAL
A29: 1 | B29: BALDE PLASTICO 12 L COTAÇÃO 009 | C29: 4 | D29: 15.99 | E29: 63.96
A30: 2 | B30: BROXA COM CABO SBC/55151/ABR/-2025 | C30: 4 | D30: 9.9 | E30: 39.6
A31: 3 | B31: CAL PINTURA KG SINAPI 11161 ABR /2025 | C31: 10985.363 | D31: 2 | E31: 21970.726
D32: TOTAL MENSAL | E32: 22074.286
B33: RESUMO DESPESAS
A34: 1 | B34: CUSTO MÃO-DE-OBRA | E34: 18844.631
A35: 2 | B35: CUSTO EPI´S | E35: 1273.28
A36: 3 | B36: CUSTO FERRAMENTAS | E36: 22074.286
D37: TOTAL: | E37: 42192.197
B38: VALOR DA COMPOSIÇÃO
A39: ITEM | B39: DESCRIÇÃO | D39: UNIDADE | E39: V. UNITÁRIO
A40: 1 | B40: VALOR TOTAL GERAL DA PINTURA | D40: R$ | E40: 42192.197
A41: 2 | B41: EXTENSÃO PINTURA | D41: M | E41: 103635.5
A42: 3 | B42: VALOR DA PINTURA POR M | D42: R$/m | E42: 0.40712108

Sheet ROÇADA
A1: Coluna1 | B1: MÃO DE OBRA | C1: Coluna2 | D1: Coluna3 | E1: Coluna4
B4: ROÇADA
B6: MÃO DE OBRA
A7: ITEM | B7: DESCRIÇÃO | C7: QUANT. | D7: V. UNITÁRIO | E7: V. TOTAL
A8: 1 | B8: Auxiliar Operacional de Campo - GARI DE CAPINAÇÃO - PISO SALARIAL - CONVENÇÃO COLETIVA 2025 - STEAC/MS | C8: 17 | D8: 1599.07 | E8: 27184.19
A9: 2 | B9: ENCARGOS SOCIAIS - MENSALISTAS - 83,39% | C9: 17 | D9: 1333.4645 | E9: 22668.896
A10: 3 | B10: INSALUBRIDADE - 20% | C10: 17 | D10: 319.814 | E10: 5436.838
A11: 4 | B11: AUXILIO ALIMENTAÇÃO - CONVENÇÃO COLETIVA 2025 - STEAC/MS | C11: 17 | D11: 360 | E11: 6120
A12: 5 | B12: ENCARREGADO DE ASSEIO E CONSERVAÇÃO - PISO SALARIAL - CONVENÇÃO COLETIVA 2025 - STEAC/MS - | C12: 1 | D12: 1983.99 | E12: 1983.99
A13: 6 | B13: ENCARGOS SOCIAIS - MENSALISTAS - 83,39% | C13: 1 | D13: 1654.4493 | E13: 1654.4493
A14: 7 | B14: INSALUBRIDADE - 20% | C14: 1 | D14: 396.798 | E14: 396.798
A15: 8 | B15: AUXILIO ALIMENTAÇÃO - CONVENÇÃO COLETIVA 2025 - STEAC/MS | C15: 1 | D15: 360 | E15: 360
A16: 9 | B16: MOTORISTA- PISO SALARIAL - CONVENÇÃO COLETIVA 2025 - STEAC/MS - | D16: 2346.41 | E16: 0
A17: 10 | B17: ENCARGOS SOCIAIS - MENSALISTAS - 83,39% | C17: 1 | D17: 1956.6713 | E17: 1956.6713
A18: 11 | B18: INSALUBRIDADE - 20% | C18: 0 | D18: 469.282 | E18: 0
A19: 12 | B19: AUXILIO ALIMENTAÇÃO - CONVENÇÃO COLETIVA 2025 - STEAC/MS | C19: 0 | D19: 360 | E19: 0
D20: TOTAL MENSAL | E20: 65805.161
B22: EPI´S
A23: ITEM | B23: DESCRIÇÃO | C23: QUANT. | D23: V. UNITÁRIO | E23: V. TOTAL
A24: 1 | B24: LUVA TRICOTADA PIGMENTADA BRANCA CA 36890 SINAPI/12892/ABR-2025 | C24: 17 | D24: 13.88 | E24: 235.96
A25: 2 | B25: CAPA DE CHUVA SBC/38001ABR-2025 | C25: 18 | D25: 22.8 | E25: 410.4
A26: 3 | B26: OCULOS DE SEGURANÇA SBC/13767/ABR-2025 | C26: 18 | D26: 17.9 | E26: 322.2
A27: 4 | B27: MASCARA DESCARTAVEL SBC/ABR/2025 | C27: 18 | D27: 2.43 | E27: 43.74
A28: 5 | B28: BOTA DE SEGURANÇA SINAPI/36145/ABR-2025 | C28: 18 | D28: 74.06 | E28: 1333.08
A29: 6 | B29: UNIFORME COM FAIXA REFLETIVA SBC/6565/ABR-2025 | C29: 18 | D29: 90.8 | E29: 1634.4
D30: TOTAL MENSAL | E30: 3979.78
B31: EQUIPAMENTOS E FERRAMENTAS
A32: ITEM | B32: DESCRIÇÃO | C32: QUANT. | D32: V. UNITÁRIO | E32: V. TOTAL
A33: 1 | B33: PÁ COM CABO COTAÇÃO 002 | C33: 6 | D33: 46.9 | E33: 281.4
A34: 2 | B34: ENXADA COM CABO COTAÇÃO 004 | C34: 6 | D34: 78.94 | E34: 473.64
A35: 3 | B35: RASTELO COM CABO COTAÇÃO 005 | C35: 6 | D35: 40.66 | E35: 243.96
A36: 4 | B36: VASSOURÃO COM CABO COTAÇÃO 006 | C36: 6 | D36: 49.35 | E36: 296.1
A37: 5 | B37: SACO DE LIXO 100 L COTAÇÃO 007 | C37: 18130.553 | D37: 1.398 | E37: 25346.514
A38: 6 | B38: ROÇADEIRA COSTAL CHP DNIT E9089 | C38: 2236.96 | D38: 9.09 | E38: 20333.966 | I38: 203.36
A39: 7 | B39: CAMINHÃO BASCULANTE 10 M3, TRUCADO CABINE SIMPLES, PESO BRUTO TOTAL 23.000 KG, CARGA ÚTIL MÁXIMA 15.935 KG, DISTÂNCIA ENTRE EIXOS 4,80 M, POTÊNCIA 230 CV INCLUSIVE CAÇAMBA METÁLICA - CHP DIURNO. AF_06/2014 SINAPI ABR/2025 DES - 91386 | D39: 272.36 | E39: 0 | G39: 128 | H39: 202
A40: 7 | B40: COMBUSTÍVEL ROÇADEIRA (L/MÊS) SINAPI/ABR/2025 | C40: 1677.72 | D40: 6.1 | E40: 10234.092
D41: TOTAL MENSAL | E41: 57209.672
B42: RESUMO DESPESAS
A43: ITEM | B43: DESCRIÇÃO | C43: V. TOTAL
A44: 1 | B44: CUSTO MÃO-DE-OBRA | C44: 65805.161
...

Sheet BUEIRO
A1: Coluna1 | B1: MÃO DE OBRA | C1: Coluna2 | D1: Coluna3 | E1: Coluna4
A3: LIMPEZA DE BUEIRO
B5: MÃO DE OBRA
A6: ITEM | B6: DESCRIÇÃO | C6: QUANT. | D6: V. UNITÁRIO | E6: V. TOTAL
A7: 1 | B7: Auxiliar Operacional de Campo - GARI DE BUEIRO - PISO SALARIAL - CONVENÇÃO COLETIVA 2025 - STEAC/MS | C7: 2 | D7: 1599.07 | E7: 3198.14
A8: 2 | B8: ENCARGOS SOCIAIS - MENSALISTAS - 83,39% | C8: 2 | D8: 1333.4645 | E8: 2666.9289
A9: 3 | B9: INSALUBRIDADE - 20% | C9: 2 | D9: 319.814 | E9: 639.628
A10: 4 | B10: AUXILIO ALIMENTAÇÃO - CONVENÇÃO COLETIVA 2025 - STEAC/MS | C10: 2 | D10: 360 | E10: 720
A11: 5 | B11: ENCARREGADO DE ASSEIO E CONSERVAÇÃO - PISO SALARIAL - CONVENÇÃO COLETIVA 2025 - STEAC/MS - | C11: 1 | D11: 1983.99 | E11: 1983.99
A12: 6 | B12: ENCARGOS SOCIAIS - MENSALISTAS - 83,39% | C12: 1 | D12: 1654.4493 | E12: 1654.4493
A13: 7 | B13: INSALUBRIDADE - 20% | C13: 1 | D13: 396.798 | E13: 396.798
A14: 8 | B14: AUXILIO ALIMENTAÇÃO - CONVENÇÃO COLETIVA 2025 - STEAC/MS | C14: 1 | D14: 360 | E14: 360
D15: TOTAL MENSAL | E15: 11619.934
B17: EPI´S
A18: ITEM | B18: DESCRIÇÃO | C18: QUANT. | D18: V. UNITÁRIO | E18: V. TOTAL
A19: 1 | B19: LUVA TRICOTADA PIGMENTADA BRANCA CA 36890 SINAPI/12892/ABR-2025 | C19: 2 | D19: 13.88 | E19: 27.76
A20: 2 | B20: CAPA DE CHUVA SBC/38001ABR-2025 | C20: 3 | D20: 22.8 | E20: 68.4
A21: 3 | B21: OCULOS DE SEGURANÇA SBC/13767/ABR-2025 | C21: 3 | D21: 17.9 | E21: 53.7
A22: 4 | B22: MASCARA DESCARTAVEL SBC/ABR/2025 | C22: 3 | D22: 2.43 | E22: 7.29
A23: 5 | B23: BOTA DE SEGURANÇA SINAPI/36145/ABR-2025 | C23: 3 | D23: 74.06 | E23: 222.18
A24: 6 | B24: UNIFORME COM FAIXA REFLETIVA SBC/6565/ABR-2025 | C24: 3 | D24: 90.8 | E24: 272.4
D25: TOTAL MENSAL | E25: 651.73
B26: EQUIPAMENTOS E FERRAMENTAS
A27: ITEM | B27: DESCRIÇÃO | C27: QUANT. | D27: V. UNITÁRIO | E27: V. TOTAL
A28: 1 | B28: PÁ COM CABO COTAÇÃO 002 | C28: 2 | D28: 46.9 | E28: 93.8
A29: 2 | B29: ENXADA COM CABO COTAÇÃO 004 | C29: 2 | D29: 78.94 | E29: 157.88
A30: 3 | B30: RASTELO COM CABO COTAÇÃO 005 | C30: 2 | D30: 40.66 | E30: 81.32
A31: 4 | B31: VASSOURÃO COM CABO COTAÇÃO 006 | C31: 2 | D31: 49.35 | E31: 98.7
D32: TOTAL MENSAL | E32: 431.7
B33: RESUMO DESPESAS
A34: ITEM | B34: DESCRIÇÃO | C34: V. TOTAL
A35: 1 | B35: CUSTO MÃO-DE-OBRA | C35: 11619.934
A36: 2 | B36: CUSTO EPI´S | C36: 651.73
A37: 3 | B37: CUSTO FERRAMENTAS | C37: 431.7
C38: 12703.364
B39: VALOR DA COMPOSIÇÃO
A40: ITEM | B40: DESCRIÇÃO | C40: UNIDADE | D40: V. UNITÁRIO
A41: 1 | B41: VALOR TOTAL GERAL DA LIMPEZA DE BUEIRO | C41: R$ | D41: 12703.364
A42: 2 | B42: UNIDADE BOCA DE BUEIRO | C42: UND | D42: 60
A43: 3 | B43: VALOR DA LIMPEZA POR UNIDADE | C43: R$/UND | D43: 211.72274

Sheet PODA
A1: Coluna1 | B1: Coluna2 | C1: Coluna3 | D1: Coluna4 | E1: Coluna5
A4: PODA
B5: MÃO DE OBRA
A6: ITEM | B6: DESCRIÇÃO | C6: QUANT. | D6: V. UNITÁRIO | E6: V. TOTAL
A7: 1 | B7: Auxiliar Operacional de Campo - GARI DE PODA - PISO SALARIAL - CONVENÇÃO COLETIVA 2025 - STEAC/MS | C7: 2 | D7: 1599.07 | E7: 3198.14
A8: 2 | B8: ENCARGOS SOCIAIS - MENSALISTAS - 83,39% | C8: 2 | D8: 1333.4645 | E8: 2666.9289
A9: 3 | B9: INSALUBRIDADE - 20% | C9: 2 | D9: 319.814 | E9: 639.628
A10: 4 | B10: AUXILIO ALIMENTAÇÃO - CONVENÇÃO COLETIVA 2025 - STEAC/MS | C10: 2 | D10: 319.814 | E10: 639.628
A11: 5 | B11: ENCARREGADO DE ASSEIO E CONSERVAÇÃO - PISO SALARIAL - CONVENÇÃO COLETIVA 2025 - STEAC/MS - | D11: 360 | E11: 0
A12: 6 | B12: ENCARGOS SOCIAIS - MENSALISTAS - 83,39% | D12: 300.204 | E12: 0
A13: 7 | B13: INSALUBRIDADE - 20% | D13: 72 | E13: 0
A14: 8 | B14: AUXILIO ALIMENTAÇÃO - CONVENÇÃO COLETIVA 2025 - STEAC/MS | D14: 319.814 | E14: 0
A15: 5 | B15: MOTORISTA- PISO SALARIAL - CONVENÇÃO COLETIVA 2025 - STEAC/MS - | C15: 1 | D15: 360 | E15: 360
A16: 6 | B16: ENCARGOS SOCIAIS - MENSALISTAS - 83,39% | C16: 1 | D16: 300.204 | E16: 300.204
A17: 7 | B17: INSALUBRIDADE - 20% | C17: 1 | D17: 72 | E17: 72
A18: 8 | B18: AUXILIO ALIMENTAÇÃO - CONVENÇÃO COLETIVA 2025 - STEAC/MS | C18: 1 | D18: 319.814 | E18: 319.814
D19: TOTAL MENSAL | E19: 8196.3429
B21: EPI´S
A22: ITEM | B22: DESCRIÇÃO | C22: QUANT. | D22: V. UNITÁRIO | E22: V. TOTAL
A23: 1 | B23: LUVA TRICOTADA PIGMENTADA BRANCA CA 36890 SINAPI/12892/ABR-2025 | C23: 2 | D23: 13.88 | E23: 27.76
A24: 2 | B24: LUVA DE PVC SBC/13796/ABR-2025 | C24: 2 | D24: 19.59 | E24: 39.18
A25: 3 | B25: CAPA DE CHUVA SBC/38001ABR-2025 | C25: 2 | D25: 22.8 | E25: 45.6
A26: 4 | B26: OCULOS DE SEGURANÇA SBC/13767/ABR-2025 | C26: 2 | D26: 17.9 | E26: 35.8
A27: 5 | B27: BOTA DE SEGURANÇA SINAPI/36145/ABR-2025 | C27: 3 | D27: 74.06 | E27: 222.18
A28: 6 | B28: UNIFORME COM FAIXA REFLETIVA SBC/6565/ABR-2025 | C28: 3 | D28: 90.8 | E28: 450
D29: TOTAL MENSAL | E29: 820.52
B30: EQUIPAMENTOS E FERRAMENTAS
A31: ITEM | B31: DESCRIÇÃO | C31: QUANT. | D31: V. UNITÁRIO | E31: V. TOTAL
A32: 1 | B32: PÁ COM CABO COTAÇÃO 002 | C32: 2 | D32: 46.9 | E32: 93.8
A33: 2 | B33: ENXADA COM CABO COTAÇÃO 004 | C33: 2 | D33: 54.9 | E33: 109.8
A34: 3 | B34: RASTELO COM CABO COTAÇÃO 005 | C34: 2 | D34: 49.9 | E34: 99.8
A35: 4 | B35: VASSOURÃO COM CABO COTAÇÃO 006 | C35: 2 | D35: 57.61 | E35: 115.22
A36: 5 | B36: MOTO SERRA CHP DNIT E9585 | C36: 203.36 | D36: 32.85 | E36: 6680.376
A37: 6 | B37: CAMINHÃO BASCULANTE 10 M3, TRUCADO CABINE SIMPLES, PESO BRUTO TOTAL 23.000 KG, CARGA ÚTIL MÁXIMA 15.935 KG, DISTÂNCIA ENTRE EIXOS 4,80 M, POTÊNCIA 230 CV INCLUSIVE CAÇAMBA METÁLICA - CHP DIURNO. AF_06/2014 SINAPI ABR/2025/DES - 91386 | C37: 132 | D37: 274.6 | E37: 36247.2
D38: TOTAL MENSAL | E38: 43346.196
B39: RESUMO DESPESAS
A40: ITEM | B40: DESCRIÇÃO | C40: V. TOTAL
A41: 1 | B41: CUSTO MÃO-DE-OBRA | C41: 8196.3429
A42: 2 | B42: CUSTO EPI´S | C42: 820.52
A43: 3 | B43: CUSTO FERRAMENTAS | C43: 43346.196
...

Sheet EDUC. AMBIEMTAL
A1: EPIs | B1: Coluna1 | C1: Coluna2 | D1: Coluna3 | E1: Coluna4
A2: EDUCAÇÃO AMBIENTAL
A4: ITEM | B4: SERVIÇO | C4: QUANTIDADE (H) | D4: V. UNITÁRIO | E4: V. TOTAL
A5: 1 | B5: DIAGNÓSTICO DOS RESÍDUOS SÓLIDOS DO MUNICÍPIO [QUANTIDADE, TIPOLOGIA (RECICLÁVEIS, ORGÂNICOS E REJEITOS), LOGÍSTICA DE COLETA E DESTINAÇÃO FINAL] | C5: 3 | D5: 132.67 | E5: 398.01
A6: 2 | B6: REUNIÃO COM SECRETÁRIOS, GERENTES, DIRETORES E DEMAIS RESPONSÁVEIS POR SECRETARIAS, UNIDADES DE SAÚDE, ESCOLAS E DEMAIS REPARTIÇÕES PÚBLICAS MUNICIPAIS PARA APRESENTAÇÃO DO FORMULÁRIO (ANEXO A). A MESMA REUNIÃO SERÁ REALIZADA COM ASSOCIAÇÕES DE BAIRROS, COMERCIAIS E EMPRESARIAIS | C6: 3 | D6: 132.67 | E6: 398.01
A7: 3 | B7: APRESENTAÇÃO DO PLANO DE EDUCAÇÃO AMBIENTAL SOBRE RESÍDUOS SÓLIDOS ÀS ORGANIZAÇÕES CITADAS NA LINHA ANTERIOR POR MEIO DE FOLDERS E CRONOGRAMAS | C7: 3 | D7: 132.67 | E7: 398.01
A8: 4 | B8: TREINAMENTO DOS FUNCIONÁRIOS DA UTR SOBRE ORGANIZAÇÃO E LIMPEZA DO LOCAL SEGURANÇA DO TRABALHO E HIGIENE PESSOAL E APRESENTAÇÃO DO PLANO DE EDUCAÇÃO AMBIENTAL SOBRE RESÍDUOS SÓLIDOS | C8: 2 | D8: 132.67 | E8: 265.34
A9: 5 | B9: EDUCAÇÃO AMBIENTAL NAS ESCOLA FOCANDO NO TEMA RESÍDUOS SÓLIDOS POR MEIO DE PALESTRAS JUNTO A PROFESSORES, ALUNOS E FUNCIONÁRIOS, PARA IMPLANTAÇÃO DA COLETA SELETIVAE REDUÇÃO DE DESPERDÍCIO (ALIMENTOS, PAÉIS, ETC). IMPLANTAR A COLETA SELETIVA. INCENTIVAR E FORMAR MULTIPLICADORES PARA QUE O PROJETO CONTINUE AO LONGO DE TODO O ANO. | C9: 3 | D9: 132.67 | E9: 398.01
A10: 6 | B10: EDUCAÇÃO AMBIENTAL NOS PROGRAMAS ASSISTENCIAIS NO MUNICÍPIO PROMOVIDOS PELA SECRETARIA DE ASSISTENCIA SOCIAL POR MEIO DE PALESTRAS FOCANDO NO TERMA RESIDUOS SÓLIDOS POR MEIO DE PALESTSRAS JUNTO A PARTICIPANTES DOS PROGRAMAS (CRIANÇAS, JOVENS E ADULTOS). IMPLANTAR A COLETA SELETIVA. INCENTIVAR E FORMAR MULTIPLICADORES PARA QUE O O PROJETO CONTINUE AO LONGO DE TODO O ANO. | C10: 3 | D10: 132.67 | E10: 398.01
A11: 7 | B11: EDUCAÇÃO AMBIENTAL NAS UNIDADES DE SAÚDE NO MUNÍPIO PARA SEPARAÇÃO DOS RESÍDUOS EM RECICLÁVEIS, INFECTANTES E PERFUROCORTANTES, CONFORME IDENTIFICAÇÃO DE CADA LIXEIRA. SERÃO MINISTRADAS PALESTRAS. IMPLANTAR A COLETA SELETIVA. INCENTIVAR E FORMAR MULTIPLICADORES PARS QUE O PROJETO CONTINUE AO LONGO DE TODO O ANO. | C11: 3 | D11: 132.67 | E11: 398.01
A12: TOTAL | C12: 20 | E12: 2653.4
B14: VALOR DA COMPOSIÇÃO
A15: ITEM | B15: DESCRIÇÃO | C15: UNIDADE | D15: V. UNITÁRIO
A16: 1 | B16: VALOR TOTAL GERAL DE CURSO | C16: R$ | D16: 2653.4
A17: 2 | B17: QUANT. HORA AULA POR MÊS | C17: UND | D17: 20
A18: 3 | B18: VALOR DA HORA | C18: R$/UND | D18: 132.67

Sheet COTAÇÕES
A1: COTAÇÕES
A3: EMPRESAS | B3: CNPJ | C3: NOME | D3: FONE | E3: CONTATO
A4: C01 | B4: 15.436.940/0001-03 | C4: AMAZON | D4: SITE | E4: SITE
A5: C02 | B5: 29.302.348/0001-15 | C5: LOJA DO MECÂNICO | D5: SITE | E5: SITE
A6: C03 | B6: 26.588.821/0001-84 | C6: SUPER EPI | D6: SITE | E6: SITE
A7: C04 | B7: 47.960.950/1088-36 | C7: MAGAZINE LUIZA | D7: SITE | E7: SITE
A8: C05 | B8: 00.776.574/0006-60 | C8: AMERICANAS | D8: SITE | E8: SITE
A9: C06 | B9: 15.459.431/0001-98 | C9: SERTÃO | D9: SITE | E9: SITE
A10: C07 | B10: 68.422.419/0001-75 | C10: PALÁCIO DAS FERRAMENTAS | D10: SITE | E10: SITE
A11: C08 | B11: 14.938.165/0001-13 | C11: MAGAZINE DO EPI | D11: SITE | E11: SITE
A12: C09 | B12: 03.341.743/0001-13 | C12: CASTRONAVES | D12: SITE | E12: SITE
A13: C10 | B13: 18.051.866/0001-97 | C13: GADOTTI | D13: SITE | E13: SITE
A14: C11 | B14: 04.442.716/0001-08 | C14: TNA PLAST | D14: SITE | E14: SITE
... A23: C20 | B23: 41.777.728/0001-01 | C23: RIO EPI | D23: SITE | E23: SITE
A24: C21 | D24: SITE | E24: SITE
A25: C22 | D25: SITE | E25: SITE
A26: C23 | D26: SITE | E26: SITE
A27: C24 | D27: SITE | E27: SITE
A28: C25
A29: C26
A30: C27
A31: C28
A32: C29
A33: C30
A34: C31
A35: C32
A36: C33
A37: C34
A38: C35
A39: C36
... A43: C40
A45: CÓDIGO | B45: DESCRIÇÃO | C45: UNIDADE | D45: DATA COTAÇÃO | E45: MEDIANA
A46: 001 | B46: BONÉ | C46: UN | D46: 45812 | E46: 16.37
A47: EMPRESA | B47: NOME DA EMPRESA | D47: COTAÇÕES
A48: C03 | B48: SUPER EPI | D48: 29
A49: C16 | B49: JAREJO | D49: 16.37
A50: C17 | B50: ZEUS DO BRASIL | D50: 14.9
A52: CÓDIGO | B52: DESCRIÇÃO | C52: UNIDADE | D52: DATA COTAÇÃO | E52: MEDIANA
A53: 002 | B53: PÁ COM CABO | C53: UN | D53: 45812 | E53: 46.9
A54: EMPRESA | B54: NOME DA EMPRESA | D54: COTAÇÕES
...

Sheet BDI DESONERADO
A4: DEMONSTRAÇÃO DE BDI - NÃO DESONERADO - Acórdão 2622/2013
A6: TIPO DE OBRA: | B6: FORNECIMENTO DE MATERIAIS E EQUIPAMENTOS
A8: IMPOSTOS:
B9: TRIBUTOS: | C9: 3.65 | D9: %
B10: ISS BRUTO: | C10: 5 | D10: %
B11: INCIDENCIA SOBRE MO: | C11: 60 | D11: %
B12: CPRB | D12: %
B13: TOTAL TRIBUSTOS: | C13: 8.65 | D13: %
A14: ITENS | D14: SIGLAS | E14: ADOTADO
A16: Administração central | D16: AC | E16: 4
A17: Seguro e Garantia | D17: SG | E17: 1
A18: Risco | D18: R | E18: 1.27
A19: Despesas Financeiras | D19: DF | E19: 1.21
A20: Lucro | D20: L | E20: 6.17
A23: BDI SEM DESONERAÇÃO ADOTADO | E23: 0.25004996
B28: ____________________________________________

Sheet PROFISSIONAIS
A1: PROFISSIONAIS
A3: PROFISSIONAL | B3: QUANTIDADE MÍNIMA | C3: FORMAÇÃO / REQUISITOS | D3: RESPONSABILIDADE TÉCNICA | E3: REGISTRO PROFISSIONAL | F3: JUSTIFICATIVA TÉCNICA
A4: Engenheiro Sanitarista | B4: 1 | C4: Graduação em Engenharia Sanitária, Ambiental ou Sanitarista-Ambiental | D4: Responsável técnico pela coleta e destinação dos resíduos sólidos urbanos | E4: CREA | F4: Necessário para assegurar a correta gestão técnica dos resíduos urbanos e atendimento à legislação ambiental
A5: Engenheiro Agrônomo | B5: 1 | C5: Graduação em Agronomia | D5: Responsável técnico por serviços de roçada, poda radical e manejo arbóreo | E5: CREA | F5: Árvores urbanas são patrimônio ambiental; a poda e manejo exigem conhecimento técnico agronômico, conforme jurisprudência dos Tribunais de Contas
A6: Engenheiro Ambiental | B6: 1 | C6: Graduação | D6: Coordenar atividades de educação ambiental e preservação ecológica | E6: CREA | F6: Necessário para atividades de conscientização ambiental, elaboração de materiais e orientações para a população
A7: Engenheiro em Segurança do Trabalho | B7: 1 | C7: Curso técnico reconhecido pelo MEC | D7: Supervisão das condições de trabalho e segurança em poda, coleta e transporte | E7: CREA | F7: As atividades envolvem risco à integridade física dos trabalhadores (poda em altura, operação de equipamentos pesados)

Sheet ORÇAMENTO SEM DESONERAÇÃO
A2: Contratação de empresa especializada na prestação de serviços de limpeza e conservação de vias, logradouros, parques, praças e espaços públicos, pintura ou caiação de meio-fio e poda de árvores, com o fornecimento de todos os equipamentos, máquinas, implementos, veículos, ferramentas, combustíveis, equipe técnica, bem como demais insumos que se fizerem necessários | F2: SINAPI: fev/2023 -s/ desoneração SBC FEV/2023
A3: LOCAL: Ribas do Rio Pardo
F4: CONVENÇÃO COLETIVA 2023 - STEAC/MS
F5: BDI: SERVIÇO: 15,92%
A7: ITEM | B7: DESCRIÇÃO | C7: UNIDADE | D7: QUANTIDADE | E7: V. UNITÁRIO S/ BDI | F7: V. UNITÁRIO C/ BDI | G7: V. TOTAL MENSAL | H7: V. TOTAL ANUAL
A8: 1 | B8: Varrição | C8: =VARRIÇÃO!D48 -> M² | D8: ='ORÇAMENTO DESONERADO'!D11 -> 240288.08 | E8: ='ORÇAMENTO DESONERADO'!E11 -> 0.2 | F8: =TRUNC('ORÇAMENTO SEM DESONERAÇÃO'!$E8*1.1592,2) -> 0.23 | G8: =TRUNC('ORÇAMENTO SEM DESONERAÇÃO'!$F8*'ORÇAMENTO SEM DESONERAÇÃO'!$D8,2) -> 55266.25 | H8: =TRUNC('ORÇAMENTO SEM DESONERAÇÃO'!$G8*12,2) -> 663195 | I8: =D8*F8*12 -> 663195.09 | J8: 1303506 | M8: 2.49 | O8: 35850 | Q8: 3.030828 | R8: 3.03
A9: 2 | B9: Pintura de meio-fio | C9: =CAIAÇÃO!D41 -> M | D9: ='ORÇAMENTO DESONERADO'!D12 -> 103635.5 | E9: ='ORÇAMENTO DESONERADO'!E12 -> 0.40712108 | F9: =TRUNC('ORÇAMENTO SEM DESONERAÇÃO'!$E9*1.1592,2) -> 0.47 | G9: =TRUNC('ORÇAMENTO SEM DESONERAÇÃO'!$F9*'ORÇAMENTO SEM DESONERAÇÃO'!$D9,2) -> 48708.68 | H9: =TRUNC('ORÇAMENTO SEM DESONERAÇÃO'!$G9*12,2) -> 584504.16 | J9: 946081.42 | M9: 1.6059176 | O9: 40430.83 | Q9: 1.959692 | R9: 1.95
A10: 3 | B10: Capinação e coleta de grama | C10: =ROÇADA!C51 -> M2 | D10: ='ORÇAMENTO DESONERADO'!D13 -> 671501.98 | E10: ='ORÇAMENTO DESONERADO'!E13 -> 0.18912024 | F10: =TRUNC('ORÇAMENTO SEM DESONERAÇÃO'!$E10*1.1592,2) -> 0.21 | G10: =TRUNC('ORÇAMENTO SEM DESONERAÇÃO'!$F10*'ORÇAMENTO SEM DESONERAÇÃO'!$D10,2) -> 141015.41 | H10: =TRUNC('ORÇAMENTO SEM DESONERAÇÃO'!$G10*12,2) -> 1692184.9 | J10: 1290145 | M10: 0.83799232 | O10: 105404 | Q10: 1.022448 | R10: 1.02
A11: 4 | B11: Limpeza de Bueiro | C11: =BUEIRO!C42 -> UND | D11: ='ORÇAMENTO DESONERADO'!D14 -> 60 | E11: ='ORÇAMENTO DESONERADO'!E14 -> 211.72274 | F11: =TRUNC('ORÇAMENTO SEM DESONERAÇÃO'!$E11*1.1592,2) -> 245.42 | G11: =TRUNC('ORÇAMENTO SEM DESONERAÇÃO'!$F11*'ORÇAMENTO SEM DESONERAÇÃO'!$D11,2) -> 14725.2 | H11: =TRUNC('ORÇAMENTO SEM DESONERAÇÃO'!$G11*12,2) -> 176702.4 | J11: 485544 | M11: 664.84061 | O11: 50 | Q11: 809.24325 | R11: 809.24
A12: 5 | B12: Corte, poda de arvore e coleta de entulhos e galhos | C12: =[5]poda!C43 -> UND | D12: ='ORÇAMENTO DESONERADO'!D15 -> 120 | E12: ='ORÇAMENTO DESONERADO'!E15 -> 436.35882 | F12: =TRUNC('ORÇAMENTO SEM DESONERAÇÃO'!$E12*1.1592,2) -> 505.82 | G12: =TRUNC('ORÇAMENTO SEM DESONERAÇÃO'!$F12*'ORÇAMENTO SEM DESONERAÇÃO'!$D12,2) -> 60698.4 | H12: =TRUNC('ORÇAMENTO SEM DESONERAÇÃO'!$G12*12,2) -> 728380.8 | J12: 846966.33 | M12: 724.82467 | O12: 80 | Q12: 882.2509 | R12: 882.25
A13: 6 | B13: Reparo em meio-fio | C13: m | D13: ='ORÇAMENTO DESONERADO'!#REF! -> #REF! | E13: ='ORÇAMENTO DESONERADO'!#REF! -> #REF! | F13: =TRUNC('ORÇAMENTO SEM DESONERAÇÃO'!$E13*1.1592,2) -> #REF! | G13: =TRUNC('ORÇAMENTO SEM DESONERAÇÃO'!$F13*'ORÇAMENTO SEM DESONERAÇÃO'!$D13,2) -> #REF! | H13: =TRUNC('ORÇAMENTO SEM DESONERAÇÃO'!$G13*12,2) -> #REF! | J13: 1187640 | M13: 81.308723 | O13: 1000 | Q13: 98.970532 | R13: 98.97
F14: TOTAL | G14: =SUM(G8:G13) -> #REF! | H14: =SUM(H8:H13) -> #REF! | J14: 6059882.7
A16: ITEM | B16: DESCRIÇÃO | C16: UNIDADE | D16: QUANTIDADE | E16: V. UNITÁRIO S/ BDI | F16: V. UNITÁRIO C/ BDI | G16: V. TOTAL MENSAL | H16: V. TOTAL ANUAL | J16: =H14-J14 -> #REF!
A17: 1 | B17: =B8 -> Varrição | C17: =C8 -> M² | D17: =D8 -> 240288.08
A18: 2 | B18: =B9 -> Pintura de meio-fio | C18: =C9 -> M | D18: =D9 -> 103635.5
A19: 3 | B19: =B10 -> Capinação e coleta de grama | C19: =C10 -> M2 | D19: =D10 -> 671501.98
A20: 4 | B20: =B11 -> Limpeza de Bueiro | C20: =C11 -> UND | D20: =D11 -> 60
A21: 5 | B21: =B12 -> Corte, poda de arvore e coleta de entulhos e galhos | C21: =C12 -> UND | D21: =D12 -> 120
A22: 6 | B22: Reparo em meio-fio | C22: m | D22: 1000
F23: TOTAL
A26: ITEM | B26: DESCRIÇÃO | C26: und | D26: VALOR | E26: mês 1 | F26: mês 2 | G26: mês 3 | H26: mês 4 | I26: mês 5 | J26: mês 6
A27: 1 | B27: =B17 -> Varrição | C27: =C17 -> M² | D27: =H8 -> 663195 | E27: ='ORÇAMENTO SEM DESONERAÇÃO'!$D27/12 -> 55266.25 | F27: =E27 -> 55266.25 | G27: =F27 -> 55266.25 | H27: =G27 -> 55266.25 | I27: =H27 -> 55266.25 | J27: =I27 -> 55266.25
A28: 2 | B28: =B18 -> Pintura de meio-fio | C28: =C18 -> M | D28: =H9 -> 584504.16 | E28: ='ORÇAMENTO SEM DESONERAÇÃO'!$D28/12 -> 48708.68 | F28: =E28 -> 48708.68 | G28: =F28 -> 48708.68 | H28: =G28 -> 48708.68 | I28: =H28 -> 48708.68 | J28: =I28 -> 48708.68
A29: 3 | B29: =B10 -> Capinação e coleta de grama | C29: =C19 -> M2 | D29: =H10 -> 1692184.9 | E29: ='ORÇAMENTO SEM DESONERAÇÃO'!$D29/12 -> 141015.41 | F29: =E29 -> 141015.41 | G29: =F29 -> 141015.41 | H29: =G29 -> 141015.41 | I29: =H29 -> 141015.41 | J29: =I29 -> 141015.41
A30: 4 | B30: =B11 -> Limpeza de Bueiro | C30: =C20 -> UND | D30: =H11 -> 176702.4 | E30: ='ORÇAMENTO SEM DESONERAÇÃO'!$D30/12 -> 14725.2 | F30: =E30 -> 14725.2 | G30: =F30 -> 14725.2 | H30: =G30 -> 14725.2 | I30: =H30 -> 14725.2 | J30: =I30 -> 14725.2
A31: 5 | B31: =B21 -> Corte, poda de arvore e coleta de entulhos e galhos | C31: =C21 -> UND | D31: =H12 -> 728380.8 | E31: ='ORÇAMENTO SEM DESONERAÇÃO'!$D31/12 -> 60698.4 | F31: =E31 -> 60698.4 | G31: =F31 -> 60698.4 | H31: =G31 -> 60698.4 | I31: =H31 -> 60698.4 | J31: =I31 -> 60698.4
A32: 6 | B32: =B22 -> Reparo em meio-fio | C32: =C22 -> m | D32: =H13 -> #REF! | E32: ='ORÇAMENTO SEM DESONERAÇÃO'!$D32/12 -> #REF! | F32: =E32 -> #REF! | G32: =F32 -> #REF! | H32: =G32 -> #REF! | I32: =H32 -> #REF! | J32: =I32 -> #REF!
D33: =SUM(D27:D32) -> #REF! | E33: =SUM(E27:E32) -> #REF! | F33: =SUM(F27:F32) -> #REF! | G33: =SUM(G27:G32) -> #REF! | H33: =SUM(H27:H32) -> #REF! | I33: =SUM(I27:I32) -> #REF! | J33: =SUM(J27:J32) -> #REF!
A34: ITEM | B34: DESCRIÇÃO | C34: und | D34: VALOR | E34: mês 7 | F34: mês 8 | G34: mês 9 | H34: mês 10 | I34: mês 11 | J34: mês 12
A35: 1 | B35: =B27 -> Varrição | C35: =C27 -> M² | D35: =D27 -> 663195 | E35: ='ORÇAMENTO SEM DESONERAÇÃO'!$D35/12 -> 55266.25 | F35: =E35 -> 55266.25 | G35: =F35 -> 55266.25 | H35: =G35 -> 55266.25 | I35: =H35 -> 55266.25 | J35: =I35 -> 55266.25
A36: 2 | B36: =B28 -> Pintura de meio-fio | C36: =C28 -> M | D36: =D28 -> 584504.16 | E36: ='ORÇAMENTO SEM DESONERAÇÃO'!$D36/12 -> 48708.68 | F36: =E36 -> 48708.68 | G36: =F36 -> 48708.68 | H36: =G36 -> 48708.68 | I36: =H36 -> 48708.68 | J36: =I36 -> 48708.68
A37: 3 | B37: =B29 -> Capinação e coleta de grama | C37: =C29 -> M2 | D37: =D29 -> 1692184.9 | E37: ='ORÇAMENTO SEM DESONERAÇÃO'!$D37/12 -> 141015.41 | F37: =E37 -> 141015.41 | G37: =F37 -> 141015.41 | H37: =G37 -> 141015.41 | I37: =H37 -> 141015.41 | J37: =I37 -> 141015.41
A38: 4 | B38: =B30 -> Limpeza de Bueiro | C38: =C30 -> UND | D38: =D30 -> 176702.4 | E38: ='ORÇAMENTO SEM DESONERAÇÃO'!$D38/12 -> 14725.2 | F38: =E38 -> 14725.2 | G38: =F38 -> 14725.2 | H38: =G38 -> 14725.2 | I38: =H38 -> 14725.2 | J38: =I38 -> 14725.2
A39: 5 | B39: =B31 -> Corte, poda de arvore e coleta de entulhos e galhos | C39: =C31 -> UND | D39: =D31 -> 728380.8 | E39: ='ORÇAMENTO SEM DESONERAÇÃO'!$D39/12 -> 60698.4 | F39: =E39 -> 60698.4 | G39: =F39 -> 60698.4 | H39: =G39 -> 60698.4 | I39: =H39 -> 60698.4 | J39: =I39 -> 60698.4
A40: 6 | B40: =B32 -> Reparo em meio-fio | C40: =C32 -> m | D40: =D32 -> #REF! | E40: ='ORÇAMENTO SEM DESONERAÇÃO'!$D40/12 -> #REF! | F40: =E40 -> #REF! | G40: =F40 -> #REF! | H40: =G40 -> #REF! | I40: =H40 -> #REF! | J40: =I40 -> #REF!
D41: =SUM(D35:D40) -> #REF! | E41: =SUM(E35:E40) -> #REF! | F41: =SUM(F35:F40) -> #REF! | G41: =SUM(G35:G40) -> #REF! | H41: =SUM(H35:H40) -> #REF! | I41: =SUM(I35:I40) -> #REF! | J41: =SUM(J35:J40) -> #REF!

Sheet BDI SEM DESONERAÇÃO
A4: DEMONSTRAÇÃO DE BDI - DESONERADO - Acórdão 2622/2013
A6: TIPO DE OBRA: | B6: FORNECIMENTO DE MATERIAIS E EQUIPAMENTOS
A8: IMPOSTOS:
B9: TRIBUTOS: | C9: 3.65 | D9: %
B10: ISS BRUTO: | C10: 2 | D10: %
B11: INCIDENCIA SOBRE MO: | C11: 60 | D11: %
B12: CPRB | D12: %
B13: TOTAL TRIBUSTOS: | C13: =C9+C10+C12 -> 5.65 | D13: %
E14: ADOTADO
E16: 3.45
E17: 0.48
E18: 0.85
E19: 0.85
E20: 3.5
A23: BDI DESONERADO ADOTADO | E23: =((((1+(E16+E17+E18)/100))*(1+E19/100)*(1+E20/100))/(1-C13/100))-1 -> 0.15918497
B28: ____________________________________________

Sheet DADOS
A1: PAV | B1: SEM PAV
A2: 593 | B2: 1030
A3: 1196 | B3: 450
A4: 2632 | B4: 595
A5: =4071*2 -> 8142 | B5: 908
A6: 2240 | B6: 445
A7: 1193 | B7: 595
A8: 1042 | B8: 591
A9: 1186 | B9: 1401
A10: =1198*2 -> 2396 | B10: 277
A11: =1197*2 -> 2394 | B11: 133
A12: =1197*2 -> 2394 | B12: 141
A13: 1337 | B13: 145
A14: =2086 -> 2086 | B14: =SUM(B2:B13) -> 6711 | C14: =B14*1.5*2 -> 20133
A15: =1935*2 -> 3870 | P15: =A27*1.5*2 -> 127992
A16: 593 | P16: =B14*1.5*2 -> 20133 | Q16: =(P15+P16)/(25.25*800*3) -> 2.4443069
A17: =910 -> 910
A18: 897
A19: 598
A20: 1185
A21: 597
A22: 597
A23: =1787*2 -> 3574
A24: 728
A25: 147
A26: 137 | G26: =A27*2*0.106 -> 9044.768
A27: =SUM(A2:A26) -> 42664 | B27: =A27/1000 -> 42.664 | C27: =A27/(3000*3) -> 4.7404444
A28: =A27*8 -> 341312
B30: =A27*2/(25.25*350*3) -> 3.2184064
A31: =A27*1.5*2 -> 127992
A32: =B14*1.5*2 -> 20133 | B32: =(A27+B14)/(25.25*800*3) -> 0.81476898
A33: =(A31+A32)/(25.25*600*3) -> 3.2590759
