Workbook
Name Print_Titles: 'AGESUL INS ONER DESON'!$A$5:$IV$5
Name Print_Titles: 'MEMÓRIA DE CÁLCULO'!$1:$7
Name AGESULOD: 'AGESUL ONER DESON'!$A$8:$K$1768
Name COMPOD: COMPOSIÇÕES!$A$6:$M$4442
Name COMPOD1: COMPOSIÇÕES!$F$6:$M$4440
Name COTACAO: COTACAO!$B$1:$G$500
Name INSAGESUL: 'AGESUL INS ONER DESON'!$A$6:$H$1425
Name INSINOD: 'SINAPI INSUMO ONER DESO SEM ENC'!$B$11:$I$4828
Name SICRO: SICRO!$B$2:$F$110
Name SINCOMOD: 'SINAPI COMP ONER E DESONER'!$B$11:$I$10155

Sheet SINAPI COMP ONER E DESONER
A1: SINAPI - Sistema Nacional de Pesquisa de Custos e Índices da Construção Civil
A2: RELATÓRIO DE CUSTOS DE COMPOSIÇÕES - ENCARGOS SOCIAIS SEM DESONERAÇÃO
A3: Mês de Referência: | B3: 03/2026 | D3: Encargos sociais sobre a mão de obra: | E3: ONERADO | G3: DESONERADO | L3: ONERADO | N3: DESONERADO
A4: Data de emissão: | B4: 10/04/2026 | D4: (SEM DESONERAÇÃO) | E4: MS | G4: MS | L4: MS | N4: MS
D5: Localidade | E5: CAMPO GRANDE | G5: CAMPO GRANDE | L5: CAMPO GRANDE | N5: CAMPO GRANDE
A6: Observação: | B6: %AS (porcentagem Atribuído São Paulo) corresponde a porcentagem do custo total da | D6: Horista | E6: 1.1571 | G6: 0.9956 | L6: 1.0752 | N6: 0.9956
B7: composição que foi obtida utilizando preços de insumos de São Paulo por indisponibilidade | D7: Mensalista | E7: 0.7157 | G7: 0.5874 | L7: 0.648 | N7: 0.5874
B8: dos preços de insumos necessários à composição no estado em questão. Custo zerado (hífen)
B9: indica que pelo menos um dos itens da composição não tem custo/preço. | E9: MS | G9: MS | L9: MS | N9: MS
A10: Grupo | B10: Código da Composição | C10: Descrição | D10: Unidade | E10: Custo (R$) | F10: %AS | G10: Custo (R$) | H10: %AS | I10: SITUAÇÃO | L10: Custo (R$) | M10: %AS | N10: Custo (R$) | O10: %AS
A11: Acessibilidade | B11: 104658 | C11: PISO PODOTÁTIL DE ALERTA OU DIRECIONAL, DE CONCRETO, ASSENTADO SOBRE ARGAMASSA. AF_03/2024 | D11: M2 | E11: =IF(L11=0,"VERIFICAR",L11) -> 176.05 | F11: 0 | G11: =IF(N11=0,"VERIFICAR",N11) -> 173.45 | H11: 0 | I11: =IF(OR(E11=0,G11=0),"SEM VALOR","COM VALOR") -> COM VALOR | L11: 176.05 | M11: 0 | N11: 173.45 | O11: 0
A12: Acessibilidade | B12: 105002 | C12: RAMPA DE ACESSIBILIDADE EM CONCRETO MOLDADO IN LOCO, EM CALÇADA NOVA COM LARGURA MAIOR OU IGUAL À 3,00 M, FCK 25MPA, COM PISO PODOTÁTIL. AF_03/2024 | D12: UN | E12: =IF(L12=0,"VERIFICAR",L12) -> 720.15 | F12: 0 | G12: =IF(N12=0,"VERIFICAR",N12) -> 700.81 | H12: 0 | I12: =IF(OR(E12=0,G12=0),"SEM VALOR","COM VALOR") -> COM VALOR | L12: 720.15 | M12: 0 | N12: 700.81 | O12: 0
A13: Acessibilidade | B13: 105004 | C13: RAMPA DE ACESSIBILIDADE EM CONCRETO MOLDADO IN LOCO, EM CALÇADA NOVA COM LARGURA MENOR À 3,00 M, FCK 25MPA, COM PISO PODOTÁTIL. AF_03/2024 | D13: M2 | E13: =IF(L13=0,"VERIFICAR",L13) -> 122.8 | F13: 0 | G13: =IF(N13=0,"VERIFICAR",N13) -> 119.45 | H13: 0 | I13: =IF(OR(E13=0,G13=0),"SEM VALOR","COM VALOR") -> COM VALOR | L13: 122.8 | M13: 0 | N13: 119.45 | O13: 0
A14: Acessibilidade | B14: 105003 | C14: RAMPA DE ACESSIBILIDADE EM CONCRETO MOLDADO IN LOCO, EM CALÇADA PRÉ EXISTENTE COM LARGURA MAIOR OU IGUAL À 3,00 M, FCK 25MPA, COM PISO PODOTÁTIL. AF_03/2024 | D14: UN | E14: =IF(L14=0,"VERIFICAR",L14) -> 1173.71 | F14: 0.05 | G14: =IF(N14=0,"VERIFICAR",N14) -> 1134.77 | H14: 0.06 | I14: =IF(OR(E14=0,G14=0),"SEM VALOR","COM VALOR") -> COM VALOR | L14: 1173.71 | M14: 0.05 | N14: 1134.77 | O14: 0.06
A15: Acessibilidade | B15: 105005 | C15: RAMPA DE ACESSIBILIDADE EM CONCRETO MOLDADO IN LOCO, EM CALÇADA PRÉ EXISTENTE COM LARGURA MENOR À 3,00 M, FCK 25MPA, COM PISO PODOTÁTIL. AF_03/2024 | D15: M2 | E15: =IF(L15=0,"VERIFICAR",L15) -> 206.77 | F15: 0.06 | G15: =IF(N15=0,"VERIFICAR",N15) -> 199.8 | H15: 0.06 | I15: =IF(OR(E15=0,G15=0),"SEM VALOR","COM VALOR") -> COM VALOR | L15: 206.77 | M15: 0.06 | N15: 199.8 | O15: 0.06
A16: Acessibilidade | B16: 105006 | C16: RAMPA DE ACESSIBILIDADE EM CONCRETO PRÉ MOLDADO, EM CALÇADA NOVA COM LARGURA MAIOR OU IGUAL À 3,00 M, FCK 25MPA, COM PISO PODOTÁTIL. AF_03/2024 | D16: UN | E16: =IF(L16=0,"VERIFICAR",L16) -> VERIFICAR | G16: =IF(N16=0,"VERIFICAR",N16) -> VERIFICAR | I16: =IF(OR(E16=0,G16=0),"SEM VALOR","COM VALOR") -> COM VALOR | L16: 0 | N16: 0
A17: Acessibilidade | B17: 104999 | C17: RAMPA DE ACESSIBILIDADE EM CONCRETO PRÉ MOLDADO, EM CALÇADA PRÉ EXISTENTE COM LARGURA MAIOR OU IGUAL À 3,00 M, FCK 25MPA, COM PISO PODOTÁTIL. AF_03/2024 | D17: UN | E17: =IF(L17=0,"VERIFICAR",L17) -> VERIFICAR | G17: =IF(N17=0,"VERIFICAR",N17) -> VERIFICAR | I17: =IF(OR(E17=0,G17=0),"SEM VALOR","COM VALOR") -> COM VALOR | L17: 0 | N17: 0
A18: Acessibilidade | B18: 105000 | C18: RAMPA DE ACESSIBILIDADE PARA ACESSO A EDIFICAÇÕES COM INCLINAÇÃO DE 8,33% EM CONCRETO MOLDADO IN LOCO, COM LARGURA DE 1,20M, FCK 25MPA, NÃO ARMADA, COM JUNTA A CADA 2M COM CORTE À SECO. AF_03/2024 | D18: M | E18: =IF(L18=0,"VERIFICAR",L18) -> 1211.93 | F18: 0.47 | G18: =IF(N18=0,"VERIFICAR",N18) -> 1189.41 | H18: 0.49 | I18: =IF(OR(E18=0,G18=0),"SEM VALOR","COM VALOR") -> COM VALOR | L18: 1211.93 | M18: 0.52 | N18: 1189.41 | O18: 0.53
A19: Acessibilidade | B19: 105001 | C19: RAMPA DE ACESSIBILIDADE PARA ACESSO A EDIFICAÇÕES COM INCLINAÇÃO DE 8,33% EM CONCRETO MOLDADO IN LOCO, COM LARGURA DE 1,50M, FCK 25MPA, NÃO ARMADA, COM JUNTA A CADA 2M COM CORTE À SECO. AF_03/2024 | D19: M | E19: =IF(L19=0,"VERIFICAR",L19) -> 1246.4 | F19: 0.46 | G19: =IF(N19=0,"VERIFICAR",N19) -> 1223.56 | H19: 0.48 | I19: =IF(OR(E19=0,G19=0),"SEM VALOR","COM VALOR") -> COM VALOR | L19: 1246.4 | M19: 0.51 | N19: 1223.56 | O19: 0.52
A20: Alvenaria Estrutural - Blocos Cerâmicos | B20: 89306 | C20: ALVENARIA ESTRUTURAL DE BLOCOS CERÂMICOS 14X19X29, (ESPESSURA DE 14 CM), UTILIZANDO COLHER DE PEDREIRO E ARGAMASSA DE ASSENTAMENTO COM PREPARO EM BETONEIRA. AF_03/2023 | D20: M2 | E20: =IF(L20=0,"VERIFICAR",L20) -> 102.35 | F20: 0 | G20: =IF(N20=0,"VERIFICAR",N20) -> 99.5 | H20: 0 | I20: =IF(OR(E20=0,G20=0),"SEM VALOR","COM VALOR") -> COM VALOR | L20: 102.35 | M20: 0 | N20: 99.5 | O20: 0
A21: Alvenaria Estrutural - Blocos Cerâmicos | B21: 89307 | C21: ALVENARIA ESTRUTURAL DE BLOCOS CERÂMICOS 14X19X29, (ESPESSURA DE 14 CM), UTILIZANDO COLHER DE PEDREIRO E ARGAMASSA DE ASSENTAMENTO COM PREPARO MANUAL. AF_03/2023 | D21: M2 | E21: =IF(L21=0,"VERIFICAR",L21) -> 104.38 | F21: 0 | G21: =IF(N21=0,"VERIFICAR",N21) -> 101.44 | H21: 0 | I21: =IF(OR(E21=0,G21=0),"SEM VALOR","COM VALOR") -> COM VALOR | L21: 104.38 | M21: 0 | N21: 101.44 | O21: 0
A22: Alvenaria Estrutural - Blocos Cerâmicos | B22: 89290 | C22: ALVENARIA ESTRUTURAL DE BLOCOS CERÂMICOS 14X19X29, (ESPESSURA DE 14 CM), UTILIZANDO PALHETA E ARGAMASSA DE ASSENTAMENTO COM PREPARO EM BETONEIRA. AF_03/2023 | D22: M2 | E22: =IF(L22=0,"VERIFICAR",L22) -> 85.81 | F22: 0 | G22: =IF(N22=0,"VERIFICAR",N22) -> 83.76 | H22: 0 | I22: =IF(OR(E22=0,G22=0),"SEM VALOR","COM VALOR") -> COM VALOR | L22: 85.81 | M22: 0 | N22: 83.76 | O22: 0
A23: Alvenaria Estrutural - Blocos Cerâmicos | B23: 89291 | C23: ALVENARIA ESTRUTURAL DE BLOCOS CERÂMICOS 14X19X29, (ESPESSURA DE 14 CM), UTILIZANDO PALHETA E ARGAMASSA DE ASSENTAMENTO COM PREPARO MANUAL. AF_03/2023 | D23: M2 | E23: =IF(L23=0,"VERIFICAR",L23) -> 87.32 | F23: 0 | G23: =IF(N23=0,"VERIFICAR",N23) -> 85.2 | H23: 0 | I23: =IF(OR(E23=0,G23=0),"SEM VALOR","COM VALOR") -> COM VALOR | L23: 87.32 | M23: 0 | N23: 85.2 | O23: 0
A24: Alvenaria Estrutural - Blocos Cerâmicos | B24: 89298 | C24: ALVENARIA ESTRUTURAL DE BLOCOS CERÂMICOS 14X19X39, (ESPESSURA DE 14 CM), UTILIZANDO COLHER DE PEDREIRO E ARGAMASSA DE ASSENTAMENTO COM PREPARO EM BETONEIRA. AF_03/2023 | D24: M2 | E24: =IF(L24=0,"VERIFICAR",L24) -> 89.51 | F24: 0 | G24: =IF(N24=0,"VERIFICAR",N24) -> 87.39 | H24: 0 | I24: =IF(OR(E24=0,G24=0),"SEM VALOR","COM VALOR") -> COM VALOR | L24: 89.51 | M24: 0 | N24: 87.39 | O24: 0
A25: Alvenaria Estrutural - Blocos Cerâmicos | B25: 89299 | C25: ALVENARIA ESTRUTURAL DE BLOCOS CERÂMICOS 14X19X39, (ESPESSURA DE 14 CM), UTILIZANDO COLHER DE PEDREIRO E ARGAMASSA DE ASSENTAMENTO COM PREPARO MANUAL. AF_03/2023 | D25: M2 | E25: =IF(L25=0,"VERIFICAR",L25) -> 91.33 | F25: 0 | G25: =IF(N25=0,"VERIFICAR",N25) -> 89.13 | H25: 0 | I25: =IF(OR(E25=0,G25=0),"SEM VALOR","COM VALOR") -> COM VALOR | L25: 91.33 | M25: 0 | N25: 89.13 | O25: 0
A26: Alvenaria Estrutural - Blocos Cerâmicos | B26: 89282 | C26: ALVENARIA ESTRUTURAL DE BLOCOS CERÂMICOS 14X19X39, (ESPESSURA DE 14 CM), UTILIZANDO PALHETA E ARGAMASSA DE ASSENTAMENTO COM PREPARO EM BETONEIRA. AF_03/2023 | D26: M2 | E26: =IF(L26=0,"VERIFICAR",L26) -> 77.84 | F26: 0 | G26: =IF(N26=0,"VERIFICAR",N26) -> 76.27 | H26: 0 | I26: =IF(OR(E26=0,G26=0),"SEM VALOR","COM VALOR") -> COM VALOR | L26: 77.84 | M26: 0 | N26: 76.27 | O26: 0
A27: Alvenaria Estrutural - Blocos Cerâmicos | B27: 89283 | C27: ALVENARIA ESTRUTURAL DE BLOCOS CERÂMICOS 14X19X39, (ESPESSURA DE 14 CM), UTILIZANDO PALHETA E ARGAMASSA DE ASSENTAMENTO COM PREPARO MANUAL. AF_03/2023 | D27: M2 | E27: =IF(L27=0,"VERIFICAR",L27) -> 79.2 | F27: 0 | G27: =IF(N27=0,"VERIFICAR",N27) -> 77.57 | H27: 0 | I27: =IF(OR(E27=0,G27=0),"SEM VALOR","COM VALOR") -> COM VALOR | L27: 79.2 | M27: 0 | N27: 77.57 | O27: 0
A28: Alvenaria Estrutural - Blocos de Concreto | B28: 89480 | C28: ALVENARIA DE BLOCOS DE CONCRETO ESTRUTURAL 14X19X29 CM (ESPESSURA 14 CM), FBK = 14 MPA, UTILIZANDO COLHER DE PEDREIRO. AF_10/2022 | D28: M2 | E28: =IF(L28=0,"VERIFICAR",L28) -> 173.19 | F28: 0 | G28: =IF(N28=0,"VERIFICAR",N28) -> 169.87 | H28: 0 | I28: =IF(OR(E28=0,G28=0),"SEM VALOR","COM VALOR") -> COM VALOR | L28: 173.19 | M28: 0 | N28: 169.87 | O28: 0
A29: Alvenaria Estrutural - Blocos de Concreto | B29: 89464 | C29: ALVENARIA DE BLOCOS DE CONCRETO ESTRUTURAL 14X19X29 CM (ESPESSURA 14 CM), FBK = 14,0 MPA, UTILIZANDO PALHETA. AF_10/2022 | D29: M2 | E29: =IF(L29=0,"VERIFICAR",L29) -> 152.71 | F29: 0 | G29: =IF(N29=0,"VERIFICAR",N29) -> 150.35 | H29: 0 | I29: =IF(OR(E29=0,G29=0),"SEM VALOR","COM VALOR") -> COM VALOR | L29: 152.71 | M29: 0 | N29: 150.35 | O29: 0
... A31: Alvenaria Estrutural - Blocos de Concreto | B31: 89462 | C31: ALVENARIA DE BLOCOS DE CONCRETO ESTRUTURAL 14X19X29 CM (ESPESSURA 14 CM), FBK = 4,5 MPA, UTILIZANDO PALHETA. AF_10/2022 | D31: M2 | E31: =IF(L31=0,"VERIFICAR",L31) -> 128.9 | F31: 0 | G31: =IF(N31=0,"VERIFICAR",N31) -> 126.7 | H31: 0 | I31: =IF(OR(E31=0,G31=0),"SEM VALOR","COM VALOR") -> COM VALOR | L31: 128.9 | M31: 0 | N31: 126.7 | O31: 0
A32: Alvenaria Estrutural - Blocos de Concreto | B32: 104444 | C32: ALVENARIA DE BLOCOS DE CONCRETO ESTRUTURAL 14X19X29 CM (ESPESSURA 14 CM), FBK = 8 MPA, UTILIZANDO COLHER DE PEDREIRO. AF_10/2022 | D32: M2 | E32: =IF(L32=0,"VERIFICAR",L32) -> VERIFICAR | G32: =IF(N32=0,"VERIFICAR",N32) -> VERIFICAR | I32: =IF(OR(E32=0,G32=0),"SEM VALOR","COM VALOR") -> COM VALOR | L32: 0 | N32: 0
A33: Alvenaria Estrutural - Blocos de Concreto | B33: 104442 | C33: ALVENARIA DE BLOCOS DE CONCRETO ESTRUTURAL 14X19X29 CM (ESPESSURA 14 CM), FBK = 8 MPA, UTILIZANDO PALHETA. AF_10/2022 | D33: M2 | E33: =IF(L33=0,"VERIFICAR",L33) -> VERIFICAR | G33: =IF(N33=0,"VERIFICAR",N33) -> VERIFICAR | I33: =IF(OR(E33=0,G33=0),"SEM VALOR","COM VALOR") -> COM VALOR | L33: 0 | N33: 0
A34: Alvenaria Estrutural - Blocos de Concreto | B34: 89472 | C34: ALVENARIA DE BLOCOS DE CONCRETO ESTRUTURAL 14X19X39 CM (ESPESSURA 14 CM), FBK = 14 MPA, UTILIZANDO COLHER DE PEDREIRO. AF_10/2022 | D34: M2 | E34: =IF(L34=0,"VERIFICAR",L34) -> 133.43 | F34: 0 | G34: =IF(N34=0,"VERIFICAR",N34) -> 131.42 | H34: 0 | I34: =IF(OR(E34=0,G34=0),"SEM VALOR","COM VALOR") -> COM VALOR | L34: 133.43 | M34: 0 | N34: 131.42 | O34: 0
A35: Alvenaria Estrutural - Blocos de Concreto | B35: 89455 | C35: ALVENARIA DE BLOCOS DE CONCRETO ESTRUTURAL 14X19X39 CM (ESPESSURA 14 CM), FBK = 14 MPA, UTILIZANDO PALHETA. AF_10/2022 | D35: M2 | E35: =IF(L35=0,"VERIFICAR",L35) -> 120.52 | F35: 0 | G35: =IF(N35=0,"VERIFICAR",N35) -> 119.08 | H35: 0 | I35: =IF(OR(E35=0,G35=0),"SEM VALOR","COM VALOR") -> COM VALOR | L35: 120.52 | M35: 0 | N35: 119.08 | O35: 0
A36: Alvenaria Estrutural - Blocos de Concreto | B36: 89470 | C36: ALVENARIA DE BLOCOS DE CONCRETO ESTRUTURAL 14X19X39 CM (ESPESSURA 14 CM), FBK = 4,5 MPA, UTILIZANDO COLHER DE PEDREIRO. AF_10/2022 | D36: M2 | E36: =IF(L36=0,"VERIFICAR",L36) -> 110.5 | F36: 0 | G36: =IF(N36=0,"VERIFICAR",N36) -> 108.61 | H36: 0 | I36: =IF(OR(E36=0,G36=0),"SEM VALOR","COM VALOR") -> COM VALOR | L36: 110.5 | M36: 0 | N36: 108.61 | O36: 0
A37: Alvenaria Estrutural - Blocos de Concreto | B37: 89453 | C37: ALVENARIA DE BLOCOS DE CONCRETO ESTRUTURAL 14X19X39 CM (ESPESSURA 14 CM), FBK = 4,5 MPA, UTILIZANDO PALHETA. AF_10/2022 | D37: M2 | E37: =IF(L37=0,"VERIFICAR",L37) -> 98.65 | F37: 0 | G37: =IF(N37=0,"VERIFICAR",N37) -> 97.29 | H37: 0 | I37: =IF(OR(E37=0,G37=0),"SEM VALOR","COM VALOR") -> COM VALOR | L37: 98.65 | M37: 0 | N37: 97.29 | O37: 0
A38: Alvenaria Estrutural - Blocos de Concreto | B38: 104443 | C38: ALVENARIA DE BLOCOS DE CONCRETO ESTRUTURAL 14X19X39 CM (ESPESSURA 14 CM), FBK = 8 MPA, UTILIZANDO COLHER DE PEDREIRO. AF_10/2022 | D38: M2 | E38: =IF(L38=0,"VERIFICAR",L38) -> VERIFICAR | G38: =IF(N38=0,"VERIFICAR",N38) -> VERIFICAR | I38: =IF(OR(E38=0,G38=0),"SEM VALOR","COM VALOR") -> COM VALOR | L38: 0 | N38: 0
A39: Alvenaria Estrutural - Blocos de Concreto | B39: 104441 | C39: ALVENARIA DE BLOCOS DE CONCRETO ESTRUTURAL 14X19X39 CM (ESPESSURA 14 CM), FBK = 8 MPA, UTILIZANDO PALHETA. AF_10/2022 | D39: M2 | E39: =IF(L39=0,"VERIFICAR",L39) -> VERIFICAR | G39: =IF(N39=0,"VERIFICAR",N39) -> VERIFICAR | I39: =IF(OR(E39=0,G39=0),"SEM VALOR","COM VALOR") -> COM VALOR | L39: 0 | N39: 0
A40: Alvenaria de Vedação | B40: 103354 | C40: ALVENARIA DE VEDAÇÃO DE BLOCOS CERÂMICOS FURADOS NA HORIZONTAL DE 11,5X14X24 CM (ESPESSURA 11,5 CM) E ARGAMASSA DE ASSENTAMENTO COM PREPARO EM BETONEIRA. AF_12/2021 | D40: M2 | E40: =IF(L40=0,"VERIFICAR",L40) -> 93.18 | F40: 0.01 | G40: =IF(N40=0,"VERIFICAR",N40) -> 90.02 | H40: 0.01 | I40: =IF(OR(E40=0,G40=0),"SEM VALOR","COM VALOR") -> COM VALOR | L40: 93.18 | M40: 0.01 | N40: 90.02 | O40: 0.01
A41: Alvenaria de Vedação | B41: 103355 | C41: ALVENARIA DE VEDAÇÃO DE BLOCOS CERÂMICOS FURADOS NA HORIZONTAL DE 11,5X14X24 CM (ESPESSURA 11,5 CM) E ARGAMASSA DE ASSENTAMENTO COM PREPARO MANUAL. AF_12/2021 | D41: M2 | E41: =IF(L41=0,"VERIFICAR",L41) -> 94.4 | F41: 0.01 | G41: =IF(N41=0,"VERIFICAR",N41) -> 91.17 | H41: 0.01 | I41: =IF(OR(E41=0,G41=0),"SEM VALOR","COM VALOR") -> COM VALOR | L41: 94.4 | M41: 0.01 | N41: 91.17 | O41: 0.01
...

Sheet SINAPI INSUMO ONER DESO SEM ENC
A1: SINAPI - Sistema Nacional de Pesquisa de Custos e Índices da Construção Civil
A2: RELATÓRIO DE PREÇOS DE INSUMOS -
A3: Mês de Referência: | B3: 03/2026 | E3: Encargos sociais sobre a mão de obra: | F3: ENC. SOCIAL SEM DESONERACAO | G3: ENC. SOCIAL COM DESONERACAO | H3: SEM ENCARGOS | L3: ENC. SOCIAL SEM DESONERACAO | M3: ENC. SOCIAL COM DESONERACAO | N3: SEM ENCARGOS
A4: Data de emissão: | B4: 10/04/2026 | F4: MS | G4: MS | L4: MS | M4: MS
E5: Localidade | F5: CAMPO GRANDE | G5: CAMPO GRANDE | L5: CAMPO GRANDE | M5: CAMPO GRANDE
A6: Origem de preço: | B6: C = COLETADO | C6: CR = COEFICIENTE DE REPRESENTATIVIDADE | E6: Horista | F6: 1.1571 | G6: 0.9956 | L6: 1.1571 | M6: 0.9956
E7: Mensalista | F7: 0.7157 | G7: 0.5874 | L7: 0.7157 | M7: 0.5874
A9: Acessar Fichas de Especificação Técnico dos Insumos | E9: Preços Medianos (R$):
A10: Classificação | B10: Código do Insumo | C10: Descrição do Insumo | D10: Unidade | E10: Origem de Preço | F10: MS | G10: MS | H10: MS | I10: SITUAÇÃO | L10: MS | M10: MS | N10: MS
A11: SERVIÇOS | B11: 45333 | C11: ABERTURA PARA ENCAIXE DE CUBA OU LAVATORIO EM BANCADA DE MARMORE/ GRANITO OU OUTRO TIPO DE PEDRA NATURAL | D11: UN | E11: CR | F11: =IF(L11=0,"VERIFICAR",L11) -> 190.13 | G11: =IF(M11=0,"VERIFICAR",M11) -> 190.13 | H11: =IF(N11=0,"VERIFICAR",N11) -> 190.13 | I11: =IF(OR(L11=0,M11=0,N11=0),"SEM VALOR","COM VALOR") -> COM VALOR | L11: 190.13 | M11: 190.13 | N11: 190.13
A12: MATERIAL | B12: 11270 | C12: ABRACADEIRA DE LATAO PARA FIXACAO DE CABO PARA-RAIO, DIMENSOES 32 X 24 X 24 MM | D12: UN | E12: CR | F12: =IF(L12=0,"VERIFICAR",L12) -> 3 | G12: =IF(M12=0,"VERIFICAR",M12) -> 3 | H12: =IF(N12=0,"VERIFICAR",N12) -> 3 | I12: =IF(OR(L12=0,M12=0,N12=0),"SEM VALOR","COM VALOR") -> COM VALOR | L12: 3 | M12: 3 | N12: 3
A13: MATERIAL | B13: 412 | C13: ABRACADEIRA DE NYLON PARA AMARRACAO DE CABOS, COMPRIMENTO DE *230* X *7,6* MM | D13: UN | E13: CR | F13: =IF(L13=0,"VERIFICAR",L13) -> 1.54 | G13: =IF(M13=0,"VERIFICAR",M13) -> 1.54 | H13: =IF(N13=0,"VERIFICAR",N13) -> 1.54 | I13: =IF(OR(L13=0,M13=0,N13=0),"SEM VALOR","COM VALOR") -> COM VALOR | L13: 1.54 | M13: 1.54 | N13: 1.54
A14: MATERIAL | B14: 414 | C14: ABRACADEIRA DE NYLON PARA AMARRACAO DE CABOS, COMPRIMENTO DE 100 X 2,5 MM | D14: UN | E14: CR | F14: =IF(L14=0,"VERIFICAR",L14) -> 0.09 | G14: =IF(M14=0,"VERIFICAR",M14) -> 0.09 | H14: =IF(N14=0,"VERIFICAR",N14) -> 0.09 | I14: =IF(OR(L14=0,M14=0,N14=0),"SEM VALOR","COM VALOR") -> COM VALOR | L14: 0.09 | M14: 0.09 | N14: 0.09
A15: MATERIAL | B15: 410 | C15: ABRACADEIRA DE NYLON PARA AMARRACAO DE CABOS, COMPRIMENTO DE 150 X *3,6* MM | D15: UN | E15: CR | F15: =IF(L15=0,"VERIFICAR",L15) -> 0.23 | G15: =IF(M15=0,"VERIFICAR",M15) -> 0.23 | H15: =IF(N15=0,"VERIFICAR",N15) -> 0.23 | I15: =IF(OR(L15=0,M15=0,N15=0),"SEM VALOR","COM VALOR") -> COM VALOR | L15: 0.23 | M15: 0.23 | N15: 0.23
A16: MATERIAL | B16: 411 | C16: ABRACADEIRA DE NYLON PARA AMARRACAO DE CABOS, COMPRIMENTO DE 200 X *4,6* MM | D16: UN | E16: C | F16: =IF(L16=0,"VERIFICAR",L16) -> 0.3 | G16: =IF(M16=0,"VERIFICAR",M16) -> 0.3 | H16: =IF(N16=0,"VERIFICAR",N16) -> 0.3 | I16: =IF(OR(L16=0,M16=0,N16=0),"SEM VALOR","COM VALOR") -> COM VALOR | L16: 0.3 | M16: 0.3 | N16: 0.3
A17: MATERIAL | B17: 408 | C17: ABRACADEIRA DE NYLON PARA AMARRACAO DE CABOS, COMPRIMENTO DE 390 X *4,6* MM | D17: UN | E17: CR | F17: =IF(L17=0,"VERIFICAR",L17) -> 1.48 | G17: =IF(M17=0,"VERIFICAR",M17) -> 1.48 | H17: =IF(N17=0,"VERIFICAR",N17) -> 1.48 | I17: =IF(OR(L17=0,M17=0,N17=0),"SEM VALOR","COM VALOR") -> COM VALOR | L17: 1.48 | M17: 1.48 | N17: 1.48
A18: MATERIAL | B18: 39131 | C18: ABRACADEIRA EM ACO PARA AMARRACAO DE ELETRODUTOS, TIPO D, COM 1 1/2" E CUNHA DE FIXACAO | D18: UN | E18: CR | F18: =IF(L18=0,"VERIFICAR",L18) -> 6.63 | G18: =IF(M18=0,"VERIFICAR",M18) -> 6.63 | H18: =IF(N18=0,"VERIFICAR",N18) -> 6.63 | I18: =IF(OR(L18=0,M18=0,N18=0),"SEM VALOR","COM VALOR") -> COM VALOR | L18: 6.63 | M18: 6.63 | N18: 6.63
A19: MATERIAL | B19: 394 | C19: ABRACADEIRA EM ACO PARA AMARRACAO DE ELETRODUTOS, TIPO D, COM 1 1/2" E PARAFUSO DE FIXACAO | D19: UN | E19: CR | F19: =IF(L19=0,"VERIFICAR",L19) -> 6.72 | G19: =IF(M19=0,"VERIFICAR",M19) -> 6.72 | H19: =IF(N19=0,"VERIFICAR",N19) -> 6.72 | I19: =IF(OR(L19=0,M19=0,N19=0),"SEM VALOR","COM VALOR") -> COM VALOR | L19: 6.72 | M19: 6.72 | N19: 6.72
A20: MATERIAL | B20: 39130 | C20: ABRACADEIRA EM ACO PARA AMARRACAO DE ELETRODUTOS, TIPO D, COM 1 1/4" E CUNHA DE FIXACAO | D20: UN | E20: CR | F20: =IF(L20=0,"VERIFICAR",L20) -> 6.05 | G20: =IF(M20=0,"VERIFICAR",M20) -> 6.05 | H20: =IF(N20=0,"VERIFICAR",N20) -> 6.05 | I20: =IF(OR(L20=0,M20=0,N20=0),"SEM VALOR","COM VALOR") -> COM VALOR | L20: 6.05 | M20: 6.05 | N20: 6.05
A21: MATERIAL | B21: 395 | C21: ABRACADEIRA EM ACO PARA AMARRACAO DE ELETRODUTOS, TIPO D, COM 1 1/4" E PARAFUSO DE FIXACAO | D21: UN | E21: CR | F21: =IF(L21=0,"VERIFICAR",L21) -> 6.47 | G21: =IF(M21=0,"VERIFICAR",M21) -> 6.47 | H21: =IF(N21=0,"VERIFICAR",N21) -> 6.47 | I21: =IF(OR(L21=0,M21=0,N21=0),"SEM VALOR","COM VALOR") -> COM VALOR | L21: 6.47 | M21: 6.47 | N21: 6.47
A22: MATERIAL | B22: 39129 | C22: ABRACADEIRA EM ACO PARA AMARRACAO DE ELETRODUTOS, TIPO D, COM 1" E CUNHA DE FIXACAO | D22: UN | E22: CR | F22: =IF(L22=0,"VERIFICAR",L22) -> 3.73 | G22: =IF(M22=0,"VERIFICAR",M22) -> 3.73 | H22: =IF(N22=0,"VERIFICAR",N22) -> 3.73 | I22: =IF(OR(L22=0,M22=0,N22=0),"SEM VALOR","COM VALOR") -> COM VALOR | L22: 3.73 | M22: 3.73 | N22: 3.73
... A54: MATERIAL | B54: 36246 | C54: ACABAMENTO SIMPLES/CONVENCIONAL PARA FORRO PVC, TIPO "U" OU "C", COR BRANCA, COMPRIMENTO 6 M | D54: M | E54: CR | F54: =IF(L54=0,"VERIFICAR",L54) -> 5.24 | G54: =IF(M54=0,"VERIFICAR",M54) -> 5.24 | H54: =IF(N54=0,"VERIFICAR",N54) -> 5.24 | I54: =IF(OR(L54=0,M54=0,N54=0),"SEM VALOR","COM VALOR") -> COM VALOR | L54: 5.24 | M54: 5.24 | N54: 5.24
A55: MATERIAL | B55: 37600 | C55: ACESSORIO DE LIGACAO NAO ELETRICO PARA CARGAS EXPLOSIVAS, TUBO DE 6 M | D55: UN | E55: CR | F55: =IF(L55=0,"VERIFICAR",L55) -> VERIFICAR | G55: =IF(M55=0,"VERIFICAR",M55) -> VERIFICAR | H55: =IF(N55=0,"VERIFICAR",N55) -> VERIFICAR | I55: =IF(OR(L55=0,M55=0,N55=0),"SEM VALOR","COM VALOR") -> SEM VALOR
A56: MATERIAL | B56: 37599 | C56: ACESSORIO INICIADOR NAO ELETRICO, TUBO DE 6 M, TEMPO DE RETARDO DE *160* MS | D56: UN | E56: CR | F56: =IF(L56=0,"VERIFICAR",L56) -> VERIFICAR | G56: =IF(M56=0,"VERIFICAR",M56) -> VERIFICAR | H56: =IF(N56=0,"VERIFICAR",N56) -> VERIFICAR | I56: =IF(OR(L56=0,M56=0,N56=0),"SEM VALOR","COM VALOR") -> SEM VALOR
A57: MATERIAL | B57: 1 | C57: ACETILENO - RECARGA DE GAS PARA CILINDRO (NAO INCLUI TROCA/MANUTENCAO DO CILINDRO) | D57: KG | E57: C | F57: =IF(L57=0,"VERIFICAR",L57) -> 110 | G57: =IF(M57=0,"VERIFICAR",M57) -> 110 | H57: =IF(N57=0,"VERIFICAR",N57) -> 110 | I57: =IF(OR(L57=0,M57=0,N57=0),"SEM VALOR","COM VALOR") -> COM VALOR | L57: 110 | M57: 110 | N57: 110
A58: MATERIAL | B58: 3 | C58: ACIDO CLORIDRICO / ACIDO MURIATICO, DILUICAO 10% A 12% PARA USO EM LIMPEZA | D58: L | E58: CR | F58: =IF(L58=0,"VERIFICAR",L58) -> 13.44 | G58: =IF(M58=0,"VERIFICAR",M58) -> 13.44 | H58: =IF(N58=0,"VERIFICAR",N58) -> 13.44 | I58: =IF(OR(L58=0,M58=0,N58=0),"SEM VALOR","COM VALOR") -> COM VALOR | L58: 13.44 | M58: 13.44 | N58: 13.44
A59: MATERIAL | B59: 43054 | C59: ACO CA-25, 10,0 MM, OU 12,5 MM, OU 16,0 MM, OU 20,0 MM, OU 25,0 MM, VERGALHAO | D59: KG | E59: CR | F59: =IF(L59=0,"VERIFICAR",L59) -> 8.36 | G59: =IF(M59=0,"VERIFICAR",M59) -> 8.36 | H59: =IF(N59=0,"VERIFICAR",N59) -> 8.36 | I59: =IF(OR(L59=0,M59=0,N59=0),"SEM VALOR","COM VALOR") -> COM VALOR | L59: 8.36 | M59: 8.36 | N59: 8.36
A60: MATERIAL | B60: 42402 | C60: ACO CA-25, 16,0 MM, BARRA DE TRANSFERENCIA | D60: KG | E60: CR | F60: =IF(L60=0,"VERIFICAR",L60) -> 7.99 | G60: =IF(M60=0,"VERIFICAR",M60) -> 7.99 | H60: =IF(N60=0,"VERIFICAR",N60) -> 7.99 | I60: =IF(OR(L60=0,M60=0,N60=0),"SEM VALOR","COM VALOR") -> COM VALOR | L60: 7.99 | M60: 7.99 | N60: 7.99
A61: MATERIAL | B61: 42403 | C61: ACO CA-25, 20,0 MM, BARRA DE TRANSFERENCIA | D61: KG | E61: CR | F61: =IF(L61=0,"VERIFICAR",L61) -> 10.25 | G61: =IF(M61=0,"VERIFICAR",M61) -> 10.25 | H61: =IF(N61=0,"VERIFICAR",N61) -> 10.25 | I61: =IF(OR(L61=0,M61=0,N61=0),"SEM VALOR","COM VALOR") -> COM VALOR | L61: 10.25 | M61: 10.25 | N61: 10.25
A62: MATERIAL | B62: 42404 | C62: ACO CA-25, 25,0 MM, BARRA DE TRANSFERENCIA | D62: KG | E62: CR | F62: =IF(L62=0,"VERIFICAR",L62) -> 10.19 | G62: =IF(M62=0,"VERIFICAR",M62) -> 10.19 | H62: =IF(N62=0,"VERIFICAR",N62) -> 10.19 | I62: =IF(OR(L62=0,M62=0,N62=0),"SEM VALOR","COM VALOR") -> COM VALOR | L62: 10.19 | M62: 10.19 | N62: 10.19
A63: MATERIAL | B63: 42405 | C63: ACO CA-25, 32,0 MM, BARRA DE TRANSFERENCIA | D63: KG | E63: CR | F63: =IF(L63=0,"VERIFICAR",L63) -> 10.85 | G63: =IF(M63=0,"VERIFICAR",M63) -> 10.85 | H63: =IF(N63=0,"VERIFICAR",N63) -> 10.85 | I63: =IF(OR(L63=0,M63=0,N63=0),"SEM VALOR","COM VALOR") -> COM VALOR | L63: 10.85 | M63: 10.85 | N63: 10.85
A64: MATERIAL | B64: 34341 | C64: ACO CA-25, 32,0 MM, VERGALHAO | D64: KG | E64: CR | F64: =IF(L64=0,"VERIFICAR",L64) -> 9.42 | G64: =IF(M64=0,"VERIFICAR",M64) -> 9.42 | H64: =IF(N64=0,"VERIFICAR",N64) -> 9.42 | I64: =IF(OR(L64=0,M64=0,N64=0),"SEM VALOR","COM VALOR") -> COM VALOR | L64: 9.42 | M64: 9.42 | N64: 9.42
A65: MATERIAL | B65: 43053 | C65: ACO CA-25, 6,3 MM OU 8,0 MM, VERGALHAO | D65: KG | E65: CR | F65: =IF(L65=0,"VERIFICAR",L65) -> 7.47 | G65: =IF(M65=0,"VERIFICAR",M65) -> 7.47 | H65: =IF(N65=0,"VERIFICAR",N65) -> 7.47 | I65: =IF(OR(L65=0,M65=0,N65=0),"SEM VALOR","COM VALOR") -> COM VALOR | L65: 7.47 | M65: 7.47 | N65: 7.47
A66: MATERIAL | B66: 43058 | C66: ACO CA-50, 10,0 MM, OU 12,5 MM, OU 16,0 MM, OU 20,0 MM, DOBRADO E CORTADO | D66: KG | E66: CR | F66: =IF(L66=0,"VERIFICAR",L66) -> 7.74 | G66: =IF(M66=0,"VERIFICAR",M66) -> 7.74 | H66: =IF(N66=0,"VERIFICAR",N66) -> 7.74 | I66: =IF(OR(L66=0,M66=0,N66=0),"SEM VALOR","COM VALOR") -> COM VALOR | L66: 7.74 | M66: 7.74 | N66: 7.74
A67: MATERIAL | B67: 34 | C67: ACO CA-50, 10,0 MM, VERGALHAO | D67: KG | E67: CR | F67: =IF(L67=0,"VERIFICAR",L67) -> 7.78 | G67: =IF(M67=0,"VERIFICAR",M67) -> 7.78 | H67: =IF(N67=0,"VERIFICAR",N67) -> 7.78 | I67: =IF(OR(L67=0,M67=0,N67=0),"SEM VALOR","COM VALOR") -> COM VALOR | L67: 7.78 | M67: 7.78 | N67: 7.78
A68: MATERIAL | B68: 43055 | C68: ACO CA-50, 12,5 MM OU 16,0 MM, VERGALHAO | D68: KG | E68: C | F68: =IF(L68=0,"VERIFICAR",L68) -> 6.74 | G68: =IF(M68=0,"VERIFICAR",M68) -> 6.74 | H68: =IF(N68=0,"VERIFICAR",N68) -> 6.74 | I68: =IF(OR(L68=0,M68=0,N68=0),"SEM VALOR","COM VALOR") -> COM VALOR | L68: 6.74 | M68: 6.74 | N68: 6.74
... A77: MATERIAL | B77: 43060 | C77: ACO CA-60, 8,0 MM OU 9,5 MM, VERGALHAO | D77: KG | E77: CR | F77: =IF(L77=0,"VERIFICAR",L77) -> 6.41 | G77: =IF(M77=0,"VERIFICAR",M77) -> 6.41 | H77: =IF(N77=0,"VERIFICAR",N77) -> 6.41 | I77: =IF(OR(L77=0,M77=0,N77=0),"SEM VALOR","COM VALOR") -> COM VALOR | L77: 6.41 | M77: 6.41 | N77: 6.41
A78: MATERIAL | B78: 40410 | C78: ACOPLAMENTO RIGIDO EM FERRO FUNDIDO PARA SISTEMA DE TUBULACAO RANHURADA, DN 50 MM (2") | D78: UN | E78: C | F78: =IF(L78=0,"VERIFICAR",L78) -> VERIFICAR | G78: =IF(M78=0,"VERIFICAR",M78) -> VERIFICAR | H78: =IF(N78=0,"VERIFICAR",N78) -> VERIFICAR | I78: =IF(OR(L78=0,M78=0,N78=0),"SEM VALOR","COM VALOR") -> SEM VALOR
A79: MATERIAL | B79: 40411 | C79: ACOPLAMENTO RIGIDO EM FERRO FUNDIDO PARA SISTEMA DE TUBULACAO RANHURADA, DN 65 MM (2 1/2") | D79: UN | E79: CR | F79: =IF(L79=0,"VERIFICAR",L79) -> VERIFICAR | G79: =IF(M79=0,"VERIFICAR",M79) -> VERIFICAR | H79: =IF(N79=0,"VERIFICAR",N79) -> VERIFICAR | I79: =IF(OR(L79=0,M79=0,N79=0),"SEM VALOR","COM VALOR") -> SEM VALOR
A80: MATERIAL | B80: 40412 | C80: ACOPLAMENTO RIGIDO EM FERRO FUNDIDO PARA SISTEMA DE TUBULACAO RANHURADA, DN 80 MM (3") | D80: UN | E80: CR | F80: =IF(L80=0,"VERIFICAR",L80) -> VERIFICAR | G80: =IF(M80=0,"VERIFICAR",M80) -> VERIFICAR | H80: =IF(N80=0,"VERIFICAR",N80) -> VERIFICAR | I80: =IF(OR(L80=0,M80=0,N80=0),"SEM VALOR","COM VALOR") -> SEM VALOR
...

Sheet SICRO
A1: GRUPO | B1: CÓDIGO | C1: DISCRIMINAÇÃO | D1: UNID | F1: PUNIT | G1: PUNIT | H1: REAJUSTE | I1: SICRO JANEIRO/26
A2: Drenagem | B2: M0131 | C2: Tubo PEAD corrugado com paredes estruturadas para drenagem - D = 400 mm | D2: m | E2: 209.0407 | F2: =E2*H2 -> 210.61 | H2: =IF(A2="Sem Reajuste",$R$6,IF(A2="Terraplenagem",$R$7,IF(A2="Obras Arte Especiais",$R$8,IF(A2="Pavimentação",$R$9,IF(A2="Drenagem",$R$10,IF(A2="Sinalização Vertical",$R$11,IF(A2="Administração Local",$R$12,IF(A2="Obras Compl e Meio Ambiente",$R$13,IF(A2="Sinalização Horizontal",$R$14,0))))))))) -> 1.0075121
A3: Drenagem | B3: M0132 | C3: Tubo PEAD corrugado com paredes estruturadas para drenagem - D = 450 mm | D3: m | E3: 278.9925 | F3: =E3*H3 -> 281.09 | H3: =IF(A3="Sem Reajuste",$R$6,IF(A3="Terraplenagem",$R$7,IF(A3="Obras Arte Especiais",$R$8,IF(A3="Pavimentação",$R$9,IF(A3="Drenagem",$R$10,IF(A3="Sinalização Vertical",$R$11,IF(A3="Administração Local",$R$12,IF(A3="Obras Compl e Meio Ambiente",$R$13,IF(A3="Sinalização Horizontal",$R$14,0))))))))) -> 1.0075121
A4: Drenagem | B4: M0133 | C4: Tubo PEAD corrugado com paredes estruturadas para drenagem - D = 500 mm | D4: m | E4: 371.9877 | F4: =E4*H4 -> 374.78 | H4: =IF(A4="Sem Reajuste",$R$6,IF(A4="Terraplenagem",$R$7,IF(A4="Obras Arte Especiais",$R$8,IF(A4="Pavimentação",$R$9,IF(A4="Drenagem",$R$10,IF(A4="Sinalização Vertical",$R$11,IF(A4="Administração Local",$R$12,IF(A4="Obras Compl e Meio Ambiente",$R$13,IF(A4="Sinalização Horizontal",$R$14,0))))))))) -> 1.0075121 | O4: ÍNDICE REAJUSTAMENTO SICRO - Ver Instrução Normativa 59/2021 do DNIT
A5: Drenagem | B5: M0134 | C5: Tubo PEAD corrugado com paredes estruturadas para drenagem - D = 600 mm | D5: m | E5: 515.5156 | F5: =E5*H5 -> 519.39 | H5: =IF(A5="Sem Reajuste",$R$6,IF(A5="Terraplenagem",$R$7,IF(A5="Obras Arte Especiais",$R$8,IF(A5="Pavimentação",$R$9,IF(A5="Drenagem",$R$10,IF(A5="Sinalização Vertical",$R$11,IF(A5="Administração Local",$R$12,IF(A5="Obras Compl e Meio Ambiente",$R$13,IF(A5="Sinalização Horizontal",$R$14,0))))))))) -> 1.0075121 | O5: DESCRIÇÃO | P5: 46023 | Q5: 46082 | R5: REAJUSTE
A6: Drenagem | B6: M0135 | C6: Tubo PEAD corrugado com paredes estruturadas para drenagem - D = 750 mm | D6: m | E6: 760.421 | F6: =E6*H6 -> 766.13 | H6: =IF(A6="Sem Reajuste",$R$6,IF(A6="Terraplenagem",$R$7,IF(A6="Obras Arte Especiais",$R$8,IF(A6="Pavimentação",$R$9,IF(A6="Drenagem",$R$10,IF(A6="Sinalização Vertical",$R$11,IF(A6="Administração Local",$R$12,IF(A6="Obras Compl e Meio Ambiente",$R$13,IF(A6="Sinalização Horizontal",$R$14,0))))))))) -> 1.0075121 | O6: Sem Reajuste | R6: 1
A7: Drenagem | B7: M0136 | C7: Tubo PEAD corrugado com paredes estruturadas para drenagem - D = 800 mm | D7: m | E7: 802.2734 | F7: =E7*H7 -> 808.3 | H7: =IF(A7="Sem Reajuste",$R$6,IF(A7="Terraplenagem",$R$7,IF(A7="Obras Arte Especiais",$R$8,IF(A7="Pavimentação",$R$9,IF(A7="Drenagem",$R$10,IF(A7="Sinalização Vertical",$R$11,IF(A7="Administração Local",$R$12,IF(A7="Obras Compl e Meio Ambiente",$R$13,IF(A7="Sinalização Horizontal",$R$14,0))))))))) -> 1.0075121 | O7: Terraplenagem | P7: 505.533 | Q7: 518.129 | R7: =Q7/P7 -> 1.0249163
A8: Drenagem | B8: M0137 | C8: Tubo PEAD corrugado com paredes estruturadas para drenagem - D = 900 mm | D8: m | E8: 1365.9837 | F8: =E8*H8 -> 1376.25 | H8: =IF(A8="Sem Reajuste",$R$6,IF(A8="Terraplenagem",$R$7,IF(A8="Obras Arte Especiais",$R$8,IF(A8="Pavimentação",$R$9,IF(A8="Drenagem",$R$10,IF(A8="Sinalização Vertical",$R$11,IF(A8="Administração Local",$R$12,IF(A8="Obras Compl e Meio Ambiente",$R$13,IF(A8="Sinalização Horizontal",$R$14,0))))))))) -> 1.0075121 | O8: Obras Arte Especiais | P8: 503.558 | Q8: 508.061 | R8: =Q8/P8 -> 1.0089424
A9: Drenagem | B9: M0138 | C9: Ancoragem ativa para 19 cordoalhas - D = 15,2 mm | D9: un | E9: 2080.6339 | F9: 2158.96 | H9: =IF(A9="Sem Reajuste",$R$6,IF(A9="Terraplenagem",$R$7,IF(A9="Obras Arte Especiais",$R$8,IF(A9="Pavimentação",$R$9,IF(A9="Drenagem",$R$10,IF(A9="Sinalização Vertical",$R$11,IF(A9="Administração Local",$R$12,IF(A9="Obras Compl e Meio Ambiente",$R$13,IF(A9="Sinalização Horizontal",$R$14,0))))))))) -> 1.0075121 | O9: Pavimentação | P9: 593.167 | Q9: 599.279 | R9: =Q9/P9 -> 1.010304
A10: Drenagem | B10: M0139 | C10: Tubo PEAD corrugado com paredes estruturadas para drenagem - D = 1.000 mm | D10: m | E10: 1418.1352 | F10: =E10*H10 -> 1428.79 | H10: =IF(A10="Sem Reajuste",$R$6,IF(A10="Terraplenagem",$R$7,IF(A10="Obras Arte Especiais",$R$8,IF(A10="Pavimentação",$R$9,IF(A10="Drenagem",$R$10,IF(A10="Sinalização Vertical",$R$11,IF(A10="Administração Local",$R$12,IF(A10="Obras Compl e Meio Ambiente",$R$13,IF(A10="Sinalização Horizontal",$R$14,0))))))))) -> 1.0075121 | O10: Drenagem | P10: 495.866 | Q10: 499.591 | R10: =Q10/P10 -> 1.0075121
A11: Drenagem | B11: M0140 | C11: Bentonita | D11: kg | E11: 3.5002 | F11: =E11*H11 -> 3.53 | H11: =IF(A11="Sem Reajuste",$R$6,IF(A11="Terraplenagem",$R$7,IF(A11="Obras Arte Especiais",$R$8,IF(A11="Pavimentação",$R$9,IF(A11="Drenagem",$R$10,IF(A11="Sinalização Vertical",$R$11,IF(A11="Administração Local",$R$12,IF(A11="Obras Compl e Meio Ambiente",$R$13,IF(A11="Sinalização Horizontal",$R$14,0))))))))) -> 1.0075121 | O11: Sinalização Vertical | P11: 274.023 | Q11: 276.907 | R11: =Q11/P11 -> 1.0105247
A12: Drenagem | B12: M0141 | C12: Tubo PEAD corrugado com paredes estruturadas para drenagem - D = 1.050 mm | D12: m | E12: 1458.5081 | F12: =E12*H12 -> 1469.46 | H12: =IF(A12="Sem Reajuste",$R$6,IF(A12="Terraplenagem",$R$7,IF(A12="Obras Arte Especiais",$R$8,IF(A12="Pavimentação",$R$9,IF(A12="Drenagem",$R$10,IF(A12="Sinalização Vertical",$R$11,IF(A12="Administração Local",$R$12,IF(A12="Obras Compl e Meio Ambiente",$R$13,IF(A12="Sinalização Horizontal",$R$14,0))))))))) -> 1.0075121 | O12: Administração Local | P12: 161.42 | Q12: 162.845 | R12: =Q12/P12 -> 1.0088279
A13: Drenagem | B13: M0142 | C13: Tubo PEAD corrugado com paredes estruturadas para drenagem - D = 1.200 mm | D13: m | E13: 1933.3742 | F13: =E13*H13 -> 1947.9 | H13: =IF(A13="Sem Reajuste",$R$6,IF(A13="Terraplenagem",$R$7,IF(A13="Obras Arte Especiais",$R$8,IF(A13="Pavimentação",$R$9,IF(A13="Drenagem",$R$10,IF(A13="Sinalização Vertical",$R$11,IF(A13="Administração Local",$R$12,IF(A13="Obras Compl e Meio Ambiente",$R$13,IF(A13="Sinalização Horizontal",$R$14,0))))))))) -> 1.0075121 | O13: Obras Compl e Meio Ambiente | P13: 168.947 | Q13: 172.197 | R13: =Q13/P13 -> 1.0192368
A14: Drenagem | B14: M0143 | C14: Tubo PEAD corrugado com paredes estruturadas para drenagem - D = 1.500 mm | D14: m | E14: 3511.3647 | F14: =E14*H14 -> 3537.74 | H14: =IF(A14="Sem Reajuste",$R$6,IF(A14="Terraplenagem",$R$7,IF(A14="Obras Arte Especiais",$R$8,IF(A14="Pavimentação",$R$9,IF(A14="Drenagem",$R$10,IF(A14="Sinalização Vertical",$R$11,IF(A14="Administração Local",$R$12,IF(A14="Obras Compl e Meio Ambiente",$R$13,IF(A14="Sinalização Horizontal",$R$14,0))))))))) -> 1.0075121 | O14: Sinalização Horizontal | P14: 469.732 | Q14: 473.213 | R14: =Q14/P14 -> 1.0074106
A15: Drenagem | B15: M0107 | C15: Geocomposto para drenagem | D15: m² | E15: 46.3992 | F15: =E15*H15 -> 46.75 | H15: =IF(A15="Sem Reajuste",$R$6,IF(A15="Terraplenagem",$R$7,IF(A15="Obras Arte Especiais",$R$8,IF(A15="Pavimentação",$R$9,IF(A15="Drenagem",$R$10,IF(A15="Sinalização Vertical",$R$11,IF(A15="Administração Local",$R$12,IF(A15="Obras Compl e Meio Ambiente",$R$13,IF(A15="Sinalização Horizontal",$R$14,0))))))))) -> 1.0075121
A16: Terraplenagem | B16: M1446 | C16: Geogrelha bidirecional em polipropileno extrudado - resistência à tração de 30 kN/m, deformação inferior a 5% e malha de 36 x 34 mm | D16: m² | E16: 41.7827 | F16: =E16*H16 -> 42.82 | H16: =IF(A16="Sem Reajuste",$R$6,IF(A16="Terraplenagem",$R$7,IF(A16="Obras Arte Especiais",$R$8,IF(A16="Pavimentação",$R$9,IF(A16="Drenagem",$R$10,IF(A16="Sinalização Vertical",$R$11,IF(A16="Administração Local",$R$12,IF(A16="Obras Compl e Meio Ambiente",$R$13,IF(A16="Sinalização Horizontal",$R$14,0))))))))) -> 1.0249163
A17: Terraplenagem | B17: M1447 | C17: Geogrelha unidirecional em poliéster - resistência à tração longitudinal de 50 kN/m | D17: m² | E17: 21.723 | F17: =E17*H17 -> 22.26 | H17: =IF(A17="Sem Reajuste",$R$6,IF(A17="Terraplenagem",$R$7,IF(A17="Obras Arte Especiais",$R$8,IF(A17="Pavimentação",$R$9,IF(A17="Drenagem",$R$10,IF(A17="Sinalização Vertical",$R$11,IF(A17="Administração Local",$R$12,IF(A17="Obras Compl e Meio Ambiente",$R$13,IF(A17="Sinalização Horizontal",$R$14,0))))))))) -> 1.0249163
A18: Terraplenagem | B18: M1448 | C18: Geogrelha unidirecional em poliéster - resistência à tração longitudinal de 90 kN/m | D18: m² | E18: 28.0972 | F18: =E18*H18 -> 28.8 | H18: =IF(A18="Sem Reajuste",$R$6,IF(A18="Terraplenagem",$R$7,IF(A18="Obras Arte Especiais",$R$8,IF(A18="Pavimentação",$R$9,IF(A18="Drenagem",$R$10,IF(A18="Sinalização Vertical",$R$11,IF(A18="Administração Local",$R$12,IF(A18="Obras Compl e Meio Ambiente",$R$13,IF(A18="Sinalização Horizontal",$R$14,0))))))))) -> 1.0249163
A19: Terraplenagem | B19: M1449 | C19: Geogrelha unidirecional em poliéster - resistência à tração longitudinal de 100 kN/m | D19: m² | E19: 29.0993 | F19: =E19*H19 -> 29.82 | H19: =IF(A19="Sem Reajuste",$R$6,IF(A19="Terraplenagem",$R$7,IF(A19="Obras Arte Especiais",$R$8,IF(A19="Pavimentação",$R$9,IF(A19="Drenagem",$R$10,IF(A19="Sinalização Vertical",$R$11,IF(A19="Administração Local",$R$12,IF(A19="Obras Compl e Meio Ambiente",$R$13,IF(A19="Sinalização Horizontal",$R$14,0))))))))) -> 1.0249163
A20: Terraplenagem | B20: M1450 | C20: Geogrelha unidirecional em poliéster - resistência à tração longitudinal de 150 kN/m | D20: m² | E20: 31.2171 | F20: =E20*H20 -> 31.99 | H20: =IF(A20="Sem Reajuste",$R$6,IF(A20="Terraplenagem",$R$7,IF(A20="Obras Arte Especiais",$R$8,IF(A20="Pavimentação",$R$9,IF(A20="Drenagem",$R$10,IF(A20="Sinalização Vertical",$R$11,IF(A20="Administração Local",$R$12,IF(A20="Obras Compl e Meio Ambiente",$R$13,IF(A20="Sinalização Horizontal",$R$14,0))))))))) -> 1.0249163
A21: Terraplenagem | B21: M1451 | C21: Geogrelha unidirecional em poliéster - resistência à tração longitudinal de 200 kN/m | D21: m² | E21: 41.3001 | F21: =E21*H21 -> 42.33 | H21: =IF(A21="Sem Reajuste",$R$6,IF(A21="Terraplenagem",$R$7,IF(A21="Obras Arte Especiais",$R$8,IF(A21="Pavimentação",$R$9,IF(A21="Drenagem",$R$10,IF(A21="Sinalização Vertical",$R$11,IF(A21="Administração Local",$R$12,IF(A21="Obras Compl e Meio Ambiente",$R$13,IF(A21="Sinalização Horizontal",$R$14,0))))))))) -> 1.0249163
A22: Terraplenagem | B22: M1452 | C22: Geogrelha unidirecional em poliéster - resistência à tração longitudinal de 300 kN/m | D22: m² | E22: 61.4454 | F22: =E22*H22 -> 62.98 | H22: =IF(A22="Sem Reajuste",$R$6,IF(A22="Terraplenagem",$R$7,IF(A22="Obras Arte Especiais",$R$8,IF(A22="Pavimentação",$R$9,IF(A22="Drenagem",$R$10,IF(A22="Sinalização Vertical",$R$11,IF(A22="Administração Local",$R$12,IF(A22="Obras Compl e Meio Ambiente",$R$13,IF(A22="Sinalização Horizontal",$R$14,0))))))))) -> 1.0249163
A23: Terraplenagem | B23: M1453 | C23: Geogrelha unidirecional em poliéster - resistência à tração longitudinal de 400 kN/m | D23: m² | E23: 81.5699 | F23: =E23*H23 -> 83.6 | H23: =IF(A23="Sem Reajuste",$R$6,IF(A23="Terraplenagem",$R$7,IF(A23="Obras Arte Especiais",$R$8,IF(A23="Pavimentação",$R$9,IF(A23="Drenagem",$R$10,IF(A23="Sinalização Vertical",$R$11,IF(A23="Administração Local",$R$12,IF(A23="Obras Compl e Meio Ambiente",$R$13,IF(A23="Sinalização Horizontal",$R$14,0))))))))) -> 1.0249163
A24: Pavimentação | B24: M2147 | C24: Dente de corte para recicladora | D24: un | E24: 54.0139 | F24: =E24*H24 -> 54.57 | H24: =IF(A24="Sem Reajuste",$R$6,IF(A24="Terraplenagem",$R$7,IF(A24="Obras Arte Especiais",$R$8,IF(A24="Pavimentação",$R$9,IF(A24="Drenagem",$R$10,IF(A24="Sinalização Vertical",$R$11,IF(A24="Administração Local",$R$12,IF(A24="Obras Compl e Meio Ambiente",$R$13,IF(A24="Sinalização Horizontal",$R$14,0))))))))) -> 1.010304
A25: Pavimentação | B25: M2148 | C25: Porta dente de corte para fresadora e recicladora a frio | D25: un | E25: 535.5913 | F25: =E25*H25 -> 541.11 | H25: =IF(A25="Sem Reajuste",$R$6,IF(A25="Terraplenagem",$R$7,IF(A25="Obras Arte Especiais",$R$8,IF(A25="Pavimentação",$R$9,IF(A25="Drenagem",$R$10,IF(A25="Sinalização Vertical",$R$11,IF(A25="Administração Local",$R$12,IF(A25="Obras Compl e Meio Ambiente",$R$13,IF(A25="Sinalização Horizontal",$R$14,0))))))))) -> 1.010304
A26: Pavimentação | B26: M2153 | C26: Coroa de diamante linha HWG | D26: un | E26: 1939.2894 | F26: =E26*H26 -> 1959.27 | H26: =IF(A26="Sem Reajuste",$R$6,IF(A26="Terraplenagem",$R$7,IF(A26="Obras Arte Especiais",$R$8,IF(A26="Pavimentação",$R$9,IF(A26="Drenagem",$R$10,IF(A26="Sinalização Vertical",$R$11,IF(A26="Administração Local",$R$12,IF(A26="Obras Compl e Meio Ambiente",$R$13,IF(A26="Sinalização Horizontal",$R$14,0))))))))) -> 1.010304
... A30: Sinalização Vertical | B30: E9687 I | C30: Caminhão carroceria com capacidade de 5 t - 115 kW | D30: chi | E30: 68.9883 | F30: =E30*H30 -> 69.71 | H30: =IF(A30="Sem Reajuste",$R$6,IF(A30="Terraplenagem",$R$7,IF(A30="Obras Arte Especiais",$R$8,IF(A30="Pavimentação",$R$9,IF(A30="Drenagem",$R$10,IF(A30="Sinalização Vertical",$R$11,IF(A30="Administração Local",$R$12,IF(A30="Obras Compl e Meio Ambiente",$R$13,IF(A30="Sinalização Horizontal",$R$14,0))))))))) -> 1.0105247
A31: Terraplenagem | B31: 5501700 | C31: Desmatamento, destocamento, limpeza de área e estocagem do material de limpeza com árvores de diâmetro até 0,15 m | D31: m² | E31: 0.76 | F31: =E31*H31 -> 0.78 | H31: =IF(A31="Sem Reajuste",$R$6,IF(A31="Terraplenagem",$R$7,IF(A31="Obras Arte Especiais",$R$8,IF(A31="Pavimentação",$R$9,IF(A31="Drenagem",$R$10,IF(A31="Sinalização Vertical",$R$11,IF(A31="Administração Local",$R$12,IF(A31="Obras Compl e Meio Ambiente",$R$13,IF(A31="Sinalização Horizontal",$R$14,0))))))))) -> 1.0249163
A32: Terraplenagem | B32: 5501701 | C32: Destocamento de árvores com diâmetro de 0,15 a 0,30 m | D32: un | E32: 55.91 | F32: =E32*H32 -> 57.3 | H32: =IF(A32="Sem Reajuste",$R$6,IF(A32="Terraplenagem",$R$7,IF(A32="Obras Arte Especiais",$R$8,IF(A32="Pavimentação",$R$9,IF(A32="Drenagem",$R$10,IF(A32="Sinalização Vertical",$R$11,IF(A32="Administração Local",$R$12,IF(A32="Obras Compl e Meio Ambiente",$R$13,IF(A32="Sinalização Horizontal",$R$14,0))))))))) -> 1.0249163
A33: Terraplenagem | B33: 4915768 | C33: Corte e remoção de árvores | D33: m³ | E33: 16.41 | F33: =E33*H33 -> 16.82 | H33: =IF(A33="Sem Reajuste",$R$6,IF(A33="Terraplenagem",$R$7,IF(A33="Obras Arte Especiais",$R$8,IF(A33="Pavimentação",$R$9,IF(A33="Drenagem",$R$10,IF(A33="Sinalização Vertical",$R$11,IF(A33="Administração Local",$R$12,IF(A33="Obras Compl e Meio Ambiente",$R$13,IF(A33="Sinalização Horizontal",$R$14,0))))))))) -> 1.0249163
A34: Terraplenagem | B34: 5502985 | C34: Limpeza mecanizada da camada vegetal | D34: m² | E34: 0.82 | F34: =E34*H34 -> 0.84 | H34: =IF(A34="Sem Reajuste",$R$6,IF(A34="Terraplenagem",$R$7,IF(A34="Obras Arte Especiais",$R$8,IF(A34="Pavimentação",$R$9,IF(A34="Drenagem",$R$10,IF(A34="Sinalização Vertical",$R$11,IF(A34="Administração Local",$R$12,IF(A34="Obras Compl e Meio Ambiente",$R$13,IF(A34="Sinalização Horizontal",$R$14,0))))))))) -> 1.0249163
A35: Terraplenagem | B35: 2003866 | C35: Aplicação de geotêxtil não-tecido agulhado com resistência à tração longitudinal de 14 kN/m | D35: m² | E35: 7.67 | F35: =E35*H35 -> 7.86 | H35: =IF(A35="Sem Reajuste",$R$6,IF(A35="Terraplenagem",$R$7,IF(A35="Obras Arte Especiais",$R$8,IF(A35="Pavimentação",$R$9,IF(A35="Drenagem",$R$10,IF(A35="Sinalização Vertical",$R$11,IF(A35="Administração Local",$R$12,IF(A35="Obras Compl e Meio Ambiente",$R$13,IF(A35="Sinalização Horizontal",$R$14,0))))))))) -> 1.0249163
A36: Terraplenagem | B36: 2003867 | C36: Aplicação de geotêxtil não-tecido agulhado com resistência à tração longitudinal de 31 kN/m | D36: m² | E36: 17.01 | F36: =E36*H36 -> 17.43 | H36: =IF(A36="Sem Reajuste",$R$6,IF(A36="Terraplenagem",$R$7,IF(A36="Obras Arte Especiais",$R$8,IF(A36="Pavimentação",$R$9,IF(A36="Drenagem",$R$10,IF(A36="Sinalização Vertical",$R$11,IF(A36="Administração Local",$R$12,IF(A36="Obras Compl e Meio Ambiente",$R$13,IF(A36="Sinalização Horizontal",$R$14,0))))))))) -> 1.0249163
A37: Terraplenagem | B37: 1516298 | C37: Geogrelha unidirecional com resistência à tração de 100 kN/m - fornecimento e instalação | D37: m² | E37: 30.89 | F37: =E37*H37 -> 31.66 | H37: =IF(A37="Sem Reajuste",$R$6,IF(A37="Terraplenagem",$R$7,IF(A37="Obras Arte Especiais",$R$8,IF(A37="Pavimentação",$R$9,IF(A37="Drenagem",$R$10,IF(A37="Sinalização Vertical",$R$11,IF(A37="Administração Local",$R$12,IF(A37="Obras Compl e Meio Ambiente",$R$13,IF(A37="Sinalização Horizontal",$R$14,0))))))))) -> 1.0249163
A38: Terraplenagem | B38: 1516299 | C38: Geogrelha unidirecional com resistência à tração de 150 kN/m - fornecimento e instalação | D38: m² | E38: 33.12 | F38: =E38*H38 -> 33.95 | H38: =IF(A38="Sem Reajuste",$R$6,IF(A38="Terraplenagem",$R$7,IF(A38="Obras Arte Especiais",$R$8,IF(A38="Pavimentação",$R$9,IF(A38="Drenagem",$R$10,IF(A38="Sinalização Vertical",$R$11,IF(A38="Administração Local",$R$12,IF(A38="Obras Compl e Meio Ambiente",$R$13,IF(A38="Sinalização Horizontal",$R$14,0))))))))) -> 1.0249163
A39: Terraplenagem | B39: 1516300 | C39: Geogrelha unidirecional com resistência à tração de 200 kN/m - fornecimento e instalação | D39: m² | E39: 43.7 | F39: =E39*H39 -> 44.79 | H39: =IF(A39="Sem Reajuste",$R$6,IF(A39="Terraplenagem",$R$7,IF(A39="Obras Arte Especiais",$R$8,IF(A39="Pavimentação",$R$9,IF(A39="Drenagem",$R$10,IF(A39="Sinalização Vertical",$R$11,IF(A39="Administração Local",$R$12,IF(A39="Obras Compl e Meio Ambiente",$R$13,IF(A39="Sinalização Horizontal",$R$14,0))))))))) -> 1.0249163
A40: Terraplenagem | B40: 1516301 | C40: Geogrelha unidirecional com resistência à tração de 300 kN/m - fornecimento e instalação | D40: m² | E40: 64.98 | F40: =E40*H40 -> 66.6 | H40: =IF(A40="Sem Reajuste",$R$6,IF(A40="Terraplenagem",$R$7,IF(A40="Obras Arte Especiais",$R$8,IF(A40="Pavimentação",$R$9,IF(A40="Drenagem",$R$10,IF(A40="Sinalização Vertical",$R$11,IF(A40="Administração Local",$R$12,IF(A40="Obras Compl e Meio Ambiente",$R$13,IF(A40="Sinalização Horizontal",$R$14,0))))))))) -> 1.0249163
A41: Terraplenagem | B41: 1516302 | C41: Geogrelha unidirecional com resistência à tração de 400 kN/m - fornecimento e instalação | D41: m² | E41: 86.11 | F41: =E41*H41 -> 88.26 | H41: =IF(A41="Sem Reajuste",$R$6,IF(A41="Terraplenagem",$R$7,IF(A41="Obras Arte Especiais",$R$8,IF(A41="Pavimentação",$R$9,IF(A41="Drenagem",$R$10,IF(A41="Sinalização Vertical",$R$11,IF(A41="Administração Local",$R$12,IF(A41="Obras Compl e Meio Ambiente",$R$13,IF(A41="Sinalização Horizontal",$R$14,0))))))))) -> 1.0249163
A42: Terraplenagem | B42: 1516296 | C42: Geogrelha unidirecional com resistência à tração de 50 kN/m - fornecimento e instalação | D42: m² | E42: 23.02 | F42: =E42*H42 -> 23.59 | H42: =IF(A42="Sem Reajuste",$R$6,IF(A42="Terraplenagem",$R$7,IF(A42="Obras Arte Especiais",$R$8,IF(A42="Pavimentação",$R$9,IF(A42="Drenagem",$R$10,IF(A42="Sinalização Vertical",$R$11,IF(A42="Administração Local",$R$12,IF(A42="Obras Compl e Meio Ambiente",$R$13,IF(A42="Sinalização Horizontal",$R$14,0))))))))) -> 1.0249163
A43: Terraplenagem | B43: 1516297 | C43: Geogrelha unidirecional com resistência à tração de 90 kN/m - fornecimento e instalação | D43: m² | E43: 29.84 | F43: =E43*H43 -> 30.58 | H43: =IF(A43="Sem Reajuste",$R$6,IF(A43="Terraplenagem",$R$7,IF(A43="Obras Arte Especiais",$R$8,IF(A43="Pavimentação",$R$9,IF(A43="Drenagem",$R$10,IF(A43="Sinalização Vertical",$R$11,IF(A43="Administração Local",$R$12,IF(A43="Obras Compl e Meio Ambiente",$R$13,IF(A43="Sinalização Horizontal",$R$14,0))))))))) -> 1.0249163
...

Sheet AGESUL ONER DESON
A1: AGENCIA ESTADUAL DE GESTAO DE EMPREENDIMENTOS - AGESUL | K1: AGENCIA ESTADUAL DE GESTAO DE EMPREENDIMENTOS - AGESUL
D2: BOLETIM DE PRECOS SEM BDI (SINAPI/AGESUL) - JANEIRO/2025 (LEIS SOCIAIS - 107,52%) - MOEDA: REAL | K2: BOLETIM DE PRECOS SEM BDI (SINAPI/AGESUL) - JANEIRO/2025 (LEIS SOCIAIS - 86,39%) - MOEDA: REAL
F4: onerado
B5: CANTEIRO DE OBRAS | F5: NÃO DESONERADO | K5: DESONERADO
F6: 6 | K6: 11
A7: CODIGO | B7: S E R V I C O S | C7: UNID | D7: MATERIAL | E7: MAO OBRA | F7: TOTAL | H7: UNID | I7: MATERIAL | J7: MAO OBRA | K7: TOTAL
B8: * CANTEIRO DE OBRAS - SERVICOS GERAIS
A9: 101001101 | B9: PLACA DE OBRA EM CHAPA GALVANIZADA N. 22, ADESIVADA | C9: M2 | D9: 441.4 | E9: 66.83 | F9: 508.23 | H9: M2 | I9: 441.34 | J9: 61.89 | K9: 503.23
A10: 101001106 | B10: SINAPI - 98524 - LIMPEZA MANUAL DE VEGETACAO EM TERRENO COM ENXADA. AF_03/2024 | C10: M2 | F10: 4.42 | H10: M2 | K10: 4.1
A11: 101001111 | B11: REGULARIZACAO DO SOLO COM IRREGULARIDADES ATE 0,20 M | C11: M2 | D11: 0 | E11: 8.29 | F11: 8.29 | H11: M2 | I11: 0 | J11: 7.7 | K11: 7.7
A12: 101001116 | B12: SINAPI - 100575 - REGULARIZACAO DE SUPERFICIES COM MOTONIVELADORA. AF_09/2024 | C12: M2 | F12: 1.87 | H12: M2 | K12: 1.81
A13: 101001121 | B13: SINAPI - 98525 - LIMPEZA MECANIZADA DE CAMADA VEGETAL, VEGETACAO E PEQUENAS ARVORES (DIAMETRO DE TRONCO MENOR QUE 0,20 M), COM TRATOR DE ESTEIRAS. AF_03/2024 | C13: M2 | F13: 0.67 | H13: M2 | K13: 0.64
A14: 101001126 | B14: SINAPI - 99059 - LOCACAO CONVENCIONAL DE OBRA, UTILIZANDO GABARITO DE TABUAS CORRIDAS PONTALETADAS A CADA 2,00M - 2 UTILIZACOES. AF_03/2024 | C14: M | F14: 60.12 | H14: M | K14: 57.45
A15: 101001131 | B15: TAPUME COM TELHA TRAPEZOIDAL EM ACO GALVANIZADO, ESP=0,50MM, ESTRUTURA EM MADEIRA NAO APARELHADA (REAPROVEITAMENTO DA TELHA DE 3X), INCLUSO PINTURA LATEX EXTERNAMENTE | C15: M2 | D15: 56.71 | E15: 18.41 | F15: 75.12 | H15: M2 | I15: 56.24 | J15: 16.99 | K15: 73.23
A16: 101001136 | B16: PORTAO PARA TAPUME COM TELHA TRAPEZOIDAL EM ACO GALVANIZADO, ESP=0,5MM, EM ESTRUTURA DE MADEIRA, INCLUSIVE FERRAGENS (REAPROVEITAMENTO DA TELHA DE 3X), INCLUSO PINTURA LATEX EXTERNAMENTE | C16: M2 | D16: 54.99 | E16: 23.2 | F16: 78.19 | H16: M2 | I16: 54.59 | J16: 21.44 | K16: 76.03
A17: 101001141 | B17: EXECUCAO DE ESCRITORIO EM CANTEIRO DE OBRAS, FORA DA PROJECAO DA LAJE, EM CHAPA DE MADEIRA COMPENSADA, NAO INCLUSO MOBILIARIO E EQUIPAMENTOS | C17: M2 | D17: 1035.15 | E17: 0 | F17: 1035.15 | H17: M2 | I17: 1010.57 | J17: 0 | K17: 1010.57
A18: 101001146 | B18: EXECUCAO DE ALMOXARIFADO EM CANTEIRO DE OBRAS, FORA DA PROJECAO DA LAJE, EM CHAPA DE MADEIRA COMPENSADA, NAO INCLUSO MOBILIARIO E EQUIPAMENTOS | C18: M2 | D18: 658.1 | E18: 0 | F18: 658.1 | H18: M2 | I18: 643.1 | J18: 0 | K18: 643.1
A19: 101001151 | B19: EXECUCAO DE REFEITORIO EM CANTEIRO DE OBRAS, FORA DA PROJECAO DA LAJE, EM CHAPA DE MADEIRA COMPENSADA, NAO INCLUSO MOBILIARIO E EQUIPAMENTOS | C19: M2 | D19: 694.56 | E19: 0 | F19: 694.56 | H19: M2 | I19: 678.79 | J19: 0 | K19: 678.79
A20: 101001156 | B20: BEBEDOURO INDUSTRIAL DE COLUNA EM ACO INOX, CAPACIDADE DE 50 LITROS, 2 TORNEIRAS, KIT INSTALACAO E FILTRO BACTERIOLOGICO, REF. KX-05 DA KNOX OU SIMILAR (REAPROVEITAMENTO DE 6X) | C20: UN | D20: 484.59 | E20: 22.86 | F20: 507.45 | H20: UN | I20: 484.59 | J20: 21.09 | K20: 505.68
A21: 101001161 | B21: EXECUCAO DE SANITARIO E VESTIARIO EM CANTEIRO DE OBRAS, FORA DA PROJECAO DA LAJE, EM CHAPA DE MADEIRA COMPENSADA, NAO INCLUSO MOBILIARIO | C21: M2 | D21: 938.82 | E21: 0 | F21: 938.82 | H21: M2 | I21: 916.41 | J21: 0 | K21: 916.41
A22: 101001166 | B22: EXECUCAO DE CENTRAL DE FORMAS, PRODUCAO DE ARGAMASSA OU CONCRETO EM CANTEIRO DE OBRAS, NAO INCLUSO MOBILIARIO E EQUIPAMENTOS | C22: M2 | D22: 733.24 | E22: 0 | F22: 733.24 | H22: M2 | I22: 716.16 | J22: 0 | K22: 716.16
A23: 101001168 | B23: EXECUCAO DE CENTRAL DE ARMADURA EM CANTEIRO DE OBRA, NAO INCLUSO MOBILIARIO E EQUIPAMENTOS | C23: M2 | D23: 239.37 | E23: 0 | F23: 239.37 | H23: M2 | I23: 233.83 | J23: 0 | K23: 233.83
A24: 101001171 | B24: EXECUCAO DE RESERVATORIO ELEVADO DE AGUA (2000 LITROS) EM CANTEIRO DE OBRAS, APOIADO EM ESTRUTURA DE MADEIRA | C24: UN | D24: 12162.51 | E24: 0 | F24: 12162.51 | H24: UN | I24: 11962.21 | J24: 0 | K24: 11962.21
A25: 101001176 | B25: LOCACAO DE BANHEIRO QUIMICO, INCLUSO 4 HIGIENIZACOES, MOBILIZACAO E DESMOBILIZACAO | C25: MES | D25: 1400 | E25: 0 | F25: 1400 | H25: MES | I25: 1400 | J25: 0 | K25: 1400
A26: 101001181 | B26: LOCACAO DE CONTAINER PARA DEPOSITO DE (2,30 X 6,00)M, ALT. 2,50M, SEM DIVISORIAS INTERNAS E SEM SANITARIO, EXC TRANSP/CARGA/DESCARGA | C26: MES | D26: 650.39 | E26: 0 | F26: 650.39 | H26: MES | I26: 650.39 | J26: 0 | K26: 650.39
... A29: 101001196 | B29: MOBILIZACAO E DESMOBILIZACAO DE CONTAINER | C29: UN | D29: 1095.92 | E29: 0 | F29: 1095.92 | H29: UN | I29: 1087.48 | J29: 0 | K29: 1087.48
A30: 101001201 | B30: SINAPI - 101197 - CERCA COM MOUROES DE CONCRETO, SECAO "T" PONTA INCLINADA, 10X10 CM, ESPACAMENTO DE 2,5 M, CRAVADOS 0,5 M, COM 11 FIOS DE ARAME FARPADO Nº 14 - FORNECIMENTO E INSTALACAO. AF_05/2020 | C30: M | F30: 117.64 | H30: M | K30: 114.1
A31: 101001206 | B31: SINAPI - 101190 - CERCA COM MOUROES DE CONCRETO, RETO, H=3,00 M, ESPACAMENTO DE 2,5 M, CRAVADOS 0,5 M, COM 4 FIOS DE ARAME DE ACO OVALADO 15X17 - FORNECIMENTO E INSTALACAO. AF_05/2020 | C31: M | F31: 61.99 | H31: M | K31: 60.09
A32: 101001211 | B32: SINAPI - 101201 - CERCA COM MOUROES DE MADEIRA, 7,5X7,5 CM, ESPACAMENTO DE 2,5 M, ALTURA LIVRE DE 2 M, CRAVADOS 0,5 M, COM 8 FIOS DE ARAME FARPADO Nº 14 CLASSE 250 - FORNECIMENTO E INSTALACAO. AF_05/2020 | C32: M | F32: 66.37 | H32: M | K32: 64.13
A33: 101001216 | B33: SINAPI - 98529 - CORTE RASO E RECORTE DE ARVORE COM DIAMETRO DE TRONCO MAIOR OU IGUAL A 0,20 M E MENOR QUE 0,40 M. AF_03/2024 | C33: UN | F33: 73.33 | H33: UN | K33: 67.96
A34: 101001221 | B34: SINAPI - 98530 - CORTE RASO E RECORTE DE ARVORE COM DIAMETRO DE TRONCO MAIOR OU IGUAL A 0,40 M E MENOR QUE 0,60 M. AF_03/2024 | C34: UN | F34: 143.93 | H34: UN | K34: 133.4
A35: 101001226 | B35: SINAPI - 98531 - CORTE RASO E RECORTE DE ARVORE COM DIAMETRO DE TRONCO MAIOR OU IGUAL A 0,60 M. AF_03/2024 | C35: UN | F35: 383.67 | H35: UN | K35: 364.68
A36: 101001231 | B36: SINAPI - 98526 - REMOCAO DE RAIZES REMANESCENTES DE TRONCO DE ARVORE COM DIAMETRO MAIOR OU IGUAL A 0,20 M E MENOR QUE 0,40 M. AF_03/2024 | C36: UN | F36: 129.22 | H36: UN | K36: 122.77
A37: 101001236 | B37: SINAPI - 98527 - REMOCAO DE RAIZES REMANESCENTES DE TRONCO DE ARVORE COM DIAMETRO MAIOR OU IGUAL A 0,40 M E MENOR QUE 0,60 M. AF_03/2024 | C37: UN | F37: 214.46 | H37: UN | K37: 203.76
A38: 101001241 | B38: SINAPI - 98528 - REMOCAO DE RAIZES REMANESCENTES DE TRONCO DE ARVORE COM DIAMETRO MAIOR OU IGUAL A 0,60 M. AF_03/2024 | C38: UN | F38: 282.65 | H38: UN | K38: 268.55
A39: 101001247 | B39: BAIA DE RESIDUOS P/ ENTULHO C/ 4 COMPARTIMENTOS: CLASSE A E B (RECICLAVEIS), CLASSE C (NAO RECICLAVEIS) E CLASSE D (PERIGOSOS), DESCOBERTA, REVESTIMENTO NO PISO DA BAIA CLASSE D, PAREDES EM TELHA DE ACO ZINCADO ONDULADAS COM H=1,10M, PISO EM TERR | C39: M2 | D39: 370.46 | E39: 15.49 | F39: 385.95 | H39: M2 | I39: 363.09 | J39: 14.32 | K39: 377.41
A40: 101001251 | B40: BAIA DE RESIDUOS P/ COLETA SELETIVA CONST. COBERTA-3 CELULAS - SENDO INTERNAMENTE 1,50X1,50M CADA CELULA -PAREDES EM CH. DE MADEIRA COMPENSADA 12MM H=1,10M, PISO EM TERRENO NATURAL FORTEMENTE APILOADO, PILARETE EM EUCALIPTO TRAT. 15CM, CONF. PROJ | C40: UN | D40: 5041.97 | E40: 740.64 | F40: 5782.61 | H40: UN | I40: 4990.36 | J40: 685.2 | K40: 5675.56
A41: 101001256 | B41: BAIA PARA AGREGADOS DESCOBERTA, MEDINDO (3,0 X 3,0 X 0,9)M, PAREDES EM CHAPA DE COMPENSADO RESINADA 6MM, ESTRUTURADA COM CAIBROS, PISO EM TERRENO NATURAL, REGULARIZADO E COMPACTADO | C41: UN | D41: 612.53 | E41: 46.49 | F41: 659.02 | H41: UN | I41: 592.55 | J41: 43.02 | K41: 635.57
B43: * CANTEIRO DE OBRAS - INSTALACOES HIDRAULICAS
A44: 101002100 | B44: INSTALACAO PROVISORIA DE AGUA E ESGOTO PARA OBRAS DE PORTE PEQUENO | C44: UN | D44: 2085.27 | E44: 315.8 | F44: 2401.07 | H44: UN | I44: 2058 | J44: 291.66 | K44: 2349.66
...

Sheet AGESUL INS ONER DESON
C1: AGÊNCIA ESTADUAL DE GESTÃO DE EMPREENDIMENTOS - AGESUL | E1: SEM DESONERAÇÃO
A2: JANEIRO/2025 | C2: CADASTRO DE MATERIAL E MÃO DE OBRA - COM DESONERAÇÃO | E2: JANEIRO/2025
G3: ONERADO | H3: DESONERADO
A4: COL 1 | B4: COL 2 | C4: COL 3 | D4: COL 4 | E4: COL 5 | F4: COL 6 | G4: COL 7 | H4: COL 8 | I4: COL 9
A5: CÓDIGO | B5: CLASSE | C5: MATERIAL OU MÃO DE OBRA | D5: UNID | E5: CÓDIGO | F5: UNID | G5: PREÇO UNIT. NÃO DESON. | H5: PREÇO UNIT. DESONERADO | I5: SINAPI
A6: 6590 | B6: 046 | C6: ABRACADEIRA PARA POSTE DE CONCRETO CIRCULAR DIAMENTRO 160MM | D6: UN | E6: 6590 | F6: UN | G6: 47.56 | H6: 47.56 | I6: N
A7: 6591 | B7: 046 | C7: ABRACADEIRA PARA POSTE DE CONCRETO CIRCULAR DIAMENTRO 200MM | D7: UN | E7: 6591 | F7: UN | G7: 39.37 | H7: 39.37 | I7: N
A8: 6593 | B8: 046 | C8: ABRACADEIRA PARA POSTE DE CONCRETO CIRCULAR DIAMENTRO 220MM | D8: UN | E8: 6593 | F8: UN | G8: 53.14 | H8: 53.14 | I8: N
A9: 6594 | B9: 046 | C9: ABRACADEIRA PARA POSTE DE CONCRETO CIRCULAR DIAMENTRO 240MM | D9: UN | E9: 6594 | F9: UN | G9: 57.89 | H9: 57.89 | I9: N
A10: 6595 | B10: 046 | C10: ABRACADEIRA PARA POSTE DE CONCRETO CIRCULAR DIAMENTRO 250MM | D10: UN | E10: 6595 | F10: UN | G10: 46.83 | H10: 46.83 | I10: N
A11: 6596 | B11: 046 | C11: ABRACADEIRA PARA POSTE DE CONCRETO CIRCULAR DIAMENTRO 290MM | D11: UN | E11: 6596 | F11: UN | G11: 52.08 | H11: 52.08 | I11: N
A12: 1024 | B12: 040 | C12: ACABAMENTO ANTIVANDALISMO COD. 01505006, DOCOL OU SIMILAR | D12: UN | E12: 1024 | F12: UN | G12: 303.9 | H12: 303.9 | I12: N
A13: 2593 | B13: 040 | C13: ACABAMENTO PARA VALVULA DE DESCARGA HYDRA ECO CONFORTO CROMADO REF. 4900.C.CONF DA DECA | D13: UN | E13: 2593 | F13: UN | G13: 462.68 | H13: 462.68 | I13: N
A14: 6950 | B14: 027 | C14: ACIDO CLORIDRICO / ACIDO MURIATICO, DILUICAO 10% A 12% PARA USO EM LIMPEZA - SINAPI - 00000003 | D14: L | E14: 6950 | F14: L | G14: 13.36 | H14: 13.36 | I14: S
A15: 6181 | B15: 042 | C15: ACIONADOR MANUAL TIPO QUEBRA VIDRO, COM MARTELO E BOTOEIRA LIGA-DESLIGA, PARA ACIONAMENTO DE BOMBA DE INCENDIO | D15: UN | E15: 6181 | F15: UN | G15: 68.24 | H15: 68.24 | I15: N
A16: 3471 | B16: 044 | C16: ACIONADOR MANUAL TIPO QUEBRA VIDRO, COM MARTELO E BOTOEIRA, PARA ALARME CONVENCIONAL, DA ILUMAC OU SIMILAR | D16: UN | E16: 3471 | F16: UN | G16: 151 | H16: 151 | I16: N
A17: 1897 | B17: 044 | C17: ACIONADOR MANUAL TIPO QUEBRA VIDRO, COM MARTELO E BOTOEIRA, PARA ALARME ENDERECAVEL, DA ILUMAC OU SIMILAR | D17: UN | E17: 1897 | F17: UN | G17: 191 | H17: 191 | I17: N
... A1425: 4050 | B1425: 012 | C1425: VIGIA NOTURNO, HORA EFETIVAMENTE TRABALHADA DE 22H AS 5H (COM ADICIONAL NOTURNO) | D1425: H | E1425: 4050 | F1425: H | G1425: 19.6 | H1425: 17.62 | I1425: N

Sheet COTACAO
A1: GRUPO | C1: Memória de Cálculo: Bits/Blocos/Porta Bits | I1: 45170 | J1: Goldpav
A2: PAV | B2: COTAÇÃO 1 | C2: COTAÇÃO 1 | D2: BITS | E2: un | G2: =E6 -> 66.5
A3: PAV | C3: SUL PEÇAS | D3: Bits para Recicladora | E3: un
A4: PAV | C4: GOLDPAV | D4: Bits para Recicladora | E4: un | G4: 82.5
A5: PAV | C5: REALPAV | D5: Bits para Recicladora | E5: un | G5: 50.5
A6: PAV | D6: Média do Preço = | E6: =MEDIAN(G4:G5) -> 66.5 | F6: =MEDIAN(D3:D4) -> #NUM! | G6: =MEDIAN(E3:E4) -> #NUM!
A7: PAV | B7: COTAÇÃO 2 | C7: COTAÇÃO 2 | D7: BLOCOS | E7: un | G7: =E11 -> 600
A8: PAV | C8: SUL PEÇAS | D8: Blocos para Recicladora | E8: un
A9: PAV | C9: GOLDPAV | D9: Blocos para Recicladora | E9: un | G9: 730
A10: PAV | C10: REALPAV | D10: Blocos para Recicladora | E10: un | G10: 470
A11: PAV | D11: Média do Preço = | E11: =MEDIAN(G9:G10) -> 600 | F11: =MEDIAN(D8:D9) -> #NUM! | G11: =MEDIAN(E8:E9) -> #NUM!
A12: PAV | B12: COTAÇÃO 3 | C12: COTAÇÃO 3 | D12: PORTA BITS | E12: un | G12: =E16 -> 257.5
A13: PAV | C13: SUL PEÇAS | D13: Porta Bits para Recicladora | E13: un
A14: PAV | C14: GOLDPAV | D14: Porta Bits para Recicladora | E14: un | G14: 235
A15: PAV | C15: REALPAV | D15: Porta Bits para Recicladora | E15: un | G15: 280
A16: PAV | D16: Média do Preço = | E16: =MEDIAN(G14:G15) -> 257.5 | F16: =MEDIAN(D13:D14) -> #NUM! | G16: =MEDIAN(E13:E14) -> #NUM!
A17: PAV | C17: Memória de Cálculo: RC 1C - Micro | I17: 46023
A18: PAV | B18: COTAÇÃO 4 | C18: COTAÇÃO 4 | D18: RC 1C | E18: T | G18: =E22 -> 5287
A19: PAV | C19: GRECA - PREÇO CIF DDS | D19: RC 1C - MICRO | E19: t | G19: 5290
A20: PAV | C20: BETUNEL - PREÇO CIF DDS | D20: RC 1C FLEX 55 | E20: t | G20: 4900
A21: PAV | C21: CASA DO ASFALTO - PREÇO CIF DDS | D21: RC 1C E | E21: t | G21: 5287
A22: PAV | C22: Mediana = | D22: Para encontrar o valor da mediana é necessário colocar os valores em ordem crescente ou decrescente. Quando o número elementos de um conjunto é par, a mediana é encontrada pela média dos dois valores centrais. Assim, esses valores são somados e divididos por dois | E22: =MEDIAN(G19:G21) -> 5287
A23: PAV | C23: Memória de Cálculo: Cotação TARUGO Poliestireno | I23: 44774
A24: PAV | B24: COTAÇÃO 5 | C24: COTAÇÃO 5 | D24: Tarugo Poliestireno, E = 30 mm | E24: m | G24: =MEDIAN(C29:C30) -> 3.55 | H24: =MEDIAN(F23:F23) -> #NUM!
A25: PAV | C25: COTAÇÃO 44513287 2,53 | D25: LEOLUD VENDEDOR SILVIA 23/08/2022 - INCLUSO DIFERENCIAL ICMS
A26: PAV | C26: COTAÇÃO 33173 1,71 | D26: PROESPUMA VENDEDOR LUCAS 16/02/2022 (R$273,90 /160 M) | K26: =273.9/160 -> 1.71
A27: PAV | C27: =688/480 -> 1.43 | D27: FRETE TRANSPORTADORA NACIONAL (R$ 459,66 / 480 M)
A28: PAV | C28: Incluindo R$ 1,43 de frete em cada preço, fica:
A29: PAV | C29: =2.53+1.43 -> 3.96 | D29: LEOLUD (INCLUSO FRETE)
A30: PAV | C30: =1.71+1.43 -> 3.14 | D30: PROESPUMA (INCLUSO FRETE)
A31: PAV | C31: Média do Preço Tarugo = | D31: (3,96 + 3,14) / 2 | E31: =G24 -> 3.55
A32: PAV | C32: Memória de Cálculo: Selante de Silicone
