Workbook

Sheet RAIZ_DADOS
A1: SINDICATO(S) DA(S) CATEGORIA(S) PROFISSIONAL(IS) ENVOLVIDA(S) NA PRESTAÇÃO DOS SERVIÇOS
A2: Sindicato das Empresa de Asseio e Conservação de MS
A4: Entrada de Dados | B4: Cláusulas da CCT | C4: Item da Planilha | D4: Valores
A5: Data Base da Categoria | B5: 1ª | D5: 1 de janeiro
A6: Salário normativo | B6: 3ª | C6: 1 - A | D6: 1651
A7: Auxílio Alimentação | B7: 14ª | C7: 2.3 - B | D7: 400
A8: Cesta Básica | B8: 12ª | C8: 2.3 - F | D8: 130 | E8: Parágrafo Quinto: O direito ao recebimento do “PRÊMIO CESTA BÁSICA”, independente da jornada de trabalho, está condicionado ao colaborador que não possuir nenhuma falta, seja ela justificada ou não ao trabalho, nenhum afastamento de suas atividades laborais (atestados ou licenças), ou seja, somente receberá o valor integral o colaborador que cumprir totalmente a sua jornada de trabalho diária e mensal bem como aqueles trabalhadores que não sofrerem nenhuma medida disciplinar (advertência formal, suspensão).
A9: Gratificação Encarregado - até 5 empregados | B9: 5ª | D9: =(135.91) -> 135.91 | E9: 44 h
A10: Gratificação Encarregado - de 6 a 20 empregados | B10: 5ª | D10: =(203.98) -> 203.98 | E10: 44 h
A11: Gratificação Encarregado - de 21 até 40 empregados | B11: 5ª | D11: =(339.91) -> 339.91 | E11: 44 h
A12: Gratificação Encarregado - acima de 40 empregados | B12: 5ª | D12: =(475.93) -> 475.93 | E12: 44 h
A13: Gratificação Jardineiro | B13: 5ª | D13: =(381.6) -> 381.6 | E13: 44 h
A14: Gratificação Limpador de Vidros | B14: 5ª | D14: =(135.91) -> 135.91 | E14: 44 h
A15: Gratificação Encarregado - até 5 empregados | B15: 5ª | D15: =(135.91/44)*30 -> 92.67 | E15: Proporcional 30 h
A16: Gratificação Encarregado - de 6 a 20 empregados | B16: 5ª | D16: =(203.98/44)*30 -> 139.08 | E16: Proporcional 30 h
A17: Gratificação Encarregado - de 21 até 40 empregados | B17: 5ª | D17: =(339.91/44)*30 -> 231.76 | E17: Proporcional 30 h
A18: Gratificação Encarregado - acima de 40 empregados | B18: 5ª | D18: =(475.93/44)*30 -> 324.5 | E18: Proporcional 30 h
A19: Gratificação Jardineiro | B19: 5ª | D19: =(381.6/44)*30 -> 260.18 | E19: Proporcional 30 h
A20: Gratificação Limpador de Vidros | B20: 5ª | D20: =(135.91/44)*30 -> 92.67 | E20: Proporcional 30 h
A21: PPS - Premiação de Posto de Serviço (Transbordo de ônibus) | B21: 11ª | D21: =112 -> 112 | E21: As partes estabelecem que os trabalhadores vinculados às empresas de asseio e conservação que prestarem serviço nos locais específicos abaixo, somente enquanto estiver prestando serviço no respectivo local, terão direito ao recebimento de um prêmio mensal de caráter indenizatório, vinculado a assiduidade, sendo devida ao empregado que, no curso do mês, não tenha faltado ao trabalho, inclusive faltas justificadas ou abonadas, e que não integrará a remuneração nos termos do §2.º do art. 457 da CLT, segundo condições e valores abaixo indicados: 1 - Os empregados que trabalharem exclusivamente em: aeroportos, estações rodoviárias, ferroviárias, centros comerciais, shopping-center, supermercados, hospitais, posto de saúde, casas de diversões, lojas de departamentos, terminais de transbordo de ônibus urbanos, farão jus a uma premiação de: R$ 112,00 2 - (...) 3 - Os empregados que trabalharem em área rural, farão jus a uma premiação mensal de: R$ 100,00 Parágrafo Terceiro: Aos trabalhadores que exercem atividades em jornada em tempo parcial, tendo em vista que sua jornada de trabalho é reduzida em comparação com as demais modalidades de jornada de trabalho, o que faz com que seja necessária uma visão isonômica sobre a premiação a que se refere a presente cláusula, fará jus a um prêmio por assiduidade equivalente a 50% (cinquenta por cento) daquele devido aos trabalhadores cuja jornada de trabalho se enquadra nas demais modalidades previstas nesta CCT
A22: PPS - Premiação de Posto de Serviço (Rodoviária) | B22: 11ª | D22: =112*50% -> 56
A23: Prêmios Especiais por posto de serviço (Escola Capilé e Fazenda Miya?) | B23: 11ª | D23: =100 -> 100
A24: Benefício Social Familiar | B24: 19ª | D24: 14.66
A25: Assistência e da inclusão social do trabalhador | B25: 20ª | D25: 6.4
A26: Jornada de trabalho da CCT: 44horas | B26: 32ª | D26: 30 h ou 40 h
A28: Entrada de Dados | B28: Ano | D28: Valores
A29: Salário mínimo (para cálculo insalubridade) | B29: 2026 | D29: 1651
A30: Percentual de Insalubridade - limpeza de banheiro | B30: 2026 | D30: 0.2
A31: Vale transporte | B31: 2026 | D31: 3 | E31: Decreto Municipal n.º 256 de 15/05/2025. Valor vigente a partir de 1º de junho de 2025
A32: RAT x FAP | D32: 0.03
A33: Média de dias trabalhados no mês | D33: 22
A34: Quantidade de passagens por dia - 30hs | D34: 2
A35: Quantidade de passagens por dia - 40hs | D35: 4

Sheet SEMSUR_TOTALIZADOR GERAL
A1: SEMSUR
A2: RESUMO - QUANTIDADE DE POSTOS
A3: Secretaria / Órgão | B3: Servente | H3: Limpador de Vidro | I3: Encarregado | J3: Encarregado | K3: Jardineiro | L3: Total Estimado na Licitação | M3: Contratação Imediata
B4: Com Adicional | C4: Com Adicional | D4: Sem Adicional | E4: Sem Adicional | F4: Externo | G4: Externo
A5: SEMSUR | B5: 1 | C5: 1 | D5: 1 | E5: 40 h | F5: 0 | G5: 2 | H5: 1 | I5: 1 | J5: 0 | K5: 1 | L5: =SUM(B5:K5) -> 8 | M5: 7
A6: Total | B6: =SUM(B5) -> 1 | C6: =SUM(C5) -> 1 | D6: =SUM(D5) -> 1 | E6: =SUM(E5) -> 0 | F6: =SUM(F5) -> 0 | G6: =SUM(G5) -> 2 | H6: =SUM(H5) -> 1 | I6: =SUM(I5) -> 1 | ... L6: =SUM(L5) -> 8 | M6: =SUM(M5:M5) -> 7
A7: CARGA HORÁRIA: | B7: 30 h | C7: 44 h | D7: 30 h | E7: 40 h | F7: 40 h | G7: 44 h | H7: 30 h | I7: 30 h | J7: 40 h | K7: 30 h
A8: PLANILHA : | B8: 4 - A | C8: 4 - B | D8: 4 - C | E8: - | F8: - | G8: 4 - D | H8: 4 - E | I8: 4 - F | J8: - | K8: 4 - G
A10: Conforme Item 5.5.2 do Termo de Referência, os serviços deverão ser prestados nos seguintes horários:
A11: =A1 -> SEMSUR
A12: a.Sede: das 07:30 às 13:30, perfazendo uma jornada de 30 horas semanais, sendo 6 (seis) horas diárias, de segunda-feira à sexta-feira.
A13: b.Cemitério Municipal: Limpeza ocorrera diariamente de segunda a sábado das 7:30 às 11:30 e das 13:30 às 17:30, de segunda a sexta, e das 7:30 às 11:30 aos sábados, perfazendo uma jornada de 44 horas semanais.
A16: =A1 -> SEMSUR
A17: RESUMO I - ESTIMATIVA REF.: CUSTEIO M.O.
A18: Planilha: | B18: Posto | E18: Valor Unitário | F18: Quantidade depostos | G18: Valor Mensal | H18: Quant. Meses | I18: Valor total estimado da contratação
A19: =B8 -> 4 - A | B19: ='SEMSUR 4-A_Servente Insal 30h'!A136 -> Servente Interno: 30 h + Insalubridade | E19: ='SEMSUR 4-A_Servente Insal 30h'!B136 -> 4543.6 | F19: ='SEMSUR 4-A_Servente Insal 30h'!E136 -> 1 | G19: =E19*F19 -> 4543.6 | H19: 12 | I19: =H19*G19 -> 54523.2
A20: =C8 -> 4 - B | B20: ='SEMSUR 4-B_Servente Insal 44 h'!A136 -> Servente Interno: 44 h + Insalubridade | E20: ='SEMSUR 4-B_Servente Insal 44 h'!B136 -> 6058.85 | F20: ='SEMSUR 4-B_Servente Insal 44 h'!E136 -> 1 | G20: =E20*F20 -> 6058.85 | H20: 12 | I20: =H20*G20 -> 72706.2
A21: =D8 -> 4 - C | B21: ='SEMSUR 4-C_Servente 30 h'!A136 -> Servente Interno: 30 h | E21: ='SEMSUR 4-C_Servente 30 h'!B136 -> 3751.81 | F21: ='SEMSUR 4-C_Servente 30 h'!E136 -> 1 | G21: =E21*F21 -> 3751.81 | H21: 12 | I21: =H21*G21 -> 45021.72
A22: =G8 -> 4 - D | B22: ='SEMSUR 4-D_Servente Ext 44 h'!A136 -> Servente Externo: 44 h | E22: ='SEMSUR 4-D_Servente Ext 44 h'!B136 -> 5267.06 | F22: ='SEMSUR 4-D_Servente Ext 44 h'!E136 -> 2 | G22: =E22*F22 -> 10534.12 | H22: 12 | I22: =H22*G22 -> 126409.44
A23: =H8 -> 4 - E | B23: ='SEMSUR 4-E_Limpador Vidros 30 h'!A136 -> Limpador de vidros: 30 h | E23: ='SEMSUR 4-E_Limpador Vidros 30 h'!B136 -> 4138.08 | F23: ='SEMSUR 4-E_Limpador Vidros 30 h'!E136 -> 1 | G23: =E23*F23 -> 4138.08 | H23: 12 | I23: =H23*G23 -> 49656.96
A24: =I8 -> 4 - F | B24: ='SEMSUR 4-F_Encarregado 30 h'!A136 -> Encarregado de limpeza: 30 h | E24: ='SEMSUR 4-F_Encarregado 30 h'!B136 -> 4132.27 | F24: ='SEMSUR 4-F_Encarregado 30 h'!E136 -> 1 | G24: =E24*F24 -> 4132.27 | H24: 12 | I24: =H24*G24 -> 49587.24
A25: =K8 -> 4 - G | B25: ='SEMSUR 4-G_Jardineiro 44 hs'!A136 -> Jardineiro: 44 h | E25: ='SEMSUR 4-G_Jardineiro 44 hs'!B136 -> 6182.17 | F25: ='SEMSUR 4-G_Jardineiro 44 hs'!E136 -> 1 | G25: =E25*F25 -> 6182.17 | H25: 12 | I25: =H25*G25 -> 74186.04
A26: TOTAL GERAL (RESUMO I - ESTIMATIVA REF.: CUSTEIO M.O. SEMSUR ): | F26: =SUM(F19:F25) -> 8 | G26: =SUM(G19:G25) -> 39340.9 | I26: =SUM(I19:I25) -> 472090.8
A28: SEMSUR
A29: RESUMO II - FORMAÇÃO DE PREÇOS APOIO TECNOLÓGICO
A30: DESCRIÇÃO | D30: QTDD | E30: Valor Unitário | F30: SUBTOTAL | G30: Quant. Mensal | H30: Total
A31: Licenças do Software de Gestão | D31: 1 | E31: 555.93 | F31: =D31*E31 -> 555.93 | G31: 12 | H31: =F31*G31 -> 6671.16
A32: Licenças Gerenciamento de frequência e Documentos | D32: 1 | E32: 555.93 | F32: =D32*E32 -> 555.93 | G32: 12 | H32: =F32*G32 -> 6671.16
A33: Terminal Biométrico | D33: 2 | E33: 194.3 | F33: =D33*E33 -> 388.6 | G33: 12 | H33: =F33*G33 -> 4663.2
A34: Dispositivos móveis (celular ou tablet) | D34: 8 | E34: 280.67 | F34: =D34*E34 -> 2245.36 | G34: 12 | H34: =F34*G34 -> 26944.32
A35: Chip de comunicação de dados para conectividade | D35: 10 | E35: 86.36 | F35: =D35*E35 -> 863.6 | G35: 12 | H35: =F35*G35 -> 10363.2
A36: Estação de trabalho completa, incluindo monitor e nobreak;(um) serviço de instalação física, rede lógica dos equipamentos e configuração dos softwares contratados | D36: 1 | E36: 269.87 | F36: =D36*E36 -> 269.87 | G36: 12 | H36: =F36*G36 -> 3238.44
A37: TOTAL GERAL RESUMO II CUSTEIO AP. TEC. SEMSUR | H37: =SUM(H31:H36) -> 58551.48
A40: PREÇO FINAL SEMSUR
A41: TOTAL DO RESUMO I SEMSUR | B41: + | C41: TOTAL DO RESUMO II SEMSUR | D41: = | E41: PREÇO FINAL (12 MESES) SEMSUR
A43: =I26 -> 472090.8 | B43: + | C43: =H37 -> 58551.48 | D43: = | E43: =A43+C43 -> 530642.28

Sheet SEMSUR 4-A_Servente Insal 30h
A1: PLANILHA DE CUSTOS E FORMAÇÃO DE PREÇOS
A2: SEMSUR 4 - SERVENTE COM INSALUBRIDADE - 30 HORAS
A3: Processo nº
A4: Pregão nº ___/2026
A5: Data do Pregão: ___ / ___ / ______
A7: I. Discriminação dos Serviços - Servente
A8: ► | B8: Data de apresentação da proposta (dia/mês/ano) | F8: ___/____/______
A9: ► | B9: Município/UF | F9: Dourados/MS
A10: ► | B10: Vigência do Acordo, Convenção ou Sentença Normativa em Dissídio Coletivo | F10: 1º/01/2026 a 31/12/2026
A11: ► | B11: Nº de meses de execução contratual | F11: 12
A13: II. Identificação do Serviço
A14: Tipo de Serviço | D14: Unidade de Medida | F14: Quantidade total a contratar
A15: Servente Interno: 30 h + Insalubridade | D15: Posto | F15: ='SEMSUR_TOTALIZADOR GERAL'!B6 -> 1
A17: Mão-de-obra vinculada à execução contratual
A18: Dados para composição dos custos referente à mão-de-obra
A19: 1 | B19: Tipo de serviço (mesmo serviço com características distintas) | F19: Limpeza e conserv.
A20: 2 | B20: Classificação Brasileira de Ocupações (CBO) | F20: 5143-20
A21: 3 | B21: Salário Normativo da Categoria Profissional 44 HRS | F21: =RAIZ_DADOS!D6 -> 1651
A22: 4 | B22: Categoria profissional (vinculada à execução contratual) | F22: Servente
A23: 5 | B23: Data base da categoria (dia/mês/ano) | F23: 1º de janeiro de 2026
A25: Módulo 1 - Composição da Remuneração
A26: 1 | B26: Composição da Remuneração | F26: Valor (R$)
A27: A | B27: Salário-Base | E27: 30 h | F27: =(F21/44)*30 -> 1125.68
A28: B | B28: Adicional de Periculosidade
A29: C | B29: Adicional de Insalubridade | E29: =RAIZ_DADOS!D30 -> 0.2 | F29: =E29*RAIZ_DADOS!D29 -> 330.2
A30: D | B30: Adicional Noturno
A31: E | B31: Adicional de Hora Noturna Reduzida
A32: F | B32: Outros (Especificar)
A33: Total | F33: =SUM(F27:F32) -> 1455.88
A35: Módulo 2 - Encargos e Benefícios Anuais, Mensais e Diários
A36: Submódulo 2.1 - 13º (décimo terceiro) Salário, Férias e Adicional de Férias
A37: 2.1 | B37: 13º (décimo terceiro) Salário, Férias e Adicional de Férias | E37: Percentual (%) | F37: Valor (R$)
A38: A | B38: 13º (décimo terceiro) Salário | E38: =1/12 -> 0.0833 | F38: =F33*E38 -> 121.27
A39: B | B39: Férias e Adicional de Férias | E39: =(1/12)+(1/3)/12 -> 0.1111 | F39: =F33*E39 -> 161.75
A40: Total | E40: =SUM(E38:E39) -> 0.1944 | F40: =SUM(F38:F39) -> 283.02
A41: C | B41: Incidência do Submódulo 2.2 sobre 13º Salário , Férias e Adicional de Férias | E41: =E40*E53 -> 0.0774 | F41: =E41*F33 -> 112.69
A42: Total | E42: =SUM(E40:E41) -> 0.2718 | F42: =SUM(F40:F41) -> 395.71
A43: Submódulo 2.2 - Encargos Previdenciários (GPS), Fundo de Garantia por Tempo de Serviço (FGTS) e outras contribuições
A44: 2.2 | B44: GPS, FGTS e outras contribuições | E44: Percentual (%) | F44: Valor (R$)
A45: A | B45: INSS | E45: 0.2 | F45: =E45*F$33 -> 291.18
...

Sheet SEMSUR 4-B_Servente Insal 44 h
A1: PLANILHA DE CUSTOS E FORMAÇÃO DE PREÇOS
A2: SEMSUR 4 - SERVENTE COM INSALUBRIDADE - 44 HORAS
A3: Processo nº
A4: Pregão nº ___/2026
A5: Data do Pregão: ___ / ___ / ______
A7: I. Discriminação dos Serviços - Servente
A8: ► | B8: Data de apresentação da proposta (dia/mês/ano) | F8: ___/____/______
A9: ► | B9: Município/UF | F9: Dourados/MS
A10: ► | B10: Vigência do Acordo, Convenção ou Sentença Normativa em Dissídio Coletivo | F10: 1º/01/2026 a 31/12/2026
A11: ► | B11: Nº de meses de execução contratual | F11: 12
A13: II. Identificação do Serviço
A14: Tipo de Serviço | D14: Unidade de Medida | F14: Quantidade total a contratar
A15: Servente Interno: 44 h + Insalubridade | D15: Posto | F15: ='SEMSUR_TOTALIZADOR GERAL'!C6 -> 1
A17: Mão-de-obra vinculada à execução contratual
A18: Dados para composição dos custos referente à mão-de-obra
A19: 1 | B19: Tipo de serviço (mesmo serviço com características distintas) | F19: Limpeza e conserv.
A20: 2 | B20: Classificação Brasileira de Ocupações (CBO) | F20: 5143-20
A21: 3 | B21: Salário Normativo da Categoria Profissional 44 HRS | F21: =RAIZ_DADOS!D6 -> 1651
A22: 4 | B22: Categoria profissional (vinculada à execução contratual) | F22: Servente
A23: 5 | B23: Data base da categoria (dia/mês/ano) | F23: 1º de janeiro de 2026
A25: Módulo 1 - Composição da Remuneração
A26: 1 | B26: Composição da Remuneração | F26: Valor (R$)
A27: A | B27: Salário-Base | E27: 44 h | F27: =F21 -> 1651
A28: B | B28: Adicional de Periculosidade
A29: C | B29: Adicional de Insalubridade | E29: 0.2 | F29: =E29*RAIZ_DADOS!D29 -> 330.2
A30: D | B30: Adicional Noturno
A31: E | B31: Adicional de Hora Noturna Reduzida
A32: F | B32: Outros (Especificar)
A33: Total | F33: =SUM(F27:F32) -> 1981.2
A35: Módulo 2 - Encargos e Benefícios Anuais, Mensais e Diários
A36: Submódulo 2.1 - 13º (décimo terceiro) Salário, Férias e Adicional de Férias
A37: 2.1 | B37: 13º (décimo terceiro) Salário, Férias e Adicional de Férias | E37: Percentual (%) | F37: Valor (R$)
A38: A | B38: 13º (décimo terceiro) Salário | E38: =1/12 -> 0.0833 | F38: =F33*E38 -> 165.03
A39: B | B39: Férias e Adicional de Férias | E39: =(1/12)+(1/3)/12 -> 0.1111 | F39: =F33*E39 -> 220.11
A40: Total | E40: =SUM(E38:E39) -> 0.1944 | F40: =SUM(F38:F39) -> 385.14
A41: C | B41: Incidência do Submódulo 2.2 sobre 13º Salário , Férias e Adicional de Férias | E41: =E40*E53 -> 0.0774 | F41: =E41*F33 -> 153.34
A42: Total | E42: =SUM(E40:E41) -> 0.2718 | F42: =SUM(F40:F41) -> 538.48
A43: Submódulo 2.2 - Encargos Previdenciários (GPS), Fundo de Garantia por Tempo de Serviço (FGTS) e outras contribuições
A44: 2.2 | B44: GPS, FGTS e outras contribuições | E44: Percentual (%) | F44: Valor (R$)
A45: A | B45: INSS | E45: 0.2 | F45: =E45*F$33 -> 396.24
...

Sheet SEMSUR 4-C_Servente 30 h
A1: PLANILHA DE CUSTOS E FORMAÇÃO DE PREÇOS
A2: SEMSUR 4 - SERVENTE - 30 HORAS
A3: Processo nº
A4: Pregão nº ___/2026
A5: Data do Pregão: ___ / ___ / ______
A7: I. Discriminação dos Serviços - Servente
A8: ► | B8: Data de apresentação da proposta (dia/mês/ano) | F8: ___/____/______
A9: ► | B9: Município/UF | F9: Dourados/MS
A10: ► | B10: Vigência do Acordo, Convenção ou Sentença Normativa em Dissídio Coletivo | F10: 1º/01/2026 a 31/12/2026
A11: ► | B11: Nº de meses de execução contratual | F11: 12
A13: II. Identificação do Serviço
A14: Tipo de Serviço | D14: Unidade de Medida | F14: Quantidade total a contratar
A15: Servente Interno: 30 h | D15: Posto | F15: ='SEMSUR_TOTALIZADOR GERAL'!D6 -> 1
A17: Mão-de-obra vinculada à execução contratual
A18: Dados para composição dos custos referente à mão-de-obra
A19: 1 | B19: Tipo de serviço (mesmo serviço com características distintas) | F19: Limpeza e conserv.
A20: 2 | B20: Classificação Brasileira de Ocupações (CBO) | F20: 5143-20
A21: 3 | B21: Salário Normativo da Categoria Profissional 44 HRS | F21: =RAIZ_DADOS!D6 -> 1651
A22: 4 | B22: Categoria profissional (vinculada à execução contratual) | F22: Servente
A23: 5 | B23: Data base da categoria (dia/mês/ano) | F23: 1º de janeiro de 2026
A25: Módulo 1 - Composição da Remuneração
A26: 1 | B26: Composição da Remuneração | F26: Valor (R$)
A27: A | B27: Salário-Base | E27: 30 h | F27: =(F21/44)*30 -> 1125.68
A28: B | B28: Adicional de Periculosidade
A29: C | B29: Adicional de Insalubridade
A30: D | B30: Adicional Noturno
A31: E | B31: Adicional de Hora Noturna Reduzida
A32: F | B32: Outros (Especificar)
A33: Total | F33: =SUM(F27:F32) -> 1125.68
A35: Módulo 2 - Encargos e Benefícios Anuais, Mensais e Diários
A36: Submódulo 2.1 - 13º (décimo terceiro) Salário, Férias e Adicional de Férias
A37: 2.1 | B37: 13º (décimo terceiro) Salário, Férias e Adicional de Férias | E37: Percentual (%) | F37: Valor (R$)
A38: A | B38: 13º (décimo terceiro) Salário | E38: =1/12 -> 0.0833 | F38: =F33*E38 -> 93.77
A39: B | B39: Férias e Adicional de Férias | E39: =(1/12)+(1/3)/12 -> 0.1111 | F39: =F33*E39 -> 125.06
A40: Total | E40: =SUM(E38:E39) -> 0.1944 | F40: =SUM(F38:F39) -> 218.83
A41: C | B41: Incidência do Submódulo 2.2 sobre 13º Salário , Férias e Adicional de Férias | E41: =E40*E53 -> 0.0774 | F41: =E41*F33 -> 87.13
A42: Total | E42: =SUM(E40:E41) -> 0.2718 | F42: =SUM(F40:F41) -> 305.96
A43: Submódulo 2.2 - Encargos Previdenciários (GPS), Fundo de Garantia por Tempo de Serviço (FGTS) e outras contribuições
A44: 2.2 | B44: GPS, FGTS e outras contribuições | E44: Percentual (%) | F44: Valor (R$)
A45: A | B45: INSS | E45: 0.2 | F45: =E45*F$33 -> 225.14
...

Sheet SEMSUR 4-D_Servente Ext 44 h
A1: PLANILHA DE CUSTOS E FORMAÇÃO DE PREÇOS
A2: SEMSUR 4 - SERVENTE - 44 HORAS
A3: Processo nº
A4: Pregão nº ___/2026
A5: Data do Pregão: ___ / ___ / ______
A7: I. Discriminação dos Serviços - Servente
A8: ► | B8: Data de apresentação da proposta (dia/mês/ano) | F8: ___/____/______
A9: ► | B9: Município/UF | F9: Dourados/MS
A10: ► | B10: Vigência do Acordo, Convenção ou Sentença Normativa em Dissídio Coletivo | F10: 1º/01/2026 a 31/12/2026
A11: ► | B11: Nº de meses de execução contratual | F11: 12
A13: II. Identificação do Serviço
A14: Tipo de Serviço | D14: Unidade de Medida | F14: Quantidade total a contratar
A15: Servente Externo: 44 h | D15: Posto | F15: ='SEMSUR_TOTALIZADOR GERAL'!G6 -> 2
A17: Mão-de-obra vinculada à execução contratual
A18: Dados para composição dos custos referente à mão-de-obra
A19: 1 | B19: Tipo de serviço (mesmo serviço com características distintas) | F19: Limpeza e conserv.
A20: 2 | B20: Classificação Brasileira de Ocupações (CBO) | F20: 5143-20
A21: 3 | B21: Salário Normativo da Categoria Profissional 44 HRS | F21: =RAIZ_DADOS!D6 -> 1651
A22: 4 | B22: Categoria profissional (vinculada à execução contratual) | F22: Servente
A23: 5 | B23: Data base da categoria (dia/mês/ano) | F23: 1º de janeiro de 2026
A25: Módulo 1 - Composição da Remuneração
A26: 1 | B26: Composição da Remuneração | F26: Valor (R$)
A27: A | B27: Salário-Base | E27: 44 h | F27: =F21 -> 1651
A28: B | B28: Adicional de Periculosidade
A29: C | B29: Adicional de Insalubridade
A30: D | B30: Adicional Noturno
A31: E | B31: Adicional de Hora Noturna Reduzida
A32: F | B32: Outros (Especificar)
A33: Total | F33: =SUM(F27:F32) -> 1651
A35: Módulo 2 - Encargos e Benefícios Anuais, Mensais e Diários
A36: Submódulo 2.1 - 13º (décimo terceiro) Salário, Férias e Adicional de Férias
A37: 2.1 | B37: 13º (décimo terceiro) Salário, Férias e Adicional de Férias | E37: Percentual (%) | F37: Valor (R$)
A38: A | B38: 13º (décimo terceiro) Salário | E38: =1/12 -> 0.0833 | F38: =F33*E38 -> 137.53
A39: B | B39: Férias e Adicional de Férias | E39: =(1/12)+(1/3)/12 -> 0.1111 | F39: =F33*E39 -> 183.43
A40: Total | E40: =SUM(E38:E39) -> 0.1944 | F40: =SUM(F38:F39) -> 320.96
A41: C | B41: Incidência do Submódulo 2.2 sobre 13º Salário , Férias e Adicional de Férias | E41: =E40*E53 -> 0.0774 | F41: =E41*F33 -> 127.79
A42: Total | E42: =SUM(E40:E41) -> 0.2718 | F42: =SUM(F40:F41) -> 448.75
A43: Submódulo 2.2 - Encargos Previdenciários (GPS), Fundo de Garantia por Tempo de Serviço (FGTS) e outras contribuições
A44: 2.2 | B44: GPS, FGTS e outras contribuições | E44: Percentual (%) | F44: Valor (R$)
A45: A | B45: INSS | E45: 0.2 | F45: =E45*F$33 -> 330.2
...

Sheet SEMSUR 4-E_Limpador Vidros 30 h
A1: PLANILHA DE CUSTOS E FORMAÇÃO DE PREÇOS
A2: SEMSUR 4 - LIMPADOR DE VIDROS - 30 HORAS
A3: Processo nº
A4: Pregão nº ___/2026
A5: Data do Pregão: ___ / ___ / ______
A7: I. Discriminação dos Serviços - Servente
A8: ► | B8: Data de apresentação da proposta (dia/mês/ano) | F8: ___/____/______
A9: ► | B9: Município/UF | F9: Dourados/MS
A10: ► | B10: Vigência do Acordo, Convenção ou Sentença Normativa em Dissídio Coletivo | F10: 1º/01/2026 a 31/12/2026
A11: ► | B11: Nº de meses de execução contratual | F11: 12
A13: II. Identificação do Serviço
A14: Tipo de Serviço | D14: Unidade de Medida | F14: Quantidade total a contratar
A15: Limpador de vidros: 30 h | D15: Posto | F15: ='SEMSUR_TOTALIZADOR GERAL'!H6 -> 1
A17: Mão-de-obra vinculada à execução contratual
A18: Dados para composição dos custos referente à mão-de-obra
A19: 1 | B19: Tipo de serviço (mesmo serviço com características distintas) | F19: Limpador de Vidro
A20: 2 | B20: Classificação Brasileira de Ocupações (CBO) | F20: 5143-05
A21: 3 | B21: Salário Normativo da Categoria Profissional 44 HRS | F21: =RAIZ_DADOS!D6 -> 1651
A22: 4 | B22: Categoria profissional (vinculada à execução contratual) | F22: Limpador de Vidro
A23: 5 | B23: Data base da categoria (dia/mês/ano) | F23: 1º de janeiro de 2026
A25: Módulo 1 - Composição da Remuneração
A26: 1 | B26: Composição da Remuneração | F26: Valor (R$)
A27: A | B27: Salário-Base | E27: 30 h | F27: =(F21/44)*30 -> 1125.68
A28: B | B28: Adicional de Periculosidade
A29: C | B29: Adicional de Insalubridade
A30: D | B30: Adicional Noturno
A31: E | B31: Adicional de Hora Noturna Reduzida
A32: F | B32: =RAIZ_DADOS!A20 -> Gratificação Limpador de Vidros | F32: =RAIZ_DADOS!D20 -> 92.67
A33: Total | F33: =SUM(F27:F32) -> 1218.35
A35: Módulo 2 - Encargos e Benefícios Anuais, Mensais e Diários
A36: Submódulo 2.1 - 13º (décimo terceiro) Salário, Férias e Adicional de Férias
A37: 2.1 | B37: 13º (décimo terceiro) Salário, Férias e Adicional de Férias | E37: Percentual (%) | F37: Valor (R$)
A38: A | B38: 13º (décimo terceiro) Salário | E38: =1/12 -> 0.0833 | F38: =F33*E38 -> 101.49
A39: B | B39: Férias e Adicional de Férias | E39: =(1/12)+(1/3)/12 -> 0.1111 | F39: =F33*E39 -> 135.36
A40: Total | E40: =SUM(E38:E39) -> 0.1944 | F40: =SUM(F38:F39) -> 236.85
A41: C | B41: Incidência do Submódulo 2.2 sobre 13º Salário , Férias e Adicional de Férias | E41: =E40*E53 -> 0.0774 | F41: =E41*F33 -> 94.3
A42: Total | E42: =SUM(E40:E41) -> 0.2718 | F42: =SUM(F40:F41) -> 331.15
A43: Submódulo 2.2 - Encargos Previdenciários (GPS), Fundo de Garantia por Tempo de Serviço (FGTS) e outras contribuições
A44: 2.2 | B44: GPS, FGTS e outras contribuições | E44: Percentual (%) | F44: Valor (R$)
A45: A | B45: INSS | E45: 0.2 | F45: =E45*F$33 -> 243.67
...

Sheet SEMSUR 4-F_Encarregado 30 h
A1: PLANILHA DE CUSTOS E FORMAÇÃO DE PREÇOS
A2: SEMSUR 4 - ENCARREGADO - 30 HORAS
A3: Processo nº
A4: Pregão nº ___/2026
A5: Data do Pregão: ___ / ___ / ______
A7: I. Discriminação dos Serviços - Servente
A8: ► | B8: Data de apresentação da proposta (dia/mês/ano) | F8: ___/____/______
A9: ► | B9: Município/UF | F9: Dourados/MS
A10: ► | B10: Vigência do Acordo, Convenção ou Sentença Normativa em Dissídio Coletivo | F10: 1º/01/2026 a 31/12/2026
A11: ► | B11: Nº de meses de execução contratual | F11: 12
A13: II. Identificação do Serviço
A14: Tipo de Serviço | D14: Unidade de Medida | F14: Quantidade total a contratar
A15: Encarregado de limpeza: 30 h | D15: Posto | F15: ='SEMSUR_TOTALIZADOR GERAL'!I6 -> 1
A17: Mão-de-obra vinculada à execução contratual
A18: Dados para composição dos custos referente à mão-de-obra
A19: 1 | B19: Tipo de serviço (mesmo serviço com características distintas) | F19: Encarregado de limpeza
A20: 2 | B20: Classificação Brasileira de Ocupações (CBO) | F20: 4101-05
A21: 3 | B21: Salário Normativo da Categoria Profissional 44 HRS | F21: =RAIZ_DADOS!D6 -> 1651
A22: 4 | B22: Categoria profissional (vinculada à execução contratual) | F22: =F19 -> Encarregado de limpeza
A23: 5 | B23: Data base da categoria (dia/mês/ano) | F23: 1º de janeiro de 2026
A25: Módulo 1 - Composição da Remuneração
A26: 1 | B26: Composição da Remuneração | F26: Valor (R$)
A27: A | B27: Salário-Base | E27: 30 h | F27: =(F21/44)*30 -> 1125.68
A28: B | B28: Adicional de Periculosidade
A29: C | B29: Adicional de Insalubridade
A30: D | B30: Adicional Noturno
A31: E | B31: Adicional de Hora Noturna Reduzida
A32: F | B32: =RAIZ_DADOS!A17 -> Gratificação Encarregado - de 21 até 40 empregados | F32: =RAIZ_DADOS!D17 -> 231.76
A33: Total | F33: =SUM(F27:F32) -> 1357.44
A35: Módulo 2 - Encargos e Benefícios Anuais, Mensais e Diários
A36: Submódulo 2.1 - 13º (décimo terceiro) Salário, Férias e Adicional de Férias
A37: 2.1 | B37: 13º (décimo terceiro) Salário, Férias e Adicional de Férias | E37: Percentual (%) | F37: Valor (R$)
A38: A | B38: 13º (décimo terceiro) Salário | E38: =1/12 -> 0.0833 | F38: =F33*E38 -> 113.07
A39: B | B39: Férias e Adicional de Férias | E39: =(1/12)+(1/3)/12 -> 0.1111 | F39: =F33*E39 -> 150.81
A40: Total | E40: =SUM(E38:E39) -> 0.1944 | F40: =SUM(F38:F39) -> 263.88
A41: C | B41: Incidência do Submódulo 2.2 sobre 13º Salário , Férias e Adicional de Férias | E41: =E40*E53 -> 0.0774 | F41: =E41*F33 -> 105.07
A42: Total | E42: =SUM(E40:E41) -> 0.2718 | F42: =SUM(F40:F41) -> 368.95
A43: Submódulo 2.2 - Encargos Previdenciários (GPS), Fundo de Garantia por Tempo de Serviço (FGTS) e outras contribuições
A44: 2.2 | B44: GPS, FGTS e outras contribuições | E44: Percentual (%) | F44: Valor (R$)
A45: A | B45: INSS | E45: 0.2 | F45: =E45*F$33 -> 271.49
...

Sheet SEMSUR 4-G_Jardineiro 44 hs
A1: PLANILHA DE CUSTOS E FORMAÇÃO DE PREÇOS
A2: SEMSUR 4 - JARDINEIRO - 44 HORAS
A3: Processo nº
A4: Pregão nº ___/2026
A5: Data do Pregão: ___ / ___ / ______
A7: I. Discriminação dos Serviços - Servente
A8: ► | B8: Data de apresentação da proposta (dia/mês/ano) | F8: ___/____/______
A9: ► | B9: Município/UF | F9: Dourados/MS
A10: ► | B10: Vigência do Acordo, Convenção ou Sentença Normativa em Dissídio Coletivo | F10: 1º/01/2026 a 31/12/2026
A11: ► | B11: Nº de meses de execução contratual | F11: 12
A13: II. Identificação do Serviço
A14: Tipo de Serviço | D14: Unidade de Medida | F14: Quantidade total a contratar
A15: Jardineiro: 44 h | D15: Posto | F15: ='SEMSUR_TOTALIZADOR GERAL'!I6 -> 1
A17: Mão-de-obra vinculada à execução contratual
A18: Dados para composição dos custos referente à mão-de-obra
A19: 1 | B19: Tipo de serviço (mesmo serviço com características distintas) | F19: Jardineiro
A20: 2 | B20: Classificação Brasileira de Ocupações (CBO) | F20: 6220-10
A21: 3 | B21: Salário Normativo da Categoria Profissional 44 HRS | F21: =RAIZ_DADOS!D6 -> 1651
A22: 4 | B22: Categoria profissional (vinculada à execução contratual) | F22: =F19 -> Jardineiro
A23: 5 | B23: Data base da categoria (dia/mês/ano) | F23: 1º de janeiro de 2026
A25: Módulo 1 - Composição da Remuneração
A26: 1 | B26: Composição da Remuneração | F26: Valor (R$)
A27: A | B27: Salário-Base | E27: 44 h | F27: =F21 -> 1651
A28: B | B28: Adicional de Periculosidade
A29: C | B29: Adicional de Insalubridade
A30: D | B30: Adicional Noturno
A31: E | B31: Adicional de Hora Noturna Reduzida
A32: F | B32: =RAIZ_DADOS!A19 -> Gratificação Jardineiro | F32: =RAIZ_DADOS!D13 -> 381.6
A33: Total | F33: =SUM(F27:F32) -> 2032.6
A35: Módulo 2 - Encargos e Benefícios Anuais, Mensais e Diários
A36: Submódulo 2.1 - 13º (décimo terceiro) Salário, Férias e Adicional de Férias
A37: 2.1 | B37: 13º (décimo terceiro) Salário, Férias e Adicional de Férias | E37: Percentual (%) | F37: Valor (R$)
A38: A | B38: 13º (décimo terceiro) Salário | E38: =1/12 -> 0.0833 | F38: =F33*E38 -> 169.32
A39: B | B39: Férias e Adicional de Férias | E39: =(1/12)+(1/3)/12 -> 0.1111 | F39: =F33*E39 -> 225.82
A40: Total | E40: =SUM(E38:E39) -> 0.1944 | F40: =SUM(F38:F39) -> 395.14
A41: C | B41: Incidência do Submódulo 2.2 sobre 13º Salário , Férias e Adicional de Férias | E41: =E40*E53 -> 0.0774 | F41: =E41*F33 -> 157.32
A42: Total | E42: =SUM(E40:E41) -> 0.2718 | F42: =SUM(F40:F41) -> 552.46
A43: Submódulo 2.2 - Encargos Previdenciários (GPS), Fundo de Garantia por Tempo de Serviço (FGTS) e outras contribuições
A44: 2.2 | B44: GPS, FGTS e outras contribuições | E44: Percentual (%) | F44: Valor (R$)
A45: A | B45: INSS | E45: 0.2 | F45: =E45*F$33 -> 406.52
...

Sheet SEMSUR 4_Uniformes
A1: ='SEMSUR_TOTALIZADOR GERAL'!A1 -> SEMSUR
A2: UNIFORMES POR FUNÇÃO
A4: SERVENTE INTERNO
A5: Item | B5: Descrição | C5: Unidade | D5: Quantidade Anual por Posto (A) | E5: Pesquisa de Preços | K5: Total Anual (G=A*F))
E6: Fornecedor 1 | F6: Fornecedor 2 | G6: Fornecedor 3 | H6: Fornecedor 4 | I6: Fornecedor 5 | J6: Média unitária dos preços (B)
A7: 1 | B7: Camiseta malha fina gola em v, manga curta, com identificação da empresa, Cor a Definir. | C7: Unidade | D7: =12/3 -> 4 | E7: AMAZON SERVICOS DE VAREJO DO BRASIL LTDA CNPJ: 15436940000103 | F7: TOPVISION COMERCIO E SERVICOS LTDA CNPJ: 17099595000187 | G7: ANDRE ANTONIO SABINO ME CNPJ: 27743380000100 | H7: TEX TEXTIL LTDA CNPJ: 60250972000166 | I7: KUADRADUS INDUSTRIA E COMERCIO DE ARTIGOS ESPORTIVOS LTDA CNPJ: 03775336000114 | J7: =AVERAGE(E8:I8) -> 28.37 | K7: =D7*J7 -> 113.48
E8: 29.61 | F8: 29.85 | G8: 25.5 | H8: 28.88 | I8: 28
A9: 2 | B9: Calça comprida de cós alto em tecido de brim 100% algodão preencolhido, com elástico na cintura, bolso na lateral. | C9: Unidade | D9: =12/3 -> 4 | E9: MARQUES UNIFORMES LTDA CNPJ: 58289095000195 | F9: THIAGO HENRIQUE DE RAMOS 45575633845 CNPJ: 37696477000163 | G9: EBAZAR.COM.BR. LTDA CNPJ: 03007331000141 | H9: ALAIDE ALVES DOS SANTOS CNPJ: 03177123000190 | I9: MARK LEWIS UNIFORMES PROFISSIONAIS LTDA CNPJ: 46419870000109 | J9: =AVERAGE(E10:I10) -> 73 | K9: =D9*J9 -> 292
E10: 75 | F10: 70 | G10: 69 | H10: 72 | I10: 79
A11: 3 | B11: Meia em algodão, tipo soquete. | C11: Par | D11: =12/3 -> 4 | E11: AMAZON SERVICOS DE VAREJO DO BRASIL LTDA CNPJ: 15436940000103 | F11: CARLOS EDUARDO RAMALHO CNPJ: 37150021000101 | G11: ALFA OMEGA SERVICOS TERCEIRIZADOS LTDA CNPJ: 16650774000106 | J11: =AVERAGE(E12:I12) -> 8.05 | K11: =D11*J11 -> 32.2
E12: 10.65 | F12: 8.5 | G12: 5
A13: 4 | B13: Calçado especializado para o uso profissional, unissex, solado antiderrapante, acompanhado de palmilha, com material macio, flexível e impermeável. | C13: Unidade | D13: =12/6 -> 2 | E13: MARBA COMERCIAL LTDA CNPJ: 49776241000116 | F13: EBAZAR.COM.BR. LTDA CNPJ: 03007331000141 | G13: BLUSAFE EQUIPAMENTOS DE PROTECAO INDIVIDUAL LTDA CNPJ: 36091140000160 | J13: =AVERAGE(E14:I14) -> 73.94 | K13: =D13*J13 -> 147.88
E14: 76 | F14: 66.99 | G14: 78.84
F15: Total Anual por Posto | K15: =SUM(K7:K14) -> 585.56
F16: Quantidade de meses | K16: 12
F17: Total Mensal por posto | K17: =K15/K16 -> 48.8
A19: LIMPADOR DE VIDRO
A20: Item | B20: Descrição | C20: Unidade | D20: Quantidade Anual por Posto (A) | E20: Pesquisa de Preços | K20: Total Anual (G=A*F))
E21: Fornecedor 1 | F21: Fornecedor 2 | G21: Fornecedor 3 | H21: Fornecedor 4 | I21: Fornecedor 5 | J21: Média unitária dos preços (B)
A22: 1 | B22: Camiseta malha fria PV, manga longa, gola V, com emblema da empresa | C22: Unidade | D22: =12/3 -> 4 | E22: MARQUES UNIFORMES LTDA CNPJ: 58289095000195 | F22: PETTER UNIFORMES LTDA CNPJ: 16996110000195 | G22: R F DA SILVA RTI SUBLIMATICA CNPJ: 36584748000126 | H22: VEST BEM UNIFORMES, CONFECCOES E LIMPEZA LTDA CNPJ: 49613182000165 | J22: =AVERAGE(E23:I23) -> 33.06 | K22: =D22*J22 -> 132.24
E23: 28 | F23: 34.4 | G23: 34.62 | H23: 35.2
A24: 2 | B24: Calça comprida de cós alto em tecido de brim 100% algodão preencolhido, com elástico na cintura, bolso na lateral. | C24: Unidade | D24: =12/3 -> 4 | E24: MARQUES UNIFORMES LTDA CNPJ: 58289095000195 | F24: THIAGO HENRIQUE DE RAMOS 45575633845 CNPJ: 37696477000163 | G24: EBAZAR.COM.BR. LTDA CNPJ: 03007331000141 | H24: ALAIDE ALVES DOS SANTOS CNPJ: 03177123000190 | I24: MARK LEWIS UNIFORMES PROFISSIONAIS LTDA CNPJ: 46419870000109 | J24: =AVERAGE(E25:I25) -> 73 | K24: =D24*J24 -> 292
E25: 75 | F25: 70 | G25: 69 | H25: 72 | I25: 79
A26: 3 | B26: Meia em algodão, tipo soquete. | C26: Par | D26: =12/3 -> 4 | E26: AMAZON SERVICOS DE VAREJO DO BRASIL LTDA CNPJ: 15436940000103 | F26: CARLOS EDUARDO RAMALHO CNPJ: 37150021000101 | G26: ALFA OMEGA SERVICOS TERCEIRIZADOS LTDA CNPJ: 16650774000106 | J26: =AVERAGE(E27:I27) -> 8.05 | K26: =D26*J26 -> 32.2
E27: 10.65 | F27: 8.5 | G27: 5
A28: 4 | B28: Calçado especializado para o uso profissional, unissex, solado antiderrapante, acompanhado de palmilha, com material macio, flexível e impermeável. | C28: Unidade | D28: =12/6 -> 2 | E28: MARBA COMERCIAL LTDA CNPJ: 49776241000116 | F28: EBAZAR.COM.BR. LTDA CNPJ: 03007331000141 | G28: BLUSAFE EQUIPAMENTOS DE PROTECAO INDIVIDUAL LTDA CNPJ: 36091140000160 | J28: =AVERAGE(E29:I29) -> 73.94 | K28: =D28*J28 -> 147.88
E29: 76 | F29: 66.99 | G29: 78.84
F30: Total Anual por Posto | K30: =SUM(K22:K29) -> 604.32
F31: Quantidade de meses | K31: 12
F32: Total Mensal por posto | K32: =K30/K31 -> 50.36
A34: ENCARREGADO
A35: Item | B35: Descrição | C35: Unidade | D35: Quantidade Anual por Posto (A) | E35: Pesquisa de Preços | K35: Total Anual (G=A*F))
E36: Fornecedor 1 | F36: Fornecedor 2 | G36: Fornecedor 3 | H36: Fornecedor 4 | I36: Fornecedor 5 | J36: Média unitária dos preços (B)
A37: 1 | B37: Camisa polo em malha piquet, mangas curtas, com 2 ou 3 botões frontais, cor a definir, com logo da empresa bordada | C37: Unidade | D37: =12/3 -> 4 | E37: MARIA DO SOCORRO SOUSA DO VALE CNPJ: 26461086000143 | F37: YVU INDUSTRIA DE CONFECCOES LTDA CNPJ: 14344612000106 | G37: AMAZON SERVICOS DE VAREJO DO BRASIL LTDA CNPJ: 15436940000103 | H37: LANA UNIFORMES LTDA CNPJ: 48988407000103 | I37: KUADRADUS INDUSTRIA E COMERCIO DE ARTIGOS ESPORTIVOS LTDA CNPJ: 03775336000114 | J37: =AVERAGE(E38:I38) -> 59.23 | K37: =D37*J37 -> 236.92
E38: 65 | F38: 60 | G38: 57.28 | H38: 59.9 | I38: 53.99
A39: 2 | B39: Calça jeans, azul índigo/escuro, corte clássico com bolsos, de boa qualidade | C39: Unidade | D39: 2 | E39: AMAZON SERVICOS DE VAREJO DO BRASIL LTDA CNPJ: 15436940000103 | F39: A NOVA SOLUÇÃO LTDA CNPJ: 70157680000137 | G39: NOVA RIO SERVIÇOS GERAIS LTDA CNPJ: 29212545000143 | H39: UNIPROT COMERCIO DE EQUIPAMENTOS DE SEGURANCA LTDA CNPJ: 71595722000184 | I39: RP TEXTIL LTDA CNPJ: 43715476000111 | J39: =AVERAGE(E40:I40) -> 72.5 | K39: =D39*J39 -> 145
E40: 64 | F40: 73.7 | G40: 79.8 | H40: 75 | I40: 70
A41: 3 | B41: Cinto de couro, com fivela, na cor preta | C41: Unidade | D41: 1 | E41: PARANASEG EQUIPAMENTOS E SUPRIMENTOS INDUSTRIAIS LTDA CNPJ: 43058709000150 | F41: 61.093.692 ELISANGELA MOREIRA DE VASCONCELOS CNPJ: 61093692000154 | G41: SUELEN LOPES DOS SANTOS 17224131741 CNPJ: 44270347000120 | H41: EMPREENDIMENTO LGA LTDA CNPJ: 37278582000182 | J41: =AVERAGE(E42:I42) -> 32.22 | K41: =D41*J41 -> 32.22
E42: 31.9 | F42: 33 | G42: 29 | H42: 34.98
A43: 4 | B43: Meia de algodão, tipo soquete | C43: Par | D43: 4 | E43: AMAZON SERVICOS DE VAREJO DO BRASIL LTDA CNPJ: 15436940000103 | F43: CARLOS EDUARDO RAMALHO CNPJ: 37150021000101 | G43: ALFA OMEGA SERVICOS TERCEIRIZADOS LTDA CNPJ: 16650774000106 | J43: =AVERAGE(E44:I44) -> 8.05 | K43: =D43*J43 -> 32.2
...

Sheet SEMSUR 4_EPI's
A1: ='SEMSUR_TOTALIZADOR GERAL'!A1 -> SEMSUR
A2: EPI'S POR FUNÇÃO
A4: SERVENTE INTERNO
A5: Item | B5: Descrição | C5: Unidade | D5: Quantidade Anual por funcionário (A) | E5: Pesquisa de Preços | K5: Total Anual (G=A*F))
E6: Fornecedor 1 | F6: Fornecedor 2 | G6: Fornecedor 3 | H6: Fornecedor 4 | I6: Fornecedor 5 | J6: Média unitária dos preços (B)
A7: 1 | B7: Óculos de proteção incolor: Utilizado para limpeza de vidros e manuseio de produtos químicos | C7: Unidade | D7: =12/2 -> 6 | E7: POTENCIAL COMERCIO E SERVICOS LTDA CNPJ: 18729614000174 | F7: EBAZAR.COM.BR. LTDA CNPJ: 03007331000141 | G7: COMERCIO ROMANO LTDA CNPJ: 44943068000180 | H7: EXPRESSO SAUDE LTDA CNPJ: 10815369000106 | I7: RITHEUS COMERCIO E SERVICOS LTDA CNPJ: 03207567000121 | J7: =AVERAGE(E8:I8) -> 6.46 | K7: =D7*J7 -> 38.76
E8: 4.39 | F8: 9.9 | G8: 6 | H8: 6 | I8: 5.99
A9: 2 | B9: Luvas de látex, cano longo: Utilização de produtos químicos e limpeza em geral | C9: Par | D9: 24 | E9: CREATIVE THINGS COMERCIO DE DISTRIBUICAO LTDA CNPJ: 10206542000179 | F9: FALCAO E CRUZ COMERCIO DE ALIMENTOS LTDA CNPJ: 09587749000151 | G9: AC EMPREENDIMENTOS LTDA CNPJ: 21635989000180 | H9: RBL SOLUCOES INTREGAS LTDA CNPJ: 41247496000180 | J9: =AVERAGE(E10:I10) -> 6.61 | K9: =D9*J9 -> 158.64
E10: 6 | F10: 6.95 | G10: 7 | H10: 6.48
A11: 3 | B11: Máscara proteção, modelo N95/PFF2 para poeiras, fumos e névoas. Poeiras e nevoas (baixa concentração) | C11: Unid. | D11: 6 | E11: MAGAZINE LUIZA S/A CNPJ: 47960950108836 | F11: LA DALLAPORTA JUNIOR CNPJ: 11145401000156 | G11: SERVAL SERVICOS E LIMPEZA LTDA CNPJ: 07360290000638 | H11: ARLIMED DISTRIBUIDORA CNPJ: 18362195000185 | J11: =AVERAGE(E12:I12) -> 5.84 | K11: =D11*J11 -> 35.04
E12: 8.51 | F12: 4.39 | G12: 5.99 | H12: 4.45
A13: 4 | B13: Bota de borracha, cano longo(*) | C13: Par | D13: =12/4 -> 3 | E13: GLOBAL SOLUCOES COMERCIO E SERVICOS LTDA CNPJ: 59618874000150 | F13: PARANASEG EQUIPAMENTOS E SUPRIMENTOS INDUSTRIAIS LTDA CNPJ: 43058709000150 | G13: EBAZAR.COM.BR. LTDA CNPJ: 03007331000141 | H13: DRW COMERCIO LTDA CNPJ: 59850232000181 | I13: MASTERSUL EQUIPAMENTOS DE SEGURANCA LTDA CNPJ: 18274923000105 | J13: =AVERAGE(E14:I14) -> 49.44 | K13: =D13*J13 -> 148.32
E14: 48.9 | F14: 55 | G14: 44.32 | H14: 49 | I14: 49.96
F15: Total Anual por Posto | K15: =SUM(K7:K14) -> 380.76
F16: Quantidade de meses | K16: 12
F17: Total Mensal por posto | K17: =K15/K16 -> 31.73
A19: LIMPADOR DE VIDRO
A20: Item | B20: Descrição | C20: Unidade | D20: Quantidade Anual por funcionário (A) | E20: Pesquisa de Preços | K20: Total Anual (G=A*F))
E21: Fornecedor 1 | F21: Fornecedor 2 | G21: Fornecedor 3 | H21: Fornecedor 4 | I21: Fornecedor 5 | J21: Média unitária dos preços (B)
A22: 1 | B22: CINTO PARAQUEDISTA- 3 Argolas em aço (uma argola dorsal, e duas laterais) , ajuste na cintura, ajuste nas pernas, dois pontos frontais, regulagem no suspensório e acolchoamento. Com C.A. | C22: Unidade | D22: 1 | E22: RAVD EPI E CONSULTORIA SST LTDA CNPJ: 27136199000136 | F22: EBAZAR.COM.BR. LTDA CNPJ: 03007331000141 | G22: JFB EMPREENDIMENTOS LTDA CNPJ: 13582905000169 | H22: BLUSAFE EQUIPAMENTOS DE PROTEÇÃO INDIVIDUAL LTDA CNPJ: 36091140000160 | I22: SAFE - SUPPLY IT SUPRIMENTOS LTDA CNPJ: 14183614000160 | J22: =AVERAGE(E23:I23) -> 134.28 | K22: =D22*J22 -> 134.28
E23: 121 | F23: 145.9 | G23: 140 | H23: 134.5 | I23: 130
A24: 4 | B24: Óculos de proteção, com lente de policarbonato, com fibras UVA e UVB e hastes ajustáveis de nylon resistente. | C24: unidade | D24: 6 | E24: OESTE MED COMERCIO E IMPORTACAO DE PRODUTOS HOSPITALARES LTDA CNPJ: 28069066000157 | F24: DENTAL BONSUCESSO PRODUTOS ODONTOLOGICOS LTDA CNPJ: 02482141000113 | G24: LEROY MERLIN COMPANHIA BRASILEIRA DE BRICOLAGEM CNPJ: 01438784004860 | H24: ESTRELA COMERCIO DE PRODUTOS MEDICOS E HOSPITALARES LTDA CNPJ: 02209788000176 | I24: 59 113 312 MARCELO MOREIRA GOMES CNPJ: 59113312000154 | J24: =AVERAGE(E25:I25) -> 5.95 | K24: =D24*J24 -> 35.7
E25: 4.29 | F25: 5.4 | G25: 5.5 | H25: 6.74 | I25: 7.8
A26: 2 | B26: Descensor | C26: Unidade | D26: 1 | E26: EBAZAR.COM.BR. LTDA CNPJ: 03007331000141 | F26: D&F COMERCIO DE EPI S FERRAMENTAS E EQUIPAMENTOS INDUSTRIAIS LTDA CNPJ: 23724306000196 | G26: ALTITUDE COMERCIO DE EQUIPAMENTOS ESPORTIVOS LTDA CNPJ: 11456144000173 | H26: SOLL -SERVICOS OBRAS E LOCACOES LTDA CNPJ: 00323090000151 | I26: BUNZL EQUIPAMENTOS PARA PROTECAO INDIVIDUAL LTDA CNPJ: 43854777000126 | J26: =AVERAGE(E27:I27) -> 464.94 | K26: =D26*J26 -> 464.94
E27: 517.53 | F27: 409.78 | G27: 450.25 | H27: 477.12 | I27: 470
A28: 3 | B28: Trava Queda | C28: Unidade | D28: 1 | E28: VDM EQUIPAMENTOS DE SEGURANCA E UNIFORMES LTDA CNPJ: 06921384000161 | F28: EBAZAR.COM.BR. LTDA CNPJ: 03007331000141 | G28: HANDREIY VINICIUS MORAES DJUBATIE MANUTENCAO CNPJ: 32300137000158 | H28: BP COMERCIO E SERVICO LTDA CNPJ: 53251760000138 | I28: FACCINA DALTORA EQUIPAMENTOS DE SEGURANCA LTDA CNPJ: 04584756000186 | J28: =AVERAGE(E29:I29) -> 186.62 | K28: =D28*J28 -> 186.62
E29: 183.15 | F29: 167.8 | G29: 189.99 | H29: 194.48 | I29: 197.67
A30: 4 | B30: Capacete sem aba para serviço em altura | C30: Unidade | D30: 1 | E30: AMAZON SERVICOS DE VAREJO DO BRASIL LTDA CNPJ: 15436940000103 | F30: CAZAROTTO CIA.LTDA CNPJ: 92232388000174 | G30: PARANASEG EQUIPAMENTOS E SUPRIMENTOS INDUSTRIAIS LTDA CNPJ: 43058709000150 | J30: =AVERAGE(E31:I31) -> 191.95 | K30: =D30*J30 -> 191.95
E31: 195.83 | F31: 184 | G31: 196.02
A32: 5 | B32: Ascensor | C32: Unidade | D32: 1 | E32: BUNKER FORNECIMENTO DE MATERIAIS TATICOS UNIFORMES E EPIS LTDA CNPJ: 53998445000179 | F32: GRUPO CASAS BAHIA S.A. CNPJ: 33041260065290 | G32: SUPREMA MAQUINAS E FERRAMENTAS CNPJ: 59853551000140 | H32: SEA & NAUTICA LTDA CNPJ: 70994140000108 | I32: 39.425.550 THAYNAH LAIS FERREIRA CAMPOS DOS SANTOS CNPJ: 39425550000198 | J32: =AVERAGE(E33:I33) -> 309.9 | K32: =D32*J32 -> 309.9
E33: 298 | F33: 326.66 | G33: 335.4 | H33: 275.8 | I33: 313.66
A34: 6 | B34: Mosquetão oval | C34: Unidade | D34: 1 | E34: SAFE - SUPPLY & IT SUPRIMENTOS LTDA CNPJ: 14183614000160 | F34: EBAZAR.COM.BR. LTDA CNPJ: 03007331000141 | G34: COMERCIAL GUARA LTDA CNPJ: 07731777000175 | H34: FGS COMERCIAL LTDA CNPJ: 39988022000147 | I34: SAFE - SUPPLY & IT SUPRIMENTOS LTDA CNPJ: 14183614000160 | J34: =AVERAGE(E35:I35) -> 30.08 | K34: =D34*J34 -> 30.08
E35: 26.99 | F35: 28.99 | G35: 32.5 | H35: 31.64 | I35: 30.3
A36: 7 | B36: Estribo Um Degrau | C36: Unidade | D36: 1 | E36: MAXQUALITY INDUSTRIA E COMERCIO LTDA CNPJ: 21718712000110 | F36: TIAGO MARTINS DE LIMA EQUIPAMENTOS ME CNPJ: 17924845000176 | G36: ALTITUDE COMERCIO DE EQUIPAMENTOS ESPORTIVOS LTDA CNPJ: 11456144000173 | J36: =AVERAGE(E37:I37) -> 61.45 | K36: =D36*J36 -> 61.45
E37: 58.46 | F37: 57.9 | G37: 68
A38: 8 | B38: Corda Semi Estática | C38: Unidade | D38: 1 | E38: EBAZAR.COM.BR. LTDA CNPJ: 03007331000141 | F38: COMANDO BRAVO LICITACAO E IMPORTACAO LTDA CNPJ: 48749155000151 | G38: ALTITUDE COMERCIO DE EQUIPAMENTOS ESPORTIVOS LTDA CNPJ: 11456144000173 | H38: INFZONE LTDA CNPJ: 59351264000132 | J38: =AVERAGE(E39:I39) -> 223.68 | K38: =D38*J38 -> 223.68
E39: 205.2 | F39: 209.5 | G39: 205 | H39: 275
A40: 9 | B40: TALABARTE DE SEGURANÇA - TALABARTE DE SEGURANÇA, 2 mosquetores trava dupla *53*mm de abertura, com absorvedor de energia | D40: 1 | E40: DF COMERCIO E SERVICOS LTDA CNPJ: 45644476000101 | F40: EBAZAR.COM.BR. LTDA CNPJ: 03007331000141 | G40: CAWEL MATERIAIS ELETRICOS LTDA CNPJ: 44722099000100 | H40: N MARCHON OLIVEIRA COMERCIO ONLINE LTDA CNPJ: 39531227000107 | I40: CLARUS COMERCIO DE EPI'S E FERRAMENTAS LTDA CNPJ: 06012849000161 | J40: =AVERAGE(E41:I41) -> 228.92 | K40: =D40*J40 -> 228.92
E41: 212.39 | F41: 224.9 | G41: 224 | H41: 224.32 | I41: 259
F42: Total Anual por Posto | K42: =SUM(K22:K41) -> 1867.52
...

Sheet SEMSUR 4_Materiais
A1: ='SEMSUR_TOTALIZADOR GERAL'!A1 -> SEMSUR
A2: MATERIAIS DIVERSOS
A3: Materiais Diversos
A4: Item | B4: Descrição | C4: Unidade | D4: Quantidade Anual (A) | E4: Pesquisa de Preços
E5: Fornecedor 1 | F5: Fornecedor 2 | G5: Fornecedor 3 | H5: Fornecedor 4 | I5: Fornecedor 5 | J5: Média unitária dos preços (B) | K5: Total Anual (C= A*B)
A6: 1 | B6: Borrifador profissional, em plástico, com gatilho spray, para capacidade de 1 litro | C6: Unidade | D6: =('SEMSUR_TOTALIZADOR GERAL'!B6+'SEMSUR_TOTALIZADOR GERAL'!D6+'SEMSUR_TOTALIZADOR GERAL'!H6)*2 -> 6 | E6: EBAZAR.COM.BR. LTDA CNPJ: 03007331000141 | F6: PROLIMP COMERCIO VAREJISTA DE PRODUTOS SANEANTES LTDA CNPJ: 07622961000187 | G6: DISTRIMIX SOLUCOES & SERVICOS BRASIL LTDA CNPJ: 51044835000184 | H6: MAIS CONSTRUIR COMERCIO E SERVICOS LTDA CNPJ: 24563754000118 | J6: =AVERAGE(E7:I7) -> 11.55 | K6: =D6*J6 -> 69.3
E7: 12.43 | F7: 10.28 | G7: 12 | H7: 11.5
A8: 2 | B8: Extensão telescópica, com 3 estágios, de até 4,5m . | C8: Unidade | D8: ='SEMSUR_TOTALIZADOR GERAL'!H6 -> 1 | E8: MAGAZINE LUIZA S/A CNPJ: 47960950108836 | F8: DIS BAHIA EMPREENDIMENTOS LTDA CNPJ: 19427953000169 | G8: CWF BRASIL SERVICOS CNPJ: 22068281000157 | J8: =AVERAGE(E9:I9) -> 191.3 | K8: =D8*J8 -> 191.3
E9: 173.57 | F9: 182.6 | G9: 217.72
A10: 3 | B10: Limpa vidro concentrado, 1 litro. | C10: Unidade | D10: 50 | E10: AMAZON SERVICOS DE VAREJO DO BRASIL LTDA CNPJ: 15436940000103 | F10: AC CLEAN COMERCIO DE LIMPEZA LTDA CNPJ: 26759927000101 | G10: SULCLEAN SERVICOS LTDA CNPJ: 06205427000102 | H10: BRILLARE COMERCIO DE PRODUTOS DE HIGIENE E LIMPEZA LTDA CNPJ: 25195487000136 | J10: =AVERAGE(E11:I11) -> 21.09 | K10: =D10*J10 -> 1054.5
E11: 22.9 | F11: 16.9 | G11: 24.55 | H11: 20
A12: 4 | B12: Pano de Microfibra Para Vidros 40x40cm | C12: Unidade | D12: =(SUM('SEMSUR_TOTALIZADOR GERAL'!B6+'SEMSUR_TOTALIZADOR GERAL'!D6+'SEMSUR_TOTALIZADOR GERAL'!H6))*3 -> 9 | E12: DALO EMPREENDIMENTOS LTDA CNPJ: 49709450000147 | F12: IVANETE BOERI CNPJ: 01819055000190 | G12: DISTRIBUIDORA DAMBROSKI LTDA CNPJ: 11583995000187 | H12: R M CORES TINTAS E PARAFUSOS LTDA ME CNPJ: 20549798000132 | J12: =AVERAGE(E13:I13) -> 14.66 | K12: =D12*J12 -> 131.94
E13: 14.45 | F13: 14.3 | G13: 14.9 | H13: 15
A14: 5 | B14: Raspador de Segurança Para Vidros (Lâmina de 10 cm) | C14: Unidade | D14: ='SEMSUR_TOTALIZADOR GERAL'!H6*4 -> 4 | E14: EBAZAR.COM.BR. LTDA CNPJ: 03007331000141 | F14: ECOCLEAN COMERCIO PRODUTOS LIMPEZA LTDA ME CNPJ: 01231540000149 | G14: AVANTE BRASIL COMERCIO E DISTRIBUICAO DE SUPRIMENTOS LTDA CNPJ: 32098715000115 | J14: =AVERAGE(E15:I15) -> 61.21 | K14: =D14*J14 -> 244.84
E15: 57.9 | F15: 66 | G15: 59.72
A16: 6 | B16: Rodo Combinado (formado por um LAVADOR, com luva de acrílico e por um LIMPADOR de vidros, com guia de metal e lâmina de borracha), 35cm com cabo fixo de alumínio 45 cm | C16: Unidade | D16: ='SEMSUR_TOTALIZADOR GERAL'!H6*4 -> 4 | E16: EBAZAR.COM.BR. LTDA CNPJ: 03007331000141 | F16: G B COMERCIO E DISTRIBUICAO LTDA CNPJ: 10782385000140 | G16: FORTPEL COMERCIO DE DESCARTAVEIS LTDA - SP CNPJ: 20102722000164 | J16: =AVERAGE(E17:I17) -> 76.31 | K16: =D16*J16 -> 305.24
E17: 78.56 | F17: 78.14 | G17: 72.24
A18: 7 | B18: Vassoura para limpeza de teto com cabo extensor de 3 metros | C18: Unidade | D18: ='SEMSUR_TOTALIZADOR GERAL'!B6+'SEMSUR_TOTALIZADOR GERAL'!D6 -> 2 | E18: EBAZAR.COM.BR. LTDA CNPJ: 03007331000141 | F18: ANGELA MARIA CANDIDA NUNES CNPJ: 40519372000143 | G18: N & N COMERCIO DE PRODUTOS LTDA CNPJ: 42351193000175 | J18: =AVERAGE(E19:I19) -> 56.77 | K18: =D18*J18 -> 113.54
E19: 65.05 | F19: 56.19 | G19: 49.06
A20: 8 | B20: Vassoura de jardim com cabo. | C20: Unidade | D20: ='SEMSUR_TOTALIZADOR GERAL'!G6+'SEMSUR_TOTALIZADOR GERAL'!K6 -> 3 | E20: EBAZAR.COM.BR. LTDA CNPJ: 03007331000141 | F20: BOM GOSTO COMERCIO DE ALIMENTOS LTDA CNPJ: 58687793000149 | G20: EVERTON PERTUSSATTI CNPJ: 32532322000178 | H20: J.J.VITALLI CNPJ: 08658622000113 | J20: =AVERAGE(E21:I21) -> 28.78 | K20: =D20*J20 -> 86.34
E21: 30.3 | F21: 27.7 | G21: 30 | H21: 27.1
F22: Total Anual | K22: =SUM(K6:K21) -> 2197
F23: Quantidade de meses | K23: 12
F24: Total Mensal | K24: =K22/K23 -> 183.08
F25: Quantidade de postos de trabalho | K25: ='SEMSUR_TOTALIZADOR GERAL'!L6-'SEMSUR_TOTALIZADOR GERAL'!I6 -> 7
F26: Total Mensal por posto | K26: =K24/K25 -> 26.15

Sheet SEMSUR 4_Equipamentos
A1: ='SEMSUR_TOTALIZADOR GERAL'!A1 -> SEMSUR
A2: EQUIPAMENTOS E MATERIAIS PERMANENTES
A3: Equipamentos e Materiais Permanentes
A4: Item | B4: Descrição | C4: Unidade | D4: Quantidade Anual (A) | E4: Pesquisa de Preços | K4: Estimativa de Valores
E5: Fornecedor 1 | F5: Fornecedor 2 | G5: Fornecedor 3 | H5: Fornecedor 4 | I5: Fornecedor 5 | J5: Média unitária dos preços (B) | K5: Total Anual (C=A x B ) | L5: Taxa Anual Depreciação (%) | M5: Valor Anual
A6: 1 | B6: Aspirador de pó e água, tipo industrial, com potência de 1400 a 1600W. | C6: Unidade | D6: =2 -> 2 | E6: AMAZON SERVICOS DE VAREJO DO BRASIL LTDA CNPJ: 15436940000103 | F6: SOUL DISTRIBUIDORA DE PRODUTOS E EQUIPAMENTOS INDUSTRIAIS LTDA CNPJ: 51659136000149 | G6: 45382048 LISANDRE ANGELINI ALVES DA COSTA CNPJ: 45382048000140 | H6: PHM COMERCIO E CONFECCOES LTDA CNPJ: 35794003000129 | J6: =AVERAGE(E7:I7) -> 485.08 | K6: =D6*J6 -> 970.16 | L6: 0.2 | M6: =K6*L6 -> 194.03
E7: 449.9 | F7: 491 | G7: 479.4 | H7: 520
A8: 2 | B8: Carrinho MOP completo, composto por: 01 (um) carrinho de limpeza multifuncional; 01 (um) balde doblo; 01 (um) pá plástica com cabo para lixo; 01 (uma) placa de sinalização "piso molhado"; 01 (um) conjunto mop Pó de 60 cm com cabo de alumínio, 01 (um) conjunto mop Úmido de 320gr cru com cabo de alumínio. | C8: Unidade | D8: ='SEMSUR_TOTALIZADOR GERAL'!B6+'SEMSUR_TOTALIZADOR GERAL'!D6 -> 2 | E8: EBAZAR.COM.BR. LTDA CNPJ: 03007331000141 | F8: RALSON M. LIMA LTDA CNPJ: 33146225000100 | G8: SIS COMERCIO DE MATERIAIS E EQUIPAMENTOS LTDA CNPJ: 29926189000120 | J8: =AVERAGE(E9:I9) -> 1477.61 | K8: =D8*J8 -> 2955.22 | L8: 0.2 | M8: =K8*L8 -> 591.04
E9: 1300.22 | F9: 1654.99
A10: 3 | B10: Lavadeira e Enceradeira elétrica industrial, com diâmetro da escova de no mínimo 350mm | C10: Unidade | D10: 1 | E10: EBAZAR.COM.BR. LTDA CNPJ: 03007331000141 | F10: F A O MELO COMERCIO E SERVICOS CNPJ: 57783781000155 | G10: 57.041.952 VITOR HENRIQUE GUSSI CENSSAO CNPJ: 57041952000170 | J10: =AVERAGE(E11:I11) -> 2278.83 | K10: =D10*J10 -> 2278.83 | L10: 0.2 | M10: =K10*L10 -> 455.77
E11: 2119 | F11: 2490 | G11: 2227.49
A12: 4 | B12: Lavadora de Alta pressão, de uso profissional, com carrinho, características: potência mínima do motor 1 HP, voltagem 220 volts monofásico ou bifásico, mangueira de nylon com trama mínima 3/8", Pressão mínima 450 PSI, Vazão mínima 11 litros/minuto, comprimento da mangueira de saída até o esguicho mínimo 10 metros, Esguicho com função jato concentrado ou leque. | C12: Unidade | D12: 4 | E12: BIDDEN COMERCIAL LTDA CNPJ: 36181473000180 | F12: MARCOS P DOS SANTOS COMERCIO LTDA CNPJ: 07020668000140 | G12: RODRIGO CAMPOS FONSECA CNPJ: 62888382000199 | H12: VITORIA MAQUINAS E FERRAMENTAS CNPJ: 59589837000160 | J12: =AVERAGE(E13:I13) -> 3027.54 | K12: =D12*J12 -> 12110.16 | L12: 0.2 | M12: =K12*L12 -> 2422.03
E13: 2399.28 | F13: 3965.88 | G13: 3100 | H13: 2645
A14: 5 | B14: Escada de Alumínio de abrir 2 lados com 9 degraus; e extensível- altura esticada mínimo 4 metros. | C14: Unidade | D14: 2 | E14: JOSE NEYMAR MENDES GONCALVES 06525136628 - CNPJ: 24708774000130 | F14: SOUZA & SOUZA EQUIPAMENTOS COMERCIAIS LTDA CNPJ: 04235125000151 | G14: DR ROCHA MATERIAIS DE CONSTRUCAO LTDA CNPJ: 23334784000190 | H14: DANIEL NEVES QUEIROS LTDA CNPJ: 25289956000186 | J14: =AVERAGE(E15:I15) -> 484.7 | K14: =D14*J14 -> 969.4 | L14: 0.2 | M14: =K14*L14 -> 193.88
E15: 489.9 | F15: 459 | G15: 519.89 | H15: 470
A16: 6 | B16: Torre andaime tubular, altura mínima de 6 metros, painéis 1m x 2,0m contendo as seguintes peças para torre de 2,0metros: 12 (doze) painéis 1000x1500x2,65mm, 04 (quatro) longarina de 2013 metros, 02 (duas) escadas de 3000mm, 04 (quatro) rodízios de 6 polegadas com trava ou sapata regulável, 01 (um) conjunto guarda corpo com porta e rodapé, 04 (quatro) pisos antiaderente 370x1500mm e demais componentes certificados em atendimento a Norma NR 18. Equipamento Novo. | C16: Unidade | D16: 1 | E16: EBAZAR.COM.BR. LTDA CNPJ: 03007331000141 | F16: TORNEARIA SANTIAGO LTDA CNPJ: 79226601000177 | G16: LABONE TECNOLOGIA LTDA CNPJ: 08893965000162 | J16: =AVERAGE(E17:I17) -> 9171.22 | K16: =D16*J16 -> 9171.22 | L16: 0.2 | M16: =K16*L16 -> 1834.24
E17: 10758 | F17: 8498 | G17: 8257.67
A18: 7 | B18: Kit cadeira suspensa para limpeza de fachada predial. Características: 01 (uma) cadeira suspensa para cabo de aço, 01 (um) cinto de segurança com talabarte, 01 (um) trava quedas para corda de 12mm e demais componentes certificados em atendimento a Norma NR 18. Equipamento novo. | C18: Unidade | D18: 1 | E18: EBAZAR.COM.BR. LTDA CNPJ: 03007331000141 | F18: ELASTOBOR BORRACHAS E PLASTICOS LTDA CNPJ:53840542000210 | G18: DUTRA MÁQUINAS COMERCIAL E TÉCNICA LTDA CNPJ: 50970342000102 | J18: =AVERAGE(E19:I19) -> 1039.98 | K18: =D18*J18 -> 1039.98 | L18: 0.2 | M18: =K18*L18 -> 208
E19: 1225.3 | F19: 1045.47 | G19: 849.16
A20: 8 | B20: Corda trava-quedas, cadeira suspensa 12 mm. Características: trançado triplo e alma central, trançado central em multifilamento de poliamida, trançado intermediário de polipropileno ou poliamida colorida com o mínimo de 50% de identificação, não excedendo 10% de densidade linear, trançado interno em multifilamento de poliamida, carga de ruptura de no mínimo 20kn = 2.038kgf, cabo sem capa externa (mínimo) 15kn = 1.529 (kgf), diâmetro nominal (mínimo) 12,0mm, desvio limite de +0,5mm, fita inserida na alma gravada NR 18.16,5 ISSO 1440. Rolo com 220 metros. | C20: Unidade | D20: 1 | E20: EBAZAR.COM.BR. LTDA CNPJ: 03007331000141 | F20: MAGAZINE LUIZA S/A CNPJ: 47960950108836 | G20: COMERCIAL GUARA LTDA CNPJ: 07731777000175 | J20: =AVERAGE(E21:I21) -> 946.88 | K20: =D20*J20 -> 946.88 | L20: 0.2 | M20: =K20*L20 -> 189.38
E21: 840 | F21: 980.75 | G21: 1019.9
A22: 9 | B22: Soprador de folhas com baterias de no mínimo 5 ah, carregador para remover a sujeira e manter as áreas verdes, abertas e outras áreas limpas. | C22: Unidade | D22: ='SEMSUR_TOTALIZADOR GERAL'!K6+'SEMSUR_TOTALIZADOR GERAL'!G6*30% -> 2 | E22: EBAZAR.COM.BR. LTDA CNPJ: 03007331000141 | F22: G Z MENEGUSSO LTDA CNPJ: 47358786000187 | G22: SANITOP COMERCIAL LTDA CNPJ: 53710803000104 | J22: =AVERAGE(E23:I23) -> 1291.66 | K22: =D22*J22 -> 2583.32 | L22: 0.2 | M22: =K22*L22 -> 516.66
E23: 1485 | F23: 1189.99 | G23: 1200
A24: 10 | B24: Roçadeira dupla, a gasolina, com um cortador de nylon para aparar a grama, um cortador de lâmina para cortar matos densos, motor de no mínimo 62cc, haste: ajustável e ergonômica, guidão ajustável e cinta (alça). | C24: Unidade | D24: ='SEMSUR_TOTALIZADOR GERAL'!K6+'SEMSUR_TOTALIZADOR GERAL'!G6*30% -> 2 | E24: SANRE COMERCIO E IMPORTACAO LTDA CNPJ: 20502109000134 | F24: EBAZAR.COM.BR. LTDA CNPJ: 03007331000141 | G24: LANÇA PRODUTOS - COMERCIO E SERVIÇOS LTDA CNPJ: 44258379000100 | H24: COMABEM COMERCIO DE ALIMENTOS LTDA CNPJ: 13390139000130 | I24: SANRE COMERCIO E IMPORTACAO LTDA CNPJ: 20502109000134 | J24: =AVERAGE(E25:I25) -> 832.4 | K24: =D24*J24 -> 1664.8 | L24: 0.2 | M24: =K24*L24 -> 332.96
E25: 820 | F25: 799 | G25: 898 | H25: 800 | I25: 845
J26: TOTAL GERAL ANUAL | K26: =SUM(K6:K25) -> 34689.97 | M26: =SUM(M6:M25) -> 6937.99
J27: Quantidade de meses da contratação | M27: 12
J28: Total mensal | M28: =M26/M27 -> 578.17
J29: Quantidade de postos de trabalho | M29: ='SEMSUR_TOTALIZADOR GERAL'!L6-'SEMSUR_TOTALIZADOR GERAL'!I6 -> 7
J30: Valor por posto | M30: =M28/M29 -> 82.6
A32: Notas:
A33: Depreciação de Equipamentos: Para o cálculo do insumo Depreciação de Equipamentos, adotou-se vida útil de 5 anos (depreciação de 20% ao ano), com base na média mais benéfica dos equipamentos similares constantes do Anexo III, da IN RFB nº 1700/2017.
