Workbook
Name LINHA7: #REF!
Name LINHA7: #REF!
Name LINHA7: #REF!
Name LINHA7: #REF!
Name LINHA7: #REF!
Name LINHA7: #REF!
Name LINHA7: #REF!
Name LINHA7: #REF!
Name LINHA7: #REF!
Name LINHA7: #REF!
Name LINHA7: #REF!
Name LINHA7: #REF!
Name LINHA7: #REF!
Name LINHA7: #REF!
Name LINHA7: #REF!
Name LINHA7: #REF!
Name LINHA7: #REF!
Name LINHA7: #REF!
Name LINHA7: #REF!
Name LINHA7: #REF!
Name LINHA7: #REF!
Name LINHA7: #REF!
Name LINHA7: #REF!
Name LINHA7: #REF!
Name LINHA7: #REF!
Name LINHA7: #REF!
Name LINHA7: #REF!
Name LINHA7: #REF!
Name Print_Area_MI: #REF!
Name Print_Area_MI: #REF!
Name Print_Area_MI: #REF!
Name Print_Area_MI: #REF!
Name Print_Area_MI: #REF!
Name Print_Area_MI: #REF!
Name Print_Area_MI: #REF!
Name Print_Area_MI: #REF!
Name Print_Area_MI: #REF!

Sheet DADOS
B2: DADOS DO CONTRATANTE
B3: CLIENTE: | C3: PREFEITURA MUNICIPAL DE JARDIM / MS
B4: ENDEREÇO: | C4: RUA CEL. JUVÊNCIO, Nº 547 - CENTRO
B6: DADOS DA OBRA
B7: OBRA: | C7: PAVIMENTAÇÃO ASFÁLTICA E DRENAGEM DE ÁGUAS PLUVIAIS
B8: LOCAL: | C8: JARDIM PREVISUL, JARDIM / MS
B9: REFERÊNCIA | C9: SEM DESONERAÇÃO
C10: HORISTA: 115,71% MENSALISTA: 71,57%
C12: COMPOSIÇÃO MS: 01/2026 INSUMO MS: 01/2026 AGESUL MS: 01/2026
C15: SICRO MS 10/2025
B16: BDI SERVIÇO: | C16: ='BDI SERVIÇO'!$F$50 -> 0.2403
B18: DADOS DA CONTRATADA
B19: CLIENTE: | C19: ELEMENTO ENGENHARIA E ARQUITETURA LTDA - CREA 20196 - MS
B20: ENDEREÇO: | C20: RUA ANTÔNIO MARIA COELHO, Nº 4.017 - SALA 03 - SANTA FÉ
B21: PROFISSIONAL | C21: MARCELLA BERNARDO LIMA - CREA 61634 / D - MS
C22: VANESSA CRISTINA DE SOUZA - CAU A229391-9
C23: FERNANDO PEREIRA KHALIL - CREA 17392 / D - MS

Sheet Resumo DMT's
B2: =DADOS!$B$3 -> CLIENTE: | C2: =DADOS!$C$3 -> PREFEITURA MUNICIPAL DE JARDIM / MS
B3: =DADOS!$B$4 -> ENDEREÇO: | C3: =DADOS!$C$4 -> RUA CEL. JUVÊNCIO, Nº 547 - CENTRO
B5: =DADOS!$B$7 -> OBRA: | C5: =DADOS!$C$7 -> PAVIMENTAÇÃO ASFÁLTICA E DRENAGEM DE ÁGUAS PLUVIAIS
B6: =DADOS!$B$8 -> LOCAL: | C6: =DADOS!$C$8 -> JARDIM PREVISUL, JARDIM / MS
B8: QUADRO DE DISTÂNCIA MÉDIAS DE TRANSPORTE DE INSUMOS - DMT
B10: INSUMO | C10: LOCAL | D10: CIDADE | E10: DMT (km)
B13: BOTA FORA | C13: LOCAL | D13: JARDIM/MS | E13: 4.3
B14: BOTA DENTRO | C14: LOCAL | D14: JARDIM/MS | E14: 1
B15: PEDREIRA | C15: CALCÁRIO BODOQUENA | D15: BELA VISTA/MS | E15: 55
B16: TUBOS | C16: ARTEFATOS OTTO FRANTZ | D16: JARDIM/MS | E16: 5
B17: JAZIDA DE CASCALHO | C17: CALCÁRIO BODOQUENA | D17: BELA VISTA/MS | E17: 55
B18: CM-IMPRIMA | C18: GRECA ASFALTOS | D18: CAMPO GRANDE/MS | E18: 240
B19: USINA DE CBUQ | C19: MEEL ENGENHARIA | D19: GUIA LOPES DA LAGUNA/MS | E19: 5.9
B20: PISO PODOTÁTIL | C20: LAJ LUCAS | D20: CAMPO GRANDE/MS | E20: 259

Sheet Orçamento
B2: =DADOS!$B$3 -> CLIENTE: | C2: =DADOS!$C$3 -> PREFEITURA MUNICIPAL DE JARDIM / MS | H2: ENCARGOS SOCIAIS | K2: BANCOS
B3: =DADOS!$B$4 -> ENDEREÇO: | C3: =DADOS!$C$4 -> RUA CEL. JUVÊNCIO, Nº 547 - CENTRO | H3: =DADOS!$C$9 -> SEM DESONERAÇÃO | K3: =DADOS!$C$12 -> COMPOSIÇÃO MS: 01/2026 INSUMO MS: 01/2026 AGESUL MS: 01/2026
H4: =DADOS!$C$10 -> HORISTA: 115,71% MENSALISTA: 71,57%
B5: =DADOS!$B$7 -> OBRA: | C5: =DADOS!$C$7 -> PAVIMENTAÇÃO ASFÁLTICA E DRENAGEM DE ÁGUAS PLUVIAIS
B6: =DADOS!$B$8 -> LOCAL: | C6: =DADOS!$C$8 -> JARDIM PREVISUL, JARDIM / MS | K6: =DADOS!B16 -> BDI SERVIÇO: | L6: =DADOS!$C$16 -> 0.2403
B8: PLANILHA ORÇAMENTÁRIA
B10: SICRO / SINAPI | C10: ITEM | D10: SERVIÇO | E10: DMT | F10: UNID. | G10: QUANT. | H10: PREÇO (R$) | L10: %
H11: UNITÁRIO S/ BDI | I11: BDI | J11: UNITÁRIO C/ BDI | K11: TOTAL
C13: 01 | D13: SERVIÇOS PRELIMINARES
D15: PRELIMINARES
B16: 103689 | C16: 01.01 | D16: Fornecimento e instalação de placa de obra com chapa galvanizada e estrutura de madeira | F16: m² | G16: ='Serv. Preliminares'!J11 -> 8 | H16: 458.76 | I16: =TRUNC((H16*$L$6),2) -> 110.24 | J16: =H16+I16 -> 569 | K16: =TRUNC((G16*J16),2) -> 4552 | L16: =K16/$K$222 -> 0.0010221945
B17: 10776 - Insumo | C17: 01.02 | D17: Locação de container 2,30m x 6,00m, alt 2,50m, para escritório, sem divisórias internas e sem sanitário (não inclui mobilização / desmobilização) | F17: mês | G17: ='Serv. Preliminares'!J14 -> 12 | H17: 725.58 | I17: =TRUNC((H17*$L$6),2) -> 174.35 | J17: =H17+I17 -> 899.93 | K17: =TRUNC((G17*J17),2) -> 10799.16 | L17: =K17/$K$222 -> 0.0024250532
B18: ='EEA-SP-05 - Comp. Banheiro Quim'!$B$11 -> EEA-SP-05 | C18: 01.03 | D18: ='EEA-SP-05 - Comp. Banheiro Quim'!$C$11 -> Locação de uma unidade de banheiro químico (2,31m x 1,15m x 1,15m com uma higienização por semana, inclusive transporte, carga e descarga | F18: ='EEA-SP-05 - Comp. Banheiro Quim'!$G$11 -> mês | G18: ='Serv. Preliminares'!J15 -> 12 | H18: ='EEA-SP-05 - Comp. Banheiro Quim'!$I$41 -> 2160 | I18: =TRUNC((H18*$L$6),2) -> 519.04 | J18: =H18+I18 -> 2679.04 | K18: =TRUNC((G18*J18),2) -> 32148.48 | L18: =K18/$K$222 -> 0.0072192445 | N18: IUSP0004 - AGESUL | O18: 2160
B19: ='EEA-SP-06 - Comp. Tapume'!$B$11 -> EEA-SP-06 | C19: 01.04 | D19: ='EEA-SP-06 - Comp. Tapume'!$C$11 -> Fornecimento e colocação de tela tapume de proteção, altura 1,20m, fabricada com polietileno reforçado, por processo de extrusão, fornecida na cor laranja, no tipo leve, rolo com as seguintes dimensões h = 1,20m e I = 50m | F19: ='EEA-SP-06 - Comp. Tapume'!$G$11 -> m² | G19: ='Serv. Preliminares'!J16 -> 4687.11 | H19: ='EEA-SP-06 - Comp. Tapume'!$I$43 -> 7.7 | I19: =TRUNC((H19*$L$6),2) -> 1.85 | J19: =H19+I19 -> 9.55 | K19: =TRUNC((G19*J19),2) -> 44761.9 | L19: =K19/$K$222 -> 0.010051707 | N19: IUI00002 - AGESUL | O19: 7.7
B20: ='EEA-SP-03 - Comp. Sin. F Laranj'!$B$11 -> EEA-SP-03 | C20: 01.05 | D20: ='EEA-SP-03 - Comp. Sin. F Laranj'!$C$11 -> Segurança de trânsito de advertência de obra com placa (fundo laranja) sobre cavalete, conforme ABNT NBR 7678 | F20: ='EEA-SP-03 - Comp. Sin. F Laranj'!$G$11 -> un | G20: ='Serv. Preliminares'!J17 -> 7 | H20: ='EEA-SP-03 - Comp. Sin. F Laranj'!$I$45 -> 1283.71 | I20: =TRUNC((H20*$L$6),2) -> 308.47 | J20: =H20+I20 -> 1592.18 | K20: =TRUNC((G20*J20),2) -> 11145.26 | L20: =K20/$K$222 -> 0.0025027733 | N20: IUI00003 - AGESUL | O20: 1283.71
B21: 13244 - Insumo | C21: 01.06 | D21: Cone de sinalização em PVC rígido com faixa refletiva, H = 70cm / 76cm | F21: un. | G21: ='Serv. Preliminares'!J18 -> 51 | H21: 43.12 | I21: =TRUNC((H21*$L$6),2) -> 10.36 | J21: =H21+I21 -> 53.48 | K21: =TRUNC((G21*J21),2) -> 2727.48 | L21: =K21/$K$222 -> 0.00061248136
B22: 98529 | C22: 01.07 | D22: Corte raso e recorte de árvore com diâmetro de tronca maior ou igual a 0,20m e menor que 0,40m. | F22: un. | G22: ='Serv. Preliminares'!J19 -> 13 | H22: 80.72 | I22: =TRUNC((H22*$L$6),2) -> 19.39 | J22: =H22+I22 -> 100.11 | K22: =TRUNC((G22*J22),2) -> 1301.43 | L22: =K22/$K$222 -> 0.00029224838
E24: =CONCATENATE("SUBTOTAL ",C13) -> SUBTOTAL 01 | K24: =SUM(K13:K23) -> 107435.71 | L24: =SUM(L13:L23) -> 0.024125702
C26: 02 | D26: DEMOLIÇÕES
D28: PAVIMENTO ASFÁLTICO EXISTENTE
B29: 97636 | C29: 02.01 | D29: Demolição parcial de pavimento asfáltico, de forma mecanizada, sem reaproveitamento | F29: m² | G29: =Demolições!I12 -> 7.55 | H29: 22.54 | I29: =TRUNC((H29*$L$6),2) -> 5.41 | J29: =H29+I29 -> 27.95 | K29: =TRUNC((G29*J29),2) -> 211.02 | L29: =K29/$K$222 -> 4.7386532e-05
B30: 100978 | C30: 02.02 | D30: Carga, manobra e descarga de solos e materiais granulares em caminhão basculante 10m³, carga com escavadeira hidráulica (caçamba de 1,20m³ / 155HP) e descarga livre | F30: m³ | G30: =Demolições!I14 -> 0.29 | H30: 7.03 | I30: =TRUNC((H30*$L$6),2) -> 1.68 | J30: =H30+I30 -> 8.71 | K30: =TRUNC((G30*J30),2) -> 2.52 | L30: =K30/$K$222 -> 5.6588977e-07
B31: 95875 | C31: 02.03 | D31: Transporte com caminhão basculante de 10m³, em via urbana pavimentada, DMT até 30km - BOTA FORA | E31: =Demolições!$E$15 -> 4.3 | F31: m³.km | G31: =Demolições!I15 -> 1.24 | H31: 2.5 | I31: =TRUNC((H31*$L$6),2) -> 0.6 | J31: =H31+I31 -> 3.1 | K31: =TRUNC((G31*J31),2) -> 3.84 | L31: =K31/$K$222 -> 8.6230822e-07
B32: 100574 | C32: 02.04 | D32: Espalhamento de material com trator esteiras | F32: m³ | G32: =Demolições!I16 -> 0.29 | H32: 1.42 | I32: =TRUNC((H32*$L$6),2) -> 0.34 | J32: =H32+I32 -> 1.76 | K32: =TRUNC((G32*J32),2) -> 0.51 | L32: =K32/$K$222 -> 1.1452531e-07
D34: MEIO FIO EXISTENTE
B35: 97627 | C35: 02.05 | D35: Demolição de pilares e vigas em concreto armado, de forma mecanizada, com martelete, sem reaproveitamento | F35: m³ | G35: =Demolições!I20 -> 1.37 | H35: 204.25 | I35: =TRUNC((H35*$L$6),2) -> 49.08 | J35: =H35+I35 -> 253.33 | K35: =TRUNC((G35*J35),2) -> 347.06 | L35: =K35/$K$222 -> 7.7935597e-05
B36: 100978 | C36: 02.06 | D36: Carga, manobra e descarga de solos e materiais granulares em caminhão basculante 10m³, carga com escavadeira hidráulica (caçamba de 1,20m³ / 155HP) e descarga livre | F36: m³ | G36: =Demolições!I21 -> 1.78 | H36: 7.03 | I36: =TRUNC((H36*$L$6),2) -> 1.68 | J36: =H36+I36 -> 8.71 | K36: =TRUNC((G36*J36),2) -> 15.5 | L36: =K36/$K$222 -> 3.4806712e-06
B37: 95875 | C37: 02.07 | D37: Transporte com caminhão basculante de 10m³, em via urbana pavimentada, DMT até 30km - BOTA FORA | E37: =Demolições!$E$22 -> 4.3 | F37: m³.km | G37: =Demolições!I22 -> 7.65 | H37: 2.5 | I37: =TRUNC((H37*$L$6),2) -> 0.6 | J37: =H37+I37 -> 3.1 | K37: =TRUNC((G37*J37),2) -> 23.71 | L37: =K37/$K$222 -> 5.3243042e-06
B38: 100574 | C38: 02.08 | D38: Espalhamento de material com trator esteiras | F38: m³ | G38: =Demolições!I23 -> 1.78 | H38: 1.42 | I38: =TRUNC((H38*$L$6),2) -> 0.34 | J38: =H38+I38 -> 1.76 | K38: =TRUNC((G38*J38),2) -> 3.13 | L38: =K38/$K$222 -> 7.0287103e-07
E40: =CONCATENATE("SUBTOTAL ",C26) -> SUBTOTAL 02 | K40: =SUM(K26:K39) -> 607.29 | L40: =SUM(L26:L39) -> 0.0001363727
C42: 03 | D42: DRENAGEM DE ÁGUAS PLUVIAIS - TERRAPLENAGEM
D44: ESCAVAÇÃO DE VALA
B45: 102278 | C45: 03.01 | D45: Escavação mecanizada de vala com prof. de 1,50m até 3,00m (média entre montante e jusante / um composição por trecho), com escavadeira hidráulica (1,20m³ / 155HP), larg. de 1,50m a 2,50m, em solo de 1ª categoria, em locais com nível alto de interferência | F45: m³ | G45: ='Dre-Terraplenagem'!V45 -> 4469.18 | H45: 8.94 | I45: =TRUNC((H45*$L$6),2) -> 2.14 | J45: =H45+I45 -> 11.08 | K45: =TRUNC((G45*J45),2) -> 49518.51 | L45: =K45/$K$222 -> 0.011119849
B46: 93358 | C46: 03.02 | D46: Escavação manual de vala com profundidade menor ou igual a 1,30m | F46: m³ | G46: ='Dre-Terraplenagem'!V50 -> 235.17 | H46: 90.03 | I46: =TRUNC((H46*$L$6),2) -> 21.63 | J46: =H46+I46 -> 111.66 | K46: =TRUNC((G46*J46),2) -> 26259.08 | L46: =K46/$K$222 -> 0.0058967241
D48: LASTRO DE BRITA E PEDRA DE MÃO
B49: 101621 | C49: 03.03 | D49: Preparo de fundo de vala com largura maior ou igual a 1,50m e menor que 2,50m, com camada de brita, lançamento manual | F49: m³ | G49: ='Dre-Terraplenagem'!V53 -> 5.72 | H49: 241.86 | I49: =TRUNC((H49*$L$6),2) -> 58.11 | J49: =H49+I49 -> 299.97 | K49: =TRUNC((G49*J49),2) -> 1715.82 | L49: =K49/$K$222 -> 0.00038530357
B50: ='EEA-LT-02 - Comp. Pedra de Mão'!B11 -> EEA-LT-02 | C50: 03.04 | D50: ='EEA-LT-02 - Comp. Pedra de Mão'!C11 -> Enrocamento com pedra de mão, inclusive espalhamento, compactação mecânica, fornecimento e assentamento | F50: ='EEA-LT-02 - Comp. Pedra de Mão'!G11 -> m³ | G50: ='Dre-Terraplenagem'!V55 -> 28.66 | H50: ='EEA-LT-02 - Comp. Pedra de Mão'!I42 -> 115.46 | I50: =TRUNC((H50*$L$6),2) -> 27.74 | J50: =H50+I50 -> 143.2 | K50: =TRUNC((G50*J50),2) -> 4104.11 | L50: =K50/$K$222 -> 0.00092161662 | N50: IUD30028 - AGESUL | O50: 115.46
B51: 95875 | C51: 03.05 | D51: Transporte com caminhão basculante de 10m³, em via urbana pavimentada, DMT até 30km - BRITA PARA LASTRO DE BRITA E PEDRA DE MÃO | E51: ='Dre-Terraplenagem'!$E$56 -> 30 | F51: m³.km | G51: ='Dre-Terraplenagem'!V56 -> 1031.4 | H51: 2.5 | I51: =TRUNC((H51*$L$6),2) -> 0.6 | J51: =H51+I51 -> 3.1 | K51: =TRUNC((G51*J51),2) -> 3197.34 | L51: =K51/$K$222 -> 0.00071799286
B52: 93590 | C52: 03.06 | D52: Transporte com caminhão basculante de 10m³, em via urbana pavimentada, adicional para DMT excedente a 30km - BRITA PARA LASTRO DE BRITA E PEDRA DE MÃO | E52: ='Dre-Terraplenagem'!$E$57 -> 25 | F52: m³.km | G52: ='Dre-Terraplenagem'!V57 -> 859.5 | H52: 0.99 | I52: =TRUNC((H52*$L$6),2) -> 0.23 | J52: =H52+I52 -> 1.22 | K52: =TRUNC((G52*J52),2) -> 1048.59 | L52: =K52/$K$222 -> 0.00023547078
B53: 104482 | C53: 03.07 | D53: Esgotamento de vala com bomba submersível | F53: m³ | G53: ='Dre-Terraplenagem'!V58 -> 6.7 | H53: 32.54 | I53: =TRUNC((H53*$L$6),2) -> 7.81 | J53: =H53+I53 -> 40.35 | K53: =TRUNC((G53*J53),2) -> 270.34 | L53: =K53/$K$222 -> 6.0707397e-05
...

Sheet BDI SERVIÇO
C2: VERIFICAÇÃO DO BDI - ACÓRDÃO 2.622/2013
C5: DADOS INICIAIS
C7: TIPO DE OBRA: | D7: Construção de rodovias e ferrovias
C9: ENQUADRAMENTO NA DESONERAÇÃO CONFORME LEI N° 12.844/2013:* | G9: NÃO | L9: =IF(G9="","PREENCHER SE A OBRA POSSUI FOLHA DE PAGAMENTO DESONERADA","")
C10: *Uso de encargos sociais desonerados na elaboração do orçamento
C12: ENQUADRAM-SE NO TIPO SELECIONADO:
C13: =VLOOKUP(BV295,BW257:BX262,2,0) -> A construção e recuperação de: auto-estradas, rodovias e outras vias não-urbanas para passagem de veículos, vias férreas de superfície ou subterrâneas (inclusive para metropolitanos), pistas de aeroportos. Esta classe compreende também: a pavimentação de auto-estradas, rodovias e outras vias não-urbanas; construção de pontes, viadutos e túneis; a instalação de barreiras acústicas; a construção de praças de pedágio; a sinalização com pintura em rodovias e aeroportos; a instalação de placas de sinalização de tráfego e semelhantes, conforme classificação 4211-1 do CNAE 2.0. Também enquadram-se a construção, pavimentação e sinalização de vias urbanas, ruas e locais para estacionamento de veículos; a construção de praças e calçadas para pedestres; elevados, passarelas e ciclovias; metrô e VLT.
C15: CÁLCULO DOS IMPOSTOS
C17: TIPO DE TRIBUTAÇÃO SOBRE O LUCRO: | F17: LUCRO PRESUMIDO | L17: =IF(F17="LUCRO REAL","PARA CÁLCULO DO IMPOSTO PREENCHER O % ADOTADO DE LUCRO NO CÁLCULO DO BDI - CELULA F40","")
C19: Imposto | D19: Aliquota | E19: Base de cálculo
C20: PIS | D20: =VLOOKUP($F$17,$CF$266:$CI$267,2,0) -> 0.0065 | E20: =VLOOKUP(F17,CF266:CI267,4,0) -> RECEITA BRUTA (VALOR DA NOTA)
C21: COFINS | D21: =VLOOKUP($F$17,$CF$266:$CI$267,3,0) -> 0.03
C23: ISS BRUTO % (LEI MUNICIPAL): | E23: % INCIDÊNCIA (M.OBRA)*
C24: 0.05 | E24: 0.4
E25: ,
C26: ISS LÍQUIDO | D26: =+C24*E24 -> 0.02
E28: TOTAL IMPOSTOS | G28: =VLOOKUP(F17,CF266:CJ267,5,0) -> 0.0565
C30: *Incidência do total do contrato que representa mão de obra para compor a base de cálculo conf. legislação municipal.
C34: VERIFICAÇÃO E CÁLCULO DO BDI
C36: ITEM COMPONENTE | D36: 1º QUARTIL | E36: MÉDIO | F36: 3º QUARTIL | G36: Adotado | J36: Cálculo arredondado
C37: Administração Central | D37: =BW296 -> 0.038 | E37: =BX296 -> 0.0401 | F37: =BY296 -> 0.0467 | G37: 0.0467 | J37: =TRUNC(G37,4) -> 0.0467
C38: Seguro e Garantia | D38: =BW297 -> 0.0032 | E38: =BX297 -> 0.004 | F38: =BY297 -> 0.0074 | G38: 0.0074 | J38: =TRUNC(G38,4) -> 0.0074
C39: Risco | D39: =BW298 -> 0.005 | E39: =BX298 -> 0.0056 | F39: =BY298 -> 0.0097 | G39: 0.0097 | J39: =TRUNC(G39,4) -> 0.0097
C40: Despesas Financeiras | D40: =BW299 -> 0.0102 | E40: =BX299 -> 0.0111 | F40: =BY299 -> 0.0121 | G40: 0.0121 | J40: =TRUNC(G40,4) -> 0.0121
C41: Lucro | D41: =BW300 -> 0.0664 | E41: =BX300 -> 0.073 | F41: =BY300 -> 0.0869 | G41: 0.0869 | J41: =TRUNC(G41,4) -> 0.0869
C43: Impostos | G43: =G28 -> 0.0565 | J43: =TRUNC(G43,5) -> 0.0565
C50: BDI CALCULADO | F50: =TRUNC((((1+J37+J38+J39)*(1+J40)*(1+J41))/(1-J43))-1,4) -> 0.2403
C52: =IF(F50<D54,"ERRO - BDI INFERIOR AO 1º QUARTIL",IF(F50>F54,"ERRO - BDI SUPERIOR AO 3º QUARTIL",""))
D53: 1º QUARTIL | E53: MÉDIO | F53: 3º QUARTIL
C54: LIMITES DO BDI | D54: =BW295 -> 0.196 | E54: =BX295 -> 0.2097 | F54: =BY295 -> 0.2423
C56: CORREÇÃO DA DESONERAÇÃO
C58: BDI CALCULADO C/ DESONERAÇÃO (USO DE E.S. DESONERADOS): | F58: =TRUNC((((1+J37+J38+J39)*(1+J40)*(1+J41))/(1-J60))-1,4) -> 0.2895
C60: INSS SOBRE A RECEITA BRUTA: | D60: 0.036 | E60: TOTAL IMPOSTOS | G60: =+G28+D60 -> 0.0925 | J60: =TRUNC(G60,5) -> 0.0925
B65: ____________________________________
B66: Elemento Engenharia e Arquitetura CNPJ: 33.545.436/0001-15
BU255: BANCO DE DADOS
BV256: TIPO DE OBRA | BW256: CÓDIGO | BX256: ENQUARAMENTO
BU257: 100 | BV257: Construção de edificios | BW257: =+BU257 -> 100 | BX257: A construção e reforma de: edifícios, unidades habitacionais, escolas, hospitais, hotéis, restaurantes, armazéns e depósitos, edifícios para uso agropecuário, estações para trens e metropolitanos, estádios esportivos e quadras cobertas, instalações para embarque e desembarque de passageiros (em aeroportos, rodoviárias, portos, etc.), penitenciárias e presídios, a construção de edifícios industriais (fábricas, oficinas, galpões industriais, etc.), conforme classificação 4120-4 do CNAE 2.0. Também enquadram-se pórticos, mirantes e outros edifícios de finalidade turística.
BU258: 200 | BV258: Construção de rodovias e ferrovias | BW258: =+BU258 -> 200 | BX258: A construção e recuperação de: auto-estradas, rodovias e outras vias não-urbanas para passagem de veículos, vias férreas de superfície ou subterrâneas (inclusive para metropolitanos), pistas de aeroportos. Esta classe compreende também: a pavimentação de auto-estradas, rodovias e outras vias não-urbanas; construção de pontes, viadutos e túneis; a instalação de barreiras acústicas; a construção de praças de pedágio; a sinalização com pintura em rodovias e aeroportos; a instalação de placas de sinalização de tráfego e semelhantes, conforme classificação 4211-1 do CNAE 2.0. Também enquadram-se a construção, pavimentação e sinalização de vias urbanas, ruas e locais para estacionamento de veículos; a construção de praças e calçadas para pedestres; elevados, passarelas e ciclovias; metrô e VLT.
BU259: 300 | BV259: Construção de Redes de Abastecimento de Água, Coleta de Esgoto e Construções Correlatas | BW259: =+BU259 -> 300 | BX259: A construção de sistemas para o abastecimento de água tratada: reservatórios de distribuição, estações elevatórias de bombeamento, linhas principais de adução de longa e média distância e redes de distribuição de água; a construção de redes de coleta de esgoto, inclusive de interceptores, estações de tratamento de esgoto (ETE), estações de bombeamento de esgoto (EBE); a construção de galerias pluviais (obras de micro e macro drenagem). Esta classe compreende também: as obras de irrigação (canais); a manutenção de redes de abastecimento de água tratada; a manutenção de redes de coleta e de sistemas de tratamento de esgoto, conforme classificação 4222-7 do CNAE 2.0. Enquadra-se ainda a construção de estações de tratamento de água (ETA).
...

Sheet Tabela Resumo
B2: =DADOS!$B$3 -> CLIENTE: | C2: =DADOS!$C$3 -> PREFEITURA MUNICIPAL DE JARDIM / MS
B3: =DADOS!$B$4 -> ENDEREÇO: | C3: =DADOS!$C$4 -> RUA CEL. JUVÊNCIO, Nº 547 - CENTRO
B5: =DADOS!$B$7 -> OBRA: | C5: =DADOS!$C$7 -> PAVIMENTAÇÃO ASFÁLTICA E DRENAGEM DE ÁGUAS PLUVIAIS
B6: =DADOS!$B$8 -> LOCAL: | C6: =DADOS!$C$8 -> JARDIM PREVISUL, JARDIM / MS
B8: ITEM | D8: SERVIÇO | E8: VALOR | F8: %
B10: TABELA RESUMO | C10: =Orçamento!C226 -> 01 | D10: =Orçamento!D226 -> SERVIÇOS PRELIMINARES | E10: =Orçamento!K226 -> 107435.71 | F10: =Orçamento!L226 -> 0.024125702
C11: =Orçamento!C227 -> 02 | D11: =Orçamento!D227 -> DEMOLIÇÕES | E11: =Orçamento!K227 -> 607.29 | F11: =Orçamento!L227 -> 0.0001363727
C12: =Orçamento!C228 -> 03 | D12: =Orçamento!D228 -> DRENAGEM DE ÁGUAS PLUVIAIS - TERRAPLENAGEM | E12: =Orçamento!K228 -> 310040.91 | F12: =Orçamento!L228 -> 0.069622611
C13: =Orçamento!C229 -> 04 | D13: =Orçamento!D229 -> DRENAGEM DE ÁGUAS PLUVIAIS - DISPOSITIVOS ESTRUTURAIS 01 | E13: =Orçamento!K229 -> 611362.82 | F13: =Orçamento!L229 -> 0.13728729
C14: =Orçamento!C230 -> 05 | D14: =Orçamento!D230 -> DRENAGEM DE ÁGUAS PLUVIAIS - DISPOSITIVOS ESTRUTURAIS 02 | E14: =Orçamento!K230 -> 284297.16 | F14: =Orçamento!L230 -> 0.063841609
C15: =Orçamento!C231 -> 06 | D15: =Orçamento!D231 -> IMPLANTAÇÃO ASFÁLTICA - TERRAPLENAGEM | E15: =Orçamento!K231 -> 165404.97 | F15: =Orçamento!L231 -> 0.037143246
C16: =Orçamento!C232 -> 07 | D16: =Orçamento!D232 -> IMPLANTAÇÃO ASFÁLTICA - ESTRUTURA DO PAVIMENTO | E16: =Orçamento!K232 -> 2149782.6 | F16: =Orçamento!L232 -> 0.48275396
C17: =Orçamento!C233 -> 08 | D17: =Orçamento!D233 -> SERVIÇOS COMPLEMENTARES | E17: =Orçamento!K233 -> 390765.26 | F17: =Orçamento!L233 -> 0.087750025
C18: =Orçamento!C234 -> 09 | D18: =Orçamento!D234 -> PASSEIO COM ACESSIBILIDADE | E18: =Orçamento!K234 -> 143928.08 | F18: =Orçamento!L234 -> 0.032320408
C19: =Orçamento!C235 -> 10 | D19: =Orçamento!D235 -> SINALIZAÇÃO VIÁRIA | E19: =Orçamento!K235 -> 72879.74 | F19: =Orçamento!L235 -> 0.016365833
C20: =Orçamento!C236 -> 11 | D20: =Orçamento!D236 -> ADMINISTRAÇÃO LOCAL | E20: =Orçamento!K236 -> 216659.52 | F20: =Orçamento!L236 -> 0.048652939 | H20: =E22/'Pav-Pavimento'!S32 -> 264.29858
B22: VALOR GERAL | E22: =SUM(E9:E21) -> 4453164.1 | F22: =SUM(F9:F21) -> 1

Sheet Cronograma
B2: =DADOS!$B$3 -> CLIENTE: | C2: =DADOS!$C$3 -> PREFEITURA MUNICIPAL DE JARDIM / MS
B3: =DADOS!$B$4 -> ENDEREÇO: | C3: =DADOS!$C$4 -> RUA CEL. JUVÊNCIO, Nº 547 - CENTRO
B5: =DADOS!$B$7 -> OBRA: | C5: =DADOS!$C$7 -> PAVIMENTAÇÃO ASFÁLTICA E DRENAGEM DE ÁGUAS PLUVIAIS
B6: =DADOS!$B$8 -> LOCAL: | C6: =DADOS!$C$8 -> JARDIM PREVISUL, JARDIM / MS
B8: ITEM | D8: SERVIÇO | E8: PESO (%) | F8: PREÇO TOTAL | G8: MÊS 01 | I8: MÊS 02 | K8: MÊS 03
G9: VALOR | H9: % | I9: VALOR | J9: % | K9: VALOR | L9: %
B11: CRONOGRAMA FÍSICO FINANCEIRO | C11: ='Tabela Resumo'!C10 -> 01 | D11: ='Tabela Resumo'!D10 -> SERVIÇOS PRELIMINARES | E11: ='Tabela Resumo'!F10 -> 0.024125702 | F11: ='Tabela Resumo'!E10 -> 107435.71 | G11: =H11*$F$11 -> 107435.71 | H11: 1 | I11: =J11*$F$11 -> 0 | K11: =L11*$F$11 -> 0 | N11: =H11+J11+L11+H29+J29+L29+H47+J47+L47+H65+J65+L65 -> 1
C12: ='Tabela Resumo'!C11 -> 02 | D12: ='Tabela Resumo'!D11 -> DEMOLIÇÕES | E12: ='Tabela Resumo'!F11 -> 0.0001363727 | F12: ='Tabela Resumo'!E11 -> 607.29 | G12: =H12*$F$12 -> 607.29 | H12: 1 | I12: =J12*$F$12 -> 0 | K12: =L12*$F$12 -> 0 | N12: =H12+J12+L12+H30+J30+L30+H48+J48+L48+H66+J66+L66 -> 1
C13: ='Tabela Resumo'!C12 -> 03 | D13: ='Tabela Resumo'!D12 -> DRENAGEM DE ÁGUAS PLUVIAIS - TERRAPLENAGEM | E13: ='Tabela Resumo'!F12 -> 0.069622611 | F13: ='Tabela Resumo'!E12 -> 310040.91 | G13: =H13*$F$13 -> 248032.73 | H13: 0.8 | I13: =J13*$F$13 -> 62008.182 | J13: 0.2 | K13: =L13*$F$13 -> 0 | N13: =H13+J13+L13+H31+J31+L31+H49+J49+L49+H67+J67+L67 -> 1
C14: ='Tabela Resumo'!C13 -> 04 | D14: ='Tabela Resumo'!D13 -> DRENAGEM DE ÁGUAS PLUVIAIS - DISPOSITIVOS ESTRUTURAIS 01 | E14: ='Tabela Resumo'!F13 -> 0.13728729 | F14: ='Tabela Resumo'!E13 -> 611362.82 | G14: =H14*$F$14 -> 0 | I14: =J14*$F$14 -> 305681.41 | J14: 0.5 | K14: =L14*$F$14 -> 305681.41 | L14: 0.5 | N14: =H14+J14+L14+H32+J32+L32+H50+J50+L50+H68+J68+L68 -> 1
C15: ='Tabela Resumo'!C14 -> 05 | D15: ='Tabela Resumo'!D14 -> DRENAGEM DE ÁGUAS PLUVIAIS - DISPOSITIVOS ESTRUTURAIS 02 | E15: ='Tabela Resumo'!F14 -> 0.063841609 | F15: ='Tabela Resumo'!E14 -> 284297.16 | G15: =H15*$F$15 -> 0 | I15: =J15*$F$15 -> 0 | K15: =L15*$F$15 -> 56859.432 | L15: 0.2 | N15: =H15+J15+L15+H33+J33+L33+H51+J51+L51+H69+J69+L69 -> 1
C16: ='Tabela Resumo'!C15 -> 06 | D16: ='Tabela Resumo'!D15 -> IMPLANTAÇÃO ASFÁLTICA - TERRAPLENAGEM | E16: ='Tabela Resumo'!F15 -> 0.037143246 | F16: ='Tabela Resumo'!E15 -> 165404.97 | G16: =H16*$F$16 -> 0 | I16: =J16*$F$16 -> 0 | K16: =L16*$F$16 -> 0 | N16: =H16+J16+L16+H34+J34+L34+H52+J52+L52+H70+J70+L70 -> 1
C17: ='Tabela Resumo'!C16 -> 07 | D17: ='Tabela Resumo'!D16 -> IMPLANTAÇÃO ASFÁLTICA - ESTRUTURA DO PAVIMENTO | E17: ='Tabela Resumo'!F16 -> 0.48275396 | F17: ='Tabela Resumo'!E16 -> 2149782.6 | G17: =H17*$F$17 -> 0 | I17: =J17*$F$17 -> 0 | K17: =L17*$F$17 -> 0 | N17: =H17+J17+L17+H35+J35+L35+H53+J53+L53+H71+J71+L71 -> 1
C18: ='Tabela Resumo'!C17 -> 08 | D18: ='Tabela Resumo'!D17 -> SERVIÇOS COMPLEMENTARES | E18: ='Tabela Resumo'!F17 -> 0.087750025 | F18: ='Tabela Resumo'!E17 -> 390765.26 | G18: =H18*$F$18 -> 0 | I18: =J18*$F$18 -> 0 | K18: =L18*$F$18 -> 0 | N18: =H18+J18+L18+H36+J36+L36+H54+J54+L54+H72+J72+L72 -> 1
C19: ='Tabela Resumo'!C18 -> 09 | D19: ='Tabela Resumo'!D18 -> PASSEIO COM ACESSIBILIDADE | E19: ='Tabela Resumo'!F18 -> 0.032320408 | F19: ='Tabela Resumo'!E18 -> 143928.08 | G19: =H19*$F$19 -> 0 | I19: =J19*$F$19 -> 0 | K19: =L19*$F$19 -> 0 | N19: =H19+J19+L19+H37+J37+L37+H55+J55+L55+H73+J73+L73 -> 1
C20: ='Tabela Resumo'!C19 -> 10 | D20: ='Tabela Resumo'!D19 -> SINALIZAÇÃO VIÁRIA | E20: ='Tabela Resumo'!F19 -> 0.016365833 | F20: ='Tabela Resumo'!E19 -> 72879.74 | G20: =H20*$F$20 -> 0 | I20: =J20*$F$20 -> 0 | K20: =L20*$F$20 -> 0 | N20: =H20+J20+L20+H38+J38+L38+H56+J56+L56+H74+J74+L74 -> 1
C21: ='Tabela Resumo'!C20 -> 11 | D21: ='Tabela Resumo'!D20 -> ADMINISTRAÇÃO LOCAL | E21: ='Tabela Resumo'!F20 -> 0.048652939 | F21: ='Tabela Resumo'!E20 -> 216659.52 | G21: =H21*$F$21 -> 18054.96 | H21: =1/12 -> 0.083333333 | I21: =J21*$F$21 -> 18054.96 | J21: =1/12 -> 0.083333333 | K21: =L21*$F$21 -> 18054.96 | L21: =1/12 -> 0.083333333 | N21: =H21+J21+L21+H39+J39+L39+H57+J57+L57+H75+J75+L75 -> 1
B23: TOTAL MENSAL | E23: =SUM(E10:E22) -> 1 | F23: =SUM(F10:F22) -> 4453164.1 | G23: =SUM(G10:G22) -> 374130.69 | H23: =G23/$F$23 -> 0.084014575 | I23: =SUM(I10:I22) -> 385744.55 | J23: =I23/$F$23 -> 0.086622578 | K23: =SUM(K10:K22) -> 380595.8 | L23: =K23/$F$23 -> 0.085466378
B24: TOTAL MENSAL ACUMULADO | G24: =G23 -> 374130.69 | H24: =H23 -> 0.084014575 | I24: =I23+G24 -> 759875.24 | J24: =J23+H24 -> 0.17063715 | K24: =K23+I24 -> 1140471 | L24: =L23+J24 -> 0.25610353
B26: ITEM | D26: SERVIÇO | E26: PESO (%) | F26: PREÇO TOTAL | G26: MÊS 04 | I26: MÊS 05 | K26: MÊS 06
G27: VALOR | H27: % | I27: VALOR | J27: % | K27: VALOR | L27: %
B29: CRONOGRAMA FÍSICO FINANCEIRO | C29: ='Tabela Resumo'!C10 -> 01 | D29: ='Tabela Resumo'!D10 -> SERVIÇOS PRELIMINARES | E29: ='Tabela Resumo'!F10 -> 0.024125702 | F29: ='Tabela Resumo'!E10 -> 107435.71 | G29: =H29*$F$29 -> 0 | I29: =J29*$F$29 -> 0 | K29: =L29*$F$29 -> 0 | N29: =N11 -> 1
C30: ='Tabela Resumo'!C11 -> 02 | D30: ='Tabela Resumo'!D11 -> DEMOLIÇÕES | E30: ='Tabela Resumo'!F11 -> 0.0001363727 | F30: ='Tabela Resumo'!E11 -> 607.29 | G30: =H30*$F$30 -> 0 | I30: =J30*$F$30 -> 0 | K30: =L30*$F$30 -> 0 | N30: =N12 -> 1
C31: ='Tabela Resumo'!C12 -> 03 | D31: ='Tabela Resumo'!D12 -> DRENAGEM DE ÁGUAS PLUVIAIS - TERRAPLENAGEM | E31: ='Tabela Resumo'!F12 -> 0.069622611 | F31: ='Tabela Resumo'!E12 -> 310040.91 | G31: =H31*$F$31 -> 0 | I31: =J31*$F$31 -> 0 | K31: =L31*$F$31 -> 0 | N31: =N13 -> 1
C32: ='Tabela Resumo'!C13 -> 04 | D32: ='Tabela Resumo'!D13 -> DRENAGEM DE ÁGUAS PLUVIAIS - DISPOSITIVOS ESTRUTURAIS 01 | E32: ='Tabela Resumo'!F13 -> 0.13728729 | F32: ='Tabela Resumo'!E13 -> 611362.82 | G32: =H32*$F$32 -> 0 | I32: =J32*$F$32 -> 0 | K32: =L32*$F$32 -> 0 | N32: =N14 -> 1
C33: ='Tabela Resumo'!C14 -> 05 | D33: ='Tabela Resumo'!D14 -> DRENAGEM DE ÁGUAS PLUVIAIS - DISPOSITIVOS ESTRUTURAIS 02 | E33: ='Tabela Resumo'!F14 -> 0.063841609 | F33: ='Tabela Resumo'!E14 -> 284297.16 | G33: =H33*$F$33 -> 0 | I33: =J33*$F$33 -> 0 | K33: =L33*$F$33 -> 0 | N33: =N15 -> 1
C34: ='Tabela Resumo'!C15 -> 06 | D34: ='Tabela Resumo'!D15 -> IMPLANTAÇÃO ASFÁLTICA - TERRAPLENAGEM | E34: ='Tabela Resumo'!F15 -> 0.037143246 | F34: ='Tabela Resumo'!E15 -> 165404.97 | G34: =H34*$F$34 -> 24810.746 | H34: 0.15 | I34: =J34*$F$34 -> 24810.746 | J34: 0.15 | K34: =L34*$F$34 -> 24810.746 | L34: 0.15 | N34: =N16 -> 1
C35: ='Tabela Resumo'!C16 -> 07 | D35: ='Tabela Resumo'!D16 -> IMPLANTAÇÃO ASFÁLTICA - ESTRUTURA DO PAVIMENTO | E35: ='Tabela Resumo'!F16 -> 0.48275396 | F35: ='Tabela Resumo'!E16 -> 2149782.6 | G35: =H35*$F$35 -> 322467.39 | H35: 0.15 | I35: =J35*$F$35 -> 322467.39 | J35: 0.15 | K35: =L35*$F$35 -> 322467.39 | L35: 0.15 | N35: =N17 -> 1
C36: ='Tabela Resumo'!C17 -> 08 | D36: ='Tabela Resumo'!D17 -> SERVIÇOS COMPLEMENTARES | E36: ='Tabela Resumo'!F17 -> 0.087750025 | F36: ='Tabela Resumo'!E17 -> 390765.26 | G36: =H36*$F$36 -> 0 | I36: =J36*$F$36 -> 0 | K36: =L36*$F$36 -> 0 | N36: =N18 -> 1
C37: ='Tabela Resumo'!C18 -> 09 | D37: ='Tabela Resumo'!D18 -> PASSEIO COM ACESSIBILIDADE | E37: ='Tabela Resumo'!F18 -> 0.032320408 | F37: ='Tabela Resumo'!E18 -> 143928.08 | G37: =H37*$F$37 -> 0 | I37: =J37*$F$37 -> 0 | K37: =L37*$F$37 -> 0 | N37: =N19 -> 1
C38: ='Tabela Resumo'!C19 -> 10 | D38: ='Tabela Resumo'!D19 -> SINALIZAÇÃO VIÁRIA | E38: ='Tabela Resumo'!F19 -> 0.016365833 | F38: ='Tabela Resumo'!E19 -> 72879.74 | G38: =H38*$F$38 -> 0 | I38: =J38*$F$38 -> 0 | K38: =L38*$F$38 -> 0 | N38: =N20 -> 1
C39: ='Tabela Resumo'!C20 -> 11 | D39: ='Tabela Resumo'!D20 -> ADMINISTRAÇÃO LOCAL | E39: ='Tabela Resumo'!F20 -> 0.048652939 | F39: ='Tabela Resumo'!E20 -> 216659.52 | G39: =H39*$F$39 -> 18054.96 | H39: =1/12 -> 0.083333333 | I39: =J39*$F$39 -> 18054.96 | J39: =1/12 -> 0.083333333 | K39: =L39*$F$39 -> 18054.96 | L39: =1/12 -> 0.083333333 | N39: =N21 -> 1
B41: TOTAL MENSAL | E41: =SUM(E28:E40) -> 1 | F41: =SUM(F28:F40) -> 4453164.1 | G41: =SUM(G28:G40) -> 365333.1 | H41: =G41/$F$41 -> 0.082038993 | I41: =SUM(I28:I40) -> 365333.1 | J41: =I41/$F$41 -> 0.082038993 | K41: =SUM(K28:K40) -> 365333.1 | L41: =K41/$F$41 -> 0.082038993
B42: TOTAL MENSAL ACUMULADO | G42: =G41+K24 -> 1505804.1 | H42: =H41+L24 -> 0.33814252 | I42: =I41+G42 -> 1871137.2 | J42: =J41+H42 -> 0.42018152 | K42: =K41+I42 -> 2236470.3 | L42: =L41+J42 -> 0.50222051
B44: ITEM | D44: SERVIÇO | E44: PESO (%) | F44: PREÇO TOTAL | G44: MÊS 07 | I44: MÊS 08 | K44: MÊS 09
G45: VALOR | H45: % | I45: VALOR | J45: % | K45: VALOR | L45: %
B47: CRONOGRAMA FÍSICO FINANCEIRO | C47: =C29 -> 01 | D47: =D29 -> SERVIÇOS PRELIMINARES | E47: =E29 -> 0.024125702 | F47: =F29 -> 107435.71 | G47: =H47*$F$47 -> 0 | I47: =J47*$F$47 -> 0 | K47: =L47*$F$47 -> 0 | N47: =N29 -> 1
C48: =C30 -> 02 | D48: =D30 -> DEMOLIÇÕES | E48: =E30 -> 0.0001363727 | F48: =F30 -> 607.29 | G48: =H48*$F$48 -> 0 | I48: =J48*$F$48 -> 0 | K48: =L48*$F$48 -> 0 | N48: =N30 -> 1
C49: =C31 -> 03 | D49: =D31 -> DRENAGEM DE ÁGUAS PLUVIAIS - TERRAPLENAGEM | E49: =E31 -> 0.069622611 | F49: =F31 -> 310040.91 | G49: =H49*$F$49 -> 0 | I49: =J49*$F$49 -> 0 | K49: =L49*$F$49 -> 0 | N49: =N31 -> 1
C50: =C32 -> 04 | D50: =D32 -> DRENAGEM DE ÁGUAS PLUVIAIS - DISPOSITIVOS ESTRUTURAIS 01 | E50: =E32 -> 0.13728729 | F50: =F32 -> 611362.82 | G50: =H50*$F$50 -> 0 | I50: =J50*$F$50 -> 0 | K50: =L50*$F$50 -> 0 | N50: =N32 -> 1
...

Sheet Serv. Preliminares
B2: =DADOS!$B$3 -> CLIENTE: | C2: =DADOS!$C$3 -> PREFEITURA MUNICIPAL DE JARDIM / MS
B3: =DADOS!$B$4 -> ENDEREÇO: | C3: =DADOS!$C$4 -> RUA CEL. JUVÊNCIO, Nº 547 - CENTRO
B5: =DADOS!$B$7 -> OBRA: | C5: =DADOS!$C$7 -> PAVIMENTAÇÃO ASFÁLTICA E DRENAGEM DE ÁGUAS PLUVIAIS
B6: =DADOS!$B$8 -> LOCAL: | C6: =DADOS!$C$8 -> JARDIM PREVISUL, JARDIM / MS
B8: ITEM | G8: DRENAGEM DE ÁGUAS PLUVIAIS | H8: PAVIMENTAÇÃO ASFÁLTICA | J8: TOTAL
B10: MEMÓRIA DE CÁLCULO DE SERVIÇOS PRELIMINARES | C10: EXTENSÃO (m) | G10: ='Dre-Terraplenagem'!V10 -> 1385.1 | H10: ='Pav-Terrapl'!R10 -> 2520.83 | J10: =SUM(F10:I10) -> 3905.93
C11: PLACA DE OBRA (m²) | D11: QUANTIDADE (un) | E11: 1 | G11: =TRUNC((E11*E12*E13),2) -> 8 | J11: =SUM(F11:I13) -> 8
D12: COMPRIMENTO (m) | E12: 4
D13: LARGURA (m) | E13: 2
C14: LOCAÇÃO DE CONTAINER (un) | G14: =Orçamento!$P$213 -> 12 | J14: =SUM(F14:I14) -> 12
C15: LOCAÇÃO DE BANHEIRO QUÍMICO (un) | G15: =G14 -> 12 | J15: =SUM(F15:I15) -> 12
C16: ISOLAMENTO DE OBRA (m²) | G16: =TRUNC((G10*1.2),2) -> 1662.12 | H16: =TRUNC((H10*1.2),2) -> 3024.99 | J16: =SUM(F16:I16) -> 4687.11
C17: SEGURANÇA DE TRÂNSITO | D17: PLACA DE ADVERTÊNCIA (un) | G17: =INT((G10/250)/2) -> 2 | H17: =INT((H10/250)/2) -> 5 | J17: =SUM(F17:I17) -> 7
C18: CONE DE SINALIZAÇÃO (un) | G18: =INT((G10/150)*2) -> 18 | H18: =INT((H10/150)*2) -> 33 | J18: =SUM(F18:I18) -> 51
C19: REMOÇÃO DE ÁRVORES (un) | G19: 13 | J19: =SUM(F19:I19) -> 13

Sheet Demolições
B2: =DADOS!$B$3 -> CLIENTE: | C2: =DADOS!$C$3 -> PREFEITURA MUNICIPAL DE JARDIM / MS
B3: =DADOS!$B$4 -> ENDEREÇO: | C3: =DADOS!$C$4 -> RUA CEL. JUVÊNCIO, Nº 547 - CENTRO
B5: =DADOS!$B$7 -> OBRA: | C5: =DADOS!$C$7 -> PAVIMENTAÇÃO ASFÁLTICA E DRENAGEM DE ÁGUAS PLUVIAIS
B6: =DADOS!$B$8 -> LOCAL: | C6: =DADOS!$C$8 -> JARDIM PREVISUL, JARDIM / MS
B8: ITEM | G8: ='Pav-Terrapl'!K8 -> RUA TEODORINA GONÇALVES | I8: TOTAL
B10: DEMILIÇÕES | C10: DEMOLIÇÃO DE PAVIMENTO ASFÁLTICO | D10: EXTENSÃO (m) | G10: 7.55 | I10: =SUM(F10:H10) -> 7.55
D11: LARGURA MÉDIA (m) | G11: 1
D12: ÁREA DE DEMOLIÇÃO DE PAVIMENTO (m²) | G12: =TRUNC((G10*G11),2) -> 7.55 | I12: =SUM(F12:H12) -> 7.55
D13: ESPESSURA (m) | G13: 0.03
D14: CARGA E DESCARGA (BOTA FORA) (m³) | G14: =TRUNC((G12*G13*1.3),2) -> 0.29 | I14: =SUM(F14:H14) -> 0.29
D15: TRANSPORTE BOTA FORA (m³.km) | E15: ='Resumo DMT''s'!$E$13 -> 4.3 | G15: =TRUNC((G14*$E$15),2) -> 1.24 | I15: =SUM(F15:H15) -> 1.24
D16: ESPALHAMENTO (m³) | G16: =G14 -> 0.29 | I16: =SUM(F16:H16) -> 0.29
C18: DEMOLIÇÃO DE MEIO FIO | D18: EXTENSÃO (m) | G18: =11.43+10.94 -> 22.37 | I18: =SUM(F18:H18) -> 22.37
D19: SEÇÃO MEIO FIO (m²) | G19: 0.0615
D20: VOLUME DE DEMOLIÇÃO DE MEIO FIO (m³) | G20: =TRUNC((G18*G19),2) -> 1.37 | I20: =SUM(F20:H20) -> 1.37
D21: CARGA E DESCARGA (BOTA FORA) (m³) | G21: =TRUNC((G20*1.3),2) -> 1.78 | I21: =SUM(F21:H21) -> 1.78
D22: TRANSPORTE BOTA FORA (m³.km) | E22: ='Resumo DMT''s'!$E$13 -> 4.3 | G22: =TRUNC((G21*$E$22),2) -> 7.65 | I22: =SUM(F22:H22) -> 7.65
D23: ESPALHAMENTO (m³) | G23: =G21 -> 1.78 | I23: =SUM(F23:H23) -> 1.78

Sheet Dre-Dados
B2: TRECHO N° | C2: COTA TERRENO (m) | E2: EXTENSÃO (m) | F2: BACIA HIDROGRÁFICA | H2: TRECHO À | L2: NÃO DIGITAR NADA NESSA COLUNA
F3: ÁREA (ha) | G3: RUN OFF | H3: JUSANTE | I3: MONTANTE
C4: MONTANTE | D4: JUSANTE | I4: A | J4: B | K4: C
B6: 1 | C6: 235.926 | E6: 89.52 | F6: 1.0845 | G6: 0.6 | H6: 2 | L6: =IF(D6>0,B6,0) -> 0 | N6: VERIFICAÇÃO DOS TRECHOS: | P6: =IF(P9+P8=P7,"OK","NÃO") -> NÃO
B7: =B6+1 -> 2 | C7: 233.095 | E7: 90.49 | F7: 1.2545 | G7: 0.6 | H7: 3 | I7: 1 | L7: =IF(D7>0,B7,0) -> 0 | N7: TOTAL DOS TRECHOS: | P7: =SUM(B5:B124) -> 528
B8: =B7+1 -> 3 | C8: 230.387 | E8: 116.24 | F8: 1.2604 | G8: 0.6 | H8: 4 | I8: 2 | L8: =IF(D8>0,B8,0) -> 0 | N8: TOTAL DOS LANÇAMENTOS: | P8: =SUM(L5:L124) -> 67
B9: =B8+1 -> 4 | C9: 227.822 | E9: 85.02 | F9: 1.3972 | G9: 0.6 | H9: 5 | I9: 3 | L9: =IF(D9>0,B9,0) -> 0 | N9: TOTAL DOS MONTANTES: | P9: =SUM(I5:K124) -> 202
B10: =B9+1 -> 5 | C10: 227.4 | E10: 79.33 | F10: 1.1274 | G10: 0.6 | H10: 10 | I10: 4 | L10: =IF(D10>0,B10,0) -> 0 | N10: TRECHO QUE FALTA: | P10: =P7-P8-P9 -> 259
B11: =B10+1 -> 6 | C11: 230.596 | E11: 68.51 | F11: 0.8448 | G11: 0.6 | H11: 7 | L11: =IF(D11>0,B11,0) -> 0
B12: =B11+1 -> 7 | C12: 229.154 | E12: 68.51 | F12: 0.368 | G12: 0.6 | H12: 8 | I12: 6 | L12: =IF(D12>0,B12,0) -> 0
B13: =B12+1 -> 8 | C13: 228.29 | E13: 69.29 | F13: 1.7585 | G13: 0.6 | H13: 9 | I13: 7 | L13: =IF(D13>0,B13,0) -> 0
B14: =B13+1 -> 9 | C14: 227.505 | E14: 69.29 | F14: 0.426 | G14: 0.6 | H14: 10 | I14: 8 | L14: =IF(D14>0,B14,0) -> 0
B15: =B14+1 -> 10 | C15: 226.438 | E15: 73.61 | F15: 0.6962 | G15: 0.6 | H15: 11 | I15: 9 | J15: 5 | L15: =IF(D15>0,B15,0) -> 0
B16: =B15+1 -> 11 | C16: 224.766 | D16: 222.224 | E16: 34.68 | F16: 1.1776 | G16: 0.6 | I16: 10 | L16: =IF(D16>0,B16,0) -> 11
B17: =B16+1 -> 12 | L17: =IF(D17>0,B17,0) -> 0
B18: =B17+1 -> 13 | L18: =IF(D18>0,B18,0) -> 0
B19: =B18+1 -> 14 | L19: =IF(D19>0,B19,0) -> 0
B20: =B19+1 -> 15 | L20: =IF(D20>0,B20,0) -> 0
B21: =B20+1 -> 16 | L21: =IF(D21>0,B21,0) -> 0
B22: =B21+1 -> 17 | L22: =IF(D22>0,B22,0) -> 0
B23: =B22+1 -> 18 | L23: =IF(D23>0,B23,0) -> 0
B24: =B23+1 -> 19 | L24: =IF(D24>0,B24,0) -> 0
B25: =B24+1 -> 20 | C25: 226.13 | E25: 88.65 | F25: 1.2166 | G25: 0.6 | H25: 21 | L25: =IF(D25>0,B25,0) -> 0
B26: =B25+1 -> 21 | C26: 225.015 | E26: 84.58 | F26: 0.4636 | G26: 0.6 | H26: 22 | I26: 20 | L26: =IF(D26>0,B26,0) -> 0
B27: =B26+1 -> 22 | C27: 224.535 | E27: 80.4 | F27: 1.3931 | G27: 0.6 | H27: 23 | I27: 21 | L27: =IF(D27>0,B27,0) -> 0
B28: =B27+1 -> 23 | C28: 223.742 | E28: 39.29 | F28: 1.316 | G28: 0.6 | H28: 24 | I28: 22 | L28: =IF(D28>0,B28,0) -> 0
B29: =B28+1 -> 24 | C29: 223.585 | D29: 220.764 | E29: 16.19 | F29: 0.4167 | G29: 0.6 | I29: 23 | L29: =IF(D29>0,B29,0) -> 24
B30: =B29+1 -> 25 | L30: =IF(D30>0,B30,0) -> 0
B31: =B30+1 -> 26 | L31: =IF(D31>0,B31,0) -> 0
B32: =B31+1 -> 27 | L32: =IF(D32>0,B32,0) -> 0
B33: =B32+1 -> 28 | L33: =IF(D33>0,B33,0) -> 0
B34: =B33+1 -> 29 | L34: =IF(D34>0,B34,0) -> 0
B35: =B34+1 -> 30 | C35: 227.331 | E35: 120 | F35: 1.2432 | G35: 0.6 | H35: 31 | L35: =IF(D35>0,B35,0) -> 0
B36: =B35+1 -> 31 | C36: 225.44 | E36: 120 | F36: 0.9461 | G36: 0.6 | H36: 32 | I36: 30 | L36: =IF(D36>0,B36,0) -> 0
B37: =B36+1 -> 32 | C37: 223.603 | D37: 221.35 | E37: 16.39 | F37: 1.0807 | G37: 0.6 | I37: 31 | L37: =IF(D37>0,B37,0) -> 32

Sheet Dre-Dim
B1: =DADOS!$B$3 -> CLIENTE: | C1: =Orçamento!C2 -> PREFEITURA MUNICIPAL DE JARDIM / MS | AA1: EQUAÇÃO DE CHUVA
B2: =DADOS!$B$4 -> ENDEREÇO: | C2: =Orçamento!C3 -> RUA CEL. JUVÊNCIO, Nº 547 - CENTRO | AA2: I = a.TR ^ b / (tc + c) ^ d
K3: DIMENSIONAMENTO - DRENAGEM DE ÁGUAS PLUVIAIS | AA3: a = | AB3: 1313.07 | AC3: c = | AD3: 11
B4: =DADOS!$B$7 -> OBRA: | C4: =Orçamento!C5 -> PAVIMENTAÇÃO ASFÁLTICA E DRENAGEM DE ÁGUAS PLUVIAIS | AA4: b = | AB4: 0.177 | AC4: d = | AD4: 0.803
B5: =DADOS!$B$8 -> LOCAL: | C5: =Orçamento!C6 -> JARDIM PREVISUL, JARDIM / MS | AA5: TR = | AB5: 10 | AC5: Isozona | AD5: 41
B7: TRECHO | C7: POÇO DE VISITA - COTAS (m) | J7: EXTENSÃO (m) | K7: BACIA LOCAL | M7: ÁREA TOTAL (ha) | N7: COEF. DIST. (n) | O7: TEMPO CONC. (min) | P7: INTENS. PLUVIOM. (mm/h) | Q7: COEF. DEFLÚVIO (f) | R7: DEFLÚVIO LOCAL (l/s) | S7: VAZÃO À ESCOAR (l/s) | T7: DECLIVIDADE (%) | W7: SEÇÃO DA GALERIA | AA7: ALTURA D'ÁGUA (m) | AC7: VELOC. (m/s) | AD7: TEMPO DE PERCURSO (min) | AG7: TRECHO À | AK7: COTA DE FUNDO DE MONTANTE | AN7: TEMPO DE CONCENTRAÇÃO | AQ7: ALTURA D´AGUA - NORMAL | AT7: ÁREA Ø | AU7: ALTURA D´AGUA - CRÍTICA
C8: MONTANTE | G8: JUSANTE | K8: ÁREA (ha) | L8: RUN OFF | T8: TERRENO NATURAL | U8: GALERIA | W8: MATERIAL | X8: COEF. DE MANNING | Y8: Nº DE LINHAS | Z8: CIRCULAR Ø (m) | AG8: JUSANTE | AH8: MONTANTE | AQ8: F1 | AR8: F2 | AS8: F3 | AU8: G1 | AV8: G2 | AW8: G3
C9: TAMPA | D9: DEGRAU | E9: FUNDO | F9: PROF. | G9: TAMPA | H9: FUNDO | I9: PROF. | U9: PROJETO | V9: MÍNIMA | AA9: NORMAL | AB9: CRÍTICA | AH9: A | AI9: B | AJ9: C | AK9: A | AL9: B | AM9: C | AN9: A | AO9: B | AP9: C | AQ9: hc < 30 | AR9: 30 > hc > 85 | AS9: hc > 85 | AT9: C1 | AU9: hc < 30 | AV9: 30 > hc > 85 | AW9: hc > 85
B11: ='Dre-Dados'!B6 -> 1 | C11: ='Dre-Dados'!C6 -> 235.926 | D11: 0.257 | E11: =IF(MINA(AK11,AL11,AM11)=10000,C11-Z11-IF(Z11=0.6,0.9,IF(Z11=0.8,0.8,IF(Z11=1,0.9,IF(Z11=1.2,1.1,1.15)))),MINA(AK11,AL11,AM11))-D11 -> 233.769 | F11: =IF(ABS(C11-E11)<=Z11+IF(Z11=0.6,0.69,IF(Z11=0.8,0.79,0.89)),E11-C11,(C11-E11)) -> 2.157 | G11: =INDIRECT(REPLACE("C00",2,2,FIXED(AG11+10,0))) -> 233.095 | H11: =(E11-(J11*(U11/100))) -> 230.90436 | I11: =IF(ABS(G11-H11)<Z11+IF(Z11=0.6,0.69,IF(Z11=0.8,0.79,0.89)),H11-G11,(G11-H11)) -> 2.19064 | J11: ='Dre-Dados'!E6 -> 89.52 | K11: ='Dre-Dados'!F6 -> 1.0845 | L11: ='Dre-Dados'!G6 -> 0.6 | M11: =IF($AH11=0,0,INDIRECT(REPLACE("M00",2,2,FIXED($AH11+10,0))))+IF($AI11=0,0,INDIRECT(REPLACE("M00",2,2,FIXED($AI11+10,0))))+IF($AJ11=0,0,INDIRECT(REPLACE("M00",2,2,FIXED($AJ11+10,0))))+K11 -> 1.0845 | N11: =IF(M11<1,1,M11^-0.178) -> 0.98566455 | O11: =MAXA(AN11,AO11,AP11) -> 15 | P11: =+AB$3*AB$5^AB$4/(O11+AD$3)^AD$4 -> 144.23288 | Q11: =(((2.913+64.073*L11)/1000)*(O11*P11)^(1/3)) -> 0.53489119 | R11: =(2.778*K11*N11*P11*Q11) -> 229.09766 | S11: =IF($AH11=0,0,INDIRECT(REPLACE("S00",2,2,FIXED($AH11+10,0))))+IF($AI11=0,0,INDIRECT(REPLACE("S00",2,2,FIXED($AI11+10,0))))+IF($AJ11=0,0,INDIRECT(REPLACE("S00",2,2,FIXED($AJ11+10,0))))+R11 -> 229.09766 | T11: =(C11-G11)/J11*100 -> 3.1624218 | U11: 3.2 | V11: =(((S11/Y11*X11)/33.53/Z11^(8/3))^2) -> 0.010504049 | W11: C | X11: 0.015 | Y11: 1 | Z11: 1 | AA11: =IF(0.85*Z11>AS11,IF(0.3*Z11>AR11,AQ11,AR11),AS11) -> 0.16965617 | AB11: =IF(0.3*Z11>AU11,AU11,IF(0.85*Z11>AV11,AV11,AW11)) -> 0.26652427 | AC11: =((S11/Y11)/(AT11*Z11^2)) -> 2.5952029 | AD11: =(J11/(AC11*60))+O11 -> 15.574907 | AF11: ='Dre-Dados'!B6 -> 1 | AG11: ='Dre-Dados'!H6 -> 2 | AH11: ='Dre-Dados'!I6 -> 0 | AI11: ='Dre-Dados'!J6 -> 0 | AJ11: ='Dre-Dados'!K6 -> 0 | AK11: =IF(AH11=0,10000,INDIRECT(REPLACE("H00",2,2,FIXED(AH11+10,0)))) -> 10000 | AL11: =IF(AI11=0,10000,INDIRECT(REPLACE("H00",2,2,FIXED(AI11+10,0)))) -> 10000 | AM11: =IF(AJ11=0,10000,INDIRECT(REPLACE("H00",2,2,FIXED(AJ11+10,0)))) -> 10000 | AN11: =IF(AH11=0,15,INDIRECT(REPLACE("AD00",3,2,FIXED(AH11+10,0)))) -> 15 | AO11: =IF(AI11=0,15,INDIRECT(REPLACE("AD00",3,2,FIXED(AI11+10,0)))) -> 15 | AP11: =IF(AJ11=0,15,INDIRECT(REPLACE("AD00",3,2,FIXED(AJ11+10,0)))) -> 15 | AQ11: =1.14*Z11^(-0.285)*(S11/1000/Y11*X11)^(0.482)*(U11/100)^(-0.241) -> 0.16965617 | AR11: =1.97107*(S11/1000/Y11)*X11*Z11^(-5/3)*(U11/100)^(-0.5)+0.19066*Z11 -> 0.22852509 | AS11: =15.428*(S11/1000/Y11*X11)^2.571*Z11^(-5.856)*(U11/100)^(-1.285) -> 0.0005950256 | AT11: =250*((ACOS(1-(2*AA11/Z11))-(1-(2*AA11/Z11))*(SIN(ACOS(1-(2*AA11/Z11)))))) -> 88.277362 | AU11: =0.016614*(S11/Y11)^(0.5107)*Z11^(-0.2768) -> 0.26652427 | AV11: =0.01619*(S11/Y11)^(0.5159)*Z11^(-0.2897) -> 0.2671662 | AW11: =0.07439*(S11/Y11)^(0.3117)*Z11^(-0.221) -> 0.40469981
B12: ='Dre-Dados'!B7 -> 2 | C12: ='Dre-Dados'!C7 -> 233.095 | E12: =IF(MINA(AK12,AL12,AM12)=10000,C12-Z12-IF(Z12=0.6,0.9,IF(Z12=0.8,0.8,IF(Z12=1,0.9,IF(Z12=1.2,1.1,1.15)))),MINA(AK12,AL12,AM12))-D12 -> 230.90436 | F12: =IF(ABS(C12-E12)<=Z12+IF(Z12=0.6,0.69,IF(Z12=0.8,0.79,0.89)),E12-C12,(C12-E12)) -> 2.19064 | G12: =INDIRECT(REPLACE("C00",2,2,FIXED(AG12+10,0))) -> 230.387 | H12: =(E12-(J12*(U12/100))) -> 228.07836 | I12: =IF(ABS(G12-H12)<Z12+IF(Z12=0.6,0.69,IF(Z12=0.8,0.79,0.89)),H12-G12,(G12-H12)) -> 2.3086427 | J12: ='Dre-Dados'!E7 -> 90.49 | K12: ='Dre-Dados'!F7 -> 1.2545 | L12: ='Dre-Dados'!G7 -> 0.6 | M12: =IF($AH12=0,0,INDIRECT(REPLACE("M00",2,2,FIXED($AH12+10,0))))+IF($AI12=0,0,INDIRECT(REPLACE("M00",2,2,FIXED($AI12+10,0))))+IF($AJ12=0,0,INDIRECT(REPLACE("M00",2,2,FIXED($AJ12+10,0))))+K12 -> 2.339 | N12: =IF(M12<1,1,M12^-0.178) -> 0.85963209 | O12: =MAXA(AN12,AO12,AP12) -> 15.574907 | P12: =+AB$3*AB$5^AB$4/(O12+AD$3)^AD$4 -> 141.72193 | Q12: =(((2.913+64.073*L12)/1000)*(O12*P12)^(1/3)) -> 0.53847776 | R12: =(2.778*K12*N12*P12*Q12) -> 228.62323 | S12: =IF($AH12=0,0,INDIRECT(REPLACE("S00",2,2,FIXED($AH12+10,0))))+IF($AI12=0,0,INDIRECT(REPLACE("S00",2,2,FIXED($AI12+10,0))))+IF($AJ12=0,0,INDIRECT(REPLACE("S00",2,2,FIXED($AJ12+10,0))))+R12 -> 457.72089 | T12: =(C12-G12)/J12*100 -> 2.9925959 | U12: 3.123 | V12: =(((S12/Y12*X12)/33.53/Z12^(8/3))^2) -> 0.04192923 | W12: C | X12: 0.015 | Y12: 1 | Z12: 1 | AA12: =IF(0.85*Z12>AS12,IF(0.3*Z12>AR12,AQ12,AR12),AS12) -> 0.23823115 | AB12: =IF(0.3*Z12>AU12,AU12,IF(0.85*Z12>AV12,AV12,AW12)) -> 0.38181305 | AC12: =((S12/Y12)/(AT12*Z12^2)) -> 3.1911215 | AD12: =(J12/(AC12*60))+O12 -> 16.04752 | AF12: ='Dre-Dados'!B7 -> 2 | AG12: ='Dre-Dados'!H7 -> 3 | AH12: ='Dre-Dados'!I7 -> 1 | AI12: ='Dre-Dados'!J7 -> 0 | AJ12: ='Dre-Dados'!K7 -> 0 | AK12: =IF(AH12=0,10000,INDIRECT(REPLACE("H00",2,2,FIXED(AH12+10,0)))) -> 230.90436 | AL12: =IF(AI12=0,10000,INDIRECT(REPLACE("H00",2,2,FIXED(AI12+10,0)))) -> 10000 | AM12: =IF(AJ12=0,10000,INDIRECT(REPLACE("H00",2,2,FIXED(AJ12+10,0)))) -> 10000 | AN12: =IF(AH12=0,15,INDIRECT(REPLACE("AD00",3,2,FIXED(AH12+10,0)))) -> 15.574907 | AO12: =IF(AI12=0,15,INDIRECT(REPLACE("AD00",3,2,FIXED(AI12+10,0)))) -> 15 | AP12: =IF(AJ12=0,15,INDIRECT(REPLACE("AD00",3,2,FIXED(AJ12+10,0)))) -> 15 | AQ12: =1.14*Z12^(-0.285)*(S12/1000/Y12*X12)^(0.482)*(U12/100)^(-0.241) -> 0.23823115 | AR12: =1.97107*(S12/1000/Y12)*X12*Z12^(-5/3)*(U12/100)^(-0.5)+0.19066*Z12 -> 0.26723871 | AS12: =15.428*(S12/1000/Y12*X12)^2.571*Z12^(-5.856)*(U12/100)^(-1.285) -> 0.003638478 | AT12: =250*((ACOS(1-(2*AA12/Z12))-(1-(2*AA12/Z12))*(SIN(ACOS(1-(2*AA12/Z12)))))) -> 143.43575 | AU12: =0.016614*(S12/Y12)^(0.5107)*Z12^(-0.2768) -> 0.37952728 | AV12: =0.01619*(S12/Y12)^(0.5159)*Z12^(-0.2897) -> 0.38181305 | AW12: =0.07439*(S12/Y12)^(0.3117)*Z12^(-0.221) -> 0.50213883
B13: ='Dre-Dados'!B8 -> 3 | C13: ='Dre-Dados'!C8 -> 230.387 | E13: =IF(MINA(AK13,AL13,AM13)=10000,C13-Z13-IF(Z13=0.6,0.9,IF(Z13=0.8,0.8,IF(Z13=1,0.9,IF(Z13=1.2,1.1,1.15)))),MINA(AK13,AL13,AM13))-D13 -> 228.07836 | F13: =IF(ABS(C13-E13)<=Z13+IF(Z13=0.6,0.69,IF(Z13=0.8,0.79,0.89)),E13-C13,(C13-E13)) -> 2.3086427 | G13: =INDIRECT(REPLACE("C00",2,2,FIXED(AG13+10,0))) -> 227.822 | H13: =(E13-(J13*(U13/100))) -> 225.8326 | I13: =IF(ABS(G13-H13)<Z13+IF(Z13=0.6,0.69,IF(Z13=0.8,0.79,0.89)),H13-G13,(G13-H13)) -> 1.9893995 | J13: ='Dre-Dados'!E8 -> 116.24 | K13: ='Dre-Dados'!F8 -> 1.2604 | L13: ='Dre-Dados'!G8 -> 0.6 | M13: =IF($AH13=0,0,INDIRECT(REPLACE("M00",2,2,FIXED($AH13+10,0))))+IF($AI13=0,0,INDIRECT(REPLACE("M00",2,2,FIXED($AI13+10,0))))+IF($AJ13=0,0,INDIRECT(REPLACE("M00",2,2,FIXED($AJ13+10,0))))+K13 -> 3.5994 | N13: =IF(M13<1,1,M13^-0.178) -> 0.79614292 | O13: =MAXA(AN13,AO13,AP13) -> 16.04752 | P13: =+AB$3*AB$5^AB$4/(O13+AD$3)^AD$4 -> 139.72996 | Q13: =(((2.913+64.073*L13)/1000)*(O13*P13)^(1/3)) -> 0.54131004 | R13: =(2.778*K13*N13*P13*Q13) -> 210.84693 | S13: =IF($AH13=0,0,INDIRECT(REPLACE("S00",2,2,FIXED($AH13+10,0))))+IF($AI13=0,0,INDIRECT(REPLACE("S00",2,2,FIXED($AI13+10,0))))+IF($AJ13=0,0,INDIRECT(REPLACE("S00",2,2,FIXED($AJ13+10,0))))+R13 -> 668.56783 | T13: =(C13-G13)/J13*100 -> 2.2066414 | U13: 1.932 | V13: =(((S13/Y13*X13)/33.53/Z13^(8/3))^2) -> 0.089455358 | W13: C | X13: 0.015 | Y13: 1 | Z13: 1 | AA13: =IF(0.85*Z13>AS13,IF(0.3*Z13>AR13,AQ13,AR13),AS13) -> 0.33287166 | AB13: =IF(0.3*Z13>AU13,AU13,IF(0.85*Z13>AV13,AV13,AW13)) -> 0.46423662 | AC13: =((S13/Y13)/(AT13*Z13^2)) -> 2.9228639 | AD13: =(J13/(AC13*60))+O13 -> 16.71034 | AF13: ='Dre-Dados'!B8 -> 3 | AG13: ='Dre-Dados'!H8 -> 4 | AH13: ='Dre-Dados'!I8 -> 2 | AI13: ='Dre-Dados'!J8 -> 0 | AJ13: ='Dre-Dados'!K8 -> 0 | AK13: =IF(AH13=0,10000,INDIRECT(REPLACE("H00",2,2,FIXED(AH13+10,0)))) -> 228.07836 | AL13: =IF(AI13=0,10000,INDIRECT(REPLACE("H00",2,2,FIXED(AI13+10,0)))) -> 10000 | AM13: =IF(AJ13=0,10000,INDIRECT(REPLACE("H00",2,2,FIXED(AJ13+10,0)))) -> 10000 | AN13: =IF(AH13=0,15,INDIRECT(REPLACE("AD00",3,2,FIXED(AH13+10,0)))) -> 16.04752 | AO13: =IF(AI13=0,15,INDIRECT(REPLACE("AD00",3,2,FIXED(AI13+10,0)))) -> 15 | AP13: =IF(AJ13=0,15,INDIRECT(REPLACE("AD00",3,2,FIXED(AJ13+10,0)))) -> 15 | AQ13: =1.14*Z13^(-0.285)*(S13/1000/Y13*X13)^(0.482)*(U13/100)^(-0.241) -> 0.32105042 | AR13: =1.97107*(S13/1000/Y13)*X13*Z13^(-5/3)*(U13/100)^(-0.5)+0.19066*Z13 -> 0.33287166 | AS13: =15.428*(S13/1000/Y13*X13)^2.571*Z13^(-5.856)*(U13/100)^(-1.285) -> 0.017863647 | AT13: =250*((ACOS(1-(2*AA13/Z13))-(1-(2*AA13/Z13))*(SIN(ACOS(1-(2*AA13/Z13)))))) -> 228.73724 | AU13: =0.016614*(S13/Y13)^(0.5107)*Z13^(-0.2768) -> 0.46054917 | AV13: =0.01619*(S13/Y13)^(0.5159)*Z13^(-0.2897) -> 0.46423662 | AW13: =0.07439*(S13/Y13)^(0.3117)*Z13^(-0.221) -> 0.56508321
B14: ='Dre-Dados'!B9 -> 4 | C14: ='Dre-Dados'!C9 -> 227.822 | E14: =IF(MINA(AK14,AL14,AM14)=10000,C14-Z14-IF(Z14=0.6,0.9,IF(Z14=0.8,0.8,IF(Z14=1,0.9,IF(Z14=1.2,1.1,1.15)))),MINA(AK14,AL14,AM14))-D14 -> 225.8326 | F14: =IF(ABS(C14-E14)<=Z14+IF(Z14=0.6,0.69,IF(Z14=0.8,0.79,0.89)),E14-C14,(C14-E14)) -> 1.9893995 | G14: =INDIRECT(REPLACE("C00",2,2,FIXED(AG14+10,0))) -> 227.4 | H14: =(E14-(J14*(U14/100))) -> 224.79961 | I14: =IF(ABS(G14-H14)<Z14+IF(Z14=0.6,0.69,IF(Z14=0.8,0.79,0.89)),H14-G14,(G14-H14)) -> 2.6003925 | J14: ='Dre-Dados'!E9 -> 85.02 | K14: ='Dre-Dados'!F9 -> 1.3972 | L14: ='Dre-Dados'!G9 -> 0.6 | M14: =IF($AH14=0,0,INDIRECT(REPLACE("M00",2,2,FIXED($AH14+10,0))))+IF($AI14=0,0,INDIRECT(REPLACE("M00",2,2,FIXED($AI14+10,0))))+IF($AJ14=0,0,INDIRECT(REPLACE("M00",2,2,FIXED($AJ14+10,0))))+K14 -> 4.9966 | N14: =IF(M14<1,1,M14^-0.178) -> 0.75099306 | O14: =MAXA(AN14,AO14,AP14) -> 16.71034 | P14: =+AB$3*AB$5^AB$4/(O14+AD$3)^AD$4 -> 137.03972 | Q14: =(((2.913+64.073*L14)/1000)*(O14*P14)^(1/3)) -> 0.54511841 | R14: =(2.778*K14*N14*P14*Q14) -> 217.75295 | S14: =IF($AH14=0,0,INDIRECT(REPLACE("S00",2,2,FIXED($AH14+10,0))))+IF($AI14=0,0,INDIRECT(REPLACE("S00",2,2,FIXED($AI14+10,0))))+IF($AJ14=0,0,INDIRECT(REPLACE("S00",2,2,FIXED($AJ14+10,0))))+R14 -> 886.32078 | T14: =(C14-G14)/J14*100 -> 0.4963538 | U14: 1.215 | V14: =(((S14/Y14*X14)/33.53/Z14^(8/3))^2) -> 0.15721619 | W14: C | X14: 0.015 | Y14: 1 | Z14: 1 | AA14: =IF(0.85*Z14>AS14,IF(0.3*Z14>AR14,AQ14,AR14),AS14) -> 0.42839663 | AB14: =IF(0.3*Z14>AU14,AU14,IF(0.85*Z14>AV14,AV14,AW14)) -> 0.53691929 | AC14: =((S14/Y14)/(AT14*Z14^2)) -> 2.7581921 | AD14: =(J14/(AC14*60))+O14 -> 17.224083 | AF14: ='Dre-Dados'!B9 -> 4 | AG14: ='Dre-Dados'!H9 -> 5 | AH14: ='Dre-Dados'!I9 -> 3 | AI14: ='Dre-Dados'!J9 -> 0 | AJ14: ='Dre-Dados'!K9 -> 0 | AK14: =IF(AH14=0,10000,INDIRECT(REPLACE("H00",2,2,FIXED(AH14+10,0)))) -> 225.8326 | AL14: =IF(AI14=0,10000,INDIRECT(REPLACE("H00",2,2,FIXED(AI14+10,0)))) -> 10000 | AM14: =IF(AJ14=0,10000,INDIRECT(REPLACE("H00",2,2,FIXED(AJ14+10,0)))) -> 10000 | AN14: =IF(AH14=0,15,INDIRECT(REPLACE("AD00",3,2,FIXED(AH14+10,0)))) -> 16.71034 | AO14: =IF(AI14=0,15,INDIRECT(REPLACE("AD00",3,2,FIXED(AI14+10,0)))) -> 15 | AP14: =IF(AJ14=0,15,INDIRECT(REPLACE("AD00",3,2,FIXED(AJ14+10,0)))) -> 15 | AQ14: =1.14*Z14^(-0.285)*(S14/1000/Y14*X14)^(0.482)*(U14/100)^(-0.241) -> 0.41127924 | AR14: =1.97107*(S14/1000/Y14)*X14*Z14^(-5/3)*(U14/100)^(-0.5)+0.19066*Z14 -> 0.42839663 | AS14: =15.428*(S14/1000/Y14*X14)^2.571*Z14^(-5.856)*(U14/100)^(-1.285) -> 0.066929261 | AT14: =250*((ACOS(1-(2*AA14/Z14))-(1-(2*AA14/Z14))*(SIN(ACOS(1-(2*AA14/Z14)))))) -> 321.34121 | AU14: =0.016614*(S14/Y14)^(0.5107)*Z14^(-0.2768) -> 0.53187416 | AV14: =0.01619*(S14/Y14)^(0.5159)*Z14^(-0.2897) -> 0.53691929 | AW14: =0.07439*(S14/Y14)^(0.3117)*Z14^(-0.221) -> 0.61699075
B15: ='Dre-Dados'!B10 -> 5 | C15: ='Dre-Dados'!C10 -> 227.4 | E15: =IF(MINA(AK15,AL15,AM15)=10000,C15-Z15-IF(Z15=0.6,0.9,IF(Z15=0.8,0.8,IF(Z15=1,0.9,IF(Z15=1.2,1.1,1.15)))),MINA(AK15,AL15,AM15))-D15 -> 224.79961 | F15: =IF(ABS(C15-E15)<=Z15+IF(Z15=0.6,0.69,IF(Z15=0.8,0.79,0.89)),E15-C15,(C15-E15)) -> 2.6003925 | G15: =INDIRECT(REPLACE("C00",2,2,FIXED(AG15+10,0))) -> 226.438 | H15: =(E15-(J15*(U15/100))) -> 224.03804 | I15: =IF(ABS(G15-H15)<Z15+IF(Z15=0.6,0.69,IF(Z15=0.8,0.79,0.89)),H15-G15,(G15-H15)) -> 2.3999605 | J15: ='Dre-Dados'!E10 -> 79.33 | K15: ='Dre-Dados'!F10 -> 1.1274 | L15: ='Dre-Dados'!G10 -> 0.6 | M15: =IF($AH15=0,0,INDIRECT(REPLACE("M00",2,2,FIXED($AH15+10,0))))+IF($AI15=0,0,INDIRECT(REPLACE("M00",2,2,FIXED($AI15+10,0))))+IF($AJ15=0,0,INDIRECT(REPLACE("M00",2,2,FIXED($AJ15+10,0))))+K15 -> 6.124 | N15: =IF(M15<1,1,M15^-0.178) -> 0.72428208 | O15: =MAXA(AN15,AO15,AP15) -> 17.224083 | P15: =+AB$3*AB$5^AB$4/(O15+AD$3)^AD$4 -> 135.03307 | Q15: =(((2.913+64.073*L15)/1000)*(O15*P15)^(1/3)) -> 0.54794758 | R15: =(2.778*K15*N15*P15*Q15) -> 167.84066 | S15: =IF($AH15=0,0,INDIRECT(REPLACE("S00",2,2,FIXED($AH15+10,0))))+IF($AI15=0,0,INDIRECT(REPLACE("S00",2,2,FIXED($AI15+10,0))))+IF($AJ15=0,0,INDIRECT(REPLACE("S00",2,2,FIXED($AJ15+10,0))))+R15 -> 1054.1614 | T15: =(C15-G15)/J15*100 -> 1.212656 | U15: 0.96 | V15: =(((S15/Y15*X15)/33.53/Z15^(8/3))^2) -> 0.22239738 | W15: C | X15: 0.015 | Y15: 1 | Z15: 1 | AA15: =IF(0.85*Z15>AS15,IF(0.3*Z15>AR15,AQ15,AR15),AS15) -> 0.50876084 | AB15: =IF(0.3*Z15>AU15,AU15,IF(0.85*Z15>AV15,AV15,AW15)) -> 0.58717105 | AC15: =((S15/Y15)/(AT15*Z15^2)) -> 2.6258228 | AD15: =(J15/(AC15*60))+O15 -> 17.727608 | AF15: ='Dre-Dados'!B10 -> 5 | AG15: ='Dre-Dados'!H10 -> 10 | AH15: ='Dre-Dados'!I10 -> 4 | AI15: ='Dre-Dados'!J10 -> 0 | AJ15: ='Dre-Dados'!K10 -> 0 | AK15: =IF(AH15=0,10000,INDIRECT(REPLACE("H00",2,2,FIXED(AH15+10,0)))) -> 224.79961 | AL15: =IF(AI15=0,10000,INDIRECT(REPLACE("H00",2,2,FIXED(AI15+10,0)))) -> 10000 | AM15: =IF(AJ15=0,10000,INDIRECT(REPLACE("H00",2,2,FIXED(AJ15+10,0)))) -> 10000 | AN15: =IF(AH15=0,15,INDIRECT(REPLACE("AD00",3,2,FIXED(AH15+10,0)))) -> 17.224083 | AO15: =IF(AI15=0,15,INDIRECT(REPLACE("AD00",3,2,FIXED(AI15+10,0)))) -> 15 | AP15: =IF(AJ15=0,15,INDIRECT(REPLACE("AD00",3,2,FIXED(AJ15+10,0)))) -> 15 | AQ15: =1.14*Z15^(-0.285)*(S15/1000/Y15*X15)^(0.482)*(U15/100)^(-0.241) -> 0.47325445 | AR15: =1.97107*(S15/1000/Y15)*X15*Z15^(-5/3)*(U15/100)^(-0.5)+0.19066*Z15 -> 0.50876084 | AS15: =15.428*(S15/1000/Y15*X15)^2.571*Z15^(-5.856)*(U15/100)^(-1.285) -> 0.14148681 | AT15: =250*((ACOS(1-(2*AA15/Z15))-(1-(2*AA15/Z15))*(SIN(ACOS(1-(2*AA15/Z15)))))) -> 401.45947 | AU15: =0.016614*(S15/Y15)^(0.5107)*Z15^(-0.2768) -> 0.58112944 | AV15: =0.01619*(S15/Y15)^(0.5159)*Z15^(-0.2897) -> 0.58717105 | AW15: =0.07439*(S15/Y15)^(0.3117)*Z15^(-0.221) -> 0.65126046
B16: ='Dre-Dados'!B11 -> 6 | C16: ='Dre-Dados'!C11 -> 230.596 | D16: 0.1 | E16: =IF(MINA(AK16,AL16,AM16)=10000,C16-Z16-IF(Z16=0.6,0.9,IF(Z16=0.8,0.8,IF(Z16=1,0.9,IF(Z16=1.2,1.1,1.15)))),MINA(AK16,AL16,AM16))-D16 -> 228.896 | F16: =IF(ABS(C16-E16)<=Z16+IF(Z16=0.6,0.69,IF(Z16=0.8,0.79,0.89)),E16-C16,(C16-E16)) -> 1.7 | G16: =INDIRECT(REPLACE("C00",2,2,FIXED(AG16+10,0))) -> 229.154 | H16: =(E16-(J16*(U16/100))) -> 227.42303 | I16: =IF(ABS(G16-H16)<Z16+IF(Z16=0.6,0.69,IF(Z16=0.8,0.79,0.89)),H16-G16,(G16-H16)) -> 1.730965 | J16: ='Dre-Dados'!E11 -> 68.51 | K16: ='Dre-Dados'!F11 -> 0.8448 | L16: ='Dre-Dados'!G11 -> 0.6 | M16: =IF($AH16=0,0,INDIRECT(REPLACE("M00",2,2,FIXED($AH16+10,0))))+IF($AI16=0,0,INDIRECT(REPLACE("M00",2,2,FIXED($AI16+10,0))))+IF($AJ16=0,0,INDIRECT(REPLACE("M00",2,2,FIXED($AJ16+10,0))))+K16 -> 0.8448 | N16: =IF(M16<1,1,M16^-0.178) -> 1 | O16: =MAXA(AN16,AO16,AP16) -> 15 | P16: =+AB$3*AB$5^AB$4/(O16+AD$3)^AD$4 -> 144.23288 | Q16: =(((2.913+64.073*L16)/1000)*(O16*P16)^(1/3)) -> 0.53489119 | R16: =(2.778*K16*N16*P16*Q16) -> 181.05723 | S16: =IF($AH16=0,0,INDIRECT(REPLACE("S00",2,2,FIXED($AH16+10,0))))+IF($AI16=0,0,INDIRECT(REPLACE("S00",2,2,FIXED($AI16+10,0))))+IF($AJ16=0,0,INDIRECT(REPLACE("S00",2,2,FIXED($AJ16+10,0))))+R16 -> 181.05723 | T16: =(C16-G16)/J16*100 -> 2.1048022 | U16: 2.15 | V16: =(((S16/Y16*X16)/33.53/Z16^(8/3))^2) -> 0.021567537 | W16: C | X16: 0.015 | Y16: 1 | Z16: 0.8 | AA16: =IF(0.85*Z16>AS16,IF(0.3*Z16>AR16,AQ16,AR16),AS16) -> 0.17764368 | AB16: =IF(0.3*Z16>AU16,AU16,IF(0.85*Z16>AV16,AV16,AW16)) -> 0.25242298 | AC16: =((S16/Y16)/(AT16*Z16^2)) -> 2.1792072 | AD16: =(J16/(AC16*60))+O16 -> 15.523967 | AF16: ='Dre-Dados'!B11 -> 6 | AG16: ='Dre-Dados'!H11 -> 7 | AH16: ='Dre-Dados'!I11 -> 0 | AI16: ='Dre-Dados'!J11 -> 0 | AJ16: ='Dre-Dados'!K11 -> 0 | AK16: =IF(AH16=0,10000,INDIRECT(REPLACE("H00",2,2,FIXED(AH16+10,0)))) -> 10000 | AL16: =IF(AI16=0,10000,INDIRECT(REPLACE("H00",2,2,FIXED(AI16+10,0)))) -> 10000 | AM16: =IF(AJ16=0,10000,INDIRECT(REPLACE("H00",2,2,FIXED(AJ16+10,0)))) -> 10000 | AN16: =IF(AH16=0,15,INDIRECT(REPLACE("AD00",3,2,FIXED(AH16+10,0)))) -> 15 | AO16: =IF(AI16=0,15,INDIRECT(REPLACE("AD00",3,2,FIXED(AI16+10,0)))) -> 15 | AP16: =IF(AJ16=0,15,INDIRECT(REPLACE("AD00",3,2,FIXED(AJ16+10,0)))) -> 15 | AQ16: =1.14*Z16^(-0.285)*(S16/1000/Y16*X16)^(0.482)*(U16/100)^(-0.241) -> 0.17764368 | AR16: =1.97107*(S16/1000/Y16)*X16*Z16^(-5/3)*(U16/100)^(-0.5)+0.19066*Z16 -> 0.20548296 | AS16: =15.428*(S16/1000/Y16*X16)^2.571*Z16^(-5.856)*(U16/100)^(-1.285) -> 0.0020008129 | AT16: =250*((ACOS(1-(2*AA16/Z16))-(1-(2*AA16/Z16))*(SIN(ACOS(1-(2*AA16/Z16)))))) -> 129.81874 | AU16: =0.016614*(S16/Y16)^(0.5107)*Z16^(-0.2768) -> 0.25140011 | AV16: =0.01619*(S16/Y16)^(0.5159)*Z16^(-0.2897) -> 0.25242298 | AW16: =0.07439*(S16/Y16)^(0.3117)*Z16^(-0.221) -> 0.39508713
B17: ='Dre-Dados'!B12 -> 7 | C17: ='Dre-Dados'!C12 -> 229.154 | E17: =IF(MINA(AK17,AL17,AM17)=10000,C17-Z17-IF(Z17=0.6,0.9,IF(Z17=0.8,0.8,IF(Z17=1,0.9,IF(Z17=1.2,1.1,1.15)))),MINA(AK17,AL17,AM17))-D17 -> 227.42303 | F17: =IF(ABS(C17-E17)<=Z17+IF(Z17=0.6,0.69,IF(Z17=0.8,0.79,0.89)),E17-C17,(C17-E17)) -> 1.730965 | G17: =INDIRECT(REPLACE("C00",2,2,FIXED(AG17+10,0))) -> 228.29 | H17: =(E17-(J17*(U17/100))) -> 226.56666 | I17: =IF(ABS(G17-H17)<Z17+IF(Z17=0.6,0.69,IF(Z17=0.8,0.79,0.89)),H17-G17,(G17-H17)) -> 1.72334 | J17: ='Dre-Dados'!E12 -> 68.51 | K17: ='Dre-Dados'!F12 -> 0.368 | L17: ='Dre-Dados'!G12 -> 0.6 | M17: =IF($AH17=0,0,INDIRECT(REPLACE("M00",2,2,FIXED($AH17+10,0))))+IF($AI17=0,0,INDIRECT(REPLACE("M00",2,2,FIXED($AI17+10,0))))+IF($AJ17=0,0,INDIRECT(REPLACE("M00",2,2,FIXED($AJ17+10,0))))+K17 -> 1.2128 | N17: =IF(M17<1,1,M17^-0.178) -> 0.96624114 | O17: =MAXA(AN17,AO17,AP17) -> 15.523967 | P17: =+AB$3*AB$5^AB$4/(O17+AD$3)^AD$4 -> 141.94045 | Q17: =(((2.913+64.073*L17)/1000)*(O17*P17)^(1/3)) -> 0.53816638 | R17: =(2.778*K17*N17*P17*Q17) -> 75.455052 | S17: =IF($AH17=0,0,INDIRECT(REPLACE("S00",2,2,FIXED($AH17+10,0))))+IF($AI17=0,0,INDIRECT(REPLACE("S00",2,2,FIXED($AI17+10,0))))+IF($AJ17=0,0,INDIRECT(REPLACE("S00",2,2,FIXED($AJ17+10,0))))+R17 -> 256.51228 | T17: =(C17-G17)/J17*100 -> 1.2611298 | U17: 1.25 | V17: =(((S17/Y17*X17)/33.53/Z17^(8/3))^2) -> 0.043289756 | W17: C | X17: 0.015 | Y17: 1 | Z17: 0.8 | AA17: =IF(0.85*Z17>AS17,IF(0.3*Z17>AR17,AQ17,AR17),AS17) -> 0.25092076 | AB17: =IF(0.3*Z17>AU17,AU17,IF(0.85*Z17>AV17,AV17,AW17)) -> 0.30212077 | AC17: =((S17/Y17)/(AT17*Z17^2)) -> 1.901702 | AD17: =(J17/(AC17*60))+O17 -> 16.124394 | AF17: ='Dre-Dados'!B12 -> 7 | AG17: ='Dre-Dados'!H12 -> 8 | AH17: ='Dre-Dados'!I12 -> 6 | AI17: ='Dre-Dados'!J12 -> 0 | AJ17: ='Dre-Dados'!K12 -> 0 | AK17: =IF(AH17=0,10000,INDIRECT(REPLACE("H00",2,2,FIXED(AH17+10,0)))) -> 227.42303 | AL17: =IF(AI17=0,10000,INDIRECT(REPLACE("H00",2,2,FIXED(AI17+10,0)))) -> 10000 | AM17: =IF(AJ17=0,10000,INDIRECT(REPLACE("H00",2,2,FIXED(AJ17+10,0)))) -> 10000 | AN17: =IF(AH17=0,15,INDIRECT(REPLACE("AD00",3,2,FIXED(AH17+10,0)))) -> 15.523967 | AO17: =IF(AI17=0,15,INDIRECT(REPLACE("AD00",3,2,FIXED(AI17+10,0)))) -> 15 | AP17: =IF(AJ17=0,15,INDIRECT(REPLACE("AD00",3,2,FIXED(AJ17+10,0)))) -> 15 | AQ17: =1.14*Z17^(-0.285)*(S17/1000/Y17*X17)^(0.482)*(U17/100)^(-0.241) -> 0.23946112 | AR17: =1.97107*(S17/1000/Y17)*X17*Z17^(-5/3)*(U17/100)^(-0.5)+0.19066*Z17 -> 0.25092076 | AS17: =15.428*(S17/1000/Y17*X17)^2.571*Z17^(-5.856)*(U17/100)^(-1.285) -> 0.0098363281 | AT17: =250*((ACOS(1-(2*AA17/Z17))-(1-(2*AA17/Z17))*(SIN(ACOS(1-(2*AA17/Z17)))))) -> 210.75881 | AU17: =0.016614*(S17/Y17)^(0.5107)*Z17^(-0.2768) -> 0.30035194 | AV17: =0.01619*(S17/Y17)^(0.5159)*Z17^(-0.2897) -> 0.30212077 | AW17: =0.07439*(S17/Y17)^(0.3117)*Z17^(-0.221) -> 0.44040342
