Workbook

Sheet Pesquisa de Preços
A1: REGULAMENTO PARA A REMESSA OBRIGATÓRIA DE INFORMAÇÕES, DADOS E DOCUMENTOS AO TCE-MS
A2: SUBANEXO X - PESQUISA DE PREÇOS COM MAPA COMPARATIVO | O2: SIM | P2: NÃO | Q2: _________________________________
J3: Todos os valores foram considerados para o cômputo do preço final? | P3: X | Q3: Mileni Gabrieli Alves de Moraes - Mat. 11979
B4: UNIDADE GESTORA: | C4: SECRETARIA MUNICIPAL DE PLANEJAMENTO E ADMINISTRAÇÃO DE NOVA ANDRADINA - MS | J4: Houve exclusão dos valores excessivamente elevados e/ou inexequíveis? ³ | O4: X
B5: PROCESSO ADMINISTRATIVO | C5: PM-ADM-2024/03045 | E5: Nº DA LICITAÇÃO: | N5: FORMALIZADO EM | O5: 45597 | Q5: _________________________________
Q6: Luiz Eduardo de Paula Gonçalves
A7: FONTES: BANCO DE PREÇOS/ÓRGÃO PESQUISADO/TABELA OFICIAL/MÍDIA ESPECIALIZADA/FORNECEDOR | Q7: Secretario(a) Municipal de Saúde
A8: Item | B8: Descrição do item | C8: Internet | D8: Fornecedor 1 OESTE MED CNPJ: 28.069.066/0001-57 | E8: fornecedor 2 - MAMED COMERCIO HOSPITALAR CNPJ: 21.608.296/0001-06 | F8: fornecedor 3 - MC MEDICALL CNPJ: 27.330.244/0001-99 | G8: ATA 84-85-86-87-88-89-90-91/2023 PMNA | H8: Outras Contratações | I8: Outras Contratações | J8: Outras Contratações | K8: Outras Contratações | L8: Banco de Preço | M8: Média (Soma das amostras) / número de amostras | N8: Soma = Somatória da (média - amostra) ao quadrado de cada um | O8: Variância = Soma / (Nº Amostras - 1) | P8: Desvio Padrão = Raiz Quadrada da Variância | Q8: Limite Inferior = Média - DP | R8: Limite Superior = Média + DP
A9: 1 | B9: Esparadrapo impermeável, largura de 10 cm. Rolo c/4,5m | D9: 9.04 | E9: 9.17 | F9: 9 | G9: 7.97 | L9: 8.3 | M9: =SUM(C9:L9)/COUNT(C9:L9) -> 8.696 | N9: =+'Media ao quadrado'!M4 -> 1.11932 | O9: =N9/(COUNT(C9:L9)-1) -> 0.27983 | P9: =SQRT(O9) -> 0.5289896 | Q9: =ROUND(M9-P9,2) -> 8.17 | R9: =ROUND(M9+P9,2) -> 9.22
A10: 2 | B10: ESFIGMOMANÔMETRO (OBESO) | D10: 91.3 | E10: 92.64 | F10: 93.49 | G10: 76.15 | L10: 87.67 | M10: =SUM(C10:L10)/COUNT(C10:L10) -> 88.25 | N10: =+'Media ao quadrado'!M5 -> 202.7786 | O10: =N10/(COUNT(C10:L10)-1) -> 50.69465 | P10: =SQRT(O10) -> 7.1200176 | Q10: =ROUND(M10-P10,2) -> 81.13 | R10: =ROUND(M10+P10,2) -> 95.37
A11: 3 | B11: ESFIGMOMANÔMETRO (INFANTIL) | D11: 81.24 | E11: 82.43 | F11: 83.18 | G11: 70.5 | L11: 70 | M11: =SUM(C11:L11)/COUNT(C11:L11) -> 77.47 | N11: =+'Media ao quadrado'!M6 -> 175.8004 | O11: =N11/(COUNT(C11:L11)-1) -> 43.9501 | P11: =SQRT(O11) -> 6.6294872 | Q11: =ROUND(M11-P11,2) -> 70.84 | R11: =ROUND(M11+P11,2) -> 84.1
A12: 4 | B12: ESCOVA ENDOCEVICAL PARA USO GINECOLÓGICO, DESCARTÁVEL,EMBALAGEM PACOTE COM 100 | C12: 54.9 | D12: 36.67 | E12: 37.21 | F12: 37.55 | G12: 22.54 | L12: 35.95 | M12: =SUM(C12:L12)/COUNT(C12:L12) -> 37.47 | N12: =+'Media ao quadrado'!M7 -> 529.7342 | O12: =N12/(COUNT(C12:L12)-1) -> 105.94684 | P12: =SQRT(O12) -> 10.293048 | Q12: =ROUND(M12-P12,2) -> 27.18 | R12: =ROUND(M12+P12,2) -> 47.76
A13: 5 | B13: Equipo para soro micro gotas Látex, com roldana, com comprimento de, no mínimo, 1,20m | D13: 1.82 | E13: 1.84 | F13: 1.86 | G13: 1.35 | L13: 1.05 | M13: =SUM(C13:L13)/COUNT(C13:L13) -> 1.584 | N13: =+'Media ao quadrado'!M8 -> 0.53732 | O13: =N13/(COUNT(C13:L13)-1) -> 0.13433 | P13: =SQRT(O13) -> 0.36651057 | Q13: =ROUND(M13-P13,2) -> 1.22 | R13: =ROUND(M13+P13,2) -> 1.95
A14: 6 | B14: Equipo para soro macro gotas Látex, com roldana, com comprimento de, no mínimo, 1,20m | D14: 0.63 | E14: 0.64 | F14: 0.64 | G14: 0.67 | L14: 0.73 | M14: =SUM(C14:L14)/COUNT(C14:L14) -> 0.662 | N14: =+'Media ao quadrado'!M9 -> 0.00668 | O14: =N14/(COUNT(C14:L14)-1) -> 0.00167 | P14: =SQRT(O14) -> 0.040865633 | Q14: =ROUND(M14-P14,2) -> 0.62 | R14: =ROUND(M14+P14,2) -> 0.7
A15: 7 | B15: Equipo multivia/polifix - Multivia/polifix- Dispositivo para administração de medicamentos/soluções | D15: 0.52 | E15: 0.52 | F15: 0.53 | G15: 0.71 | L15: 0.6 | M15: =SUM(C15:L15)/COUNT(C15:L15) -> 0.576 | N15: =+'Media ao quadrado'!M10 -> 0.02692 | O15: =N15/(COUNT(C15:L15)-1) -> 0.00673 | P15: =SQRT(O15) -> 0.082036577 | Q15: =ROUND(M15-P15,2) -> 0.49 | R15: =ROUND(M15+P15,2) -> 0.66
A16: 8 | B16: EQUIPO DE ALIMENTAÇÃO ENTERAL - DESCRIÇÃO: Dispositivo de infusão de solução enteral por gravidade através de sondas | C16: 14.5 | D16: 1.34 | E16: 1.36 | F16: 1.37 | G16: 0.9 | L16: 0.93 | M16: =SUM(C16:L16)/COUNT(C16:L16) -> 3.4 | N16: =+'Media ao quadrado'!M11 -> 148.087 | O16: =N16/(COUNT(C16:L16)-1) -> 29.6174 | P16: =SQRT(O16) -> 5.4421871 | Q16: =ROUND(M16-P16,2) -> -2.04 | R16: =ROUND(M16+P16,2) -> 8.84
A17: 9 | B17: ELETRODOS DE SILICONE PARA FISIOTERAPIA. | D17: 105.56 | E17: 107.11 | F17: 108.08 | G17: 104 | L17: 49.44 | M17: =SUM(C17:L17)/COUNT(C17:L17) -> 94.838 | N17: =+'Media ao quadrado'!M12 -> 2585.8345 | O17: =N17/(COUNT(C17:L17)-1) -> 646.45862 | P17: =SQRT(O17) -> 25.425551 | Q17: =ROUND(M17-P17,2) -> 69.41 | R17: =ROUND(M17+P17,2) -> 120.26
A18: 10 | B18: ELETRODOS AUTO ADESIVOS PARA TENS E FENS 5X9 CM. | C18: 65.01 | D18: 8.78 | E18: 8.91 | F18: 8.99 | G18: 6.48 | L18: 5.5 | M18: =SUM(C18:L18)/COUNT(C18:L18) -> 17.278333 | N18: =+'Media ao quadrado'!M13 -> 2744.5923 | O18: =N18/(COUNT(C18:L18)-1) -> 548.91846 | P18: =SQRT(O18) -> 23.429009 | Q18: =ROUND(M18-P18,2) -> -6.15 | R18: =ROUND(M18+P18,2) -> 40.71
A19: 11 | B19: Eletrodo descartável tam. adulto para DEA Zoll. | D19: 533.34 | E19: 541.15 | F19: 546.08 | G19: 378.8 | L19: 357.5 | M19: =SUM(C19:L19)/COUNT(C19:L19) -> 471.374 | N19: =+'Media ao quadrado'!M14 -> 35826.695 | O19: =N19/(COUNT(C19:L19)-1) -> 8956.6738 | P19: =SQRT(O19) -> 94.639705 | Q19: =ROUND(M19-P19,2) -> 376.73 | R19: =ROUND(M19+P19,2) -> 566.01
A20: 12 | B20: Eletrodo descartável tam infantil para DEA Zol. | D20: 533.34 | E20: 541.15 | F20: 546.08 | G20: 378.8 | L20: 444.22 | M20: =SUM(C20:L20)/COUNT(C20:L20) -> 488.718 | N20: =+'Media ao quadrado'!M15 -> 22092.675 | O20: =N20/(COUNT(C20:L20)-1) -> 5523.1688 | P20: =SQRT(O20) -> 74.318025 | Q20: =ROUND(M20-P20,2) -> 414.4 | R20: =ROUND(M20+P20,2) -> 563.04
A21: 13 | B21: DISPOSITIVO PARA INCONTINENCIA URINARIA Nº 06 - COLETOR DE URINA MASCULINO COM EXTENSAO | C21: 8.5 | D21: 1.67 | E21: 1.7 | F21: 1.71 | G21: 1.5 | L21: 2.2 | M21: =SUM(C21:L21)/COUNT(C21:L21) -> 2.88 | N21: =+'Media ao quadrado'!M16 -> 38.1766 | O21: =N21/(COUNT(C21:L21)-1) -> 7.63532 | P21: =SQRT(O21) -> 2.7632083 | Q21: =ROUND(M21-P21,2) -> 0.12 | R21: =ROUND(M21+P21,2) -> 5.64
A22: 14 | B22: DIAFRAGMA/MEMBRANA P/ VENTILADOR PULMONAR | D22: 94.45 | E22: 95.83 | F22: 96.71 | G22: 73.5 | L22: 46.23 | M22: =SUM(C22:L22)/COUNT(C22:L22) -> 81.344 | N22: =+'Media ao quadrado'!M17 -> 1912.2467 | O22: =N22/(COUNT(C22:L22)-1) -> 478.06168 | P22: =SQRT(O22) -> 21.864622 | Q22: =ROUND(M22-P22,2) -> 59.48 | R22: =ROUND(M22+P22,2) -> 103.21
A23: 15 | B23: DETERGENTE ENZIMATICO - EM EMBALAGEM DE 5000 ML | D23: 82.23 | E23: 83.43 | F23: 84.19 | G23: 63.05 | L23: 107.5 | M23: =SUM(C23:L23)/COUNT(C23:L23) -> 84.08 | N23: =+'Media ao quadrado'!M18 -> 994.6144 | O23: =N23/(COUNT(C23:L23)-1) -> 248.6536 | P23: =SQRT(O23) -> 15.768754 | Q23: =ROUND(M23-P23,2) -> 68.31 | R23: =ROUND(M23+P23,2) -> 99.85
A24: 16 | B24: COMPRESSA DE GAZE 13FIOS/CM² DE 7,5X7,5CM FECHADO, 15CM X 30CM ABERTO | C24: 29 | D24: 15.56 | E24: 15.79 | F24: 15.93 | G24: 13.15 | L24: 23.78 | M24: =SUM(C24:L24)/COUNT(C24:L24) -> 18.868333 | N24: =+'Media ao quadrado'!M19 -> 188.52948 | O24: =N24/(COUNT(C24:L24)-1) -> 37.705897 | P24: =SQRT(O24) -> 6.1405127 | Q24: =ROUND(M24-P24,2) -> 12.73 | R24: =ROUND(M24+P24,2) -> 25.01
A25: 17 | B25: Coletor de urina e fezes, estéril, tipo universal. Possuí um reservatório fabricado em plástico PVC transparente | D25: 0.5 | E25: 0.51 | F25: 0.52 | G25: 0.37 | L25: 0.39 | M25: =SUM(C25:L25)/COUNT(C25:L25) -> 0.458 | N25: =+'Media ao quadrado'!M20 -> 0.02068 | O25: =N25/(COUNT(C25:L25)-1) -> 0.00517 | P25: =SQRT(O25) -> 0.071902712 | Q25: =ROUND(M25-P25,2) -> 0.39 | R25: =ROUND(M25+P25,2) -> 0.53
A26: 18 | B26: Coletores para materiais perfuro-cortantes. O coletor em papelão é utilizado para o descarte de materiais perfuro cortantes como agulhas, lancetas, vidros em geral, lâminas de bisturi, ampolas e cateter 13L | D26: 4.33 | E26: 4.39 | F26: 4.43 | G26: 4.29 | L26: 4.45 | M26: =SUM(C26:L26)/COUNT(C26:L26) -> 4.378 | N26: =+'Media ao quadrado'!M21 -> 0.01808 | O26: =N26/(COUNT(C26:L26)-1) -> 0.00452 | P26: =SQRT(O26) -> 0.067230945 | Q26: =ROUND(M26-P26,2) -> 4.31 | R26: =ROUND(M26+P26,2) -> 4.45
A27: 19 | B27: COLETE IMOBILIZADOR DORSAL KED INFANTIL | C27: 199.9 | D27: 331.12 | E27: 335.97 | F27: 339.03 | G27: 198.4 | L27: 176.83 | M27: =SUM(C27:L27)/COUNT(C27:L27) -> 263.54167 | N27: =+'Media ao quadrado'!M22 -> 31323.795 | O27: =N27/(COUNT(C27:L27)-1) -> 6264.7589 | P27: =SQRT(O27) -> 79.15023 | Q27: =ROUND(M27-P27,2) -> 184.39 | R27: =ROUND(M27+P27,2) -> 342.69
A28: 20 | B28: COLETE IMOBILIZADOR DORSAL KED ADULTO | C28: 199.9 | D28: 331.12 | E28: 335.97 | F28: 339.03 | G28: 185.6 | L28: 198.07 | M28: =SUM(C28:L28)/COUNT(C28:L28) -> 264.94833 | N28: =+'Media ao quadrado'!M23 -> 29911.015 | O28: =N28/(COUNT(C28:L28)-1) -> 5982.203 | P28: =SQRT(O28) -> 77.344703 | Q28: =ROUND(M28-P28,2) -> 187.6 | R28: =ROUND(M28+P28,2) -> 342.29
A29: 21 | B29: Colar cervical tam PP Revestido com uma espuma macia tipo EVA (Etil Vinil Acetado) especial | C29: 55.9 | D29: 11.12 | E29: 11.28 | F29: 11.38 | G29: 11.44 | L29: 12.11 | M29: =SUM(C29:L29)/COUNT(C29:L29) -> 18.871667 | N29: =+'Media ao quadrado'!M24 -> 1645.8941 | O29: =N29/(COUNT(C29:L29)-1) -> 329.17882 | P29: =SQRT(O29) -> 18.143286 | Q29: =ROUND(M29-P29,2) -> 0.73 | R29: =ROUND(M29+P29,2) -> 37.01
A30: 22 | B30: Colar cervical tam P Revestido com uma espuma macia tipo EVA (Etil Vinil Acetado) especial | C30: 44 | D30: 11.12 | E30: 11.28 | F30: 11.38 | G30: 12.15 | L30: 12.85 | M30: =SUM(C30:L30)/COUNT(C30:L30) -> 17.13 | N30: =+'Media ao quadrado'!M25 -> 868.5208 | O30: =N30/(COUNT(C30:L30)-1) -> 173.70416 | P30: =SQRT(O30) -> 13.179687 | Q30: =ROUND(M30-P30,2) -> 3.95 | R30: =ROUND(M30+P30,2) -> 30.31
A31: 23 | B31: Colar cervical tam M Revestido com uma espuma macia tipo EVA (Etil Vinil Acetado) especial | C31: 55.9 | D31: 11.12 | E31: 11.28 | F31: 11.38 | G31: 13.24 | L31: 12.6 | M31: =SUM(C31:L31)/COUNT(C31:L31) -> 19.253333 | N31: =+'Media ao quadrado'!M26 -> 1615.1197 | O31: =N31/(COUNT(C31:L31)-1) -> 323.02395 | P31: =SQRT(O31) -> 17.972867 | Q31: =ROUND(M31-P31,2) -> 1.28 | R31: =ROUND(M31+P31,2) -> 37.23
A32: 24 | B32: Colar cervical tam G Revestido com uma espuma macia tipo EVA (Etil Vinil Acetado) especial | C32: 44 | D32: 11.12 | E32: 11.28 | F32: 11.38 | G32: 13.1 | L32: 14.05 | M32: =SUM(C32:L32)/COUNT(C32:L32) -> 17.488333 | N32: =+'Media ao quadrado'!M27 -> 850.35888 | O32: =N32/(COUNT(C32:L32)-1) -> 170.07178 | P32: =SQRT(O32) -> 13.041157 | Q32: =ROUND(M32-P32,2) -> 4.45 | R32: =ROUND(M32+P32,2) -> 30.53
A33: 25 | B33: COLAR CERVICAL NEONATAL | C33: 2 | D33: 11.12 | E33: 11.28 | F33: 11.38 | G33: 16.18 | L33: 14.19 | M33: =SUM(C33:L33)/COUNT(C33:L33) -> 11.025 | N33: =+'Media ao quadrado'!M28 -> 118.24195 | O33: =N33/(COUNT(C33:L33)-1) -> 23.64839 | P33: =SQRT(O33) -> 4.862961 | Q33: =ROUND(M33-P33,2) -> 6.16 | R33: =ROUND(M33+P33,2) -> 15.89
A34: 26 | B34: Cateter Nasal para Oxigênio tipo óculos | D34: 1.38 | E34: 1.4 | F34: 1.42 | G34: 1.04 | L34: 1.14 | M34: =SUM(C34:L34)/COUNT(C34:L34) -> 1.276 | N34: =+'Media ao quadrado'!M29 -> 0.12112 | O34: =N34/(COUNT(C34:L34)-1) -> 0.03028 | P34: =SQRT(O34) -> 0.17401149 | Q34: =ROUND(M34-P34,2) -> 1.1 | R34: =ROUND(M34+P34,2) -> 1.45
A35: 27 | B35: Cateter de oxigênio nasal Circuito de tubos de PVC. | D35: 1.23 | E35: 1.25 | F35: 1.26 | G35: 1.22 | L35: 1.18 | M35: =SUM(C35:L35)/COUNT(C35:L35) -> 1.228 | N35: =+'Media ao quadrado'!M30 -> 0.00388 | O35: =N35/(COUNT(C35:L35)-1) -> 0.00097 | P35: =SQRT(O35) -> 0.031144823 | Q35: =ROUND(M35-P35,2) -> 1.2 | R35: =ROUND(M35+P35,2) -> 1.26
A36: 28 | B36: CARDIOCLIPS COLORIDOS PARA ECG CONJ. COM 04 UNIDADES | C36: 125 | D36: 300 | E36: 304.4 | F36: 307.17 | L36: 120.19 | M36: =SUM(C36:L36)/COUNT(C36:L36) -> 231.352 | N36: =+'Media ao quadrado'!M31 -> 39464.665 | O36: =N36/(COUNT(C36:L36)-1) -> 9866.1664 | P36: =SQRT(O36) -> 99.328578 | Q36: =ROUND(M36-P36,2) -> 132.02 | R36: =ROUND(M36+P36,2) -> 330.68
A37: 29 | B37: CAIXA TERMICA DE 32 LITROS - CAIXA TERMICA NA COR AZUL | D37: 133.34 | E37: 135.29 | F37: 136.52 | G37: 89.45 | L37: 146.83 | M37: =SUM(C37:L37)/COUNT(C37:L37) -> 128.286 | N37: =+'Media ao quadrado'!M32 -> 1994.5125 | O37: =N37/(COUNT(C37:L37)-1) -> 498.62813 | P37: =SQRT(O37) -> 22.329983 | Q37: =ROUND(M37-P37,2) -> 105.96 | R37: =ROUND(M37+P37,2) -> 150.62
A38: 30 | B38: Caixa de inox de 20 cm Estojo Liso em Aço Inoxidável; Dimensões: 20 x 10 x 5 cm | D38: 95.45 | E38: 96.85 | F38: 97.73 | G38: 89.45 | L38: 300 | M38: =SUM(C38:L38)/COUNT(C38:L38) -> 135.896 | N38: =+'Media ao quadrado'!M33 -> 33704.466 | O38: =N38/(COUNT(C38:L38)-1) -> 8426.1166 | P38: =SQRT(O38) -> 91.793881 | Q38: =ROUND(M38-P38,2) -> 44.1 | R38: =ROUND(M38+P38,2) -> 227.69
A39: 31 | B39: Caixa coletora 7 litros com divisões internas, bandeja articulada, fecho frontal (para descarte de perfuro- cortantes) na cor branca | D39: 3.22 | E39: 3.26 | F39: 3.29 | G39: 3.2 | L39: 4.94 | M39: =SUM(C39:L39)/COUNT(C39:L39) -> 3.582 | N39: =+'Media ao quadrado'!M34 -> 2.31008 | O39: =N39/(COUNT(C39:L39)-1) -> 0.57752 | P39: =SQRT(O39) -> 0.75994737 | Q39: =ROUND(M39-P39,2) -> 2.82 | R39: =ROUND(M39+P39,2) -> 4.34
A40: 32 | B40: BRAÇADEIRA APARELHO PRESSÃO OBESO, COM FECHE EM METAL. | D40: 74.45 | E40: 75.54 | F40: 76.23 | G40: 57.84 | L40: 90 | M40: =SUM(C40:L40)/COUNT(C40:L40) -> 74.812 | N40: =+'Media ao quadrado'!M35 -> 521.39588 | O40: =N40/(COUNT(C40:L40)-1) -> 130.34897 | P40: =SQRT(O40) -> 11.417047 | Q40: =ROUND(M40-P40,2) -> 63.39 | R40: =ROUND(M40+P40,2) -> 86.23
...

Sheet Planilha1

Sheet Calc Desvio Padrão
A1: REGULAMENTO PARA A REMESSA OBRIGATÓRIA DE INFORMAÇÕES, DADOS E DOCUMENTOS AO TCE-MS
A2: SUBANEXO X - PESQUISA DE PREÇOS COM MAPA COMPARATIVO | O2: SIM | P2: NÃO | Q2: _________________________________
J3: Todos os valores foram considerados para o cômputo do preço final? | O3: ='Pesquisa de Preços'!O3 -> 0 | P3: ='Pesquisa de Preços'!P3 -> X | Q3: ='Pesquisa de Preços'!Q3:U3 -> Mileni Gabrieli Alves de Moraes - Mat. 11979
B4: UNIDADE GESTORA: | C4: ='Pesquisa de Preços'!C4:G4 -> SECRETARIA MUNICIPAL DE PLANEJAMENTO E ADMINISTRAÇÃO DE NOVA ANDRADINA - MS | J4: Houve exclusão dos valores excessivamente elevados e/ou inexequíveis? ³ | O4: ='Pesquisa de Preços'!O4 -> X | P4: ='Pesquisa de Preços'!P4 -> 0
B5: PROCESSO ADMINISTRATIVO | C5: ='Pesquisa de Preços'!$C$5:$D$5 -> PM-ADM-2024/03045 | E5: Nº DA LICITAÇÃO: | F5: ='Pesquisa de Preços'!$F$5 -> 0 | N5: FORMALIZADO EM | O5: ='Pesquisa de Preços'!O5 -> 45597 | Q5: _________________________________
Q6: ='Pesquisa de Preços'!Q6:U6 -> Luiz Eduardo de Paula Gonçalves
A7: FONTES: BANCO DE PREÇOS/ÓRGÃO PESQUISADO/TABELA OFICIAL/MÍDIA ESPECIALIZADA/FORNECEDOR | Q7: ='Pesquisa de Preços'!Q7:U7 -> Secretario(a) Municipal de Saúde
A8: Item | B8: Descrição | C8: VALORES SELECIONADOS CONSIDERANDO O DESVIO PADRÃO | D8: VALORES SELECIONADOS CONSIDERANDO O DESVIO PADRÃO | E8: VALORES SELECIONADOS CONSIDERANDO O DESVIO PADRÃO | F8: VALORES SELECIONADOS CONSIDERANDO O DESVIO PADRÃO | G8: VALORES SELECIONADOS CONSIDERANDO O DESVIO PADRÃO | H8: VALORES SELECIONADOS CONSIDERANDO O DESVIO PADRÃO | I8: VALORES SELECIONADOS CONSIDERANDO O DESVIO PADRÃO | J8: VALORES SELECIONADOS CONSIDERANDO O DESVIO PADRÃO | K8: VALORES SELECIONADOS CONSIDERANDO O DESVIO PADRÃO | L8: VALORES SELECIONADOS CONSIDERANDO O DESVIO PADRÃO | M8: Nova Média | N8: Soma = Somatória da (média - amostra) ao quadrado de cada um | O8: Variância = Soma / (Nº Amostras - 1) | P8: Desvio Padrão = Raiz Quadrada da Variância | Q8: Coeficiente de Variação | R8: Média | S8: Mediana
A9: =+'Pesquisa de Preços'!A9 -> 1 | B9: =+'Pesquisa de Preços'!B9 -> Esparadrapo impermeável, largura de 10 cm. Rolo c/4,5m | C9: =IF(AND(C535>=M535,C535<=N535,C535<>0),C535,"x") -> x | D9: =IF(AND(D535>=M535,D535<=N535,D535<>0),D535,"x") -> 9.04 | E9: =IF(AND(E535>=M535,E535<=N535,E535<>0),E535,"x") -> 9.17 | F9: =IF(AND(F535>=M535,F535<=N535,F535<>0),F535,"x") -> 9 | G9: =IF(AND(G535>=M535,G535<=N535,G535<>0),G535,"x") -> x | H9: =IF(AND(H535>=M535,H535<=N535,H535<>0),H535,"x") -> x | I9: =IF(AND(I535>=M535,I535<=N535,I535<>0),I535,"x") -> x | J9: =IF(AND(J535>=M535,J535<=N535,J535<>0),J535,"x") -> x | K9: =IF(AND(K535>=M535,K535<=N535,K535<>0),K535,"x") -> x | L9: =IF(AND(L535>=M535,L535<=N535,L535<>0),L535,"x") -> 8.3 | M9: =SUM(C9:L9)/COUNT(C9:L9) -> 8.8775 | N9: =+M278 -> 0.460475 | O9: =N9/(COUNT(C9:L9)-1) -> 0.15349167 | P9: =SQRT(O9) -> 0.39178013 | Q9: =((P9/M9)*100) -> 4.4131808 | R9: =IF(Q9<25,M9," ") -> 8.8775 | S9: =IF(Q9>25,MEDIAN(C9,D9,E9,F9,G9,H9,I9,J9,K9,L9)," ")
A10: =+'Pesquisa de Preços'!A10 -> 2 | B10: =+'Pesquisa de Preços'!B10 -> ESFIGMOMANÔMETRO (OBESO) | C10: =IF(AND(C536>=M536,C536<=N536,C536<>0),C536,"x") -> x | D10: =IF(AND(D536>=M536,D536<=N536,D536<>0),D536,"x") -> 91.3 | E10: =IF(AND(E536>=M536,E536<=N536,E536<>0),E536,"x") -> 92.64 | F10: =IF(AND(F536>=M536,F536<=N536,F536<>0),F536,"x") -> 93.49 | G10: =IF(AND(G536>=M536,G536<=N536,G536<>0),G536,"x") -> x | H10: =IF(AND(H536>=M536,H536<=N536,H536<>0),H536,"x") -> x | I10: =IF(AND(I536>=M536,I536<=N536,I536<>0),I536,"x") -> x | J10: =IF(AND(J536>=M536,J536<=N536,J536<>0),J536,"x") -> x | K10: =IF(AND(K536>=M536,K536<=N536,K536<>0),K536,"x") -> x | L10: =IF(AND(L536>=M536,L536<=N536,L536<>0),L536,"x") -> 87.67 | M10: =SUM(C10:L10)/COUNT(C10:L10) -> 91.275 | N10: =+M279 -> 19.7661 | O10: =N10/(COUNT(C10:L10)-1) -> 6.5887 | P10: =SQRT(O10) -> 2.5668463 | Q10: =((P10/M10)*100) -> 2.8122118 | R10: =IF(Q10<25,M10," ") -> 91.275 | S10: =IF(Q10>25,MEDIAN(C10,D10,E10,F10,G10,H10,I10,J10,K10,L10)," ")
A11: =+'Pesquisa de Preços'!A11 -> 3 | B11: =+'Pesquisa de Preços'!B11 -> ESFIGMOMANÔMETRO (INFANTIL) | C11: =IF(AND(C537>=M537,C537<=N537,C537<>0),C537,"x") -> x | D11: =IF(AND(D537>=M537,D537<=N537,D537<>0),D537,"x") -> 81.24 | E11: =IF(AND(E537>=M537,E537<=N537,E537<>0),E537,"x") -> 82.43 | F11: =IF(AND(F537>=M537,F537<=N537,F537<>0),F537,"x") -> 83.18 | G11: =IF(AND(G537>=M537,G537<=N537,G537<>0),G537,"x") -> x | H11: =IF(AND(H537>=M537,H537<=N537,H537<>0),H537,"x") -> x | I11: =IF(AND(I537>=M537,I537<=N537,I537<>0),I537,"x") -> x | J11: =IF(AND(J537>=M537,J537<=N537,J537<>0),J537,"x") -> x | K11: =IF(AND(K537>=M537,K537<=N537,K537<>0),K537,"x") -> x | L11: =IF(AND(L537>=M537,L537<=N537,L537<>0),L537,"x") -> x | M11: =SUM(C11:L11)/COUNT(C11:L11) -> 82.283333 | N11: =+M280 -> 1.9140667 | O11: =N11/(COUNT(C11:L11)-1) -> 0.95703333 | P11: =SQRT(O11) -> 0.9782808 | Q11: =((P11/M11)*100) -> 1.1889173 | R11: =IF(Q11<25,M11," ") -> 82.283333 | S11: =IF(Q11>25,MEDIAN(C11,D11,E11,F11,G11,H11,I11,J11,K11,L11)," ")
A12: =+'Pesquisa de Preços'!A12 -> 4 | B12: =+'Pesquisa de Preços'!B12 -> ESCOVA ENDOCEVICAL PARA USO GINECOLÓGICO, DESCARTÁVEL,EMBALAGEM PACOTE COM 100 | C12: =IF(AND(C538>=M538,C538<=N538,C538<>0),C538,"x") -> x | D12: =IF(AND(D538>=M538,D538<=N538,D538<>0),D538,"x") -> 36.67 | E12: =IF(AND(E538>=M538,E538<=N538,E538<>0),E538,"x") -> 37.21 | F12: =IF(AND(F538>=M538,F538<=N538,F538<>0),F538,"x") -> 37.55 | G12: =IF(AND(G538>=M538,G538<=N538,G538<>0),G538,"x") -> x | H12: =IF(AND(H538>=M538,H538<=N538,H538<>0),H538,"x") -> x | I12: =IF(AND(I538>=M538,I538<=N538,I538<>0),I538,"x") -> x | J12: =IF(AND(J538>=M538,J538<=N538,J538<>0),J538,"x") -> x | K12: =IF(AND(K538>=M538,K538<=N538,K538<>0),K538,"x") -> x | L12: =IF(AND(L538>=M538,L538<=N538,L538<>0),L538,"x") -> 35.95 | M12: =SUM(C12:L12)/COUNT(C12:L12) -> 36.845 | N12: =+M281 -> 1.4619 | O12: =N12/(COUNT(C12:L12)-1) -> 0.4873 | P12: =SQRT(O12) -> 0.69806876 | Q12: =((P12/M12)*100) -> 1.8946092 | R12: =IF(Q12<25,M12," ") -> 36.845 | S12: =IF(Q12>25,MEDIAN(C12,D12,E12,F12,G12,H12,I12,J12,K12,L12)," ")
A13: =+'Pesquisa de Preços'!A13 -> 5 | B13: =+'Pesquisa de Preços'!B13 -> Equipo para soro micro gotas Látex, com roldana, com comprimento de, no mínimo, 1,20m | C13: =IF(AND(C539>=M539,C539<=N539,C539<>0),C539,"x") -> x | D13: =IF(AND(D539>=M539,D539<=N539,D539<>0),D539,"x") -> 1.82 | E13: =IF(AND(E539>=M539,E539<=N539,E539<>0),E539,"x") -> 1.84 | F13: =IF(AND(F539>=M539,F539<=N539,F539<>0),F539,"x") -> 1.86 | G13: =IF(AND(G539>=M539,G539<=N539,G539<>0),G539,"x") -> 1.35 | H13: =IF(AND(H539>=M539,H539<=N539,H539<>0),H539,"x") -> x | I13: =IF(AND(I539>=M539,I539<=N539,I539<>0),I539,"x") -> x | J13: =IF(AND(J539>=M539,J539<=N539,J539<>0),J539,"x") -> x | K13: =IF(AND(K539>=M539,K539<=N539,K539<>0),K539,"x") -> x | L13: =IF(AND(L539>=M539,L539<=N539,L539<>0),L539,"x") -> x | M13: =SUM(C13:L13)/COUNT(C13:L13) -> 1.7175 | N13: =+M282 -> 0.180875 | O13: =N13/(COUNT(C13:L13)-1) -> 0.060291667 | P13: =SQRT(O13) -> 0.24554361 | Q13: =((P13/M13)*100) -> 14.296571 | R13: =IF(Q13<25,M13," ") -> 1.7175 | S13: =IF(Q13>25,MEDIAN(C13,D13,E13,F13,G13,H13,I13,J13,K13,L13)," ")
A14: =+'Pesquisa de Preços'!A14 -> 6 | B14: =+'Pesquisa de Preços'!B14 -> Equipo para soro macro gotas Látex, com roldana, com comprimento de, no mínimo, 1,20m | C14: =IF(AND(C540>=M540,C540<=N540,C540<>0),C540,"x") -> x | D14: =IF(AND(D540>=M540,D540<=N540,D540<>0),D540,"x") -> 0.63 | E14: =IF(AND(E540>=M540,E540<=N540,E540<>0),E540,"x") -> 0.64 | F14: =IF(AND(F540>=M540,F540<=N540,F540<>0),F540,"x") -> 0.64 | G14: =IF(AND(G540>=M540,G540<=N540,G540<>0),G540,"x") -> 0.67 | H14: =IF(AND(H540>=M540,H540<=N540,H540<>0),H540,"x") -> x | I14: =IF(AND(I540>=M540,I540<=N540,I540<>0),I540,"x") -> x | J14: =IF(AND(J540>=M540,J540<=N540,J540<>0),J540,"x") -> x | K14: =IF(AND(K540>=M540,K540<=N540,K540<>0),K540,"x") -> x | L14: =IF(AND(L540>=M540,L540<=N540,L540<>0),L540,"x") -> x | M14: =SUM(C14:L14)/COUNT(C14:L14) -> 0.645 | N14: =+M283 -> 0.0009 | O14: =N14/(COUNT(C14:L14)-1) -> 0.0003 | P14: =SQRT(O14) -> 0.017320508 | Q14: =((P14/M14)*100) -> 2.6853501 | R14: =IF(Q14<25,M14," ") -> 0.645 | S14: =IF(Q14>25,MEDIAN(C14,D14,E14,F14,G14,H14,I14,J14,K14,L14)," ")
A15: =+'Pesquisa de Preços'!A15 -> 7 | B15: =+'Pesquisa de Preços'!B15 -> Equipo multivia/polifix - Multivia/polifix- Dispositivo para administração de medicamentos/soluções | C15: =IF(AND(C541>=M541,C541<=N541,C541<>0),C541,"x") -> x | D15: =IF(AND(D541>=M541,D541<=N541,D541<>0),D541,"x") -> 0.52 | E15: =IF(AND(E541>=M541,E541<=N541,E541<>0),E541,"x") -> 0.52 | F15: =IF(AND(F541>=M541,F541<=N541,F541<>0),F541,"x") -> 0.53 | G15: =IF(AND(G541>=M541,G541<=N541,G541<>0),G541,"x") -> x | H15: =IF(AND(H541>=M541,H541<=N541,H541<>0),H541,"x") -> x | I15: =IF(AND(I541>=M541,I541<=N541,I541<>0),I541,"x") -> x | J15: =IF(AND(J541>=M541,J541<=N541,J541<>0),J541,"x") -> x | K15: =IF(AND(K541>=M541,K541<=N541,K541<>0),K541,"x") -> x | L15: =IF(AND(L541>=M541,L541<=N541,L541<>0),L541,"x") -> 0.6 | M15: =SUM(C15:L15)/COUNT(C15:L15) -> 0.5425 | N15: =+M284 -> 0.004475 | O15: =N15/(COUNT(C15:L15)-1) -> 0.0014916667 | P15: =SQRT(O15) -> 0.038622101 | Q15: =((P15/M15)*100) -> 7.1192812 | R15: =IF(Q15<25,M15," ") -> 0.5425 | S15: =IF(Q15>25,MEDIAN(C15,D15,E15,F15,G15,H15,I15,J15,K15,L15)," ")
A16: =+'Pesquisa de Preços'!A16 -> 8 | B16: =+'Pesquisa de Preços'!B16 -> EQUIPO DE ALIMENTAÇÃO ENTERAL - DESCRIÇÃO: Dispositivo de infusão de solução enteral por gravidade através de sondas | C16: =IF(AND(C542>=M542,C542<=N542,C542<>0),C542,"x") -> x | D16: =IF(AND(D542>=M542,D542<=N542,D542<>0),D542,"x") -> 1.34 | E16: =IF(AND(E542>=M542,E542<=N542,E542<>0),E542,"x") -> 1.36 | F16: =IF(AND(F542>=M542,F542<=N542,F542<>0),F542,"x") -> 1.37 | G16: =IF(AND(G542>=M542,G542<=N542,G542<>0),G542,"x") -> 0.9 | H16: =IF(AND(H542>=M542,H542<=N542,H542<>0),H542,"x") -> x | I16: =IF(AND(I542>=M542,I542<=N542,I542<>0),I542,"x") -> x | J16: =IF(AND(J542>=M542,J542<=N542,J542<>0),J542,"x") -> x | K16: =IF(AND(K542>=M542,K542<=N542,K542<>0),K542,"x") -> x | L16: =IF(AND(L542>=M542,L542<=N542,L542<>0),L542,"x") -> 0.93 | M16: =SUM(C16:L16)/COUNT(C16:L16) -> 1.18 | N16: =+M285 -> 0.235 | O16: =N16/(COUNT(C16:L16)-1) -> 0.05875 | P16: =SQRT(O16) -> 0.24238399 | Q16: =((P16/M16)*100) -> 20.541016 | R16: =IF(Q16<25,M16," ") -> 1.18 | S16: =IF(Q16>25,MEDIAN(C16,D16,E16,F16,G16,H16,I16,J16,K16,L16)," ")
A17: =+'Pesquisa de Preços'!A17 -> 9 | B17: =+'Pesquisa de Preços'!B17 -> ELETRODOS DE SILICONE PARA FISIOTERAPIA. | C17: =IF(AND(C543>=M543,C543<=N543,C543<>0),C543,"x") -> x | D17: =IF(AND(D543>=M543,D543<=N543,D543<>0),D543,"x") -> 105.56 | E17: =IF(AND(E543>=M543,E543<=N543,E543<>0),E543,"x") -> 107.11 | F17: =IF(AND(F543>=M543,F543<=N543,F543<>0),F543,"x") -> 108.08 | G17: =IF(AND(G543>=M543,G543<=N543,G543<>0),G543,"x") -> 104 | H17: =IF(AND(H543>=M543,H543<=N543,H543<>0),H543,"x") -> x | I17: =IF(AND(I543>=M543,I543<=N543,I543<>0),I543,"x") -> x | J17: =IF(AND(J543>=M543,J543<=N543,J543<>0),J543,"x") -> x | K17: =IF(AND(K543>=M543,K543<=N543,K543<>0),K543,"x") -> x | L17: =IF(AND(L543>=M543,L543<=N543,L543<>0),L543,"x") -> x | M17: =SUM(C17:L17)/COUNT(C17:L17) -> 106.1875 | N17: =+M286 -> 9.611475 | O17: =N17/(COUNT(C17:L17)-1) -> 3.203825 | P17: =SQRT(O17) -> 1.7899232 | Q17: =((P17/M17)*100) -> 1.6856251 | R17: =IF(Q17<25,M17," ") -> 106.1875 | S17: =IF(Q17>25,MEDIAN(C17,D17,E17,F17,G17,H17,I17,J17,K17,L17)," ")
A18: =+'Pesquisa de Preços'!A18 -> 10 | B18: =+'Pesquisa de Preços'!B18 -> ELETRODOS AUTO ADESIVOS PARA TENS E FENS 5X9 CM. | C18: =IF(AND(C544>=M544,C544<=N544,C544<>0),C544,"x") -> x | D18: =IF(AND(D544>=M544,D544<=N544,D544<>0),D544,"x") -> 8.78 | E18: =IF(AND(E544>=M544,E544<=N544,E544<>0),E544,"x") -> 8.91 | F18: =IF(AND(F544>=M544,F544<=N544,F544<>0),F544,"x") -> 8.99 | G18: =IF(AND(G544>=M544,G544<=N544,G544<>0),G544,"x") -> 6.48 | H18: =IF(AND(H544>=M544,H544<=N544,H544<>0),H544,"x") -> x | I18: =IF(AND(I544>=M544,I544<=N544,I544<>0),I544,"x") -> x | J18: =IF(AND(J544>=M544,J544<=N544,J544<>0),J544,"x") -> x | K18: =IF(AND(K544>=M544,K544<=N544,K544<>0),K544,"x") -> x | L18: =IF(AND(L544>=M544,L544<=N544,L544<>0),L544,"x") -> 5.5 | M18: =SUM(C18:L18)/COUNT(C18:L18) -> 7.732 | N18: =+M287 -> 10.61788 | O18: =N18/(COUNT(C18:L18)-1) -> 2.65447 | P18: =SQRT(O18) -> 1.6292544 | Q18: =((P18/M18)*100) -> 21.071578 | R18: =IF(Q18<25,M18," ") -> 7.732 | S18: =IF(Q18>25,MEDIAN(C18,D18,E18,F18,G18,H18,I18,J18,K18,L18)," ")
A19: =+'Pesquisa de Preços'!A19 -> 11 | B19: =+'Pesquisa de Preços'!B19 -> Eletrodo descartável tam. adulto para DEA Zoll. | C19: =IF(AND(C545>=M545,C545<=N545,C545<>0),C545,"x") -> x | D19: =IF(AND(D545>=M545,D545<=N545,D545<>0),D545,"x") -> 533.34 | E19: =IF(AND(E545>=M545,E545<=N545,E545<>0),E545,"x") -> 541.15 | F19: =IF(AND(F545>=M545,F545<=N545,F545<>0),F545,"x") -> 546.08 | G19: =IF(AND(G545>=M545,G545<=N545,G545<>0),G545,"x") -> 378.8 | H19: =IF(AND(H545>=M545,H545<=N545,H545<>0),H545,"x") -> x | I19: =IF(AND(I545>=M545,I545<=N545,I545<>0),I545,"x") -> x | J19: =IF(AND(J545>=M545,J545<=N545,J545<>0),J545,"x") -> x | K19: =IF(AND(K545>=M545,K545<=N545,K545<>0),K545,"x") -> x | L19: =IF(AND(L545>=M545,L545<=N545,L545<>0),L545,"x") -> x | M19: =SUM(C19:L19)/COUNT(C19:L19) -> 499.8425 | N19: =+M288 -> 19617.585 | O19: =N19/(COUNT(C19:L19)-1) -> 6539.1951 | P19: =SQRT(O19) -> 80.86529 | Q19: =((P19/M19)*100) -> 16.178154 | R19: =IF(Q19<25,M19," ") -> 499.8425 | S19: =IF(Q19>25,MEDIAN(C19,D19,E19,F19,G19,H19,I19,J19,K19,L19)," ")
A20: =+'Pesquisa de Preços'!A20 -> 12 | B20: =+'Pesquisa de Preços'!B20 -> Eletrodo descartável tam infantil para DEA Zol. | C20: =IF(AND(C546>=M546,C546<=N546,C546<>0),C546,"x") -> x | D20: =IF(AND(D546>=M546,D546<=N546,D546<>0),D546,"x") -> 533.34 | E20: =IF(AND(E546>=M546,E546<=N546,E546<>0),E546,"x") -> 541.15 | F20: =IF(AND(F546>=M546,F546<=N546,F546<>0),F546,"x") -> 546.08 | G20: =IF(AND(G546>=M546,G546<=N546,G546<>0),G546,"x") -> x | H20: =IF(AND(H546>=M546,H546<=N546,H546<>0),H546,"x") -> x | I20: =IF(AND(I546>=M546,I546<=N546,I546<>0),I546,"x") -> x | J20: =IF(AND(J546>=M546,J546<=N546,J546<>0),J546,"x") -> x | K20: =IF(AND(K546>=M546,K546<=N546,K546<>0),K546,"x") -> x | L20: =IF(AND(L546>=M546,L546<=N546,L546<>0),L546,"x") -> 444.22 | M20: =SUM(C20:L20)/COUNT(C20:L20) -> 516.1975 | N20: =+M289 -> 6990.2169 | O20: =N20/(COUNT(C20:L20)-1) -> 2330.0723 | P20: =SQRT(O20) -> 48.270822 | Q20: =((P20/M20)*100) -> 9.3512313 | R20: =IF(Q20<25,M20," ") -> 516.1975 | S20: =IF(Q20>25,MEDIAN(C20,D20,E20,F20,G20,H20,I20,J20,K20,L20)," ")
... A258: =+'Pesquisa de Preços'!A258 -> 0 | B258: =+'Pesquisa de Preços'!B258 -> 0 | C258: =IF(AND(C784>=M784,C784<=N784,C784<>0),C784,"x") -> #DIV/0! | D258: =IF(AND(D784>=M784,D784<=N784,D784<>0),D784,"x") -> #DIV/0! | E258: =IF(AND(E784>=M784,E784<=N784,E784<>0),E784,"x") -> #DIV/0! | F258: =IF(AND(F784>=M784,F784<=N784,F784<>0),F784,"x") -> #DIV/0! | G258: =IF(AND(G784>=M784,G784<=N784,G784<>0),G784,"x") -> #DIV/0! | H258: =IF(AND(H784>=M784,H784<=N784,H784<>0),H784,"x") -> #DIV/0! | I258: =IF(AND(I784>=M784,I784<=N784,I784<>0),I784,"x") -> #DIV/0! | J258: =IF(AND(J784>=M784,J784<=N784,J784<>0),J784,"x") -> #DIV/0! | K258: =IF(AND(K784>=M784,K784<=N784,K784<>0),K784,"x") -> #DIV/0! | L258: =IF(AND(L784>=M784,L784<=N784,L784<>0),L784,"x") -> #DIV/0! | M258: =SUM(C258:L258)/COUNT(C258:L258) -> #DIV/0! | N258: =+M527 -> #DIV/0! | O258: =N258/(COUNT(C258:L258)-1) -> #DIV/0! | P258: =SQRT(O258) -> #DIV/0! | Q258: =((P258/M258)*100) -> #DIV/0! | R258: =IF(Q258<25,M258," ") -> #DIV/0! | S258: =IF(Q258>25,MEDIAN(C258,D258,E258,F258,G258,H258,I258,J258,K258,L258)," ") -> #DIV/0!
I276: =IF(I9="x","",IF(I9<>"x",((S9-I9)^2))) | J276: =IF(J9="x","",IF(J9<>"x",((#REF!-J9)^2))) | K276: =IF(K9="x","",IF(K9<>"x",((T9-K9)^2))) | L276: =IF(L9="x","",IF(L9<>"x",((U9-L9)^2))) -> 68.89
B277: Para definição do valor da coluna R (Soma = Somatória da (média - amostra) ao quadrado de cada um)
A278: =+A9 -> 1 | B278: =+B9 -> Esparadrapo impermeável, largura de 10 cm. Rolo c/4,5m | C278: =IF(C9="x","",IF(C9<>"x",((M9-C9)^2))) | D278: =IF(D9="x","",IF(D9<>"x",((M9-D9)^2))) -> 0.02640625 | E278: =IF(E9="x","",IF(E9<>"x",((M9-E9)^2))) -> 0.08555625 | F278: =IF(F9="x","",IF(F9<>"x",((M9-F9)^2))) -> 0.01500625 | G278: =IF(G9="x","",IF(G9<>"x",((M9-G9)^2))) | H278: =IF(H9="x","",IF(H9<>"x",((M9-H9)^2))) | I278: =IF(I9="x","",IF(I9<>"x",((M9-I9)^2))) | J278: =IF(J9="x","",IF(J9<>"x",((M9-J9)^2))) | K278: =IF(K9="x","",IF(K9<>"x",((M9-K9)^2))) | L278: =IF(L9="x","",IF(L9<>"x",((M9-L9)^2))) -> 0.33350625 | M278: =SUM(C278:L278) -> 0.460475
A279: =+A10 -> 2 | B279: =+B10 -> ESFIGMOMANÔMETRO (OBESO) | C279: =IF(C10="x","",IF(C10<>"x",((M10-C10)^2))) | D279: =IF(D10="x","",IF(D10<>"x",((M10-D10)^2))) -> 0.000625 | E279: =IF(E10="x","",IF(E10<>"x",((M10-E10)^2))) -> 1.863225 | F279: =IF(F10="x","",IF(F10<>"x",((M10-F10)^2))) -> 4.906225 | G279: =IF(G10="x","",IF(G10<>"x",((M10-G10)^2))) | H279: =IF(H10="x","",IF(H10<>"x",((M10-H10)^2))) | I279: =IF(I10="x","",IF(I10<>"x",((M10-I10)^2))) | J279: =IF(J10="x","",IF(J10<>"x",((M10-J10)^2))) | K279: =IF(K10="x","",IF(K10<>"x",((M10-K10)^2))) | L279: =IF(L10="x","",IF(L10<>"x",((M10-L10)^2))) -> 12.996025 | M279: =SUM(C279:L279) -> 19.7661
A280: =+A11 -> 3 | B280: =+B11 -> ESFIGMOMANÔMETRO (INFANTIL) | C280: =IF(C11="x","",IF(C11<>"x",((M11-C11)^2))) | D280: =IF(D11="x","",IF(D11<>"x",((M11-D11)^2))) -> 1.0885444 | E280: =IF(E11="x","",IF(E11<>"x",((M11-E11)^2))) -> 0.021511111 | F280: =IF(F11="x","",IF(F11<>"x",((M11-F11)^2))) -> 0.80401111 | G280: =IF(G11="x","",IF(G11<>"x",((M11-G11)^2))) | H280: =IF(H11="x","",IF(H11<>"x",((M11-H11)^2))) | I280: =IF(I11="x","",IF(I11<>"x",((M11-I11)^2))) | J280: =IF(J11="x","",IF(J11<>"x",((M11-J11)^2))) | K280: =IF(K11="x","",IF(K11<>"x",((M11-K11)^2))) | L280: =IF(L11="x","",IF(L11<>"x",((M11-L11)^2))) | M280: =SUM(C280:L280) -> 1.9140667
A281: =+A12 -> 4 | B281: =+B12 -> ESCOVA ENDOCEVICAL PARA USO GINECOLÓGICO, DESCARTÁVEL,EMBALAGEM PACOTE COM 100 | C281: =IF(C12="x","",IF(C12<>"x",((M12-C12)^2))) | D281: =IF(D12="x","",IF(D12<>"x",((M12-D12)^2))) -> 0.030625 | E281: =IF(E12="x","",IF(E12<>"x",((M12-E12)^2))) -> 0.133225 | F281: =IF(F12="x","",IF(F12<>"x",((M12-F12)^2))) -> 0.497025 | G281: =IF(G12="x","",IF(G12<>"x",((M12-G12)^2))) | H281: =IF(H12="x","",IF(H12<>"x",((M12-H12)^2))) | I281: =IF(I12="x","",IF(I12<>"x",((M12-I12)^2))) | J281: =IF(J12="x","",IF(J12<>"x",((M12-J12)^2))) | K281: =IF(K12="x","",IF(K12<>"x",((M12-K12)^2))) | L281: =IF(L12="x","",IF(L12<>"x",((M12-L12)^2))) -> 0.801025 | M281: =SUM(C281:L281) -> 1.4619
A282: =+A13 -> 5 | B282: =+B13 -> Equipo para soro micro gotas Látex, com roldana, com comprimento de, no mínimo, 1,20m | C282: =IF(C13="x","",IF(C13<>"x",((M13-C13)^2))) | D282: =IF(D13="x","",IF(D13<>"x",((M13-D13)^2))) -> 0.01050625 | E282: =IF(E13="x","",IF(E13<>"x",((M13-E13)^2))) -> 0.01500625 | F282: =IF(F13="x","",IF(F13<>"x",((M13-F13)^2))) -> 0.02030625 | G282: =IF(G13="x","",IF(G13<>"x",((M13-G13)^2))) -> 0.13505625 | H282: =IF(H13="x","",IF(H13<>"x",((M13-H13)^2))) | I282: =IF(I13="x","",IF(I13<>"x",((M13-I13)^2))) | J282: =IF(J13="x","",IF(J13<>"x",((M13-J13)^2))) | K282: =IF(K13="x","",IF(K13<>"x",((M13-K13)^2))) | L282: =IF(L13="x","",IF(L13<>"x",((M13-L13)^2))) | M282: =SUM(C282:L282) -> 0.180875
A283: =+A14 -> 6 | B283: =+B14 -> Equipo para soro macro gotas Látex, com roldana, com comprimento de, no mínimo, 1,20m | C283: =IF(C14="x","",IF(C14<>"x",((M14-C14)^2))) | D283: =IF(D14="x","",IF(D14<>"x",((M14-D14)^2))) -> 0.000225 | E283: =IF(E14="x","",IF(E14<>"x",((M14-E14)^2))) -> 2.5e-05 | F283: =IF(F14="x","",IF(F14<>"x",((M14-F14)^2))) -> 2.5e-05 | G283: =IF(G14="x","",IF(G14<>"x",((M14-G14)^2))) -> 0.000625 | H283: =IF(H14="x","",IF(H14<>"x",((M14-H14)^2))) | I283: =IF(I14="x","",IF(I14<>"x",((M14-I14)^2))) | J283: =IF(J14="x","",IF(J14<>"x",((M14-J14)^2))) | K283: =IF(K14="x","",IF(K14<>"x",((M14-K14)^2))) | L283: =IF(L14="x","",IF(L14<>"x",((M14-L14)^2))) | M283: =SUM(C283:L283) -> 0.0009
A284: =+A15 -> 7 | B284: =+B15 -> Equipo multivia/polifix - Multivia/polifix- Dispositivo para administração de medicamentos/soluções | C284: =IF(C15="x","",IF(C15<>"x",((M15-C15)^2))) | D284: =IF(D15="x","",IF(D15<>"x",((M15-D15)^2))) -> 0.00050625 | E284: =IF(E15="x","",IF(E15<>"x",((M15-E15)^2))) -> 0.00050625 | F284: =IF(F15="x","",IF(F15<>"x",((M15-F15)^2))) -> 0.00015625 | G284: =IF(G15="x","",IF(G15<>"x",((M15-G15)^2))) | H284: =IF(H15="x","",IF(H15<>"x",((M15-H15)^2))) | I284: =IF(I15="x","",IF(I15<>"x",((M15-I15)^2))) | J284: =IF(J15="x","",IF(J15<>"x",((M15-J15)^2))) | K284: =IF(K15="x","",IF(K15<>"x",((M15-K15)^2))) | L284: =IF(L15="x","",IF(L15<>"x",((M15-L15)^2))) -> 0.00330625 | M284: =SUM(C284:L284) -> 0.004475
A285: =+A16 -> 8 | B285: =+B16 -> EQUIPO DE ALIMENTAÇÃO ENTERAL - DESCRIÇÃO: Dispositivo de infusão de solução enteral por gravidade através de sondas | C285: =IF(C16="x","",IF(C16<>"x",((M16-C16)^2))) | D285: =IF(D16="x","",IF(D16<>"x",((M16-D16)^2))) -> 0.0256 | E285: =IF(E16="x","",IF(E16<>"x",((M16-E16)^2))) -> 0.0324 | F285: =IF(F16="x","",IF(F16<>"x",((M16-F16)^2))) -> 0.0361 | G285: =IF(G16="x","",IF(G16<>"x",((M16-G16)^2))) -> 0.0784 | H285: =IF(H16="x","",IF(H16<>"x",((M16-H16)^2))) | I285: =IF(I16="x","",IF(I16<>"x",((M16-I16)^2))) | J285: =IF(J16="x","",IF(J16<>"x",((M16-J16)^2))) | K285: =IF(K16="x","",IF(K16<>"x",((M16-K16)^2))) | L285: =IF(L16="x","",IF(L16<>"x",((M16-L16)^2))) -> 0.0625 | M285: =SUM(C285:L285) -> 0.235
A286: =+A17 -> 9 | B286: =+B17 -> ELETRODOS DE SILICONE PARA FISIOTERAPIA. | C286: =IF(C17="x","",IF(C17<>"x",((M17-C17)^2))) | D286: =IF(D17="x","",IF(D17<>"x",((M17-D17)^2))) -> 0.39375625 | E286: =IF(E17="x","",IF(E17<>"x",((M17-E17)^2))) -> 0.85100625 | F286: =IF(F17="x","",IF(F17<>"x",((M17-F17)^2))) -> 3.5815562 | G286: =IF(G17="x","",IF(G17<>"x",((M17-G17)^2))) -> 4.7851562 | H286: =IF(H17="x","",IF(H17<>"x",((M17-H17)^2))) | I286: =IF(I17="x","",IF(I17<>"x",((M17-I17)^2))) | J286: =IF(J17="x","",IF(J17<>"x",((M17-J17)^2))) | K286: =IF(K17="x","",IF(K17<>"x",((M17-K17)^2))) | L286: =IF(L17="x","",IF(L17<>"x",((M17-L17)^2))) | M286: =SUM(C286:L286) -> 9.611475
A287: =+A18 -> 10 | B287: =+B18 -> ELETRODOS AUTO ADESIVOS PARA TENS E FENS 5X9 CM. | C287: =IF(C18="x","",IF(C18<>"x",((M18-C18)^2))) | D287: =IF(D18="x","",IF(D18<>"x",((M18-D18)^2))) -> 1.098304 | E287: =IF(E18="x","",IF(E18<>"x",((M18-E18)^2))) -> 1.387684 | F287: =IF(F18="x","",IF(F18<>"x",((M18-F18)^2))) -> 1.582564 | G287: =IF(G18="x","",IF(G18<>"x",((M18-G18)^2))) -> 1.567504 | H287: =IF(H18="x","",IF(H18<>"x",((M18-H18)^2))) | I287: =IF(I18="x","",IF(I18<>"x",((M18-I18)^2))) | J287: =IF(J18="x","",IF(J18<>"x",((M18-J18)^2))) | K287: =IF(K18="x","",IF(K18<>"x",((M18-K18)^2))) | L287: =IF(L18="x","",IF(L18<>"x",((M18-L18)^2))) -> 4.981824 | M287: =SUM(C287:L287) -> 10.61788
A288: =+A19 -> 11 | B288: =+B19 -> Eletrodo descartável tam. adulto para DEA Zoll. | C288: =IF(C19="x","",IF(C19<>"x",((M19-C19)^2))) | D288: =IF(D19="x","",IF(D19<>"x",((M19-D19)^2))) -> 1122.0825 | E288: =IF(E19="x","",IF(E19<>"x",((M19-E19)^2))) -> 1706.3096 | F288: =IF(F19="x","",IF(F19<>"x",((M19-F19)^2))) -> 2137.9064 | G288: =IF(G19="x","",IF(G19<>"x",((M19-G19)^2))) -> 14651.287 | H288: =IF(H19="x","",IF(H19<>"x",((M19-H19)^2))) | I288: =IF(I19="x","",IF(I19<>"x",((M19-I19)^2))) | J288: =IF(J19="x","",IF(J19<>"x",((M19-J19)^2))) | K288: =IF(K19="x","",IF(K19<>"x",((M19-K19)^2))) | L288: =IF(L19="x","",IF(L19<>"x",((M19-L19)^2))) | M288: =SUM(C288:L288) -> 19617.585
A289: =+A20 -> 12 | B289: =+B20 -> Eletrodo descartável tam infantil para DEA Zol. | C289: =IF(C20="x","",IF(C20<>"x",((M20-C20)^2))) | D289: =IF(D20="x","",IF(D20<>"x",((M20-D20)^2))) -> 293.86531 | E289: =IF(E20="x","",IF(E20<>"x",((M20-E20)^2))) -> 622.62726 | F289: =IF(F20="x","",IF(F20<>"x",((M20-F20)^2))) -> 892.96381 | G289: =IF(G20="x","",IF(G20<>"x",((M20-G20)^2))) | H289: =IF(H20="x","",IF(H20<>"x",((M20-H20)^2))) | I289: =IF(I20="x","",IF(I20<>"x",((M20-I20)^2))) | J289: =IF(J20="x","",IF(J20<>"x",((M20-J20)^2))) | K289: =IF(K20="x","",IF(K20<>"x",((M20-K20)^2))) | L289: =IF(L20="x","",IF(L20<>"x",((M20-L20)^2))) -> 5180.7605 | M289: =SUM(C289:L289) -> 6990.2169
... A527: =+A258 -> 0 | B527: =+B258 -> 0 | C527: =IF(C258="x","",IF(C258<>"x",((M258-C258)^2))) -> #DIV/0! | D527: =IF(D258="x","",IF(D258<>"x",((M258-D258)^2))) -> #DIV/0! | E527: =IF(E258="x","",IF(E258<>"x",((M258-E258)^2))) -> #DIV/0! | F527: =IF(F258="x","",IF(F258<>"x",((M258-F258)^2))) -> #DIV/0! | G527: =IF(G258="x","",IF(G258<>"x",((M258-G258)^2))) -> #DIV/0! | H527: =IF(H258="x","",IF(H258<>"x",((M258-H258)^2))) -> #DIV/0! | I527: =IF(I258="x","",IF(I258<>"x",((M258-I258)^2))) -> #DIV/0! | J527: =IF(J258="x","",IF(J258<>"x",((M258-J258)^2))) -> #DIV/0! | K527: =IF(K258="x","",IF(K258<>"x",((M258-K258)^2))) -> #DIV/0! | L527: =IF(L258="x","",IF(L258<>"x",((M258-L258)^2))) -> #DIV/0! | M527: =SUM(C527:L527) -> #DIV/0!
A533: Para utilizar no Cálculo da Soma = Somatória da (média - amostra) ao quadrado de cada um
A534: Item | B534: Descrição | C534: Banco de Preços | D534: Banco de Preços | E534: Banco de Preços | F534: Banco de Preços | G534: Banco de Preços | H534: Banco de Preços | I534: Banco de Preços | J534: Banco de Preços | K534: Banco de Preços | L534: Banco de Preços | M534: Limite Inferior = Média - DP | N534: Limite Superior = Média + DP
A535: =+'Pesquisa de Preços'!A9 -> 1 | B535: =+'Pesquisa de Preços'!B9 -> Esparadrapo impermeável, largura de 10 cm. Rolo c/4,5m | C535: =+'Pesquisa de Preços'!C9 -> 0 | D535: =+'Pesquisa de Preços'!D9 -> 9.04 | E535: =+'Pesquisa de Preços'!E9 -> 9.17 | F535: =+'Pesquisa de Preços'!F9 -> 9 | G535: =+'Pesquisa de Preços'!G9 -> 7.97 | H535: =+'Pesquisa de Preços'!H9 -> 0 | ... L535: =+'Pesquisa de Preços'!L9 -> 8.3 | M535: =+'Pesquisa de Preços'!Q9 -> 8.17 | N535: =+'Pesquisa de Preços'!R9 -> 9.22
A536: =+A535+1 -> 2 | B536: =+'Pesquisa de Preços'!B10 -> ESFIGMOMANÔMETRO (OBESO) | C536: =+'Pesquisa de Preços'!C10 -> 0 | D536: =+'Pesquisa de Preços'!D10 -> 91.3 | E536: =+'Pesquisa de Preços'!E10 -> 92.64 | F536: =+'Pesquisa de Preços'!F10 -> 93.49 | G536: =+'Pesquisa de Preços'!G10 -> 76.15 | H536: =+'Pesquisa de Preços'!H10 -> 0 | I536: =+'Pesquisa de Preços'!I10 -> 0 | ... L536: =+'Pesquisa de Preços'!L10 -> 87.67 | M536: =+'Pesquisa de Preços'!Q10 -> 81.13 | N536: =+'Pesquisa de Preços'!R10 -> 95.37
...

Sheet Media ao quadrado
A1: Planilha Pesquisa de Preços | C1: Processo:
A3: Item | B3: Descrição | C3: Banco de Preços | D3: Banco de Preços | E3: Banco de Preços | F3: Banco de Preços | G3: Banco de Preços | H3: Banco de Preços | I3: Banco de Preços | J3: Banco de Preços | K3: Banco de Preços | L3: Banco de Preços | M3: Soma = Somatória da (média - amostra) ao quadrado de cada um
A4: =+'Pesquisa de Preços'!A9 -> 1 | B4: =+'Pesquisa de Preços'!B9 -> Esparadrapo impermeável, largura de 10 cm. Rolo c/4,5m | C4: =IF(C263=0,"",((M263-C263)^2)) | D4: =IF(D263=0,"",((M263-D263)^2)) -> 0.118336 | E4: =IF(E263=0,"",((M263-E263)^2)) -> 0.224676 | F4: =IF(F263=0,"",((M263-F263)^2)) -> 0.092416 | G4: =IF(G263=0,"",((M263-G263)^2)) -> 0.527076 | H4: =IF(H263=0,"",((M263-H263)^2)) | I4: =IF(I263=0,"",((M263-I263)^2)) | J4: =IF(J263=0,"",((M263-J263)^2)) | K4: =IF(K263=0,"",((M263-K263)^2)) | L4: =IF(L263=0,"",((M263-L263)^2)) -> 0.156816 | M4: =SUM(C4:L4) -> 1.11932
A5: =+'Pesquisa de Preços'!A10 -> 2 | B5: =+'Pesquisa de Preços'!B10 -> ESFIGMOMANÔMETRO (OBESO) | C5: =IF(C264=0,"",((M264-C264)^2)) | D5: =IF(D264=0,"",((M264-D264)^2)) -> 9.3025 | E5: =IF(E264=0,"",((M264-E264)^2)) -> 19.2721 | F5: =IF(F264=0,"",((M264-F264)^2)) -> 27.4576 | G5: =IF(G264=0,"",((M264-G264)^2)) -> 146.41 | H5: =IF(H264=0,"",((M264-H264)^2)) | I5: =IF(I264=0,"",((M264-I264)^2)) | J5: =IF(J264=0,"",((M264-J264)^2)) | K5: =IF(K264=0,"",((M264-K264)^2)) | L5: =IF(L264=0,"",((M264-L264)^2)) -> 0.3364 | M5: =SUM(C5:L5) -> 202.7786
A6: =+'Pesquisa de Preços'!A11 -> 3 | B6: =+'Pesquisa de Preços'!B11 -> ESFIGMOMANÔMETRO (INFANTIL) | C6: =IF(C265=0,"",((M265-C265)^2)) | D6: =IF(D265=0,"",((M265-D265)^2)) -> 14.2129 | E6: =IF(E265=0,"",((M265-E265)^2)) -> 24.6016 | F6: =IF(F265=0,"",((M265-F265)^2)) -> 32.6041 | G6: =IF(G265=0,"",((M265-G265)^2)) -> 48.5809 | H6: =IF(H265=0,"",((M265-H265)^2)) | I6: =IF(I265=0,"",((M265-I265)^2)) | J6: =IF(J265=0,"",((M265-J265)^2)) | K6: =IF(K265=0,"",((M265-K265)^2)) | L6: =IF(L265=0,"",((M265-L265)^2)) -> 55.8009 | M6: =SUM(C6:L6) -> 175.8004
A7: =+'Pesquisa de Preços'!A12 -> 4 | B7: =+'Pesquisa de Preços'!B12 -> ESCOVA ENDOCEVICAL PARA USO GINECOLÓGICO, DESCARTÁVEL,EMBALAGEM PACOTE COM 100 | C7: =IF(C266=0,"",((M266-C266)^2)) -> 303.8049 | D7: =IF(D266=0,"",((M266-D266)^2)) -> 0.64 | E7: =IF(E266=0,"",((M266-E266)^2)) -> 0.0676 | F7: =IF(F266=0,"",((M266-F266)^2)) -> 0.0064 | G7: =IF(G266=0,"",((M266-G266)^2)) -> 222.9049 | H7: =IF(H266=0,"",((M266-H266)^2)) | I7: =IF(I266=0,"",((M266-I266)^2)) | J7: =IF(J266=0,"",((M266-J266)^2)) | K7: =IF(K266=0,"",((M266-K266)^2)) | L7: =IF(L266=0,"",((M266-L266)^2)) -> 2.3104 | M7: =SUM(C7:L7) -> 529.7342
A8: =+'Pesquisa de Preços'!A13 -> 5 | B8: =+'Pesquisa de Preços'!B13 -> Equipo para soro micro gotas Látex, com roldana, com comprimento de, no mínimo, 1,20m | C8: =IF(C267=0,"",((M267-C267)^2)) | D8: =IF(D267=0,"",((M267-D267)^2)) -> 0.055696 | E8: =IF(E267=0,"",((M267-E267)^2)) -> 0.065536 | F8: =IF(F267=0,"",((M267-F267)^2)) -> 0.076176 | G8: =IF(G267=0,"",((M267-G267)^2)) -> 0.054756 | H8: =IF(H267=0,"",((M267-H267)^2)) | I8: =IF(I267=0,"",((M267-I267)^2)) | J8: =IF(J267=0,"",((M267-J267)^2)) | K8: =IF(K267=0,"",((M267-K267)^2)) | L8: =IF(L267=0,"",((M267-L267)^2)) -> 0.285156 | M8: =SUM(C8:L8) -> 0.53732
A9: =+'Pesquisa de Preços'!A14 -> 6 | B9: =+'Pesquisa de Preços'!B14 -> Equipo para soro macro gotas Látex, com roldana, com comprimento de, no mínimo, 1,20m | C9: =IF(C268=0,"",((M268-C268)^2)) | D9: =IF(D268=0,"",((M268-D268)^2)) -> 0.001024 | E9: =IF(E268=0,"",((M268-E268)^2)) -> 0.000484 | F9: =IF(F268=0,"",((M268-F268)^2)) -> 0.000484 | G9: =IF(G268=0,"",((M268-G268)^2)) -> 6.4e-05 | H9: =IF(H268=0,"",((M268-H268)^2)) | I9: =IF(I268=0,"",((M268-I268)^2)) | J9: =IF(J268=0,"",((M268-J268)^2)) | K9: =IF(K268=0,"",((M268-K268)^2)) | L9: =IF(L268=0,"",((M268-L268)^2)) -> 0.004624 | M9: =SUM(C9:L9) -> 0.00668
A10: =+'Pesquisa de Preços'!A15 -> 7 | B10: =+'Pesquisa de Preços'!B15 -> Equipo multivia/polifix - Multivia/polifix- Dispositivo para administração de medicamentos/soluções | C10: =IF(C269=0,"",((M269-C269)^2)) | D10: =IF(D269=0,"",((M269-D269)^2)) -> 0.003136 | E10: =IF(E269=0,"",((M269-E269)^2)) -> 0.003136 | F10: =IF(F269=0,"",((M269-F269)^2)) -> 0.002116 | G10: =IF(G269=0,"",((M269-G269)^2)) -> 0.017956 | H10: =IF(H269=0,"",((M269-H269)^2)) | I10: =IF(I269=0,"",((M269-I269)^2)) | J10: =IF(J269=0,"",((M269-J269)^2)) | K10: =IF(K269=0,"",((M269-K269)^2)) | L10: =IF(L269=0,"",((M269-L269)^2)) -> 0.000576 | M10: =SUM(C10:L10) -> 0.02692
A11: =+'Pesquisa de Preços'!A16 -> 8 | B11: =+'Pesquisa de Preços'!B16 -> EQUIPO DE ALIMENTAÇÃO ENTERAL - DESCRIÇÃO: Dispositivo de infusão de solução enteral por gravidade através de sondas | C11: =IF(C270=0,"",((M270-C270)^2)) -> 123.21 | D11: =IF(D270=0,"",((M270-D270)^2)) -> 4.2436 | E11: =IF(E270=0,"",((M270-E270)^2)) -> 4.1616 | F11: =IF(F270=0,"",((M270-F270)^2)) -> 4.1209 | G11: =IF(G270=0,"",((M270-G270)^2)) -> 6.25 | H11: =IF(H270=0,"",((M270-H270)^2)) | I11: =IF(I270=0,"",((M270-I270)^2)) | J11: =IF(J270=0,"",((M270-J270)^2)) | K11: =IF(K270=0,"",((M270-K270)^2)) | L11: =IF(L270=0,"",((M270-L270)^2)) -> 6.1009 | M11: =SUM(C11:L11) -> 148.087
A12: =+'Pesquisa de Preços'!A17 -> 9 | B12: =+'Pesquisa de Preços'!B17 -> ELETRODOS DE SILICONE PARA FISIOTERAPIA. | C12: =IF(C271=0,"",((M271-C271)^2)) | D12: =IF(D271=0,"",((M271-D271)^2)) -> 114.96128 | E12: =IF(E271=0,"",((M271-E271)^2)) -> 150.60198 | F12: =IF(F271=0,"",((M271-F271)^2)) -> 175.35056 | G12: =IF(G271=0,"",((M271-G271)^2)) -> 83.942244 | H12: =IF(H271=0,"",((M271-H271)^2)) | I12: =IF(I271=0,"",((M271-I271)^2)) | J12: =IF(J271=0,"",((M271-J271)^2)) | K12: =IF(K271=0,"",((M271-K271)^2)) | L12: =IF(L271=0,"",((M271-L271)^2)) -> 2060.9784 | M12: =SUM(C12:L12) -> 2585.8345
A13: =+'Pesquisa de Preços'!A18 -> 10 | B13: =+'Pesquisa de Preços'!B18 -> ELETRODOS AUTO ADESIVOS PARA TENS E FENS 5X9 CM. | C13: =IF(C272=0,"",((M272-C272)^2)) -> 2278.312 | D13: =IF(D272=0,"",((M272-D272)^2)) -> 72.221669 | E13: =IF(E272=0,"",((M272-E272)^2)) -> 70.029003 | F13: =IF(F272=0,"",((M272-F272)^2)) -> 68.696469 | G13: =IF(G272=0,"",((M272-G272)^2)) -> 116.604 | H13: =IF(H272=0,"",((M272-H272)^2)) | I13: =IF(I272=0,"",((M272-I272)^2)) | J13: =IF(J272=0,"",((M272-J272)^2)) | K13: =IF(K272=0,"",((M272-K272)^2)) | L13: =IF(L272=0,"",((M272-L272)^2)) -> 138.72914 | M13: =SUM(C13:L13) -> 2744.5923
A14: =+'Pesquisa de Preços'!A19 -> 11 | B14: =+'Pesquisa de Preços'!B19 -> Eletrodo descartável tam. adulto para DEA Zoll. | C14: =IF(C273=0,"",((M273-C273)^2)) | D14: =IF(D273=0,"",((M273-D273)^2)) -> 3839.7852 | E14: =IF(E273=0,"",((M273-E273)^2)) -> 4868.6902 | F14: =IF(F273=0,"",((M273-F273)^2)) -> 5580.9864 | G14: =IF(G273=0,"",((M273-G273)^2)) -> 8569.9455 | H14: =IF(H273=0,"",((M273-H273)^2)) | I14: =IF(I273=0,"",((M273-I273)^2)) | J14: =IF(J273=0,"",((M273-J273)^2)) | K14: =IF(K273=0,"",((M273-K273)^2)) | L14: =IF(L273=0,"",((M273-L273)^2)) -> 12967.288 | M14: =SUM(C14:L14) -> 35826.695
A15: =+'Pesquisa de Preços'!A20 -> 12 | B15: =+'Pesquisa de Preços'!B20 -> Eletrodo descartável tam infantil para DEA Zol. | C15: =IF(C274=0,"",((M274-C274)^2)) | D15: =IF(D274=0,"",((M274-D274)^2)) -> 1991.1229 | E15: =IF(E274=0,"",((M274-E274)^2)) -> 2749.1146 | F15: =IF(F274=0,"",((M274-F274)^2)) -> 3290.399 | G15: =IF(G274=0,"",((M274-G274)^2)) -> 12081.967 | H15: =IF(H274=0,"",((M274-H274)^2)) | I15: =IF(I274=0,"",((M274-I274)^2)) | J15: =IF(J274=0,"",((M274-J274)^2)) | K15: =IF(K274=0,"",((M274-K274)^2)) | L15: =IF(L274=0,"",((M274-L274)^2)) -> 1980.072 | M15: =SUM(C15:L15) -> 22092.675
... A253: =+'Pesquisa de Preços'!A258 -> 0 | B253: =+'Pesquisa de Preços'!B258 -> 0 | C253: =IF(C512=0,"",((M512-C512)^2)) | D253: =IF(D512=0,"",((M512-D512)^2)) | E253: =IF(E512=0,"",((M512-E512)^2)) | F253: =IF(F512=0,"",((M512-F512)^2)) | G253: =IF(G512=0,"",((M512-G512)^2)) | H253: =IF(H512=0,"",((M512-H512)^2)) | I253: =IF(I512=0,"",((M512-I512)^2)) | J253: =IF(J512=0,"",((M512-J512)^2)) | K253: =IF(K512=0,"",((M512-K512)^2)) | L253: =IF(L512=0,"",((M512-L512)^2)) | M253: =SUM(C253:L253) -> 0
A261: Para utilizar no Cálculo da Soma = Somatória da (média - amostra) ao quadrado de cada um
A262: Item | B262: Descrição | C262: Banco de Preços | D262: Banco de Preços | E262: Banco de Preços | F262: Banco de Preços | G262: Banco de Preços | H262: Banco de Preços | I262: Banco de Preços | J262: Banco de Preços | K262: Banco de Preços | L262: Banco de Preços | M262: Média (Soma das amostras) / número de amostras
A263: =+'Pesquisa de Preços'!A9 -> 1 | B263: =+'Pesquisa de Preços'!B9 -> Esparadrapo impermeável, largura de 10 cm. Rolo c/4,5m | C263: =+'Pesquisa de Preços'!C9 -> 0 | D263: =+'Pesquisa de Preços'!D9 -> 9.04 | E263: =+'Pesquisa de Preços'!E9 -> 9.17 | F263: =+'Pesquisa de Preços'!F9 -> 9 | G263: =+'Pesquisa de Preços'!G9 -> 7.97 | H263: =+'Pesquisa de Preços'!H9 -> 0 | ... M263: =+'Pesquisa de Preços'!M9 -> 8.696
A264: =+A263+1 -> 2 | B264: =+'Pesquisa de Preços'!B10 -> ESFIGMOMANÔMETRO (OBESO) | C264: =+'Pesquisa de Preços'!C10 -> 0 | D264: =+'Pesquisa de Preços'!D10 -> 91.3 | E264: =+'Pesquisa de Preços'!E10 -> 92.64 | F264: =+'Pesquisa de Preços'!F10 -> 93.49 | G264: =+'Pesquisa de Preços'!G10 -> 76.15 | H264: =+'Pesquisa de Preços'!H10 -> 0 | I264: =+'Pesquisa de Preços'!I10 -> 0 | ... M264: =+'Pesquisa de Preços'!M10 -> 88.25
A265: =+A264+1 -> 3 | B265: =+'Pesquisa de Preços'!B11 -> ESFIGMOMANÔMETRO (INFANTIL) | C265: =+'Pesquisa de Preços'!C11 -> 0 | D265: =+'Pesquisa de Preços'!D11 -> 81.24 | E265: =+'Pesquisa de Preços'!E11 -> 82.43 | F265: =+'Pesquisa de Preços'!F11 -> 83.18 | G265: =+'Pesquisa de Preços'!G11 -> 70.5 | H265: =+'Pesquisa de Preços'!H11 -> 0 | I265: =+'Pesquisa de Preços'!I11 -> 0 | ... M265: =+'Pesquisa de Preços'!M11 -> 77.47
A266: =+A265+1 -> 4 | B266: =+'Pesquisa de Preços'!B12 -> ESCOVA ENDOCEVICAL PARA USO GINECOLÓGICO, DESCARTÁVEL,EMBALAGEM PACOTE COM 100 | C266: =+'Pesquisa de Preços'!C12 -> 54.9 | D266: =+'Pesquisa de Preços'!D12 -> 36.67 | E266: =+'Pesquisa de Preços'!E12 -> 37.21 | F266: =+'Pesquisa de Preços'!F12 -> 37.55 | G266: =+'Pesquisa de Preços'!G12 -> 22.54 | H266: =+'Pesquisa de Preços'!H12 -> 0 | I266: =+'Pesquisa de Preços'!I12 -> 0 | ... M266: =+'Pesquisa de Preços'!M12 -> 37.47
A267: =+A266+1 -> 5 | B267: =+'Pesquisa de Preços'!B13 -> Equipo para soro micro gotas Látex, com roldana, com comprimento de, no mínimo, 1,20m | C267: =+'Pesquisa de Preços'!C13 -> 0 | D267: =+'Pesquisa de Preços'!D13 -> 1.82 | E267: =+'Pesquisa de Preços'!E13 -> 1.84 | F267: =+'Pesquisa de Preços'!F13 -> 1.86 | G267: =+'Pesquisa de Preços'!G13 -> 1.35 | H267: =+'Pesquisa de Preços'!H13 -> 0 | I267: =+'Pesquisa de Preços'!I13 -> 0 | ... M267: =+'Pesquisa de Preços'!M13 -> 1.584
A268: =+A267+1 -> 6 | B268: =+'Pesquisa de Preços'!B14 -> Equipo para soro macro gotas Látex, com roldana, com comprimento de, no mínimo, 1,20m | C268: =+'Pesquisa de Preços'!C14 -> 0 | D268: =+'Pesquisa de Preços'!D14 -> 0.63 | E268: =+'Pesquisa de Preços'!E14 -> 0.64 | F268: =+'Pesquisa de Preços'!F14 -> 0.64 | G268: =+'Pesquisa de Preços'!G14 -> 0.67 | H268: =+'Pesquisa de Preços'!H14 -> 0 | I268: =+'Pesquisa de Preços'!I14 -> 0 | ... M268: =+'Pesquisa de Preços'!M14 -> 0.662
A269: =+A268+1 -> 7 | B269: =+'Pesquisa de Preços'!B15 -> Equipo multivia/polifix - Multivia/polifix- Dispositivo para administração de medicamentos/soluções | C269: =+'Pesquisa de Preços'!C15 -> 0 | D269: =+'Pesquisa de Preços'!D15 -> 0.52 | E269: =+'Pesquisa de Preços'!E15 -> 0.52 | F269: =+'Pesquisa de Preços'!F15 -> 0.53 | G269: =+'Pesquisa de Preços'!G15 -> 0.71 | H269: =+'Pesquisa de Preços'!H15 -> 0 | I269: =+'Pesquisa de Preços'!I15 -> 0 | ... M269: =+'Pesquisa de Preços'!M15 -> 0.576
A270: =+A269+1 -> 8 | B270: =+'Pesquisa de Preços'!B16 -> EQUIPO DE ALIMENTAÇÃO ENTERAL - DESCRIÇÃO: Dispositivo de infusão de solução enteral por gravidade através de sondas | C270: =+'Pesquisa de Preços'!C16 -> 14.5 | D270: =+'Pesquisa de Preços'!D16 -> 1.34 | E270: =+'Pesquisa de Preços'!E16 -> 1.36 | F270: =+'Pesquisa de Preços'!F16 -> 1.37 | G270: =+'Pesquisa de Preços'!G16 -> 0.9 | H270: =+'Pesquisa de Preços'!H16 -> 0 | I270: =+'Pesquisa de Preços'!I16 -> 0 | ... M270: =+'Pesquisa de Preços'!M16 -> 3.4
A271: =+A270+1 -> 9 | B271: =+'Pesquisa de Preços'!B17 -> ELETRODOS DE SILICONE PARA FISIOTERAPIA. | C271: =+'Pesquisa de Preços'!C17 -> 0 | D271: =+'Pesquisa de Preços'!D17 -> 105.56 | E271: =+'Pesquisa de Preços'!E17 -> 107.11 | F271: =+'Pesquisa de Preços'!F17 -> 108.08 | G271: =+'Pesquisa de Preços'!G17 -> 104 | H271: =+'Pesquisa de Preços'!H17 -> 0 | I271: =+'Pesquisa de Preços'!I17 -> 0 | ... M271: =+'Pesquisa de Preços'!M17 -> 94.838
A272: =+A271+1 -> 10 | B272: =+'Pesquisa de Preços'!B18 -> ELETRODOS AUTO ADESIVOS PARA TENS E FENS 5X9 CM. | C272: =+'Pesquisa de Preços'!C18 -> 65.01 | D272: =+'Pesquisa de Preços'!D18 -> 8.78 | E272: =+'Pesquisa de Preços'!E18 -> 8.91 | F272: =+'Pesquisa de Preços'!F18 -> 8.99 | G272: =+'Pesquisa de Preços'!G18 -> 6.48 | H272: =+'Pesquisa de Preços'!H18 -> 0 | I272: =+'Pesquisa de Preços'!I18 -> 0 | ... M272: =+'Pesquisa de Preços'!M18 -> 17.278333
A273: =+A272+1 -> 11 | B273: =+'Pesquisa de Preços'!B19 -> Eletrodo descartável tam. adulto para DEA Zoll. | C273: =+'Pesquisa de Preços'!C19 -> 0 | D273: =+'Pesquisa de Preços'!D19 -> 533.34 | E273: =+'Pesquisa de Preços'!E19 -> 541.15 | F273: =+'Pesquisa de Preços'!F19 -> 546.08 | G273: =+'Pesquisa de Preços'!G19 -> 378.8 | H273: =+'Pesquisa de Preços'!H19 -> 0 | I273: =+'Pesquisa de Preços'!I19 -> 0 | ... M273: =+'Pesquisa de Preços'!M19 -> 471.374
A274: =+A273+1 -> 12 | B274: =+'Pesquisa de Preços'!B20 -> Eletrodo descartável tam infantil para DEA Zol. | C274: =+'Pesquisa de Preços'!C20 -> 0 | D274: =+'Pesquisa de Preços'!D20 -> 533.34 | E274: =+'Pesquisa de Preços'!E20 -> 541.15 | F274: =+'Pesquisa de Preços'!F20 -> 546.08 | G274: =+'Pesquisa de Preços'!G20 -> 378.8 | H274: =+'Pesquisa de Preços'!H20 -> 0 | I274: =+'Pesquisa de Preços'!I20 -> 0 | ... M274: =+'Pesquisa de Preços'!M20 -> 488.718
A275: =+A274+1 -> 13 | B275: =+'Pesquisa de Preços'!B21 -> DISPOSITIVO PARA INCONTINENCIA URINARIA Nº 06 - COLETOR DE URINA MASCULINO COM EXTENSAO | C275: =+'Pesquisa de Preços'!C21 -> 8.5 | D275: =+'Pesquisa de Preços'!D21 -> 1.67 | E275: =+'Pesquisa de Preços'!E21 -> 1.7 | F275: =+'Pesquisa de Preços'!F21 -> 1.71 | G275: =+'Pesquisa de Preços'!G21 -> 1.5 | H275: =+'Pesquisa de Preços'!H21 -> 0 | I275: =+'Pesquisa de Preços'!I21 -> 0 | ... M275: =+'Pesquisa de Preços'!M21 -> 2.88
... A512: =+A511+1 -> 250 | B512: =+'Pesquisa de Preços'!B258 -> 0 | C512: =+'Pesquisa de Preços'!C258 -> 0 | D512: =+'Pesquisa de Preços'!D258 -> 0 | E512: =+'Pesquisa de Preços'!E258 -> 0 | F512: =+'Pesquisa de Preços'!F258 -> 0 | G512: =+'Pesquisa de Preços'!G258 -> 0 | H512: =+'Pesquisa de Preços'!H258 -> 0 | I512: =+'Pesquisa de Preços'!I258 -> 0 | ... M512: =+'Pesquisa de Preços'!M258 -> #DIV/0!
