Workbook

Sheet Orçamento
A2: ESTADO DE MATO GROSSO DO SUL
A3: MUNICÍPIO DE CORUMBÁ
A4: .
A5: Orçamento Inicial - Método Truncado
A7: Objeto: | B7: RESTAURAÇÃO DO ANTIGO PRESÍDIO - CASA DO ARTESÃO
A8: Município: | B8: Corumbá/MS
A9: Local: | B9: Rua Dom Aquino, Centro, Nº 405 - CASA DO ARTESÃO
A10: BDI: | B10: BDI ONERADO CONSTRUÇÃO CIVIL (22,86%), BDI 15,07% Material (15,07%)
A11: Prazo exec.: | B11: 12 meses
A12: Sist./Ref.: | B12: CORUMBÁ CIVIL (dez/2024), SINAPI - Sist. Nac. de Pesq. de Custos e Índ. da Const. Civil (dez/2024)
A13: Item | B13: Descrição | C13: DMT | D13: Unid. | E13: Qtde. | F13: Custo Unitário | G13: Preço Unitário | H13: Preço Total
A14: Cód. Oficial
A15: 01 | B15: ADMINISTRAÇÃO LOCAL
A16: 01.01 | B16: EQUIPE DE PROFISSIONAIS
A17: 01.01.01 94295 | B17: Mestre de obras com encargos complementares | D17: mês | E17: 12 | F17: 5588.4 | G17: =TRUNC(F17*(1+22.86/100),2) -> 6865.9 | H17: =E17*G17 -> 82390.8
A18: 01.01.02 93567 | B18: Engenheiro civil de obra pleno com encargos complementares (COM EXPERIÊNCIA NA EXECUÇÃO DE SERVIÇOS DE RESTAURAÇÕES EM MONUMENTOS E EDIFICAÇÕES TOMBADAS COMO PATRIMÔNIO CULTURAL) | D18: mês | E18: 12 | F18: 21495.47 | G18: =TRUNC(F18*(1+22.86/100),2) -> 26409.33 | H18: =E18*G18 -> 316911.96
A19: 01.01.03 93563 | B19: Almoxarife com encargos complementares | D19: mês | E19: 12 | F19: 3869.11 | G19: =TRUNC(F19*(1+22.86/100),2) -> 4753.58 | H19: =E19*G19 -> 57042.96
A20: 01.01.04 0221780 | B20: VIGIA NOTURNO COM ENCARGOS COMPLEMENTARES - REF SETOP ED-21780 10/2024; | D20: mês | E20: 12 | F20: 5144.48 | G20: =TRUNC(F20*(1+22.86/100),2) -> 6320.5 | H20: =E20*G20 -> 75846
A21: 01.01.05 101460 | B21: Vigia diurno com encargos complementares | D21: mês | E21: 12 | F21: 3705.05 | G21: =TRUNC(F21*(1+22.86/100),2) -> 4552.02 | H21: =E21*G21 -> 54624.24
A22: 01.01.06 93572 | B22: Encarregado geral de obras com encargos complementares | D22: mês | E22: 12 | F22: 4421.53 | G22: =TRUNC(F22*(1+22.86/100),2) -> 5432.29 | H22: =E22*G22 -> 65187.48
A23: 01.01.07 93564 | B23: Apontador ou apropriador com encargos complementares | D23: mês | E23: 12 | F23: 3785.51 | G23: =TRUNC(F23*(1+22.86/100),2) -> 4650.87 | H23: =E23*G23 -> 55810.44
A24: 01.01.08 100321 | B24: Técnico em segurança do trabalho com encargos complementares | D24: mês | E24: 12 | F24: 5471.45 | G24: =TRUNC(F24*(1+22.86/100),2) -> 6722.22 | H24: =E24*G24 -> 80666.64
A25: 01.02 | B25: PLANOS, PROGRAMAS E MANUAIS
A26: 01.02.01 01100425 | B26: LAUDO DE VISTORIA CAUTELAR DE VIZINHANÇA | D26: un | E26: 1 | F26: 3696.6 | G26: =TRUNC(F26*(1+22.86/100),2) -> 4541.64 | H26: =E26*G26 -> 4541.64
A27: 01.02.02 01150425 | B27: ELABORAÇÃO E IMPLANTAÇÃO DO PLANO DE GERENCIAMENTO DE RISCOS (PGR) | D27: un | E27: 1 | F27: 3192.03 | G27: =TRUNC(F27*(1+22.86/100),2) -> 3921.72 | H27: =E27*G27 -> 3921.72
A28: 01.02.03 03080425 | B28: ELABORAÇÃO DO PLANO DE GERENCIAMENTO DE RESÍDUOS DE CONSTRUÇÃO CIVIL (PGRCC) - REF SETOP CO-19622 | D28: un | E28: 1 | F28: 6250.07 | G28: =TRUNC(F28*(1+22.86/100),2) -> 7678.83 | H28: =E28*G28 -> 7678.83
A29: 01.02.04 03150425 | B29: CONTROLE TECNOLOGICO DE CONCRETOS - REF SBC 000128 04/2025 | D29: m³ | E29: 116.51 | F29: 102.24 | G29: =TRUNC(F29*(1+22.86/100),2) -> 125.61 | H29: =E29*G29 -> 14634.821
A30: 01.02.05 07150425 | B30: ATESTADO PCMSO (NR7)- ANUAL - REF SBC 016691 04/2025 | D30: un | E30: 1 | F30: 300 | G30: =TRUNC(F30*(1+22.86/100),2) -> 368.58 | H30: =E30*G30 -> 368.58
A31: 01.03 | B31: TAXAS
A32: 01.03.01 02080425 | B32: ANOTAÇÃO DE RESPONSABILIDADE TÉCNICA (ART) PARA CONTRATO, OBRA OU SERVIÇO DE VALOR SUPERIOR A R$ 15.000,00, DE ACORDO COM TABELA VIGENTE CREA-MS | D32: un | E32: 1 | F32: 271.47 | G32: =TRUNC(F32*(1+22.86/100),2) -> 333.52 | H32: =E32*G32 -> 333.52
B33: Total - ADMINISTRAÇÃO LOCAL | H33: =SUM(H16:H32) -> 819959.63
A34: 02 | B34: MOBILIZAÇÃO E DESMOBILIZAÇÃO
A35: 02.01 | B35: MOBILIZAÇÃO
A36: 02.01.01 1014042025 | B36: MOBILIZACAO E DESMOBILIZACAO DE CONTAINER - REF AGESUL 0101001196 06/2024 | D36: un | E36: 2 | F36: 1089.96 | G36: =TRUNC(F36*(1+22.86/100),2) -> 1339.12 | H36: =E36*G36 -> 2678.24
A37: 02.02 | B37: DESMOBILIZAÇÃO
A38: 02.02.01 | B38: DEMOLIÇÕES DO CANTEIRO
A39: 02.02.01.01 0215042025 | B39: DESMOBILIZACAO C/ DESMONTAGEM DE BARRACAO E DEMAIS ELEMENTOS - REF SBC 210825 12/2024 ADAPTADO (central de armaduras e central de fôrmas;) | D39: m² | E39: 56 | F39: 33.34 | G39: =TRUNC(F39*(1+22.86/100),2) -> 40.96 | H39: =E39*G39 -> 2293.76
A40: 02.02.01.02 97665 | B40: Remoção de luminárias, de forma manual, sem reaproveitamento. Af_09/2023 | D40: un | E40: 4 | F40: 1.75 | G40: =TRUNC(F40*(1+22.86/100),2) -> 2.15 | H40: =E40*G40 -> 8.6
A41: 02.02.01.03 97660 | B41: Remoção de interruptores/tomadas elétricas, de forma manual, sem reaproveitamento. Af_09/2023 (TOMADA DO BEBEDOURO) | D41: un | E41: 1 | F41: 0.65 | G41: =TRUNC(F41*(1+22.86/100),2) -> 0.79 | H41: =E41*G41 -> 0.79
A42: 02.02.01.04 0315042025 | B42: Remoção de reservatório até 1000 litros - REF CPOS/CDHU 04.30.100 09/2024 ADAPTADO; | D42: un | E42: 1 | F42: 138.51 | G42: =TRUNC(F42*(1+22.86/100),2) -> 170.17
...

Sheet Cronograma
A6: ESTADO DE MATO GROSSO DO SUL
A7: MUNICÍPIO DE CORUMBÁ
A8: .
A10: Cronograma Físico-Financeiro - Inicial
B11: Objeto: RESTAURAÇÃO DO ANTIGO PRESÍDIO - CASA DO ARTESÃO
B12: Município(s): Corumbá (MS)
B13: Local: Rua Dom Aquino - Centro - Nº 405 - CASA DO ARTESÃO
B14: Prazo Execução: 12 meses
C15: Etapas de Execução / Desembolso
A16: Descrição | C16: 1 ª | D16: 2 ª | E16: 3 ª | F16: 4 ª | G16: 5 ª | H16: 6 ª | I16: 7 ª | J16: 8 ª | K16: 9 ª | L16: 10 ª | M16: 11 ª | N16: 12 ª | O16: Total Acumulado
A17: 01 - ADMINISTRAÇÃO LOCAL | C17: 0.0085 | D17: 0.028 | E17: 0.0578 | F17: 0.1006 | G17: 0.1412 | H17: 0.1174 | I17: 0.0797 | J17: 0.0794 | K17: 0.0948 | L17: 0.1394 | M17: 0.1114 | N17: 0.0418 | O17: =SUM(C17:N17) -> 1
B18: =Orçamento!H33 -> 819959.63 | C18: =$B$18*C17 -> 6969.6569 | D18: =$B$18*D17 -> 22958.87 | E18: =$B$18*E17 -> 47393.667 | F18: =$B$18*F17 -> 82487.939 | G18: =$B$18*G17 -> 115778.3 | H18: =$B$18*H17 -> 96263.261 | I18: =$B$18*I17 -> 65350.783 | J18: =$B$18*J17 -> 65104.795 | ... N18: =$B$18*N17 -> 34274.313 | O18: =SUM(C18:N18) -> 819959.63
A19: 02 - MOBILIZAÇÃO E DESMOBILIZAÇÃO | C19: 0.231 | I19: 0.2309 | N19: 0.5381 | O19: =SUM(C19:N19) -> 1
B20: =Orçamento!H46 -> 5797.9508 | C20: =$B$20*C19 -> 1339.3266 | I20: =$B$20*I19 -> 1338.7468 | N20: =$B$20*N19 -> 3119.8773 | O20: =SUM(C20:N20) -> 5797.9508
A21: 03 - CANTEIRO DE OBRAS | C21: 0.0833 | D21: 0.0833 | E21: 0.0833 | F21: 0.0833 | G21: 0.0833 | H21: 0.0833 | I21: 0.0833 | J21: 0.0833 | K21: 0.0833 | L21: 0.0833 | M21: 0.0833 | N21: 0.0837 | O21: =SUM(C21:N21) -> 1
B22: =Orçamento!H69 -> 158617.84 | C22: =$B$22*C21 -> 13212.866 | D22: =$B$22*D21 -> 13212.866 | E22: =$B$22*E21 -> 13212.866 | F22: =$B$22*F21 -> 13212.866 | G22: =$B$22*G21 -> 13212.866 | H22: =$B$22*H21 -> 13212.866 | I22: =$B$22*I21 -> 13212.866 | J22: =$B$22*J21 -> 13212.866 | ... N22: =$B$22*N21 -> 13276.313 | O22: =SUM(C22:N22) -> 158617.84
A23: 04 - SERVIÇOS PRELIMINARES | C23: 0.0833 | D23: 0.0833 | E23: 0.0833 | F23: 0.0833 | G23: 0.0833 | H23: 0.0833 | I23: 0.0833 | J23: 0.0833 | K23: 0.0833 | L23: 0.0833 | M23: 0.0833 | N23: 0.0837 | O23: =SUM(C23:N23) -> 1
B24: =Orçamento!H85 -> 76015.102 | C24: =$B$24*C23 -> 6332.058 | D24: =$B$24*D23 -> 6332.058 | E24: =$B$24*E23 -> 6332.058 | F24: =$B$24*F23 -> 6332.058 | G24: =$B$24*G23 -> 6332.058 | H24: =$B$24*H23 -> 6332.058 | I24: =$B$24*I23 -> 6332.058 | J24: =$B$24*J23 -> 6332.058 | ... N24: =$B$24*N23 -> 6362.464 | O24: =SUM(C24:N24) -> 76015.102
A25: 05 - DEMOLIÇÕES E RETIRADAS | C25: 0.1111 | D25: 0.1111 | E25: 0.1111 | F25: 0.1111 | G25: 0.1111 | H25: 0.1111 | I25: 0.1111 | J25: 0.1111 | K25: 0.1112 | O25: =SUM(C25:N25) -> 1
B26: =Orçamento!H119 -> 108487.53 | C26: =$B$26*C25 -> 12052.965 | D26: =$B$26*D25 -> 12052.965 | E26: =$B$26*E25 -> 12052.965 | F26: =$B$26*F25 -> 12052.965 | G26: =$B$26*G25 -> 12052.965 | H26: =$B$26*H25 -> 12052.965 | I26: =$B$26*I25 -> 12052.965 | J26: =$B$26*J25 -> 12052.965 | K26: =$B$26*K25 -> 12063.814 | O26: =SUM(C26:N26) -> 108487.53
A27: 06 - ESTRUTURA | E27: 0.1157 | F27: 0.2246 | G27: 0.2245 | H27: 0.1089 | L27: 0.1632 | M27: 0.1631 | O27: =SUM(C27:N27) -> 1
B28: =Orçamento!H226 -> 833235.41 | E28: =$B$28*E27 -> 96405.337 | F28: =$B$28*F27 -> 187144.67 | G28: =$B$28*G27 -> 187061.35 | H28: =$B$28*H27 -> 90739.337 | L28: =$B$28*L27 -> 135984.02 | M28: =$B$28*M27 -> 135900.7 | O28: =SUM(C28:N28) -> 833235.41
A29: 07 - COBERTURA | F29: 0.25 | G29: 0.15 | H29: 0.15 | L29: 0.45 | O29: =SUM(C29:N29) -> 1
B30: =Orçamento!H235 -> 142610.69 | F30: =$B$30*F29 -> 35652.672 | G30: =$B$30*G29 -> 21391.603 | H30: =$B$30*H29 -> 21391.603 | L30: =$B$30*L29 -> 64174.809 | O30: =SUM(C30:N30) -> 142610.69
A31: 08 - VEDAÇÃO | E31: 0.11 | F31: 0.1 | G31: 0.1 | H31: 0.1 | I31: 0.15 | J31: 0.15 | K31: 0.15 | L31: 0.14 | O31: =SUM(C31:N31) -> 1
B32: =Orçamento!H246 -> 119380.91 | E32: =$B$32*E31 -> 13131.9 | F32: =$B$32*F31 -> 11938.091 | G32: =$B$32*G31 -> 11938.091 | H32: =$B$32*H31 -> 11938.091 | I32: =$B$32*I31 -> 17907.137 | J32: =$B$32*J31 -> 17907.137 | K32: =$B$32*K31 -> 17907.137 | L32: =$B$32*L31 -> 16713.328 | O32: =SUM(C32:N32) -> 119380.91
A33: 09 - INSTALAÇÕES | D33: 0.1 | E33: 0.1 | F33: 0.1 | G33: 0.1 | H33: 0.1 | I33: 0.1 | J33: 0.1 | K33: 0.1 | L33: 0.1 | M33: 0.1 | O33: =SUM(C33:N33) -> 1
B34: =Orçamento!H580 -> 780158.02 | D34: =$B$34*D33 -> 78015.802 | E34: =$B$34*E33 -> 78015.802 | F34: =$B$34*F33 -> 78015.802 | G34: =$B$34*G33 -> 78015.802 | H34: =$B$34*H33 -> 78015.802 | I34: =$B$34*I33 -> 78015.802 | J34: =$B$34*J33 -> 78015.802 | K34: =$B$34*K33 -> 78015.802 | ... M34: =$B$34*M33 -> 78015.802 | O34: =SUM(C34:N34) -> 780158.02
A35: 10 - ESQUADRIAS | F35: 0.125 | G35: 0.125 | H35: 0.125 | I35: 0.125 | J35: 0.125 | K35: 0.125 | L35: 0.125 | M35: 0.125 | O35: =SUM(C35:N35) -> 1
B36: =Orçamento!H622 -> 405534.12 | F36: =$B$36*F35 -> 50691.765 | G36: =$B$36*G35 -> 50691.765 | H36: =$B$36*H35 -> 50691.765 | I36: =$B$36*I35 -> 50691.765 | J36: =$B$36*J35 -> 50691.765 | K36: =$B$36*K35 -> 50691.765 | L36: =$B$36*L35 -> 50691.765 | M36: =$B$36*M35 -> 50691.765 | O36: =SUM(C36:N36) -> 405534.12
A37: 11 - REVESTIMENTO DE PAREDE E TETO | G37: 0.1667 | H37: 0.1667 | I37: 0.1667 | J37: 0.1667 | K37: 0.1667 | L37: 0.1665 | O37: =SUM(C37:N37) -> 1
B38: =Orçamento!H637 -> 256105.97 | G38: =$B$38*G37 -> 42692.866 | H38: =$B$38*H37 -> 42692.866 | I38: =$B$38*I37 -> 42692.866 | J38: =$B$38*J37 -> 42692.866 | K38: =$B$38*K37 -> 42692.866 | L38: =$B$38*L37 -> 42641.645 | O38: =SUM(C38:N38) -> 256105.97
A39: 12 - REVESTIMENTO DE PISO | G39: 0.1667 | H39: 0.1667 | I39: 0.1667 | J39: 0.1667 | K39: 0.1667 | L39: 0.1665 | O39: =SUM(C39:N39) -> 1
B40: =Orçamento!H658 -> 479253.82 | G40: =$B$40*G39 -> 79891.611 | H40: =$B$40*H39 -> 79891.611 | I40: =$B$40*I39 -> 79891.611 | J40: =$B$40*J39 -> 79891.611 | K40: =$B$40*K39 -> 79891.611 | L40: =$B$40*L39 -> 79795.761 | O40: =SUM(C40:N40) -> 479253.82
A41: 13 - PINTURA | H41: 0.1 | I41: 0.1 | J41: 0.1 | K41: 0.15 | L41: 0.15 | M41: 0.25 | N41: 0.15 | O41: =SUM(C41:N41) -> 1
B42: =Orçamento!H670 -> 102318.55 | H42: =$B$42*H41 -> 10231.855 | I42: =$B$42*I41 -> 10231.855 | J42: =$B$42*J41 -> 10231.855 | K42: =$B$42*K41 -> 15347.783 | L42: =$B$42*L41 -> 15347.783 | M42: =$B$42*M41 -> 25579.638 | N42: =$B$42*N41 -> 15347.783 | O42: =SUM(C42:N42) -> 102318.55
A43: 14 - LOUÇAS E METAIS | G43: 0.25 | H43: 0.25 | K43: 0.25 | L43: 0.25 | O43: =SUM(C43:N43) -> 1
B44: =Orçamento!H698 -> 173927.22 | G44: =$B$44*G43 -> 43481.806 | H44: =$B$44*H43 -> 43481.806 | K44: =$B$44*K43 -> 43481.806 | L44: =$B$44*L43 -> 43481.806 | O44: =SUM(C44:N44) -> 173927.22
A45: 15 - PAISAGISMO | M45: 0.5 | N45: 0.5 | O45: =SUM(C45:N45) -> 1
B46: =Orçamento!H726 -> 83583.541 | M46: =$B$46*M45 -> 41791.771 | N46: =$B$46*N45 -> 41791.771 | O46: =SUM(C46:N46) -> 83583.541
...

Sheet Composições Principais
A1: 94295 - Mestre de obras com encargos complementares ( mês )
A2: Sistema: SINAPI - Sist. Nac. de Pesq. de Custos e Índ. da Const. Civil - 01/12/2024
A3: Utilizado no(s) item(ns) 01.01.01
A4: Código | B4: Descrição | C4: Unidade | D4: Quantidade | E4: Utilização Operativa | F4: Utilização Improdutiva | G4: Valor Operativo | H4: Valor Improdutivo | I4: Valor Item
A5: 40863 | B5: Exames - mensalista (coletado caixa - encargos complementares) | C5: mês | D5: 1 | E5: 1 | F5: 0 | G5: 252.08 | H5: 0 | I5: 252.08
A6: 40819 | B6: Mestre de obras (mensalista) | C6: mês | D6: 1 | E6: 1 | F6: 0 | G6: 4983.13 | H6: 0 | I6: 4983.13
A7: 40864 | B7: Seguro - mensalista (coletado caixa - encargos complementares) | C7: mês | D7: 1 | E7: 1 | F7: 0 | G7: 7.31 | H7: 0 | I7: 7.31
A8: 43499 | B8: Epi - família encarregado geral - mensalista (encargos complementares - coletado caixa) | C8: mês | D8: 1 | E8: 1 | F8: 0 | G8: 236.16 | H8: 0 | I8: 236.16
A9: 43475 | B9: Ferramentas - família encarregado geral - mensalista (encargos complementares - coletado caixa) | C9: mês | D9: 1 | E9: 1 | F9: 0 | G9: 18.73 | H9: 0 | I9: 18.73
A10: 95423 | B10: Curso de capacitação para mestre de obras (encargos complementares) - mensalista | C10: mês | D10: 1 | E10: 1 | F10: 0 | G10: 90.99 | H10: 0 | I10: 90.99
H11: Custo Unitário | I11: 5588.4
H12: BDI | I12: 22.86
H13: Preço Unitário | I13: 6865.9
A16: 93567 - Engenheiro civil de obra pleno com encargos complementares ( mês )
A17: Sistema: SINAPI - Sist. Nac. de Pesq. de Custos e Índ. da Const. Civil - 01/12/2024
A18: Utilizado no(s) item(ns) 01.01.02
A19: Código | B19: Descrição | C19: Unidade | D19: Quantidade | E19: Utilização Operativa | F19: Utilização Improdutiva | G19: Valor Operativo | H19: Valor Improdutivo | I19: Valor Item
A20: 40813 | B20: Engenheiro civil de obra pleno (mensalista) | C20: mês | D20: 1 | E20: 1 | F20: 0 | G20: 20828.83 | H20: 0 | I20: 20828.83
A21: 40863 | B21: Exames - mensalista (coletado caixa - encargos complementares) | C21: mês | D21: 1 | E21: 1 | F21: 0 | G21: 252.08 | H21: 0 | I21: 252.08
A22: 40864 | B22: Seguro - mensalista (coletado caixa - encargos complementares) | C22: mês | D22: 1 | E22: 1 | F22: 0 | G22: 7.31 | H22: 0 | I22: 7.31
A23: 43498 | B23: Epi - família engenheiro civil - mensalista (encargos complementares - coletado caixa) | C23: mês | D23: 1 | E23: 1 | F23: 0 | G23: 140.23 | H23: 0 | I23: 140.23
A24: 43474 | B24: Ferramentas - família engenheiro civil - mensalista (encargos complementares - coletado caixa) | C24: mês | D24: 1 | E24: 1 | F24: 0 | G24: 2.29 | H24: 0 | I24: 2.29
A25: 95417 | B25: Curso de capacitação para engenheiro civil de obra pleno (encargos complementares) - mensalista | C25: mês | D25: 1 | E25: 1 | F25: 0 | G25: 264.73 | H25: 0 | I25: 264.73
H26: Custo Unitário | I26: 21495.47
H27: BDI | I27: 22.86
H28: Preço Unitário | I28: 26409.33
A31: 93563 - Almoxarife com encargos complementares ( mês )
A32: Sistema: SINAPI - Sist. Nac. de Pesq. de Custos e Índ. da Const. Civil - 01/12/2024
A33: Utilizado no(s) item(ns) 01.01.03
A34: Código | B34: Descrição | C34: Unidade | D34: Quantidade | E34: Utilização Operativa | F34: Utilização Improdutiva | G34: Valor Operativo | H34: Valor Improdutivo | I34: Valor Item
A35: 40809 | B35: Almoxarife (mensalista) | C35: mês | D35: 1 | E35: 1 | F35: 0 | G35: 3435.75 | H35: 0 | I35: 3435.75
A36: 40863 | B36: Exames - mensalista (coletado caixa - encargos complementares) | C36: mês | D36: 1 | E36: 1 | F36: 0 | G36: 252.08 | H36: 0 | I36: 252.08
A37: 40864 | B37: Seguro - mensalista (coletado caixa - encargos complementares) | C37: mês | D37: 1 | E37: 1 | F37: 0 | G37: 7.31 | H37: 0 | I37: 7.31
A38: 43494 | B38: Epi - família almoxarife - mensalista (encargos complementares - coletado caixa) | C38: mês | D38: 1 | E38: 1 | F38: 0 | G38: 148.04 | H38: 0 | I38: 148.04
A39: 43470 | B39: Ferramentas - família almoxarife - mensalista (encargos complementares - coletado caixa) | C39: mês | D39: 1 | E39: 1 | F39: 0 | G39: 10.89 | H39: 0 | I39: 10.89
A40: 95413 | B40: Curso de capacitação para almoxarife (encargos complementares) - mensalista | C40: mês | D40: 1 | E40: 1 | F40: 0 | G40: 15.04 | H40: 0 | I40: 15.04
H41: Custo Unitário | I41: 3869.11
H42: BDI | I42: 22.86
H43: Preço Unitário | I43: 4753.58
A46: 0221780 - VIGIA NOTURNO COM ENCARGOS COMPLEMENTARES - REF SETOP ED-21780 10/2024; ( mês )
...

Sheet Composições Auxiliares
A1: 01140425 - CORTE E ESMERILHAMENTO EM TUBO DE FoFo DUCTIL OU ACO CARBONO, DN < 100mm - REF EMPASA 12.07.01 01/2025 ( un )
A2: Sistema: CORUMBÁ CIVIL - 01/12/2024
A3: Utilizado no(s) item(ns) 01140425
A4: Código | B4: Descrição | C4: Unidade | D4: Quantidade | E4: Utilização Operativa | F4: Utilização Improdutiva | G4: Valor Operativo | H4: Valor Improdutivo | I4: Valor Item
A5: 44531 | B5: Disco de corte diamantado segmentado diâmetro de 180 mm para esmerilhadeira 7 " | C5: un | D5: 0.03 | E5: 1 | F5: 0 | G5: 81.15 | H5: 0 | I5: 2.43
A6: 02140425 | B6: ESMERILHADEIRA 8500rpm - REF EMBASA 12.07.01 INSUMO H029000443 01/2025 | C6: h | D6: 0.025 | E6: 1 | F6: 0 | G6: 0.7 | H6: 0 | I6: 0.01
A7: 88240 | B7: Ajudante de estrutura metálica com encargos complementares | C7: h | D7: 0.078 | E7: 1 | F7: 0 | G7: 20.28 | H7: 0 | I7: 1.58
A8: 88278 | B8: Montador de estrutura metálica com encargos complementares | C8: h | D8: 0.039 | E8: 1 | F8: 0 | G8: 28.64 | H8: 0 | I8: 1.11
A11: 07140425 - Solda MIG em esquadrias metálicas - REF CPOS 24.20.090 04/2025 ( m )
A12: Sistema: CORUMBÁ CIVIL - 01/12/2024
A13: Utilizado no(s) item(ns) 07140425
A14: Código | B14: Descrição | C14: Unidade | D14: Quantidade | E14: Utilização Operativa | F14: Utilização Improdutiva | G14: Valor Operativo | H14: Valor Improdutivo | I14: Valor Item
A15: 08140425 | B15: Arame tipo MIG, diâmetro de 0,80 a 1,20 mm - REF CPOS 24.20.090 INSUMO E.02.000.027011 04/2025 | C15: kg | D15: 1.13 | E15: 1 | F15: 0 | G15: 18.6 | H15: 0 | I15: 21.01
A16: 09140425 | B16: Gás para soldagem tipo MIG, ref. Coogar 215 ou equivalente - REF CPOS 24.20.090 INSUMO A.06.000.027013 04/2025 | C16: m³ | D16: 0.04 | E16: 1 | F16: 0 | G16: 35.36 | H16: 0 | I16: 1.41
A17: 10140425 | B17: Locação máquinas de solda MIG/MAC, modelo TRR 3410 marca Bambozzi ou equivalente, (100% ciclo), para arame sólido/tubular 0,8 até 1,6mm, trifásicos, 220/380/440 V - REF CPOS 24.20.090 INSUMO A.05.000.027014 04/2025 | C17: un.dia | D17: 0.13 | E17: 1 | F17: 0 | G17: 23.36 | H17: 0 | I17: 3.03
A18: 88317 | B18: Soldador com encargos complementares | C18: h | D18: 0.95 | E18: 1 | F18: 0 | G18: 27.75 | H18: 0 | I18: 26.36
A21: 02110625 - Luva de emenda para eletroduto, aço galvanizado, dn 20 mm (3/4''), aparente, instalada em parede - fornecimento e instalação. REF SINAPI 95757 06/2022 ( un )
A22: Sistema: CORUMBÁ CIVIL - 01/12/2024
A23: Utilizado no(s) item(ns) 02110625
A24: Código | B24: Descrição | C24: Unidade | D24: Quantidade | E24: Utilização Operativa | F24: Utilização Improdutiva | G24: Valor Operativo | H24: Valor Improdutivo | I24: Valor Item
A25: 2637 | B25: Luva para eletroduto, em aco galvanizado eletrolitico, com rosca, diametro de 20 mm (3/4") | C25: un | D25: 1 | E25: 1 | F25: 0 | G25: 1.35 | H25: 0 | I25: 1.35
A26: 88247 | B26: Auxiliar de eletricista com encargos complementares | C26: h | D26: 0.1827 | E26: 1 | F26: 0 | G26: 21.9 | H26: 0 | I26: 4
A27: 88264 | B27: Eletricista com encargos complementares | C27: h | D27: 0.1827 | E27: 1 | F27: 0 | G27: 26.38 | H27: 0 | I27: 4.81
A30: 010200022 - Enchimento de vão com argamassa 1:2:8 - MO EC ( m )
A31: Sistema: CORUMBÁ CIVIL - 01/12/2024
A32: Utilizado no(s) item(ns) 010200022
A33: Código | B33: Descrição | C33: Unidade | D33: Quantidade | E33: Utilização Operativa | F33: Utilização Improdutiva | G33: Valor Operativo | H33: Valor Improdutivo | I33: Valor Item
A34: 87335 | B34: Argamassa traço 1:2:8 (em volume de cimento, cal e areia média úmida) para emboço/massa única/assentamento de alvenaria de vedação, preparo mecânico com misturador de eixo horizontal de 300 kg. Af_08/2019 | C34: m³ | D34: 0.0075 | E34: 1 | F34: 0 | G34: 572.39 | H34: 0 | I34: 4.29
A35: 88309 | B35: Pedreiro com encargos complementares | C35: h | D35: 0.1 | E35: 1 | F35: 0 | G35: 26.04 | H35: 0 | I35: 2.6
A36: 88316 | B36: Servente com encargos complementares | C36: h | D36: 0.2 | E36: 1 | F36: 0 | G36: 20.96 | H36: 0 | I36: 4.19
A39: pmc_cortep - CORTE E PREENCHIMENTO DE JUNTA DE DILATAÇÃO COM SELANTE ELÁSTICO MONOCOMPONENTE A BASE DE POLIURETANO (PU) ( m )
A40: Sistema: CORUMBÁ CIVIL - 01/12/2024
A41: Utilizado no(s) item(ns) pmc_cortep
A42: Código | B42: Descrição | C42: Unidade | D42: Quantidade | E42: Utilização Operativa | F42: Utilização Improdutiva | G42: Valor Operativo | H42: Valor Improdutivo | I42: Valor Item
A43: 142 | B43: Selante elástico monocomponente a base de poliuretano (pu) para juntas diversas | C43: 310ml | D43: 0.26 | E43: 1 | F43: 0 | G43: 38.84 | H43: 0 | I43: 10.09
A44: 91285 | B44: Cortadora de piso com motor 4 tempos a gasolina, potencia de 13 hp, com disco de corte diamantado segmentado para concreto, diâmetro de 350 mm, furo de 1" (14 x 1") - chi diurno. Af_08/2015 | C44: chi | D44: 0.03 | E44: 1 | F44: 0 | G44: 1.14 | H44: 0 | I44: 0.03
A45: 91283 | B45: Cortadora de piso com motor 4 tempos a gasolina, potencia de 13 hp, com disco de corte diamantado segmentado para concreto, diâmetro de 350 mm, furo de 1" (14 x 1") - chp diurno. Af_08/2015 | C45: chp | D45: 0.22 | E45: 1 | F45: 0 | G45: 10.93 | H45: 0 | I45: 2.4
A46: 88309 | B46: Pedreiro com encargos complementares | C46: h | D46: 0.03 | E46: 1 | F46: 0 | G46: 26.04 | H46: 0 | I46: 0.78
A47: 88316 | B47: Servente com encargos complementares | C47: h | D47: 0.05 | E47: 1 | F47: 0 | G47: 20.96 | H47: 0 | I47: 1.04
A50: 011103019 - SUPORTE PARA CORRIMÃO EM BARRA PERFIL CHATO 3/16" X 1 1/4" (L X E) EM AÇO SOLDADO EM "L" 6 X 6 CM ( un )
...

Sheet BDI DIF 15,07
A2: Estado de Mato Grosso do Sul
A3: Município de Corumbá
A4: .
A5: .
A7: DEMONSTRAÇÃO DA BONIFICAÇÃO E DESPESAS INDIRETAS - BDI
A8: BDI 15,07% Material - 15,07 %
A9: Acórdão 2622/2013
A10: Métodologia de Cálculo Truncado / Metodologia de BDI Truncado
A12: Variável | B12: Componente | C12: Taxa Referência (%)
A14: R | B14: Garantia | C14: 0.3
B15: Risco | C15: 0.56
B16: Garantia / Risco / Seguro | C16: 0.86
A17: DF | B17: Despesa Financeira | C17: 0.85
A18: AC | B18: Administração Central | C18: 1.5
A19: L | B19: Lucro | C19: 3.5
A20: I | B20: PIS | C20: 0.65
B21: COFINS | C21: 3
B22: ISSQN | C22: 3.5
B23: INSS | C23: 0
B24: TRIBUTOS | C24: 7.15
A25: BDI | B25: Benefícios e Despesas Indiretas | C25: 15.07
A32: Onde:
A33: AC = taxa de rateio da Administração Central;
A34: R = taxa de Risco, Seguro e Garantia;
A35: DF = taxa das Despesas Financeiras;
A36: L = taxa de Lucro;
A37: I = taxa de Tributos.

Sheet BDI Servoços 22,86 
A2: Estado de Mato Grosso do Sul
A3: Município de Corumbá
A4: .
A5: .
A7: DEMONSTRAÇÃO DA BONIFICAÇÃO E DESPESAS INDIRETAS - BDI
A8: BDI ONERADO CONSTRUÇÃO CIVIL - 22,86 %
A9: Acórdão 2622/2013
A10: Métodologia de Cálculo Truncado / Metodologia de BDI Truncado
A12: Variável | B12: Componente | C12: Taxa Referência (%)
A14: R | B14: Garantia | C14: 0.8
B15: Risco | C15: 1.26
B16: Garantia / Risco / Seguro | C16: 2.06
A17: DF | B17: Despesa Financeira | C17: 1.23
A18: AC | B18: Administração Central | C18: 4
A19: L | B19: Lucro | C19: 7.4
A20: I | B20: PIS | C20: 0.65
B21: COFINS | C21: 3
B22: ISSQN | C22: 2.5
B23: INSS | C23: 0
B24: TRIBUTOS | C24: 6.15
A25: BDI | B25: Benefícios e Despesas Indiretas | C25: 22.86
A32: Onde:
A33: AC = taxa de rateio da Administração Central;
A34: R = taxa de Risco, Seguro e Garantia;
A35: DF = taxa das Despesas Financeiras;
A36: L = taxa de Lucro;
A37: I = taxa de Tributos.

Sheet Encargos

Sheet Canteiro e Adm Local
A1: item | B1: cod | C1: decrição | D1: unidade | E1: quant | F1: custo unitário | G1: preço unitário | H1: preço total
A2: 01.01.01 | B2: 94295 | C2: Mestre de obras com encargos complementares | D2: mês | E2: 12 | F2: 5588.4 | G2: 6865.9 | H2: 82390.8
A3: 01.01.02 | B3: 93567 | C3: Engenheiro civil de obra pleno com encargos complementares (COM EXPERIÊNCIA NA EXECUÇÃO DE SERVIÇOS DE RESTAURAÇÕES EM MONUMENTOS E EDIFICAÇÕES TOMBADAS COMO PATRIMÔNIO CULTURAL) | D3: mês | E3: 12 | F3: 21495.47 | G3: 26409.33 | H3: 316911.96
A4: 01.01.03 | B4: 93563 | C4: Almoxarife com encargos complementares | D4: mês | E4: 12 | F4: 3869.11 | G4: 4753.58 | H4: 57042.96
A5: 01.01.04 | B5: 221780 | C5: VIGIA NOTURNO COM ENCARGOS COMPLEMENTARES - REF SETOP ED-21780 10/2024; | D5: mês | E5: 12 | F5: 5144.48 | G5: 6320.5 | H5: 75846
A6: 01.01.05 | B6: 101460 | C6: Vigia diurno com encargos complementares | D6: mês | E6: 12 | F6: 3705.05 | G6: 4552.02 | H6: 54624.24
A7: 01.01.06 | B7: 93572 | C7: Encarregado geral de obras com encargos complementares | D7: mês | E7: 12 | F7: 4421.53 | G7: 5432.29 | H7: 65187.48
A8: 01.01.07 | B8: 93564 | C8: Apontador ou apropriador com encargos complementares | D8: mês | E8: 12 | F8: 3785.51 | G8: 4650.87 | H8: 55810.44
A9: 01.01.08 | B9: 100321 | C9: Técnico em segurança do trabalho com encargos complementares | D9: mês | E9: 12 | F9: 5471.45 | G9: 6722.22 | H9: 80666.64
A10: 1.02 | C10: PLANOS, PROGRAMAS E MANUAIS
A11: 01.02.01 | B11: 1100425 | C11: LAUDO DE VISTORIA CAUTELAR DE VIZINHANÇA | D11: un | E11: 1 | F11: 3696.6 | G11: 4541.64 | H11: 4541.64
A12: 01.02.02 | B12: 1150425 | C12: ELABORAÇÃO E IMPLANTAÇÃO DO PLANO DE GERENCIAMENTO DE RISCOS (PGR) | D12: un | E12: 1 | F12: 3192.03 | G12: 3921.72 | H12: 3921.72
A13: 01.02.03 | B13: 3080425 | C13: ELABORAÇÃO DO PLANO DE GERENCIAMENTO DE RESÍDUOS DE CONSTRUÇÃO CIVIL (PGRCC) - REF SETOP CO-19622 | D13: un | E13: 1 | F13: 6250.07 | G13: 7678.83 | H13: 7678.83
A14: 01.02.04 | B14: 3150425 | C14: CONTROLE TECNOLOGICO DE CONCRETOS - REF SBC 000128 04/2025 | D14: m³ | E14: 116.51 | F14: 102.24 | G14: 125.61 | H14: 14634.821
A15: 01.02.05 | B15: 7150425 | C15: ATESTADO PCMSO (NR7)- ANUAL - REF SBC 016691 04/2025 | D15: un | E15: 1 | F15: 300 | G15: 368.58 | H15: 368.58
A16: 1.03 | C16: TAXAS
A17: 01.03.01 | B17: 2080425 | C17: ANOTAÇÃO DE RESPONSABILIDADE TÉCNICA (ART) PARA CONTRATO, OBRA OU SERVIÇO DE VALOR SUPERIOR A R$ 15.000,00, DE ACORDO COM TABELA VIGENTE CREA-MS | D17: un | E17: 1 | F17: 271.47 | G17: 333.52 | H17: 333.52
C18: Total - ADMINISTRAÇÃO LOCAL | H18: 819959.63
A19: 2 | C19: MOBILIZAÇÃO E DESMOBILIZAÇÃO
A20: 2.01 | C20: MOBILIZAÇÃO
A21: 02.01.01 | B21: 1014042025 | C21: MOBILIZACAO E DESMOBILIZACAO DE CONTAINER - REF AGESUL 0101001196 06/2024 | D21: un | E21: 2 | F21: 1089.96 | G21: 1339.12 | H21: 2678.24
A22: 2.02 | C22: DESMOBILIZAÇÃO
A23: 02.02.01 | C23: DEMOLIÇÕES DO CANTEIRO
A24: 02.02.01.01 | B24: 215042025 | C24: DESMOBILIZACAO C/ DESMONTAGEM DE BARRACAO E DEMAIS ELEMENTOS - REF SBC 210825 12/2024 ADAPTADO (central de armaduras e central de fôrmas;) | D24: m² | E24: 56 | F24: 33.34 | G24: 40.96 | H24: 2293.76
A25: 02.02.01.02 | B25: 97665 | C25: Remoção de luminárias, de forma manual, sem reaproveitamento. Af_09/2023 | D25: un | E25: 4 | F25: 1.75 | G25: 2.15 | H25: 8.6
A26: 02.02.01.03 | B26: 97660 | C26: Remoção de interruptores/tomadas elétricas, de forma manual, sem reaproveitamento. Af_09/2023 (TOMADA DO BEBEDOURO) | D26: un | E26: 1 | F26: 0.65 | G26: 0.79 | H26: 0.79
A27: 02.02.01.04 | B27: 315042025 | C27: Remoção de reservatório até 1000 litros - REF CPOS/CDHU 04.30.100 09/2024 ADAPTADO; | D27: un | E27: 1 | F27: 138.51 | G27: 170.17
A28: 02.02.02 | C28: DEMOLIÇÕES LEVES DO CANTEIRO | H28: 170.17
A29: 02.02.02.01 | B29: 97637 | C29: Remoção de tapume/ chapas metálicas e de madeira, de forma manual, sem reaproveitamento. Af_09/2023 (tapume frente e portões de acesso) | D29: m² | E29: 145.84 | F29: 2.95 | G29: 3.62 | H29: 527.9408
A30: 02.02.02.02 | B30: 104794 | C30: Remoção de cabos elétricos, com seção de 16 mm², forma manual, sem reaproveitamento. Af_09/2023 | D30: m | E30: 103 | F30: 0.94 | G30: 1.15 | H30: 118.45
C31: Total - MOBILIZAÇÃO E DESMOBILIZAÇÃO | H31: 5797.9508
A32: 3 | C32: CANTEIRO DE OBRAS
A33: 3.01 | B33: 101502 | C33: Entrada de energia elétrica, aérea, bifásica, com caixa de embutir, cabo de 16 mm2 e disjuntor din 50a (não incluso o poste de concreto). Af_07/2020_ps (ENTRADA PROVISÓRIA DE ENERGIA PARA OBRA) | D33: un | E33: 1 | F33: 1820.23 | G33: 2236.33 | H33: 2236.33
A34: 3.02 | B34: 10776 | C34: Locacao de container 2,30 x 6,00 m, alt. 2,50 m, para escritorio, sem divisorias internas e sem sanitario (nao inclui mobilizacao/desmobilizacao) | D34: mês | E34: 6 | F34: 650.39 | G34: 799.06 | H34: 4794.36
A35: 3.03 | B35: 10776 | C35: Locacao de container 2,30 x 6,00 m, alt. 2,50 m, para escritorio, sem divisorias internas e sem sanitario (nao inclui mobilizacao/desmobilizacao) (almoxarifado) | D35: mês | E35: 6 | F35: 650.39 | G35: 799.06 | H35: 4794.36
A36: 3.04 | B36: 97741 | C36: Kit cavalete para medição de água - entrada individualizada, em pvc 25 mm (3/4"), para 1 medidor - fornecimento e instalação (exclusive hidrômetro). Af_03/2024 (LIGAÇÃO PROVISÓRIA DE ÁGUA) | D36: un | E36: 1 | F36: 153.22 | G36: 188.24 | H36: 188.24
A37: 3.05 | B37: 103689 | C37: Fornecimento e instalação de placa de obra com chapa galvanizada e estrutura de madeira. Af_03/2022_ps (PLACA OBRA) | D37: m² | E37: 6 | F37: 455.49 | G37: 559.61 | H37: 3357.66
A38: 3.06 | B38: 103689 | C38: Fornecimento e instalação de placa de obra com chapa galvanizada e estrutura de madeira. Af_03/2022_ps (PLACA IPHAN) | D38: m² | E38: 6 | F38: 455.49 | G38: 559.61 | H38: 3357.66
A39: 3.07 | B39: 111042025 | C39: EXECUCAO DE CENTRAL DE FORMAS, PRODUCAO DE ARGAMASSA OU CONCRETO EM CANTEIRO DE OBRAS, NAO INCLUSO MOBILIARIO, EQUIPAMENTOS, PISO DE CONCRETO E LASTRO- REF Adaptado AGESUL 0101001166 06/2024; | D39: m² | E39: 28 | F39: 634.9 | G39: 780.03 | H39: 21840.84
A40: 3.08 | B40: 114042025 | C40: Execução de central de armadura em canteiro de obra, não incluso mobiliário e equipamentos, exclusive lastro . REF SINAPI 93582 12/2023; | D40: m² | E40: 28 | F40: 193.21 | G40: 237.37 | H40: 6646.36
...

Sheet Curva ABC - Custos diretos
A1: item | B1: cod | C1: decrição | D1: unidade | E1: quant | F1: custo unitário | G1: preço unitário | H1: preço total | I1: % item | J1: % acumulada | L1: Preço Total da Curva | M1: =SUM(H2:H596) -> 3665806.1
A2: 12.02.06 | B2: 94993 | C2: Execução de passeio (calçada) ou piso de concreto com concreto moldado in loco, usinado, acabamento convencional, espessura 6 cm, armado. Af_08/2022 | D2: m² | E2: 2095.11 | F2: 80.79 | G2: 99.25 | H2: 207939.67 | I2: =H2/$M$1 -> 0.056724131 | J2: =I2 -> 0.056724131 | L2: Preço total Analisado | M2: =SUM(H2:H106) -> 2966581.5
A3: 06.01.02.03 | B3: 33200225 | C3: Fabricação e montagem de uma estrutura em concreto armado pré-fabricado com cobertura em duas águas, com área total de 181,0m², medindo 10,00m de largura externa, por 18,18m de comprimento externo e 3,00m de altura livre no tirante. Cobertura com telhas Termoacústicas termo forro fundo branco, apoiadas sobre terças metálicas, acessórios da estrutura e mão de obra de montagem da estrutura. (EXCETO FUNDAÇÃO - AMOR PEIXE) | D3: un | E3: 1 | F3: 147500 | G3: 181218.5 | H3: 181218.5 | I3: =H3/$M$1 -> 0.049434829 | J3: =I3+J2 -> 0.10615896 | L3: % dotal Analisada | M3: =J106 -> 0.8092576
A4: 12.01.01 | B4: 1060225 | C4: EXECUÇÃO DE PISO DE CONCRETO, ACABAMENTO RESINADO, ESP.: 6 CM, ARMADO, COR CINZA. COM JUNTA DE DILATAÇÃO A CADA 2M. REF SINAPI 94993 12/2024 | D4: m² | E4: 686.92 | F4: 143.97 | G4: 176.88 | H4: 121502.41 | I4: =H4/$M$1 -> 0.0331448 | J4: =I4+J3 -> 0.13930376 | L4: itens totais da Curva | M4: =COUNT(J2:J596) -> 595
A5: 7.01 | B5: 94216 | C5: Telhamento com telha metálica termoacústica e = 30 mm, com até 2 águas, incluso içamento. Af_07/2019 (TELHA TERMOACÚSTICA COM ACABAMENTO EM FORRO BRANCO) | D5: m² | E5: 487.8 | F5: 201.79 | G5: 247.91 | H5: 120930.5 | I5: =H5/$M$1 -> 0.032988787 | J5: =I5+J4 -> 0.17229255 | L5: itens totais analisados | M5: =COUNT(J2:J106) -> 105
A6: 09.02.35 | B6: 4160625 | C6: LUMINARIA DE EMBUTIR COM PLACAS DE LED SMD E DRIVER MULTITENSAO INTEGRADOS, IP20, ALETAS E REFLETORES EM ALUMINIO ALTO BRILHO, CORPO EM CHAPA DE ACO PINTADA ELETROSTATICAMENTE NA COR BRANCA, REF. EAA05 - E3500830 - FORNECIMENTO E INSTALACAO. REF AGESUL 1201001118 01/2025. | D6: un | E6: 156 | F6: 499.68 | G6: 613.9 | H6: 95768.4 | I6: =H6/$M$1 -> 0.026124786 | J6: =I6+J5 -> 0.19841733 | L6: %itens analisados | M6: =M5/M4 -> 0.17647059
A7: 11.09 | B7: 87779 | C7: Emboço ou massa única em argamassa traço 1:2:8, preparo mecânico com betoneira 400 l, aplicada manualmente em panos de fachada com presença de vãos, espessura de 35 mm. Af_08/2022 (PAREDES EXISTENTES - CORREÇÃO DE PATOLOGIAS) | D7: m² | E7: 976.56 | F7: 68.2 | G7: 83.79 | H7: 81825.962 | I7: =H7/$M$1 -> 0.02232141 | J7: =I7+J6 -> 0.22073874
A8: 06.02.07.02 | B8: 98547 | C8: Impermeabilização de superfície com manta asfáltica, duas camadas, inclusive aplicação de primer asfáltico, e=3mm e e=4mm. Af_09/2023 | D8: m² | E8: 211.82 | F8: 301.34 | G8: 370.22 | H8: 78420 | I8: =H8/$M$1 -> 0.021392293 | J8: =I8+J7 -> 0.24213104
A9: 12.02.07 | B9: 21709 | C9: Fornecimento e instalação de piso emborrachado em placas de 50cm espessura 20mm inclusive preparo da sub base e base. | D9: m² | E9: 123 | F9: 456.74 | G9: 561.15 | H9: 69021.45 | I9: =H9/$M$1 -> 0.018828451 | J9: =I9+J8 -> 0.26095949
A10: 06.01.02.02 | B10: CCU 0001 | C10: Estrutura metálica em aço estrutural perfil "u" simples, em chapa dobrada de aço laminado (REF SINAPI 73970/001) | D10: kg | E10: 2919.54 | F10: 16.38 | G10: 20.12 | H10: 58741.145 | I10: =H10/$M$1 -> 0.016024073 | J10: =I10+J9 -> 0.27698356
A11: 11.07 | B11: 98562 | C11: Impermeabilização de superfície com argamassa de cimento e areia, com aditivo impermeabilizante, e = 1,5cm. Af_09/2023 (PAREDES EXTERNAS EXISTENTES. CORREÇÃO DE PATOLOGIAS.) | D11: m² | E11: 976.56 | F11: 47.59 | G11: 58.46 | H11: 57089.698 | I11: =H11/$M$1 -> 0.015573573 | J11: =I11+J10 -> 0.29255713
A12: 14.05 | B12: PMC 139 | C12: BANCADA DE GRANITO CINZA POLIDO – FORNECIMENTO E INSTALAÇÃO. (BANCADA DE GRANITO CINZA ANDORINHA) | D12: m² | E12: 56.37 | F12: 786.29 | G12: 966.03 | H12: 54455.111 | I12: =H12/$M$1 -> 0.01485488 | J12: =I12+J11 -> 0.30741201
A13: 06.02.02.06 | B13: 92269 | C13: Fabricação de fôrma para pilares e estruturas similares, em madeira serrada, e=25 mm. Af_09/2020 | D13: m² | E13: 337.8 | F13: 112.53 | G13: 138.25 | H13: 46700.85 | I13: =H13/$M$1 -> 0.012739585 | J13: =I13+J12 -> 0.3201516
A14: 09.07.02.01 | B14: 94229 | C14: Calha em chapa de aço galvanizado número 24, desenvolvimento de 100 cm, incluso transporte vertical. Af_07/2019 | D14: m | E14: 238.77 | F14: 152.75 | G14: 187.66 | H14: 44807.578 | I14: =H14/$M$1 -> 0.012223117 | J14: =I14+J13 -> 0.33237472
A15: 8.07 | B15: 102253 | C15: Divisoria sanitária, tipo cabine, em granito cinza polido, esp = 3cm, assentado com argamassa colante ac iii-e, exclusive ferragens. Af_01/2021 | D15: m² | E15: 40.34 | F15: 903.97 | G15: 1110.61 | H15: 44802.007 | I15: =H15/$M$1 -> 0.012221598 | J15: =I15+J14 -> 0.34459631
A16: 09.04.06 | B16: 525022025 | C16: BARRA CHATA DE ALUMINIO 7/8 X 1/8", INCLUSIVE ACESSORIOS DE FIXACAO REF AGESUL 1201006045 | D16: m | E16: 880 | F16: 41.18 | G16: 50.59 | H16: 44519.2 | I16: =H16/$M$1 -> 0.01214445 | J16: =I16+J15 -> 0.35674076
A17: 06.02.04.06 | B17: 92265 | C17: Fabricação de fôrma para vigas, em chapa de madeira compensada resinada, e = 17 mm. Af_09/2020 | D17: m² | E17: 284.72 | F17: 124.74 | G17: 153.25 | H17: 43633.34 | I17: =H17/$M$1 -> 0.011902795 | J17: =I17+J16 -> 0.36864356
A18: 10.01.05 | B18: 220022025 | C18: P10 - PORTA DE ABRIR, 01 FOLHA, 0,80 MX2,10 M, EM ALUMÍNIO BRANCO C/LAMBRIL LISO E RÉGUAS DE 15CM, ACABAMENTO NATURAL, COM FECHADURA TIPO ALAVANCA, CONFORME ESPECIFICAÇÕES EM PROJETO - FORNECIMENTO E INSTALAÇÃO; | D18: un | E18: 8 | F18: 4121.67 | G18: 5063.88 | H18: 40511.04 | I18: =H18/$M$1 -> 0.011051059 | J18: =I18+J17 -> 0.37969462
A19: 09.02.09 | B19: 91926 | C19: Cabo de cobre flexível isolado, 2,5 mm², anti-chama 450/750 v, para circuitos terminais - fornecimento e instalação. Af_03/2023 | D19: m | E19: 7350 | F19: 4.36 | G19: 5.35 | H19: 39322.5 | I19: =H19/$M$1 -> 0.010726836 | J19: =I19+J18 -> 0.39042145
A20: 06.01.02.01 | B20: 100764 | C20: Viga metálica em perfil laminado ou soldado em aço estrutural, com conexões soldadas, inclusos mão de obra, transporte e içamento utilizando guindaste - fornecimento e instalação. Af_01/2020_pa | D20: kg | E20: 1776.44 | F20: 16.47 | G20: 20.23 | H20: 35937.381 | I20: =H20/$M$1 -> 0.0098034047 | J20: =I20+J19 -> 0.40022486
A21: 09.02.34 | B21: 2160625 | C21: LUMINÁRIA DE LED PARA PISO DE EMBUTIR IP65, TEMPERATTURA DE COR 3000W DE 9W A 15W. REF ORSE 10747 12/2024 ADAPTADO. | D21: un | E21: 59 | F21: 490.91 | G21: 603.13 | H21: 35584.67 | I21: =H21/$M$1 -> 0.0097071882 | J21: =I21+J20 -> 0.40993205
A22: 09.04.04 | B22: 96977 | C22: Cordoalha de cobre nu 50 mm², enterrada - fornecimento e instalação. Af_08/2023 | D22: m | E22: 460 | F22: 59.92 | G22: 73.61 | H22: 33860.6 | I22: =H22/$M$1 -> 0.0092368769 | J22: =I22+J21 -> 0.41916892
A23: 06.02.05.05 | B23: 99439 | C23: Concretagem de edificações (paredes e lajes) feitas com sistema de fôrmas manuseáveis, com concreto usinado bombeável fck 25 mpa - lançamento, adensamento e acabamento. Af_09/2024 | D23: m³ | E23: 33.56 | F23: 815.31 | G23: 1001.68 | H23: 33616.381 | I23: =H23/$M$1 -> 0.009170256 | J23: =I23+J22 -> 0.42833918
A24: 17.05 | B24: 3210225 | C24: RESTAURAÇÃO DE 18 POSTES METALICOS COM LUMINÁRIAS E 4 ARANDELAS METALICAS INCLUINDO PINTURA; | D24: un | E24: 1 | F24: 27250 | G24: 33479.35 | H24: 33479.35 | I24: =H24/$M$1 -> 0.0091328752 | J24: =I24+J23 -> 0.43747205
A25: 8.03 | B25: 103334 | C25: Alvenaria de vedação de blocos cerâmicos furados na horizontal de 14x9x19 cm (espessura 14 cm, bloco deitado) e argamassa de assentamento com preparo em betoneira. Af_12/2021 | D25: m² | E25: 192.72 | F25: 141.37 | G25: 173.68 | H25: 33471.61 | I25: =H25/$M$1 -> 0.0091307637 | J25: =I25+J24 -> 0.44660282
A26: 10.02.13 | B26: 45130225 | C26: J13- JANELA EM ALUMINIO COR BRANCA E VIDRO TEMPERADO 6MM - 2,00M X 1,20M CONFORME PROJETO - FORNECIMENTO E INSTALAÇÃO | D26: un | E26: 6 | F26: 4530.09 | G26: 5565.66 | H26: 33393.96 | I26: =H26/$M$1 -> 0.0091095816 | J26: =I26+J25 -> 0.4557124
A27: 06.02.01.07 | B27: 96535 | C27: Fabricação, montagem e desmontagem de fôrma para sapata, em madeira serrada, e=25 mm, 4 utilizações. Af_01/2024 | D27: m² | E27: 220.99 | F27: 119.66 | G27: 147.01 | H27: 32487.74 | I27: =H27/$M$1 -> 0.0088623726 | J27: =I27+J26 -> 0.46457477
A28: 05.02.02 | B28: 97635 | C28: Remoção de piso de bloco intertravado ou de pedra portuguesa, de forma manual, com reaproveitamento. Af_09/2023 (REMOÇÃO DE PISO SEXTAVADO) | D28: m² | E28: 1652.7 | F28: 15.97 | G28: 19.62 | H28: 32425.974 | I28: =H28/$M$1 -> 0.0088455234 | J28: =I28+J27 -> 0.4734203
A29: 11.02 | B29: 87779 | C29: Emboço ou massa única em argamassa traço 1:2:8, preparo mecânico com betoneira 400 l, aplicada manualmente em panos de fachada com presença de vãos, espessura de 35 mm. Af_08/2022 (PAREDES NOVAS INTERNAS) | D29: m² | E29: 383.78 | F29: 68.2 | G29: 83.79 | H29: 32156.926 | I29: =H29/$M$1 -> 0.0087721295 | J29: =I29+J28 -> 0.48219243
A30: 12.02.08 | B30: 2250225 | C30: INSTALAÇÃO DE PISO EM MADEIRA PLASTICA 32x150MM COR IPÊ | D30: m² | E30: 40.65 | F30: 565.74 | G30: 695.06 | H30: 28254.189 | I30: =H30/$M$1 -> 0.0077074968 | J30: =I30+J29 -> 0.48989992
A31: 13.09 | B31: 88489 | C31: Pintura látex acrílica premium, aplicação manual em paredes, duas demãos. Af_04/2023 | D31: m² | E31: 1855.84 | F31: 12.36 | G31: 15.18 | H31: 28171.651 | I31: =H31/$M$1 -> 0.0076849812 | J31: =I31+J30 -> 0.4975849
A32: 09.09.06.01 | B32: 1413022025 | C32: Fornecimento e instalação de reservatório metálico do tipo taça, inclusive base em concreto armado; REF AGESUL 1301001160 06/2024 | D32: un | E32: 1 | F32: 22803.58 | G32: 28016.47 | H32: 28016.47 | I32: =H32/$M$1 -> 0.0076426491 | J32: =I32+J31 -> 0.50522755
A33: 09.02.01 | B33: 92992 | C33: Cabo de cobre flexível isolado, 95 mm², anti-chama 0,6/1,0 kv, para rede enterrada de distribuição de energia elétrica - fornecimento e instalação. Af_12/2021 | D33: m | E33: 210 | F33: 103.37 | G33: 127 | H33: 26670 | I33: =H33/$M$1 -> 0.0072753438 | J33: =I33+J32 -> 0.5125029
A34: 09.01.20 | B34: 7130625 | C34: ELETROCALHA PERFURADA EM AÇO GALVANIZADO, LARGURA 50MM E ALTURA 50MM, INCLUSIVE FIXAÇÃO - FORNECIMENTO E INSTALAÇÃO. AF_04/2023. REF SINAPI 97236 04/2025 ADAPTADO. | D34: m | E34: 211 | F34: 93.73 | G34: 115.15 | H34: 24296.65 | I34: =H34/$M$1 -> 0.0066279146 | J34: =I34+J33 -> 0.51913081
A35: 17.06 | B35: 103314 | C35: Instalação de pergolado de madeira, em maçaranduba, angelim ou equivalente da região, fixado com concreto sobre piso de concreto existente. Af_11/2021 | D35: m² | E35: 72.51 | F35: 265.6 | G35: 326.31 | H35: 23660.738 | I35: =H35/$M$1 -> 0.0064544434 | J35: =I35+J34 -> 0.52558525
A36: 09.01.19 | B36: 1110625 | C36: Eletroduto de aço galvanizado, classe leve, dn 20 mm (3/4), aparente, instalado em parede - fornecimento e instalação. REF SINAPI 95749 06/2022 | D36: m | E36: 740 | F36: 25.93 | G36: 31.85 | H36: 23569 | I36: =H36/$M$1 -> 0.006429418 | J36: =I36+J35 -> 0.53201467
A37: 06.02.05.06 | B37: 92267 | C37: Fabricação de fôrma para lajes, em chapa de madeira compensada resinada, e = 17 mm. Af_09/2020 | D37: m² | E37: 301.88 | F37: 62.99 | G37: 77.38 | H37: 23359.474 | I37: =H37/$M$1 -> 0.0063722613 | J37: =I37+J36 -> 0.53838693
A38: 10.01.08 | B38: 820022025 | C38: P13 - PORTA DE ABRIR, 01 FOLHA, 0,60 MX1,75 M, EM ALUMÍNIO COM VENEZIANA, ANODIZADO NATURAL, COM TARJETA LIVRE-OCUPADO CONFORME ESPECIFICAÇÕES EM PROJETO - FORNECIMENTO E INSTALAÇÃO; | D38: un | E38: 12 | F38: 1570.04 | G38: 1928.95 | H38: 23147.4 | I38: =H38/$M$1 -> 0.0063144092 | J38: =I38+J37 -> 0.54470134
A39: 8.02 | B39: 96365 | C39: Parede com sistema em chapas de gesso para drywall, uso interno, com uma face simples e outra face dupla e estrutura metálica com guias duplas para paredes com área líquida maior ou igual a 6 m2, com vãos. Af_07/2023_ps | D39: m² | E39: 110.77 | F39: 169.85 | G39: 208.67 | H39: 23114.376 | I39: =H39/$M$1 -> 0.0063054005 | J39: =I39+J38 -> 0.55100674
A40: 14.18 | B40: PMC 139 | C40: BANCADA DE GRANITO CINZA POLIDO – FORNECIMENTO E INSTALAÇÃO. (INSTALAÇÃO DE PRATELEIRAS DE GRANITO CINZA ANDORINHA) | D40: m² | E40: 23.16 | F40: 786.29 | G40: 966.03 | H40: 22373.255 | I40: =H40/$M$1 -> 0.0061032291 | J40: =I40+J39 -> 0.55710997
...
